Workbook

Sheet Содержание книги
A1: Содержание
A4: № листа | B4: Электросетевой участок | C4: Центр питания
A5: 1-109 | B5: ЭСУ "Череповец"
A6: 110-118 | B6: ЭСУ "Бабаево"
A7: 119-153 | B7: ЭСУ "Кадуй"
A8: 154-166 | B8: ЭСУ "Чагода"
A9: 167-207 | B9: ЭСУ "Шексна"
A10: 208-211 | B10: ЭСУ "Белозерск"
A11: Содержание
A14: № листа | B14: Электросетевой участок | C14: Центр питания
A15: 1 а | B15: г, Вологда | C15: ОАО "БМЗ"
D16: яч, Т1, яч, Т2
A17: 1, 2 | B17: г, Вологда | C17: ПС "АНАНЬИНО"
D18: яч,7 - ф,"Город-7"
D19: яч,8 - ф,"Городской", яч,2 - ф,"Овощехранилище"
A20: 3 | B20: г, Вологда | C20: ПС "ИСКРА"
D21: яч,18 - ф,"РУБЦОВО"- СВ - ВЛ№2
A22: 4 | B22: г, Вологда | C22: ПС "МАЕГА"
D23: яч,13 - ф,"НИКИТИНО"-СВ - ВЛ№27
A24: 5,6, 7, 8, 9 | B24: г, Вологда | C24: ПС "ЗАПАДНАЯ
D25: яч,19 - "РМЗ-1", яч,24 - "РМЗ-2"
D26: яч,15 -"ОЧИСТНЫЕ-1", яч,9 -"ГОРОД-1"
D27: яч,21- "П/я-1", яч,20 - "П/я-2"
D28: яч,33 - "РП-35", яч,35 - "РП-37"
D29: яч,11 - "ГОРОД-2", яч,18 - "ОЧИСТНЫЕ-2"
A30: 10 | B30: г, Вологда | C30: ПС "СЕВЕРНАЯ 35/6 кВ
D31: Т1 - РП5ф3 ввод №1, Т2 - РП5ф17 ввод №2
A32: 11 | B32: г, Вологда | C32: РТП "ТЕПЛИЧНОГО ХОЗ - ВА"
D33: яч, 3 - ф,"Микрорайон-1" ввод № 1, яч,13 - ф,"Микрорайон-2" ввод № 2
A34: 12,13, 14 | B34: г, Вологда | C34: ГПП 110/10 кВ "ВОМЗ"
D35: яч,47 - РП 29 ввод № 1, яч,31 - РП 29 ввод № 2
D36: яч,5 - РП 14 ввод № 1, яч,22 - РП 14 ввод № 2
D37: яч,44 - РП 2 ввод № 1, яч,26в - РП 2 ввод № 2
A38: 15,16,17,18,19,20, 21 | B38: г, Вологда | C38: ПС ВОЛОГДА-ЮЖНАЯ РУ - 6 -10 кВ
D39: яч,15 - "ГОРОД-15", яч,24 - "ТУБДИСПАНСЕР"
D40: яч,10 - "ГОРОД-10", яч,14 - "ГОРОД-14"
D41: яч,20 - "ГОРОД 20"
D42: яч, 7- ф,"ГОРОД 7", яч,17 - ф,"ГОРОД 17"
D43: яч,3 - "ГОРОД-3", яч,5 - "ГОРОД-5"
D44: яч, 1 - "ГОРОД -1", яч, 20 - "РП 27"
D45: яч, 4 ф,"РОДИОНЦЕВО" - ПКУ
D46: яч, 307, 409 ф,"Охмыльцево"
A47: 22 | B47: г, Вологда | C47: ГПП ВОЛОГДА - ТЯГОВАЯ 110/27,5/6 кВ
D48: яч, 1 - ТП 450
A49: 23 | B49: г, Вологда | C49: ТП 10 СЖД ОАО РЖД
D50: яч,5 - ТП 238, яч,7 - ТП 651
A51: 24 | B51: г, Вологда | C51: ТП 34 СЖД ОАО РЖД
D52: яч,2 - ТП 660, яч,6 - ТП 662
A53: 25,26,27,28,29 | B53: г, Вологда | C53: ТГК- 2 ВТЭЦ РП 6 кВ
D54: яч,10 - РП 3 ввод № 1, яч, 115 - РП 3 ввод № 2
D55: яч, 114 - РП 23 ввод № 1, яч, 107 - РП 23 ввод № 2
D56: яч, 3 - ТП 217
D57: яч, 5 - РП 1 ввод № 1, яч, 12 - РП 1 ввод № 2
D58: яч, 4 - РП 20 ввод № 1, яч, 7 - РП 20 ввод № 2
A59: 30,31,32,33,34,34-1 | B59: г, Вологда | C59: ПС "ЦЕНТРАЛЬНАЯ" 110/6 кВ
D60: яч,4 - ТП 54 -Ι ввод № 1, яч, 30 - ТП 54 - ΙΙ ввод № 2
D61: яч, 14 - РП 13- Ι , яч, 22 - РП 13- ΙΙ
D62: яч,12 - РП 4 -Ι , яч, 24 - РП 4 -ΙΙ
D63: яч, 2 - РП 8 яч, 11
D64: яч,28 - ТП 11 -ΙΙ
D65: яч,22 - РП 21-I, яч,7 - РП 21-II
A66: 35, 36 | B66: г, Вологда | C66: ПС "ГОРОДСКАЯ" 35/6 кВ
D67: Т-1 - ЗРУ ф,1 ввод № 1, Т-3 - ЗРУ ф,20 ввод № 2 ,
D68: Т-2 - РП 9 ф, 11
A69: 37, 38, 39 | B69: г, Вологда | C69: ПС "ВОСТОЧНАЯ" 110/35/10 кВ
D70: яч,2 - "РП 39-1", яч, 21 - "РП 39-2"
D71: яч,15 - "РМЗ-1", яч,32 - "РМЗ-2"
D72: яч, 11- "ГОРОД-1", яч, 28- "ГОРОД-2"
A73: 40, 41 | B73: г, Вологда | C73: ПС "ЛУГОВАЯ"
D74: яч, 23 - ф,"ГОРОД-2 , яч, 2 - ф,"ГОРОД-3"
D75: яч,10 - ф,"ГОРОД-1" , яч,25 - ф,"ГОРОД-4"
A76: 42 | B76: г, Вологда | C76: РП "ГОРКА"
D77: яч, 4 - ф,"ЛОСТА-1", яч, 8 - ф,"ЛОСТА-2"
A78: 43, 44 | B78: г, Вологда | C78: ГПП 2 ЗАО ВПЗ
D79: яч, 53 - ВЛ № 8
D80: яч, 6 - ТП 535, яч, 24 - ТП 536
A81: 45 | B81: г, Вологда | C81: ГПП 1 ЗАО ВПЗ
D82: яч, 10 - ТП 463, яч, 34 - ТП 463
A83: 46 | B83: ЭСУ "Кубенское" | C83: ПС "Кубенское"
D84: ф, СПТУ
A85: 47, 48 | B85: ЭСУ п, Молочное | C85: ПС "Молочное" 35/10 кВ
D86: яч,,17 - ф,Молочное-1, яч 12 - ф,Молочное-2
D87: яч 18 - ф,Молочное-3 , яч 10, - ф,Очистные
A88: 49, 50 | B88: ЭСУ "Устье-Кубенское" | C88: РТП "КОРНИЛОВО" 35/10 кВ
D89: ф, "КОММУНАЛЬНЫЙ"
D90: ф, "УСТЬЕ", ф, "СХТ"
D91: ф,7 - КТП-21, ф,7 - КТП-16
D92: ф,7 - КТП-4, ф,14 - КТП-24
A93: 51, 52, 53 | B93: ЭСУ "Шуйское" | C93: ПС "ШУЙСКОЕ" 35/ 10 кВ
D94: яч, 16 - ф, "Биокомплекс"
D95: яч, 14 - ф,"Райцентр"
D96: яч, 14 - ф, "Школа"
A97: 54 | B97: ЭСУ г, Сокол | C97: ПС "ГДЗ" 110/6 кВ
D98: яч, 7 - ГДЗ-1 -РТП 6, яч, 17 - ГДЗ-2 - РТП 6
D99: яч, 14 - ГДЗ - ЛПК-1
A100: 55 | B100: ЭСУ г, Сокол | C100: ОАО "СОКОЛРЕММАШ"
D101: ЗРУ 6 кВ ф,3 - ТП 27, РУ -0,4 кВ ф,17
A102: 56, 57, 58, | B102: ЭСУ г, Сокол | C102: ОАО "Сокольский" ЦБК" ГПП 35/6 кВ
D103: яч,4 - РП 5, яч, 6 - РУ 3
D104: яч,2 - РТП 2, яч, 3 - РТП 2
...

Sheet 1
B1: АО "Вологдаоблэнерго" | J1: код 900151 | N1: ПС "Малечкино" ф,Птицефабрика
B2: наименование предприятия | N2: наименование источника питания
N3: _________________________________
B4: ул, Горького, 99 | I4: Таблица № 1 | N4: ТП-1 ЦРП Малечкино; ТП-5 АВМ
B5: адрес
A6: почасовых записей показаний электрических счетчиков
A7: в режимный день 21 ИЮНЯ 2023 г.
A8: 1630 | B8: 1628
A9: часы суток | B9: Активная энергия | J9: Реактивная энергия
B10: ТП-1 ЦРП Малечкино | F10: ТП-5 АВМ | J10: ТП-1 ЦРП Малечкино | N10: ТП-5 АВМ
B11: Расчет, Коэф, | E11: 30 | F11: Расчет, Коэф, | I11: 120 | J11: Расчет, Коэф, | M11: =E11 -> 30 | N11: Расчет, Коэф, | Q11: =I11 -> 120
B12: показания счетчика | C12: разность | E12: расход эл,энергии за час | F12: показания счетчика | G12: разность | I12: расход эл,энергии за час | J12: показания счетчика | K12: разность | M12: расход эл,энергии за час | N12: показания счетчика | O12: разность | Q12: расход эл,энергии за час
A13: 1 | B13: 2 | C13: 3 | E13: 4 | F13: 5 | G13: 6 | I13: 7 | J13: 8 | K13: 9 | M13: 10 | N13: 11 | O13: 12 | Q13: 13
A14: 0
A15: 1 | E15: 75.12 | I15: 6.912 | M15: 0 | Q15: 0
A16: 2 | E16: 74.56 | I16: 6.816 | M16: 0 | Q16: 0
A17: 3 | E17: 75.28 | I17: 6.576 | M17: 0 | Q17: 0
A18: 4 | E18: 74.88 | I18: 6.312 | M18: 0 | Q18: 0
A19: 5 | E19: 74.72 | I19: 6.144 | M19: 0 | Q19: 0
A20: 6 | E20: 74.08 | I20: 6.144 | M20: 0 | Q20: 0
A21: 7 | E21: 77.92 | I21: 6.336 | M21: 0 | Q21: 0
A22: 8 | E22: 111.68 | I22: 6.768 | M22: 0 | Q22: 0
A23: 9 | E23: 166.96 | I23: 6.504 | M23: 0 | Q23: 0
A24: 10 | E24: 190.16 | I24: 5.232 | M24: 0 | Q24: 0
A25: 11 | E25: 156.24 | I25: 7.8 | M25: 0 | Q25: 0
A26: 12 | E26: 176.32 | I26: 9.312 | M26: 0 | Q26: 0
... A38: 24 | E38: 103.36 | I38: 5.376 | M38: 0 | Q38: 0
A39: Итого | E39: =SUM(E15:E38) -> 2692.8 | I39: =SUM(I15:I38) -> 181.656 | M39: =SUM(M15:M38) -> 0 | Q39: =SUM(Q15:Q38) -> 0
A40: 1, При наличии на предприятии отклонений от нормальных режимов электропотребления (временное изменение схем питания, остановка на ремонт, резкое снижение
A41: эл,потребления и т,д,) последние необходимо перечислить,
A42: Главный инженер АО "Вологдаоблэнерго" А,В, Чурляев
A43: составляется самим предприятием с соблюдением всех пунктов настоящей таблицы,

Sheet 2
B1: АО "Вологдаоблэнерго" | J1: код 900151 | N1: ПС Малечкино, ф, Поселок
B2: наименование предприятия | N2: наименование источника питания
N3: ТП-8 ПС Малечкино В-1; В-2
B4: ул, Горького, 99 | I4: Таблица № 1
B5: адрес
A6: почасовых записей показаний электрических счетчиков
A7: ='1'!A7:Q7 -> в режимный день 21 ИЮНЯ 2023 г.
A8: 1630 | B8: 1628
A9: часы суток | B9: Активная энергия | J9: Реактивная энергия
B10: ТП-8 ПС Малечкино В-1 | F10: ТП-8 ПС Малечкино В-2 | J10: ТП-8 ПС Малечкино В-1 | N10: ТП-8 ПС Малечкино В-2
B11: Расчет, Коэф, | E11: 80 | F11: Расчет, Коэф, | I11: 80 | J11: Расчет, Коэф, | M11: =E11 -> 80 | N11: Расчет, Коэф, | Q11: =I11 -> 80
B12: показания счетчика | C12: разность | E12: расход эл,энергии за час | F12: показания счетчика | G12: разность | I12: расход эл,энергии за час | J12: показания счетчика | K12: разность | M12: расход эл,энергии за час | N12: показания счетчика | O12: разность | Q12: расход эл,энергии за час
A13: 1 | B13: 2 | C13: 3 | E13: 4 | F13: 5 | G13: 6 | I13: 7 | J13: 8 | K13: 9 | M13: 10 | N13: 11 | O13: 12 | Q13: 13
A14: 0
A15: 1 | E15: 18.128 | I15: 10.16 | M15: 0 | Q15: 0
A16: 2 | E16: 14.672 | I16: 9.088 | M16: 0 | Q16: 0
A17: 3 | E17: 13.568 | I17: 7.12 | M17: 0 | Q17: 0
A18: 4 | E18: 22.048 | I18: 7.152 | M18: 0 | Q18: 0
A19: 5 | E19: 30.192 | I19: 6.64 | M19: 0 | Q19: 0
A20: 6 | E20: 30.112 | I20: 9.696 | M20: 0 | Q20: 0
A21: 7 | E21: 32.304 | I21: 23.856 | M21: 0 | Q21: 0
A22: 8 | E22: 32.864 | I22: 22.688 | M22: 0 | Q22: 0
A23: 9 | E23: 32.176 | I23: 19.152 | M23: 0 | Q23: 0
A24: 10 | E24: 31.744 | I24: 23.488 | M24: 0 | Q24: 0
A25: 11 | E25: 29.136 | I25: 16.8 | M25: 0 | Q25: 0
A26: 12 | E26: 32.064 | I26: 21.12 | M26: 0 | Q26: 0
... A38: 24 | E38: 20.192 | I38: 15.536 | M38: 0 | Q38: 0
A39: Итого | E39: =SUM(E15:E38) -> 610.512 | I39: =SUM(I15:I38) -> 372.32 | M39: =SUM(M15:M38) -> 0 | Q39: =SUM(Q15:Q38) -> 0
A40: 1, При наличии на предприятии отклонений от нормальных режимов электропотребления (временное изменение схем питания, остановка на ремонт, резкое снижение
A41: эл,потребления и т,д,) последние необходимо перечислить,
A42: Главный инженер АО "Вологдаоблэнерго" А,В, Чурляев
A43: составляется самим предприятием с соблюдением всех пунктов настоящей таблицы,

Sheet 3
B1: АО "Вологдаоблэнерго" | J1: код 900151 | N1: ПС Малечкино, ф, Поселок
B2: наименование предприятия | N2: наименование источника питания
N3: ТП-105; КТП-Дачи п,Малечкино
B4: ул, Горького, 99 | I4: Таблица № 1
B5: адрес
A6: почасовых записей показаний электрических счетчиков
A7: ='1'!A7:Q7 -> в режимный день 21 ИЮНЯ 2023 г.
A8: 1630 | B8: 1628
A9: часы суток | B9: Активная энергия | J9: Реактивная энергия
B10: ТП-105 | F10: КТП-Дачи п,Малечкино | J10: ТП-105 | N10: КТП-Дачи п,Малечкино
B11: Расчет, Коэф, | E11: 80 | F11: Расчет, Коэф, | I11: 60 | J11: Расчет, Коэф, | M11: =E11 -> 80 | N11: Расчет, Коэф, | Q11: =I11 -> 60
B12: показания счетчика | C12: разность | E12: расход эл,энергии за час | F12: показания счетчика | G12: разность | I12: расход эл,энергии за час | J12: показания счетчика | K12: разность | M12: расход эл,энергии за час | N12: показания счетчика | O12: разность | Q12: расход эл,энергии за час
A13: 1 | B13: 2 | C13: 3 | E13: 4 | F13: 5 | G13: 6 | I13: 7 | J13: 8 | K13: 9 | M13: 10 | N13: 11 | O13: 12 | Q13: 13
A14: 0
A15: 1 | E15: 22.12 | I15: 1.56 | M15: 0 | Q15: 0
A16: 2 | E16: 20.64 | I16: 1.52 | M16: 0 | Q16: 0
A17: 3 | E17: 18.12 | I17: 1.56 | M17: 0 | Q17: 0
A18: 4 | E18: 18.52 | I18: 1.52 | M18: 0 | Q18: 0
A19: 5 | E19: 18.92 | I19: 1.56 | M19: 0 | Q19: 0
A20: 6 | E20: 20.64 | I20: 1.52 | M20: 0 | Q20: 0
A21: 7 | E21: 20.92 | I21: 1.52 | M21: 0 | Q21: 0
A22: 8 | E22: 22.84 | I22: 1.48 | M22: 0 | Q22: 0
A23: 9 | E23: 26.2 | I23: 1.56 | M23: 0 | Q23: 0
A24: 10 | E24: 27.92 | I24: 1.52 | M24: 0 | Q24: 0
A25: 11 | E25: 27.16 | I25: 1.52 | M25: 0 | Q25: 0
A26: 12 | E26: 26.96 | I26: 1.52 | M26: 0 | Q26: 0
... A38: 24 | E38: 24.36 | I38: 2.88 | M38: 0 | Q38: 0
A39: Итого | E39: =SUM(E15:E38) -> 617.4 | I39: =SUM(I15:I38) -> 52.72 | M39: =SUM(M15:M38) -> 0 | Q39: =SUM(Q15:Q38) -> 0
A40: 1, При наличии на предприятии отклонений от нормальных режимов электропотребления (временное изменение схем питания, остановка на ремонт, резкое снижение
A41: эл,потребления и т,д,) последние необходимо перечислить,
A42: Главный инженер АО "Вологдаоблэнерго" А,В, Чурляев
A43: составляется самим предприятием с соблюдением всех пунктов настоящей таблицы,

Sheet 4
B1: АО "Вологдаоблэнерго" | J1: код 900151 | N1: ПС Малечкино, ф, Поселок
B2: наименование предприятия | N2: наименование источника питания
N3: ТП-35; ТП-103
B4: ул, Горького, 99 | I4: Таблица № 1
B5: адрес
A6: почасовых записей показаний электрических счетчиков
A7: ='1'!A7:Q7 -> в режимный день 21 ИЮНЯ 2023 г.
A8: 1630 | B8: 1628
A9: часы суток | B9: Активная энергия | J9: Реактивная энергия
B10: ТП-35 | F10: ТП-103 | J10: ТП-35 | N10: ТП-103
B11: Расчет, Коэф, | E11: 30 | F11: Расчет, Коэф, | I11: 120 | J11: Расчет, Коэф, | M11: =E11 -> 30 | N11: Расчет, Коэф, | Q11: =I11 -> 120
B12: показания счетчика | C12: разность | E12: расход эл,энергии за час | F12: показания счетчика | G12: разность | I12: расход эл,энергии за час | J12: показания счетчика | K12: разность | M12: расход эл,энергии за час | N12: показания счетчика | O12: разность | Q12: расход эл,энергии за час
A13: 1 | B13: 2 | C13: 3 | E13: 4 | F13: 5 | G13: 6 | I13: 7 | J13: 8 | K13: 9 | M13: 10 | N13: 11 | O13: 12 | Q13: 13
A14: 0
A15: 1 | E15: 1.67 | I15: 73.944 | M15: 0 | Q15: 0
A16: 2 | E16: 1.48 | I16: 61.08 | M16: 0 | Q16: 0
A17: 3 | E17: 1.33 | I17: 55.176 | M17: 0 | Q17: 0
A18: 4 | E18: 1.43 | I18: 53.616 | M18: 0 | Q18: 0
A19: 5 | E19: 1.48 | I19: 54.96 | M19: 0 | Q19: 0
A20: 6 | E20: 3.69 | I20: 60.6 | M20: 0 | Q20: 0
A21: 7 | E21: 1.95 | I21: 69.816 | M21: 0 | Q21: 0
A22: 8 | E22: 3.03 | I22: 81.384 | M22: 0 | Q22: 0
A23: 9 | E23: 6 | I23: 79.608 | M23: 0 | Q23: 0
A24: 10 | E24: 5.06 | I24: 78.48 | M24: 0 | Q24: 0
A25: 11 | E25: 6.18 | I25: 82.608 | M25: 0 | Q25: 0
A26: 12 | E26: 3.97 | I26: 76.392 | M26: 0 | Q26: 0
... A38: 24 | E38: 2.37 | I38: 85.032 | M38: 0 | Q38: 0
A39: Итого | E39: =SUM(E15:E38) -> 90.07 | I39: =SUM(I15:I38) -> 1896.72 | M39: =SUM(M15:M38) -> 0 | Q39: =SUM(Q15:Q38) -> 0
A40: 1, При наличии на предприятии отклонений от нормальных режимов электропотребления (временное изменение схем питания, остановка на ремонт, резкое снижение
A41: эл,потребления и т,д,) последние необходимо перечислить,
A42: Главный инженер АО "Вологдаоблэнерго" А,В, Чурляев
A43: составляется самим предприятием с соблюдением всех пунктов настоящей таблицы,

Sheet 5
B1: АО "Вологдаоблэнерго" | J1: код 900151 | N1: ПС Малечкино, ф, Поселок
B2: наименование предприятия | N2: наименование источника питания
N3: ТП-3 ПС Малечкино; ТП-97
B4: ул, Горького, 99 | I4: Таблица № 1
B5: адрес
A6: почасовых записей показаний электрических счетчиков
A7: ='1'!A7:Q7 -> в режимный день 21 ИЮНЯ 2023 г.
A8: 1630 | B8: 1628
A9: часы суток | B9: Активная энергия | J9: Реактивная энергия
B10: ТП-3 ПС Малечкино | F10: ТП-97 | J10: ТП-3 ПС Малечкино | N10: ТП-97
B11: Расчет, Коэф, | E11: 120 | F11: Расчет, Коэф, | I11: 60 | J11: Расчет, Коэф, | M11: =E11 -> 120 | N11: Расчет, Коэф, | Q11: =I11 -> 60
B12: показания счетчика | C12: разность | E12: расход эл,энергии за час | F12: показания счетчика | G12: разность | I12: расход эл,энергии за час | J12: показания счетчика | K12: разность | M12: расход эл,энергии за час | N12: показания счетчика | O12: разность | Q12: расход эл,энергии за час
A13: 1 | B13: 2 | C13: 3 | E13: 4 | F13: 5 | G13: 6 | I13: 7 | J13: 8 | K13: 9 | M13: 10 | N13: 11 | O13: 12 | Q13: 13
A14: 0
A15: 1 | E15: 0 | I15: 33.144 | M15: 0 | Q15: 0
A16: 2 | E16: 0 | I16: 29.124 | M16: 0 | Q16: 0
A17: 3 | E17: 0 | I17: 26.712 | M17: 0 | Q17: 0
A18: 4 | E18: 0 | I18: 25.968 | M18: 0 | Q18: 0
A19: 5 | E19: 0 | I19: 26.412 | M19: 0 | Q19: 0
A20: 6 | E20: 0 | I20: 26.868 | M20: 0 | Q20: 0
A21: 7 | E21: 0 | I21: 35.676 | M21: 0 | Q21: 0
A22: 8 | E22: 0 | I22: 45.168 | M22: 0 | Q22: 0
A23: 9 | E23: 0 | I23: 41.556 | M23: 0 | Q23: 0
A24: 10 | E24: 0 | I24: 42.516 | M24: 0 | Q24: 0
A25: 11 | E25: 0 | I25: 40.548 | M25: 0 | Q25: 0
A26: 12 | E26: 0 | I26: 41.436 | M26: 0 | Q26: 0
... A37: 23 | E37: 0 | I37: 50.064 | M37: 0 | Q37: 0
A38: 24 | E38: 0 | I38: 43.38 | M38: 0 | Q38: 0 | R38: 1
A39: Итого | E39: =SUM(E15:E38) -> 0 | I39: =SUM(I15:I38) -> 979.044 | M39: =SUM(M15:M38) -> 0 | Q39: =SUM(Q15:Q38) -> 0
A40: 1, При наличии на предприятии отклонений от нормальных режимов электропотребления (временное изменение схем питания, остановка на ремонт, резкое снижение
A41: эл,потребления и т,д,) последние необходимо перечислить,
A42: Главный инженер АО "Вологдаоблэнерго" А,В, Чурляев
A43: составляется самим предприятием с соблюдением всех пунктов настоящей таблицы,

Sheet 6
B1: АО "Вологдаоблэнерго" | J1: код 900151 | N1: ПС Малечкино, ф, Поселок
B2: наименование предприятия | N2: наименование источника питания
N3: ТП-15 Кормоцех В-1; В-2
B4: ул, Горького, 99 | I4: Таблица № 1
B5: адрес
A6: почасовых записей показаний электрических счетчиков
A7: ='1'!A7:Q7 -> в режимный день 21 ИЮНЯ 2023 г.
A8: 1630 | B8: 1628
A9: часы суток | B9: Активная энергия | J9: Реактивная энергия
B10: ТП-15 Кормоцех В-1 | F10: ТП-15 Кормоцех В-2 | J10: ТП-15 Кормоцех В-1 | N10: ТП-15 Кормоцех В-2
B11: Расчет, Коэф, | E11: 60 | F11: Расчет, Коэф, | I11: 60 | J11: Расчет, Коэф, | M11: =E11 -> 60 | N11: Расчет, Коэф, | Q11: =I11 -> 60
B12: показания счетчика | C12: разность | E12: расход эл,энергии за час | F12: показания счетчика | G12: разность | I12: расход эл,энергии за час | J12: показания счетчика | K12: разность | M12: расход эл,энергии за час | N12: показания счетчика | O12: разность | Q12: расход эл,энергии за час
A13: 1 | B13: 2 | C13: 3 | E13: 4 | F13: 5 | G13: 6 | I13: 7 | J13: 8 | K13: 9 | M13: 10 | N13: 11 | O13: 12 | Q13: 13
A14: 0
A15: 1 | E15: 0.75 | I15: 0 | M15: 0 | Q15: 0
A16: 2 | E16: 0.75 | I16: 0 | M16: 0 | Q16: 0
A17: 3 | E17: 0.72 | I17: 0 | M17: 0 | Q17: 0
A18: 4 | E18: 0.72 | I18: 0 | M18: 0 | Q18: 0
A19: 5 | E19: 0.3 | I19: 0 | M19: 0 | Q19: 0
A20: 6 | E20: 0 | I20: 0 | M20: 0 | Q20: 0
A21: 7 | E21: 0.03 | I21: 0 | M21: 0 | Q21: 0
A22: 8 | E22: 0.09 | I22: 0 | M22: 0 | Q22: 0
A23: 9 | E23: 0.36 | I23: 0 | M23: 0 | Q23: 0
A24: 10 | E24: 0.33 | I24: 0 | M24: 0 | Q24: 0
A25: 11 | E25: 12 | I25: 0 | M25: 0 | Q25: 0
A26: 12 | E26: 4.62 | I26: 0 | M26: 0 | Q26: 0
... A38: 24 | E38: 0.69 | I38: 0 | M38: 0 | Q38: 0
A39: Итого | E39: =SUM(E15:E38) -> 53.34 | I39: =SUM(I15:I38) -> 0 | M39: =SUM(M15:M38) -> 0 | Q39: =SUM(Q15:Q38) -> 0
A40: 1, При наличии на предприятии отклонений от нормальных режимов электропотребления (временное изменение схем питания, остановка на ремонт, резкое снижение
A41: эл,потребления и т,д,) последние необходимо перечислить,
A42: Главный инженер АО "Вологдаоблэнерго" А,В, Чурляев
A43: составляется самим предприятием с соблюдением всех пунктов настоящей таблицы,

Sheet 7
B1: АО "Вологдаоблэнерго" | J1: код 900151 | N1: ПС Малечкино, ф, Парфеново-1
B2: наименование предприятия | N2: наименование источника питания
N3: ЦРП-Парфеново
B4: ул, Горького, 99 | I4: Таблица № 1
B5: адрес
A6: почасовых записей показаний электрических счетчиков
A7: ='1'!A7:Q7 -> в режимный день 21 ИЮНЯ 2023 г.
A8: 1630 | B8: 1628
A9: часы суток | B9: Активная энергия | J9: Реактивная энергия
B10: ЦРП-Парфеново В-1 | F10: ЦРП-Парфеново В-2 | J10: ЦРП-Парфеново В-1 | N10: ЦРП-Парфеново В-2
B11: Расчет, Коэф, | E11: 4000 | F11: Расчет, Коэф, | I11: 3000 | J11: Расчет, Коэф, | M11: =E11 -> 4000 | N11: Расчет, Коэф, | Q11: =I11 -> 3000
B12: показания счетчика | C12: разность | E12: расход эл,энергии за час | F12: показания счетчика | G12: разность | I12: расход эл,энергии за час | J12: показания счетчика | K12: разность | M12: расход эл,энергии за час | N12: показания счетчика | O12: разность | Q12: расход эл,энергии за час
A13: 1 | B13: 2 | C13: 3 | E13: 4 | F13: 5 | G13: 6 | I13: 7 | J13: 8 | K13: 9 | M13: 10 | N13: 11 | O13: 12 | Q13: 13
A14: 0
A15: 1 | E15: 180.8 | I15: 0 | M15: 0 | Q15: 0
A16: 2 | E16: 181.6 | I16: 0 | M16: 0 | Q16: 0
A17: 3 | E17: 177.2 | I17: 0 | M17: 0 | Q17: 0
A18: 4 | E18: 172.8 | I18: 0 | M18: 0 | Q18: 0
A19: 5 | E19: 162.8 | I19: 0 | M19: 0 | Q19: 0
A20: 6 | E20: 160.8 | I20: 0 | M20: 0 | Q20: 0
A21: 7 | E21: 168.8 | I21: 0 | M21: 0 | Q21: 0
A22: 8 | E22: 189.2 | I22: 0 | M22: 0 | Q22: 0
A23: 9 | E23: 390 | I23: 0 | M23: 0 | Q23: 0
A24: 10 | E24: 565.2 | I24: 0 | M24: 0 | Q24: 0
A25: 11 | E25: 554.8 | I25: 0 | M25: 0 | Q25: 0
A26: 12 | E26: 572.4 | I26: 0 | M26: 0 | Q26: 0
... A38: 24 | E38: 200.4 | I38: 0 | M38: 0 | Q38: 0
A39: Итого | E39: =SUM(E15:E38) -> 7960.8 | I39: =SUM(I15:I38) -> 0 | M39: =SUM(M15:M38) -> 0 | Q39: =SUM(Q15:Q38) -> 0
A40: 1, При наличии на предприятии отклонений от нормальных режимов электропотребления (временное изменение схем питания, остановка на ремонт, резкое снижение
A41: эл,потребления и т,д,) последние необходимо перечислить,
A42: Главный инженер АО "Вологдаоблэнерго" А,В, Чурляев
A43: составляется самим предприятием с соблюдением всех пунктов настоящей таблицы,

Sheet 8
B1: АО "Вологдаоблэнерго" | J1: код 900151 | N1: ПС Малечкино, ф, Киселево
B2: наименование предприятия | N2: наименование источника питания
N3: ЦРП-Парфеново
B4: ул, Горького, 99 | I4: Таблица № 1
B5: адрес
A6: почасовых записей показаний электрических счетчиков
A7: ='1'!A7:Q7 -> в режимный день 21 ИЮНЯ 2023 г.
A8: 1630 | B8: 1628
A9: часы суток | B9: Активная энергия | J9: Реактивная энергия
B10: ЦРП-Парфеново В ф,Киселево | J10: ЦРП-Парфеново В ф,Киселево
B11: Расчет, Коэф, | E11: 6000 | F11: Расчет, Коэф, | J11: Расчет, Коэф, | M11: =E11 -> 6000 | N11: Расчет, Коэф, | Q11: =I11 -> 0
B12: показания счетчика | C12: разность | E12: расход эл,энергии за час | F12: показания счетчика | G12: разность | I12: расход эл,энергии за час | J12: показания счетчика | K12: разность | M12: расход эл,энергии за час | N12: показания счетчика | O12: разность | Q12: расход эл,энергии за час
A13: 1 | B13: 2 | C13: 3 | E13: 4 | F13: 5 | G13: 6 | I13: 7 | J13: 8 | K13: 9 | M13: 10 | N13: 11 | O13: 12 | Q13: 13
A14: 0
A15: 1 | E15: 0 | M15: 0
A16: 2 | E16: 0 | M16: 0
A17: 3 | E17: 0 | M17: 0
A18: 4 | E18: 0 | M18: 0
A19: 5 | E19: 0 | M19: 0
A20: 6 | E20: 0 | M20: 0
A21: 7 | E21: 0 | M21: 0
A22: 8 | E22: 0 | M22: 0
A23: 9 | E23: 0 | M23: 0
A24: 10 | E24: 0 | M24: 0
A25: 11 | E25: 0 | M25: 0
A26: 12 | E26: 0 | M26: 0
... A38: 24 | E38: 0 | M38: 0
A39: Итого | E39: =SUM(E15:E38) -> 0 | I39: =SUM(I15:I38) -> 0 | M39: =SUM(M15:M38) -> 0 | Q39: =SUM(Q15:Q38) -> 0
A40: 1, При наличии на предприятии отклонений от нормальных режимов электропотребления (временное изменение схем питания, остановка на ремонт, резкое снижение
A41: эл,потребления и т,д,) последние необходимо перечислить,
A42: Главный инженер АО "Вологдаоблэнерго" А,В, Чурляев
A43: составляется самим предприятием с соблюдением всех пунктов настоящей таблицы,

Sheet 9
B1: АО "Вологдаоблэнерго" | J1: код 900151 | N1: ПС Малечкино, ф, Киселево
B2: наименование предприятия | N2: наименование источника питания
N3: ТП-51; КТП-250 Курилово-ферма
B4: ул, Горького, 99 | I4: Таблица № 1
B5: адрес
A6: почасовых записей показаний электрических счетчиков
A7: ='1'!A7:Q7 -> в режимный день 21 ИЮНЯ 2023 г.
A8: 1630 | B8: 1628
A9: часы суток | B9: Активная энергия | J9: Реактивная энергия
B10: ТП-51 | F10: КТП-250 Курилово-ферма | J10: ТП-51 | N10: КТП-250 Курилово-ферма
B11: Расчет, Коэф, | E11: 120 | F11: Расчет, Коэф, | I11: 30 | J11: Расчет, Коэф, | M11: =E11 -> 120 | N11: Расчет, Коэф, | Q11: =I11 -> 30
B12: показания счетчика | C12: разность | E12: расход эл,энергии за час | F12: показания счетчика | G12: разность | I12: расход эл,энергии за час | J12: показания счетчика | K12: разность | M12: расход эл,энергии за час | N12: показания счетчика | O12: разность | Q12: расход эл,энергии за час
A13: 1 | B13: 2 | C13: 3 | E13: 4 | F13: 5 | G13: 6 | I13: 7 | J13: 8 | K13: 9 | M13: 10 | N13: 11 | O13: 12 | Q13: 13
A14: 0
A15: 1 | E15: 4.2 | I15: 0 | M15: 0 | Q15: 0
A16: 2 | E16: 3.96 | I16: 0 | M16: 0 | Q16: 0
A17: 3 | E17: 3.84 | I17: 0 | M17: 0 | Q17: 0
A18: 4 | E18: 3.88 | I18: 0 | M18: 0 | Q18: 0
A19: 5 | E19: 3.84 | I19: 0 | M19: 0 | Q19: 0
A20: 6 | E20: 4 | I20: 0 | M20: 0 | Q20: 0
A21: 7 | E21: 4.04 | I21: 0 | M21: 0 | Q21: 0
A22: 8 | E22: 4.24 | I22: 0 | M22: 0 | Q22: 0
A23: 9 | E23: 4.2 | I23: 0 | M23: 0 | Q23: 0
A24: 10 | E24: 4.52 | I24: 0.16 | M24: 0 | Q24: 0
A25: 11 | E25: 4.4 | I25: 0 | M25: 0 | Q25: 0
A26: 12 | E26: 4.64 | I26: 0.24 | M26: 0 | Q26: 0
... A38: 24 | E38: 4.44 | I38: 0 | M38: 0 | Q38: 0
A39: Итого | E39: =SUM(E15:E38) -> 108.68 | I39: =SUM(I15:I38) -> 1.32 | M39: =SUM(M15:M38) -> 0 | Q39: =SUM(Q15:Q38) -> 0
A40: 1, При наличии на предприятии отклонений от нормальных режимов электропотребления (временное изменение схем питания, остановка на ремонт, резкое снижение
A41: эл,потребления и т,д,) последние необходимо перечислить,
A42: Главный инженер АО "Вологдаоблэнерго" А,В, Чурляев
A43: составляется самим предприятием с соблюдением всех пунктов настоящей таблицы,

Sheet 10
B1: АО "Вологдаоблэнерго" | J1: код 900151 | N1: ПС Малечкино, ф, Тепл, комбинат
B2: наименование предприятия | N2: наименование источника питания
N3: ТП-33; КТП-400 Пилорама Карат плюс
B4: ул, Горького, 99 | I4: Таблица № 1
B5: адрес
A6: почасовых записей показаний электрических счетчиков
A7: ='1'!A7:Q7 -> в режимный день 21 ИЮНЯ 2023 г.
A8: 1630 | B8: 1628
A9: часы суток | B9: Активная энергия | J9: Реактивная энергия
B10: ТП-33 | F10: КТП-400 Пилорама Карат плюс | J10: ТП-33 | N10: КТП-400 Пилорама Карат плюс
B11: Расчет, Коэф, | E11: 30 | F11: Расчет, Коэф, | I11: 120 | J11: Расчет, Коэф, | M11: =E11 -> 30 | N11: Расчет, Коэф, | Q11: =I11 -> 120
B12: показания счетчика | C12: разность | E12: расход эл,энергии за час | F12: показания счетчика | G12: разность | I12: расход эл,энергии за час | J12: показания счетчика | K12: разность | M12: расход эл,энергии за час | N12: показания счетчика | O12: разность | Q12: расход эл,энергии за час
A13: 1 | B13: 2 | C13: 3 | E13: 4 | F13: 5 | G13: 6 | I13: 7 | J13: 8 | K13: 9 | M13: 10 | N13: 11 | O13: 12 | Q13: 13
A14: 0
A15: 1 | E15: 3.72 | I15: 29.208 | M15: 0 | Q15: 0
A16: 2 | E16: 3.96 | I16: 29.136 | M16: 0 | Q16: 0
A17: 3 | E17: 9.72 | I17: 25.8 | M17: 0 | Q17: 0
A18: 4 | E18: 9.84 | I18: 24.744 | M18: 0 | Q18: 0
A19: 5 | E19: 9.64 | I19: 27.168 | M19: 0 | Q19: 0
A20: 6 | E20: 15.96 | I20: 29.544 | M20: 0 | Q20: 0
A21: 7 | E21: 14.56 | I21: 32.592 | M21: 0 | Q21: 0
A22: 8 | E22: 16.76 | I22: 40.008 | M22: 0 | Q22: 0
A23: 9 | E23: 12.4 | I23: 56.616 | M23: 0 | Q23: 0
A24: 10 | E24: 13.8 | I24: 78.264 | M24: 0 | Q24: 0
A25: 11 | E25: 11.24 | I25: 62.04 | M25: 0 | Q25: 0
A26: 12 | E26: 16.04 | I26: 48.768 | M26: 0 | Q26: 0
... A38: 24 | E38: 14.96 | I38: 38.808 | M38: 0 | Q38: 0
A39: Итого | E39: =SUM(E15:E38) -> 281.52 | I39: =SUM(I15:I38) -> 1173.84 | M39: =SUM(M15:M38) -> 0 | Q39: =SUM(Q15:Q38) -> 0
A40: 1, При наличии на предприятии отклонений от нормальных режимов электропотребления (временное изменение схем питания, остановка на ремонт, резкое снижение
A41: эл,потребления и т,д,) последние необходимо перечислить,
A42: Главный инженер АО "Вологдаоблэнерго" А,В, Чурляев
A43: составляется самим предприятием с соблюдением всех пунктов настоящей таблицы,

Sheet 11
B1: АО "Вологдаоблэнерго" | J1: код 900151 | N1: ПС Загородная, ф, Тоншалово-2
B2: наименование предприятия | N2: наименование источника питания
N3: ТП-4 очистные В-1; ТП-4 очистные В-2
B4: ул, Горького, 99 | I4: Таблица № 1
B5: адрес
A6: почасовых записей показаний электрических счетчиков
A7: ='1'!A7:Q7 -> в режимный день 21 ИЮНЯ 2023 г.
A8: 1630 | B8: 1628
A9: часы суток | B9: Активная энергия | J9: Реактивная энергия
B10: ТП-4 очистные В-1 | F10: ТП-4 очистные В-2 | J10: ТП-4 очистные В-1 | N10: ТП-4 очистные В-2
B11: Расчет, Коэф, | E11: 120 | F11: Расчет, Коэф, | I11: 120 | J11: Расчет, Коэф, | M11: =E11 -> 120 | N11: Расчет, Коэф, | Q11: =I11 -> 120
B12: показания счетчика | C12: разность | E12: расход эл,энергии за час | F12: показания счетчика | G12: разность | I12: расход эл,энергии за час | J12: показания счетчика | K12: разность | M12: расход эл,энергии за час | N12: показания счетчика | O12: разность | Q12: расход эл,энергии за час
A13: 1 | B13: 2 | C13: 3 | E13: 4 | F13: 5 | G13: 6 | I13: 7 | J13: 8 | K13: 9 | M13: 10 | N13: 11 | O13: 12 | Q13: 13
A14: 0
A15: 1 | E15: 61.968 | I15: 11.304 | M15: 0 | Q15: 0
A16: 2 | E16: 61.944 | I16: 10.8 | M16: 0 | Q16: 0
A17: 3 | E17: 65.712 | I17: 10.704 | M17: 0 | Q17: 0
A18: 4 | E18: 70.968 | I18: 10.128 | M18: 0 | Q18: 0
A19: 5 | E19: 65.4 | I19: 9.792 | M19: 0 | Q19: 0
A20: 6 | E20: 64.176 | I20: 11.808 | M20: 0 | Q20: 0
A21: 7 | E21: 67.368 | I21: 12.888 | M21: 0 | Q21: 0
A22: 8 | E22: 68.808 | I22: 14.16 | M22: 0 | Q22: 0
A23: 9 | E23: 67.584 | I23: 15.216 | M23: 0 | Q23: 0
A24: 10 | E24: 67.368 | I24: 24.672 | M24: 0 | Q24: 0
A25: 11 | E25: 67.08 | I25: 23.544 | M25: 0 | Q25: 0
A26: 12 | E26: 65.856 | I26: 28.464 | M26: 0 | Q26: 0
... A38: 24 | E38: 67.296 | I38: 9.48 | M38: 0 | Q38: 0
A39: Итого | E39: =SUM(E15:E38) -> 1595.76 | I39: =SUM(I15:I38) -> 439.272 | M39: =SUM(M15:M38) -> 0 | Q39: =SUM(Q15:Q38) -> 0
A40: 1, При наличии на предприятии отклонений от нормальных режимов электропотребления (временное изменение схем питания, остановка на ремонт, резкое снижение
A41: эл,потребления и т,д,) последние необходимо перечислить,
A42: Главный инженер АО "Вологдаоблэнерго" А,В, Чурляев
A43: составляется самим предприятием с соблюдением всех пунктов настоящей таблицы,

Sheet 12
B1: АО "Вологдаоблэнерго" | J1: код 900151 | N1: ПС Загородная, ф, Тоншалово-2
B2: наименование предприятия | N2: наименование источника питания
N3: ТП-3 Школа В-1; ТП-3 Школа В-2
B4: ул, Горького, 99 | I4: Таблица № 1
B5: адрес
A6: почасовых записей показаний электрических счетчиков
A7: ='1'!A7:Q7 -> в режимный день 21 ИЮНЯ 2023 г.
A8: 1630 | B8: 1628
A9: часы суток | B9: Активная энергия | J9: Реактивная энергия
B10: ТП-3 Школа В-1 | F10: ТП-3 Школа В-2 | J10: ТП-3 Школа В-1 | N10: ТП-3 Школа В-2
B11: Расчет, Коэф, | E11: 120 | F11: Расчет, Коэф, | I11: 120 | J11: Расчет, Коэф, | M11: =E11 -> 120 | N11: Расчет, Коэф, | Q11: =I11 -> 120
B12: показания счетчика | C12: разность | E12: расход эл,энергии за час | F12: показания счетчика | G12: разность | I12: расход эл,энергии за час | J12: показания счетчика | K12: разность | M12: расход эл,энергии за час | N12: показания счетчика | O12: разность | Q12: расход эл,энергии за час
A13: 1 | B13: 2 | C13: 3 | E13: 4 | F13: 5 | G13: 6 | I13: 7 | J13: 8 | K13: 9 | M13: 10 | N13: 11 | O13: 12 | Q13: 13
A14: 0
A15: 1 | E15: 42.528 | I15: 0 | M15: 0 | Q15: 0
A16: 2 | E16: 39.936 | I16: 0 | M16: 0 | Q16: 0
A17: 3 | E17: 37.728 | I17: 0 | M17: 0 | Q17: 0
A18: 4 | E18: 36.672 | I18: 0 | M18: 0 | Q18: 0
A19: 5 | E19: 37.68 | I19: 0 | M19: 0 | Q19: 0
A20: 6 | E20: 41.016 | I20: 0 | M20: 0 | Q20: 0
A21: 7 | E21: 65.064 | I21: 0 | M21: 0 | Q21: 0
A22: 8 | E22: 75.552 | I22: 0 | M22: 0 | Q22: 0
A23: 9 | E23: 80.568 | I23: 0 | M23: 0 | Q23: 0
A24: 10 | E24: 84.648 | I24: 0 | M24: 0 | Q24: 0
A25: 11 | E25: 91.296 | I25: 0 | M25: 0 | Q25: 0
A26: 12 | E26: 83.088 | I26: 0 | M26: 0 | Q26: 0
... A38: 24 | E38: 45.264 | I38: 0 | M38: 0 | Q38: 0
A39: Итого | E39: =SUM(E15:E38) -> 1487.256 | I39: =SUM(I15:I38) -> 0 | M39: =SUM(M15:M38) -> 0 | Q39: =SUM(Q15:Q38) -> 0
A40: 1, При наличии на предприятии отклонений от нормальных режимов электропотребления (временное изменение схем питания, остановка на ремонт, резкое снижение
A41: эл,потребления и т,д,) последние необходимо перечислить,
A42: Главный инженер АО "Вологдаоблэнерго" А,В, Чурляев
A43: составляется самим предприятием с соблюдением всех пунктов настоящей таблицы,

Sheet 13
B1: АО "Вологдаоблэнерго" | J1: код 900151 | N1: ПС Загородная, ф, Тоншалово-2
B2: наименование предприятия | N2: наименование источника питания
N3: ТП-5 ПМК-1 В-1
B4: ул, Горького, 99 | I4: Таблица № 1 | N4: ТП-5 ПМК-1 В-2
B5: адрес
A6: почасовых записей показаний электрических счетчиков
A7: ='1'!A7:Q7 -> в режимный день 21 ИЮНЯ 2023 г.
A8: 1630 | B8: 1628
A9: часы суток | B9: Активная энергия | J9: Реактивная энергия
B10: =N3 -> ТП-5 ПМК-1 В-1 | F10: =N4 -> ТП-5 ПМК-1 В-2 | J10: =B10 -> ТП-5 ПМК-1 В-1 | N10: =F10 -> ТП-5 ПМК-1 В-2
B11: Расчет, Коэф, | E11: 120 | F11: Расчет, Коэф, | I11: 120 | J11: Расчет, Коэф, | M11: =E11 -> 120 | N11: Расчет, Коэф, | Q11: =I11 -> 120
B12: показания счетчика | C12: разность | E12: расход эл,энергии за час | F12: показания счетчика | G12: разность | I12: расход эл,энергии за час | J12: показания счетчика | K12: разность | M12: расход эл,энергии за час | N12: показания счетчика | O12: разность | Q12: расход эл,энергии за час
A13: 1 | B13: 2 | C13: 3 | E13: 4 | F13: 5 | G13: 6 | I13: 7 | J13: 8 | K13: 9 | M13: 10 | N13: 11 | O13: 12 | Q13: 13
A14: 0
A15: 1 | E15: 38.832 | I15: 0 | M15: 0 | Q15: 0
A16: 2 | E16: 34.68 | I16: 13.92 | M16: 0 | Q16: 0
A17: 3 | E17: 32.136 | I17: 13.608 | M17: 0 | Q17: 0
A18: 4 | E18: 30.936 | I18: 13.08 | M18: 0 | Q18: 0
A19: 5 | E19: 41.664 | I19: 12.984 | M19: 0 | Q19: 0
A20: 6 | E20: 58.848 | I20: 13.632 | M20: 0 | Q20: 0
A21: 7 | E21: 64.08 | I21: 13.968 | M21: 0 | Q21: 0
A22: 8 | E22: 60.528 | I22: 13.968 | M22: 0 | Q22: 0
A23: 9 | E23: 69.936 | I23: 14.928 | M23: 0 | Q23: 0
A24: 10 | E24: 60.528 | I24: 16.656 | M24: 0 | Q24: 0
A25: 11 | E25: 53.208 | I25: 15.816 | M25: 0 | Q25: 0
A26: 12 | E26: 48 | I26: 16.848 | M26: 0 | Q26: 0
... A38: 24 | E38: 46.032 | I38: 14.976 | M38: 0 | Q38: 0
A39: Итого | E39: =SUM(E15:E38) -> 1188.504 | I39: =SUM(I15:I38) -> 377.928 | M39: =SUM(M15:M38) -> 0 | Q39: =SUM(Q15:Q38) -> 0
A40: 1, При наличии на предприятии отклонений от нормальных режимов электропотребления (временное изменение схем питания, остановка на ремонт, резкое снижение
A41: эл,потребления и т,д,) последние необходимо перечислить,
A42: Главный инженер АО "Вологдаоблэнерго" А,В, Чурляев
A43: составляется самим предприятием с соблюдением всех пунктов настоящей таблицы,

Sheet 14
B1: АО "Вологдаоблэнерго" | J1: код 900151 | N1: ПС Загородная, ф, Тоншалово-2
B2: наименование предприятия | N2: наименование источника питания
N3: ТП-6 Детский сад В-1
B4: ул, Горького, 99 | I4: Таблица № 1 | N4: ТП-6 Детский сад В-2
B5: адрес
A6: почасовых записей показаний электрических счетчиков
A7: ='1'!A7:Q7 -> в режимный день 21 ИЮНЯ 2023 г.
A8: 1630 | B8: 1628
A9: часы суток | B9: Активная энергия | J9: Реактивная энергия
B10: =N3 -> ТП-6 Детский сад В-1 | F10: =N4 -> ТП-6 Детский сад В-2 | J10: =B10 -> ТП-6 Детский сад В-1 | N10: =F10 -> ТП-6 Детский сад В-2
B11: Расчет, Коэф, | E11: 120 | F11: Расчет, Коэф, | I11: 120 | J11: Расчет, Коэф, | M11: =E11 -> 120 | N11: Расчет, Коэф, | Q11: =I11 -> 120
B12: показания счетчика | C12: разность | E12: расход эл,энергии за час | F12: показания счетчика | G12: разность | I12: расход эл,энергии за час | J12: показания счетчика | K12: разность | M12: расход эл,энергии за час | N12: показания счетчика | O12: разность | Q12: расход эл,энергии за час
A13: 1 | B13: 2 | C13: 3 | E13: 4 | F13: 5 | G13: 6 | I13: 7 | J13: 8 | K13: 9 | M13: 10 | N13: 11 | O13: 12 | Q13: 13
A14: 0
A15: 1 | E15: 44.88 | I15: 33.048 | M15: 0 | Q15: 0
A16: 2 | E16: 40.944 | I16: 30.72 | M16: 0 | Q16: 0
A17: 3 | E17: 36.672 | I17: 28.08 | M17: 0 | Q17: 0
A18: 4 | E18: 34.68 | I18: 26.52 | M18: 0 | Q18: 0
A19: 5 | E19: 34.632 | I19: 26.76 | M19: 0 | Q19: 0
A20: 6 | E20: 34.536 | I20: 28.848 | M20: 0 | Q20: 0
A21: 7 | E21: 39.936 | I21: 33.264 | M21: 0 | Q21: 0
A22: 8 | E22: 43.704 | I22: 32.616 | M22: 0 | Q22: 0
A23: 9 | E23: 48.672 | I23: 34.392 | M23: 0 | Q23: 0
A24: 10 | E24: 46.152 | I24: 36.6 | M24: 0 | Q24: 0
A25: 11 | E25: 48.648 | I25: 34.128 | M25: 0 | Q25: 0
A26: 12 | E26: 56.832 | I26: 33.432 | M26: 0 | Q26: 0
... A38: 24 | E38: 52.68 | I38: 39.6 | M38: 0 | Q38: 0
A39: Итого | E39: =SUM(E15:E38) -> 1206.12 | I39: =SUM(I15:I38) -> 881.904 | M39: =SUM(M15:M38) -> 0 | Q39: =SUM(Q15:Q38) -> 0
A40: 1, При наличии на предприятии отклонений от нормальных режимов электропотребления (временное изменение схем питания, остановка на ремонт, резкое снижение
A41: эл,потребления и т,д,) последние необходимо перечислить,
A42: Главный инженер АО "Вологдаоблэнерго" А,В, Чурляев
A43: составляется самим предприятием с соблюдением всех пунктов настоящей таблицы,

Sheet 15
B1: АО "Вологдаоблэнерго" | J1: код 900151 | N1: ПС Загородная, ф, Тоншалово-2
B2: наименование предприятия | N2: наименование источника питания
N3: ТП-2 Поселок
B4: ул, Горького, 99 | I4: Таблица № 1
B5: адрес
A6: почасовых записей показаний электрических счетчиков
A7: ='1'!A7:Q7 -> в режимный день 21 ИЮНЯ 2023 г.
A8: 1630 | B8: 1628
A9: часы суток | B9: Активная энергия | J9: Реактивная энергия
B10: =N3 -> ТП-2 Поселок | F10: =N4 -> 0 | J10: =B10 -> ТП-2 Поселок | N10: =F10 -> 0
B11: Расчет, Коэф, | E11: 200 | F11: Расчет, Коэф, | I11: 120 | J11: Расчет, Коэф, | M11: =E11 -> 200 | N11: Расчет, Коэф, | Q11: =I11 -> 120
B12: показания счетчика | C12: разность | E12: расход эл,энергии за час | F12: показания счетчика | G12: разность | I12: расход эл,энергии за час | J12: показания счетчика | K12: разность | M12: расход эл,энергии за час | N12: показания счетчика | O12: разность | Q12: расход эл,энергии за час
A13: 1 | B13: 2 | C13: 3 | E13: 4 | F13: 5 | G13: 6 | I13: 7 | J13: 8 | K13: 9 | M13: 10 | N13: 11 | O13: 12 | Q13: 13
A14: 0
A15: 1 | E15: 96.8 | I15: 0 | M15: 0 | Q15: 0
A16: 2 | E16: 88.36 | I16: 0 | M16: 0 | Q16: 0
A17: 3 | E17: 83.68 | I17: 0 | M17: 0 | Q17: 0
A18: 4 | E18: 77.92 | I18: 0 | M18: 0 | Q18: 0
A19: 5 | E19: 77.08 | I19: 0 | M19: 0 | Q19: 0
A20: 6 | E20: 90.08 | I20: 0 | M20: 0 | Q20: 0
A21: 7 | E21: 100.56 | I21: 0 | M21: 0 | Q21: 0
A22: 8 | E22: 103.32 | I22: 0 | M22: 0 | Q22: 0
A23: 9 | E23: 110.12 | I23: 0 | M23: 0 | Q23: 0
A24: 10 | E24: 112.08 | I24: 0 | M24: 0 | Q24: 0
A25: 11 | E25: 119.88 | I25: 0 | M25: 0 | Q25: 0
A26: 12 | E26: 110.32 | I26: 0 | M26: 0 | Q26: 0
... A38: 24 | E38: 111.12 | I38: 0 | M38: 0 | Q38: 0
A39: Итого | E39: =SUM(E15:E38) -> 2589.88 | I39: =SUM(I15:I38) -> 0 | M39: =SUM(M15:M38) -> 0 | Q39: =SUM(Q15:Q38) -> 0
A40: 1, При наличии на предприятии отклонений от нормальных режимов электропотребления (временное изменение схем питания, остановка на ремонт, резкое снижение
A41: эл,потребления и т,д,) последние необходимо перечислить,
A42: Главный инженер АО "Вологдаоблэнерго" А,В, Чурляев
A43: составляется самим предприятием с соблюдением всех пунктов настоящей таблицы,

Sheet 16
B1: АО "Вологдаоблэнерго" | J1: код 900151 | N1: ПС Загородная, ф, Солманское
B2: наименование предприятия | N2: наименование источника питания
N3: ТП-Котельная ПМК-2 В-1
B4: ул, Горького, 99 | I4: Таблица № 1 | N4: ТП-Котельная ПМК-2 В-2
B5: адрес
A6: почасовых записей показаний электрических счетчиков
A7: ='1'!A7:Q7 -> в режимный день 21 ИЮНЯ 2023 г.
A8: 1630 | B8: 1628
A9: часы суток | B9: Активная энергия | J9: Реактивная энергия
B10: =N3 -> ТП-Котельная ПМК-2 В-1 | F10: =N4 -> ТП-Котельная ПМК-2 В-2 | J10: =B10 -> ТП-Котельная ПМК-2 В-1 | N10: =F10 -> ТП-Котельная ПМК-2 В-2
B11: Расчет, Коэф, | E11: 80 | F11: Расчет, Коэф, | I11: 80 | J11: Расчет, Коэф, | M11: =E11 -> 80 | N11: Расчет, Коэф, | Q11: =I11 -> 80
B12: показания счетчика | C12: разность | E12: расход эл,энергии за час | F12: показания счетчика | G12: разность | I12: расход эл,энергии за час | J12: показания счетчика | K12: разность | M12: расход эл,энергии за час | N12: показания счетчика | O12: разность | Q12: расход эл,энергии за час
A13: 1 | B13: 2 | C13: 3 | E13: 4 | F13: 5 | G13: 6 | I13: 7 | J13: 8 | K13: 9 | M13: 10 | N13: 11 | O13: 12 | Q13: 13
A14: 0
A15: 1 | E15: 15.344 | I15: 0 | M15: 0 | Q15: 0
A16: 2 | E16: 14.704 | I16: 0 | M16: 0 | Q16: 0
A17: 3 | E17: 14.848 | I17: 0 | M17: 0 | Q17: 0
A18: 4 | E18: 15.168 | I18: 0 | M18: 0 | Q18: 0
A19: 5 | E19: 14.64 | I19: 0 | M19: 0 | Q19: 0
A20: 6 | E20: 14.928 | I20: 0 | M20: 0 | Q20: 0
A21: 7 | E21: 23.584 | I21: 0 | M21: 0 | Q21: 0
A22: 8 | E22: 27.344 | I22: 0 | M22: 0 | Q22: 0
A23: 9 | E23: 81.936 | I23: 0 | M23: 0 | Q23: 0
A24: 10 | E24: 69.712 | I24: 0 | M24: 0 | Q24: 0
A25: 11 | E25: 68.496 | I25: 0 | M25: 0 | Q25: 0
A26: 12 | E26: 58.944 | I26: 0 | M26: 0 | Q26: 0
... A38: 24 | E38: 14.32 | I38: 0 | M38: 0 | Q38: 0
A39: Итого | E39: =SUM(E15:E38) -> 728.896 | I39: =SUM(I15:I38) -> 0 | M39: =SUM(M15:M38) -> 0 | Q39: =SUM(Q15:Q38) -> 0
A40: 1, При наличии на предприятии отклонений от нормальных режимов электропотребления (временное изменение схем питания, остановка на ремонт, резкое снижение
A41: эл,потребления и т,д,) последние необходимо перечислить,
A42: Главный инженер АО "Вологдаоблэнерго" А,В, Чурляев
A43: составляется самим предприятием с соблюдением всех пунктов настоящей таблицы,

Sheet 17
B1: АО "Вологдаоблэнерго" | J1: код 900151 | N1: ПС Нелазское, ф, Шулма
B2: наименование предприятия | N2: наименование источника питания
N3: ТП-244
B4: ул, Горького, 99 | I4: Таблица № 1 | N4: ТП-250
B5: адрес
A6: почасовых записей показаний электрических счетчиков
A7: ='1'!A7:Q7 -> в режимный день 21 ИЮНЯ 2023 г.
A8: 1630 | B8: 1628
A9: часы суток | B9: Активная энергия | J9: Реактивная энергия
B10: =N3 -> ТП-244 | F10: =N4 -> ТП-250 | J10: =B10 -> ТП-244 | N10: =F10 -> ТП-250
B11: Расчет, Коэф, | E11: 60 | F11: Расчет, Коэф, | I11: 60 | J11: Расчет, Коэф, | M11: =E11 -> 60 | N11: Расчет, Коэф, | Q11: =I11 -> 60
B12: показания счетчика | C12: разность | E12: расход эл,энергии за час | F12: показания счетчика | G12: разность | I12: расход эл,энергии за час | J12: показания счетчика | K12: разность | M12: расход эл,энергии за час | N12: показания счетчика | O12: разность | Q12: расход эл,энергии за час
A13: 1 | B13: 2 | C13: 3 | E13: 4 | F13: 5 | G13: 6 | I13: 7 | J13: 8 | K13: 9 | M13: 10 | N13: 11 | O13: 12 | Q13: 13
A14: 0
A15: 1 | E15: 0 | I15: 35.4 | M15: 0 | Q15: 0
A16: 2 | E16: 0 | I16: 35.34 | M16: 0 | Q16: 0
A17: 3 | E17: 0 | I17: 35.4 | M17: 0 | Q17: 0
A18: 4 | E18: 0 | I18: 35.34 | M18: 0 | Q18: 0
A19: 5 | E19: 0 | I19: 35.4 | M19: 0 | Q19: 0
A20: 6 | E20: 0 | I20: 35.4 | M20: 0 | Q20: 0
A21: 7 | E21: 0 | I21: 35.52 | M21: 0 | Q21: 0
A22: 8 | E22: 0 | I22: 35.58 | M22: 0 | Q22: 0
A23: 9 | E23: 0 | I23: 35.7 | M23: 0 | Q23: 0
A24: 10 | E24: 0 | I24: 35.58 | M24: 0 | Q24: 0
A25: 11 | E25: 0 | I25: 35.58 | M25: 0 | Q25: 0
A26: 12 | E26: 0 | I26: 35.64 | M26: 0 | Q26: 0
... A38: 24 | E38: 0 | I38: 35.4 | M38: 0 | Q38: 0
A39: Итого | E39: =SUM(E15:E38) -> 0 | I39: =SUM(I15:I38) -> 852.78 | M39: =SUM(M15:M38) -> 0 | Q39: =SUM(Q15:Q38) -> 0
A40: 1, При наличии на предприятии отклонений от нормальных режимов электропотребления (временное изменение схем питания, остановка на ремонт, резкое снижение
A41: эл,потребления и т,д,) последние необходимо перечислить,
A42: Главный инженер АО "Вологдаоблэнерго" А,В, Чурляев
A43: составляется самим предприятием с соблюдением всех пунктов настоящей таблицы,

Sheet 18
B1: АО "Вологдаоблэнерго" | J1: код 900151 | N1: ПС Нелазское, ф, Шулма
B2: наименование предприятия | N2: наименование источника питания
N3: ТП-Поселок
B4: ул, Горького, 99 | I4: Таблица № 1 | N4: ТП-Школа
B5: адрес
A6: почасовых записей показаний электрических счетчиков
A7: ='1'!A7:Q7 -> в режимный день 21 ИЮНЯ 2023 г.
A8: 1630 | B8: 1628
A9: часы суток | B9: Активная энергия | J9: Реактивная энергия
B10: =N3 -> ТП-Поселок | F10: =N4 -> ТП-Школа | J10: =B10 -> ТП-Поселок | N10: =F10 -> ТП-Школа
B11: Расчет, Коэф, | E11: 120 | F11: Расчет, Коэф, | I11: 120 | J11: Расчет, Коэф, | M11: =E11 -> 120 | N11: Расчет, Коэф, | Q11: =I11 -> 120
B12: показания счетчика | C12: разность | E12: расход эл,энергии за час | F12: показания счетчика | G12: разность | I12: расход эл,энергии за час | J12: показания счетчика | K12: разность | M12: расход эл,энергии за час | N12: показания счетчика | O12: разность | Q12: расход эл,энергии за час
A13: 1 | B13: 2 | C13: 3 | E13: 4 | F13: 5 | G13: 6 | I13: 7 | J13: 8 | K13: 9 | M13: 10 | N13: 11 | O13: 12 | Q13: 13
A14: 0
A15: 1 | E15: 86.04 | I15: 22.392 | M15: 0 | Q15: 0
A16: 2 | E16: 83.4 | I16: 19.584 | M16: 0 | Q16: 0
A17: 3 | E17: 76.92 | I17: 18.936 | M17: 0 | Q17: 0
A18: 4 | E18: 74.64 | I18: 18.576 | M18: 0 | Q18: 0
A19: 5 | E19: 75.24 | I19: 18.456 | M19: 0 | Q19: 0
A20: 6 | E20: 85.8 | I20: 19.32 | M20: 0 | Q20: 0
A21: 7 | E21: 101.64 | I21: 18.912 | M21: 0 | Q21: 0
A22: 8 | E22: 113.88 | I22: 25.92 | M22: 0 | Q22: 0
A23: 9 | E23: 109.44 | I23: 46.272 | M23: 0 | Q23: 0
A24: 10 | E24: 110.88 | I24: 96.672 | M24: 0 | Q24: 0
A25: 11 | E25: 99.24 | I25: 96.024 | M25: 0 | Q25: 0
A26: 12 | E26: 100.44 | I26: 63.024 | M26: 0 | Q26: 0
... A38: 24 | E38: 97.2 | I38: 12.6 | M38: 0 | Q38: 0
A39: Итого | E39: =SUM(E15:E38) -> 2473.08 | I39: =SUM(I15:I38) -> 805.08 | M39: =SUM(M15:M38) -> 0 | Q39: =SUM(Q15:Q38) -> 0
A40: 1, При наличии на предприятии отклонений от нормальных режимов электропотребления (временное изменение схем питания, остановка на ремонт, резкое снижение
A41: эл,потребления и т,д,) последние необходимо перечислить,
A42: Главный инженер АО "Вологдаоблэнерго" А,В, Чурляев
A43: составляется самим предприятием с соблюдением всех пунктов настоящей таблицы,

Sheet 19
B1: АО "Вологдаоблэнерго" | J1: код 900151 | N1: ПС Нелазское, ф, К-с Нелазское-2
B2: наименование предприятия | N2: наименование источника питания
N3: ТП-14 В-1
B4: ул, Горького, 99 | I4: Таблица № 1 | N4: ТП-14 В-2
B5: адрес
A6: почасовых записей показаний электрических счетчиков
A7: ='1'!A7:Q7 -> в режимный день 21 ИЮНЯ 2023 г.
A8: 1630 | B8: 1628
A9: часы суток | B9: Активная энергия | J9: Реактивная энергия
B10: =N3 -> ТП-14 В-1 | F10: =N4 -> ТП-14 В-2 | J10: =B10 -> ТП-14 В-1 | N10: =F10 -> ТП-14 В-2
B11: Расчет, Коэф, | E11: 120 | F11: Расчет, Коэф, | I11: 120 | J11: Расчет, Коэф, | M11: =E11 -> 120 | N11: Расчет, Коэф, | Q11: =I11 -> 120
B12: показания счетчика | C12: разность | E12: расход эл,энергии за час | F12: показания счетчика | G12: разность | I12: расход эл,энергии за час | J12: показания счетчика | K12: разность | M12: расход эл,энергии за час | N12: показания счетчика | O12: разность | Q12: расход эл,энергии за час
A13: 1 | B13: 2 | C13: 3 | E13: 4 | F13: 5 | G13: 6 | I13: 7 | J13: 8 | K13: 9 | M13: 10 | N13: 11 | O13: 12 | Q13: 13
A14: 0
A15: 1 | E15: 0 | I15: 78.36 | M15: 0 | Q15: 0
A16: 2 | E16: 0 | I16: 68.04 | M16: 0 | Q16: 0
A17: 3 | E17: 0 | I17: 59.52 | M17: 0 | Q17: 0
A18: 4 | E18: 0 | I18: 68.52 | M18: 0 | Q18: 0
A19: 5 | E19: 0 | I19: 57 | M19: 0 | Q19: 0
A20: 6 | E20: 0 | I20: 65.4 | M20: 0 | Q20: 0
A21: 7 | E21: 0 | I21: 46.2 | M21: 0 | Q21: 0
A22: 8 | E22: 0 | I22: 49.32 | M22: 0 | Q22: 0
A23: 9 | E23: 0 | I23: 81.96 | M23: 0 | Q23: 0
A24: 10 | E24: 0 | I24: 70.2 | M24: 0 | Q24: 0
A25: 11 | E25: 0 | I25: 69.84 | M25: 0 | Q25: 0
A26: 12 | E26: 0 | I26: 61.8 | M26: 0 | Q26: 0
... A38: 24 | E38: 0 | I38: 69.6 | M38: 0 | Q38: 0
A39: Итого | E39: =SUM(E15:E38) -> 0 | I39: =SUM(I15:I38) -> 1631.64 | M39: =SUM(M15:M38) -> 0 | Q39: =SUM(Q15:Q38) -> 0
A40: 1, При наличии на предприятии отклонений от нормальных режимов электропотребления (временное изменение схем питания, остановка на ремонт, резкое снижение
A41: эл,потребления и т,д,) последние необходимо перечислить,
A42: Главный инженер АО "Вологдаоблэнерго" А,В, Чурляев
A43: составляется самим предприятием с соблюдением всех пунктов настоящей таблицы,

Sheet 20
B1: АО "Вологдаоблэнерго" | J1: код 900151 | N1: ПС Нелазское, ф, К-с Нелазское-2
B2: наименование предприятия | N2: наименование источника питания
N3: ТП-15 В-1
B4: ул, Горького, 99 | I4: Таблица № 1 | N4: ТП-15 В-2
B5: адрес
A6: почасовых записей показаний электрических счетчиков
A7: ='1'!A7:Q7 -> в режимный день 21 ИЮНЯ 2023 г.
A8: 1630 | B8: 1628
A9: часы суток | B9: Активная энергия | J9: Реактивная энергия
B10: =N3 -> ТП-15 В-1 | F10: =N4 -> ТП-15 В-2 | J10: =B10 -> ТП-15 В-1 | N10: =F10 -> ТП-15 В-2
B11: Расчет, Коэф, | E11: 200 | F11: Расчет, Коэф, | I11: 120 | J11: Расчет, Коэф, | M11: =E11 -> 200 | N11: Расчет, Коэф, | Q11: =I11 -> 120
B12: показания счетчика | C12: разность | E12: расход эл,энергии за час | F12: показания счетчика | G12: разность | I12: расход эл,энергии за час | J12: показания счетчика | K12: разность | M12: расход эл,энергии за час | N12: показания счетчика | O12: разность | Q12: расход эл,энергии за час
A13: 1 | B13: 2 | C13: 3 | E13: 4 | F13: 5 | G13: 6 | I13: 7 | J13: 8 | K13: 9 | M13: 10 | N13: 11 | O13: 12 | Q13: 13
A14: 0
A15: 1 | E15: 0 | I15: 31.56 | M15: 0 | Q15: 0
A16: 2 | E16: 0 | I16: 29.64 | M16: 0 | Q16: 0
A17: 3 | E17: 0 | I17: 31.8 | M17: 0 | Q17: 0
A18: 4 | E18: 0 | I18: 30.84 | M18: 0 | Q18: 0
A19: 5 | E19: 0 | I19: 30.6 | M19: 0 | Q19: 0
A20: 6 | E20: 0 | I20: 32.88 | M20: 0 | Q20: 0
A21: 7 | E21: 0 | I21: 55.08 | M21: 0 | Q21: 0
A22: 8 | E22: 0 | I22: 46.08 | M22: 0 | Q22: 0
A23: 9 | E23: 0 | I23: 38.4 | M23: 0 | Q23: 0
A24: 10 | E24: 0 | I24: 53.4 | M24: 0 | Q24: 0
A25: 11 | E25: 0 | I25: 42.84 | M25: 0 | Q25: 0
A26: 12 | E26: 0 | I26: 42.84 | M26: 0 | Q26: 0
... A38: 24 | E38: 0 | I38: 31.32 | M38: 0 | Q38: 0
A39: Итого | E39: =SUM(E15:E38) -> 0 | I39: =SUM(I15:I38) -> 838.08 | M39: =SUM(M15:M38) -> 0 | Q39: =SUM(Q15:Q38) -> 0
A40: 1, При наличии на предприятии отклонений от нормальных режимов электропотребления (временное изменение схем питания, остановка на ремонт, резкое снижение
A41: эл,потребления и т,д,) последние необходимо перечислить,
A42: Главный инженер АО "Вологдаоблэнерго" А,В, Чурляев
A43: составляется самим предприятием с соблюдением всех пунктов настоящей таблицы,

Sheet 21
B1: АО "Вологдаоблэнерго" | J1: код 900151 | N1: ПС Нелазское, ф, Шулма очистные
B2: наименование предприятия | N2: наименование источника питания
N3: КТП-Ива
B4: ул, Горького, 99 | I4: Таблица № 1
B5: адрес
A6: почасовых записей показаний электрических счетчиков
A7: ='1'!A7:Q7 -> в режимный день 21 ИЮНЯ 2023 г.
A8: 1630 | B8: 1628
A9: часы суток | B9: Активная энергия | J9: Реактивная энергия
B10: =N3 -> КТП-Ива | F10: =N4 -> 0 | J10: =B10 -> КТП-Ива | N10: =F10 -> 0
B11: Расчет, Коэф, | E11: 30 | F11: Расчет, Коэф, | I11: 120 | J11: Расчет, Коэф, | M11: =E11 -> 30 | N11: Расчет, Коэф, | Q11: =I11 -> 120
B12: показания счетчика | C12: разность | E12: расход эл,энергии за час | F12: показания счетчика | G12: разность | I12: расход эл,энергии за час | J12: показания счетчика | K12: разность | M12: расход эл,энергии за час | N12: показания счетчика | O12: разность | Q12: расход эл,энергии за час
A13: 1 | B13: 2 | C13: 3 | E13: 4 | F13: 5 | G13: 6 | I13: 7 | J13: 8 | K13: 9 | M13: 10 | N13: 11 | O13: 12 | Q13: 13
A14: 0
A15: 1 | E15: 4.695 | M15: 0
A16: 2 | E16: 5.34 | M16: 0
A17: 3 | E17: 5.265 | M17: 0
A18: 4 | E18: 6.96 | M18: 0
A19: 5 | E19: 7.215 | M19: 0
A20: 6 | E20: 7.155 | M20: 0
A21: 7 | E21: 8.43 | M21: 0
A22: 8 | E22: 10.05 | M22: 0
A23: 9 | E23: 9.45 | M23: 0
A24: 10 | E24: 8.73 | M24: 0
A25: 11 | E25: 10.47 | M25: 0
A26: 12 | E26: 11.25 | M26: 0
... A38: 24 | E38: 6.36 | M38: 0
A39: Итого | E39: =SUM(E15:E38) -> 223.545 | I39: =SUM(I15:I38) -> 0 | M39: =SUM(M15:M38) -> 0 | Q39: =SUM(Q15:Q38) -> 0
A40: 1, При наличии на предприятии отклонений от нормальных режимов электропотребления (временное изменение схем питания, остановка на ремонт, резкое снижение
A41: эл,потребления и т,д,) последние необходимо перечислить,
A42: Главный инженер АО "Вологдаоблэнерго" А,В, Чурляев
A43: составляется самим предприятием с соблюдением всех пунктов настоящей таблицы,

Sheet 22
B1: АО "Вологдаоблэнерго" | J1: код 900151 | N1: ПС Нелазское, ф, Крутец
B2: наименование предприятия | N2: наименование источника питания
N3: КТП-1 "Сад-3 ЧМК"
B4: ул, Горького, 99 | I4: Таблица № 1 | N4: КТП-2 "Сад-3 ЧМК"
B5: адрес
A6: почасовых записей показаний электрических счетчиков
A7: ='1'!A7:Q7 -> в режимный день 21 ИЮНЯ 2023 г.
A8: 1630 | B8: 1628
A9: часы суток | B9: Активная энергия | J9: Реактивная энергия
B10: =N3 -> КТП-1 "Сад-3 ЧМК" | F10: =N4 -> КТП-2 "Сад-3 ЧМК" | J10: =B10 -> КТП-1 "Сад-3 ЧМК" | N10: =F10 -> КТП-2 "Сад-3 ЧМК"
B11: Расчет, Коэф, | E11: 60 | F11: Расчет, Коэф, | I11: 60 | J11: Расчет, Коэф, | M11: =E11 -> 60 | N11: Расчет, Коэф, | Q11: =I11 -> 60
B12: показания счетчика | C12: разность | E12: расход эл,энергии за час | F12: показания счетчика | G12: разность | I12: расход эл,энергии за час | J12: показания счетчика | K12: разность | M12: расход эл,энергии за час | N12: показания счетчика | O12: разность | Q12: расход эл,энергии за час
A13: 1 | B13: 2 | C13: 3 | E13: 4 | F13: 5 | G13: 6 | I13: 7 | J13: 8 | K13: 9 | M13: 10 | N13: 11 | O13: 12 | Q13: 13
A14: 0
A15: 1 | E15: 11.01 | I15: 29.25 | M15: 0 | Q15: 0
A16: 2 | E16: 9.96 | I16: 28.29 | M16: 0 | Q16: 0
A17: 3 | E17: 8.91 | I17: 26.16 | M17: 0 | Q17: 0
A18: 4 | E18: 9 | I18: 27.84 | M18: 0 | Q18: 0
A19: 5 | E19: 8.79 | I19: 28.95 | M19: 0 | Q19: 0
A20: 6 | E20: 7.74 | I20: 29.25 | M20: 0 | Q20: 0
A21: 7 | E21: 6.24 | I21: 30.93 | M21: 0 | Q21: 0
A22: 8 | E22: 6 | I22: 39.66 | M22: 0 | Q22: 0
A23: 9 | E23: 6.93 | I23: 46.08 | M23: 0 | Q23: 0
A24: 10 | E24: 6.42 | I24: 46.08 | M24: 0 | Q24: 0
A25: 11 | E25: 5.55 | I25: 41.7 | M25: 0 | Q25: 0
A26: 12 | E26: 6.15 | I26: 35.19 | M26: 0 | Q26: 0
... A38: 24 | E38: 7.89 | I38: 32.46 | M38: 0 | Q38: 0
A39: Итого | E39: =SUM(E15:E38) -> 169.56 | I39: =SUM(I15:I38) -> 827.46 | M39: =SUM(M15:M38) -> 0 | Q39: =SUM(Q15:Q38) -> 0
A40: 1, При наличии на предприятии отклонений от нормальных режимов электропотребления (временное изменение схем питания, остановка на ремонт, резкое снижение
A41: эл,потребления и т,д,) последние необходимо перечислить,
A42: Главный инженер АО "Вологдаоблэнерго" А,В, Чурляев
A43: составляется самим предприятием с соблюдением всех пунктов настоящей таблицы,

Sheet 23
B1: АО "Вологдаоблэнерго" | J1: код 900151 | N1: ПС Суда, ф, Андога
B2: наименование предприятия | N2: наименование источника питания
N3: ТП-243
B4: ул, Горького, 99 | I4: Таблица № 1 | N4: КТП-63 Кривец-1
B5: адрес
A6: почасовых записей показаний электрических счетчиков
A7: ='1'!A7:Q7 -> в режимный день 21 ИЮНЯ 2023 г.
A8: 1630 | B8: 1628
A9: часы суток | B9: Активная энергия | J9: Реактивная энергия
B10: =N3 -> ТП-243 | F10: =N4 -> КТП-63 Кривец-1 | J10: =B10 -> ТП-243 | N10: =F10 -> КТП-63 Кривец-1
B11: Расчет, Коэф, | E11: 60 | F11: Расчет, Коэф, | I11: 20 | J11: Расчет, Коэф, | M11: =E11 -> 60 | N11: Расчет, Коэф, | Q11: =I11 -> 20
B12: показания счетчика | C12: разность | E12: расход эл,энергии за час | F12: показания счетчика | G12: разность | I12: расход эл,энергии за час | J12: показания счетчика | K12: разность | M12: расход эл,энергии за час | N12: показания счетчика | O12: разность | Q12: расход эл,энергии за час
A13: 1 | B13: 2 | C13: 3 | E13: 4 | F13: 5 | G13: 6 | I13: 7 | J13: 8 | K13: 9 | M13: 10 | N13: 11 | O13: 12 | Q13: 13
A14: 0
A15: 1 | E15: 0 | I15: 0.03 | M15: 0 | Q15: 0
A16: 2 | E16: 0 | I16: 0.02 | M16: 0 | Q16: 0
A17: 3 | E17: 0 | I17: 0.02 | M17: 0 | Q17: 0
A18: 4 | E18: 0 | I18: 0.02 | M18: 0 | Q18: 0
A19: 5 | E19: 0 | I19: 0.03 | M19: 0 | Q19: 0
A20: 6 | E20: 0 | I20: 0.02 | M20: 0 | Q20: 0
A21: 7 | E21: 0 | I21: 0.02 | M21: 0 | Q21: 0
A22: 8 | E22: 0 | I22: 0.03 | M22: 0 | Q22: 0
A23: 9 | E23: 0 | I23: 0.02 | M23: 0 | Q23: 0
A24: 10 | E24: 0 | I24: 0.02 | M24: 0 | Q24: 0
A25: 11 | E25: 0 | I25: 0.02 | M25: 0 | Q25: 0
A26: 12 | E26: 0 | I26: 0.02 | M26: 0 | Q26: 0
... A38: 24 | E38: 0 | I38: 0.05 | M38: 0 | Q38: 0
A39: Итого | E39: =SUM(E15:E38) -> 0 | I39: =SUM(I15:I38) -> 1.36 | M39: =SUM(M15:M38) -> 0 | Q39: =SUM(Q15:Q38) -> 0
A40: 1, При наличии на предприятии отклонений от нормальных режимов электропотребления (временное изменение схем питания, остановка на ремонт, резкое снижение
A41: эл,потребления и т,д,) последние необходимо перечислить,
A42: Главный инженер АО "Вологдаоблэнерго" А,В, Чурляев
A43: составляется самим предприятием с соблюдением всех пунктов настоящей таблицы,

Sheet 24
B1: АО "Вологдаоблэнерго" | J1: код 900151 | N1: ПС Суда, ф, Сойволовское
B2: наименование предприятия | N2: наименование источника питания
N3: КТП общества садоводов "Заря-2"
B4: ул, Горького, 99 | I4: Таблица № 1 | N4: КТП "Дачи"
B5: адрес
A6: почасовых записей показаний электрических счетчиков
A7: ='1'!A7:Q7 -> в режимный день 21 ИЮНЯ 2023 г.
A8: 1630 | B8: 1628
A9: часы суток | B9: Активная энергия | J9: Реактивная энергия
B10: =N3 -> КТП общества садоводов "Заря-2" | F10: =N4 -> КТП "Дачи" | J10: =B10 -> КТП общества садоводов "Заря-2" | N10: =F10 -> КТП "Дачи"
B11: Расчет, Коэф, | E11: 40 | F11: Расчет, Коэф, | I11: 60 | J11: Расчет, Коэф, | M11: =E11 -> 40 | N11: Расчет, Коэф, | Q11: =I11 -> 60
B12: показания счетчика | C12: разность | E12: расход эл,энергии за час | F12: показания счетчика | G12: разность | I12: расход эл,энергии за час | J12: показания счетчика | K12: разность | M12: расход эл,энергии за час | N12: показания счетчика | O12: разность | Q12: расход эл,энергии за час
A13: 1 | B13: 2 | C13: 3 | E13: 4 | F13: 5 | G13: 6 | I13: 7 | J13: 8 | K13: 9 | M13: 10 | N13: 11 | O13: 12 | Q13: 13
A14: 0
A15: 1 | E15: 36.272 | I15: 17.52 | M15: 0 | Q15: 0
A16: 2 | E16: 31.592 | I16: 16.668 | M16: 0 | Q16: 0
A17: 3 | E17: 31.456 | I17: 16.572 | M17: 0 | Q17: 0
A18: 4 | E18: 31.944 | I18: 18.504 | M18: 0 | Q18: 0
A19: 5 | E19: 30.784 | I19: 17.196 | M19: 0 | Q19: 0
A20: 6 | E20: 33.688 | I20: 19.44 | M20: 0 | Q20: 0
A21: 7 | E21: 34.584 | I21: 17.964 | M21: 0 | Q21: 0
A22: 8 | E22: 33.912 | I22: 27.492 | M22: 0 | Q22: 0
A23: 9 | E23: 32.64 | I23: 21.204 | M23: 0 | Q23: 0
A24: 10 | E24: 33.456 | I24: 24.372 | M24: 0 | Q24: 0
A25: 11 | E25: 36.176 | I25: 23.244 | M25: 0 | Q25: 0
A26: 12 | E26: 27.728 | I26: 19.536 | M26: 0 | Q26: 0
... A38: 24 | E38: 31.136 | I38: 19.044 | M38: 0 | Q38: 0
A39: Итого | E39: =SUM(E15:E38) -> 775.064 | I39: =SUM(I15:I38) -> 503.976 | M39: =SUM(M15:M38) -> 0 | Q39: =SUM(Q15:Q38) -> 0
A40: 1, При наличии на предприятии отклонений от нормальных режимов электропотребления (временное изменение схем питания, остановка на ремонт, резкое снижение
A41: эл,потребления и т,д,) последние необходимо перечислить,
A42: Главный инженер АО "Вологдаоблэнерго" А,В, Чурляев
A43: составляется самим предприятием с соблюдением всех пунктов настоящей таблицы,

Sheet 25
B1: АО "Вологдаоблэнерго" | J1: код 900151 | N1: ПС Петринево, ф, Романово
B2: наименование предприятия | N2: наименование источника питания
N3: ТП-317
B4: ул, Горького, 99 | I4: Таблица № 1
B5: адрес
A6: почасовых записей показаний электрических счетчиков
A7: ='1'!A7:Q7 -> в режимный день 21 ИЮНЯ 2023 г.
A8: 1630 | B8: 1628
A9: часы суток | B9: Активная энергия | J9: Реактивная энергия
B10: =N3 -> ТП-317 | F10: =N4 -> 0 | J10: =B10 -> ТП-317 | N10: =F10 -> 0 | S10: 12.12 | T10: 10.38 | U10: 11.76 | V10: 8.28 | W10: 11.4 | X10: 8.28 | Y10: 13.74 | Z10: 12.18 | AA10: 14.22 | AB10: 16.32 | AC10: 13.98 | AD10: 13.92 | AE10: 13.44 | AF10: 12.54 | AG10: 9.72 | AH10: 7.8 | AI10: 10.32 | AJ10: 11.04 | AK10: 13.44 | AL10: 17.34 | AM10: 14.4 | AN10: 14.88 | AO10: 15.54 | AP10: 14.46
B11: Расчет, Коэф, | E11: 120 | F11: Расчет, Коэф, | I11: 120 | J11: Расчет, Коэф, | M11: =E11 -> 120 | N11: Расчет, Коэф, | Q11: =I11 -> 120
B12: показания счетчика | C12: разность | E12: расход эл,энергии за час | F12: показания счетчика | G12: разность | I12: расход эл,энергии за час | J12: показания счетчика | K12: разность | M12: расход эл,энергии за час | N12: показания счетчика | O12: разность | Q12: расход эл,энергии за час
A13: 1 | B13: 2 | C13: 3 | E13: 4 | F13: 5 | G13: 6 | I13: 7 | J13: 8 | K13: 9 | M13: 10 | N13: 11 | O13: 12 | Q13: 13
A14: 0
A15: 1 | E15: 12.12 | M15: 0
A16: 2 | E16: 10.38 | M16: 0
A17: 3 | E17: 11.76 | M17: 0
A18: 4 | E18: 8.28 | M18: 0
A19: 5 | E19: 11.4 | M19: 0
A20: 6 | E20: 8.28 | M20: 0
A21: 7 | E21: 13.74 | M21: 0
A22: 8 | E22: 12.18 | M22: 0
A23: 9 | E23: 14.22 | M23: 0
A24: 10 | E24: 16.32 | M24: 0
A25: 11 | E25: 13.98 | M25: 0
A26: 12 | E26: 13.92 | M26: 0
... A38: 24 | E38: 14.46 | M38: 0
A39: Итого | E39: =SUM(E15:E38) -> 301.5 | I39: =SUM(I15:I38) -> 0 | M39: =SUM(M15:M38) -> 0 | Q39: =SUM(Q15:Q38) -> 0
A40: 1, При наличии на предприятии отклонений от нормальных режимов электропотребления (временное изменение схем питания, остановка на ремонт, резкое снижение
A41: эл,потребления и т,д,) последние необходимо перечислить,
A42: Главный инженер АО "Вологдаоблэнерго" А,В, Чурляев
A43: составляется самим предприятием с соблюдением всех пунктов настоящей таблицы,

Sheet 26
B1: АО "Вологдаоблэнерго" | J1: код 900151 | N1: ПС Домозерово, ф,Дом-2
B2: наименование предприятия | N2: наименование источника питания
N3: ТП-Водозабор (встроен) В-1
B4: ул, Горького, 99 | I4: Таблица № 1 | N4: ТП-Водозабор (встроен) В-2
B5: адрес
A6: почасовых записей показаний электрических счетчиков
A7: ='1'!A7:Q7 -> в режимный день 21 ИЮНЯ 2023 г.
A8: 1630 | B8: 1628
A9: часы суток | B9: Активная энергия | J9: Реактивная энергия
B10: =N3 -> ТП-Водозабор (встроен) В-1 | F10: =N4 -> ТП-Водозабор (встроен) В-2 | J10: =B10 -> ТП-Водозабор (встроен) В-1 | N10: =F10 -> ТП-Водозабор (встроен) В-2
B11: Расчет, Коэф, | E11: 20 | F11: Расчет, Коэф, | I11: 20 | J11: Расчет, Коэф, | M11: =E11 -> 20 | N11: Расчет, Коэф, | Q11: =I11 -> 20
B12: показания счетчика | C12: разность | E12: расход эл,энергии за час | F12: показания счетчика | G12: разность | I12: расход эл,энергии за час | J12: показания счетчика | K12: разность | M12: расход эл,энергии за час | N12: показания счетчика | O12: разность | Q12: расход эл,энергии за час
A13: 1 | B13: 2 | C13: 3 | E13: 4 | F13: 5 | G13: 6 | I13: 7 | J13: 8 | K13: 9 | M13: 10 | N13: 11 | O13: 12 | Q13: 13
A14: 0
A15: 1 | E15: 0 | I15: 0.36 | M15: 0 | Q15: 0
A16: 2 | E16: 0 | I16: 0.36 | M16: 0 | Q16: 0
A17: 3 | E17: 0 | I17: 0.42 | M17: 0 | Q17: 0
A18: 4 | E18: 0 | I18: 0.34 | M18: 0 | Q18: 0
A19: 5 | E19: 0 | I19: 0.35 | M19: 0 | Q19: 0
A20: 6 | E20: 0 | I20: 0.34 | M20: 0 | Q20: 0
A21: 7 | E21: 0 | I21: 3.35 | M21: 0 | Q21: 0
A22: 8 | E22: 0 | I22: 8.07 | M22: 0 | Q22: 0
A23: 9 | E23: 0 | I23: 7.03 | M23: 0 | Q23: 0
A24: 10 | E24: 0 | I24: 6.48 | M24: 0 | Q24: 0
A25: 11 | E25: 0 | I25: 7.24 | M25: 0 | Q25: 0
A26: 12 | E26: 0 | I26: 7.22 | M26: 0 | Q26: 0
... A38: 24 | E38: 0 | I38: 0.35 | M38: 0 | Q38: 0
A39: Итого | E39: =SUM(E15:E38) -> 0 | I39: =SUM(I15:I38) -> 102.07 | M39: =SUM(M15:M38) -> 0 | Q39: =SUM(Q15:Q38) -> 0
A40: 1, При наличии на предприятии отклонений от нормальных режимов электропотребления (временное изменение схем питания, остановка на ремонт, резкое снижение
A41: эл,потребления и т,д,) последние необходимо перечислить,
A42: Главный инженер АО "Вологдаоблэнерго" А,В, Чурляев
A43: составляется самим предприятием с соблюдением всех пунктов настоящей таблицы,

Sheet 27
B1: АО "Вологдаоблэнерго" | J1: код 900151 | N1: ПС Домозерово, ф,Дом-2
B2: наименование предприятия | N2: наименование источника питания
N3: ТП-Школа ПС Домозерово В-1
B4: ул, Горького, 99 | I4: Таблица № 1 | N4: ТП-Школа ПС Домозерово В-2
B5: адрес
A6: почасовых записей показаний электрических счетчиков
A7: ='1'!A7:Q7 -> в режимный день 21 ИЮНЯ 2023 г.
A8: 1630 | B8: 1628
A9: часы суток | B9: Активная энергия | J9: Реактивная энергия
B10: =N3 -> ТП-Школа ПС Домозерово В-1 | F10: =N4 -> ТП-Школа ПС Домозерово В-2 | J10: =B10 -> ТП-Школа ПС Домозерово В-1 | N10: =F10 -> ТП-Школа ПС Домозерово В-2
B11: Расчет, Коэф, | E11: 120 | F11: Расчет, Коэф, | I11: 120 | J11: Расчет, Коэф, | M11: =E11 -> 120 | N11: Расчет, Коэф, | Q11: =I11 -> 120
B12: показания счетчика | C12: разность | E12: расход эл,энергии за час | F12: показания счетчика | G12: разность | I12: расход эл,энергии за час | J12: показания счетчика | K12: разность | M12: расход эл,энергии за час | N12: показания счетчика | O12: разность | Q12: расход эл,энергии за час
A13: 1 | B13: 2 | C13: 3 | E13: 4 | F13: 5 | G13: 6 | I13: 7 | J13: 8 | K13: 9 | M13: 10 | N13: 11 | O13: 12 | Q13: 13
A14: 0
A15: 1 | E15: 0 | I15: 17.04 | M15: 0 | Q15: 0
A16: 2 | E16: 0 | I16: 16.44 | M16: 0 | Q16: 0
A17: 3 | E17: 0 | I17: 15.384 | M17: 0 | Q17: 0
A18: 4 | E18: 0 | I18: 14.952 | M18: 0 | Q18: 0
A19: 5 | E19: 0 | I19: 14.952 | M19: 0 | Q19: 0
A20: 6 | E20: 0 | I20: 15.384 | M20: 0 | Q20: 0
A21: 7 | E21: 0 | I21: 16.68 | M21: 0 | Q21: 0
A22: 8 | E22: 0 | I22: 35.544 | M22: 0 | Q22: 0
A23: 9 | E23: 0 | I23: 37.704 | M23: 0 | Q23: 0
A24: 10 | E24: 0 | I24: 34.104 | M24: 0 | Q24: 0
A25: 11 | E25: 0 | I25: 31.968 | M25: 0 | Q25: 0
A26: 12 | E26: 0 | I26: 34.68 | M26: 0 | Q26: 0
... A38: 24 | E38: 0 | I38: 18.072 | M38: 0 | Q38: 0
A39: Итого | E39: =SUM(E15:E38) -> 0 | I39: =SUM(I15:I38) -> 609.288 | M39: =SUM(M15:M38) -> 0 | Q39: =SUM(Q15:Q38) -> 0
A40: 1, При наличии на предприятии отклонений от нормальных режимов электропотребления (временное изменение схем питания, остановка на ремонт, резкое снижение
A41: эл,потребления и т,д,) последние необходимо перечислить,
A42: Главный инженер АО "Вологдаоблэнерго" А,В, Чурляев
A43: составляется самим предприятием с соблюдением всех пунктов настоящей таблицы,

Sheet 28
B1: АО "Вологдаоблэнерго" | J1: код 900151 | N1: ПС Домозерово, ф,Дом-2
B2: наименование предприятия | N2: наименование источника питания
N3: КТП "Очистные" ПС Домозерово
B4: ул, Горького, 99 | I4: Таблица № 1 | N4: ТП "Детский сад" ПС Домозерово
B5: адрес
A6: почасовых записей показаний электрических счетчиков
A7: ='1'!A7:Q7 -> в режимный день 21 ИЮНЯ 2023 г.
A8: 1630 | B8: 1628
A9: часы суток | B9: Активная энергия | J9: Реактивная энергия
B10: =N3 -> КТП "Очистные" ПС Домозерово | F10: =N4 -> ТП "Детский сад" ПС Домозерово | J10: =B10 -> КТП "Очистные" ПС Домозерово | N10: =F10 -> ТП "Детский сад" ПС Домозерово
B11: Расчет, Коэф, | E11: 60 | F11: Расчет, Коэф, | I11: 80 | J11: Расчет, Коэф, | M11: =E11 -> 60 | N11: Расчет, Коэф, | Q11: =I11 -> 80
B12: показания счетчика | C12: разность | E12: расход эл,энергии за час | F12: показания счетчика | G12: разность | I12: расход эл,энергии за час | J12: показания счетчика | K12: разность | M12: расход эл,энергии за час | N12: показания счетчика | O12: разность | Q12: расход эл,энергии за час
A13: 1 | B13: 2 | C13: 3 | E13: 4 | F13: 5 | G13: 6 | I13: 7 | J13: 8 | K13: 9 | M13: 10 | N13: 11 | O13: 12 | Q13: 13
A14: 0
A15: 1 | E15: 3.324 | I15: 17.52 | M15: 0 | Q15: 0
A16: 2 | E16: 3.312 | I16: 16 | M16: 0 | Q16: 0
A17: 3 | E17: 3.276 | I17: 15.44 | M17: 0 | Q17: 0
A18: 4 | E18: 3.228 | I18: 14.72 | M18: 0 | Q18: 0
A19: 5 | E19: 3.228 | I19: 18 | M19: 0 | Q19: 0
A20: 6 | E20: 3.3 | I20: 18.16 | M20: 0 | Q20: 0
A21: 7 | E21: 3.564 | I21: 27.44 | M21: 0 | Q21: 0
A22: 8 | E22: 4.416 | I22: 24.72 | M22: 0 | Q22: 0
A23: 9 | E23: 4.212 | I23: 22.32 | M23: 0 | Q23: 0
A24: 10 | E24: 3.972 | I24: 28.8 | M24: 0 | Q24: 0
A25: 11 | E25: 4.14 | I25: 23.44 | M25: 0 | Q25: 0
A26: 12 | E26: 3.336 | I26: 21.52 | M26: 0 | Q26: 0
... A38: 24 | E38: 3.408 | I38: 21.28 | M38: 0 | Q38: 0
A39: Итого | E39: =SUM(E15:E38) -> 86.976 | I39: =SUM(I15:I38) -> 551.52 | M39: =SUM(M15:M38) -> 0 | Q39: =SUM(Q15:Q38) -> 0
A40: 1, При наличии на предприятии отклонений от нормальных режимов электропотребления (временное изменение схем питания, остановка на ремонт, резкое снижение
A41: эл,потребления и т,д,) последние необходимо перечислить,
A42: Главный инженер АО "Вологдаоблэнерго" А,В, Чурляев
A43: составляется самим предприятием с соблюдением всех пунктов настоящей таблицы,

Sheet 29
B1: АО "Вологдаоблэнерго" | J1: код 900151 | N1: ПС Нелазское, ф, Цыково
B2: наименование предприятия | N2: наименование источника питания
N3: КТП-250кВА Зашекснинское
B4: ул, Горького, 99 | I4: Таблица № 1
B5: адрес
A6: почасовых записей показаний электрических счетчиков
A7: ='1'!A7:Q7 -> в режимный день 21 ИЮНЯ 2023 г.
A8: 1630 | B8: 1628
A9: часы суток | B9: Активная энергия | J9: Реактивная энергия
B10: =N3 -> КТП-250кВА Зашекснинское | F10: =N4 -> 0 | J10: =B10 -> КТП-250кВА Зашекснинское | N10: =F10 -> 0
B11: Расчет, Коэф, | E11: 60 | F11: Расчет, Коэф, | I11: 120 | J11: Расчет, Коэф, | M11: =E11 -> 60 | N11: Расчет, Коэф, | Q11: =I11 -> 120
B12: показания счетчика | C12: разность | E12: расход эл,энергии за час | F12: показания счетчика | G12: разность | I12: расход эл,энергии за час | J12: показания счетчика | K12: разность | M12: расход эл,энергии за час | N12: показания счетчика | O12: разность | Q12: расход эл,энергии за час
A13: 1 | B13: 2 | C13: 3 | E13: 4 | F13: 5 | G13: 6 | I13: 7 | J13: 8 | K13: 9 | M13: 10 | N13: 11 | O13: 12 | Q13: 13
A14: 0
A15: 1 | E15: 0 | M15: 0
A16: 2 | E16: 0 | M16: 0
A17: 3 | E17: 0 | M17: 0
A18: 4 | E18: 0 | M18: 0
A19: 5 | E19: 0 | M19: 0
A20: 6 | E20: 0 | M20: 0
A21: 7 | E21: 0 | M21: 0
A22: 8 | E22: 0 | M22: 0
A23: 9 | E23: 0 | M23: 0
A24: 10 | E24: 0 | M24: 0
A25: 11 | E25: 0 | M25: 0
A26: 12 | E26: 0 | M26: 0
... A38: 24 | E38: 0 | M38: 0
A39: Итого | E39: =SUM(E15:E38) -> 0 | I39: =SUM(I15:I38) -> 0 | M39: =SUM(M15:M38) -> 0 | Q39: =SUM(Q15:Q38) -> 0
A40: 1, При наличии на предприятии отклонений от нормальных режимов электропотребления (временное изменение схем питания, остановка на ремонт, резкое снижение
A41: эл,потребления и т,д,) последние необходимо перечислить,
A42: Главный инженер АО "Вологдаоблэнерго" А,В, Чурляев
A43: составляется самим предприятием с соблюдением всех пунктов настоящей таблицы,

Sheet 30
B1: АО "Вологдаоблэнерго" | J1: код 900151 | N1: ПС Нелазское, ф, Починок
B2: наименование предприятия | N2: наименование источника питания
N3: КТП-Дачи "Березка"
B4: ул, Горького, 99 | I4: Таблица № 1 | N4: КТП-Пенек
B5: адрес
A6: почасовых записей показаний электрических счетчиков
A7: ='1'!A7:Q7 -> в режимный день 21 ИЮНЯ 2023 г.
A8: 1630 | B8: 1628
A9: часы суток | B9: Активная энергия | J9: Реактивная энергия
B10: =N3 -> КТП-Дачи "Березка" | F10: =N4 -> КТП-Пенек | J10: =B10 -> КТП-Дачи "Березка" | N10: =F10 -> КТП-Пенек
B11: Расчет, Коэф, | E11: 80 | F11: Расчет, Коэф, | I11: 80 | J11: Расчет, Коэф, | M11: =E11 -> 80 | N11: Расчет, Коэф, | Q11: =I11 -> 80
B12: показания счетчика | C12: разность | E12: расход эл,энергии за час | F12: показания счетчика | G12: разность | I12: расход эл,энергии за час | J12: показания счетчика | K12: разность | M12: расход эл,энергии за час | N12: показания счетчика | O12: разность | Q12: расход эл,энергии за час
A13: 1 | B13: 2 | C13: 3 | E13: 4 | F13: 5 | G13: 6 | I13: 7 | J13: 8 | K13: 9 | M13: 10 | N13: 11 | O13: 12 | Q13: 13
A14: 0
A15: 1 | E15: 37.68 | I15: 31 | M15: 0 | Q15: 0
A16: 2 | E16: 30.44 | I16: 28.16 | M16: 0 | Q16: 0
A17: 3 | E17: 29.52 | I17: 24.84 | M17: 0 | Q17: 0
A18: 4 | E18: 24.2 | I18: 29 | M18: 0 | Q18: 0
A19: 5 | E19: 24.4 | I19: 24.32 | M19: 0 | Q19: 0
A20: 6 | E20: 29.92 | I20: 29.2 | M20: 0 | Q20: 0
A21: 7 | E21: 33.84 | I21: 39.96 | M21: 0 | Q21: 0
A22: 8 | E22: 38 | I22: 53.28 | M22: 0 | Q22: 0
A23: 9 | E23: 42.72 | I23: 51.84 | M23: 0 | Q23: 0
A24: 10 | E24: 41.36 | I24: 48.44 | M24: 0 | Q24: 0
A25: 11 | E25: 41.12 | I25: 45.64 | M25: 0 | Q25: 0
A26: 12 | E26: 45.36 | I26: 31 | M26: 0 | Q26: 0
... A38: 24 | E38: 44.84 | I38: 37.4 | M38: 0 | Q38: 0
A39: Итого | E39: =SUM(E15:E38) -> 959.4 | I39: =SUM(I15:I38) -> 882.08 | M39: =SUM(M15:M38) -> 0 | Q39: =SUM(Q15:Q38) -> 0
A40: 1, При наличии на предприятии отклонений от нормальных режимов электропотребления (временное изменение схем питания, остановка на ремонт, резкое снижение
A41: эл,потребления и т,д,) последние необходимо перечислить,
A42: Главный инженер АО "Вологдаоблэнерго" А,В, Чурляев
A43: составляется самим предприятием с соблюдением всех пунктов настоящей таблицы,

Sheet 31
B1: АО "Вологдаоблэнерго" | J1: код 900151 | N1: ПС Нелазское, ф, Починок
B2: наименование предприятия | N2: наименование источника питания
N3: КТП-Кацитадзе
B4: ул, Горького, 99 | I4: Таблица № 1 | N4: ТП-75
B5: адрес
A6: почасовых записей показаний электрических счетчиков
A7: ='1'!A7:Q7 -> в режимный день 21 ИЮНЯ 2023 г.
A8: 1630 | B8: 1628
A9: часы суток | B9: Активная энергия | J9: Реактивная энергия
B10: =N3 -> КТП-Кацитадзе | F10: =N4 -> ТП-75 | J10: =B10 -> КТП-Кацитадзе | N10: =F10 -> ТП-75
B11: Расчет, Коэф, | E11: 30 | F11: Расчет, Коэф, | I11: 80 | J11: Расчет, Коэф, | M11: =E11 -> 30 | N11: Расчет, Коэф, | Q11: 80
B12: показания счетчика | C12: разность | E12: расход эл,энергии за час | F12: показания счетчика | G12: разность | I12: расход эл,энергии за час | J12: показания счетчика | K12: разность | M12: расход эл,энергии за час | N12: показания счетчика | O12: разность | Q12: расход эл,энергии за час
A13: 1 | B13: 2 | C13: 3 | E13: 4 | F13: 5 | G13: 6 | I13: 7 | J13: 8 | K13: 9 | M13: 10 | N13: 11 | O13: 12 | Q13: 13
A14: 0
A15: 1 | E15: 8.94 | I15: 29.12 | M15: 0 | Q15: 0
A16: 2 | E16: 4.11 | I16: 29.44 | M16: 0 | Q16: 0
A17: 3 | E17: 3.765 | I17: 32.52 | M17: 0 | Q17: 0
A18: 4 | E18: 3.885 | I18: 30.84 | M18: 0 | Q18: 0
A19: 5 | E19: 4.875 | I19: 33.88 | M19: 0 | Q19: 0
A20: 6 | E20: 3.435 | I20: 37.4 | M20: 0 | Q20: 0
A21: 7 | E21: 3.72 | I21: 33.6 | M21: 0 | Q21: 0
A22: 8 | E22: 4.305 | I22: 36.68 | M22: 0 | Q22: 0
A23: 9 | E23: 5.79 | I23: 34.16 | M23: 0 | Q23: 0
A24: 10 | E24: 5.46 | I24: 30.44 | M24: 0 | Q24: 0
A25: 11 | E25: 5.505 | I25: 28.44 | M25: 0 | Q25: 0
A26: 12 | E26: 6.435 | I26: 25.4 | M26: 0 | Q26: 0
... A38: 24 | E38: 7.23 | I38: 28.68 | M38: 0 | Q38: 0
A39: Итого | E39: =SUM(E15:E38) -> 130.155 | I39: =SUM(I15:I38) -> 707.36 | M39: =SUM(M15:M38) -> 0 | Q39: =SUM(Q15:Q38) -> 0
A40: 1, При наличии на предприятии отклонений от нормальных режимов электропотребления (временное изменение схем питания, остановка на ремонт, резкое снижение
A41: эл,потребления и т,д,) последние необходимо перечислить,
A42: Главный инженер АО "Вологдаоблэнерго" А,В, Чурляев
A43: составляется самим предприятием с соблюдением всех пунктов настоящей таблицы,

Sheet 32
B1: АО "Вологдаоблэнерго" | J1: код 900151 | N1: ПС Домозерово, ф, Починок
B2: наименование предприятия | N2: наименование источника питания
N3: КТП-Коттеджи
B4: ул, Горького, 99 | I4: Таблица № 1 | N4: КТП-118 (Горизонт)
B5: адрес
A6: почасовых записей показаний электрических счетчиков
A7: ='1'!A7:Q7 -> в режимный день 21 ИЮНЯ 2023 г.
A8: 1630 | B8: 1628
A9: часы суток | B9: Активная энергия | J9: Реактивная энергия
B10: =N3 -> КТП-Коттеджи | F10: =N4 -> КТП-118 (Горизонт) | J10: =B10 -> КТП-Коттеджи | N10: =F10 -> КТП-118 (Горизонт)
B11: Расчет, Коэф, | E11: 60 | F11: Расчет, Коэф, | I11: 80 | J11: Расчет, Коэф, | M11: =E11 -> 60 | N11: Расчет, Коэф, | Q11: =I11 -> 80
B12: показания счетчика | C12: разность | E12: расход эл,энергии за час | F12: показания счетчика | G12: разность | I12: расход эл,энергии за час | J12: показания счетчика | K12: разность | M12: расход эл,энергии за час | N12: показания счетчика | O12: разность | Q12: расход эл,энергии за час
A13: 1 | B13: 2 | C13: 3 | E13: 4 | F13: 5 | G13: 6 | I13: 7 | J13: 8 | K13: 9 | M13: 10 | N13: 11 | O13: 12 | Q13: 13
A14: 0
A15: 1 | E15: 8.496 | I15: 28.368 | M15: 0 | Q15: 0
A16: 2 | E16: 6.42 | I16: 24.976 | M16: 0 | Q16: 0
A17: 3 | E17: 7.416 | I17: 26.88 | M17: 0 | Q17: 0
A18: 4 | E18: 4.956 | I18: 22.32 | M18: 0 | Q18: 0
A19: 5 | E19: 9.036 | I19: 28.416 | M19: 0 | Q19: 0
A20: 6 | E20: 9.204 | I20: 22.464 | M20: 0 | Q20: 0
A21: 7 | E21: 5.904 | I21: 22.128 | M21: 0 | Q21: 0
A22: 8 | E22: 11.784 | I22: 19.888 | M22: 0 | Q22: 0
A23: 9 | E23: 8.64 | I23: 20.608 | M23: 0 | Q23: 0
A24: 10 | E24: 8.544 | I24: 32.656 | M24: 0 | Q24: 0
A25: 11 | E25: 13.956 | I25: 29.44 | M25: 0 | Q25: 0
A26: 12 | E26: 10.476 | I26: 22.16 | M26: 0 | Q26: 0
... A38: 24 | E38: 7.56 | I38: 28.928 | M38: 0 | Q38: 0
A39: Итого | E39: =SUM(E15:E38) -> 241.848 | I39: =SUM(I15:I38) -> 598.784 | M39: =SUM(M15:M38) -> 0 | Q39: =SUM(Q15:Q38) -> 0
A40: 1, При наличии на предприятии отклонений от нормальных режимов электропотребления (временное изменение схем питания, остановка на ремонт, резкое снижение
A41: эл,потребления и т,д,) последние необходимо перечислить,
A42: Главный инженер АО "Вологдаоблэнерго" А,В, Чурляев
A43: составляется самим предприятием с соблюдением всех пунктов настоящей таблицы,

Sheet 33
B1: АО "Вологдаоблэнерго" | J1: код 900151 | N1: ПС Домозерово, ф, Жары
B2: наименование предприятия | N2: наименование источника питания
N3: ТП-79
B4: ул, Горького, 99 | I4: Таблица № 1
B5: адрес
A6: почасовых записей показаний электрических счетчиков
A7: ='1'!A7:Q7 -> в режимный день 21 ИЮНЯ 2023 г.
A8: 1630 | B8: 1628
A9: часы суток | B9: Активная энергия | J9: Реактивная энергия
B10: =N3 -> ТП-79 | F10: =N4 -> 0 | J10: =B10 -> ТП-79 | N10: =F10 -> 0
B11: Расчет, Коэф, | E11: 40 | F11: Расчет, Коэф, | I11: 120 | J11: Расчет, Коэф, | M11: =E11 -> 40 | N11: Расчет, Коэф, | Q11: =I11 -> 120
B12: показания счетчика | C12: разность | E12: расход эл,энергии за час | F12: показания счетчика | G12: разность | I12: расход эл,энергии за час | J12: показания счетчика | K12: разность | M12: расход эл,энергии за час | N12: показания счетчика | O12: разность | Q12: расход эл,энергии за час
A13: 1 | B13: 2 | C13: 3 | E13: 4 | F13: 5 | G13: 6 | I13: 7 | J13: 8 | K13: 9 | M13: 10 | N13: 11 | O13: 12 | Q13: 13
A14: 0
A15: 1 | E15: 6.22 | M15: 0
A16: 2 | E16: 6.18 | M16: 0
A17: 3 | E17: 6.24 | M17: 0
A18: 4 | E18: 6.04 | M18: 0
A19: 5 | E19: 6.32 | M19: 0
A20: 6 | E20: 6.08 | M20: 0
A21: 7 | E21: 5.68 | M21: 0
A22: 8 | E22: 5.54 | M22: 0
A23: 9 | E23: 5.38 | M23: 0
A24: 10 | E24: 5.4 | M24: 0
A25: 11 | E25: 6.44 | M25: 0
A26: 12 | E26: 6.32 | M26: 0
... A38: 24 | E38: 9.66 | M38: 0
A39: Итого | E39: =SUM(E15:E38) -> 148.48 | I39: =SUM(I15:I38) -> 0 | M39: =SUM(M15:M38) -> 0 | Q39: =SUM(Q15:Q38) -> 0
A40: 1, При наличии на предприятии отклонений от нормальных режимов электропотребления (временное изменение схем питания, остановка на ремонт, резкое снижение
A41: эл,потребления и т,д,) последние необходимо перечислить,
A42: Главный инженер АО "Вологдаоблэнерго" А,В, Чурляев
A43: составляется самим предприятием с соблюдением всех пунктов настоящей таблицы,

Sheet 34
B1: АО "Вологдаоблэнерго" | J1: код 900151 | N1: ПС Батран, ф, Гоша
B2: наименование предприятия | N2: наименование источника питания
N3: ТП-72
B4: ул, Горького, 99 | I4: Таблица № 1 | N4: МТП Гоша-2
B5: адрес
A6: почасовых записей показаний электрических счетчиков
A7: ='1'!A7:Q7 -> в режимный день 21 ИЮНЯ 2023 г.
A8: 1630 | B8: 1628
A9: часы суток | B9: Активная энергия | J9: Реактивная энергия
B10: =N3 -> ТП-72 | F10: =N4 -> МТП Гоша-2 | J10: =B10 -> ТП-72 | N10: =F10 -> МТП Гоша-2
B11: Расчет, Коэф, | E11: 50 | F11: Расчет, Коэф, | I11: 20 | J11: Расчет, Коэф, | M11: =E11 -> 50 | N11: Расчет, Коэф, | Q11: =I11 -> 20
B12: показания счетчика | C12: разность | E12: расход эл,энергии за час | F12: показания счетчика | G12: разность | I12: расход эл,энергии за час | J12: показания счетчика | K12: разность | M12: расход эл,энергии за час | N12: показания счетчика | O12: разность | Q12: расход эл,энергии за час
A13: 1 | B13: 2 | C13: 3 | E13: 4 | F13: 5 | G13: 6 | I13: 7 | J13: 8 | K13: 9 | M13: 10 | N13: 11 | O13: 12 | Q13: 13
A14: 0
A15: 1 | E15: 6.525 | I15: 0 | M15: 0 | Q15: 0
A16: 2 | E16: 7.3 | I16: 0 | M16: 0 | Q16: 0
A17: 3 | E17: 3.925 | I17: 0 | M17: 0 | Q17: 0
A18: 4 | E18: 4.925 | I18: 0 | M18: 0 | Q18: 0
A19: 5 | E19: 7.15 | I19: 0 | M19: 0 | Q19: 0
A20: 6 | E20: 6.025 | I20: 0 | M20: 0 | Q20: 0
A21: 7 | E21: 4.075 | I21: 0 | M21: 0 | Q21: 0
A22: 8 | E22: 6.1 | I22: 0 | M22: 0 | Q22: 0
A23: 9 | E23: 7.8 | I23: 0 | M23: 0 | Q23: 0
A24: 10 | E24: 5.1 | I24: 0 | M24: 0 | Q24: 0
A25: 11 | E25: 5.25 | I25: 0 | M25: 0 | Q25: 0
A26: 12 | E26: 5.825 | I26: 0 | M26: 0 | Q26: 0
... A38: 24 | E38: 5.1 | I38: 0 | M38: 0 | Q38: 0
A39: Итого | E39: =SUM(E15:E38) -> 133.825 | I39: =SUM(I15:I38) -> 0 | M39: =SUM(M15:M38) -> 0 | Q39: =SUM(Q15:Q38) -> 0
A40: 1, При наличии на предприятии отклонений от нормальных режимов электропотребления (временное изменение схем питания, остановка на ремонт, резкое снижение
A41: эл,потребления и т,д,) последние необходимо перечислить,
A42: Главный инженер АО "Вологдаоблэнерго" А,В, Чурляев
A43: составляется самим предприятием с соблюдением всех пунктов настоящей таблицы,

Sheet 35
B1: АО "Вологдаоблэнерго" | J1: код 900151 | N1: ПС Южная, ф, Матинга
B2: наименование предприятия | N2: наименование источника питания
N3: ТП-55
B4: ул, Горького, 99 | I4: Таблица № 1
B5: адрес
A6: почасовых записей показаний электрических счетчиков
A7: ='1'!A7:Q7 -> в режимный день 21 ИЮНЯ 2023 г.
A8: 1630 | B8: 1628
A9: часы суток | B9: Активная энергия | J9: Реактивная энергия
B10: =N3 -> ТП-55 | F10: =N4 -> 0 | J10: =B10 -> ТП-55 | N10: =F10 -> 0
B11: Расчет, Коэф, | E11: 30 | F11: Расчет, Коэф, | I11: 120 | J11: Расчет, Коэф, | M11: =E11 -> 30 | N11: Расчет, Коэф, | Q11: =I11 -> 120
B12: показания счетчика | C12: разность | E12: расход эл,энергии за час | F12: показания счетчика | G12: разность | I12: расход эл,энергии за час | J12: показания счетчика | K12: разность | M12: расход эл,энергии за час | N12: показания счетчика | O12: разность | Q12: расход эл,энергии за час
A13: 1 | B13: 2 | C13: 3 | E13: 4 | F13: 5 | G13: 6 | I13: 7 | J13: 8 | K13: 9 | M13: 10 | N13: 11 | O13: 12 | Q13: 13
A14: 0
A15: 1 | E15: 3.39 | M15: 0
A16: 2 | E16: 3.03 | M16: 0
A17: 3 | E17: 2.715 | M17: 0
A18: 4 | E18: 2.13 | M18: 0
A19: 5 | E19: 1.68 | M19: 0
A20: 6 | E20: 1.59 | M20: 0
A21: 7 | E21: 2.715 | M21: 0
A22: 8 | E22: 3.075 | M22: 0
A23: 9 | E23: 2.235 | M23: 0
A24: 10 | E24: 5.19 | M24: 0
A25: 11 | E25: 3.075 | M25: 0
A26: 12 | E26: 5.61 | M26: 0
... A38: 24 | E38: 7.605 | M38: 0
A39: Итого | E39: =SUM(E15:E38) -> 88.185 | I39: =SUM(I15:I38) -> 0 | M39: =SUM(M15:M38) -> 0 | Q39: =SUM(Q15:Q38) -> 0
A40: 1, При наличии на предприятии отклонений от нормальных режимов электропотребления (временное изменение схем питания, остановка на ремонт, резкое снижение
A41: эл,потребления и т,д,) последние необходимо перечислить,
A42: Главный инженер АО "Вологдаоблэнерго" А,В, Чурляев
A43: составляется самим предприятием с соблюдением всех пунктов настоящей таблицы,

Sheet 36
B1: АО "Вологдаоблэнерго" | J1: код 900151 | N1: ПС Ирдоматка, ф, Ирдоматка-1
B2: наименование предприятия | N2: наименование источника питания
N3: ТП-25
B4: ул, Горького, 99 | I4: Таблица № 1 | N4: ТП-80
B5: адрес
A6: почасовых записей показаний электрических счетчиков
A7: ='1'!A7:Q7 -> в режимный день 21 ИЮНЯ 2023 г.
A8: 1630 | B8: 1628
A9: часы суток | B9: Активная энергия | J9: Реактивная энергия
B10: =N3 -> ТП-25 | F10: =N4 -> ТП-80 | J10: =B10 -> ТП-25 | N10: =F10 -> ТП-80
B11: Расчет, Коэф, | E11: 20 | F11: Расчет, Коэф, | I11: 40 | J11: Расчет, Коэф, | M11: =E11 -> 20 | N11: Расчет, Коэф, | Q11: =I11 -> 40
B12: показания счетчика | C12: разность | E12: расход эл,энергии за час | F12: показания счетчика | G12: разность | I12: расход эл,энергии за час | J12: показания счетчика | K12: разность | M12: расход эл,энергии за час | N12: показания счетчика | O12: разность | Q12: расход эл,энергии за час
A13: 1 | B13: 2 | C13: 3 | E13: 4 | F13: 5 | G13: 6 | I13: 7 | J13: 8 | K13: 9 | M13: 10 | N13: 11 | O13: 12 | Q13: 13
A14: 0
A15: 1 | E15: 10.3 | I15: 30.62 | M15: 0 | Q15: 0
A16: 2 | E16: 10.24 | I16: 29.72 | M16: 0 | Q16: 0
A17: 3 | E17: 9.76 | I17: 30.86 | M17: 0 | Q17: 0
A18: 4 | E18: 9.62 | I18: 28.08 | M18: 0 | Q18: 0
A19: 5 | E19: 7.56 | I19: 31.38 | M19: 0 | Q19: 0
A20: 6 | E20: 7 | I20: 36.28 | M20: 0 | Q20: 0
A21: 7 | E21: 10 | I21: 42.9 | M21: 0 | Q21: 0
A22: 8 | E22: 10.32 | I22: 44.2 | M22: 0 | Q22: 0
A23: 9 | E23: 10.32 | I23: 43.16 | M23: 0 | Q23: 0
A24: 10 | E24: 14.88 | I24: 44.44 | M24: 0 | Q24: 0
A25: 11 | E25: 10.6 | I25: 42.86 | M25: 0 | Q25: 0
A26: 12 | E26: 10.3 | I26: 41.32 | M26: 0 | Q26: 0
... A38: 24 | E38: 18.36 | I38: 37.42 | M38: 0 | Q38: 0
A39: Итого | E39: =SUM(E15:E38) -> 254.08 | I39: =SUM(I15:I38) -> 998.92 | M39: =SUM(M15:M38) -> 0 | Q39: =SUM(Q15:Q38) -> 0
A40: 1, При наличии на предприятии отклонений от нормальных режимов электропотребления (временное изменение схем питания, остановка на ремонт, резкое снижение
A41: эл,потребления и т,д,) последние необходимо перечислить,
A42: Главный инженер АО "Вологдаоблэнерго" А,В, Чурляев
A43: составляется самим предприятием с соблюдением всех пунктов настоящей таблицы,

Sheet 37
B1: АО "Вологдаоблэнерго" | J1: код 900151 | N1: ПС Ирдоматка, ф, Ирдоматка-1
B2: наименование предприятия | N2: наименование источника питания
N3: ТП-209 Тепловая
B4: ул, Горького, 99 | I4: Таблица № 1 | N4: КТП-210 Ирдоматка
B5: адрес
A6: почасовых записей показаний электрических счетчиков
A7: ='1'!A7:Q7 -> в режимный день 21 ИЮНЯ 2023 г.
A8: 1630 | B8: 1628
A9: часы суток | B9: Активная энергия | J9: Реактивная энергия
B10: =N3 -> ТП-209 Тепловая | F10: =N4 -> КТП-210 Ирдоматка | J10: =B10 -> ТП-209 Тепловая | N10: =F10 -> КТП-210 Ирдоматка
B11: Расчет, Коэф, | E11: 80 | F11: Расчет, Коэф, | I11: 80 | J11: Расчет, Коэф, | M11: =E11 -> 80 | N11: Расчет, Коэф, | Q11: =I11 -> 80
B12: показания счетчика | C12: разность | E12: расход эл,энергии за час | F12: показания счетчика | G12: разность | I12: расход эл,энергии за час | J12: показания счетчика | K12: разность | M12: расход эл,энергии за час | N12: показания счетчика | O12: разность | Q12: расход эл,энергии за час
A13: 1 | B13: 2 | C13: 3 | E13: 4 | F13: 5 | G13: 6 | I13: 7 | J13: 8 | K13: 9 | M13: 10 | N13: 11 | O13: 12 | Q13: 13
A14: 0
A15: 1 | E15: 20.32 | I15: 14.64 | M15: 0 | Q15: 0
A16: 2 | E16: 18.8 | I16: 12.64 | M16: 0 | Q16: 0
A17: 3 | E17: 16.96 | I17: 9.68 | M17: 0 | Q17: 0
A18: 4 | E18: 15.12 | I18: 7.96 | M18: 0 | Q18: 0
A19: 5 | E19: 15.12 | I19: 9.68 | M19: 0 | Q19: 0
A20: 6 | E20: 16.48 | I20: 9.64 | M20: 0 | Q20: 0
A21: 7 | E21: 28.8 | I21: 14.12 | M21: 0 | Q21: 0
A22: 8 | E22: 28.24 | I22: 21.8 | M22: 0 | Q22: 0
A23: 9 | E23: 34.4 | I23: 19.88 | M23: 0 | Q23: 0
A24: 10 | E24: 36.48 | I24: 18.6 | M24: 0 | Q24: 0
A25: 11 | E25: 39.84 | I25: 18.64 | M25: 0 | Q25: 0
A26: 12 | E26: 44.16 | I26: 20.44 | M26: 0 | Q26: 0
... A38: 24 | E38: 22.96 | I38: 16.12 | M38: 0 | Q38: 0
A39: Итого | E39: =SUM(E15:E38) -> 770.08 | I39: =SUM(I15:I38) -> 434.04 | M39: =SUM(M15:M38) -> 0 | Q39: =SUM(Q15:Q38) -> 0
A40: 1, При наличии на предприятии отклонений от нормальных режимов электропотребления (временное изменение схем питания, остановка на ремонт, резкое снижение
A41: эл,потребления и т,д,) последние необходимо перечислить,
A42: Главный инженер АО "Вологдаоблэнерго" А,В, Чурляев
A43: составляется самим предприятием с соблюдением всех пунктов настоящей таблицы,

Sheet 38
B1: АО "Вологдаоблэнерго" | J1: код 900151 | N1: ПС Ирдоматка ф,Даргун
B2: наименование предприятия | N2: наименование источника питания
N3: ТП-113
B4: ул, Горького, 99 | I4: Таблица № 1
B5: адрес
A6: почасовых записей показаний электрических счетчиков
A7: ='1'!A7:Q7 -> в режимный день 21 ИЮНЯ 2023 г.
A8: 1630 | B8: 1628
A9: часы суток | B9: Активная энергия | J9: Реактивная энергия
B10: =N3 -> ТП-113 | F10: =N4 -> 0 | J10: =B10 -> ТП-113 | N10: =F10 -> 0
B11: Расчет, Коэф, | E11: 80 | F11: Расчет, Коэф, | I11: 120 | J11: Расчет, Коэф, | M11: =E11 -> 80 | N11: Расчет, Коэф, | Q11: =I11 -> 120
B12: показания счетчика | C12: разность | E12: расход эл,энергии за час | F12: показания счетчика | G12: разность | I12: расход эл,энергии за час | J12: показания счетчика | K12: разность | M12: расход эл,энергии за час | N12: показания счетчика | O12: разность | Q12: расход эл,энергии за час
A13: 1 | B13: 2 | C13: 3 | E13: 4 | F13: 5 | G13: 6 | I13: 7 | J13: 8 | K13: 9 | M13: 10 | N13: 11 | O13: 12 | Q13: 13
A14: 0
A15: 1 | E15: 0 | M15: 0
A16: 2 | E16: 0 | M16: 0
A17: 3 | E17: 0 | M17: 0
A18: 4 | E18: 0 | M18: 0
A19: 5 | E19: 0 | M19: 0
A20: 6 | E20: 0 | M20: 0
A21: 7 | E21: 0 | M21: 0
A22: 8 | E22: 0 | M22: 0
A23: 9 | E23: 0 | M23: 0
A24: 10 | E24: 0 | M24: 0
A25: 11 | E25: 0 | M25: 0
A26: 12 | E26: 0 | M26: 0
... A38: 24 | E38: 0 | M38: 0
A39: Итого | E39: =SUM(E15:E38) -> 0 | I39: =SUM(I15:I38) -> 0 | M39: =SUM(M15:M38) -> 0 | Q39: =SUM(Q15:Q38) -> 0
A40: 1, При наличии на предприятии отклонений от нормальных режимов электропотребления (временное изменение схем питания, остановка на ремонт, резкое снижение
A41: эл,потребления и т,д,) последние необходимо перечислить,
A42: Главный инженер АО "Вологдаоблэнерго" А,В, Чурляев
A43: составляется самим предприятием с соблюдением всех пунктов настоящей таблицы,

Sheet 39
B1: АО "Вологдаоблэнерго" | J1: код 900151 | N1: ПС Ирдоматка, ф, Ирдоматка-1
B2: наименование предприятия | N2: наименование источника питания
N3: КТП-400 Дачи "Пулово Борисово"
B4: ул, Горького, 99 | I4: Таблица № 1
B5: адрес
A6: почасовых записей показаний электрических счетчиков
A7: ='1'!A7:Q7 -> в режимный день 21 ИЮНЯ 2023 г.
A8: 1630 | B8: 1628
A9: часы суток | B9: Активная энергия | J9: Реактивная энергия
B10: =N3 -> КТП-400 Дачи "Пулово Борисово" | F10: =N4 -> 0 | J10: =B10 -> КТП-400 Дачи "Пулово Борисово" | N10: =F10 -> 0
B11: Расчет, Коэф, | E11: 60 | F11: Расчет, Коэф, | I11: 120 | J11: Расчет, Коэф, | M11: =E11 -> 60 | N11: Расчет, Коэф, | Q11: =I11 -> 120
B12: показания счетчика | C12: разность | E12: расход эл,энергии за час | F12: показания счетчика | G12: разность | I12: расход эл,энергии за час | J12: показания счетчика | K12: разность | M12: расход эл,энергии за час | N12: показания счетчика | O12: разность | Q12: расход эл,энергии за час
A13: 1 | B13: 2 | C13: 3 | E13: 4 | F13: 5 | G13: 6 | I13: 7 | J13: 8 | K13: 9 | M13: 10 | N13: 11 | O13: 12 | Q13: 13
A14: 0
A15: 1 | E15: 0 | M15: 0
A16: 2 | E16: 0 | M16: 0
A17: 3 | E17: 0 | M17: 0
A18: 4 | E18: 0 | M18: 0
A19: 5 | E19: 0 | M19: 0
A20: 6 | E20: 0 | M20: 0
A21: 7 | E21: 0 | M21: 0
A22: 8 | E22: 0 | M22: 0
A23: 9 | E23: 0 | M23: 0
A24: 10 | E24: 0 | M24: 0
A25: 11 | E25: 0 | M25: 0
A26: 12 | E26: 0 | M26: 0
... A38: 24 | E38: 0 | M38: 0
A39: Итого | E39: =SUM(E15:E38) -> 0 | I39: =SUM(I15:I38) -> 0 | M39: =SUM(M15:M38) -> 0 | Q39: =SUM(Q15:Q38) -> 0
A40: 1, При наличии на предприятии отклонений от нормальных режимов электропотребления (временное изменение схем питания, остановка на ремонт, резкое снижение
A41: эл,потребления и т,д,) последние необходимо перечислить,
A42: Главный инженер АО "Вологдаоблэнерго" А,В, Чурляев
A43: составляется самим предприятием с соблюдением всех пунктов настоящей таблицы,

Sheet 40
B1: АО "Вологдаоблэнерго" | J1: код 900151 | N1: ПС Абакаеово ф, Осеевская
B2: наименование предприятия | N2: наименование источника питания
N3: ТП-Лесопильных цех (д,Заручьевье)
B4: ул, Горького, 99 | I4: Таблица № 1
B5: адрес
A6: почасовых записей показаний электрических счетчиков
A7: ='1'!A7:Q7 -> в режимный день 21 ИЮНЯ 2023 г.
A8: 1630 | B8: 1628
A9: часы суток | B9: Активная энергия | J9: Реактивная энергия
B10: =N3 -> ТП-Лесопильных цех (д,Заручьевье) | F10: =N4 -> 0 | J10: =B10 -> ТП-Лесопильных цех (д,Заручьевье) | N10: =F10 -> 0
B11: Расчет, Коэф, | E11: 30 | F11: Расчет, Коэф, | I11: 120 | J11: Расчет, Коэф, | M11: =E11 -> 30 | N11: Расчет, Коэф, | Q11: =I11 -> 120
B12: показания счетчика | C12: разность | E12: расход эл,энергии за час | F12: показания счетчика | G12: разность | I12: расход эл,энергии за час | J12: показания счетчика | K12: разность | M12: расход эл,энергии за час | N12: показания счетчика | O12: разность | Q12: расход эл,энергии за час
A13: 1 | B13: 2 | C13: 3 | E13: 4 | F13: 5 | G13: 6 | I13: 7 | J13: 8 | K13: 9 | M13: 10 | N13: 11 | O13: 12 | Q13: 13
A14: 0
A15: 1 | E15: 0.195 | M15: 0
A16: 2 | E16: 0.165 | M16: 0
A17: 3 | E17: 0.165 | M17: 0
A18: 4 | E18: 0.15 | M18: 0
A19: 5 | E19: 0.15 | M19: 0
A20: 6 | E20: 0.51 | M20: 0
A21: 7 | E21: 1.425 | M21: 0
A22: 8 | E22: 11.325 | M22: 0
A23: 9 | E23: 12.285 | M23: 0
A24: 10 | E24: 9.765 | M24: 0
A25: 11 | E25: 11.52 | M25: 0
A26: 12 | E26: 9.885 | M26: 0
... A38: 24 | E38: 0.435 | M38: 0
A39: Итого | E39: =SUM(E15:E38) -> 97.05 | I39: =SUM(I15:I38) -> 0 | M39: =SUM(M15:M38) -> 0 | Q39: =SUM(Q15:Q38) -> 0
A40: 1, При наличии на предприятии отклонений от нормальных режимов электропотребления (временное изменение схем питания, остановка на ремонт, резкое снижение
A41: эл,потребления и т,д,) последние необходимо перечислить,
A42: Главный инженер АО "Вологдаоблэнерго" А,В, Чурляев
A43: составляется самим предприятием с соблюдением всех пунктов настоящей таблицы,

Sheet 41
B1: АО "Вологдаоблэнерго" | J1: код 900151 | N1: ПС Новые Углы ф, Кораблево
B2: наименование предприятия | N2: наименование источника питания
N3: ТП-3 Общежитие В-1
B4: ул, Горького, 99 | I4: Таблица № 1 | N4: ТП-3 Общежитие В-2
B5: адрес
A6: почасовых записей показаний электрических счетчиков
A7: ='1'!A7:Q7 -> в режимный день 21 ИЮНЯ 2023 г.
A8: 1630 | B8: 1628
A9: часы суток | B9: Активная энергия | J9: Реактивная энергия
B10: =N3 -> ТП-3 Общежитие В-1 | F10: =N4 -> ТП-3 Общежитие В-2 | J10: =B10 -> ТП-3 Общежитие В-1 | N10: =F10 -> ТП-3 Общежитие В-2
B11: Расчет, Коэф, | E11: 60 | F11: Расчет, Коэф, | I11: 60 | J11: Расчет, Коэф, | M11: =E11 -> 60 | N11: Расчет, Коэф, | Q11: =I11 -> 60
B12: показания счетчика | C12: разность | E12: расход эл,энергии за час | F12: показания счетчика | G12: разность | I12: расход эл,энергии за час | J12: показания счетчика | K12: разность | M12: расход эл,энергии за час | N12: показания счетчика | O12: разность | Q12: расход эл,энергии за час
A13: 1 | B13: 2 | C13: 3 | E13: 4 | F13: 5 | G13: 6 | I13: 7 | J13: 8 | K13: 9 | M13: 10 | N13: 11 | O13: 12 | Q13: 13
A14: 0
A15: 1 | E15: 0 | I15: 21.18 | M15: 0 | Q15: 0
A16: 2 | E16: 0 | I16: 19.464 | M16: 0 | Q16: 0
A17: 3 | E17: 0 | I17: 16.236 | M17: 0 | Q17: 0
A18: 4 | E18: 0 | I18: 14.976 | M18: 0 | Q18: 0
A19: 5 | E19: 0 | I19: 13.932 | M19: 0 | Q19: 0
A20: 6 | E20: 0 | I20: 13.896 | M20: 0 | Q20: 0
A21: 7 | E21: 0 | I21: 22.512 | M21: 0 | Q21: 0
A22: 8 | E22: 0 | I22: 23.1 | M22: 0 | Q22: 0
A23: 9 | E23: 0 | I23: 22.056 | M23: 0 | Q23: 0
A24: 10 | E24: 0 | I24: 21.708 | M24: 0 | Q24: 0
A25: 11 | E25: 0 | I25: 20.604 | M25: 0 | Q25: 0
A26: 12 | E26: 0 | I26: 19.908 | M26: 0 | Q26: 0
... A38: 24 | E38: 0 | I38: 25.764 | M38: 0 | Q38: 0
A39: Итого | E39: =SUM(E15:E38) -> 0 | I39: =SUM(I15:I38) -> 527.304 | M39: =SUM(M15:M38) -> 0 | Q39: =SUM(Q15:Q38) -> 0
A40: 1, При наличии на предприятии отклонений от нормальных режимов электропотребления (временное изменение схем питания, остановка на ремонт, резкое снижение
A41: эл,потребления и т,д,) последние необходимо перечислить,
A42: Главный инженер АО "Вологдаоблэнерго" А,В, Чурляев
A43: составляется самим предприятием с соблюдением всех пунктов настоящей таблицы,

Sheet 42
B1: АО "Вологдаоблэнерго" | J1: код 900151 | N1: ПС Новые Углы ф, Кораблево
B2: наименование предприятия | N2: наименование источника питания
N3: ТП-2 Училище В-1
B4: ул, Горького, 99 | I4: Таблица № 1 | N4: ТП-2 Училище В-2
B5: адрес
A6: почасовых записей показаний электрических счетчиков
A7: ='1'!A7:Q7 -> в режимный день 21 ИЮНЯ 2023 г.
A8: 1630 | B8: 1628
A9: часы суток | B9: Активная энергия | J9: Реактивная энергия
B10: =N3 -> ТП-2 Училище В-1 | F10: =N4 -> ТП-2 Училище В-2 | J10: =B10 -> ТП-2 Училище В-1 | N10: =F10 -> ТП-2 Училище В-2
B11: Расчет, Коэф, | E11: 80 | F11: Расчет, Коэф, | I11: 80 | J11: Расчет, Коэф, | M11: =E11 -> 80 | N11: Расчет, Коэф, | Q11: =I11 -> 80
B12: показания счетчика | C12: разность | E12: расход эл,энергии за час | F12: показания счетчика | G12: разность | I12: расход эл,энергии за час | J12: показания счетчика | K12: разность | M12: расход эл,энергии за час | N12: показания счетчика | O12: разность | Q12: расход эл,энергии за час
A13: 1 | B13: 2 | C13: 3 | E13: 4 | F13: 5 | G13: 6 | I13: 7 | J13: 8 | K13: 9 | M13: 10 | N13: 11 | O13: 12 | Q13: 13
A14: 0
A15: 1 | E15: 17.632 | I15: 5.104 | M15: 0 | Q15: 0
A16: 2 | E16: 17.744 | I16: 5.392 | M16: 0 | Q16: 0
A17: 3 | E17: 17.776 | I17: 4.24 | M17: 0 | Q17: 0
A18: 4 | E18: 17.68 | I18: 3.344 | M18: 0 | Q18: 0
A19: 5 | E19: 17.488 | I19: 4.528 | M19: 0 | Q19: 0
A20: 6 | E20: 17.552 | I20: 3.664 | M20: 0 | Q20: 0
A21: 7 | E21: 17.44 | I21: 4.944 | M21: 0 | Q21: 0
A22: 8 | E22: 27.376 | I22: 4.96 | M22: 0 | Q22: 0
A23: 9 | E23: 28.016 | I23: 5.52 | M23: 0 | Q23: 0
A24: 10 | E24: 29.616 | I24: 5.952 | M24: 0 | Q24: 0
A25: 11 | E25: 23.104 | I25: 6.704 | M25: 0 | Q25: 0
A26: 12 | E26: 22.656 | I26: 9.28 | M26: 0 | Q26: 0
... A38: 24 | E38: 17.584 | I38: 5.76 | M38: 0 | Q38: 0
A39: Итого | E39: =SUM(E15:E38) -> 480.672 | I39: =SUM(I15:I38) -> 147.136 | M39: =SUM(M15:M38) -> 0 | Q39: =SUM(Q15:Q38) -> 0
A40: 1, При наличии на предприятии отклонений от нормальных режимов электропотребления (временное изменение схем питания, остановка на ремонт, резкое снижение
A41: эл,потребления и т,д,) последние необходимо перечислить,
A42: Главный инженер АО "Вологдаоблэнерго" А,В, Чурляев
A43: составляется самим предприятием с соблюдением всех пунктов настоящей таблицы,

Sheet 43
B1: АО "Вологдаоблэнерго" | J1: код 900151 | N1: ПС Новые Углы ф, Кораблево
B2: наименование предприятия | N2: наименование источника питания
N3: ТП-222 В-1
B4: ул, Горького, 99 | I4: Таблица № 1 | N4: ТП-222 В-2
B5: адрес
A6: почасовых записей показаний электрических счетчиков
A7: ='1'!A7:Q7 -> в режимный день 21 ИЮНЯ 2023 г.
A8: 1630 | B8: 1628
A9: часы суток | B9: Активная энергия | J9: Реактивная энергия
B10: =N3 -> ТП-222 В-1 | F10: =N4 -> ТП-222 В-2 | J10: =B10 -> ТП-222 В-1 | N10: =F10 -> ТП-222 В-2
B11: Расчет, Коэф, | E11: 120 | F11: Расчет, Коэф, | I11: 120 | J11: Расчет, Коэф, | M11: =E11 -> 120 | N11: Расчет, Коэф, | Q11: =I11 -> 120
B12: показания счетчика | C12: разность | E12: расход эл,энергии за час | F12: показания счетчика | G12: разность | I12: расход эл,энергии за час | J12: показания счетчика | K12: разность | M12: расход эл,энергии за час | N12: показания счетчика | O12: разность | Q12: расход эл,энергии за час
A13: 1 | B13: 2 | C13: 3 | E13: 4 | F13: 5 | G13: 6 | I13: 7 | J13: 8 | K13: 9 | M13: 10 | N13: 11 | O13: 12 | Q13: 13
A14: 0
A15: 1 | E15: 8.16 | I15: 22.56 | M15: 0 | Q15: 0
A16: 2 | E16: 7.56 | I16: 21.6 | M16: 0 | Q16: 0
A17: 3 | E17: 7.68 | I17: 20.52 | M17: 0 | Q17: 0
A18: 4 | E18: 7.56 | I18: 21.84 | M18: 0 | Q18: 0
A19: 5 | E19: 8.64 | I19: 22.44 | M19: 0 | Q19: 0
A20: 6 | E20: 20.88 | I20: 26.4 | M20: 0 | Q20: 0
A21: 7 | E21: 19.56 | I21: 29.04 | M21: 0 | Q21: 0
A22: 8 | E22: 16.08 | I22: 35.64 | M22: 0 | Q22: 0
A23: 9 | E23: 15.72 | I23: 34.92 | M23: 0 | Q23: 0
A24: 10 | E24: 15.12 | I24: 35.64 | M24: 0 | Q24: 0
A25: 11 | E25: 15.12 | I25: 36.12 | M25: 0 | Q25: 0
A26: 12 | E26: 14.04 | I26: 29.52 | M26: 0 | Q26: 0
... A38: 24 | E38: 10.56 | I38: 28.68 | M38: 0 | Q38: 0
A39: Итого | E39: =SUM(E15:E38) -> 283.92 | I39: =SUM(I15:I38) -> 792.6 | M39: =SUM(M15:M38) -> 0 | Q39: =SUM(Q15:Q38) -> 0
A40: 1, При наличии на предприятии отклонений от нормальных режимов электропотребления (временное изменение схем питания, остановка на ремонт, резкое снижение
A41: эл,потребления и т,д,) последние необходимо перечислить,
A42: Главный инженер АО "Вологдаоблэнерго" А,В, Чурляев
A43: составляется самим предприятием с соблюдением всех пунктов настоящей таблицы,

Sheet 44
B1: АО "Вологдаоблэнерго" | J1: код 900151 | N1: ПС Новые Углы ф, Кораблево
B2: наименование предприятия | N2: наименование источника питания
N3: ТП-Шухободь Жилзона В-1
B4: ул, Горького, 99 | I4: Таблица № 1 | N4: ТП-Шухободь Жилзона В-2
B5: адрес
A6: почасовых записей показаний электрических счетчиков
A7: ='1'!A7:Q7 -> в режимный день 21 ИЮНЯ 2023 г.
A8: 1630 | B8: 1628
A9: часы суток | B9: Активная энергия | J9: Реактивная энергия
B10: =N3 -> ТП-Шухободь Жилзона В-1 | F10: =N4 -> ТП-Шухободь Жилзона В-2 | J10: =B10 -> ТП-Шухободь Жилзона В-1 | N10: =F10 -> ТП-Шухободь Жилзона В-2
B11: Расчет, Коэф, | E11: 80 | F11: Расчет, Коэф, | I11: 80 | J11: Расчет, Коэф, | M11: =E11 -> 80 | N11: Расчет, Коэф, | Q11: =I11 -> 80
B12: показания счетчика | C12: разность | E12: расход эл,энергии за час | F12: показания счетчика | G12: разность | I12: расход эл,энергии за час | J12: показания счетчика | K12: разность | M12: расход эл,энергии за час | N12: показания счетчика | O12: разность | Q12: расход эл,энергии за час
A13: 1 | B13: 2 | C13: 3 | E13: 4 | F13: 5 | G13: 6 | I13: 7 | J13: 8 | K13: 9 | M13: 10 | N13: 11 | O13: 12 | Q13: 13
A14: 0
A15: 1 | E15: 37.84 | I15: 35.12 | M15: 0 | Q15: 0
A16: 2 | E16: 29.92 | I16: 31.12 | M16: 0 | Q16: 0
A17: 3 | E17: 30.08 | I17: 28.08 | M17: 0 | Q17: 0
A18: 4 | E18: 28.8 | I18: 28.24 | M18: 0 | Q18: 0
A19: 5 | E19: 29.92 | I19: 29.28 | M19: 0 | Q19: 0
A20: 6 | E20: 33.2 | I20: 33.2 | M20: 0 | Q20: 0
A21: 7 | E21: 37.92 | I21: 40 | M21: 0 | Q21: 0
A22: 8 | E22: 41.28 | I22: 48.8 | M22: 0 | Q22: 0
A23: 9 | E23: 43.2 | I23: 46.56 | M23: 0 | Q23: 0
A24: 10 | E24: 42.72 | I24: 40 | M24: 0 | Q24: 0
A25: 11 | E25: 42.4 | I25: 37.6 | M25: 0 | Q25: 0
A26: 12 | E26: 45.84 | I26: 36.48 | M26: 0 | Q26: 0
... A38: 24 | E38: 42.96 | I38: 38.96 | M38: 0 | Q38: 0
A39: Итого | E39: =SUM(E15:E38) -> 1024.4 | I39: =SUM(I15:I38) -> 1001.44 | M39: =SUM(M15:M38) -> 0 | Q39: =SUM(Q15:Q38) -> 0
A40: 1, При наличии на предприятии отклонений от нормальных режимов электропотребления (временное изменение схем питания, остановка на ремонт, резкое снижение
A41: эл,потребления и т,д,) последние необходимо перечислить,
A42: Главный инженер АО "Вологдаоблэнерго" А,В, Чурляев
A43: составляется самим предприятием с соблюдением всех пунктов настоящей таблицы,

Sheet 45
B1: АО "Вологдаоблэнерго" | J1: код 900151 | N1: ПС Новые Углы ф, Кораблево
B2: наименование предприятия | N2: наименование источника питания
N3: ТП-К-с Шухободь В-1
B4: ул, Горького, 99 | I4: Таблица № 1 | N4: ТП-К-с Шухободь В-2
B5: адрес
A6: почасовых записей показаний электрических счетчиков
A7: ='1'!A7:Q7 -> в режимный день 21 ИЮНЯ 2023 г.
A8: 1630 | B8: 1628
A9: часы суток | B9: Активная энергия | J9: Реактивная энергия
B10: =N3 -> ТП-К-с Шухободь В-1 | F10: =N4 -> ТП-К-с Шухободь В-2 | J10: =B10 -> ТП-К-с Шухободь В-1 | N10: =F10 -> ТП-К-с Шухободь В-2
B11: Расчет, Коэф, | E11: 120 | F11: Расчет, Коэф, | I11: 120 | J11: Расчет, Коэф, | M11: =E11 -> 120 | N11: Расчет, Коэф, | Q11: =I11 -> 120
B12: показания счетчика | C12: разность | E12: расход эл,энергии за час | F12: показания счетчика | G12: разность | I12: расход эл,энергии за час | J12: показания счетчика | K12: разность | M12: расход эл,энергии за час | N12: показания счетчика | O12: разность | Q12: расход эл,энергии за час
A13: 1 | B13: 2 | C13: 3 | E13: 4 | F13: 5 | G13: 6 | I13: 7 | J13: 8 | K13: 9 | M13: 10 | N13: 11 | O13: 12 | Q13: 13
A14: 0
A15: 1 | E15: 40.176 | I15: 0 | M15: 0 | Q15: 0
A16: 2 | E16: 37.536 | I16: 0 | M16: 0 | Q16: 0
A17: 3 | E17: 33.624 | I17: 0 | M17: 0 | Q17: 0
A18: 4 | E18: 37.368 | I18: 0 | M18: 0 | Q18: 0
A19: 5 | E19: 43.296 | I19: 0 | M19: 0 | Q19: 0
A20: 6 | E20: 72.864 | I20: 0 | M20: 0 | Q20: 0
A21: 7 | E21: 80.736 | I21: 0 | M21: 0 | Q21: 0
A22: 8 | E22: 83.688 | I22: 0 | M22: 0 | Q22: 0
A23: 9 | E23: 93.6 | I23: 0 | M23: 0 | Q23: 0
A24: 10 | E24: 76.872 | I24: 0 | M24: 0 | Q24: 0
A25: 11 | E25: 69.6 | I25: 0 | M25: 0 | Q25: 0
A26: 12 | E26: 42.648 | I26: 0 | M26: 0 | Q26: 0
... A38: 24 | E38: 36.624 | I38: 0 | M38: 0 | Q38: 0
A39: Итого | E39: =SUM(E15:E38) -> 1363.728 | I39: =SUM(I15:I38) -> 0 | M39: =SUM(M15:M38) -> 0 | Q39: =SUM(Q15:Q38) -> 0
A40: 1, При наличии на предприятии отклонений от нормальных режимов электропотребления (временное изменение схем питания, остановка на ремонт, резкое снижение
A41: эл,потребления и т,д,) последние необходимо перечислить,
A42: Главный инженер АО "Вологдаоблэнерго" А,В, Чурляев
A43: составляется самим предприятием с соблюдением всех пунктов настоящей таблицы,

Sheet 46
B1: АО "Вологдаоблэнерго" | J1: код 900151 | N1: ПС Абаканово, ф, Алексино
B2: наименование предприятия | N2: наименование источника питания
N3: ТП-Поселок (3,4 этажные дома)
B4: ул, Горького, 99 | I4: Таблица № 1 | N4: ТП-211
B5: адрес
A6: почасовых записей показаний электрических счетчиков
A7: ='1'!A7:Q7 -> в режимный день 21 ИЮНЯ 2023 г.
A8: 1630 | B8: 1628
A9: часы суток | B9: Активная энергия | J9: Реактивная энергия
B10: =N3 -> ТП-Поселок (3,4 этажные дома) | F10: =N4 -> ТП-211 | J10: =B10 -> ТП-Поселок (3,4 этажные дома) | N10: =F10 -> ТП-211
B11: Расчет, Коэф, | E11: 50 | F11: Расчет, Коэф, | I11: 80 | J11: Расчет, Коэф, | M11: =E11 -> 50 | N11: Расчет, Коэф, | Q11: =I11 -> 80
B12: показания счетчика | C12: разность | E12: расход эл,энергии за час | F12: показания счетчика | G12: разность | I12: расход эл,энергии за час | J12: показания счетчика | K12: разность | M12: расход эл,энергии за час | N12: показания счетчика | O12: разность | Q12: расход эл,энергии за час
A13: 1 | B13: 2 | C13: 3 | E13: 4 | F13: 5 | G13: 6 | I13: 7 | J13: 8 | K13: 9 | M13: 10 | N13: 11 | O13: 12 | Q13: 13
A14: 0
A15: 1 | E15: 42.7 | I15: 7.28 | M15: 0 | Q15: 0
A16: 2 | E16: 40.9 | I16: 6.56 | M16: 0 | Q16: 0
A17: 3 | E17: 39.2 | I17: 8.4 | M17: 0 | Q17: 0
A18: 4 | E18: 36.7 | I18: 6.56 | M18: 0 | Q18: 0
A19: 5 | E19: 38.2 | I19: 7.6 | M19: 0 | Q19: 0
A20: 6 | E20: 40.3 | I20: 19.52 | M20: 0 | Q20: 0
A21: 7 | E21: 44.3 | I21: 54.24 | M21: 0 | Q21: 0
A22: 8 | E22: 51.1 | I22: 64.08 | M22: 0 | Q22: 0
A23: 9 | E23: 56.4 | I23: 84.64 | M23: 0 | Q23: 0
A24: 10 | E24: 55.7 | I24: 90.72 | M24: 0 | Q24: 0
A25: 11 | E25: 52.25 | I25: 72.08 | M25: 0 | Q25: 0
A26: 12 | E26: 52.3 | I26: 66.64 | M26: 0 | Q26: 0
... A38: 24 | E38: 45.6 | I38: 10 | M38: 0 | Q38: 0
A39: Итого | E39: =SUM(E15:E38) -> 1233.45 | I39: =SUM(I15:I38) -> 772.88 | M39: =SUM(M15:M38) -> 0 | Q39: =SUM(Q15:Q38) -> 0
A40: 1, При наличии на предприятии отклонений от нормальных режимов электропотребления (временное изменение схем питания, остановка на ремонт, резкое снижение
A41: эл,потребления и т,д,) последние необходимо перечислить,
A42: Главный инженер АО "Вологдаоблэнерго" А,В, Чурляев
A43: составляется самим предприятием с соблюдением всех пунктов настоящей таблицы,

Sheet 47
B1: АО "Вологдаоблэнерго" | J1: код 900151 | N1: ПС Абаканово, ф, Алексино
B2: наименование предприятия | N2: наименование источника питания
N3: КТП "Мастерские" с, Абаканово
B4: ул, Горького, 99 | I4: Таблица № 1 | N4: ТП-242
B5: адрес
A6: почасовых записей показаний электрических счетчиков
A7: ='1'!A7:Q7 -> в режимный день 21 ИЮНЯ 2023 г.
A8: 1630 | B8: 1628
A9: часы суток | B9: Активная энергия | J9: Реактивная энергия
B10: =N3 -> КТП "Мастерские" с, Абаканово | F10: =N4 -> ТП-242 | J10: =B10 -> КТП "Мастерские" с, Абаканово | N10: =F10 -> ТП-242
B11: Расчет, Коэф, | E11: 40 | F11: Расчет, Коэф, | I11: 30 | J11: Расчет, Коэф, | M11: =E11 -> 40 | N11: Расчет, Коэф, | Q11: =I11 -> 30
B12: показания счетчика | C12: разность | E12: расход эл,энергии за час | F12: показания счетчика | G12: разность | I12: расход эл,энергии за час | J12: показания счетчика | K12: разность | M12: расход эл,энергии за час | N12: показания счетчика | O12: разность | Q12: расход эл,энергии за час
A13: 1 | B13: 2 | C13: 3 | E13: 4 | F13: 5 | G13: 6 | I13: 7 | J13: 8 | K13: 9 | M13: 10 | N13: 11 | O13: 12 | Q13: 13
A14: 0
A15: 1 | E15: 0 | I15: 1.125 | M15: 0 | Q15: 0
A16: 2 | E16: 0 | I16: 1.035 | M16: 0 | Q16: 0
A17: 3 | E17: 0 | I17: 0.945 | M17: 0 | Q17: 0
A18: 4 | E18: 0 | I18: 1.065 | M18: 0 | Q18: 0
A19: 5 | E19: 0 | I19: 1.035 | M19: 0 | Q19: 0
A20: 6 | E20: 0 | I20: 1.425 | M20: 0 | Q20: 0
A21: 7 | E21: 0 | I21: 1.05 | M21: 0 | Q21: 0
A22: 8 | E22: 0 | I22: 0.855 | M22: 0 | Q22: 0
A23: 9 | E23: 0 | I23: 1.08 | M23: 0 | Q23: 0
A24: 10 | E24: 0 | I24: 1.395 | M24: 0 | Q24: 0
A25: 11 | E25: 0 | I25: 2.325 | M25: 0 | Q25: 0
A26: 12 | E26: 0 | I26: 1.68 | M26: 0 | Q26: 0
... A38: 24 | E38: 0 | I38: 1.425 | M38: 0 | Q38: 0
A39: Итого | E39: =SUM(E15:E38) -> 0 | I39: =SUM(I15:I38) -> 37.95 | M39: =SUM(M15:M38) -> 0 | Q39: =SUM(Q15:Q38) -> 0
A40: 1, При наличии на предприятии отклонений от нормальных режимов электропотребления (временное изменение схем питания, остановка на ремонт, резкое снижение
A41: эл,потребления и т,д,) последние необходимо перечислить,
A42: Главный инженер АО "Вологдаоблэнерго" А,В, Чурляев
A43: составляется самим предприятием с соблюдением всех пунктов настоящей таблицы,

Sheet 48
B1: АО "Вологдаоблэнерго" | J1: код 900151 | N1: ПС Абаканово, ф, Слабеево
B2: наименование предприятия | N2: наименование источника питания
N3: ТП-249
B4: ул, Горького, 99 | I4: Таблица № 1
B5: адрес
A6: почасовых записей показаний электрических счетчиков
A7: ='1'!A7:Q7 -> в режимный день 21 ИЮНЯ 2023 г.
A8: 1630 | B8: 1628
A9: часы суток | B9: Активная энергия | J9: Реактивная энергия
B10: =N3 -> ТП-249 | F10: =N4 -> 0 | J10: =B10 -> ТП-249 | N10: =F10 -> 0
B11: Расчет, Коэф, | E11: 1 | F11: Расчет, Коэф, | I11: 120 | J11: Расчет, Коэф, | M11: =E11 -> 1 | N11: Расчет, Коэф, | Q11: =I11 -> 120
B12: показания счетчика | C12: разность | E12: расход эл,энергии за час | F12: показания счетчика | G12: разность | I12: расход эл,энергии за час | J12: показания счетчика | K12: разность | M12: расход эл,энергии за час | N12: показания счетчика | O12: разность | Q12: расход эл,энергии за час
A13: 1 | B13: 2 | C13: 3 | E13: 4 | F13: 5 | G13: 6 | I13: 7 | J13: 8 | K13: 9 | M13: 10 | N13: 11 | O13: 12 | Q13: 13
A14: 0
A15: 1 | E15: 0 | M15: 0
A16: 2 | E16: 0 | M16: 0
A17: 3 | E17: 0 | M17: 0
A18: 4 | E18: 0 | M18: 0
A19: 5 | E19: 0 | M19: 0
A20: 6 | E20: 0 | M20: 0
A21: 7 | E21: 0 | M21: 0
A22: 8 | E22: 0 | M22: 0
A23: 9 | E23: 0 | M23: 0
A24: 10 | E24: 0 | M24: 0
A25: 11 | E25: 0 | M25: 0
A26: 12 | E26: 0 | M26: 0
... A38: 24 | E38: 0 | M38: 0
A39: Итого | E39: =SUM(E15:E38) -> 0 | I39: =SUM(I15:I38) -> 0 | M39: =SUM(M15:M38) -> 0 | Q39: =SUM(Q15:Q38) -> 0
A40: 1, При наличии на предприятии отклонений от нормальных режимов электропотребления (временное изменение схем питания, остановка на ремонт, резкое снижение
A41: эл,потребления и т,д,) последние необходимо перечислить,
A42: Главный инженер АО "Вологдаоблэнерго" А,В, Чурляев
A43: составляется самим предприятием с соблюдением всех пунктов настоящей таблицы,

Sheet 49
B1: АО "Вологдаоблэнерго" | J1: код 900151 | N1: ПС Поповка, ф, Привалино
B2: наименование предприятия | N2: наименование источника питания
N3: КТП-Погорелка
B4: ул, Горького, 99 | I4: Таблица № 1 | N4: КТП-Хлебаево
B5: адрес
A6: почасовых записей показаний электрических счетчиков
A7: ='1'!A7:Q7 -> в режимный день 21 ИЮНЯ 2023 г.
A8: 1630 | B8: 1628
A9: часы суток | B9: Активная энергия | J9: Реактивная энергия
B10: =N3 -> КТП-Погорелка | F10: =N4 -> КТП-Хлебаево | J10: =B10 -> КТП-Погорелка | N10: =F10 -> КТП-Хлебаево
B11: Расчет, Коэф, | E11: 30 | F11: Расчет, Коэф, | I11: 30 | J11: Расчет, Коэф, | M11: =E11 -> 30 | N11: Расчет, Коэф, | Q11: =I11 -> 30
B12: показания счетчика | C12: разность | E12: расход эл,энергии за час | F12: показания счетчика | G12: разность | I12: расход эл,энергии за час | J12: показания счетчика | K12: разность | M12: расход эл,энергии за час | N12: показания счетчика | O12: разность | Q12: расход эл,энергии за час
A13: 1 | B13: 2 | C13: 3 | E13: 4 | F13: 5 | G13: 6 | I13: 7 | J13: 8 | K13: 9 | M13: 10 | N13: 11 | O13: 12 | Q13: 13
A14: 0
A15: 1 | E15: 0.24 | I15: 0 | M15: 0 | Q15: 0
A16: 2 | E16: 0.84 | I16: 0 | M16: 0 | Q16: 0
A17: 3 | E17: 0.84 | I17: 0 | M17: 0 | Q17: 0
A18: 4 | E18: 0.9 | I18: 0 | M18: 0 | Q18: 0
A19: 5 | E19: 0.84 | I19: 0 | M19: 0 | Q19: 0
A20: 6 | E20: 0.84 | I20: 0 | M20: 0 | Q20: 0
A21: 7 | E21: 0.84 | I21: 0 | M21: 0 | Q21: 0
A22: 8 | E22: 1.74 | I22: 0 | M22: 0 | Q22: 0
A23: 9 | E23: 3.9 | I23: 0 | M23: 0 | Q23: 0
A24: 10 | E24: 6.6 | I24: 0 | M24: 0 | Q24: 0
A25: 11 | E25: 6.9 | I25: 0 | M25: 0 | Q25: 0
A26: 12 | E26: 6.9 | I26: 0 | M26: 0 | Q26: 0
... A38: 24 | E38: 2.04 | I38: 0 | M38: 0 | Q38: 0
A39: Итого | E39: =SUM(E15:E38) -> 80.04 | I39: =SUM(I15:I38) -> 0 | M39: =SUM(M15:M38) -> 0 | Q39: =SUM(Q15:Q38) -> 0
A40: 1, При наличии на предприятии отклонений от нормальных режимов электропотребления (временное изменение схем питания, остановка на ремонт, резкое снижение
A41: эл,потребления и т,д,) последние необходимо перечислить,
A42: Главный инженер АО "Вологдаоблэнерго" А,В, Чурляев
A43: составляется самим предприятием с соблюдением всех пунктов настоящей таблицы,

Sheet 50
B1: АО "Вологдаоблэнерго" | J1: код 900151 | N1: ПС Поповка, ф, Привалино
B2: наименование предприятия | N2: наименование источника питания
N3: ТП-226
B4: ул, Горького, 99 | I4: Таблица № 1 | N4: ТП-257
B5: адрес
A6: почасовых записей показаний электрических счетчиков
A7: ='1'!A7:Q7 -> в режимный день 21 ИЮНЯ 2023 г.
A8: 1630 | B8: 1628
A9: часы суток | B9: Активная энергия | J9: Реактивная энергия
B10: =N3 -> ТП-226 | F10: =N4 -> ТП-257 | J10: =B10 -> ТП-226 | N10: =F10 -> ТП-257
B11: Расчет, Коэф, | E11: 30 | F11: Расчет, Коэф, | I11: 30 | J11: Расчет, Коэф, | M11: =E11 -> 30 | N11: Расчет, Коэф, | Q11: =I11 -> 30
B12: показания счетчика | C12: разность | E12: расход эл,энергии за час | F12: показания счетчика | G12: разность | I12: расход эл,энергии за час | J12: показания счетчика | K12: разность | M12: расход эл,энергии за час | N12: показания счетчика | O12: разность | Q12: расход эл,энергии за час
A13: 1 | B13: 2 | C13: 3 | E13: 4 | F13: 5 | G13: 6 | I13: 7 | J13: 8 | K13: 9 | M13: 10 | N13: 11 | O13: 12 | Q13: 13
A14: 0
A15: 1 | E15: 1.185 | I15: 0.37 | M15: 0 | Q15: 0
A16: 2 | E16: 1.68 | I16: 0.57 | M16: 0 | Q16: 0
A17: 3 | E17: 0.99 | I17: 0.5 | M17: 0 | Q17: 0
A18: 4 | E18: 2.655 | I18: 0.74 | M18: 0 | Q18: 0
A19: 5 | E19: 3 | I19: 0.94 | M19: 0 | Q19: 0
A20: 6 | E20: 2.67 | I20: 0.65 | M20: 0 | Q20: 0
A21: 7 | E21: 1.935 | I21: 0.28 | M21: 0 | Q21: 0
A22: 8 | E22: 1.665 | I22: 0.31 | M22: 0 | Q22: 0
A23: 9 | E23: 2.73 | I23: 0.26 | M23: 0 | Q23: 0
A24: 10 | E24: 2.16 | I24: 0.22 | M24: 0 | Q24: 0
A25: 11 | E25: 2.085 | I25: 0 | M25: 0 | Q25: 0
A26: 12 | E26: 1.215 | I26: 0 | M26: 0 | Q26: 0
... A38: 24 | E38: 4.245 | I38: 0.41 | M38: 0 | Q38: 0
A39: Итого | E39: =SUM(E15:E38) -> 66.9 | I39: =SUM(I15:I38) -> 11.89 | M39: =SUM(M15:M38) -> 0 | Q39: =SUM(Q15:Q38) -> 0
A40: 1, При наличии на предприятии отклонений от нормальных режимов электропотребления (временное изменение схем питания, остановка на ремонт, резкое снижение
A41: эл,потребления и т,д,) последние необходимо перечислить,
A42: Главный инженер АО "Вологдаоблэнерго" А,В, Чурляев
A43: составляется самим предприятием с соблюдением всех пунктов настоящей таблицы,

Sheet 51
B1: АО "Вологдаоблэнерго" | J1: код 900151 | N1: ПС Абаканово ф, Покров
B2: наименование предприятия | N2: наименование источника питания
N3: КТП Шухтовское Лесничество
B4: ул, Горького, 99 | I4: Таблица № 1
B5: адрес
A6: почасовых записей показаний электрических счетчиков
A7: ='1'!A7:Q7 -> в режимный день 21 ИЮНЯ 2023 г.
A8: 1630 | B8: 1628
A9: часы суток | B9: Активная энергия | J9: Реактивная энергия
B10: =N3 -> КТП Шухтовское Лесничество | F10: =N4 -> 0 | J10: =B10 -> КТП Шухтовское Лесничество | N10: =F10 -> 0
B11: Расчет, Коэф, | E11: 30 | F11: Расчет, Коэф, | I11: 120 | J11: Расчет, Коэф, | M11: =E11 -> 30 | N11: Расчет, Коэф, | Q11: =I11 -> 120
B12: показания счетчика | C12: разность | E12: расход эл,энергии за час | F12: показания счетчика | G12: разность | I12: расход эл,энергии за час | J12: показания счетчика | K12: разность | M12: расход эл,энергии за час | N12: показания счетчика | O12: разность | Q12: расход эл,энергии за час
A13: 1 | B13: 2 | C13: 3 | E13: 4 | F13: 5 | G13: 6 | I13: 7 | J13: 8 | K13: 9 | M13: 10 | N13: 11 | O13: 12 | Q13: 13
A14: 0
A15: 1 | E15: 0 | M15: 0
A16: 2 | E16: 0 | M16: 0
A17: 3 | E17: 0 | M17: 0
A18: 4 | E18: 0 | M18: 0
A19: 5 | E19: 0 | M19: 0
A20: 6 | E20: 0 | M20: 0
A21: 7 | E21: 0 | M21: 0
A22: 8 | E22: 0 | M22: 0
A23: 9 | E23: 0 | M23: 0
A24: 10 | E24: 0 | M24: 0
A25: 11 | E25: 0 | M25: 0
A26: 12 | E26: 0 | M26: 0
... A38: 24 | E38: 0 | M38: 0
A39: Итого | E39: =SUM(E15:E38) -> 0 | I39: =SUM(I15:I38) -> 0 | M39: =SUM(M15:M38) -> 0 | Q39: =SUM(Q15:Q38) -> 0
A40: 1, При наличии на предприятии отклонений от нормальных режимов электропотребления (временное изменение схем питания, остановка на ремонт, резкое снижение
A41: эл,потребления и т,д,) последние необходимо перечислить,
A42: Главный инженер АО "Вологдаоблэнерго" А,В, Чурляев
A43: составляется самим предприятием с соблюдением всех пунктов настоящей таблицы,

Sheet 52
B1: АО "Вологдаоблэнерго" | J1: код 900151 | N1: ПС Абаканово, ф, Маслово
B2: наименование предприятия | N2: наименование источника питания
N3: ЦРП-Маслово
B4: ул, Горького, 99 | I4: Таблица № 1
B5: адрес
A6: почасовых записей показаний электрических счетчиков
A7: ='1'!A7:Q7 -> в режимный день 21 ИЮНЯ 2023 г. | S7: 10.8 | T7: 10.72 | U7: 10.64 | V7: 9.24 | W7: 8.48 | X7: 10.28 | Y7: 11.92 | Z7: 12.4 | AA7: 10.56 | AB7: 7.04 | AC7: 12.48 | AD7: 12.2 | AE7: 12.04 | AF7: 8.52 | AG7: 6.64 | AH7: 6.08 | AI7: 6.08 | AJ7: 6.12 | AK7: 6.2 | AL7: 6.48 | AM7: 12.48 | AN7: 13.24 | AO7: 12.12 | AP7: 8.48 | AQ7: 7.52
A8: 1630 | B8: 1628
A9: часы суток | B9: Активная энергия | J9: Реактивная энергия
B10: =N3 -> ЦРП-Маслово | F10: =N4 -> 0 | J10: =B10 -> ЦРП-Маслово | N10: =F10 -> 0
B11: Расчет, Коэф, | E11: 80 | F11: Расчет, Коэф, | I11: 120 | J11: Расчет, Коэф, | M11: =E11 -> 80 | N11: Расчет, Коэф, | Q11: =I11 -> 120
B12: показания счетчика | C12: разность | E12: расход эл,энергии за час | F12: показания счетчика | G12: разность | I12: расход эл,энергии за час | J12: показания счетчика | K12: разность | M12: расход эл,энергии за час | N12: показания счетчика | O12: разность | Q12: расход эл,энергии за час
A13: 1 | B13: 2 | C13: 3 | E13: 4 | F13: 5 | G13: 6 | I13: 7 | J13: 8 | K13: 9 | M13: 10 | N13: 11 | O13: 12 | Q13: 13
A14: 0
A15: 1 | E15: 10.8 | M15: 0
A16: 2 | E16: 10.72 | M16: 0
A17: 3 | E17: 10.64 | M17: 0
A18: 4 | E18: 9.24 | M18: 0
A19: 5 | E19: 8.48 | M19: 0
A20: 6 | E20: 10.28 | M20: 0
A21: 7 | E21: 11.92 | M21: 0
A22: 8 | E22: 12.4 | M22: 0
A23: 9 | E23: 10.56 | M23: 0
A24: 10 | E24: 7.04 | M24: 0
A25: 11 | E25: 12.48 | M25: 0
A26: 12 | E26: 12.2 | M26: 0
... A38: 24 | E38: 8.48 | M38: 0
A39: Итого | E39: =SUM(E15:E38) -> 231.24 | I39: =SUM(I15:I38) -> 0 | M39: =SUM(M15:M38) -> 0 | Q39: =SUM(Q15:Q38) -> 0
A40: 1, При наличии на предприятии отклонений от нормальных режимов электропотребления (временное изменение схем питания, остановка на ремонт, резкое снижение
A41: эл,потребления и т,д,) последние необходимо перечислить,
A42: Главный инженер АО "Вологдаоблэнерго" А,В, Чурляев
A43: составляется самим предприятием с соблюдением всех пунктов настоящей таблицы,

Sheet 53
B1: АО "Вологдаоблэнерго" | J1: код 900151 | N1: ПС Абаканово, ф,Шухободь
B2: наименование предприятия | N2: наименование источника питания
N3: ТП-227
B4: ул, Горького, 99 | I4: Таблица № 1
B5: адрес
A6: почасовых записей показаний электрических счетчиков
A7: ='1'!A7:Q7 -> в режимный день 21 ИЮНЯ 2023 г.
A8: 1630 | B8: 1628
A9: часы суток | B9: Активная энергия | J9: Реактивная энергия
B10: =N3 -> ТП-227 | F10: =N4 | J10: =B10 -> ТП-227 | N10: =F10
B11: Расчет, Коэф, | E11: 60 | F11: Расчет, Коэф, | I11: 120 | J11: Расчет, Коэф, | M11: =E11 -> 60 | N11: Расчет, Коэф, | Q11: =I11 -> 120
B12: показания счетчика | C12: разность | E12: расход эл,энергии за час | F12: показания счетчика | G12: разность | I12: расход эл,энергии за час | J12: показания счетчика | K12: разность | M12: расход эл,энергии за час | N12: показания счетчика | O12: разность | Q12: расход эл,энергии за час
A13: 1 | B13: 2 | C13: 3 | E13: 4 | F13: 5 | G13: 6 | I13: 7 | J13: 8 | K13: 9 | M13: 10 | N13: 11 | O13: 12 | Q13: 13
A14: 0
A15: 1 | E15: 3.54 | M15: 0
A16: 2 | E16: 3.33 | M16: 0
A17: 3 | E17: 3.24 | M17: 0
A18: 4 | E18: 3.315 | M18: 0
A19: 5 | E19: 3.315 | M19: 0
A20: 6 | E20: 3.315 | M20: 0
A21: 7 | E21: 3.075 | M21: 0
A22: 8 | E22: 1.665 | M22: 0
A23: 9 | E23: 1.23 | M23: 0
A24: 10 | E24: 3.87 | M24: 0
A25: 11 | E25: 3.75 | M25: 0
A26: 12 | E26: 3.195 | M26: 0
... A38: 24 | E38: 4.815 | M38: 0
A39: Итого | E39: =SUM(E15:E38) -> 96.375 | I39: =SUM(I15:I38) -> 0 | M39: =SUM(M15:M38) -> 0 | Q39: =SUM(Q15:Q38) -> 0
A40: 1, При наличии на предприятии отклонений от нормальных режимов электропотребления (временное изменение схем питания, остановка на ремонт, резкое снижение
A41: эл,потребления и т,д,) последние необходимо перечислить,
A42: Главный инженер АО "Вологдаоблэнерго" А,В, Чурляев
A43: составляется самим предприятием с соблюдением всех пунктов настоящей таблицы,

Sheet 54
B1: АО "Вологдаоблэнерго" | J1: код 900151 | N1: ПС Искра, ф, Оросительная
B2: наименование предприятия | N2: наименование источника питания
N3: КТП-3 Сад №9 "ЧереповецАгроСтрой"
B4: ул, Горького, 99 | I4: Таблица № 1 | N4: КТП-2 Сад №1 "Аммофос"
B5: адрес
A6: почасовых записей показаний электрических счетчиков
A7: ='1'!A7:Q7 -> в режимный день 21 ИЮНЯ 2023 г.
A8: 1630 | B8: 1628
A9: часы суток | B9: Активная энергия | J9: Реактивная энергия
B10: =N3 -> КТП-3 Сад №9 "ЧереповецАгроСтрой" | F10: =N4 -> КТП-2 Сад №1 "Аммофос" | J10: =B10 -> КТП-3 Сад №9 "ЧереповецАгроСтрой" | N10: =F10 -> КТП-2 Сад №1 "Аммофос"
B11: Расчет, Коэф, | E11: 60 | F11: Расчет, Коэф, | I11: 120 | J11: Расчет, Коэф, | M11: =E11 -> 60 | N11: Расчет, Коэф, | Q11: =I11 -> 120
B12: показания счетчика | C12: разность | E12: расход эл,энергии за час | F12: показания счетчика | G12: разность | I12: расход эл,энергии за час | J12: показания счетчика | K12: разность | M12: расход эл,энергии за час | N12: показания счетчика | O12: разность | Q12: расход эл,энергии за час
A13: 1 | B13: 2 | C13: 3 | E13: 4 | F13: 5 | G13: 6 | I13: 7 | J13: 8 | K13: 9 | M13: 10 | N13: 11 | O13: 12 | Q13: 13
A14: 0
A15: 1 | E15: 35.52 | I15: 95.94 | M15: 0 | Q15: 0
A16: 2 | E16: 29.76 | I16: 93.3 | M16: 0 | Q16: 0
A17: 3 | E17: 25.95 | I17: 86.64 | M17: 0 | Q17: 0
A18: 4 | E18: 27.84 | I18: 84.66 | M18: 0 | Q18: 0
A19: 5 | E19: 32.49 | I19: 88.32 | M19: 0 | Q19: 0
A20: 6 | E20: 35.13 | I20: 95.64 | M20: 0 | Q20: 0
A21: 7 | E21: 39.78 | I21: 101.52 | M21: 0 | Q21: 0
A22: 8 | E22: 37.02 | I22: 97.86 | M22: 0 | Q22: 0
A23: 9 | E23: 35.13 | I23: 88.62 | M23: 0 | Q23: 0
A24: 10 | E24: 35.07 | I24: 87 | M24: 0 | Q24: 0
A25: 11 | E25: 35.82 | I25: 75.96 | M25: 0 | Q25: 0
A26: 12 | E26: 33.09 | I26: 67.26 | M26: 0 | Q26: 0
... A38: 24 | E38: 43.89 | I38: 94.68 | M38: 0 | Q38: 0
A39: Итого | E39: =SUM(E15:E38) -> 798.18 | I39: =SUM(I15:I38) -> 2019.3 | M39: =SUM(M15:M38) -> 0 | Q39: =SUM(Q15:Q38) -> 0
A40: 1, При наличии на предприятии отклонений от нормальных режимов электропотребления (временное изменение схем питания, остановка на ремонт, резкое снижение
A41: эл,потребления и т,д,) последние необходимо перечислить,
A42: Главный инженер АО "Вологдаоблэнерго" А,В, Чурляев
A43: составляется самим предприятием с соблюдением всех пунктов настоящей таблицы,

Sheet 55
B1: АО "Вологдаоблэнерго" | J1: код 900151 | N1: ПС Искра, ф, Оросительная
B2: наименование предприятия | N2: наименование источника питания
N3: КТП-10 ЧМХС и №2 ЧСПЗ
B4: ул, Горького, 99 | I4: Таблица № 1 | N4: КТП Сад Вера
B5: адрес
A6: почасовых записей показаний электрических счетчиков
A7: ='1'!A7:Q7 -> в режимный день 21 ИЮНЯ 2023 г.
A8: 1630 | B8: 1628
A9: часы суток | B9: Активная энергия | J9: Реактивная энергия
B10: =N3 -> КТП-10 ЧМХС и №2 ЧСПЗ | F10: =N4 -> КТП Сад Вера | J10: =B10 -> КТП-10 ЧМХС и №2 ЧСПЗ | N10: =F10 -> КТП Сад Вера
B11: Расчет, Коэф, | E11: 80 | F11: Расчет, Коэф, | I11: 20 | J11: Расчет, Коэф, | M11: =E11 -> 80 | N11: Расчет, Коэф, | Q11: =I11 -> 20
B12: показания счетчика | C12: разность | E12: расход эл,энергии за час | F12: показания счетчика | G12: разность | I12: расход эл,энергии за час | J12: показания счетчика | K12: разность | M12: расход эл,энергии за час | N12: показания счетчика | O12: разность | Q12: расход эл,энергии за час
A13: 1 | B13: 2 | C13: 3 | E13: 4 | F13: 5 | G13: 6 | I13: 7 | J13: 8 | K13: 9 | M13: 10 | N13: 11 | O13: 12 | Q13: 13
A14: 0
A15: 1 | E15: 0 | I15: 10.16 | M15: 0 | Q15: 0
A16: 2 | E16: 0 | I16: 9.28 | M16: 0 | Q16: 0
A17: 3 | E17: 0 | I17: 9.76 | M17: 0 | Q17: 0
A18: 4 | E18: 0 | I18: 10.24 | M18: 0 | Q18: 0
A19: 5 | E19: 0 | I19: 9.76 | M19: 0 | Q19: 0
A20: 6 | E20: 0 | I20: 11.12 | M20: 0 | Q20: 0
A21: 7 | E21: 0 | I21: 15.36 | M21: 0 | Q21: 0
A22: 8 | E22: 0 | I22: 20.64 | M22: 0 | Q22: 0
A23: 9 | E23: 0 | I23: 18.88 | M23: 0 | Q23: 0
A24: 10 | E24: 0 | I24: 20.48 | M24: 0 | Q24: 0
A25: 11 | E25: 0 | I25: 21.52 | M25: 0 | Q25: 0
A26: 12 | E26: 0 | I26: 21.28 | M26: 0 | Q26: 0
... A38: 24 | E38: 0 | I38: 15.52 | M38: 0 | Q38: 0
A39: Итого | E39: =SUM(E15:E38) -> 0 | I39: =SUM(I15:I38) -> 408.8 | M39: =SUM(M15:M38) -> 0 | Q39: =SUM(Q15:Q38) -> 0
A40: 1, При наличии на предприятии отклонений от нормальных режимов электропотребления (временное изменение схем питания, остановка на ремонт, резкое снижение
A41: эл,потребления и т,д,) последние необходимо перечислить,
A42: Главный инженер АО "Вологдаоблэнерго" А,В, Чурляев
A43: составляется самим предприятием с соблюдением всех пунктов настоящей таблицы,

Sheet 56
B1: АО "Вологдаоблэнерго" | J1: код 900151 | N1: ПС Батран, ф,Льнозавод
B2: наименование предприятия | N2: наименование источника питания
N3: КТП-Льнозавод
B4: ул, Горького, 99 | I4: Таблица № 1 | N4: КТП-Детский сад
B5: адрес
A6: почасовых записей показаний электрических счетчиков
A7: ='1'!A7:Q7 -> в режимный день 21 ИЮНЯ 2023 г.
A8: 1630 | B8: 1628
A9: часы суток | B9: Активная энергия | J9: Реактивная энергия
B10: =N3 -> КТП-Льнозавод | F10: =N4 -> КТП-Детский сад | J10: =B10 -> КТП-Льнозавод | N10: =F10 -> КТП-Детский сад
B11: Расчет, Коэф, | E11: 120 | F11: Расчет, Коэф, | I11: 40 | J11: Расчет, Коэф, | M11: =E11 -> 120 | N11: Расчет, Коэф, | Q11: =I11 -> 40
B12: показания счетчика | C12: разность | E12: расход эл,энергии за час | F12: показания счетчика | G12: разность | I12: расход эл,энергии за час | J12: показания счетчика | K12: разность | M12: расход эл,энергии за час | N12: показания счетчика | O12: разность | Q12: расход эл,энергии за час
A13: 1 | B13: 2 | C13: 3 | E13: 4 | F13: 5 | G13: 6 | I13: 7 | J13: 8 | K13: 9 | M13: 10 | N13: 11 | O13: 12 | Q13: 13
A14: 0
A15: 1 | E15: 0 | I15: 28.76 | M15: 0 | Q15: 0
A16: 2 | E16: 0 | I16: 25.92 | M16: 0 | Q16: 0
A17: 3 | E17: 0 | I17: 26.92 | M17: 0 | Q17: 0
A18: 4 | E18: 0 | I18: 25.76 | M18: 0 | Q18: 0
A19: 5 | E19: 0 | I19: 26.68 | M19: 0 | Q19: 0
A20: 6 | E20: 0 | I20: 27.36 | M20: 0 | Q20: 0
A21: 7 | E21: 0 | I21: 34.32 | M21: 0 | Q21: 0
A22: 8 | E22: 0 | I22: 36.12 | M22: 0 | Q22: 0
A23: 9 | E23: 0 | I23: 38.32 | M23: 0 | Q23: 0
A24: 10 | E24: 0 | I24: 33.92 | M24: 0 | Q24: 0
A25: 11 | E25: 0 | I25: 29.24 | M25: 0 | Q25: 0
A26: 12 | E26: 0 | I26: 30.6 | M26: 0 | Q26: 0
... A38: 24 | E38: 0 | I38: 25.64 | M38: 0 | Q38: 0
A39: Итого | E39: =SUM(E15:E38) -> 0 | I39: =SUM(I15:I38) -> 811.24 | M39: =SUM(M15:M38) -> 0 | Q39: =SUM(Q15:Q38) -> 0
A40: 1, При наличии на предприятии отклонений от нормальных режимов электропотребления (временное изменение схем питания, остановка на ремонт, резкое снижение
A41: эл,потребления и т,д,) последние необходимо перечислить,
A42: Главный инженер АО "Вологдаоблэнерго" А,В, Чурляев
A43: составляется самим предприятием с соблюдением всех пунктов настоящей таблицы,

Sheet 57
B1: АО "Вологдаоблэнерго" | J1: код 900151 | N1: ПС Аксеново ф, Шалимово
B2: наименование предприятия | N2: наименование источника питания
N3: ТП-23 В-1
B4: ул, Горького, 99 | I4: Таблица № 1 | N4: КТП-Очистные
B5: адрес
A6: почасовых записей показаний электрических счетчиков
A7: ='1'!A7:Q7 -> в режимный день 21 ИЮНЯ 2023 г.
A8: 1630 | B8: 1628
A9: часы суток | B9: Активная энергия | J9: Реактивная энергия
B10: =N3 -> ТП-23 В-1 | F10: =N4 -> КТП-Очистные | J10: =B10 -> ТП-23 В-1 | N10: =F10 -> КТП-Очистные
B11: Расчет, Коэф, | E11: 120 | F11: Расчет, Коэф, | I11: 20 | J11: Расчет, Коэф, | M11: =E11 -> 120 | N11: Расчет, Коэф, | Q11: =I11 -> 20
B12: показания счетчика | C12: разность | E12: расход эл,энергии за час | F12: показания счетчика | G12: разность | I12: расход эл,энергии за час | J12: показания счетчика | K12: разность | M12: расход эл,энергии за час | N12: показания счетчика | O12: разность | Q12: расход эл,энергии за час
A13: 1 | B13: 2 | C13: 3 | E13: 4 | F13: 5 | G13: 6 | I13: 7 | J13: 8 | K13: 9 | M13: 10 | N13: 11 | O13: 12 | Q13: 13
A14: 0
A15: 1 | E15: 25.08 | I15: 3.56 | M15: 0 | Q15: 0
A16: 2 | E16: 23.4 | I16: 3.6 | M16: 0 | Q16: 0
A17: 3 | E17: 22.2 | I17: 3.64 | M17: 0 | Q17: 0
A18: 4 | E18: 19.92 | I18: 3.64 | M18: 0 | Q18: 0
A19: 5 | E19: 18.84 | I19: 3.52 | M19: 0 | Q19: 0
A20: 6 | E20: 18.36 | I20: 3.6 | M20: 0 | Q20: 0
A21: 7 | E21: 20.52 | I21: 3.56 | M21: 0 | Q21: 0
A22: 8 | E22: 24.48 | I22: 4.48 | M22: 0 | Q22: 0
A23: 9 | E23: 23.28 | I23: 25.44 | M23: 0 | Q23: 0
A24: 10 | E24: 22.44 | I24: 51.64 | M24: 0 | Q24: 0
A25: 11 | E25: 19.32 | I25: 48.6 | M25: 0 | Q25: 0
A26: 12 | E26: 20.28 | I26: 56.76 | M26: 0 | Q26: 0
... A38: 24 | E38: 23.28 | I38: 3.56 | M38: 0 | Q38: 0
A39: Итого | E39: =SUM(E15:E38) -> 514.08 | I39: =SUM(I15:I38) -> 470.96 | M39: =SUM(M15:M38) -> 0 | Q39: =SUM(Q15:Q38) -> 0
A40: 1, При наличии на предприятии отклонений от нормальных режимов электропотребления (временное изменение схем питания, остановка на ремонт, резкое снижение
A41: эл,потребления и т,д,) последние необходимо перечислить,
A42: Главный инженер АО "Вологдаоблэнерго" А,В, Чурляев
A43: составляется самим предприятием с соблюдением всех пунктов настоящей таблицы,

Sheet 58
B1: АО "Вологдаоблэнерго" | H1: код 900151 | K1: ПС Юрочкино, ф, Фоминское
B2: наименование предприятия | K2: наименование источника питания
K3: ТП-15
B4: ул, Горького, 99 | G4: Таблица № 1 | K4: ТП-23 В-2
B5: адрес
A6: почасовых записей показаний электрических счетчиков
A7: ='1'!A7:Q7 -> в режимный день 21 ИЮНЯ 2023 г.
A8: 1630 | B8: 1628
A9: часы суток | B9: Активная энергия | H9: Реактивная энергия
B10: =K3 -> ТП-15 | E10: =K4 -> ТП-23 В-2 | H10: =B10 -> ТП-15 | K10: =E10 -> ТП-23 В-2
B11: Расчет, Коэф, | D11: 40 | E11: Расчет, Коэф, | G11: 120 | H11: Расчет, Коэф, | J11: =D11 -> 40 | K11: Расчет, Коэф, | M11: =G11 -> 120
B12: показания счетчика | C12: разность | D12: расход эл,энергии за час | E12: показания счетчика | F12: разность | G12: расход эл,энергии за час | H12: показания счетчика | I12: разность | J12: расход эл,энергии за час | K12: показания счетчика | L12: разность | M12: расход эл,энергии за час
A13: 1 | B13: 2 | C13: 3 | D13: 4 | E13: 5 | F13: 6 | G13: 7 | H13: 8 | I13: 9 | J13: 10 | K13: 11 | L13: 12 | M13: 13
A14: 0
A15: 1 | D15: 3.56 | G15: 0 | J15: 0 | M15: 0
A16: 2 | D16: 3.6 | G16: 0 | J16: 0 | M16: 0
A17: 3 | D17: 3.64 | G17: 0 | J17: 0 | M17: 0
A18: 4 | D18: 3.64 | G18: 0 | J18: 0 | M18: 0
A19: 5 | D19: 3.52 | G19: 0 | J19: 0 | M19: 0
A20: 6 | D20: 3.6 | G20: 0 | J20: 0 | M20: 0
A21: 7 | D21: 3.56 | G21: 0 | J21: 0 | M21: 0
A22: 8 | D22: 4.48 | G22: 0 | J22: 0 | M22: 0
A23: 9 | D23: 25.44 | G23: 0 | J23: 0 | M23: 0
A24: 10 | D24: 51.64 | G24: 0 | J24: 0 | M24: 0
A25: 11 | D25: 48.6 | G25: 0 | J25: 0 | M25: 0
A26: 12 | D26: 56.76 | G26: 0 | J26: 0 | M26: 0
... A38: 24 | D38: 3.56 | G38: 0 | J38: 0 | M38: 0
A39: Итого | D39: =SUM(D15:D38) -> 470.96 | G39: =SUM(G15:G38) -> 0 | J39: =SUM(J15:J38) -> 0 | M39: =SUM(M15:M38) -> 0
A40: 1, При наличии на предприятии отклонений от нормальных режимов электропотребления (временное изменение схем питания, остановка на ремонт, резкое снижение
A41: эл,потребления и т,д,) последние необходимо перечислить,
A42: Главный инженер АО "Вологдаоблэнерго" А,В, Чурляев
A43: составляется самим предприятием с соблюдением всех пунктов настоящей таблицы,

Sheet 59
B1: АО "Вологдаоблэнерго" | I1: код 900151 | L1: ПС Домозерово, ф, Дом-2
B2: наименование предприятия | L2: наименование источника питания
L3: ТП-74
B4: ул, Горького, 99 | H4: Таблица № 1 | L4: ТП-СЗМК-2(не баланс)
B5: адрес
A6: почасовых записей показаний электрических счетчиков
A7: ='1'!A7:Q7 -> в режимный день 21 ИЮНЯ 2023 г.
A8: 1630 | B8: 1628
A9: часы суток | B9: Активная энергия | I9: Реактивная энергия
B10: =L3 -> ТП-74 | E10: =L4 -> ТП-СЗМК-2(не баланс) | I10: =B10 -> ТП-74 | L10: =E10 -> ТП-СЗМК-2(не баланс)
B11: Расчет, Коэф, | D11: 120 | E11: Расчет, Коэф, | H11: 200 | I11: Расчет, Коэф, | K11: =D11 -> 120 | L11: Расчет, Коэф, | N11: =H11 -> 200
B12: показания счетчика | C12: разность | D12: расход эл,энергии за час | E12: показания счетчика | F12: разность | H12: расход эл,энергии за час | I12: показания счетчика | J12: разность | K12: расход эл,энергии за час | L12: показания счетчика | M12: разность | N12: расход эл,энергии за час
A13: 1 | B13: 2 | C13: 3 | D13: 4 | E13: 5 | F13: 6 | H13: 7 | I13: 8 | J13: 9 | K13: 10 | L13: 11 | M13: 12 | N13: 13
A14: 0
A15: 1 | D15: 34.128 | H15: 0 | K15: 0 | N15: 0
A16: 2 | D16: 33.48 | H16: 0 | K16: 0 | N16: 0
A17: 3 | D17: 34.128 | H17: 0 | K17: 0 | N17: 0
A18: 4 | D18: 34.872 | H18: 0 | K18: 0 | N18: 0
A19: 5 | D19: 35.544 | H19: 0 | K19: 0 | N19: 0
A20: 6 | D20: 36.792 | H20: 0 | K20: 0 | N20: 0
A21: 7 | D21: 34.824 | H21: 0 | K21: 0 | N21: 0
A22: 8 | D22: 38.856 | H22: 0 | K22: 0 | N22: 0
A23: 9 | D23: 66.264 | H23: 0 | K23: 0 | N23: 0
A24: 10 | D24: 74.904 | H24: 0 | K24: 0 | N24: 0
A25: 11 | D25: 68.376 | H25: 0 | K25: 0 | N25: 0
A26: 12 | D26: 62.136 | H26: 0 | K26: 0 | N26: 0
... A38: 24 | D38: 36.936 | H38: 0 | K38: 0 | N38: 0
A39: Итого | D39: =SUM(D15:D38) -> 1169.448 | H39: =SUM(H15:H38) -> 0 | K39: =SUM(K15:K38) -> 0 | N39: =SUM(N15:N38) -> 0
A40: 1, При наличии на предприятии отклонений от нормальных режимов электропотребления (временное изменение схем питания, остановка на ремонт, резкое снижение
A41: эл,потребления и т,д,) последние необходимо перечислить,
A42: Главный инженер АО "Вологдаоблэнерго" А,В, Чурляев
A43: составляется самим предприятием с соблюдением всех пунктов настоящей таблицы,

Sheet 60
B1: АО "Вологдаоблэнерго" | H1: код 900151 | K1: ПС Енюково, ф,Борисово
B2: наименование предприятия | K2: наименование источника питания
K3: ТП-Ферма Фенево В-1
B4: ул, Горького, 99 | G4: Таблица № 1 | K4: ТП-Ферма Фенево В-2
B5: адрес
A6: почасовых записей показаний электрических счетчиков
A7: ='1'!A7:Q7 -> в режимный день 21 ИЮНЯ 2023 г.
A8: 1630 | B8: 1628
A9: часы суток | B9: Активная энергия | H9: Реактивная энергия
B10: =K3 -> ТП-Ферма Фенево В-1 | E10: =K4 -> ТП-Ферма Фенево В-2 | H10: =B10 -> ТП-Ферма Фенево В-1 | K10: =E10 -> ТП-Ферма Фенево В-2
B11: Расчет, Коэф, | D11: 200 | E11: Расчет, Коэф, | G11: 200 | H11: Расчет, Коэф, | J11: =D11 -> 200 | K11: Расчет, Коэф, | M11: =G11 -> 200
B12: показания счетчика | C12: разность | D12: расход эл,энергии за час | E12: показания счетчика | F12: разность | G12: расход эл,энергии за час | H12: показания счетчика | I12: разность | J12: расход эл,энергии за час | K12: показания счетчика | L12: разность | M12: расход эл,энергии за час
A13: 1 | B13: 2 | C13: 3 | D13: 4 | E13: 5 | F13: 6 | G13: 7 | H13: 8 | I13: 9 | J13: 10 | K13: 11 | L13: 12 | M13: 13
A14: 0
A15: 1 | D15: 14.3 | G15: 15.9 | J15: 0 | M15: 0
A16: 2 | D16: 15.4 | G16: 10.6 | J16: 0 | M16: 0
A17: 3 | D17: 14.9 | G17: 22.2 | J17: 0 | M17: 0
A18: 4 | D18: 17.5 | G18: 71 | J18: 0 | M18: 0
A19: 5 | D19: 35.4 | G19: 74.2 | J19: 0 | M19: 0
A20: 6 | D20: 48.4 | G20: 66.1 | J20: 0 | M20: 0
A21: 7 | D21: 42.3 | G21: 31.2 | J21: 0 | M21: 0
A22: 8 | D22: 36.7 | G22: 39.5 | J22: 0 | M22: 0
A23: 9 | D23: 19.5 | G23: 35.5 | J23: 0 | M23: 0
A24: 10 | D24: 27.5 | G24: 34.7 | J24: 0 | M24: 0
A25: 11 | D25: 21.9 | G25: 19.1 | J25: 0 | M25: 0
A26: 12 | D26: 25.7 | G26: 34.5 | J26: 0 | M26: 0
... A38: 24 | D38: 22 | G38: 16.4 | J38: 0 | M38: 0
A39: Итого | D39: =SUM(D15:D38) -> 628 | G39: =SUM(G15:G38) -> 912.3 | J39: =SUM(J15:J38) -> 0 | M39: =SUM(M15:M38) -> 0
A40: 1, При наличии на предприятии отклонений от нормальных режимов электропотребления (временное изменение схем питания, остановка на ремонт, резкое снижение
A41: эл,потребления и т,д,) последние необходимо перечислить,
A42: Главный инженер АО "Вологдаоблэнерго" А,В, Чурляев
A43: составляется самим предприятием с соблюдением всех пунктов настоящей таблицы,

Sheet 61
B1: АО "Вологдаоблэнерго" | H1: код 900151 | K1: ПС Поповка, ф, Аннино
B2: наименование предприятия | K2: наименование источника питания
K3: ТП-376
B4: ул, Горького, 99 | G4: Таблица № 1
B5: адрес
A6: почасовых записей показаний электрических счетчиков
A7: ='1'!A7:Q7 -> в режимный день 21 ИЮНЯ 2023 г.
A8: 1630 | B8: 1628
A9: часы суток | B9: Активная энергия | H9: Реактивная энергия
B10: =K3 -> ТП-376 | E10: =K4 -> 0 | H10: =B10 -> ТП-376 | K10: =E10 -> 0
B11: Расчет, Коэф, | D11: 60 | E11: Расчет, Коэф, | G11: 120 | H11: Расчет, Коэф, | J11: =D11 -> 60 | K11: Расчет, Коэф, | M11: =G11 -> 120
B12: показания счетчика | C12: разность | D12: расход эл,энергии за час | E12: показания счетчика | F12: разность | G12: расход эл,энергии за час | H12: показания счетчика | I12: разность | J12: расход эл,энергии за час | K12: показания счетчика | L12: разность | M12: расход эл,энергии за час
A13: 1 | B13: 2 | C13: 3 | D13: 4 | E13: 5 | F13: 6 | G13: 7 | H13: 8 | I13: 9 | J13: 10 | K13: 11 | L13: 12 | M13: 13
A14: 0
A15: 1 | D15: 11.79 | J15: 0
A16: 2 | D16: 10.92 | J16: 0
A17: 3 | D17: 10.2 | J17: 0
A18: 4 | D18: 10.47 | J18: 0
A19: 5 | D19: 9.63 | J19: 0
A20: 6 | D20: 10.23 | J20: 0
A21: 7 | D21: 16.83 | J21: 0
A22: 8 | D22: 15.51 | J22: 0
A23: 9 | D23: 13.8 | J23: 0
A24: 10 | D24: 11.97 | J24: 0
A25: 11 | D25: 11.37 | J25: 0
A26: 12 | D26: 12.72 | J26: 0
... A38: 24 | D38: 16.95 | J38: 0
A39: Итого | D39: =SUM(D15:D38) -> 306.18 | G39: =SUM(G15:G38) -> 0 | J39: =SUM(J15:J38) -> 0 | M39: =SUM(M15:M38) -> 0
A40: 1, При наличии на предприятии отклонений от нормальных режимов электропотребления (временное изменение схем питания, остановка на ремонт, резкое снижение
A41: эл,потребления и т,д,) последние необходимо перечислить,
A42: Главный инженер АО "Вологдаоблэнерго" А,В, Чурляев
A43: составляется самим предприятием с соблюдением всех пунктов настоящей таблицы,

Sheet 62
B1: АО "Вологдаоблэнерго" | H1: код 900151 | K1: ПС Поповка, ф, Красково
B2: наименование предприятия | K2: наименование источника питания
K3: КТП-ЭСПА
B4: ул, Горького, 99 | G4: Таблица № 1 | K4: КТП-Ново-Дубровка
B5: адрес
A6: почасовых записей показаний электрических счетчиков
A7: ='1'!A7:Q7 -> в режимный день 21 ИЮНЯ 2023 г.
A8: 1630 | B8: 1628
A9: часы суток | B9: Активная энергия | H9: Реактивная энергия
B10: =K3 -> КТП-ЭСПА | E10: =K4 -> КТП-Ново-Дубровка | H10: =B10 -> КТП-ЭСПА | K10: =E10 -> КТП-Ново-Дубровка
B11: Расчет, Коэф, | D11: 20 | E11: Расчет, Коэф, | G11: 20 | H11: Расчет, Коэф, | J11: =D11 -> 20 | K11: Расчет, Коэф, | M11: =G11 -> 20
B12: показания счетчика | C12: разность | D12: расход эл,энергии за час | E12: показания счетчика | F12: разность | G12: расход эл,энергии за час | H12: показания счетчика | I12: разность | J12: расход эл,энергии за час | K12: показания счетчика | L12: разность | M12: расход эл,энергии за час
A13: 1 | B13: 2 | C13: 3 | D13: 4 | E13: 5 | F13: 6 | G13: 7 | H13: 8 | I13: 9 | J13: 10 | K13: 11 | L13: 12 | M13: 13
A14: 0
A15: 1 | D15: 0.63 | G15: 0 | J15: 0 | M15: 0
A16: 2 | D16: 0.62 | G16: 0 | J16: 0 | M16: 0
A17: 3 | D17: 0.62 | G17: 0 | J17: 0 | M17: 0
A18: 4 | D18: 0.63 | G18: 0 | J18: 0 | M18: 0
A19: 5 | D19: 0.63 | G19: 0 | J19: 0 | M19: 0
A20: 6 | D20: 0.4 | G20: 0 | J20: 0 | M20: 0
A21: 7 | D21: 0.04 | G21: 0 | J21: 0 | M21: 0
A22: 8 | D22: 0 | G22: 0 | J22: 0 | M22: 0
A23: 9 | D23: 0.04 | G23: 0 | J23: 0 | M23: 0
A24: 10 | D24: 0.03 | G24: 0 | J24: 0 | M24: 0
A25: 11 | D25: 0.03 | G25: 0 | J25: 0 | M25: 0
A26: 12 | D26: 0.04 | G26: 0 | J26: 0 | M26: 0
... A38: 24 | D38: 0.62 | G38: 0 | J38: 0 | M38: 0
A39: Итого | D39: =SUM(D15:D38) -> 5.14 | G39: =SUM(G15:G38) -> 0 | J39: =SUM(J15:J38) -> 0 | M39: =SUM(M15:M38) -> 0
A40: 1, При наличии на предприятии отклонений от нормальных режимов электропотребления (временное изменение схем питания, остановка на ремонт, резкое снижение
A41: эл,потребления и т,д,) последние необходимо перечислить,
A42: Главный инженер АО "Вологдаоблэнерго" А,В, Чурляев
A43: составляется самим предприятием с соблюдением всех пунктов настоящей таблицы,

Sheet 63
B1: АО "Вологдаоблэнерго" | H1: код 900151 | K1: ПС Поповка, ф, Красково
B2: наименование предприятия | K2: наименование источника питания
K3: КТП-Козлово-2
B4: ул, Горького, 99 | G4: Таблица № 1 | K4: ТП-319
B5: адрес
A6: почасовых записей показаний электрических счетчиков
A7: ='1'!A7:Q7 -> в режимный день 21 ИЮНЯ 2023 г.
A8: 1630 | B8: 1628
A9: часы суток | B9: Активная энергия | H9: Реактивная энергия
B10: =K3 -> КТП-Козлово-2 | E10: =K4 -> ТП-319 | H10: =B10 -> КТП-Козлово-2 | K10: =E10 -> ТП-319
B11: Расчет, Коэф, | D11: 60 | E11: Расчет, Коэф, | G11: 30 | H11: Расчет, Коэф, | J11: =D11 -> 60 | K11: Расчет, Коэф, | M11: =G11 -> 30
B12: показания счетчика | C12: разность | D12: расход эл,энергии за час | E12: показания счетчика | F12: разность | G12: расход эл,энергии за час | H12: показания счетчика | I12: разность | J12: расход эл,энергии за час | K12: показания счетчика | L12: разность | M12: расход эл,энергии за час
A13: 1 | B13: 2 | C13: 3 | D13: 4 | E13: 5 | F13: 6 | G13: 7 | H13: 8 | I13: 9 | J13: 10 | K13: 11 | L13: 12 | M13: 13
A14: 0
A15: 1 | D15: 9.24 | G15: 0 | J15: 0 | M15: 0
A16: 2 | D16: 9.68 | G16: 0 | J16: 0 | M16: 0
A17: 3 | D17: 7 | G17: 0 | J17: 0 | M17: 0
A18: 4 | D18: 7.16 | G18: 0 | J18: 0 | M18: 0
A19: 5 | D19: 8.12 | G19: 0 | J19: 0 | M19: 0
A20: 6 | D20: 8.48 | G20: 0 | J20: 0 | M20: 0
A21: 7 | D21: 7.44 | G21: 0 | J21: 0 | M21: 0
A22: 8 | D22: 5.92 | G22: 0 | J22: 0 | M22: 0
A23: 9 | D23: 8.32 | G23: 0 | J23: 0 | M23: 0
A24: 10 | D24: 9.8 | G24: 0 | J24: 0 | M24: 0
A25: 11 | D25: 10.72 | G25: 0 | J25: 0 | M25: 0
A26: 12 | D26: 7.48 | G26: 0 | J26: 0 | M26: 0
... A38: 24 | D38: 10.08 | G38: 0 | J38: 0 | M38: 0
A39: Итого | D39: =SUM(D15:D38) -> 199.92 | G39: =SUM(G15:G38) -> 0 | J39: =SUM(J15:J38) -> 0 | M39: =SUM(M15:M38) -> 0
A40: 1, При наличии на предприятии отклонений от нормальных режимов электропотребления (временное изменение схем питания, остановка на ремонт, резкое снижение
A41: эл,потребления и т,д,) последние необходимо перечислить,
A42: Главный инженер АО "Вологдаоблэнерго" А,В, Чурляев
A43: составляется самим предприятием с соблюдением всех пунктов настоящей таблицы,

Sheet 64
B1: АО "Вологдаоблэнерго" | H1: код 900151 | K1: ПС Петринево, ф,Надпорожье
B2: наименование предприятия | K2: наименование источника питания
K3: КТП-Броды
B4: ул, Горького, 99 | G4: Таблица № 1 | K4: КТП-100 дачи "Водник"
B5: адрес
A6: почасовых записей показаний электрических счетчиков
A7: ='1'!A7:Q7 -> в режимный день 21 ИЮНЯ 2023 г.
A8: 1630 | B8: 1628
A9: часы суток | B9: Активная энергия | H9: Реактивная энергия
B10: =K3 -> КТП-Броды | E10: =K4 -> КТП-100 дачи "Водник" | H10: =B10 -> КТП-Броды | K10: =E10 -> КТП-100 дачи "Водник"
B11: Расчет, Коэф, | D11: 30 | E11: Расчет, Коэф, | G11: 40 | H11: Расчет, Коэф, | J11: =D11 -> 30 | K11: Расчет, Коэф, | M11: =G11 -> 40
B12: показания счетчика | C12: разность | D12: расход эл,энергии за час | E12: показания счетчика | F12: разность | G12: расход эл,энергии за час | H12: показания счетчика | I12: разность | J12: расход эл,энергии за час | K12: показания счетчика | L12: разность | M12: расход эл,энергии за час
A13: 1 | B13: 2 | C13: 3 | D13: 4 | E13: 5 | F13: 6 | G13: 7 | H13: 8 | I13: 9 | J13: 10 | K13: 11 | L13: 12 | M13: 13
A14: 0
A15: 1 | D15: 9.075 | G15: 6.705 | J15: 0 | M15: 0
A16: 2 | D16: 6.9 | G16: 5.895 | J16: 0 | M16: 0
A17: 3 | D17: 5.7 | G17: 6.315 | J17: 0 | M17: 0
A18: 4 | D18: 5.145 | G18: 5.745 | J18: 0 | M18: 0
A19: 5 | D19: 3.555 | G19: 5.31 | J19: 0 | M19: 0
A20: 6 | D20: 4.56 | G20: 4.47 | J20: 0 | M20: 0
A21: 7 | D21: 4.305 | G21: 5.04 | J21: 0 | M21: 0
A22: 8 | D22: 7.65 | G22: 6.945 | J22: 0 | M22: 0
A23: 9 | D23: 8.52 | G23: 9.495 | J23: 0 | M23: 0
A24: 10 | D24: 6.78 | G24: 9.66 | J24: 0 | M24: 0
A25: 11 | D25: 6.84 | G25: 6.48 | J25: 0 | M25: 0
A26: 12 | D26: 7.53 | G26: 7.59 | J26: 0 | M26: 0
... A38: 24 | D38: 8.565 | G38: 6.27 | J38: 0 | M38: 0
A39: Итого | D39: =SUM(D15:D38) -> 184.17 | G39: =SUM(G15:G38) -> 175.83 | J39: =SUM(J15:J38) -> 0 | M39: =SUM(M15:M38) -> 0
A40: 1, При наличии на предприятии отклонений от нормальных режимов электропотребления (временное изменение схем питания, остановка на ремонт, резкое снижение
A41: эл,потребления и т,д,) последние необходимо перечислить,
A42: Главный инженер АО "Вологдаоблэнерго" А,В, Чурляев
A43: составляется самим предприятием с соблюдением всех пунктов настоящей таблицы,

Sheet 65
B1: АО "Вологдаоблэнерго" | H1: код 900151 | K1: ПС Петринево, ф,Надпорожье
B2: наименование предприятия | K2: наименование источника питания
K3: КТП-Сад№11 ЧМХС
B4: ул, Горького, 99 | G4: Таблица № 1
B5: адрес
A6: почасовых записей показаний электрических счетчиков
A7: ='1'!A7:Q7 -> в режимный день 21 ИЮНЯ 2023 г.
A8: 1630 | B8: 1628 | P8: 5.27 | Q8: 5.31 | R8: 4.89 | S8: 5.04 | T8: 4.94 | U8: 6.12 | V8: 5.91 | W8: 6.54 | X8: 7.08 | Y8: 7.22 | Z8: 8.73 | AA8: 7.72 | AB8: 6.05 | AC8: 5.1 | AD8: 5.56 | AE8: 5.61 | AF8: 6.52 | AG8: 5.32 | AH8: 6.5 | AI8: 7.66 | AJ8: 9.42 | AK8: 10.44 | AL8: 11.09 | AM8: 8.51
A9: часы суток | B9: Активная энергия | H9: Реактивная энергия
B10: =K3 -> КТП-Сад№11 ЧМХС | E10: =K4 -> 0 | H10: =B10 -> КТП-Сад№11 ЧМХС | K10: =E10 -> 0
B11: Расчет, Коэф, | D11: 20 | E11: Расчет, Коэф, | G11: 120 | H11: Расчет, Коэф, | J11: =D11 -> 20 | K11: Расчет, Коэф, | M11: =G11 -> 120
B12: показания счетчика | C12: разность | D12: расход эл,энергии за час | E12: показания счетчика | F12: разность | G12: расход эл,энергии за час | H12: показания счетчика | I12: разность | J12: расход эл,энергии за час | K12: показания счетчика | L12: разность | M12: расход эл,энергии за час
A13: 1 | B13: 2 | C13: 3 | D13: 4 | E13: 5 | F13: 6 | G13: 7 | H13: 8 | I13: 9 | J13: 10 | K13: 11 | L13: 12 | M13: 13
A14: 0
A15: 1 | D15: 5.27 | J15: 0
A16: 2 | D16: 5.31 | J16: 0
A17: 3 | D17: 4.89 | J17: 0
A18: 4 | D18: 5.04 | J18: 0
A19: 5 | D19: 4.94 | J19: 0
A20: 6 | D20: 6.12 | J20: 0
A21: 7 | D21: 5.91 | J21: 0
A22: 8 | D22: 6.54 | J22: 0
A23: 9 | D23: 7.08 | J23: 0
A24: 10 | D24: 7.22 | J24: 0
A25: 11 | D25: 8.73 | J25: 0
A26: 12 | D26: 7.72 | J26: 0
... A38: 24 | D38: 8.51 | J38: 0
A39: Итого | D39: =SUM(D15:D38) -> 162.55 | G39: =SUM(G15:G38) -> 0 | J39: =SUM(J15:J38) -> 0 | M39: =SUM(M15:M38) -> 0
A40: 1, При наличии на предприятии отклонений от нормальных режимов электропотребления (временное изменение схем питания, остановка на ремонт, резкое снижение
A41: эл,потребления и т,д,) последние необходимо перечислить,
A42: Главный инженер АО "Вологдаоблэнерго" А,В, Чурляев
A43: составляется самим предприятием с соблюдением всех пунктов настоящей таблицы,

Sheet 66
B1: АО "Вологдаоблэнерго" | H1: код 900151 | K1: ПС Енюково, ф, Яганово
B2: наименование предприятия | K2: наименование источника питания
K3: КТП-КЗС-2
B4: ул, Горького, 99 | G4: Таблица № 1
B5: адрес
A6: почасовых записей показаний электрических счетчиков
A7: ='1'!A7:Q7 -> в режимный день 21 ИЮНЯ 2023 г.
A8: 1630 | B8: 1628
A9: часы суток | B9: Активная энергия | H9: Реактивная энергия
B10: =K3 -> КТП-КЗС-2 | E10: =K4 -> 0 | H10: =B10 -> КТП-КЗС-2 | K10: =E10 -> 0
B11: Расчет, Коэф, | D11: 80 | E11: Расчет, Коэф, | G11: 120 | H11: Расчет, Коэф, | J11: =D11 -> 80 | K11: Расчет, Коэф, | M11: =G11 -> 120
B12: показания счетчика | C12: разность | D12: расход эл,энергии за час | E12: показания счетчика | F12: разность | G12: расход эл,энергии за час | H12: показания счетчика | I12: разность | J12: расход эл,энергии за час | K12: показания счетчика | L12: разность | M12: расход эл,энергии за час
A13: 1 | B13: 2 | C13: 3 | D13: 4 | E13: 5 | F13: 6 | G13: 7 | H13: 8 | I13: 9 | J13: 10 | K13: 11 | L13: 12 | M13: 13
A14: 0
A15: 1 | D15: 4.2 | J15: 0
A16: 2 | D16: 3.96 | J16: 0
A17: 3 | D17: 3.84 | J17: 0
A18: 4 | D18: 3.88 | J18: 0
A19: 5 | D19: 3.84 | J19: 0
A20: 6 | D20: 4 | J20: 0
A21: 7 | D21: 4.04 | J21: 0
A22: 8 | D22: 4.24 | J22: 0
A23: 9 | D23: 4.2 | J23: 0
A24: 10 | D24: 4.52 | J24: 0
A25: 11 | D25: 4.4 | J25: 0
A26: 12 | D26: 4.64 | J26: 0
... A38: 24 | D38: 4.44 | J38: 0
A39: Итого | D39: =SUM(D15:D38) -> 108.68 | G39: =SUM(G15:G38) -> 0 | J39: =SUM(J15:J38) -> 0 | M39: =SUM(M15:M38) -> 0
A40: 1, При наличии на предприятии отклонений от нормальных режимов электропотребления (временное изменение схем питания, остановка на ремонт, резкое снижение
A41: эл,потребления и т,д,) последние необходимо перечислить,
A42: Главный инженер АО "Вологдаоблэнерго" А,В, Чурляев
A43: составляется самим предприятием с соблюдением всех пунктов настоящей таблицы,

Sheet 67
B1: АО "Вологдаоблэнерго" | H1: код 900151 | K1: ПС Климовская, ф,Лохта
B2: наименование предприятия | K2: наименование источника питания
K3: КТПН-400 Животноводческий комплекс
B4: ул, Горького, 99 | G4: Таблица № 1 | K4: КТП-Деревня
B5: адрес
A6: почасовых записей показаний электрических счетчиков
A7: ='1'!A7:Q7 -> в режимный день 21 ИЮНЯ 2023 г.
A8: 1630 | B8: 1628
A9: часы суток | B9: Активная энергия | H9: Реактивная энергия
B10: =K3 -> КТПН-400 Животноводческий комплекс | E10: =K4 -> КТП-Деревня | H10: =B10 -> КТПН-400 Животноводческий комплекс | K10: =E10 -> КТП-Деревня
B11: Расчет, Коэф, | D11: 120 | E11: Расчет, Коэф, | G11: 120 | H11: Расчет, Коэф, | J11: =D11 -> 120 | K11: Расчет, Коэф, | M11: =G11 -> 120
B12: показания счетчика | C12: разность | D12: расход эл,энергии за час | E12: показания счетчика | F12: разность | G12: расход эл,энергии за час | H12: показания счетчика | I12: разность | J12: расход эл,энергии за час | K12: показания счетчика | L12: разность | M12: расход эл,энергии за час
A13: 1 | B13: 2 | C13: 3 | D13: 4 | E13: 5 | F13: 6 | G13: 7 | H13: 8 | I13: 9 | J13: 10 | K13: 11 | L13: 12 | M13: 13
A14: 0
A15: 1 | D15: 58.92 | J15: 0
A16: 2 | D16: 58.92 | J16: 0
A17: 3 | D17: 86.4 | J17: 0
A18: 4 | D18: 91.56 | J18: 0
A19: 5 | D19: 120.72 | J19: 0
A20: 6 | D20: 150.72 | J20: 0
A21: 7 | D21: 125.52 | J21: 0
A22: 8 | D22: 128.28 | J22: 0
A23: 9 | D23: 107.04 | J23: 0
A24: 10 | D24: 96 | J24: 0
A25: 11 | D25: 101.04 | J25: 0
A26: 12 | D26: 87.84 | J26: 0
... A38: 24 | D38: 66.72 | J38: 0
A39: Итого | D39: =SUM(D15:D38) -> 2366.64 | G39: =SUM(G15:G38) -> 0 | J39: =SUM(J15:J38) -> 0 | M39: =SUM(M15:M38) -> 0
A40: 1, При наличии на предприятии отклонений от нормальных режимов электропотребления (временное изменение схем питания, остановка на ремонт, резкое снижение
A41: эл,потребления и т,д,) последние необходимо перечислить,
A42: Главный инженер АО "Вологдаоблэнерго" А,В, Чурляев
A43: составляется самим предприятием с соблюдением всех пунктов настоящей таблицы,

Sheet 68
B1: АО "Вологдаоблэнерго" | H1: код 900151 | K1: ПС Енюково ф, Соболево
B2: наименование предприятия | K2: наименование источника питания
K3: ТП-323
B4: ул, Горького, 99 | G4: Таблица № 1
B5: адрес
A6: почасовых записей показаний электрических счетчиков
A7: ='1'!A7:Q7 -> в режимный день 21 ИЮНЯ 2023 г.
A8: 1630 | B8: 1628
A9: часы суток | B9: Активная энергия | H9: Реактивная энергия
B10: =K3 -> ТП-323 | E10: =K4 -> 0 | H10: =B10 -> ТП-323 | K10: =E10 -> 0
B11: Расчет, Коэф, | D11: 20 | E11: Расчет, Коэф, | G11: 120 | H11: Расчет, Коэф, | J11: =D11 -> 20 | K11: Расчет, Коэф, | M11: =G11 -> 120
B12: показания счетчика | C12: разность | D12: расход эл,энергии за час | E12: показания счетчика | F12: разность | G12: расход эл,энергии за час | H12: показания счетчика | I12: разность | J12: расход эл,энергии за час | K12: показания счетчика | L12: разность | M12: расход эл,энергии за час
A13: 1 | B13: 2 | C13: 3 | D13: 4 | E13: 5 | F13: 6 | G13: 7 | H13: 8 | I13: 9 | J13: 10 | K13: 11 | L13: 12 | M13: 13
A14: 0
A15: 1 | D15: 5.68 | J15: 0
A16: 2 | D16: 5.35 | J16: 0
A17: 3 | D17: 5.3 | J17: 0
A18: 4 | D18: 1.19 | J18: 0
A19: 5 | D19: 0.49 | J19: 0
A20: 6 | D20: 0.53 | J20: 0
A21: 7 | D21: 0.53 | J21: 0
A22: 8 | D22: 4.38 | J22: 0
A23: 9 | D23: 5.73 | J23: 0
A24: 10 | D24: 5.53 | J24: 0
A25: 11 | D25: 5.17 | J25: 0
A26: 12 | D26: 5.22 | J26: 0
... A38: 24 | D38: 5.47 | J38: 0
A39: Итого | D39: =SUM(D15:D38) -> 112.075 | G39: =SUM(G15:G38) -> 0 | J39: =SUM(J15:J38) -> 0 | M39: =SUM(M15:M38) -> 0
A40: 1, При наличии на предприятии отклонений от нормальных режимов электропотребления (временное изменение схем питания, остановка на ремонт, резкое снижение
A41: эл,потребления и т,д,) последние необходимо перечислить,
A42: Главный инженер АО "Вологдаоблэнерго" А,В, Чурляев
A43: составляется самим предприятием с соблюдением всех пунктов настоящей таблицы,

Sheet 69
B1: АО "Вологдаоблэнерго" | H1: код 900151 | K1: ПС Поповка, ф,Привалино
B2: наименование предприятия | K2: наименование источника питания
K3: КТП-Поселок Поповка
B4: ул, Горького, 99 | G4: Таблица № 1
B5: адрес
A6: почасовых записей показаний электрических счетчиков
A7: ='1'!A7:Q7 -> в режимный день 21 ИЮНЯ 2023 г.
A8: 1630 | B8: 1628
A9: часы суток | B9: Активная энергия | H9: Реактивная энергия
B10: =K3 -> КТП-Поселок Поповка | E10: =K4 -> 0 | H10: =B10 -> КТП-Поселок Поповка | K10: =E10 -> 0
B11: Расчет, Коэф, | D11: 40 | E11: Расчет, Коэф, | G11: 120 | H11: Расчет, Коэф, | J11: =D11 -> 40 | K11: Расчет, Коэф, | M11: =G11 -> 120
B12: показания счетчика | C12: разность | D12: расход эл,энергии за час | E12: показания счетчика | F12: разность | G12: расход эл,энергии за час | H12: показания счетчика | I12: разность | J12: расход эл,энергии за час | K12: показания счетчика | L12: разность | M12: расход эл,энергии за час
A13: 1 | B13: 2 | C13: 3 | D13: 4 | E13: 5 | F13: 6 | G13: 7 | H13: 8 | I13: 9 | J13: 10 | K13: 11 | L13: 12 | M13: 13
A14: 0
A15: 1 | D15: 13.92 | J15: 0
A16: 2 | D16: 14.64 | J16: 0
A17: 3 | D17: 13.32 | J17: 0
A18: 4 | D18: 8.52 | J18: 0
A19: 5 | D19: 8.1 | J19: 0
A20: 6 | D20: 9.18 | J20: 0
A21: 7 | D21: 12.84 | J21: 0
A22: 8 | D22: 13.44 | J22: 0
A23: 9 | D23: 18.24 | J23: 0
A24: 10 | D24: 18.9 | J24: 0
A25: 11 | D25: 27.24 | J25: 0
A26: 12 | D26: 24.24 | J26: 0
... A38: 24 | D38: 21.12 | J38: 0
A39: Итого | D39: =SUM(D15:D38) -> 436.8 | G39: =SUM(G15:G38) -> 0 | J39: =SUM(J15:J38) -> 0 | M39: =SUM(M15:M38) -> 0
A40: 1, При наличии на предприятии отклонений от нормальных режимов электропотребления (временное изменение схем питания, остановка на ремонт, резкое снижение
A41: эл,потребления и т,д,) последние необходимо перечислить,
A42: Главный инженер АО "Вологдаоблэнерго" А,В, Чурляев
A43: составляется самим предприятием с соблюдением всех пунктов настоящей таблицы,

Sheet 70
B1: АО "Вологдаоблэнерго" | H1: код 900151 | K1: ПС Загородная, ф,Парфеново
B2: наименование предприятия | K2: наименование источника питания
K3: ТП-69 (КТПН-23)
B4: ул, Горького, 99 | G4: Таблица № 1
B5: адрес
A6: почасовых записей показаний электрических счетчиков
A7: ='1'!A7:Q7 -> в режимный день 21 ИЮНЯ 2023 г.
A8: 1630 | B8: 1628
A9: часы суток | B9: Активная энергия | H9: Реактивная энергия
B10: =K3 -> ТП-69 (КТПН-23) | E10: =K4 -> 0 | H10: =B10 -> ТП-69 (КТПН-23) | K10: =E10 -> 0
B11: Расчет, Коэф, | D11: 20 | E11: Расчет, Коэф, | G11: 120 | H11: Расчет, Коэф, | J11: =D11 -> 20 | K11: Расчет, Коэф, | M11: =G11 -> 120
B12: показания счетчика | C12: разность | D12: расход эл,энергии за час | E12: показания счетчика | F12: разность | G12: расход эл,энергии за час | H12: показания счетчика | I12: разность | J12: расход эл,энергии за час | K12: показания счетчика | L12: разность | M12: расход эл,энергии за час
A13: 1 | B13: 2 | C13: 3 | D13: 4 | E13: 5 | F13: 6 | G13: 7 | H13: 8 | I13: 9 | J13: 10 | K13: 11 | L13: 12 | M13: 13
A14: 0
A15: 1 | D15: 0 | J15: 0
A16: 2 | D16: 0 | J16: 0
A17: 3 | D17: 0 | J17: 0
A18: 4 | D18: 0 | J18: 0
A19: 5 | D19: 0 | J19: 0
A20: 6 | D20: 0 | J20: 0
A21: 7 | D21: 0 | J21: 0
A22: 8 | D22: 0 | J22: 0
A23: 9 | D23: 0 | J23: 0
A24: 10 | D24: 0 | J24: 0
A25: 11 | D25: 0 | J25: 0
A26: 12 | D26: 0 | J26: 0
... A38: 24 | D38: 0 | J38: 0
A39: Итого | D39: =SUM(D15:D38) -> 0 | G39: =SUM(G15:G38) -> 0 | J39: =SUM(J15:J38) -> 0 | M39: =SUM(M15:M38) -> 0
A40: 1, При наличии на предприятии отклонений от нормальных режимов электропотребления (временное изменение схем питания, остановка на ремонт, резкое снижение
A41: эл,потребления и т,д,) последние необходимо перечислить,
A42: Главный инженер АО "Вологдаоблэнерго" А,В, Чурляев
A43: составляется самим предприятием с соблюдением всех пунктов настоящей таблицы,

Sheet 71
B1: АО "Вологдаоблэнерго" | H1: код 900151 | K1: ПС Нелазское, ф, к-сНелазское-1
B2: наименование предприятия | K2: наименование источника питания
K3: ТП-Мастерские Шулма
B4: ул, Горького, 99 | G4: Таблица № 1
B5: адрес
A6: почасовых записей показаний электрических счетчиков
A7: ='1'!A7:Q7 -> в режимный день 21 ИЮНЯ 2023 г.
A8: 1630 | B8: 1628
A9: часы суток | B9: Активная энергия | H9: Реактивная энергия
B10: =K3 -> ТП-Мастерские Шулма | E10: =K4 -> 0 | H10: =B10 -> ТП-Мастерские Шулма | K10: =E10 -> 0
B11: Расчет, Коэф, | D11: 60 | E11: Расчет, Коэф, | G11: 120 | H11: Расчет, Коэф, | J11: =D11 -> 60 | K11: Расчет, Коэф, | M11: =G11 -> 120
B12: показания счетчика | C12: разность | D12: расход эл,энергии за час | E12: показания счетчика | F12: разность | G12: расход эл,энергии за час | H12: показания счетчика | I12: разность | J12: расход эл,энергии за час | K12: показания счетчика | L12: разность | M12: расход эл,энергии за час
A13: 1 | B13: 2 | C13: 3 | D13: 4 | E13: 5 | F13: 6 | G13: 7 | H13: 8 | I13: 9 | J13: 10 | K13: 11 | L13: 12 | M13: 13
A14: 0
A15: 1 | D15: 0.87 | J15: 0
A16: 2 | D16: 0.87 | J16: 0
A17: 3 | D17: 3.27 | J17: 0
A18: 4 | D18: 4.95 | J18: 0
A19: 5 | D19: 4.86 | J19: 0
A20: 6 | D20: 4.17 | J20: 0
A21: 7 | D21: 0.78 | J21: 0
A22: 8 | D22: 1.35 | J22: 0
A23: 9 | D23: 1.86 | J23: 0
A24: 10 | D24: 3.6 | J24: 0
A25: 11 | D25: 2.73 | J25: 0
A26: 12 | D26: 3.33 | J26: 0
... A38: 24 | D38: 1.74 | J38: 0
A39: Итого | D39: =SUM(D15:D38) -> 62.16 | G39: =SUM(G15:G38) -> 0 | J39: =SUM(J15:J38) -> 0 | M39: =SUM(M15:M38) -> 0
A40: 1, При наличии на предприятии отклонений от нормальных режимов электропотребления (временное изменение схем питания, остановка на ремонт, резкое снижение
A41: эл,потребления и т,д,) последние необходимо перечислить,
A42: Главный инженер АО "Вологдаоблэнерго" А,В, Чурляев
A43: составляется самим предприятием с соблюдением всех пунктов настоящей таблицы,

Sheet 72
B1: АО "Вологдаоблэнерго" | H1: код 900151 | K1: ПС Нелазское, ф, Крутец
B2: наименование предприятия | K2: наименование источника питания
K3: КТП-Шулма, ул,Олимпийская
B4: ул, Горького, 99 | G4: Таблица № 1
B5: адрес
A6: почасовых записей показаний электрических счетчиков
A7: ='1'!A7:Q7 -> в режимный день 21 ИЮНЯ 2023 г.
A8: 1630 | B8: 1628
A9: часы суток | B9: Активная энергия | H9: Реактивная энергия
B10: =K3 -> КТП-Шулма, ул,Олимпийская | E10: =K4 -> 0 | H10: =B10 -> КТП-Шулма, ул,Олимпийская | K10: =E10 -> 0
B11: Расчет, Коэф, | D11: 60 | E11: Расчет, Коэф, | G11: 120 | H11: Расчет, Коэф, | J11: =D11 -> 60 | K11: Расчет, Коэф, | M11: =G11 -> 120
B12: показания счетчика | C12: разность | D12: расход эл,энергии за час | E12: показания счетчика | F12: разность | G12: расход эл,энергии за час | H12: показания счетчика | I12: разность | J12: расход эл,энергии за час | K12: показания счетчика | L12: разность | M12: расход эл,энергии за час
A13: 1 | B13: 2 | C13: 3 | D13: 4 | E13: 5 | F13: 6 | G13: 7 | H13: 8 | I13: 9 | J13: 10 | K13: 11 | L13: 12 | M13: 13
A14: 0
A15: 1 | D15: 21.81 | J15: 0
A16: 2 | D16: 22.02 | J16: 0
A17: 3 | D17: 17.85 | J17: 0
A18: 4 | D18: 16.41 | J18: 0
A19: 5 | D19: 16.41 | J19: 0
A20: 6 | D20: 18.27 | J20: 0
A21: 7 | D21: 20.43 | J21: 0
A22: 8 | D22: 22.02 | J22: 0
A23: 9 | D23: 20.76 | J23: 0
A24: 10 | D24: 21.93 | J24: 0
A25: 11 | D25: 20.94 | J25: 0
A26: 12 | D26: 20.07 | J26: 0
... A38: 24 | D38: 29.49 | J38: 0
A39: Итого | D39: =SUM(D15:D38) -> 566.94 | G39: =SUM(G15:G38) -> 0 | J39: =SUM(J15:J38) -> 0 | M39: =SUM(M15:M38) -> 0
A40: 1, При наличии на предприятии отклонений от нормальных режимов электропотребления (временное изменение схем питания, остановка на ремонт, резкое снижение
A41: эл,потребления и т,д,) последние необходимо перечислить,
A42: Главный инженер АО "Вологдаоблэнерго" А,В, Чурляев
A43: составляется самим предприятием с соблюдением всех пунктов настоящей таблицы,

Sheet 73
B1: АО "Вологдаоблэнерго" | H1: код 900151 | K1: ПС Домозерово, ф, Починок
B2: наименование предприятия | K2: наименование источника питания
K3: КТП-Бомк
B4: ул, Горького, 99 | G4: Таблица № 1
B5: адрес
A6: почасовых записей показаний электрических счетчиков
A7: ='1'!A7:Q7 -> в режимный день 21 ИЮНЯ 2023 г.
A8: 1630 | B8: 1628
A9: часы суток | B9: Активная энергия | H9: Реактивная энергия
B10: =K3 -> КТП-Бомк | E10: =K4 -> 0 | H10: =B10 -> КТП-Бомк | K10: =E10 -> 0
B11: Расчет, Коэф, | D11: 80 | E11: Расчет, Коэф, | G11: 120 | H11: Расчет, Коэф, | J11: =D11 -> 80 | K11: Расчет, Коэф, | M11: =G11 -> 120
B12: показания счетчика | C12: разность | D12: расход эл,энергии за час | E12: показания счетчика | F12: разность | G12: расход эл,энергии за час | H12: показания счетчика | I12: разность | J12: расход эл,энергии за час | K12: показания счетчика | L12: разность | M12: расход эл,энергии за час
A13: 1 | B13: 2 | C13: 3 | D13: 4 | E13: 5 | F13: 6 | G13: 7 | H13: 8 | I13: 9 | J13: 10 | K13: 11 | L13: 12 | M13: 13
A14: 0
A15: 1 | D15: 63.072 | J15: 0
A16: 2 | D16: 76.704 | J16: 0
A17: 3 | D17: 71.216 | J17: 0
A18: 4 | D18: 66.928 | J18: 0
A19: 5 | D19: 72.864 | J19: 0
A20: 6 | D20: 65.504 | J20: 0
A21: 7 | D21: 71.056 | J21: 0
A22: 8 | D22: 83.12 | J22: 0
A23: 9 | D23: 71.936 | J23: 0
A24: 10 | D24: 63.024 | J24: 0
A25: 11 | D25: 65.088 | J25: 0
A26: 12 | D26: 78.56 | J26: 0
... A38: 24 | D38: 88.832 | J38: 0
A39: Итого | D39: =SUM(D15:D38) -> 1818.752 | G39: =SUM(G15:G38) -> 0 | J39: =SUM(J15:J38) -> 0 | M39: =SUM(M15:M38) -> 0
A40: 1, При наличии на предприятии отклонений от нормальных режимов электропотребления (временное изменение схем питания, остановка на ремонт, резкое снижение
A41: эл,потребления и т,д,) последние необходимо перечислить,
A42: Главный инженер АО "Вологдаоблэнерго" А,В, Чурляев
A43: составляется самим предприятием с соблюдением всех пунктов настоящей таблицы,

Sheet 74
B1: АО "Вологдаоблэнерго" | H1: код 900151 | K1: ПС Батран, ф,Гоша
B2: наименование предприятия | K2: наименование источника питания
K3: КТП-ДНТ Ульяновский
B4: ул, Горького, 99 | G4: Таблица № 1
B5: адрес
A6: почасовых записей показаний электрических счетчиков
A7: ='1'!A7:Q7 -> в режимный день 21 ИЮНЯ 2023 г.
A8: 1630 | B8: 1628
A9: часы суток | B9: Активная энергия | H9: Реактивная энергия
B10: =K3 -> КТП-ДНТ Ульяновский | E10: =K4 -> 0 | H10: =B10 -> КТП-ДНТ Ульяновский | K10: =E10 -> 0
B11: Расчет, Коэф, | D11: 60 | E11: Расчет, Коэф, | G11: 120 | H11: Расчет, Коэф, | J11: =D11 -> 60 | K11: Расчет, Коэф, | M11: =G11 -> 120
B12: показания счетчика | C12: разность | D12: расход эл,энергии за час | E12: показания счетчика | F12: разность | G12: расход эл,энергии за час | H12: показания счетчика | I12: разность | J12: расход эл,энергии за час | K12: показания счетчика | L12: разность | M12: расход эл,энергии за час
A13: 1 | B13: 2 | C13: 3 | D13: 4 | E13: 5 | F13: 6 | G13: 7 | H13: 8 | I13: 9 | J13: 10 | K13: 11 | L13: 12 | M13: 13
A14: 0
A15: 1 | D15: 0 | J15: 0
A16: 2 | D16: 0 | J16: 0
A17: 3 | D17: 0 | J17: 0
A18: 4 | D18: 0 | J18: 0
A19: 5 | D19: 0 | J19: 0
A20: 6 | D20: 0 | J20: 0
A21: 7 | D21: 0 | J21: 0
A22: 8 | D22: 0 | J22: 0
A23: 9 | D23: 0 | J23: 0
A24: 10 | D24: 0 | J24: 0
A25: 11 | D25: 0 | J25: 0
A26: 12 | D26: 0 | J26: 0
... A38: 24 | D38: 0 | J38: 0
A39: Итого | D39: =SUM(D15:D38) -> 0 | G39: =SUM(G15:G38) -> 0 | J39: =SUM(J15:J38) -> 0 | M39: =SUM(M15:M38) -> 0
A40: 1, При наличии на предприятии отклонений от нормальных режимов электропотребления (временное изменение схем питания, остановка на ремонт, резкое снижение
A41: эл,потребления и т,д,) последние необходимо перечислить,
A42: Главный инженер АО "Вологдаоблэнерго" А,В, Чурляев
A43: составляется самим предприятием с соблюдением всех пунктов настоящей таблицы,

Sheet 75
B1: АО "Вологдаоблэнерго" | H1: код 900151 | K1: ПС Малечкино, ф,Котельная
B2: наименование предприятия | K2: наименование источника питания
K3: ТП-47 В-1
B4: ул, Горького, 99 | G4: Таблица № 1 | K4: ТП-47 В-2
B5: адрес
A6: почасовых записей показаний электрических счетчиков
A7: ='1'!A7:Q7 -> в режимный день 21 ИЮНЯ 2023 г.
A8: 1630 | B8: 1628
A9: часы суток | B9: Активная энергия | H9: Реактивная энергия
B10: =K3 -> ТП-47 В-1 | E10: =K4 -> ТП-47 В-2 | H10: =B10 -> ТП-47 В-1 | K10: =E10 -> ТП-47 В-2
B11: Расчет, Коэф, | D11: 120 | E11: Расчет, Коэф, | G11: 120 | H11: Расчет, Коэф, | J11: =D11 -> 120 | K11: Расчет, Коэф, | M11: =G11 -> 120
B12: показания счетчика | C12: разность | D12: расход эл,энергии за час | E12: показания счетчика | F12: разность | G12: расход эл,энергии за час | H12: показания счетчика | I12: разность | J12: расход эл,энергии за час | K12: показания счетчика | L12: разность | M12: расход эл,энергии за час
A13: 1 | B13: 2 | C13: 3 | D13: 4 | E13: 5 | F13: 6 | G13: 7 | H13: 8 | I13: 9 | J13: 10 | K13: 11 | L13: 12 | M13: 13
A14: 0
A15: 1 | D15: 0 | G15: 7.2 | J15: 0 | M15: 0
A16: 2 | D16: 0 | G16: 7.104 | J16: 0 | M16: 0
A17: 3 | D17: 0 | G17: 7.104 | J17: 0 | M17: 0
A18: 4 | D18: 0 | G18: 6.84 | J18: 0 | M18: 0
A19: 5 | D19: 0 | G19: 6.792 | J19: 0 | M19: 0
A20: 6 | D20: 0 | G20: 6.84 | J20: 0 | M20: 0
A21: 7 | D21: 0 | G21: 7.152 | J21: 0 | M21: 0
A22: 8 | D22: 0 | G22: 7.056 | J22: 0 | M22: 0
A23: 9 | D23: 0 | G23: 7.104 | J23: 0 | M23: 0
A24: 10 | D24: 0 | G24: 6.36 | J24: 0 | M24: 0
A25: 11 | D25: 0 | G25: 6.264 | J25: 0 | M25: 0
A26: 12 | D26: 0 | G26: 7.032 | J26: 0 | M26: 0
... A38: 24 | D38: 0 | G38: 9.792 | J38: 0 | M38: 0
A39: Итого | D39: =SUM(D15:D38) -> 0 | G39: =SUM(G15:G38) -> 177.792 | J39: =SUM(J15:J38) -> 0 | M39: =SUM(M15:M38) -> 0
A40: 1, При наличии на предприятии отклонений от нормальных режимов электропотребления (временное изменение схем питания, остановка на ремонт, резкое снижение
A41: эл,потребления и т,д,) последние необходимо перечислить,
A42: Главный инженер АО "Вологдаоблэнерго" А,В, Чурляев
A43: составляется самим предприятием с соблюдением всех пунктов настоящей таблицы,

Sheet 76
B1: АО "Вологдаоблэнерго" | H1: код 900151 | K1: ПС Малечкино, ф,Птицефабрика
B2: наименование предприятия | K2: наименование источника питания
K3: ТП-9 В-1
B4: ул, Горького, 99 | G4: Таблица № 1
B5: адрес
A6: почасовых записей показаний электрических счетчиков
A7: ='1'!A7:Q7 -> в режимный день 21 ИЮНЯ 2023 г.
A8: 1630 | B8: 1628
A9: часы суток | B9: Активная энергия | H9: Реактивная энергия
B10: =K3 -> ТП-9 В-1 | E10: =K4 -> 0 | H10: =B10 -> ТП-9 В-1 | K10: =E10 -> 0
B11: Расчет, Коэф, | D11: 40 | E11: Расчет, Коэф, | G11: 120 | H11: Расчет, Коэф, | J11: =D11 -> 40 | K11: Расчет, Коэф, | M11: =G11 -> 120
B12: показания счетчика | C12: разность | D12: расход эл,энергии за час | E12: показания счетчика | F12: разность | G12: расход эл,энергии за час | H12: показания счетчика | I12: разность | J12: расход эл,энергии за час | K12: показания счетчика | L12: разность | M12: расход эл,энергии за час
A13: 1 | B13: 2 | C13: 3 | D13: 4 | E13: 5 | F13: 6 | G13: 7 | H13: 8 | I13: 9 | J13: 10 | K13: 11 | L13: 12 | M13: 13
A14: 0
A15: 1 | D15: 0 | J15: 0
A16: 2 | D16: 0 | J16: 0
A17: 3 | D17: 0 | J17: 0
A18: 4 | D18: 0 | J18: 0
A19: 5 | D19: 0 | J19: 0
A20: 6 | D20: 0 | J20: 0
A21: 7 | D21: 0 | J21: 0
A22: 8 | D22: 0 | J22: 0
A23: 9 | D23: 0 | J23: 0
A24: 10 | D24: 0 | J24: 0
A25: 11 | D25: 0 | J25: 0
A26: 12 | D26: 0 | J26: 0
... A38: 24 | D38: 0 | J38: 0
A39: Итого | D39: =SUM(D15:D38) -> 0 | G39: =SUM(G15:G38) -> 0 | J39: =SUM(J15:J38) -> 0 | M39: =SUM(M15:M38) -> 0
A40: 1, При наличии на предприятии отклонений от нормальных режимов электропотребления (временное изменение схем питания, остановка на ремонт, резкое снижение
A41: эл,потребления и т,д,) последние необходимо перечислить,
A42: Главный инженер АО "Вологдаоблэнерго" А,В, Чурляев
A43: составляется самим предприятием с соблюдением всех пунктов настоящей таблицы,

Sheet 77
B1: АО "Вологдаоблэнерго" | H1: код 900151 | K1: ПС Малечкино, ф,Котельная
B2: наименование предприятия | K2: наименование источника питания
K3: ТП-9 В-2
B4: ул, Горького, 99 | G4: Таблица № 1
B5: адрес
A6: почасовых записей показаний электрических счетчиков
A7: ='1'!A7:Q7 -> в режимный день 21 ИЮНЯ 2023 г.
A8: 1630 | B8: 1628
A9: часы суток | B9: Активная энергия | H9: Реактивная энергия
B10: =K3 -> ТП-9 В-2 | E10: =K4 -> 0 | H10: =B10 -> ТП-9 В-2 | K10: =E10 -> 0
B11: Расчет, Коэф, | D11: 40 | E11: Расчет, Коэф, | G11: 120 | H11: Расчет, Коэф, | J11: =D11 -> 40 | K11: Расчет, Коэф, | M11: =G11 -> 120
B12: показания счетчика | C12: разность | D12: расход эл,энергии за час | E12: показания счетчика | F12: разность | G12: расход эл,энергии за час | H12: показания счетчика | I12: разность | J12: расход эл,энергии за час | K12: показания счетчика | L12: разность | M12: расход эл,энергии за час
A13: 1 | B13: 2 | C13: 3 | D13: 4 | E13: 5 | F13: 6 | G13: 7 | H13: 8 | I13: 9 | J13: 10 | K13: 11 | L13: 12 | M13: 13
A14: 0
A15: 1 | D15: 4.856 | J15: 0
A16: 2 | D16: 4.728 | J16: 0
A17: 3 | D17: 4.664 | J17: 0
A18: 4 | D18: 5.504 | J18: 0
A19: 5 | D19: 4.848 | J19: 0
A20: 6 | D20: 6.424 | J20: 0
A21: 7 | D21: 6.952 | J21: 0
A22: 8 | D22: 8.624 | J22: 0
A23: 9 | D23: 8.416 | J23: 0
A24: 10 | D24: 8.928 | J24: 0
A25: 11 | D25: 9.016 | J25: 0
A26: 12 | D26: 7.912 | J26: 0
... A38: 24 | D38: 5.976 | J38: 0
A39: Итого | D39: =SUM(D15:D38) -> 160.664 | G39: =SUM(G15:G38) -> 0 | J39: =SUM(J15:J38) -> 0 | M39: =SUM(M15:M38) -> 0
A40: 1, При наличии на предприятии отклонений от нормальных режимов электропотребления (временное изменение схем питания, остановка на ремонт, резкое снижение
A41: эл,потребления и т,д,) последние необходимо перечислить,
A42: Главный инженер АО "Вологдаоблэнерго" А,В, Чурляев
A43: составляется самим предприятием с соблюдением всех пунктов настоящей таблицы,

Sheet 78
B1: АО "Вологдаоблэнерго" | H1: код 900151 | K1: ПС Загородная, ф,Солнаское
B2: наименование предприятия | K2: наименование источника питания
K3: ТП Северо-Западный т,д,
B4: ул, Горького, 99 | G4: Таблица № 1 | K4: КТП- Мелиоводстрой
B5: адрес
A6: почасовых записей показаний электрических счетчиков
A7: ='1'!A7:Q7 -> в режимный день 21 ИЮНЯ 2023 г.
A8: 1630 | B8: 1628
A9: часы суток | B9: Активная энергия | H9: Реактивная энергия
B10: =K3 -> ТП Северо-Западный т,д, | E10: =K4 -> КТП- Мелиоводстрой | H10: =B10 -> ТП Северо-Западный т,д, | K10: =E10 -> КТП- Мелиоводстрой
B11: Расчет, Коэф, | D11: 120 | E11: Расчет, Коэф, | G11: 200 | H11: Расчет, Коэф, | J11: =D11 -> 120 | K11: Расчет, Коэф, | M11: =G11 -> 200
B12: показания счетчика | C12: разность | D12: расход эл,энергии за час | E12: показания счетчика | F12: разность | G12: расход эл,энергии за час | H12: показания счетчика | I12: разность | J12: расход эл,энергии за час | K12: показания счетчика | L12: разность | M12: расход эл,энергии за час
A13: 1 | B13: 2 | C13: 3 | D13: 4 | E13: 5 | F13: 6 | G13: 7 | H13: 8 | I13: 9 | J13: 10 | K13: 11 | L13: 12 | M13: 13
A14: 0
A15: 1 | D15: 4.02 | G15: 69.12 | J15: 0 | M15: 0
A16: 2 | D16: 3.66 | G16: 67.36 | J16: 0 | M16: 0
A17: 3 | D17: 3.24 | G17: 59.16 | J17: 0 | M17: 0
A18: 4 | D18: 3.24 | G18: 47.96 | J18: 0 | M18: 0
A19: 5 | D19: 2.76 | G19: 47.04 | J19: 0 | M19: 0
A20: 6 | D20: 3.72 | G20: 50.32 | J20: 0 | M20: 0
A21: 7 | D21: 3.3 | G21: 59.16 | J21: 0 | M21: 0
A22: 8 | D22: 2.28 | G22: 67.84 | J22: 0 | M22: 0
A23: 9 | D23: 7.08 | G23: 69.72 | J23: 0 | M23: 0
A24: 10 | D24: 4.68 | G24: 81.56 | J24: 0 | M24: 0
A25: 11 | D25: 5.22 | G25: 88.68 | J25: 0 | M25: 0
A26: 12 | D26: 5.34 | G26: 81.48 | J26: 0 | M26: 0
... A38: 24 | D38: 2.76 | G38: 70.6 | J38: 0 | M38: 0
A39: Итого | D39: =SUM(D15:D38) -> 110.64 | G39: =SUM(G15:G38) -> 1786.36 | J39: =SUM(J15:J38) -> 0 | M39: =SUM(M15:M38) -> 0
A40: 1, При наличии на предприятии отклонений от нормальных режимов электропотребления (временное изменение схем питания, остановка на ремонт, резкое снижение
A41: эл,потребления и т,д,) последние необходимо перечислить,
A42: Главный инженер АО "Вологдаоблэнерго" А,В, Чурляев
A43: составляется самим предприятием с соблюдением всех пунктов настоящей таблицы,

Sheet 79
B1: АО "Вологдаоблэнерго" | H1: код 900151 | K1: ПС Суда, ф, Андога
B2: наименование предприятия | K2: наименование источника питания
K3: КТП-100 Детский дом
B4: ул, Горького, 99 | G4: Таблица № 1
B5: адрес
A6: почасовых записей показаний электрических счетчиков
A7: ='1'!A7:Q7 -> в режимный день 21 ИЮНЯ 2023 г.
A8: 1630 | B8: 1628
A9: часы суток | B9: Активная энергия | H9: Реактивная энергия
B10: =K3 -> КТП-100 Детский дом | E10: =K4 -> 0 | H10: =B10 -> КТП-100 Детский дом | K10: =E10 -> 0
B11: Расчет, Коэф, | D11: 20 | E11: Расчет, Коэф, | G11: 200 | H11: Расчет, Коэф, | J11: =D11 -> 20 | K11: Расчет, Коэф, | M11: =G11 -> 200
B12: показания счетчика | C12: разность | D12: расход эл,энергии за час | E12: показания счетчика | F12: разность | G12: расход эл,энергии за час | H12: показания счетчика | I12: разность | J12: расход эл,энергии за час | K12: показания счетчика | L12: разность | M12: расход эл,энергии за час
A13: 1 | B13: 2 | C13: 3 | D13: 4 | E13: 5 | F13: 6 | G13: 7 | H13: 8 | I13: 9 | J13: 10 | K13: 11 | L13: 12 | M13: 13
A14: 0
A15: 1 | D15: 7.956 | J15: 0
A16: 2 | D16: 7.86 | J16: 0
A17: 3 | D17: 7.844 | J17: 0
A18: 4 | D18: 7.832 | J18: 0
A19: 5 | D19: 7.82 | J19: 0
A20: 6 | D20: 7.848 | J20: 0
A21: 7 | D21: 7.836 | J21: 0
A22: 8 | D22: 7.948 | J22: 0
A23: 9 | D23: 9.208 | J23: 0
A24: 10 | D24: 9.316 | J24: 0
A25: 11 | D25: 9.132 | J25: 0
A26: 12 | D26: 9.304 | J26: 0
... A38: 24 | D38: 6.392 | J38: 0
A39: Итого | D39: =SUM(D15:D38) -> 190.608 | G39: =SUM(G15:G38) -> 0 | J39: =SUM(J15:J38) -> 0 | M39: =SUM(M15:M38) -> 0
A40: 1, При наличии на предприятии отклонений от нормальных режимов электропотребления (временное изменение схем питания, остановка на ремонт, резкое снижение
A41: эл,потребления и т,д,) последние необходимо перечислить,
A42: Главный инженер АО "Вологдаоблэнерго" А,В, Чурляев
A43: составляется самим предприятием с соблюдением всех пунктов настоящей таблицы,

Sheet 80
B1: АО "Вологдаоблэнерго" | H1: код 900151 | K1: ПС Климовская, ф, Лохта
B2: наименование предприятия | K2: наименование источника питания
K3: ТП-325
B4: ул, Горького, 99 | G4: Таблица № 1
B5: адрес
A6: почасовых записей показаний электрических счетчиков
A7: ='1'!A7:Q7 -> в режимный день 21 ИЮНЯ 2023 г.
A8: 1630 | B8: 1628
A9: часы суток | B9: Активная энергия | H9: Реактивная энергия
B10: =K3 -> ТП-325 | E10: =K4 -> 0 | H10: =B10 -> ТП-325 | K10: =E10 -> 0
B11: Расчет, Коэф, | D11: 120 | E11: Расчет, Коэф, | G11: 200 | H11: Расчет, Коэф, | J11: =D11 -> 120 | K11: Расчет, Коэф, | M11: =G11 -> 200
B12: показания счетчика | C12: разность | D12: расход эл,энергии за час | E12: показания счетчика | F12: разность | G12: расход эл,энергии за час | H12: показания счетчика | I12: разность | J12: расход эл,энергии за час | K12: показания счетчика | L12: разность | M12: расход эл,энергии за час
A13: 1 | B13: 2 | C13: 3 | D13: 4 | E13: 5 | F13: 6 | G13: 7 | H13: 8 | I13: 9 | J13: 10 | K13: 11 | L13: 12 | M13: 13
A14: 0
A15: 1 | D15: 0.42 | J15: 0
A16: 2 | D16: 0.48 | J16: 0
A17: 3 | D17: 0.48 | J17: 0
A18: 4 | D18: 0.48 | J18: 0
A19: 5 | D19: 0.42 | J19: 0
A20: 6 | D20: 0.54 | J20: 0
A21: 7 | D21: 0.42 | J21: 0
A22: 8 | D22: 0.48 | J22: 0
A23: 9 | D23: 5.4 | J23: 0
A24: 10 | D24: 5.16 | J24: 0
A25: 11 | D25: 8.64 | J25: 0
A26: 12 | D26: 6.66 | J26: 0
... A38: 24 | D38: 0.48 | J38: 0
A39: Итого | D39: =SUM(D15:D38) -> 42.78 | G39: =SUM(G15:G38) -> 0 | J39: =SUM(J15:J38) -> 0 | M39: =SUM(M15:M38) -> 0
A40: 1, При наличии на предприятии отклонений от нормальных режимов электропотребления (временное изменение схем питания, остановка на ремонт, резкое снижение
A41: эл,потребления и т,д,) последние необходимо перечислить,
A42: Главный инженер АО "Вологдаоблэнерго" А,В, Чурляев
A43: составляется самим предприятием с соблюдением всех пунктов настоящей таблицы,

Sheet 81
B1: АО "Вологдаоблэнерго" | H1: код 900151 | K1: ПС Енюково, ф, Ботово
B2: наименование предприятия | K2: наименование источника питания
K3: ТП-Новое Ботово
B4: ул, Горького, 99 | G4: Таблица № 1 | K4: КТП- д,Ботово
B5: адрес
A6: почасовых записей показаний электрических счетчиков
A7: ='1'!A7:Q7 -> в режимный день 21 ИЮНЯ 2023 г.
A8: 1630 | B8: 1628
A9: часы суток | B9: Активная энергия | H9: Реактивная энергия
B10: =K3 -> ТП-Новое Ботово | E10: =K4 -> КТП- д,Ботово | H10: =B10 -> ТП-Новое Ботово | K10: =E10 -> КТП- д,Ботово
B11: Расчет, Коэф, | D11: 40 | E11: Расчет, Коэф, | G11: 40 | H11: Расчет, Коэф, | J11: =D11 -> 40 | K11: Расчет, Коэф, | M11: =G11 -> 40
B12: показания счетчика | C12: разность | D12: расход эл,энергии за час | E12: показания счетчика | F12: разность | G12: расход эл,энергии за час | H12: показания счетчика | I12: разность | J12: расход эл,энергии за час | K12: показания счетчика | L12: разность | M12: расход эл,энергии за час
A13: 1 | B13: 2 | C13: 3 | D13: 4 | E13: 5 | F13: 6 | G13: 7 | H13: 8 | I13: 9 | J13: 10 | K13: 11 | L13: 12 | M13: 13
A14: 0
A15: 1 | D15: 5.26 | G15: 0 | J15: 0 | M15: 0
A16: 2 | D16: 2.72 | G16: 0 | J16: 0 | M16: 0
A17: 3 | D17: 2.66 | G17: 0 | J17: 0 | M17: 0
A18: 4 | D18: 4.56 | G18: 0 | J18: 0 | M18: 0
A19: 5 | D19: 3.02 | G19: 0 | J19: 0 | M19: 0
A20: 6 | D20: 1.84 | G20: 0 | J20: 0 | M20: 0
A21: 7 | D21: 2.94 | G21: 0 | J21: 0 | M21: 0
A22: 8 | D22: 3.5 | G22: 0 | J22: 0 | M22: 0
A23: 9 | D23: 2.84 | G23: 0 | J23: 0 | M23: 0
A24: 10 | D24: 2.7 | G24: 0 | J24: 0 | M24: 0
A25: 11 | D25: 2.14 | G25: 0 | J25: 0 | M25: 0
A26: 12 | D26: 2.64 | G26: 0 | J26: 0 | M26: 0
... A38: 24 | D38: 3.86 | G38: 0 | J38: 0 | M38: 0
A39: Итого | D39: =SUM(D15:D38) -> 78.28 | G39: =SUM(G15:G38) -> 0 | J39: =SUM(J15:J38) -> 0 | M39: =SUM(M15:M38) -> 0
A40: 1, При наличии на предприятии отклонений от нормальных режимов электропотребления (временное изменение схем питания, остановка на ремонт, резкое снижение
A41: эл,потребления и т,д,) последние необходимо перечислить,
A42: Главный инженер АО "Вологдаоблэнерго" А,В, Чурляев
A43: составляется самим предприятием с соблюдением всех пунктов настоящей таблицы,

Sheet 82
B1: АО "Вологдаоблэнерго" | H1: код 900151 | K1: ПС Енюково, ф, Борисово
B2: наименование предприятия | K2: наименование источника питания
K3: КТП-100 АЗС №43
B4: ул, Горького, 99 | G4: Таблица № 1
B5: адрес
A6: почасовых записей показаний электрических счетчиков
A7: ='1'!A7:Q7 -> в режимный день 21 ИЮНЯ 2023 г.
A8: 1630 | B8: 1628
A9: часы суток | B9: Активная энергия | H9: Реактивная энергия
B10: =K3 -> КТП-100 АЗС №43 | E10: =K4 -> 0 | H10: =B10 -> КТП-100 АЗС №43 | K10: =E10 -> 0
B11: Расчет, Коэф, | D11: 30 | E11: Расчет, Коэф, | G11: 40 | H11: Расчет, Коэф, | J11: =D11 -> 30 | K11: Расчет, Коэф, | M11: =G11 -> 40
B12: показания счетчика | C12: разность | D12: расход эл,энергии за час | E12: показания счетчика | F12: разность | G12: расход эл,энергии за час | H12: показания счетчика | I12: разность | J12: расход эл,энергии за час | K12: показания счетчика | L12: разность | M12: расход эл,энергии за час
A13: 1 | B13: 2 | C13: 3 | D13: 4 | E13: 5 | F13: 6 | G13: 7 | H13: 8 | I13: 9 | J13: 10 | K13: 11 | L13: 12 | M13: 13
A14: 0
A15: 1 | D15: 11.814 | J15: 0
A16: 2 | D16: 11.418 | J16: 0
A17: 3 | D17: 12.9 | J17: 0
A18: 4 | D18: 8.562 | J18: 0
A19: 5 | D19: 5.31 | J19: 0
A20: 6 | D20: 5.79 | J20: 0
A21: 7 | D21: 5.682 | J21: 0
A22: 8 | D22: 5.826 | J22: 0
A23: 9 | D23: 8.28 | J23: 0
A24: 10 | D24: 7.392 | J24: 0
A25: 11 | D25: 7.458 | J25: 0
A26: 12 | D26: 7.854 | J26: 0
... A38: 24 | D38: 11.448 | J38: 0
A39: Итого | D39: =SUM(D15:D38) -> 190.794 | G39: =SUM(G15:G38) -> 0 | J39: =SUM(J15:J38) -> 0 | M39: =SUM(M15:M38) -> 0
A40: 1, При наличии на предприятии отклонений от нормальных режимов электропотребления (временное изменение схем питания, остановка на ремонт, резкое снижение
A41: эл,потребления и т,д,) последние необходимо перечислить,
A42: Главный инженер АО "Вологдаоблэнерго" А,В, Чурляев
A43: составляется самим предприятием с соблюдением всех пунктов настоящей таблицы,

Sheet 83
B1: АО "Вологдаоблэнерго" | H1: код 900151 | K1: ПС Енюково, ф, Борисово
B2: наименование предприятия | K2: наименование источника питания
K3: КТП-100 АЗС №43
B4: ул, Горького, 99 | G4: Таблица № 1 | K4: ТП- "Освещение дороги" (Аэропорт)
B5: адрес
A6: почасовых записей показаний электрических счетчиков
A7: ='1'!A7:Q7 -> в режимный день 21 ИЮНЯ 2023 г.
A8: 1630 | B8: 1628
A9: часы суток | B9: Активная энергия | H9: Реактивная энергия
B10: =K3 -> КТП-100 АЗС №43 | E10: =K4 -> ТП- "Освещение дороги" (Аэропорт) | H10: =B10 -> КТП-100 АЗС №43 | K10: =E10 -> ТП- "Освещение дороги" (Аэропорт)
B11: Расчет, Коэф, | D11: 30 | E11: Расчет, Коэф, | G11: 1 | H11: Расчет, Коэф, | J11: =D11 -> 30 | K11: Расчет, Коэф, | M11: =G11 -> 1
B12: показания счетчика | C12: разность | D12: расход эл,энергии за час | E12: показания счетчика | F12: разность | G12: расход эл,энергии за час | H12: показания счетчика | I12: разность | J12: расход эл,энергии за час | K12: показания счетчика | L12: разность | M12: расход эл,энергии за час
A13: 1 | B13: 2 | C13: 3 | D13: 4 | E13: 5 | F13: 6 | G13: 7 | H13: 8 | I13: 9 | J13: 10 | K13: 11 | L13: 12 | M13: 13
A14: 0
A15: 1 | D15: 11.604 | G15: 23.9 | J15: 0 | M15: 0
A16: 2 | D16: 11.142 | G16: 23.678 | J16: 0 | M16: 0
A17: 3 | D17: 13.236 | G17: 23.878 | J17: 0 | M17: 0
A18: 4 | D18: 12.678 | G18: 23.704 | J18: 0 | M18: 0
A19: 5 | D19: 9.192 | G19: 23.47 | J19: 0 | M19: 0
A20: 6 | D20: 5.022 | G20: 23.512 | J20: 0 | M20: 0
A21: 7 | D21: 6.978 | G21: 23.688 | J21: 0 | M21: 0
A22: 8 | D22: 8.178 | G22: 23.606 | J22: 0 | M22: 0
A23: 9 | D23: 8.142 | G23: 23.478 | J23: 0 | M23: 0
A24: 10 | D24: 8.328 | G24: 3.656 | J24: 0 | M24: 0
A25: 11 | D25: 7.716 | G25: 0.04 | J25: 0 | M25: 0
A26: 12 | D26: 6.924 | G26: 0.04 | J26: 0 | M26: 0
... A38: 24 | D38: 11.826 | G38: 23.572 | J38: 0 | M38: 0
A39: Итого | D39: =SUM(D15:D38) -> 197.352 | G39: =SUM(G15:G38) -> 416.862 | J39: =SUM(J15:J38) -> 0 | M39: =SUM(M15:M38) -> 0
A40: 1, При наличии на предприятии отклонений от нормальных режимов электропотребления (временное изменение схем питания, остановка на ремонт, резкое снижение
A41: эл,потребления и т,д,) последние необходимо перечислить,
A42: Главный инженер АО "Вологдаоблэнерго" А,В, Чурляев
A43: составляется самим предприятием с соблюдением всех пунктов настоящей таблицы,

Sheet 84
B1: АО "Вологдаоблэнерго" | H1: код 900151 | K1: ПС РПП-1, ф, Шубацкое
B2: наименование предприятия | K2: наименование источника питания
K3: КТП-63 "ЧЭТС"
B4: ул, Горького, 99 | G4: Таблица № 1
B5: адрес
A6: почасовых записей показаний электрических счетчиков
A7: ='1'!A7:Q7 -> в режимный день 21 ИЮНЯ 2023 г.
A8: 1630 | B8: 1628
A9: часы суток | B9: Активная энергия | H9: Реактивная энергия
B10: =K3 -> КТП-63 "ЧЭТС" | E10: =K4 -> 0 | H10: =B10 -> КТП-63 "ЧЭТС" | K10: =E10 -> 0
B11: Расчет, Коэф, | D11: 20 | E11: Расчет, Коэф, | G11: 40 | H11: Расчет, Коэф, | J11: =D11 -> 20 | K11: Расчет, Коэф, | M11: =G11 -> 40
B12: показания счетчика | C12: разность | D12: расход эл,энергии за час | E12: показания счетчика | F12: разность | G12: расход эл,энергии за час | H12: показания счетчика | I12: разность | J12: расход эл,энергии за час | K12: показания счетчика | L12: разность | M12: расход эл,энергии за час
A13: 1 | B13: 2 | C13: 3 | D13: 4 | E13: 5 | F13: 6 | G13: 7 | H13: 8 | I13: 9 | J13: 10 | K13: 11 | L13: 12 | M13: 13
A14: 0
A15: 1 | D15: 6.61 | J15: 0
A16: 2 | D16: 5.95 | J16: 0
A17: 3 | D17: 5.99 | J17: 0
A18: 4 | D18: 5.99 | J18: 0
A19: 5 | D19: 5.92 | J19: 0
A20: 6 | D20: 5.97 | J20: 0
A21: 7 | D21: 6.68 | J21: 0
A22: 8 | D22: 7.34 | J22: 0
A23: 9 | D23: 9.26 | J23: 0
A24: 10 | D24: 8.45 | J24: 0
A25: 11 | D25: 9.3 | J25: 0
A26: 12 | D26: 8.83 | J26: 0
... A38: 24 | D38: 5.87 | J38: 0
A39: Итого | D39: =SUM(D15:D38) -> 174.52 | G39: =SUM(G15:G38) -> 0 | J39: =SUM(J15:J38) -> 0 | M39: =SUM(M15:M38) -> 0
A40: 1, При наличии на предприятии отклонений от нормальных режимов электропотребления (временное изменение схем питания, остановка на ремонт, резкое снижение
A41: эл,потребления и т,д,) последние необходимо перечислить,
A42: Главный инженер АО "Вологдаоблэнерго" А,В, Чурляев
A43: составляется самим предприятием с соблюдением всех пунктов настоящей таблицы,

Sheet 85
B1: АО "Вологдаоблэнерго" | H1: код 900151 | K1: ПС Климоская, ф, Лохта
B2: наименование предприятия | K2: наименование источника питания
K3: КТП-Деревня
B4: ул, Горького, 99 | G4: Таблица № 1 | K4: ТП-321
B5: адрес
A6: почасовых записей показаний электрических счетчиков
A7: ='1'!A7:Q7 -> в режимный день 21 ИЮНЯ 2023 г.
A8: 1630 | B8: 1628
A9: часы суток | B9: Активная энергия | H9: Реактивная энергия
B10: =K3 -> КТП-Деревня | E10: =K4 -> ТП-321 | H10: =B10 -> КТП-Деревня | K10: =E10 -> ТП-321
B11: Расчет, Коэф, | D11: 80 | E11: Расчет, Коэф, | G11: 30 | H11: Расчет, Коэф, | J11: =D11 -> 80 | K11: Расчет, Коэф, | M11: =G11 -> 30
B12: показания счетчика | C12: разность | D12: расход эл,энергии за час | E12: показания счетчика | F12: разность | G12: расход эл,энергии за час | H12: показания счетчика | I12: разность | J12: расход эл,энергии за час | K12: показания счетчика | L12: разность | M12: расход эл,энергии за час
A13: 1 | B13: 2 | C13: 3 | D13: 4 | E13: 5 | F13: 6 | G13: 7 | H13: 8 | I13: 9 | J13: 10 | K13: 11 | L13: 12 | M13: 13
A14: 0
A15: 1 | D15: 65.776 | G15: 30.72 | J15: 0 | M15: 0
A16: 2 | D16: 70.656 | G16: 29.91 | J16: 0 | M16: 0
A17: 3 | D17: 66.432 | G17: 29.97 | J17: 0 | M17: 0
A18: 4 | D18: 69.2 | G18: 31.17 | J18: 0 | M18: 0
A19: 5 | D19: 64.752 | G19: 34.59 | J19: 0 | M19: 0
A20: 6 | D20: 74.784 | G20: 36 | J20: 0 | M20: 0
A21: 7 | D21: 78.4 | G21: 38.7 | J21: 0 | M21: 0
A22: 8 | D22: 81.072 | G22: 37.38 | J22: 0 | M22: 0
A23: 9 | D23: 82.656 | G23: 23.94 | J23: 0 | M23: 0
A24: 10 | D24: 79.936 | G24: 24.63 | J24: 0 | M24: 0
A25: 11 | D25: 78.816 | G25: 24.48 | J25: 0 | M25: 0
A26: 12 | D26: 75.328 | G26: 22.02 | J26: 0 | M26: 0
... A38: 24 | D38: 81.376 | G38: 21.81 | J38: 0 | M38: 0
A39: Итого | D39: =SUM(D15:D38) -> 1938.672 | G39: =SUM(G15:G38) -> 689.46 | J39: =SUM(J15:J38) -> 0 | M39: =SUM(M15:M38) -> 0
A40: 1, При наличии на предприятии отклонений от нормальных режимов электропотребления (временное изменение схем питания, остановка на ремонт, резкое снижение
A41: эл,потребления и т,д,) последние необходимо перечислить,
A42: Главный инженер АО "Вологдаоблэнерго" А,В, Чурляев
A43: составляется самим предприятием с соблюдением всех пунктов настоящей таблицы,

Sheet 86
B1: АО "Вологдаоблэнерго" | H1: код 900151 | K1: ПС Енюково
B2: наименование предприятия | K2: наименование источника питания
K3: ф, КУФ-3
B4: ул, Горького, 99 | G4: Таблица № 1
B5: адрес
A6: почасовых записей показаний электрических счетчиков
A7: ='1'!A7:Q7 -> в режимный день 21 ИЮНЯ 2023 г.
A8: 1630 | B8: 1628
A9: часы суток | B9: Активная энергия | H9: Реактивная энергия
B10: =K3 -> ф, КУФ-3 | E10: =K4 -> 0 | H10: =B10 -> ф, КУФ-3 | K10: =E10 -> 0
B11: Расчет, Коэф, | D11: 80 | E11: Расчет, Коэф, | G11: 30 | H11: Расчет, Коэф, | J11: =D11 -> 80 | K11: Расчет, Коэф, | M11: =G11 -> 30
B12: показания счетчика | C12: разность | D12: расход эл,энергии за час | E12: показания счетчика | F12: разность | G12: расход эл,энергии за час | H12: показания счетчика | I12: разность | J12: расход эл,энергии за час | K12: показания счетчика | L12: разность | M12: расход эл,энергии за час
A13: 1 | B13: 2 | C13: 3 | D13: 4 | E13: 5 | F13: 6 | G13: 7 | H13: 8 | I13: 9 | J13: 10 | K13: 11 | L13: 12 | M13: 13
A14: 0
A15: 1 | D15: 0 | J15: 0
A16: 2 | D16: 0 | J16: 0
A17: 3 | D17: 0 | J17: 0
A18: 4 | D18: 0 | J18: 0
A19: 5 | D19: 0 | J19: 0
A20: 6 | D20: 0 | J20: 0
A21: 7 | D21: 0 | J21: 0
A22: 8 | D22: 0 | J22: 0
A23: 9 | D23: 0 | J23: 0
A24: 10 | D24: 0 | J24: 0
A25: 11 | D25: 0 | J25: 0
A26: 12 | D26: 0 | J26: 0
... A38: 24 | D38: 0 | J38: 0
A39: Итого | D39: =SUM(D15:D38) -> 0 | G39: =SUM(G15:G38) -> 0 | J39: =SUM(J15:J38) -> 0 | M39: =SUM(M15:M38) -> 0
A40: 1, При наличии на предприятии отклонений от нормальных режимов электропотребления (временное изменение схем питания, остановка на ремонт, резкое снижение
A41: эл,потребления и т,д,) последние необходимо перечислить,
A42: Главный инженер АО "Вологдаоблэнерго" А,В, Чурляев
A43: составляется самим предприятием с соблюдением всех пунктов настоящей таблицы,

Sheet 87
B1: АО "Вологдаоблэнерго" | H1: код 900151 | K1: ПС Ирдоматка
B2: наименование предприятия | K2: наименование источника питания
K3: ф, Промкомбинат
B4: ул, Горького, 99 | G4: Таблица № 1 | K4: ф, Романда
B5: адрес
A6: почасовых записей показаний электрических счетчиков
A7: ='1'!A7:Q7 -> в режимный день 21 ИЮНЯ 2023 г.
A8: 1630 | B8: 1628
A9: часы суток | B9: Активная энергия | H9: Реактивная энергия
B10: =K3 -> ф, Промкомбинат | E10: =K4 -> ф, Романда | H10: =B10 -> ф, Промкомбинат | K10: =E10 -> ф, Романда
B11: Расчет, Коэф, | D11: 80 | E11: Расчет, Коэф, | G11: 30 | H11: Расчет, Коэф, | J11: =D11 -> 80 | K11: Расчет, Коэф, | M11: =G11 -> 30
B12: показания счетчика | C12: разность | D12: расход эл,энергии за час | E12: показания счетчика | F12: разность | G12: расход эл,энергии за час | H12: показания счетчика | I12: разность | J12: расход эл,энергии за час | K12: показания счетчика | L12: разность | M12: расход эл,энергии за час
A13: 1 | B13: 2 | C13: 3 | D13: 4 | E13: 5 | F13: 6 | G13: 7 | H13: 8 | I13: 9 | J13: 10 | K13: 11 | L13: 12 | M13: 13
A14: 0
A15: 1 | D15: 121 | G15: 201.2 | J15: 0
A16: 2 | D16: 144.4 | G16: 168.4 | J16: 0
A17: 3 | D17: 148.4 | G17: 160.8 | J17: 0
A18: 4 | D18: 153.6 | G18: 156.2 | J18: 0
A19: 5 | D19: 150 | G19: 165.8 | J19: 0
A20: 6 | D20: 121.6 | G20: 175.4 | J20: 0
A21: 7 | D21: 125.4 | G21: 209.6 | J21: 0
A22: 8 | D22: 124.4 | G22: 234 | J22: 0
A23: 9 | D23: 173.6 | G23: 243 | J23: 0
A24: 10 | D24: 176.8 | G24: 232.8 | J24: 0
A25: 11 | D25: 200.2 | G25: 226.2 | J25: 0
A26: 12 | D26: 205.8 | G26: 203.8 | J26: 0
... A38: 24 | D38: 129 | G38: 229.2 | J38: 0
A39: Итого | D39: =SUM(D15:D38) -> 3695 | G39: =SUM(G15:G38) -> 5093.6 | J39: =SUM(J15:J38) -> 0 | M39: =SUM(M15:M38) -> 0
A40: 1, При наличии на предприятии отклонений от нормальных режимов электропотребления (временное изменение схем питания, остановка на ремонт, резкое снижение
A41: эл,потребления и т,д,) последние необходимо перечислить,
A42: Главный инженер АО "Вологдаоблэнерго" А,В, Чурляев
A43: составляется самим предприятием с соблюдением всех пунктов настоящей таблицы,

Sheet 88
B1: АО "Вологдаоблэнерго" | H1: код 900151 | K1: ПС Вишняки
B2: наименование предприятия | K2: наименование источника питания
K3: ф, Парус-1
B4: ул, Горького, 99 | G4: Таблица № 1 | K4: ф, Парус-2
B5: адрес
A6: почасовых записей показаний электрических счетчиков
A7: ='1'!A7:Q7 -> в режимный день 21 ИЮНЯ 2023 г.
A8: 1630 | B8: 1628
A9: часы суток | B9: Активная энергия | H9: Реактивная энергия
B10: =K3 -> ф, Парус-1 | E10: =K4 -> ф, Парус-2 | H10: =B10 -> ф, Парус-1 | K10: =E10 -> ф, Парус-2
B11: Расчет, Коэф, | D11: 80 | E11: Расчет, Коэф, | G11: 30 | H11: Расчет, Коэф, | J11: =D11 -> 80 | K11: Расчет, Коэф, | M11: =G11 -> 30
B12: показания счетчика | C12: разность | D12: расход эл,энергии за час | E12: показания счетчика | F12: разность | G12: расход эл,энергии за час | H12: показания счетчика | I12: разность | J12: расход эл,энергии за час | K12: показания счетчика | L12: разность | M12: расход эл,энергии за час
A13: 1 | B13: 2 | C13: 3 | D13: 4 | E13: 5 | F13: 6 | G13: 7 | H13: 8 | I13: 9 | J13: 10 | K13: 11 | L13: 12 | M13: 13
A14: 0
A15: 1 | D15: 40.8 | G15: 17.6 | J15: 0 | M15: 0
A16: 2 | D16: 39.8 | G16: 17.4 | J16: 0 | M16: 0
A17: 3 | D17: 37.2 | G17: 17.2 | J17: 0 | M17: 0
A18: 4 | D18: 37.2 | G18: 17.2 | J18: 0 | M18: 0
A19: 5 | D19: 37.6 | G19: 16.8 | J19: 0 | M19: 0
A20: 6 | D20: 52.6 | G20: 17 | J20: 0 | M20: 0
A21: 7 | D21: 113.6 | G21: 17.2 | J21: 0 | M21: 0
A22: 8 | D22: 96 | G22: 12.4 | J22: 0 | M22: 0
A23: 9 | D23: 80.2 | G23: 6.6 | J23: 0 | M23: 0
A24: 10 | D24: 95 | G24: 5.8 | J24: 0 | M24: 0
A25: 11 | D25: 105.6 | G25: 5.8 | J25: 0 | M25: 0
A26: 12 | D26: 95.6 | G26: 5.8 | J26: 0 | M26: 0
... A38: 24 | D38: 51.2 | G38: 5.8 | J38: 0 | M38: 0
A39: Итого | D39: =SUM(D15:D38) -> 1877.4 | G39: =SUM(G15:G38) -> 227.6 | J39: =SUM(J15:J38) -> 0 | M39: =SUM(M15:M38) -> 0
A40: 1, При наличии на предприятии отклонений от нормальных режимов электропотребления (временное изменение схем питания, остановка на ремонт, резкое снижение
A41: эл,потребления и т,д,) последние необходимо перечислить,
A42: Главный инженер АО "Вологдаоблэнерго" А,В, Чурляев
A43: составляется самим предприятием с соблюдением всех пунктов настоящей таблицы,

Sheet 89
B1: АО "Вологдаоблэнерго" | H1: код 900151 | K1: ПС Искра
B2: наименование предприятия | K2: наименование источника питания
K3: ф, Садовая
B4: ул, Горького, 99 | G4: Таблица № 1 | K4: ф, Газовая-1
B5: адрес
A6: почасовых записей показаний электрических счетчиков
A7: ='1'!A7:Q7 -> в режимный день 21 ИЮНЯ 2023 г.
A8: 1630 | B8: 1628
A9: часы суток | B9: Активная энергия | H9: Реактивная энергия
B10: =K3 -> ф, Садовая | E10: =K4 -> ф, Газовая-1 | H10: =B10 -> ф, Садовая | K10: =E10 -> ф, Газовая-1
B11: Расчет, Коэф, | D11: 80 | E11: Расчет, Коэф, | G11: 30 | H11: Расчет, Коэф, | J11: =D11 -> 80 | K11: Расчет, Коэф, | M11: =G11 -> 30
B12: показания счетчика | C12: разность | D12: расход эл,энергии за час | E12: показания счетчика | F12: разность | G12: расход эл,энергии за час | H12: показания счетчика | I12: разность | J12: расход эл,энергии за час | K12: показания счетчика | L12: разность | M12: расход эл,энергии за час
A13: 1 | B13: 2 | C13: 3 | D13: 4 | E13: 5 | F13: 6 | G13: 7 | H13: 8 | I13: 9 | J13: 10 | K13: 11 | L13: 12 | M13: 13
A14: 0
A15: 1 | D15: 433.17186 | G15: 440.86217 | J15: 0 | M15: 0
A16: 2 | D16: 406.88628 | G16: 277.06566 | J16: 0 | M16: 0
A17: 3 | D17: 404.46141 | G17: 330.98093 | J17: 0 | M17: 0
A18: 4 | D18: 404.86322 | G18: 366.94519 | J18: 0 | M18: 0
A19: 5 | D19: 405.97176 | G19: 374.98192 | J19: 0 | M19: 0
A20: 6 | D20: 432.11877 | G20: 465.20094 | J20: 0 | M20: 0
A21: 7 | D21: 446.377 | G21: 386.60744 | J21: 0 | M21: 0
A22: 8 | D22: 441.3056 | G22: 475.69023 | J22: 0 | M22: 0
A23: 9 | D23: 393.00909 | G23: 645.23019 | J23: 0 | M23: 0
A24: 10 | D24: 379.19426 | G24: 714.38058 | J24: 0 | M24: 0
A25: 11 | D25: 373.82492 | G25: 784.0575 | J25: 0 | M25: 0
A26: 12 | D26: 382.15955 | G26: 778.37637 | J26: 0 | M26: 0
... A38: 24 | D38: 496.68962 | G38: 509.83931 | J38: 0 | M38: 0
A39: Итого | D39: =SUM(D15:D38) -> 10202.787 | G39: =SUM(G15:G38) -> 14047.182 | J39: =SUM(J15:J38) -> 0 | M39: =SUM(M15:M38) -> 0
A40: 1, При наличии на предприятии отклонений от нормальных режимов электропотребления (временное изменение схем питания, остановка на ремонт, резкое снижение
A41: эл,потребления и т,д,) последние необходимо перечислить,
A42: Главный инженер АО "Вологдаоблэнерго" А,В, Чурляев
A43: составляется самим предприятием с соблюдением всех пунктов настоящей таблицы,

Sheet 90
B1: АО "Вологдаоблэнерго" | H1: код 900151 | K1: ПС Климовская
B2: наименование предприятия | K2: наименование источника питания
K3: ф, КУФ-1
B4: ул, Горького, 99 | G4: Таблица № 1 | K4: ф, КУФ-2
B5: адрес
A6: почасовых записей показаний электрических счетчиков
A7: ='1'!A7:Q7 -> в режимный день 21 ИЮНЯ 2023 г.
A8: 1630 | B8: 1628
A9: часы суток | B9: Активная энергия | H9: Реактивная энергия
B10: =K3 -> ф, КУФ-1 | E10: =K4 -> ф, КУФ-2 | H10: =B10 -> ф, КУФ-1 | K10: =E10 -> ф, КУФ-2
B11: Расчет, Коэф, | D11: 80 | E11: Расчет, Коэф, | G11: 30 | H11: Расчет, Коэф, | J11: =D11 -> 80 | K11: Расчет, Коэф, | M11: =G11 -> 30
B12: показания счетчика | C12: разность | D12: расход эл,энергии за час | E12: показания счетчика | F12: разность | G12: расход эл,энергии за час | H12: показания счетчика | I12: разность | J12: расход эл,энергии за час | K12: показания счетчика | L12: разность | M12: расход эл,энергии за час
A13: 1 | B13: 2 | C13: 3 | D13: 4 | E13: 5 | F13: 6 | G13: 7 | H13: 8 | I13: 9 | J13: 10 | K13: 11 | L13: 12 | M13: 13
A14: 0
A15: 1 | D15: 27 | G15: 220.2 | J15: 0 | M15: 0
A16: 2 | D16: 23.4 | G16: 217.2 | J16: 0 | M16: 0
A17: 3 | D17: 23.1 | G17: 165 | J17: 0 | M17: 0
A18: 4 | D18: 22.8 | G18: 212.7 | J18: 0 | M18: 0
A19: 5 | D19: 22.5 | G19: 221.4 | J19: 0 | M19: 0
A20: 6 | D20: 24.3 | G20: 221.7 | J20: 0 | M20: 0
A21: 7 | D21: 23.7 | G21: 212.1 | J21: 0 | M21: 0
A22: 8 | D22: 27.3 | G22: 223.5 | J22: 0 | M22: 0
A23: 9 | D23: 29.1 | G23: 180 | J23: 0 | M23: 0
A24: 10 | D24: 27.3 | G24: 239.4 | J24: 0 | M24: 0
A25: 11 | D25: 27.3 | G25: 282 | J25: 0 | M25: 0
A26: 12 | D26: 26.1 | G26: 269.7 | J26: 0 | M26: 0
... A38: 24 | D38: 27 | G38: 208.5 | J38: 0 | M38: 0
A39: Итого | D39: =SUM(D15:D38) -> 620.1 | G39: =SUM(G15:G38) -> 5504.7 | J39: =SUM(G15:G38) -> 5504.7 | M39: =SUM(M15:M38) -> 0
A40: 1, При наличии на предприятии отклонений от нормальных режимов электропотребления (временное изменение схем питания, остановка на ремонт, резкое снижение
A41: эл,потребления и т,д,) последние необходимо перечислить,
A42: Главный инженер АО "Вологдаоблэнерго" А,В, Чурляев
A43: составляется самим предприятием с соблюдением всех пунктов настоящей таблицы,

Sheet 91
B1: АО "Вологдаоблэнерго" | H1: код 900151 | K1: ПС Климовская
B2: наименование предприятия | K2: наименование источника питания
K3: ф, Поселок
B4: ул, Горького, 99 | G4: Таблица № 1 | K4: ф, ПТФ-2
B5: адрес
A6: почасовых записей показаний электрических счетчиков
A7: ='1'!A7:Q7 -> в режимный день 21 ИЮНЯ 2023 г.
A8: 1630 | B8: 1628
A9: часы суток | B9: Активная энергия | H9: Реактивная энергия
B10: =K3 -> ф, Поселок | E10: =K4 -> ф, ПТФ-2 | H10: =B10 -> ф, Поселок | K10: =E10 -> ф, ПТФ-2
B11: Расчет, Коэф, | D11: 80 | E11: Расчет, Коэф, | G11: 30 | H11: Расчет, Коэф, | J11: =D11 -> 80 | K11: Расчет, Коэф, | M11: =G11 -> 30
B12: показания счетчика | C12: разность | D12: расход эл,энергии за час | E12: показания счетчика | F12: разность | G12: расход эл,энергии за час | H12: показания счетчика | I12: разность | J12: расход эл,энергии за час | K12: показания счетчика | L12: разность | M12: расход эл,энергии за час
A13: 1 | B13: 2 | C13: 3 | D13: 4 | E13: 5 | F13: 6 | G13: 7 | H13: 8 | I13: 9 | J13: 10 | K13: 11 | L13: 12 | M13: 13
A14: 0
A15: 1 | D15: 116.4 | G15: 23.6 | J15: 0 | M15: 0
A16: 2 | D16: 104.8 | G16: 22.8 | J16: 0 | M16: 0
A17: 3 | D17: 97.2 | G17: 22.4 | J17: 0 | M17: 0
A18: 4 | D18: 94 | G18: 21.2 | J18: 0 | M18: 0
A19: 5 | D19: 94 | G19: 22 | J19: 0 | M19: 0
A20: 6 | D20: 99 | G20: 20.8 | J20: 0 | M20: 0
A21: 7 | D21: 105.2 | G21: 21.6 | J21: 0 | M21: 0
A22: 8 | D22: 119 | G22: 27.6 | J22: 0 | M22: 0
A23: 9 | D23: 132 | G23: 38.4 | J23: 0 | M23: 0
A24: 10 | D24: 145.6 | G24: 39.2 | J24: 0 | M24: 0
A25: 11 | D25: 150.8 | G25: 40 | J25: 0 | M25: 0
A26: 12 | D26: 148.6 | G26: 33.2 | J26: 0 | M26: 0
... A38: 24 | D38: 121.8 | G38: 25.6 | J38: 0 | M38: 0
A39: Итого | D39: =SUM(D15:D38) -> 3088.2 | G39: =SUM(G15:G38) -> 653.6 | J39: =SUM(J15:J38) -> 0 | M39: =SUM(M15:M38) -> 0
A40: 1, При наличии на предприятии отклонений от нормальных режимов электропотребления (временное изменение схем питания, остановка на ремонт, резкое снижение
A41: эл,потребления и т,д,) последние необходимо перечислить,
A42: Главный инженер АО "Вологдаоблэнерго" А,В, Чурляев
A43: составляется самим предприятием с соблюдением всех пунктов настоящей таблицы,

Sheet 92
B1: АО "Вологдаоблэнерго" | H1: код 900151 | K1: ПС Климовская
B2: наименование предприятия | K2: наименование источника питания
K3: ф, ПТФ-3
B4: ул, Горького, 99 | G4: Таблица № 1 | K4: ф, ПТФ-4
B5: адрес
A6: почасовых записей показаний электрических счетчиков
A7: ='1'!A7:Q7 -> в режимный день 21 ИЮНЯ 2023 г.
A8: 1630 | B8: 1628
A9: часы суток | B9: Активная энергия | H9: Реактивная энергия
B10: =K3 -> ф, ПТФ-3 | E10: =K4 -> ф, ПТФ-4 | H10: =B10 -> ф, ПТФ-3 | K10: =E10 -> ф, ПТФ-4
B11: Расчет, Коэф, | D11: 80 | E11: Расчет, Коэф, | G11: 30 | H11: Расчет, Коэф, | J11: =D11 -> 80 | K11: Расчет, Коэф, | M11: =G11 -> 30
B12: показания счетчика | C12: разность | D12: расход эл,энергии за час | E12: показания счетчика | F12: разность | G12: расход эл,энергии за час | H12: показания счетчика | I12: разность | J12: расход эл,энергии за час | K12: показания счетчика | L12: разность | M12: расход эл,энергии за час
A13: 1 | B13: 2 | C13: 3 | D13: 4 | E13: 5 | F13: 6 | G13: 7 | H13: 8 | I13: 9 | J13: 10 | K13: 11 | L13: 12 | M13: 13
A14: 0
A15: 1 | D15: 146.4 | G15: 30.6 | J15: 0 | M15: 0
A16: 2 | D16: 132.8 | G16: 27 | J16: 0 | M16: 0
A17: 3 | D17: 126.4 | G17: 27 | J17: 0 | M17: 0
A18: 4 | D18: 121.6 | G18: 25.2 | J18: 0 | M18: 0
A19: 5 | D19: 120 | G19: 28.2 | J19: 0 | M19: 0
A20: 6 | D20: 134.4 | G20: 30.6 | J20: 0 | M20: 0
A21: 7 | D21: 180.8 | G21: 30 | J21: 0 | M21: 0
A22: 8 | D22: 186.4 | G22: 26.4 | J22: 0 | M22: 0
A23: 9 | D23: 175.2 | G23: 26.4 | J23: 0 | M23: 0
A24: 10 | D24: 176 | G24: 27 | J24: 0 | M24: 0
A25: 11 | D25: 168 | G25: 26.4 | J25: 0 | M25: 0
A26: 12 | D26: 160 | G26: 24.6 | J26: 0 | M26: 0
... A38: 24 | D38: 169.6 | G38: 31.8 | J38: 0 | M38: 0
A39: Итого | D39: =SUM(D15:D38) -> 4056.8 | G39: =SUM(G15:G38) -> 691.2 | J39: =SUM(J15:J38) -> 0 | M39: =SUM(M15:M38) -> 0
A40: 1, При наличии на предприятии отклонений от нормальных режимов электропотребления (временное изменение схем питания, остановка на ремонт, резкое снижение
A41: эл,потребления и т,д,) последние необходимо перечислить,
A42: Главный инженер АО "Вологдаоблэнерго" А,В, Чурляев
A43: составляется самим предприятием с соблюдением всех пунктов настоящей таблицы,

Sheet 93
B1: АО "Вологдаоблэнерго" | H1: код 900151 | K1: ПС Новые Углы
B2: наименование предприятия | K2: наименование источника питания
K3: ф, Подсобное хоз,-1
