Workbook

Sheet Содержание книги
A1: Содержание
A4: № листа | B4: Электросетевой участок | C4: Центр питания
A5: 1-109 | B5: ЭСУ "Череповец"
A6: 110-118 | B6: ЭСУ "Бабаево"
A7: 119-153 | B7: ЭСУ "Кадуй"
A8: 154-166 | B8: ЭСУ "Чагода"
A9: 167-207 | B9: ЭСУ "Шексна"
A10: 208-211 | B10: ЭСУ "Белозерск"
A11: Содержание
A14: № листа | B14: Электросетевой участок | C14: Центр питания
A15: 1 а | B15: г, Вологда | C15: ОАО "БМЗ"
D16: яч, Т1, яч, Т2
A17: 1, 2 | B17: г, Вологда | C17: ПС "АНАНЬИНО"
D18: яч,7 - ф,"Город-7"
D19: яч,8 - ф,"Городской", яч,2 - ф,"Овощехранилище"
A20: 3 | B20: г, Вологда | C20: ПС "ИСКРА"
D21: яч,18 - ф,"РУБЦОВО"- СВ - ВЛ№2
A22: 4 | B22: г, Вологда | C22: ПС "МАЕГА"
D23: яч,13 - ф,"НИКИТИНО"-СВ - ВЛ№27
A24: 5,6, 7, 8, 9 | B24: г, Вологда | C24: ПС "ЗАПАДНАЯ
D25: яч,19 - "РМЗ-1", яч,24 - "РМЗ-2"
D26: яч,15 -"ОЧИСТНЫЕ-1", яч,9 -"ГОРОД-1"
D27: яч,21- "П/я-1", яч,20 - "П/я-2"
D28: яч,33 - "РП-35", яч,35 - "РП-37"
D29: яч,11 - "ГОРОД-2", яч,18 - "ОЧИСТНЫЕ-2"
A30: 10 | B30: г, Вологда | C30: ПС "СЕВЕРНАЯ 35/6 кВ
D31: Т1 - РП5ф3 ввод №1, Т2 - РП5ф17 ввод №2
A32: 11 | B32: г, Вологда | C32: РТП "ТЕПЛИЧНОГО ХОЗ - ВА"
D33: яч, 3 - ф,"Микрорайон-1" ввод № 1, яч,13 - ф,"Микрорайон-2" ввод № 2
A34: 12,13, 14 | B34: г, Вологда | C34: ГПП 110/10 кВ "ВОМЗ"
D35: яч,47 - РП 29 ввод № 1, яч,31 - РП 29 ввод № 2
D36: яч,5 - РП 14 ввод № 1, яч,22 - РП 14 ввод № 2
D37: яч,44 - РП 2 ввод № 1, яч,26в - РП 2 ввод № 2
A38: 15,16,17,18,19,20, 21 | B38: г, Вологда | C38: ПС ВОЛОГДА-ЮЖНАЯ РУ - 6 -10 кВ
D39: яч,15 - "ГОРОД-15", яч,24 - "ТУБДИСПАНСЕР"
D40: яч,10 - "ГОРОД-10", яч,14 - "ГОРОД-14"
D41: яч,20 - "ГОРОД 20"
D42: яч, 7- ф,"ГОРОД 7", яч,17 - ф,"ГОРОД 17"
D43: яч,3 - "ГОРОД-3", яч,5 - "ГОРОД-5"
D44: яч, 1 - "ГОРОД -1", яч, 20 - "РП 27"
...

Sheet 1
B1: АО "Вологдаоблэнерго" | J1: код 900151 | N1: ПС "Малечкино" ф,Птицефабрика
B2: наименование предприятия | N2: наименование источника питания
N3: _________________________________
B4: ул, Горького, 99 | I4: Таблица № 1 | N4: ТП-1 ЦРП Малечкино; ТП-5 АВМ
B5: адрес
A6: почасовых записей показаний электрических счетчиков
A7: в режимный день 21 ИЮНЯ 2023 г.
A8: 1630 | B8: 1628
A9: часы суток | B9: Активная энергия | J9: Реактивная энергия
B10: ТП-1 ЦРП Малечкино | F10: ТП-5 АВМ | J10: ТП-1 ЦРП Малечкино | N10: ТП-5 АВМ
B11: Расчет, Коэф, | E11: 30 | F11: Расчет, Коэф, | I11: 120 | J11: Расчет, Коэф, | M11: =E11 -> 30 | N11: Расчет, Коэф, | Q11: =I11 -> 120
B12: показания счетчика | C12: разность | E12: расход эл,энергии за час | F12: показания счетчика | G12: разность | I12: расход эл,энергии за час | J12: показания счетчика | K12: разность | M12: расход эл,энергии за час | N12: показания счетчика | O12: разность | Q12: расход эл,энергии за час
A13: 1 | B13: 2 | C13: 3 | E13: 4 | F13: 5 | G13: 6 | I13: 7 | J13: 8 | K13: 9 | M13: 10 | N13: 11 | O13: 12 | Q13: 13
A14: 0
A15: 1 | E15: 75.12 | I15: 6.912 | M15: 0 | Q15: 0
A16: 2 | E16: 74.56 | I16: 6.816 | M16: 0 | Q16: 0
A17: 3 | E17: 75.28 | I17: 6.576 | M17: 0 | Q17: 0
A18: 4 | E18: 74.88 | I18: 6.312 | M18: 0 | Q18: 0
A19: 5 | E19: 74.72 | I19: 6.144 | M19: 0 | Q19: 0
A20: 6 | E20: 74.08 | I20: 6.144 | M20: 0 | Q20: 0
A21: 7 | E21: 77.92 | I21: 6.336 | M21: 0 | Q21: 0
A22: 8 | E22: 111.68 | I22: 6.768 | M22: 0 | Q22: 0
A23: 9 | E23: 166.96 | I23: 6.504 | M23: 0 | Q23: 0
A24: 10 | E24: 190.16 | I24: 5.232 | M24: 0 | Q24: 0
A25: 11 | E25: 156.24 | I25: 7.8 | M25: 0 | Q25: 0
A26: 12 | E26: 176.32 | I26: 9.312 | M26: 0 | Q26: 0
... A38: 24 | E38: 103.36 | I38: 5.376 | M38: 0 | Q38: 0
A39: Итого | E39: =SUM(E15:E38) -> 2692.8 | I39: =SUM(I15:I38) -> 181.656 | M39: =SUM(M15:M38) -> 0 | Q39: =SUM(Q15:Q38) -> 0
A40: 1, При наличии на предприятии отклонений от нормальных режимов электропотребления (временное изменение схем питания, остановка на ремонт, резкое снижение
A41: эл,потребления и т,д,) последние необходимо перечислить,
A42: Главный инженер АО "Вологдаоблэнерго" А,В, Чурляев
A43: составляется самим предприятием с соблюдением всех пунктов настоящей таблицы,

Sheet 2
B1: АО "Вологдаоблэнерго" | J1: код 900151 | N1: ПС Малечкино, ф, Поселок
B2: наименование предприятия | N2: наименование источника питания
N3: ТП-8 ПС Малечкино В-1; В-2
B4: ул, Горького, 99 | I4: Таблица № 1
B5: адрес
A6: почасовых записей показаний электрических счетчиков
A7: ='1'!A7:Q7 -> в режимный день 21 ИЮНЯ 2023 г.
A8: 1630 | B8: 1628
A9: часы суток | B9: Активная энергия | J9: Реактивная энергия
B10: ТП-8 ПС Малечкино В-1 | F10: ТП-8 ПС Малечкино В-2 | J10: ТП-8 ПС Малечкино В-1 | N10: ТП-8 ПС Малечкино В-2
B11: Расчет, Коэф, | E11: 80 | F11: Расчет, Коэф, | I11: 80 | J11: Расчет, Коэф, | M11: =E11 -> 80 | N11: Расчет, Коэф, | Q11: =I11 -> 80
B12: показания счетчика | C12: разность | E12: расход эл,энергии за час | F12: показания счетчика | G12: разность | I12: расход эл,энергии за час | J12: показания счетчика | K12: разность | M12: расход эл,энергии за час | N12: показания счетчика | O12: разность | Q12: расход эл,энергии за час
A13: 1 | B13: 2 | C13: 3 | E13: 4 | F13: 5 | G13: 6 | I13: 7 | J13: 8 | K13: 9 | M13: 10 | N13: 11 | O13: 12 | Q13: 13
A14: 0
A15: 1 | E15: 18.128 | I15: 10.16 | M15: 0 | Q15: 0
A16: 2 | E16: 14.672 | I16: 9.088 | M16: 0 | Q16: 0
A17: 3 | E17: 13.568 | I17: 7.12 | M17: 0 | Q17: 0
A18: 4 | E18: 22.048 | I18: 7.152 | M18: 0 | Q18: 0
A19: 5 | E19: 30.192 | I19: 6.64 | M19: 0 | Q19: 0
A20: 6 | E20: 30.112 | I20: 9.696 | M20: 0 | Q20: 0
A21: 7 | E21: 32.304 | I21: 23.856 | M21: 0 | Q21: 0
A22: 8 | E22: 32.864 | I22: 22.688 | M22: 0 | Q22: 0
A23: 9 | E23: 32.176 | I23: 19.152 | M23: 0 | Q23: 0
A24: 10 | E24: 31.744 | I24: 23.488 | M24: 0 | Q24: 0
A25: 11 | E25: 29.136 | I25: 16.8 | M25: 0 | Q25: 0
A26: 12 | E26: 32.064 | I26: 21.12 | M26: 0 | Q26: 0
... A38: 24 | E38: 20.192 | I38: 15.536 | M38: 0 | Q38: 0
A39: Итого | E39: =SUM(E15:E38) -> 610.512 | I39: =SUM(I15:I38) -> 372.32 | M39: =SUM(M15:M38) -> 0 | Q39: =SUM(Q15:Q38) -> 0
A40: 1, При наличии на предприятии отклонений от нормальных режимов электропотребления (временное изменение схем питания, остановка на ремонт, резкое снижение
A41: эл,потребления и т,д,) последние необходимо перечислить,
A42: Главный инженер АО "Вологдаоблэнерго" А,В, Чурляев
A43: составляется самим предприятием с соблюдением всех пунктов настоящей таблицы,

Sheet 3
B1: АО "Вологдаоблэнерго" | J1: код 900151 | N1: ПС Малечкино, ф, Поселок
B2: наименование предприятия | N2: наименование источника питания
N3: ТП-105; КТП-Дачи п,Малечкино
B4: ул, Горького, 99 | I4: Таблица № 1
B5: адрес
A6: почасовых записей показаний электрических счетчиков
A7: ='1'!A7:Q7 -> в режимный день 21 ИЮНЯ 2023 г.
A8: 1630 | B8: 1628
A9: часы суток | B9: Активная энергия | J9: Реактивная энергия
B10: ТП-105 | F10: КТП-Дачи п,Малечкино | J10: ТП-105 | N10: КТП-Дачи п,Малечкино
B11: Расчет, Коэф, | E11: 80 | F11: Расчет, Коэф, | I11: 60 | J11: Расчет, Коэф, | M11: =E11 -> 80 | N11: Расчет, Коэф, | Q11: =I11 -> 60
B12: показания счетчика | C12: разность | E12: расход эл,энергии за час | F12: показания счетчика | G12: разность | I12: расход эл,энергии за час | J12: показания счетчика | K12: разность | M12: расход эл,энергии за час | N12: показания счетчика | O12: разность | Q12: расход эл,энергии за час
A13: 1 | B13: 2 | C13: 3 | E13: 4 | F13: 5 | G13: 6 | I13: 7 | J13: 8 | K13: 9 | M13: 10 | N13: 11 | O13: 12 | Q13: 13
A14: 0
A15: 1 | E15: 22.12 | I15: 1.56 | M15: 0 | Q15: 0
A16: 2 | E16: 20.64 | I16: 1.52 | M16: 0 | Q16: 0
A17: 3 | E17: 18.12 | I17: 1.56 | M17: 0 | Q17: 0
A18: 4 | E18: 18.52 | I18: 1.52 | M18: 0 | Q18: 0
A19: 5 | E19: 18.92 | I19: 1.56 | M19: 0 | Q19: 0
A20: 6 | E20: 20.64 | I20: 1.52 | M20: 0 | Q20: 0
A21: 7 | E21: 20.92 | I21: 1.52 | M21: 0 | Q21: 0
A22: 8 | E22: 22.84 | I22: 1.48 | M22: 0 | Q22: 0
A23: 9 | E23: 26.2 | I23: 1.56 | M23: 0 | Q23: 0
A24: 10 | E24: 27.92 | I24: 1.52 | M24: 0 | Q24: 0
A25: 11 | E25: 27.16 | I25: 1.52 | M25: 0 | Q25: 0
A26: 12 | E26: 26.96 | I26: 1.52 | M26: 0 | Q26: 0
... A38: 24 | E38: 24.36 | I38: 2.88 | M38: 0 | Q38: 0
A39: Итого | E39: =SUM(E15:E38) -> 617.4 | I39: =SUM(I15:I38) -> 52.72 | M39: =SUM(M15:M38) -> 0 | Q39: =SUM(Q15:Q38) -> 0
A40: 1, При наличии на предприятии отклонений от нормальных режимов электропотребления (временное изменение схем питания, остановка на ремонт, резкое снижение
A41: эл,потребления и т,д,) последние необходимо перечислить,
A42: Главный инженер АО "Вологдаоблэнерго" А,В, Чурляев
A43: составляется самим предприятием с соблюдением всех пунктов настоящей таблицы,

Sheet 4
B1: АО "Вологдаоблэнерго" | J1: код 900151 | N1: ПС Малечкино, ф, Поселок
B2: наименование предприятия | N2: наименование источника питания
N3: ТП-35; ТП-103
B4: ул, Горького, 99 | I4: Таблица № 1
B5: адрес
A6: почасовых записей показаний электрических счетчиков
A7: ='1'!A7:Q7 -> в режимный день 21 ИЮНЯ 2023 г.
A8: 1630 | B8: 1628
A9: часы суток | B9: Активная энергия | J9: Реактивная энергия
B10: ТП-35 | F10: ТП-103 | J10: ТП-35 | N10: ТП-103
B11: Расчет, Коэф, | E11: 30 | F11: Расчет, Коэф, | I11: 120 | J11: Расчет, Коэф, | M11: =E11 -> 30 | N11: Расчет, Коэф, | Q11: =I11 -> 120
B12: показания счетчика | C12: разность | E12: расход эл,энергии за час | F12: показания счетчика | G12: разность | I12: расход эл,энергии за час | J12: показания счетчика | K12: разность | M12: расход эл,энергии за час | N12: показания счетчика | O12: разность | Q12: расход эл,энергии за час
A13: 1 | B13: 2 | C13: 3 | E13: 4 | F13: 5 | G13: 6 | I13: 7 | J13: 8 | K13: 9 | M13: 10 | N13: 11 | O13: 12 | Q13: 13
A14: 0
A15: 1 | E15: 1.67 | I15: 73.944 | M15: 0 | Q15: 0
A16: 2 | E16: 1.48 | I16: 61.08 | M16: 0 | Q16: 0
A17: 3 | E17: 1.33 | I17: 55.176 | M17: 0 | Q17: 0
A18: 4 | E18: 1.43 | I18: 53.616 | M18: 0 | Q18: 0
A19: 5 | E19: 1.48 | I19: 54.96 | M19: 0 | Q19: 0
A20: 6 | E20: 3.69 | I20: 60.6 | M20: 0 | Q20: 0
A21: 7 | E21: 1.95 | I21: 69.816 | M21: 0 | Q21: 0
A22: 8 | E22: 3.03 | I22: 81.384 | M22: 0 | Q22: 0
A23: 9 | E23: 6 | I23: 79.608 | M23: 0 | Q23: 0
A24: 10 | E24: 5.06 | I24: 78.48 | M24: 0 | Q24: 0
A25: 11 | E25: 6.18 | I25: 82.608 | M25: 0 | Q25: 0
A26: 12 | E26: 3.97 | I26: 76.392 | M26: 0 | Q26: 0
... A38: 24 | E38: 2.37 | I38: 85.032 | M38: 0 | Q38: 0
A39: Итого | E39: =SUM(E15:E38) -> 90.07 | I39: =SUM(I15:I38) -> 1896.72 | M39: =SUM(M15:M38) -> 0 | Q39: =SUM(Q15:Q38) -> 0
A40: 1, При наличии на предприятии отклонений от нормальных режимов электропотребления (временное изменение схем питания, остановка на ремонт, резкое снижение
A41: эл,потребления и т,д,) последние необходимо перечислить,
A42: Главный инженер АО "Вологдаоблэнерго" А,В, Чурляев
A43: составляется самим предприятием с соблюдением всех пунктов настоящей таблицы,

Sheet 5
B1: АО "Вологдаоблэнерго" | J1: код 900151 | N1: ПС Малечкино, ф, Поселок
B2: наименование предприятия | N2: наименование источника питания
N3: ТП-3 ПС Малечкино; ТП-97
B4: ул, Горького, 99 | I4: Таблица № 1
B5: адрес
A6: почасовых записей показаний электрических счетчиков
A7: ='1'!A7:Q7 -> в режимный день 21 ИЮНЯ 2023 г.
A8: 1630 | B8: 1628
A9: часы суток | B9: Активная энергия | J9: Реактивная энергия
B10: ТП-3 ПС Малечкино | F10: ТП-97 | J10: ТП-3 ПС Малечкино | N10: ТП-97
B11: Расчет, Коэф, | E11: 120 | F11: Расчет, Коэф, | I11: 60 | J11: Расчет, Коэф, | M11: =E11 -> 120 | N11: Расчет, Коэф, | Q11: =I11 -> 60
B12: показания счетчика | C12: разность | E12: расход эл,энергии за час | F12: показания счетчика | G12: разность | I12: расход эл,энергии за час | J12: показания счетчика | K12: разность | M12: расход эл,энергии за час | N12: показания счетчика | O12: разность | Q12: расход эл,энергии за час
A13: 1 | B13: 2 | C13: 3 | E13: 4 | F13: 5 | G13: 6 | I13: 7 | J13: 8 | K13: 9 | M13: 10 | N13: 11 | O13: 12 | Q13: 13
A14: 0
A15: 1 | E15: 0 | I15: 33.144 | M15: 0 | Q15: 0
A16: 2 | E16: 0 | I16: 29.124 | M16: 0 | Q16: 0
A17: 3 | E17: 0 | I17: 26.712 | M17: 0 | Q17: 0
A18: 4 | E18: 0 | I18: 25.968 | M18: 0 | Q18: 0
A19: 5 | E19: 0 | I19: 26.412 | M19: 0 | Q19: 0
A20: 6 | E20: 0 | I20: 26.868 | M20: 0 | Q20: 0
A21: 7 | E21: 0 | I21: 35.676 | M21: 0 | Q21: 0
A22: 8 | E22: 0 | I22: 45.168 | M22: 0 | Q22: 0
A23: 9 | E23: 0 | I23: 41.556 | M23: 0 | Q23: 0
A24: 10 | E24: 0 | I24: 42.516 | M24: 0 | Q24: 0
A25: 11 | E25: 0 | I25: 40.548 | M25: 0 | Q25: 0
A26: 12 | E26: 0 | I26: 41.436 | M26: 0 | Q26: 0
... A37: 23 | E37: 0 | I37: 50.064 | M37: 0 | Q37: 0
A38: 24 | E38: 0 | I38: 43.38 | M38: 0 | Q38: 0 | R38: 1
A39: Итого | E39: =SUM(E15:E38) -> 0 | I39: =SUM(I15:I38) -> 979.044 | M39: =SUM(M15:M38) -> 0 | Q39: =SUM(Q15:Q38) -> 0
A40: 1, При наличии на предприятии отклонений от нормальных режимов электропотребления (временное изменение схем питания, остановка на ремонт, резкое снижение
A41: эл,потребления и т,д,) последние необходимо перечислить,
A42: Главный инженер АО "Вологдаоблэнерго" А,В, Чурляев
A43: составляется самим предприятием с соблюдением всех пунктов настоящей таблицы,

Sheet 6
B1: АО "Вологдаоблэнерго" | J1: код 900151 | N1: ПС Малечкино, ф, Поселок
B2: наименование предприятия | N2: наименование источника питания
N3: ТП-15 Кормоцех В-1; В-2
B4: ул, Горького, 99 | I4: Таблица № 1
B5: адрес
A6: почасовых записей показаний электрических счетчиков
A7: ='1'!A7:Q7 -> в режимный день 21 ИЮНЯ 2023 г.
A8: 1630 | B8: 1628
A9: часы суток | B9: Активная энергия | J9: Реактивная энергия
B10: ТП-15 Кормоцех В-1 | F10: ТП-15 Кормоцех В-2 | J10: ТП-15 Кормоцех В-1 | N10: ТП-15 Кормоцех В-2
B11: Расчет, Коэф, | E11: 60 | F11: Расчет, Коэф, | I11: 60 | J11: Расчет, Коэф, | M11: =E11 -> 60 | N11: Расчет, Коэф, | Q11: =I11 -> 60
B12: показания счетчика | C12: разность | E12: расход эл,энергии за час | F12: показания счетчика | G12: разность | I12: расход эл,энергии за час | J12: показания счетчика | K12: разность | M12: расход эл,энергии за час | N12: показания счетчика | O12: разность | Q12: расход эл,энергии за час
A13: 1 | B13: 2 | C13: 3 | E13: 4 | F13: 5 | G13: 6 | I13: 7 | J13: 8 | K13: 9 | M13: 10 | N13: 11 | O13: 12 | Q13: 13
A14: 0
A15: 1 | E15: 0.75 | I15: 0 | M15: 0 | Q15: 0
A16: 2 | E16: 0.75 | I16: 0 | M16: 0 | Q16: 0
A17: 3 | E17: 0.72 | I17: 0 | M17: 0 | Q17: 0
A18: 4 | E18: 0.72 | I18: 0 | M18: 0 | Q18: 0
A19: 5 | E19: 0.3 | I19: 0 | M19: 0 | Q19: 0
A20: 6 | E20: 0 | I20: 0 | M20: 0 | Q20: 0
A21: 7 | E21: 0.03 | I21: 0 | M21: 0 | Q21: 0
A22: 8 | E22: 0.09 | I22: 0 | M22: 0 | Q22: 0
A23: 9 | E23: 0.36 | I23: 0 | M23: 0 | Q23: 0
A24: 10 | E24: 0.33 | I24: 0 | M24: 0 | Q24: 0
A25: 11 | E25: 12 | I25: 0 | M25: 0 | Q25: 0
A26: 12 | E26: 4.62 | I26: 0 | M26: 0 | Q26: 0
... A38: 24 | E38: 0.69 | I38: 0 | M38: 0 | Q38: 0
A39: Итого | E39: =SUM(E15:E38) -> 53.34 | I39: =SUM(I15:I38) -> 0 | M39: =SUM(M15:M38) -> 0 | Q39: =SUM(Q15:Q38) -> 0
A40: 1, При наличии на предприятии отклонений от нормальных режимов электропотребления (временное изменение схем питания, остановка на ремонт, резкое снижение
A41: эл,потребления и т,д,) последние необходимо перечислить,
A42: Главный инженер АО "Вологдаоблэнерго" А,В, Чурляев
A43: составляется самим предприятием с соблюдением всех пунктов настоящей таблицы,

Sheet 7
B1: АО "Вологдаоблэнерго" | J1: код 900151 | N1: ПС Малечкино, ф, Парфеново-1
B2: наименование предприятия | N2: наименование источника питания
N3: ЦРП-Парфеново
B4: ул, Горького, 99 | I4: Таблица № 1
B5: адрес
A6: почасовых записей показаний электрических счетчиков
A7: ='1'!A7:Q7 -> в режимный день 21 ИЮНЯ 2023 г.
A8: 1630 | B8: 1628
A9: часы суток | B9: Активная энергия | J9: Реактивная энергия
B10: ЦРП-Парфеново В-1 | F10: ЦРП-Парфеново В-2 | J10: ЦРП-Парфеново В-1 | N10: ЦРП-Парфеново В-2
B11: Расчет, Коэф, | E11: 4000 | F11: Расчет, Коэф, | I11: 3000 | J11: Расчет, Коэф, | M11: =E11 -> 4000 | N11: Расчет, Коэф, | Q11: =I11 -> 3000
B12: показания счетчика | C12: разность | E12: расход эл,энергии за час | F12: показания счетчика | G12: разность | I12: расход эл,энергии за час | J12: показания счетчика | K12: разность | M12: расход эл,энергии за час | N12: показания счетчика | O12: разность | Q12: расход эл,энергии за час
A13: 1 | B13: 2 | C13: 3 | E13: 4 | F13: 5 | G13: 6 | I13: 7 | J13: 8 | K13: 9 | M13: 10 | N13: 11 | O13: 12 | Q13: 13
A14: 0
A15: 1 | E15: 180.8 | I15: 0 | M15: 0 | Q15: 0
A16: 2 | E16: 181.6 | I16: 0 | M16: 0 | Q16: 0
A17: 3 | E17: 177.2 | I17: 0 | M17: 0 | Q17: 0
A18: 4 | E18: 172.8 | I18: 0 | M18: 0 | Q18: 0
A19: 5 | E19: 162.8 | I19: 0 | M19: 0 | Q19: 0
A20: 6 | E20: 160.8 | I20: 0 | M20: 0 | Q20: 0
A21: 7 | E21: 168.8 | I21: 0 | M21: 0 | Q21: 0
A22: 8 | E22: 189.2 | I22: 0 | M22: 0 | Q22: 0
A23: 9 | E23: 390 | I23: 0 | M23: 0 | Q23: 0
A24: 10 | E24: 565.2 | I24: 0 | M24: 0 | Q24: 0
A25: 11 | E25: 554.8 | I25: 0 | M25: 0 | Q25: 0
A26: 12 | E26: 572.4 | I26: 0 | M26: 0 | Q26: 0
... A38: 24 | E38: 200.4 | I38: 0 | M38: 0 | Q38: 0
A39: Итого | E39: =SUM(E15:E38) -> 7960.8 | I39: =SUM(I15:I38) -> 0 | M39: =SUM(M15:M38) -> 0 | Q39: =SUM(Q15:Q38) -> 0
A40: 1, При наличии на предприятии отклонений от нормальных режимов электропотребления (временное изменение схем питания, остановка на ремонт, резкое снижение
A41: эл,потребления и т,д,) последние необходимо перечислить,
A42: Главный инженер АО "Вологдаоблэнерго" А,В, Чурляев
A43: составляется самим предприятием с соблюдением всех пунктов настоящей таблицы,

Sheet 8
B1: АО "Вологдаоблэнерго" | J1: код 900151 | N1: ПС Малечкино, ф, Киселево
B2: наименование предприятия | N2: наименование источника питания
N3: ЦРП-Парфеново
B4: ул, Горького, 99 | I4: Таблица № 1
B5: адрес
A6: почасовых записей показаний электрических счетчиков
A7: ='1'!A7:Q7 -> в режимный день 21 ИЮНЯ 2023 г.
A8: 1630 | B8: 1628
A9: часы суток | B9: Активная энергия | J9: Реактивная энергия
B10: ЦРП-Парфеново В ф,Киселево | J10: ЦРП-Парфеново В ф,Киселево
B11: Расчет, Коэф, | E11: 6000 | F11: Расчет, Коэф, | J11: Расчет, Коэф, | M11: =E11 -> 6000 | N11: Расчет, Коэф, | Q11: =I11 -> 0
B12: показания счетчика | C12: разность | E12: расход эл,энергии за час | F12: показания счетчика | G12: разность | I12: расход эл,энергии за час | J12: показания счетчика | K12: разность | M12: расход эл,энергии за час | N12: показания счетчика | O12: разность | Q12: расход эл,энергии за час
A13: 1 | B13: 2 | C13: 3 | E13: 4 | F13: 5 | G13: 6 | I13: 7 | J13: 8 | K13: 9 | M13: 10 | N13: 11 | O13: 12 | Q13: 13
A14: 0
A15: 1 | E15: 0 | M15: 0
A16: 2 | E16: 0 | M16: 0
A17: 3 | E17: 0 | M17: 0
A18: 4 | E18: 0 | M18: 0
A19: 5 | E19: 0 | M19: 0
A20: 6 | E20: 0 | M20: 0
A21: 7 | E21: 0 | M21: 0
A22: 8 | E22: 0 | M22: 0
A23: 9 | E23: 0 | M23: 0
A24: 10 | E24: 0 | M24: 0
A25: 11 | E25: 0 | M25: 0
A26: 12 | E26: 0 | M26: 0
... A38: 24 | E38: 0 | M38: 0
A39: Итого | E39: =SUM(E15:E38) -> 0 | I39: =SUM(I15:I38) -> 0 | M39: =SUM(M15:M38) -> 0 | Q39: =SUM(Q15:Q38) -> 0
A40: 1, При наличии на предприятии отклонений от нормальных режимов электропотребления (временное изменение схем питания, остановка на ремонт, резкое снижение
A41: эл,потребления и т,д,) последние необходимо перечислить,
A42: Главный инженер АО "Вологдаоблэнерго" А,В, Чурляев
A43: составляется самим предприятием с соблюдением всех пунктов настоящей таблицы,

Sheet 9
B1: АО "Вологдаоблэнерго" | J1: код 900151 | N1: ПС Малечкино, ф, Киселево
B2: наименование предприятия | N2: наименование источника питания
N3: ТП-51; КТП-250 Курилово-ферма
B4: ул, Горького, 99 | I4: Таблица № 1
B5: адрес
A6: почасовых записей показаний электрических счетчиков
A7: ='1'!A7:Q7 -> в режимный день 21 ИЮНЯ 2023 г.
A8: 1630 | B8: 1628
A9: часы суток | B9: Активная энергия | J9: Реактивная энергия
B10: ТП-51 | F10: КТП-250 Курилово-ферма | J10: ТП-51 | N10: КТП-250 Курилово-ферма
B11: Расчет, Коэф, | E11: 120 | F11: Расчет, Коэф, | I11: 30 | J11: Расчет, Коэф, | M11: =E11 -> 120 | N11: Расчет, Коэф, | Q11: =I11 -> 30
B12: показания счетчика | C12: разность | E12: расход эл,энергии за час | F12: показания счетчика | G12: разность | I12: расход эл,энергии за час | J12: показания счетчика | K12: разность | M12: расход эл,энергии за час | N12: показания счетчика | O12: разность | Q12: расход эл,энергии за час
A13: 1 | B13: 2 | C13: 3 | E13: 4 | F13: 5 | G13: 6 | I13: 7 | J13: 8 | K13: 9 | M13: 10 | N13: 11 | O13: 12 | Q13: 13
A14: 0
A15: 1 | E15: 4.2 | I15: 0 | M15: 0 | Q15: 0
A16: 2 | E16: 3.96 | I16: 0 | M16: 0 | Q16: 0
A17: 3 | E17: 3.84 | I17: 0 | M17: 0 | Q17: 0
A18: 4 | E18: 3.88 | I18: 0 | M18: 0 | Q18: 0
A19: 5 | E19: 3.84 | I19: 0 | M19: 0 | Q19: 0
A20: 6 | E20: 4 | I20: 0 | M20: 0 | Q20: 0
A21: 7 | E21: 4.04 | I21: 0 | M21: 0 | Q21: 0
A22: 8 | E22: 4.24 | I22: 0 | M22: 0 | Q22: 0
A23: 9 | E23: 4.2 | I23: 0 | M23: 0 | Q23: 0
A24: 10 | E24: 4.52 | I24: 0.16 | M24: 0 | Q24: 0
A25: 11 | E25: 4.4 | I25: 0 | M25: 0 | Q25: 0
A26: 12 | E26: 4.64 | I26: 0.24 | M26: 0 | Q26: 0
... A38: 24 | E38: 4.44 | I38: 0 | M38: 0 | Q38: 0
A39: Итого | E39: =SUM(E15:E38) -> 108.68 | I39: =SUM(I15:I38) -> 1.32 | M39: =SUM(M15:M38) -> 0 | Q39: =SUM(Q15:Q38) -> 0
A40: 1, При наличии на предприятии отклонений от нормальных режимов электропотребления (временное изменение схем питания, остановка на ремонт, резкое снижение
A41: эл,потребления и т,д,) последние необходимо перечислить,
A42: Главный инженер АО "Вологдаоблэнерго" А,В, Чурляев
A43: составляется самим предприятием с соблюдением всех пунктов настоящей таблицы,

Sheet 10
B1: АО "Вологдаоблэнерго" | J1: код 900151 | N1: ПС Малечкино, ф, Тепл, комбинат
B2: наименование предприятия | N2: наименование источника питания
N3: ТП-33; КТП-400 Пилорама Карат плюс
B4: ул, Горького, 99 | I4: Таблица № 1
B5: адрес
A6: почасовых записей показаний электрических счетчиков
A7: ='1'!A7:Q7 -> в режимный день 21 ИЮНЯ 2023 г.
A8: 1630 | B8: 1628
A9: часы суток | B9: Активная энергия | J9: Реактивная энергия
B10: ТП-33 | F10: КТП-400 Пилорама Карат плюс | J10: ТП-33 | N10: КТП-400 Пилорама Карат плюс
B11: Расчет, Коэф, | E11: 30 | F11: Расчет, Коэф, | I11: 120 | J11: Расчет, Коэф, | M11: =E11 -> 30 | N11: Расчет, Коэф, | Q11: =I11 -> 120
B12: показания счетчика | C12: разность | E12: расход эл,энергии за час | F12: показания счетчика | G12: разность | I12: расход эл,энергии за час | J12: показания счетчика | K12: разность | M12: расход эл,энергии за час | N12: показания счетчика | O12: разность | Q12: расход эл,энергии за час
A13: 1 | B13: 2 | C13: 3 | E13: 4 | F13: 5 | G13: 6 | I13: 7 | J13: 8 | K13: 9 | M13: 10 | N13: 11 | O13: 12 | Q13: 13
A14: 0
A15: 1 | E15: 3.72 | I15: 29.208 | M15: 0 | Q15: 0
A16: 2 | E16: 3.96 | I16: 29.136 | M16: 0 | Q16: 0
A17: 3 | E17: 9.72 | I17: 25.8 | M17: 0 | Q17: 0
A18: 4 | E18: 9.84 | I18: 24.744 | M18: 0 | Q18: 0
A19: 5 | E19: 9.64 | I19: 27.168 | M19: 0 | Q19: 0
A20: 6 | E20: 15.96 | I20: 29.544 | M20: 0 | Q20: 0
A21: 7 | E21: 14.56 | I21: 32.592 | M21: 0 | Q21: 0
A22: 8 | E22: 16.76 | I22: 40.008 | M22: 0 | Q22: 0
A23: 9 | E23: 12.4 | I23: 56.616 | M23: 0 | Q23: 0
A24: 10 | E24: 13.8 | I24: 78.264 | M24: 0 | Q24: 0
A25: 11 | E25: 11.24 | I25: 62.04 | M25: 0 | Q25: 0
A26: 12 | E26: 16.04 | I26: 48.768 | M26: 0 | Q26: 0
... A38: 24 | E38: 14.96 | I38: 38.808 | M38: 0 | Q38: 0
A39: Итого | E39: =SUM(E15:E38) -> 281.52 | I39: =SUM(I15:I38) -> 1173.84 | M39: =SUM(M15:M38) -> 0 | Q39: =SUM(Q15:Q38) -> 0
A40: 1, При наличии на предприятии отклонений от нормальных режимов электропотребления (временное изменение схем питания, остановка на ремонт, резкое снижение
A41: эл,потребления и т,д,) последние необходимо перечислить,
A42: Главный инженер АО "Вологдаоблэнерго" А,В, Чурляев
A43: составляется самим предприятием с соблюдением всех пунктов настоящей таблицы,

Sheet 11
B1: АО "Вологдаоблэнерго" | J1: код 900151 | N1: ПС Загородная, ф, Тоншалово-2
B2: наименование предприятия | N2: наименование источника питания
N3: ТП-4 очистные В-1; ТП-4 очистные В-2
B4: ул, Горького, 99 | I4: Таблица № 1
B5: адрес
A6: почасовых записей показаний электрических счетчиков
A7: ='1'!A7:Q7 -> в режимный день 21 ИЮНЯ 2023 г.
A8: 1630 | B8: 1628
A9: часы суток | B9: Активная энергия | J9: Реактивная энергия
B10: ТП-4 очистные В-1 | F10: ТП-4 очистные В-2 | J10: ТП-4 очистные В-1 | N10: ТП-4 очистные В-2
B11: Расчет, Коэф, | E11: 120 | F11: Расчет, Коэф, | I11: 120 | J11: Расчет, Коэф, | M11: =E11 -> 120 | N11: Расчет, Коэф, | Q11: =I11 -> 120
B12: показания счетчика | C12: разность | E12: расход эл,энергии за час | F12: показания счетчика | G12: разность | I12: расход эл,энергии за час | J12: показания счетчика | K12: разность | M12: расход эл,энергии за час | N12: показания счетчика | O12: разность | Q12: расход эл,энергии за час
A13: 1 | B13: 2 | C13: 3 | E13: 4 | F13: 5 | G13: 6 | I13: 7 | J13: 8 | K13: 9 | M13: 10 | N13: 11 | O13: 12 | Q13: 13
A14: 0
A15: 1 | E15: 61.968 | I15: 11.304 | M15: 0 | Q15: 0
A16: 2 | E16: 61.944 | I16: 10.8 | M16: 0 | Q16: 0
A17: 3 | E17: 65.712 | I17: 10.704 | M17: 0 | Q17: 0
A18: 4 | E18: 70.968 | I18: 10.128 | M18: 0 | Q18: 0
A19: 5 | E19: 65.4 | I19: 9.792 | M19: 0 | Q19: 0
A20: 6 | E20: 64.176 | I20: 11.808 | M20: 0 | Q20: 0
A21: 7 | E21: 67.368 | I21: 12.888 | M21: 0 | Q21: 0
A22: 8 | E22: 68.808 | I22: 14.16 | M22: 0 | Q22: 0
A23: 9 | E23: 67.584 | I23: 15.216 | M23: 0 | Q23: 0
A24: 10 | E24: 67.368 | I24: 24.672 | M24: 0 | Q24: 0
A25: 11 | E25: 67.08 | I25: 23.544 | M25: 0 | Q25: 0
A26: 12 | E26: 65.856 | I26: 28.464 | M26: 0 | Q26: 0
... A38: 24 | E38: 67.296 | I38: 9.48 | M38: 0 | Q38: 0
A39: Итого | E39: =SUM(E15:E38) -> 1595.76 | I39: =SUM(I15:I38) -> 439.272 | M39: =SUM(M15:M38) -> 0 | Q39: =SUM(Q15:Q38) -> 0
A40: 1, При наличии на предприятии отклонений от нормальных режимов электропотребления (временное изменение схем питания, остановка на ремонт, резкое снижение
A41: эл,потребления и т,д,) последние необходимо перечислить,
A42: Главный инженер АО "Вологдаоблэнерго" А,В, Чурляев
A43: составляется самим предприятием с соблюдением всех пунктов настоящей таблицы,

Sheet 12
B1: АО "Вологдаоблэнерго" | J1: код 900151 | N1: ПС Загородная, ф, Тоншалово-2
B2: наименование предприятия | N2: наименование источника питания
N3: ТП-3 Школа В-1; ТП-3 Школа В-2
B4: ул, Горького, 99 | I4: Таблица № 1
B5: адрес
A6: почасовых записей показаний электрических счетчиков
A7: ='1'!A7:Q7 -> в режимный день 21 ИЮНЯ 2023 г.
A8: 1630 | B8: 1628
A9: часы суток | B9: Активная энергия | J9: Реактивная энергия
B10: ТП-3 Школа В-1 | F10: ТП-3 Школа В-2 | J10: ТП-3 Школа В-1 | N10: ТП-3 Школа В-2
B11: Расчет, Коэф, | E11: 120 | F11: Расчет, Коэф, | I11: 120 | J11: Расчет, Коэф, | M11: =E11 -> 120 | N11: Расчет, Коэф, | Q11: =I11 -> 120
B12: показания счетчика | C12: разность | E12: расход эл,энергии за час | F12: показания счетчика | G12: разность | I12: расход эл,энергии за час | J12: показания счетчика | K12: разность | M12: расход эл,энергии за час | N12: показания счетчика | O12: разность | Q12: расход эл,энергии за час
A13: 1 | B13: 2 | C13: 3 | E13: 4 | F13: 5 | G13: 6 | I13: 7 | J13: 8 | K13: 9 | M13: 10 | N13: 11 | O13: 12 | Q13: 13
A14: 0
A15: 1 | E15: 42.528 | I15: 0 | M15: 0 | Q15: 0
A16: 2 | E16: 39.936 | I16: 0 | M16: 0 | Q16: 0
A17: 3 | E17: 37.728 | I17: 0 | M17: 0 | Q17: 0
A18: 4 | E18: 36.672 | I18: 0 | M18: 0 | Q18: 0
A19: 5 | E19: 37.68 | I19: 0 | M19: 0 | Q19: 0
A20: 6 | E20: 41.016 | I20: 0 | M20: 0 | Q20: 0
A21: 7 | E21: 65.064 | I21: 0 | M21: 0 | Q21: 0
A22: 8 | E22: 75.552 | I22: 0 | M22: 0 | Q22: 0
A23: 9 | E23: 80.568 | I23: 0 | M23: 0 | Q23: 0
A24: 10 | E24: 84.648 | I24: 0 | M24: 0 | Q24: 0
A25: 11 | E25: 91.296 | I25: 0 | M25: 0 | Q25: 0
A26: 12 | E26: 83.088 | I26: 0 | M26: 0 | Q26: 0
... A38: 24 | E38: 45.264 | I38: 0 | M38: 0 | Q38: 0
A39: Итого | E39: =SUM(E15:E38) -> 1487.256 | I39: =SUM(I15:I38) -> 0 | M39: =SUM(M15:M38) -> 0 | Q39: =SUM(Q15:Q38) -> 0
A40: 1, При наличии на предприятии отклонений от нормальных режимов электропотребления (временное изменение схем питания, остановка на ремонт, резкое снижение
A41: эл,потребления и т,д,) последние необходимо перечислить,
A42: Главный инженер АО "Вологдаоблэнерго" А,В, Чурляев
A43: составляется самим предприятием с соблюдением всех пунктов настоящей таблицы,

Sheet 13
B1: АО "Вологдаоблэнерго" | J1: код 900151 | N1: ПС Загородная, ф, Тоншалово-2
B2: наименование предприятия | N2: наименование источника питания
N3: ТП-5 ПМК-1 В-1
B4: ул, Горького, 99 | I4: Таблица № 1 | N4: ТП-5 ПМК-1 В-2
B5: адрес
A6: почасовых записей показаний электрических счетчиков
A7: ='1'!A7:Q7 -> в режимный день 21 ИЮНЯ 2023 г.
A8: 1630 | B8: 1628
A9: часы суток | B9: Активная энергия | J9: Реактивная энергия
B10: =N3 -> ТП-5 ПМК-1 В-1 | F10: =N4 -> ТП-5 ПМК-1 В-2 | J10: =B10 -> ТП-5 ПМК-1 В-1 | N10: =F10 -> ТП-5 ПМК-1 В-2
B11: Расчет, Коэф, | E11: 120 | F11: Расчет, Коэф, | I11: 120 | J11: Расчет, Коэф, | M11: =E11 -> 120 | N11: Расчет, Коэф, | Q11: =I11 -> 120
B12: показания счетчика | C12: разность | E12: расход эл,энергии за час | F12: показания счетчика | G12: разность | I12: расход эл,энергии за час | J12: показания счетчика | K12: разность | M12: расход эл,энергии за час | N12: показания счетчика | O12: разность | Q12: расход эл,энергии за час
A13: 1 | B13: 2 | C13: 3 | E13: 4 | F13: 5 | G13: 6 | I13: 7 | J13: 8 | K13: 9 | M13: 10 | N13: 11 | O13: 12 | Q13: 13
A14: 0
A15: 1 | E15: 38.832 | I15: 0 | M15: 0 | Q15: 0
A16: 2 | E16: 34.68 | I16: 13.92 | M16: 0 | Q16: 0
A17: 3 | E17: 32.136 | I17: 13.608 | M17: 0 | Q17: 0
A18: 4 | E18: 30.936 | I18: 13.08 | M18: 0 | Q18: 0
A19: 5 | E19: 41.664 | I19: 12.984 | M19: 0 | Q19: 0
A20: 6 | E20: 58.848 | I20: 13.632 | M20: 0 | Q20: 0
A21: 7 | E21: 64.08 | I21: 13.968 | M21: 0 | Q21: 0
A22: 8 | E22: 60.528 | I22: 13.968 | M22: 0 | Q22: 0
A23: 9 | E23: 69.936 | I23: 14.928 | M23: 0 | Q23: 0
A24: 10 | E24: 60.528 | I24: 16.656 | M24: 0 | Q24: 0
A25: 11 | E25: 53.208 | I25: 15.816 | M25: 0 | Q25: 0
A26: 12 | E26: 48 | I26: 16.848 | M26: 0 | Q26: 0
... A38: 24 | E38: 46.032 | I38: 14.976 | M38: 0 | Q38: 0
A39: Итого | E39: =SUM(E15:E38) -> 1188.504 | I39: =SUM(I15:I38) -> 377.928 | M39: =SUM(M15:M38) -> 0 | Q39: =SUM(Q15:Q38) -> 0
A40: 1, При наличии на предприятии отклонений от нормальных режимов электропотребления (временное изменение схем питания, остановка на ремонт, резкое снижение
A41: эл,потребления и т,д,) последние необходимо перечислить,
A42: Главный инженер АО "Вологдаоблэнерго" А,В, Чурляев
A43: составляется самим предприятием с соблюдением всех пунктов настоящей таблицы,

Sheet 14
B1: АО "Вологдаоблэнерго" | J1: код 900151 | N1: ПС Загородная, ф, Тоншалово-2
B2: наименование предприятия | N2: наименование источника питания
N3: ТП-6 Детский сад В-1
B4: ул, Горького, 99 | I4: Таблица № 1 | N4: ТП-6 Детский сад В-2
B5: адрес
A6: почасовых записей показаний электрических счетчиков
A7: ='1'!A7:Q7 -> в режимный день 21 ИЮНЯ 2023 г.
A8: 1630 | B8: 1628
A9: часы суток | B9: Активная энергия | J9: Реактивная энергия
B10: =N3 -> ТП-6 Детский сад В-1 | F10: =N4 -> ТП-6 Детский сад В-2 | J10: =B10 -> ТП-6 Детский сад В-1 | N10: =F10 -> ТП-6 Детский сад В-2
B11: Расчет, Коэф, | E11: 120 | F11: Расчет, Коэф, | I11: 120 | J11: Расчет, Коэф, | M11: =E11 -> 120 | N11: Расчет, Коэф, | Q11: =I11 -> 120
B12: показания счетчика | C12: разность | E12: расход эл,энергии за час | F12: показания счетчика | G12: разность | I12: расход эл,энергии за час | J12: показания счетчика | K12: разность | M12: расход эл,энергии за час | N12: показания счетчика | O12: разность | Q12: расход эл,энергии за час
A13: 1 | B13: 2 | C13: 3 | E13: 4 | F13: 5 | G13: 6 | I13: 7 | J13: 8 | K13: 9 | M13: 10 | N13: 11 | O13: 12 | Q13: 13
A14: 0
A15: 1 | E15: 44.88 | I15: 33.048 | M15: 0 | Q15: 0
A16: 2 | E16: 40.944 | I16: 30.72 | M16: 0 | Q16: 0
A17: 3 | E17: 36.672 | I17: 28.08 | M17: 0 | Q17: 0
A18: 4 | E18: 34.68 | I18: 26.52 | M18: 0 | Q18: 0
A19: 5 | E19: 34.632 | I19: 26.76 | M19: 0 | Q19: 0
A20: 6 | E20: 34.536 | I20: 28.848 | M20: 0 | Q20: 0
A21: 7 | E21: 39.936 | I21: 33.264 | M21: 0 | Q21: 0
A22: 8 | E22: 43.704 | I22: 32.616 | M22: 0 | Q22: 0
A23: 9 | E23: 48.672 | I23: 34.392 | M23: 0 | Q23: 0
A24: 10 | E24: 46.152 | I24: 36.6 | M24: 0 | Q24: 0
A25: 11 | E25: 48.648 | I25: 34.128 | M25: 0 | Q25: 0
A26: 12 | E26: 56.832 | I26: 33.432 | M26: 0 | Q26: 0
... A38: 24 | E38: 52.68 | I38: 39.6 | M38: 0 | Q38: 0
A39: Итого | E39: =SUM(E15:E38) -> 1206.12 | I39: =SUM(I15:I38) -> 881.904 | M39: =SUM(M15:M38) -> 0 | Q39: =SUM(Q15:Q38) -> 0
A40: 1, При наличии на предприятии отклонений от нормальных режимов электропотребления (временное изменение схем питания, остановка на ремонт, резкое снижение
A41: эл,потребления и т,д,) последние необходимо перечислить,
A42: Главный инженер АО "Вологдаоблэнерго" А,В, Чурляев
A43: составляется самим предприятием с соблюдением всех пунктов настоящей таблицы,

Sheet 15
B1: АО "Вологдаоблэнерго" | J1: код 900151 | N1: ПС Загородная, ф, Тоншалово-2
B2: наименование предприятия | N2: наименование источника питания
N3: ТП-2 Поселок
B4: ул, Горького, 99 | I4: Таблица № 1
B5: адрес
A6: почасовых записей показаний электрических счетчиков
A7: ='1'!A7:Q7 -> в режимный день 21 ИЮНЯ 2023 г.
A8: 1630 | B8: 1628
A9: часы суток | B9: Активная энергия | J9: Реактивная энергия
B10: =N3 -> ТП-2 Поселок | F10: =N4 -> 0 | J10: =B10 -> ТП-2 Поселок | N10: =F10 -> 0
B11: Расчет, Коэф, | E11: 200 | F11: Расчет, Коэф, | I11: 120 | J11: Расчет, Коэф, | M11: =E11 -> 200 | N11: Расчет, Коэф, | Q11: =I11 -> 120
B12: показания счетчика | C12: разность | E12: расход эл,энергии за час | F12: показания счетчика | G12: разность | I12: расход эл,энергии за час | J12: показания счетчика | K12: разность | M12: расход эл,энергии за час | N12: показания счетчика | O12: разность | Q12: расход эл,энергии за час
A13: 1 | B13: 2 | C13: 3 | E13: 4 | F13: 5 | G13: 6 | I13: 7 | J13: 8 | K13: 9 | M13: 10 | N13: 11 | O13: 12 | Q13: 13
A14: 0
A15: 1 | E15: 96.8 | I15: 0 | M15: 0 | Q15: 0
A16: 2 | E16: 88.36 | I16: 0 | M16: 0 | Q16: 0
A17: 3 | E17: 83.68 | I17: 0 | M17: 0 | Q17: 0
A18: 4 | E18: 77.92 | I18: 0 | M18: 0 | Q18: 0
A19: 5 | E19: 77.08 | I19: 0 | M19: 0 | Q19: 0
A20: 6 | E20: 90.08 | I20: 0 | M20: 0 | Q20: 0
A21: 7 | E21: 100.56 | I21: 0 | M21: 0 | Q21: 0
A22: 8 | E22: 103.32 | I22: 0 | M22: 0 | Q22: 0
A23: 9 | E23: 110.12 | I23: 0 | M23: 0 | Q23: 0
A24: 10 | E24: 112.08 | I24: 0 | M24: 0 | Q24: 0
A25: 11 | E25: 119.88 | I25: 0 | M25: 0 | Q25: 0
A26: 12 | E26: 110.32 | I26: 0 | M26: 0 | Q26: 0
... A38: 24 | E38: 111.12 | I38: 0 | M38: 0 | Q38: 0
A39: Итого | E39: =SUM(E15:E38) -> 2589.88 | I39: =SUM(I15:I38) -> 0 | M39: =SUM(M15:M38) -> 0 | Q39: =SUM(Q15:Q38) -> 0
A40: 1, При наличии на предприятии отклонений от нормальных режимов электропотребления (временное изменение схем питания, остановка на ремонт, резкое снижение
A41: эл,потребления и т,д,) последние необходимо перечислить,
A42: Главный инженер АО "Вологдаоблэнерго" А,В, Чурляев
A43: составляется самим предприятием с соблюдением всех пунктов настоящей таблицы,

Sheet 16
B1: АО "Вологдаоблэнерго" | J1: код 900151 | N1: ПС Загородная, ф, Солманское
B2: наименование предприятия | N2: наименование источника питания
N3: ТП-Котельная ПМК-2 В-1
B4: ул, Горького, 99 | I4: Таблица № 1 | N4: ТП-Котельная ПМК-2 В-2
B5: адрес
A6: почасовых записей показаний электрических счетчиков
A7: ='1'!A7:Q7 -> в режимный день 21 ИЮНЯ 2023 г.
A8: 1630 | B8: 1628
A9: часы суток | B9: Активная энергия | J9: Реактивная энергия
B10: =N3 -> ТП-Котельная ПМК-2 В-1 | F10: =N4 -> ТП-Котельная ПМК-2 В-2 | J10: =B10 -> ТП-Котельная ПМК-2 В-1 | N10: =F10 -> ТП-Котельная ПМК-2 В-2
B11: Расчет, Коэф, | E11: 80 | F11: Расчет, Коэф, | I11: 80 | J11: Расчет, Коэф, | M11: =E11 -> 80 | N11: Расчет, Коэф, | Q11: =I11 -> 80
B12: показания счетчика | C12: разность | E12: расход эл,энергии за час | F12: показания счетчика | G12: разность | I12: расход эл,энергии за час | J12: показания счетчика | K12: разность | M12: расход эл,энергии за час | N12: показания счетчика | O12: разность | Q12: расход эл,энергии за час
A13: 1 | B13: 2 | C13: 3 | E13: 4 | F13: 5 | G13: 6 | I13: 7 | J13: 8 | K13: 9 | M13: 10 | N13: 11 | O13: 12 | Q13: 13
A14: 0
A15: 1 | E15: 15.344 | I15: 0 | M15: 0 | Q15: 0
A16: 2 | E16: 14.704 | I16: 0 | M16: 0 | Q16: 0
A17: 3 | E17: 14.848 | I17: 0 | M17: 0 | Q17: 0
A18: 4 | E18: 15.168 | I18: 0 | M18: 0 | Q18: 0
A19: 5 | E19: 14.64 | I19: 0 | M19: 0 | Q19: 0
A20: 6 | E20: 14.928 | I20: 0 | M20: 0 | Q20: 0
A21: 7 | E21: 23.584 | I21: 0 | M21: 0 | Q21: 0
A22: 8 | E22: 27.344 | I22: 0 | M22: 0 | Q22: 0
A23: 9 | E23: 81.936 | I23: 0 | M23: 0 | Q23: 0
A24: 10 | E24: 69.712 | I24: 0 | M24: 0 | Q24: 0
A25: 11 | E25: 68.496 | I25: 0 | M25: 0 | Q25: 0
A26: 12 | E26: 58.944 | I26: 0 | M26: 0 | Q26: 0
... A38: 24 | E38: 14.32 | I38: 0 | M38: 0 | Q38: 0
A39: Итого | E39: =SUM(E15:E38) -> 728.896 | I39: =SUM(I15:I38) -> 0 | M39: =SUM(M15:M38) -> 0 | Q39: =SUM(Q15:Q38) -> 0
A40: 1, При наличии на предприятии отклонений от нормальных режимов электропотребления (временное изменение схем питания, остановка на ремонт, резкое снижение
A41: эл,потребления и т,д,) последние необходимо перечислить,
A42: Главный инженер АО "Вологдаоблэнерго" А,В, Чурляев
A43: составляется самим предприятием с соблюдением всех пунктов настоящей таблицы,

Sheet 17
B1: АО "Вологдаоблэнерго" | J1: код 900151 | N1: ПС Нелазское, ф, Шулма
B2: наименование предприятия | N2: наименование источника питания
N3: ТП-244
B4: ул, Горького, 99 | I4: Таблица № 1 | N4: ТП-250
B5: адрес
A6: почасовых записей показаний электрических счетчиков
A7: ='1'!A7:Q7 -> в режимный день 21 ИЮНЯ 2023 г.
A8: 1630 | B8: 1628
A9: часы суток | B9: Активная энергия | J9: Реактивная энергия
B10: =N3 -> ТП-244 | F10: =N4 -> ТП-250 | J10: =B10 -> ТП-244 | N10: =F10 -> ТП-250
B11: Расчет, Коэф, | E11: 60 | F11: Расчет, Коэф, | I11: 60 | J11: Расчет, Коэф, | M11: =E11 -> 60 | N11: Расчет, Коэф, | Q11: =I11 -> 60
B12: показания счетчика | C12: разность | E12: расход эл,энергии за час | F12: показания счетчика | G12: разность | I12: расход эл,энергии за час | J12: показания счетчика | K12: разность | M12: расход эл,энергии за час | N12: показания счетчика | O12: разность | Q12: расход эл,энергии за час
A13: 1 | B13: 2 | C13: 3 | E13: 4 | F13: 5 | G13: 6 | I13: 7 | J13: 8 | K13: 9 | M13: 10 | N13: 11 | O13: 12 | Q13: 13
A14: 0
A15: 1 | E15: 0 | I15: 35.4 | M15: 0 | Q15: 0
A16: 2 | E16: 0 | I16: 35.34 | M16: 0 | Q16: 0
A17: 3 | E17: 0 | I17: 35.4 | M17: 0 | Q17: 0
A18: 4 | E18: 0 | I18: 35.34 | M18: 0 | Q18: 0
A19: 5 | E19: 0 | I19: 35.4 | M19: 0 | Q19: 0
A20: 6 | E20: 0 | I20: 35.4 | M20: 0 | Q20: 0
A21: 7 | E21: 0 | I21: 35.52 | M21: 0 | Q21: 0
A22: 8 | E22: 0 | I22: 35.58 | M22: 0 | Q22: 0
A23: 9 | E23: 0 | I23: 35.7 | M23: 0 | Q23: 0
A24: 10 | E24: 0 | I24: 35.58 | M24: 0 | Q24: 0
A25: 11 | E25: 0 | I25: 35.58 | M25: 0 | Q25: 0
A26: 12 | E26: 0 | I26: 35.64 | M26: 0 | Q26: 0
... A38: 24 | E38: 0 | I38: 35.4 | M38: 0 | Q38: 0
A39: Итого | E39: =SUM(E15:E38) -> 0 | I39: =SUM(I15:I38) -> 852.78 | M39: =SUM(M15:M38) -> 0 | Q39: =SUM(Q15:Q38) -> 0
A40: 1, При наличии на предприятии отклонений от нормальных режимов электропотребления (временное изменение схем питания, остановка на ремонт, резкое снижение
A41: эл,потребления и т,д,) последние необходимо перечислить,
A42: Главный инженер АО "Вологдаоблэнерго" А,В, Чурляев
A43: составляется самим предприятием с соблюдением всех пунктов настоящей таблицы,

Sheet 18
B1: АО "Вологдаоблэнерго" | J1: код 900151 | N1: ПС Нелазское, ф, Шулма
B2: наименование предприятия | N2: наименование источника питания
N3: ТП-Поселок
B4: ул, Горького, 99 | I4: Таблица № 1 | N4: ТП-Школа
B5: адрес
A6: почасовых записей показаний электрических счетчиков
A7: ='1'!A7:Q7 -> в режимный день 21 ИЮНЯ 2023 г.
A8: 1630 | B8: 1628
A9: часы суток | B9: Активная энергия | J9: Реактивная энергия
B10: =N3 -> ТП-Поселок | F10: =N4 -> ТП-Школа | J10: =B10 -> ТП-Поселок | N10: =F10 -> ТП-Школа
B11: Расчет, Коэф, | E11: 120 | F11: Расчет, Коэф, | I11: 120 | J11: Расчет, Коэф, | M11: =E11 -> 120 | N11: Расчет, Коэф, | Q11: =I11 -> 120
B12: показания счетчика | C12: разность | E12: расход эл,энергии за час | F12: показания счетчика | G12: разность | I12: расход эл,энергии за час | J12: показания счетчика | K12: разность | M12: расход эл,энергии за час | N12: показания счетчика | O12: разность | Q12: расход эл,энергии за час
A13: 1 | B13: 2 | C13: 3 | E13: 4 | F13: 5 | G13: 6 | I13: 7 | J13: 8 | K13: 9 | M13: 10 | N13: 11 | O13: 12 | Q13: 13
A14: 0
A15: 1 | E15: 86.04 | I15: 22.392 | M15: 0 | Q15: 0
A16: 2 | E16: 83.4 | I16: 19.584 | M16: 0 | Q16: 0
A17: 3 | E17: 76.92 | I17: 18.936 | M17: 0 | Q17: 0
A18: 4 | E18: 74.64 | I18: 18.576 | M18: 0 | Q18: 0
A19: 5 | E19: 75.24 | I19: 18.456 | M19: 0 | Q19: 0
A20: 6 | E20: 85.8 | I20: 19.32 | M20: 0 | Q20: 0
A21: 7 | E21: 101.64 | I21: 18.912 | M21: 0 | Q21: 0
A22: 8 | E22: 113.88 | I22: 25.92 | M22: 0 | Q22: 0
A23: 9 | E23: 109.44 | I23: 46.272 | M23: 0 | Q23: 0
A24: 10 | E24: 110.88 | I24: 96.672 | M24: 0 | Q24: 0
A25: 11 | E25: 99.24 | I25: 96.024 | M25: 0 | Q25: 0
A26: 12 | E26: 100.44 | I26: 63.024 | M26: 0 | Q26: 0
... A38: 24 | E38: 97.2 | I38: 12.6 | M38: 0 | Q38: 0
A39: Итого | E39: =SUM(E15:E38) -> 2473.08 | I39: =SUM(I15:I38) -> 805.08 | M39: =SUM(M15:M38) -> 0 | Q39: =SUM(Q15:Q38) -> 0
A40: 1, При наличии на предприятии отклонений от нормальных режимов электропотребления (временное изменение схем питания, остановка на ремонт, резкое снижение
A41: эл,потребления и т,д,) последние необходимо перечислить,
A42: Главный инженер АО "Вологдаоблэнерго" А,В, Чурляев
A43: составляется самим предприятием с соблюдением всех пунктов настоящей таблицы,

Sheet 19
B1: АО "Вологдаоблэнерго" | J1: код 900151 | N1: ПС Нелазское, ф, К-с Нелазское-2
B2: наименование предприятия | N2: наименование источника питания
N3: ТП-14 В-1
B4: ул, Горького, 99 | I4: Таблица № 1 | N4: ТП-14 В-2
B5: адрес
A6: почасовых записей показаний электрических счетчиков
A7: ='1'!A7:Q7 -> в режимный день 21 ИЮНЯ 2023 г.
A8: 1630 | B8: 1628
A9: часы суток | B9: Активная энергия | J9: Реактивная энергия
B10: =N3 -> ТП-14 В-1 | F10: =N4 -> ТП-14 В-2 | J10: =B10 -> ТП-14 В-1 | N10: =F10 -> ТП-14 В-2
B11: Расчет, Коэф, | E11: 120 | F11: Расчет, Коэф, | I11: 120 | J11: Расчет, Коэф, | M11: =E11 -> 120 | N11: Расчет, Коэф, | Q11: =I11 -> 120
B12: показания счетчика | C12: разность | E12: расход эл,энергии за час | F12: показания счетчика | G12: разность | I12: расход эл,энергии за час | J12: показания счетчика | K12: разность | M12: расход эл,энергии за час | N12: показания счетчика | O12: разность | Q12: расход эл,энергии за час
A13: 1 | B13: 2 | C13: 3 | E13: 4 | F13: 5 | G13: 6 | I13: 7 | J13: 8 | K13: 9 | M13: 10 | N13: 11 | O13: 12 | Q13: 13
A14: 0
A15: 1 | E15: 0 | I15: 78.36 | M15: 0 | Q15: 0
A16: 2 | E16: 0 | I16: 68.04 | M16: 0 | Q16: 0
A17: 3 | E17: 0 | I17: 59.52 | M17: 0 | Q17: 0
A18: 4 | E18: 0 | I18: 68.52 | M18: 0 | Q18: 0
A19: 5 | E19: 0 | I19: 57 | M19: 0 | Q19: 0
A20: 6 | E20: 0 | I20: 65.4 | M20: 0 | Q20: 0
A21: 7 | E21: 0 | I21: 46.2 | M21: 0 | Q21: 0
A22: 8 | E22: 0 | I22: 49.32 | M22: 0 | Q22: 0
A23: 9 | E23: 0 | I23: 81.96 | M23: 0 | Q23: 0
A24: 10 | E24: 0 | I24: 70.2 | M24: 0 | Q24: 0
A25: 11 | E25: 0 | I25: 69.84 | M25: 0 | Q25: 0
A26: 12 | E26: 0 | I26: 61.8 | M26: 0 | Q26: 0
... A38: 24 | E38: 0 | I38: 69.6 | M38: 0 | Q38: 0
A39: Итого | E39: =SUM(E15:E38) -> 0 | I39: =SUM(I15:I38) -> 1631.64 | M39: =SUM(M15:M38) -> 0 | Q39: =SUM(Q15:Q38) -> 0
A40: 1, При наличии на предприятии отклонений от нормальных режимов электропотребления (временное изменение схем питания, остановка на ремонт, резкое снижение
A41: эл,потребления и т,д,) последние необходимо перечислить,
A42: Главный инженер АО "Вологдаоблэнерго" А,В, Чурляев
A43: составляется самим предприятием с соблюдением всех пунктов настоящей таблицы,

Sheet 20
B1: АО "Вологдаоблэнерго" | J1: код 900151 | N1: ПС Нелазское, ф, К-с Нелазское-2
B2: наименование предприятия | N2: наименование источника питания
N3: ТП-15 В-1
B4: ул, Горького, 99 | I4: Таблица № 1 | N4: ТП-15 В-2
B5: адрес
A6: почасовых записей показаний электрических счетчиков
A7: ='1'!A7:Q7 -> в режимный день 21 ИЮНЯ 2023 г.
A8: 1630 | B8: 1628
A9: часы суток | B9: Активная энергия | J9: Реактивная энергия
B10: =N3 -> ТП-15 В-1 | F10: =N4 -> ТП-15 В-2 | J10: =B10 -> ТП-15 В-1 | N10: =F10 -> ТП-15 В-2
B11: Расчет, Коэф, | E11: 200 | F11: Расчет, Коэф, | I11: 120 | J11: Расчет, Коэф, | M11: =E11 -> 200 | N11: Расчет, Коэф, | Q11: =I11 -> 120
B12: показания счетчика | C12: разность | E12: расход эл,энергии за час | F12: показания счетчика | G12: разность | I12: расход эл,энергии за час | J12: показания счетчика | K12: разность | M12: расход эл,энергии за час | N12: показания счетчика | O12: разность | Q12: расход эл,энергии за час
A13: 1 | B13: 2 | C13: 3 | E13: 4 | F13: 5 | G13: 6 | I13: 7 | J13: 8 | K13: 9 | M13: 10 | N13: 11 | O13: 12 | Q13: 13
A14: 0
A15: 1 | E15: 0 | I15: 31.56 | M15: 0 | Q15: 0
A16: 2 | E16: 0 | I16: 29.64 | M16: 0 | Q16: 0
A17: 3 | E17: 0 | I17: 31.8 | M17: 0 | Q17: 0
A18: 4 | E18: 0 | I18: 30.84 | M18: 0 | Q18: 0
A19: 5 | E19: 0 | I19: 30.6 | M19: 0 | Q19: 0
A20: 6 | E20: 0 | I20: 32.88 | M20: 0 | Q20: 0
A21: 7 | E21: 0 | I21: 55.08 | M21: 0 | Q21: 0
A22: 8 | E22: 0 | I22: 46.08 | M22: 0 | Q22: 0
A23: 9 | E23: 0 | I23: 38.4 | M23: 0 | Q23: 0
A24: 10 | E24: 0 | I24: 53.4 | M24: 0 | Q24: 0
A25: 11 | E25: 0 | I25: 42.84 | M25: 0 | Q25: 0
A26: 12 | E26: 0 | I26: 42.84 | M26: 0 | Q26: 0
... A38: 24 | E38: 0 | I38: 31.32 | M38: 0 | Q38: 0
A39: Итого | E39: =SUM(E15:E38) -> 0 | I39: =SUM(I15:I38) -> 838.08 | M39: =SUM(M15:M38) -> 0 | Q39: =SUM(Q15:Q38) -> 0
A40: 1, При наличии на предприятии отклонений от нормальных режимов электропотребления (временное изменение схем питания, остановка на ремонт, резкое снижение
A41: эл,потребления и т,д,) последние необходимо перечислить,
A42: Главный инженер АО "Вологдаоблэнерго" А,В, Чурляев
A43: составляется самим предприятием с соблюдением всех пунктов настоящей таблицы,

Sheet 21
B1: АО "Вологдаоблэнерго" | J1: код 900151 | N1: ПС Нелазское, ф, Шулма очистные
B2: наименование предприятия | N2: наименование источника питания
N3: КТП-Ива
B4: ул, Горького, 99 | I4: Таблица № 1
B5: адрес
A6: почасовых записей показаний электрических счетчиков
A7: ='1'!A7:Q7 -> в режимный день 21 ИЮНЯ 2023 г.
A8: 1630 | B8: 1628
A9: часы суток | B9: Активная энергия | J9: Реактивная энергия
B10: =N3 -> КТП-Ива | F10: =N4 -> 0 | J10: =B10 -> КТП-Ива | N10: =F10 -> 0
B11: Расчет, Коэф, | E11: 30 | F11: Расчет, Коэф, | I11: 120 | J11: Расчет, Коэф, | M11: =E11 -> 30 | N11: Расчет, Коэф, | Q11: =I11 -> 120
B12: показания счетчика | C12: разность | E12: расход эл,энергии за час | F12: показания счетчика | G12: разность | I12: расход эл,энергии за час | J12: показания счетчика | K12: разность | M12: расход эл,энергии за час | N12: показания счетчика | O12: разность | Q12: расход эл,энергии за час
A13: 1 | B13: 2 | C13: 3 | E13: 4 | F13: 5 | G13: 6 | I13: 7 | J13: 8 | K13: 9 | M13: 10 | N13: 11 | O13: 12 | Q13: 13
A14: 0
A15: 1 | E15: 4.695 | M15: 0
A16: 2 | E16: 5.34 | M16: 0
A17: 3 | E17: 5.265 | M17: 0
A18: 4 | E18: 6.96 | M18: 0
A19: 5 | E19: 7.215 | M19: 0
A20: 6 | E20: 7.155 | M20: 0
A21: 7 | E21: 8.43 | M21: 0
A22: 8 | E22: 10.05 | M22: 0
A23: 9 | E23: 9.45 | M23: 0
A24: 10 | E24: 8.73 | M24: 0
A25: 11 | E25: 10.47 | M25: 0
A26: 12 | E26: 11.25 | M26: 0
... A38: 24 | E38: 6.36 | M38: 0
A39: Итого | E39: =SUM(E15:E38) -> 223.545 | I39: =SUM(I15:I38) -> 0 | M39: =SUM(M15:M38) -> 0 | Q39: =SUM(Q15:Q38) -> 0
A40: 1, При наличии на предприятии отклонений от нормальных режимов электропотребления (временное изменение схем питания, остановка на ремонт, резкое снижение
A41: эл,потребления и т,д,) последние необходимо перечислить,
A42: Главный инженер АО "Вологдаоблэнерго" А,В, Чурляев
A43: составляется самим предприятием с соблюдением всех пунктов настоящей таблицы,

Sheet 22
B1: АО "Вологдаоблэнерго" | J1: код 900151 | N1: ПС Нелазское, ф, Крутец
B2: наименование предприятия | N2: наименование источника питания
N3: КТП-1 "Сад-3 ЧМК"
B4: ул, Горького, 99 | I4: Таблица № 1 | N4: КТП-2 "Сад-3 ЧМК"
B5: адрес
A6: почасовых записей показаний электрических счетчиков
A7: ='1'!A7:Q7 -> в режимный день 21 ИЮНЯ 2023 г.
A8: 1630 | B8: 1628
A9: часы суток | B9: Активная энергия | J9: Реактивная энергия
B10: =N3 -> КТП-1 "Сад-3 ЧМК" | F10: =N4 -> КТП-2 "Сад-3 ЧМК" | J10: =B10 -> КТП-1 "Сад-3 ЧМК" | N10: =F10 -> КТП-2 "Сад-3 ЧМК"
B11: Расчет, Коэф, | E11: 60 | F11: Расчет, Коэф, | I11: 60 | J11: Расчет, Коэф, | M11: =E11 -> 60 | N11: Расчет, Коэф, | Q11: =I11 -> 60
B12: показания счетчика | C12: разность | E12: расход эл,энергии за час | F12: показания счетчика | G12: разность | I12: расход эл,энергии за час | J12: показания счетчика | K12: разность | M12: расход эл,энергии за час | N12: показания счетчика | O12: разность | Q12: расход эл,энергии за час
A13: 1 | B13: 2 | C13: 3 | E13: 4 | F13: 5 | G13: 6 | I13: 7 | J13: 8 | K13: 9 | M13: 10 | N13: 11 | O13: 12 | Q13: 13
A14: 0
A15: 1 | E15: 11.01 | I15: 29.25 | M15: 0 | Q15: 0
A16: 2 | E16: 9.96 | I16: 28.29 | M16: 0 | Q16: 0
A17: 3 | E17: 8.91 | I17: 26.16 | M17: 0 | Q17: 0
A18: 4 | E18: 9 | I18: 27.84 | M18: 0 | Q18: 0
A19: 5 | E19: 8.79 | I19: 28.95 | M19: 0 | Q19: 0
A20: 6 | E20: 7.74 | I20: 29.25 | M20: 0 | Q20: 0
A21: 7 | E21: 6.24 | I21: 30.93 | M21: 0 | Q21: 0
A22: 8 | E22: 6 | I22: 39.66 | M22: 0 | Q22: 0
A23: 9 | E23: 6.93 | I23: 46.08 | M23: 0 | Q23: 0
A24: 10 | E24: 6.42 | I24: 46.08 | M24: 0 | Q24: 0
A25: 11 | E25: 5.55 | I25: 41.7 | M25: 0 | Q25: 0
A26: 12 | E26: 6.15 | I26: 35.19 | M26: 0 | Q26: 0
... A38: 24 | E38: 7.89 | I38: 32.46 | M38: 0 | Q38: 0
A39: Итого | E39: =SUM(E15:E38) -> 169.56 | I39: =SUM(I15:I38) -> 827.46 | M39: =SUM(M15:M38) -> 0 | Q39: =SUM(Q15:Q38) -> 0
A40: 1, При наличии на предприятии отклонений от нормальных режимов электропотребления (временное изменение схем питания, остановка на ремонт, резкое снижение
A41: эл,потребления и т,д,) последние необходимо перечислить,
A42: Главный инженер АО "Вологдаоблэнерго" А,В, Чурляев
A43: составляется самим предприятием с соблюдением всех пунктов настоящей таблицы,

Sheet 23
B1: АО "Вологдаоблэнерго" | J1: код 900151 | N1: ПС Суда, ф, Андога
B2: наименование предприятия | N2: наименование источника питания
N3: ТП-243
B4: ул, Горького, 99 | I4: Таблица № 1 | N4: КТП-63 Кривец-1
B5: адрес
A6: почасовых записей показаний электрических счетчиков
A7: ='1'!A7:Q7 -> в режимный день 21 ИЮНЯ 2023 г.
A8: 1630 | B8: 1628
A9: часы суток | B9: Активная энергия | J9: Реактивная энергия
B10: =N3 -> ТП-243 | F10: =N4 -> КТП-63 Кривец-1 | J10: =B10 -> ТП-243 | N10: =F10 -> КТП-63 Кривец-1
B11: Расчет, Коэф, | E11: 60 | F11: Расчет, Коэф, | I11: 20 | J11: Расчет, Коэф, | M11: =E11 -> 60 | N11: Расчет, Коэф, | Q11: =I11 -> 20
B12: показания счетчика | C12: разность | E12: расход эл,энергии за час | F12: показания счетчика | G12: разность | I12: расход эл,энергии за час | J12: показания счетчика | K12: разность | M12: расход эл,энергии за час | N12: показания счетчика | O12: разность | Q12: расход эл,энергии за час
A13: 1 | B13: 2 | C13: 3 | E13: 4 | F13: 5 | G13: 6 | I13: 7 | J13: 8 | K13: 9 | M13: 10 | N13: 11 | O13: 12 | Q13: 13
A14: 0
A15: 1 | E15: 0 | I15: 0.03 | M15: 0 | Q15: 0
A16: 2 | E16: 0 | I16: 0.02 | M16: 0 | Q16: 0
A17: 3 | E17: 0 | I17: 0.02 | M17: 0 | Q17: 0
A18: 4 | E18: 0 | I18: 0.02 | M18: 0 | Q18: 0
A19: 5 | E19: 0 | I19: 0.03 | M19: 0 | Q19: 0
A20: 6 | E20: 0 | I20: 0.02 | M20: 0 | Q20: 0
A21: 7 | E21: 0 | I21: 0.02 | M21: 0 | Q21: 0
A22: 8 | E22: 0 | I22: 0.03 | M22: 0 | Q22: 0
A23: 9 | E23: 0 | I23: 0.02 | M23: 0 | Q23: 0
A24: 10 | E24: 0 | I24: 0.02 | M24: 0 | Q24: 0
A25: 11 | E25: 0 | I25: 0.02 | M25: 0 | Q25: 0
A26: 12 | E26: 0 | I26: 0.02 | M26: 0 | Q26: 0
... A38: 24 | E38: 0 | I38: 0.05 | M38: 0 | Q38: 0
A39: Итого | E39: =SUM(E15:E38) -> 0 | I39: =SUM(I15:I38) -> 1.36 | M39: =SUM(M15:M38) -> 0 | Q39: =SUM(Q15:Q38) -> 0
A40: 1, При наличии на предприятии отклонений от нормальных режимов электропотребления (временное изменение схем питания, остановка на ремонт, резкое снижение
A41: эл,потребления и т,д,) последние необходимо перечислить,
A42: Главный инженер АО "Вологдаоблэнерго" А,В, Чурляев
A43: составляется самим предприятием с соблюдением всех пунктов настоящей таблицы,

Sheet 24
B1: АО "Вологдаоблэнерго" | J1: код 900151 | N1: ПС Суда, ф, Сойволовское
B2: наименование предприятия | N2: наименование источника питания
N3: КТП общества садоводов "Заря-2"
B4: ул, Горького, 99 | I4: Таблица № 1 | N4: КТП "Дачи"
B5: адрес
A6: почасовых записей показаний электрических счетчиков
A7: ='1'!A7:Q7 -> в режимный день 21 ИЮНЯ 2023 г.
A8: 1630 | B8: 1628
A9: часы суток | B9: Активная энергия | J9: Реактивная энергия
B10: =N3 -> КТП общества садоводов "Заря-2" | F10: =N4 -> КТП "Дачи" | J10: =B10 -> КТП общества садоводов "Заря-2" | N10: =F10 -> КТП "Дачи"
B11: Расчет, Коэф, | E11: 40 | F11: Расчет, Коэф, | I11: 60 | J11: Расчет, Коэф, | M11: =E11 -> 40 | N11: Расчет, Коэф, | Q11: =I11 -> 60
B12: показания счетчика | C12: разность | E12: расход эл,энергии за час | F12: показания счетчика | G12: разность | I12: расход эл,энергии за час | J12: показания счетчика | K12: разность | M12: расход эл,энергии за час | N12: показания счетчика | O12: разность | Q12: расход эл,энергии за час
A13: 1 | B13: 2 | C13: 3 | E13: 4 | F13: 5 | G13: 6 | I13: 7 | J13: 8 | K13: 9 | M13: 10 | N13: 11 | O13: 12 | Q13: 13
A14: 0
A15: 1 | E15: 36.272 | I15: 17.52 | M15: 0 | Q15: 0
A16: 2 | E16: 31.592 | I16: 16.668 | M16: 0 | Q16: 0
A17: 3 | E17: 31.456 | I17: 16.572 | M17: 0 | Q17: 0
A18: 4 | E18: 31.944 | I18: 18.504 | M18: 0 | Q18: 0
A19: 5 | E19: 30.784 | I19: 17.196 | M19: 0 | Q19: 0
A20: 6 | E20: 33.688 | I20: 19.44 | M20: 0 | Q20: 0
A21: 7 | E21: 34.584 | I21: 17.964 | M21: 0 | Q21: 0
A22: 8 | E22: 33.912 | I22: 27.492 | M22: 0 | Q22: 0
A23: 9 | E23: 32.64 | I23: 21.204 | M23: 0 | Q23: 0
A24: 10 | E24: 33.456 | I24: 24.372 | M24: 0 | Q24: 0
A25: 11 | E25: 36.176 | I25: 23.244 | M25: 0 | Q25: 0
A26: 12 | E26: 27.728 | I26: 19.536 | M26: 0 | Q26: 0
... A38: 24 | E38: 31.136 | I38: 19.044 | M38: 0 | Q38: 0
A39: Итого | E39: =SUM(E15:E38) -> 775.064 | I39: =SUM(I15:I38) -> 503.976 | M39: =SUM(M15:M38) -> 0 | Q39: =SUM(Q15:Q38) -> 0
A40: 1, При наличии на предприятии отклонений от нормальных режимов электропотребления (временное изменение схем питания, остановка на ремонт, резкое снижение
A41: эл,потребления и т,д,) последние необходимо перечислить,
A42: Главный инженер АО "Вологдаоблэнерго" А,В, Чурляев
A43: составляется самим предприятием с соблюдением всех пунктов настоящей таблицы,

Sheet 25
B1: АО "Вологдаоблэнерго" | J1: код 900151 | N1: ПС Петринево, ф, Романово
B2: наименование предприятия | N2: наименование источника питания
N3: ТП-317
B4: ул, Горького, 99 | I4: Таблица № 1
B5: адрес
A6: почасовых записей показаний электрических счетчиков
A7: ='1'!A7:Q7 -> в режимный день 21 ИЮНЯ 2023 г.
A8: 1630 | B8: 1628
A9: часы суток | B9: Активная энергия | J9: Реактивная энергия
B10: =N3 -> ТП-317 | F10: =N4 -> 0 | J10: =B10 -> ТП-317 | N10: =F10 -> 0 | S10: 12.12 | T10: 10.38 | U10: 11.76 | V10: 8.28 | W10: 11.4 | X10: 8.28 | Y10: 13.74 | Z10: 12.18 | AA10: 14.22 | AB10: 16.32 | AC10: 13.98 | AD10: 13.92 | AE10: 13.44 | AF10: 12.54 | AG10: 9.72 | AH10: 7.8 | AI10: 10.32 | AJ10: 11.04 | AK10: 13.44 | AL10: 17.34 | AM10: 14.4 | AN10: 14.88 | AO10: 15.54 | AP10: 14.46
B11: Расчет, Коэф, | E11: 120 | F11: Расчет, Коэф, | I11: 120 | J11: Расчет, Коэф, | M11: =E11 -> 120 | N11: Расчет, Коэф, | Q11: =I11 -> 120
B12: показания счетчика | C12: разность | E12: расход эл,энергии за час | F12: показания счетчика | G12: разность | I12: расход эл,энергии за час | J12: показания счетчика | K12: разность | M12: расход эл,энергии за час | N12: показания счетчика | O12: разность | Q12: расход эл,энергии за час
A13: 1 | B13: 2 | C13: 3 | E13: 4 | F13: 5 | G13: 6 | I13: 7 | J13: 8 | K13: 9 | M13: 10 | N13: 11 | O13: 12 | Q13: 13
A14: 0
A15: 1 | E15: 12.12 | M15: 0
A16: 2 | E16: 10.38 | M16: 0
A17: 3 | E17: 11.76 | M17: 0
A18: 4 | E18: 8.28 | M18: 0
A19: 5 | E19: 11.4 | M19: 0
A20: 6 | E20: 8.28 | M20: 0
A21: 7 | E21: 13.74 | M21: 0
A22: 8 | E22: 12.18 | M22: 0
A23: 9 | E23: 14.22 | M23: 0
A24: 10 | E24: 16.32 | M24: 0
A25: 11 | E25: 13.98 | M25: 0
A26: 12 | E26: 13.92 | M26: 0
... A38: 24 | E38: 14.46 | M38: 0
A39: Итого | E39: =SUM(E15:E38) -> 301.5 | I39: =SUM(I15:I38) -> 0 | M39: =SUM(M15:M38) -> 0 | Q39: =SUM(Q15:Q38) -> 0
A40: 1, При наличии на предприятии отклонений от нормальных режимов электропотребления (временное изменение схем питания, остановка на ремонт, резкое снижение
A41: эл,потребления и т,д,) последние необходимо перечислить,
A42: Главный инженер АО "Вологдаоблэнерго" А,В, Чурляев
A43: составляется самим предприятием с соблюдением всех пунктов настоящей таблицы,

Sheet 26
B1: АО "Вологдаоблэнерго" | J1: код 900151 | N1: ПС Домозерово, ф,Дом-2
B2: наименование предприятия | N2: наименование источника питания
N3: ТП-Водозабор (встроен) В-1
B4: ул, Горького, 99 | I4: Таблица № 1 | N4: ТП-Водозабор (встроен) В-2
B5: адрес
A6: почасовых записей показаний электрических счетчиков
A7: ='1'!A7:Q7 -> в режимный день 21 ИЮНЯ 2023 г.
A8: 1630 | B8: 1628
A9: часы суток | B9: Активная энергия | J9: Реактивная энергия
B10: =N3 -> ТП-Водозабор (встроен) В-1 | F10: =N4 -> ТП-Водозабор (встроен) В-2 | J10: =B10 -> ТП-Водозабор (встроен) В-1 | N10: =F10 -> ТП-Водозабор (встроен) В-2
B11: Расчет, Коэф, | E11: 20 | F11: Расчет, Коэф, | I11: 20 | J11: Расчет, Коэф, | M11: =E11 -> 20 | N11: Расчет, Коэф, | Q11: =I11 -> 20
B12: показания счетчика | C12: разность | E12: расход эл,энергии за час | F12: показания счетчика | G12: разность | I12: расход эл,энергии за час | J12: показания счетчика | K12: разность | M12: расход эл,энергии за час | N12: показания счетчика | O12: разность | Q12: расход эл,энергии за час
A13: 1 | B13: 2 | C13: 3 | E13: 4 | F13: 5 | G13: 6 | I13: 7 | J13: 8 | K13: 9 | M13: 10 | N13: 11 | O13: 12 | Q13: 13
A14: 0
A15: 1 | E15: 0 | I15: 0.36 | M15: 0 | Q15: 0
A16: 2 | E16: 0 | I16: 0.36 | M16: 0 | Q16: 0
A17: 3 | E17: 0 | I17: 0.42 | M17: 0 | Q17: 0
A18: 4 | E18: 0 | I18: 0.34 | M18: 0 | Q18: 0
A19: 5 | E19: 0 | I19: 0.35 | M19: 0 | Q19: 0
A20: 6 | E20: 0 | I20: 0.34 | M20: 0 | Q20: 0
A21: 7 | E21: 0 | I21: 3.35 | M21: 0 | Q21: 0
A22: 8 | E22: 0 | I22: 8.07 | M22: 0 | Q22: 0
A23: 9 | E23: 0 | I23: 7.03 | M23: 0 | Q23: 0
A24: 10 | E24: 0 | I24: 6.48 | M24: 0 | Q24: 0
A25: 11 | E25: 0 | I25: 7.24 | M25: 0 | Q25: 0
A26: 12 | E26: 0 | I26: 7.22 | M26: 0 | Q26: 0
... A38: 24 | E38: 0 | I38: 0.35 | M38: 0 | Q38: 0
A39: Итого | E39: =SUM(E15:E38) -> 0 | I39: =SUM(I15:I38) -> 102.07 | M39: =SUM(M15:M38) -> 0 | Q39: =SUM(Q15:Q38) -> 0
A40: 1, При наличии на предприятии отклонений от нормальных режимов электропотребления (временное изменение схем питания, остановка на ремонт, резкое снижение
A41: эл,потребления и т,д,) последние необходимо перечислить,
A42: Главный инженер АО "Вологдаоблэнерго" А,В, Чурляев
A43: составляется самим предприятием с соблюдением всех пунктов настоящей таблицы,

Sheet 27
B1: АО "Вологдаоблэнерго" | J1: код 900151 | N1: ПС Домозерово, ф,Дом-2
B2: наименование предприятия | N2: наименование источника питания
N3: ТП-Школа ПС Домозерово В-1
B4: ул, Горького, 99 | I4: Таблица № 1 | N4: ТП-Школа ПС Домозерово В-2
B5: адрес
A6: почасовых записей показаний электрических счетчиков
A7: ='1'!A7:Q7 -> в режимный день 21 ИЮНЯ 2023 г.
A8: 1630 | B8: 1628
A9: часы суток | B9: Активная энергия | J9: Реактивная энергия
B10: =N3 -> ТП-Школа ПС Домозерово В-1 | F10: =N4 -> ТП-Школа ПС Домозерово В-2 | J10: =B10 -> ТП-Школа ПС Домозерово В-1 | N10: =F10 -> ТП-Школа ПС Домозерово В-2
B11: Расчет, Коэф, | E11: 120 | F11: Расчет, Коэф, | I11: 120 | J11: Расчет, Коэф, | M11: =E11 -> 120 | N11: Расчет, Коэф, | Q11: =I11 -> 120
B12: показания счетчика | C12: разность | E12: расход эл,энергии за час | F12: показания счетчика | G12: разность | I12: расход эл,энергии за час | J12: показания счетчика | K12: разность | M12: расход эл,энергии за час | N12: показания счетчика | O12: разность | Q12: расход эл,энергии за час
A13: 1 | B13: 2 | C13: 3 | E13: 4 | F13: 5 | G13: 6 | I13: 7 | J13: 8 | K13: 9 | M13: 10 | N13: 11 | O13: 12 | Q13: 13
A14: 0
A15: 1 | E15: 0 | I15: 17.04 | M15: 0 | Q15: 0
