Workbook

Sheet Содержание книги
A1: Содержание
A4: № листа | B4: Электросетевой участок | C4: Центр питания
A5: 1-102 | B5: ЭСУ "Череповец"
A6: 103-111 | B6: ЭСУ "Бабаево"
A7: 112-146 | B7: ЭСУ "Кадуй"
A8: 147-159 | B8: ЭСУ "Чагода"
A9: 160-200 | B9: ЭСУ "Шексна"
A11: Содержание
A14: № листа | B14: Электросетевой участок | C14: Центр питания
A15: 1 а | B15: г. Вологда | C15: ОАО "БМЗ"
D16: яч. Т1, яч. Т2
A17: 1, 2 | B17: г. Вологда | C17: ПС "АНАНЬИНО"
D18: яч.7 - ф."Город-7"
D19: яч.8 - ф."Городской", яч.2 - ф."Овощехранилище"
A20: 3 | B20: г. Вологда | C20: ПС "ИСКРА"
D21: яч.18 - ф."РУБЦОВО"- СВ - ВЛ№2
A22: 4 | B22: г. Вологда | C22: ПС "МАЕГА"
D23: яч.13 - ф."НИКИТИНО"-СВ - ВЛ№27
A24: 5,6, 7, 8, 9 | B24: г. Вологда | C24: ПС "ЗАПАДНАЯ
D25: яч.19 - "РМЗ-1", яч.24 - "РМЗ-2"
D26: яч.15 -"ОЧИСТНЫЕ-1", яч.9 -"ГОРОД-1"
D27: яч.21- "П/я-1", яч.20 - "П/я-2"
D28: яч.33 - "РП-35", яч.35 - "РП-37"
D29: яч.11 - "ГОРОД-2", яч.18 - "ОЧИСТНЫЕ-2"
A30: 10 | B30: г. Вологда | C30: ПС "СЕВЕРНАЯ 35/6 кВ
D31: Т1 - РП5ф3 ввод №1, Т2 - РП5ф17 ввод №2
A32: 11 | B32: г. Вологда | C32: РТП "ТЕПЛИЧНОГО ХОЗ - ВА"
D33: яч. 3 - ф."Микрорайон-1" ввод № 1, яч.13 - ф."Микрорайон-2" ввод № 2
A34: 12,13, 14 | B34: г. Вологда | C34: ГПП 110/10 кВ "ВОМЗ"
D35: яч.47 - РП 29 ввод № 1, яч.31 - РП 29 ввод № 2
D36: яч.5 - РП 14 ввод № 1, яч.22 - РП 14 ввод № 2
D37: яч.44 - РП 2 ввод № 1, яч.26в - РП 2 ввод № 2
A38: 15,16,17,18,19,20, 21 | B38: г. Вологда | C38: ПС ВОЛОГДА-ЮЖНАЯ РУ - 6 -10 кВ
D39: яч.15 - "ГОРОД-15", яч.24 - "ТУБДИСПАНСЕР"
D40: яч.10 - "ГОРОД-10", яч.14 - "ГОРОД-14"
D41: яч.20 - "ГОРОД 20"
D42: яч. 7- ф."ГОРОД 7", яч.17 - ф."ГОРОД 17"
D43: яч.3 - "ГОРОД-3", яч.5 - "ГОРОД-5"
D44: яч. 1 - "ГОРОД -1", яч. 20 - "РП 27"
D45: яч. 4 ф."РОДИОНЦЕВО" - ПКУ
D46: яч. 307, 409 ф."Охмыльцево"
A47: 22 | B47: г. Вологда | C47: ГПП ВОЛОГДА - ТЯГОВАЯ 110/27,5/6 кВ
D48: яч. 1 - ТП 450
A49: 23 | B49: г. Вологда | C49: ТП 10 СЖД ОАО РЖД
D50: яч.5 - ТП 238, яч.7 - ТП 651
A51: 24 | B51: г. Вологда | C51: ТП 34 СЖД ОАО РЖД
D52: яч.2 - ТП 660, яч.6 - ТП 662
A53: 25,26,27,28,29 | B53: г. Вологда | C53: ТГК- 2 ВТЭЦ РП 6 кВ
D54: яч.10 - РП 3 ввод № 1, яч. 115 - РП 3 ввод № 2
D55: яч. 114 - РП 23 ввод № 1, яч. 107 - РП 23 ввод № 2
D56: яч. 3 - ТП 217
D57: яч. 5 - РП 1 ввод № 1, яч. 12 - РП 1 ввод № 2
D58: яч. 4 - РП 20 ввод № 1, яч. 7 - РП 20 ввод № 2
A59: 30,31,32,33,34,34-1 | B59: г. Вологда | C59: ПС "ЦЕНТРАЛЬНАЯ" 110/6 кВ
D60: яч.4 - ТП 54 -Ι ввод № 1, яч. 30 - ТП 54 - ΙΙ ввод № 2
D61: яч. 14 - РП 13- Ι , яч. 22 - РП 13- ΙΙ
D62: яч.12 - РП 4 -Ι , яч. 24 - РП 4 -ΙΙ
D63: яч. 2 - РП 8 яч. 11
D64: яч.28 - ТП 11 -ΙΙ
D65: яч.22 - РП 21-I, яч.7 - РП 21-II
A66: 35, 36 | B66: г. Вологда | C66: ПС "ГОРОДСКАЯ" 35/6 кВ
D67: Т-1 - ЗРУ ф.1 ввод № 1, Т-3 - ЗРУ ф.20 ввод № 2 .
D68: Т-2 - РП 9 ф. 11
A69: 37, 38, 39 | B69: г. Вологда | C69: ПС "ВОСТОЧНАЯ" 110/35/10 кВ
D70: яч.2 - "РП 39-1", яч. 21 - "РП 39-2"
D71: яч.15 - "РМЗ-1", яч.32 - "РМЗ-2"
D72: яч. 11- "ГОРОД-1", яч. 28- "ГОРОД-2"
A73: 40, 41 | B73: г. Вологда | C73: ПС "ЛУГОВАЯ"
D74: яч. 23 - ф."ГОРОД-2 , яч. 2 - ф."ГОРОД-3"
D75: яч.10 - ф."ГОРОД-1" , яч.25 - ф."ГОРОД-4"
A76: 42 | B76: г. Вологда | C76: РП "ГОРКА"
D77: яч. 4 - ф,"ЛОСТА-1", яч. 8 - ф."ЛОСТА-2"
A78: 43, 44 | B78: г. Вологда | C78: ГПП 2 ЗАО ВПЗ
D79: яч. 53 - ВЛ № 8
D80: яч. 6 - ТП 535, яч. 24 - ТП 536
A81: 45 | B81: г. Вологда | C81: ГПП 1 ЗАО ВПЗ
D82: яч. 10 - ТП 463, яч. 34 - ТП 463
A83: 46 | B83: ЭСУ "Кубенское" | C83: ПС "Кубенское"
D84: ф. СПТУ
A85: 47, 48 | B85: ЭСУ п. Молочное | C85: ПС "Молочное" 35/10 кВ
D86: яч..17 - ф.Молочное-1, яч 12 - ф.Молочное-2
D87: яч 18 - ф.Молочное-3 , яч 10. - ф.Очистные
A88: 49, 50 | B88: ЭСУ "Устье-Кубенское" | C88: РТП "КОРНИЛОВО" 35/10 кВ
D89: ф. "КОММУНАЛЬНЫЙ"
D90: ф. "УСТЬЕ", ф. "СХТ"
D91: ф.7 - КТП-21, ф.7 - КТП-16
D92: ф.7 - КТП-4, ф.14 - КТП-24
A93: 51, 52, 53 | B93: ЭСУ "Шуйское" | C93: ПС "ШУЙСКОЕ" 35/ 10 кВ
D94: яч. 16 - ф. "Биокомплекс"
D95: яч. 14 - ф."Райцентр"
D96: яч. 14 - ф. "Школа"
A97: 54 | B97: ЭСУ г. Сокол | C97: ПС "ГДЗ" 110/6 кВ
D98: яч. 7 - ГДЗ-1 -РТП 6, яч. 17 - ГДЗ-2 - РТП 6
D99: яч. 14 - ГДЗ - ЛПК-1
A100: 55 | B100: ЭСУ г. Сокол | C100: ОАО "СОКОЛРЕММАШ"
D101: ЗРУ 6 кВ ф.3 - ТП 27, РУ -0,4 кВ ф.17
A102: 56, 57, 58, | B102: ЭСУ г. Сокол | C102: ОАО "Сокольский" ЦБК" ГПП 35/6 кВ
D103: яч.4 - РП 5, яч. 6 - РУ 3
D104: яч.2 - РТП 2, яч. 3 - РТП 2
D105: Освещение города 2-3 РУ-4 яч. 5, РУ-1 яч.9 - ТП 70
...

Sheet 1
B1: АО "Вологдаоблэнерго" | J1: код 900151 | N1: ПС "Малечкино" ф.Птицефабрика
B2: наименование предприятия | N2: наименование источника питания
N3: _________________________________
B4: ул. Горького, 99 | I4: Таблица № 1 | N4: ТП-1 ЦРП Малечкино; ТП-5 АВМ
B5: адрес
A6: почасовых записей показаний электрических счетчиков
A7: в режимный день 15 ИЮНЯ 2022 г.
A8: 1630 | B8: 1628
A9: часы суток | B9: Активная энергия | J9: Реактивная энергия
B10: ТП-1 ЦРП Малечкино | F10: ТП-5 АВМ | J10: ТП-1 ЦРП Малечкино | N10: ТП-5 АВМ
B11: Расчет. Коэф. | E11: 30 | F11: Расчет. Коэф. | I11: 120 | J11: Расчет. Коэф. | M11: =E11 -> 30 | N11: Расчет. Коэф. | Q11: =I11 -> 120
B12: показания счетчика | C12: разность | E12: расход эл.энергии за час | F12: показания счетчика | G12: разность | I12: расход эл.энергии за час | J12: показания счетчика | K12: разность | M12: расход эл.энергии за час | N12: показания счетчика | O12: разность | Q12: расход эл.энергии за час
A13: 1 | B13: 2 | C13: 3 | E13: 4 | F13: 5 | G13: 6 | I13: 7 | J13: 8 | K13: 9 | M13: 10 | N13: 11 | O13: 12 | Q13: 13
A14: 0
A15: 1 | E15: 3.28 | I15: 5.256 | M15: 0 | Q15: 0
A16: 2 | E16: 3.8 | I16: 5.208 | M16: 0 | Q16: 0
A17: 3 | E17: 3.88 | I17: 4.92 | M17: 0 | Q17: 0
A18: 4 | E18: 0.96 | I18: 5.544 | M18: 0 | Q18: 0
A19: 5 | E19: 2.44 | I19: 5.28 | M19: 0 | Q19: 0
A20: 6 | E20: 2.2 | I20: 5.088 | M20: 0 | Q20: 0
A21: 7 | E21: 0.4 | I21: 5.616 | M21: 0 | Q21: 0
A22: 8 | E22: 1.72 | I22: 6.672 | M22: 0 | Q22: 0
A23: 9 | E23: 12.48 | I23: 7.992 | M23: 0 | Q23: 0
A24: 10 | E24: 15.76 | I24: 8.28 | M24: 0 | Q24: 0
A25: 11 | E25: 20.04 | I25: 9.432 | M25: 0 | Q25: 0
A26: 12 | E26: 15.12 | I26: 14.52 | M26: 0 | Q26: 0
... A38: 24 | E38: 3 | I38: 6.96 | M38: 0 | Q38: 0
A39: Итого | E39: =SUM(E15:E38) -> 185.84 | I39: =SUM(I15:I38) -> 209.832 | M39: =SUM(M15:M38) -> 0 | Q39: =SUM(Q15:Q38) -> 0
A40: 1. При наличии на предприятии отклонений от нормальных режимов электропотребления (временное изменение схем питания, остановка на ремонт, резкое снижение
A41: эл.потребления и т.д.) последние необходимо перечислить.
A42: Главный инженер АО "Вологдаоблэнерго" А.В. Чурляев
A43: составляется самим предприятием с соблюдением всех пунктов настоящей таблицы.

Sheet 2
B1: АО "Вологдаоблэнерго" | J1: код 900151 | N1: ПС Малечкино, ф. Поселок
B2: наименование предприятия | N2: наименование источника питания
N3: ТП-8 ПС Малечкино В-1; В-2
B4: ул. Горького, 99 | I4: Таблица № 1
B5: адрес
A6: почасовых записей показаний электрических счетчиков
A7: в режимный день 15 ИЮНЯ 2022 г.
A8: 1630 | B8: 1628
A9: часы суток | B9: Активная энергия | J9: Реактивная энергия
B10: ТП-8 ПС Малечкино В-1 | F10: ТП-8 ПС Малечкино В-2 | J10: ТП-8 ПС Малечкино В-1 | N10: ТП-8 ПС Малечкино В-2
B11: Расчет. Коэф. | E11: 80 | F11: Расчет. Коэф. | I11: 80 | J11: Расчет. Коэф. | M11: =E11 -> 80 | N11: Расчет. Коэф. | Q11: =I11 -> 80
B12: показания счетчика | C12: разность | E12: расход эл.энергии за час | F12: показания счетчика | G12: разность | I12: расход эл.энергии за час | J12: показания счетчика | K12: разность | M12: расход эл.энергии за час | N12: показания счетчика | O12: разность | Q12: расход эл.энергии за час
A13: 1 | B13: 2 | C13: 3 | E13: 4 | F13: 5 | G13: 6 | I13: 7 | J13: 8 | K13: 9 | M13: 10 | N13: 11 | O13: 12 | Q13: 13
A14: 0
A15: 1 | E15: 15.712 | I15: 8.48 | M15: 0 | Q15: 0
A16: 2 | E16: 12.064 | I16: 7.664 | M16: 0 | Q16: 0
A17: 3 | E17: 10.816 | I17: 6.96 | M17: 0 | Q17: 0
A18: 4 | E18: 10.016 | I18: 8.56 | M18: 0 | Q18: 0
A19: 5 | E19: 19.312 | I19: 6.64 | M19: 0 | Q19: 0
A20: 6 | E20: 20.832 | I20: 13.552 | M20: 0 | Q20: 0
A21: 7 | E21: 21.424 | I21: 25.808 | M21: 0 | Q21: 0
A22: 8 | E22: 19.744 | I22: 23.024 | M22: 0 | Q22: 0
A23: 9 | E23: 25.584 | I23: 19.168 | M23: 0 | Q23: 0
A24: 10 | E24: 22.88 | I24: 19.776 | M24: 0 | Q24: 0
A25: 11 | E25: 20.432 | I25: 23.216 | M25: 0 | Q25: 0
A26: 12 | E26: 19.872 | I26: 17.744 | M26: 0 | Q26: 0
... A38: 24 | E38: 15.136 | I38: 10.528 | M38: 0 | Q38: 0
A39: Итого | E39: =SUM(E15:E38) -> 469.248 | I39: =SUM(I15:I38) -> 353.136 | M39: =SUM(M15:M38) -> 0 | Q39: =SUM(Q15:Q38) -> 0
A40: 1. При наличии на предприятии отклонений от нормальных режимов электропотребления (временное изменение схем питания, остановка на ремонт, резкое снижение
A41: эл.потребления и т.д.) последние необходимо перечислить.
A42: Главный инженер АО "Вологдаоблэнерго" А.В. Чурляев
A43: составляется самим предприятием с соблюдением всех пунктов настоящей таблицы.

Sheet 3
B1: АО "Вологдаоблэнерго" | J1: код 900151 | N1: ПС Малечкино, ф. Поселок
B2: наименование предприятия | N2: наименование источника питания
N3: ТП-105; КТП-Дачи п.Малечкино
B4: ул. Горького, 99 | I4: Таблица № 1
B5: адрес
A6: почасовых записей показаний электрических счетчиков
A7: в режимный день 15 ИЮНЯ 2022 г.
A8: 1630 | B8: 1628
A9: часы суток | B9: Активная энергия | J9: Реактивная энергия
B10: ТП-105 | F10: КТП-Дачи п.Малечкино | J10: ТП-105 | N10: КТП-Дачи п.Малечкино
B11: Расчет. Коэф. | E11: 80 | F11: Расчет. Коэф. | I11: 60 | J11: Расчет. Коэф. | M11: =E11 -> 80 | N11: Расчет. Коэф. | Q11: =I11 -> 60
B12: показания счетчика | C12: разность | E12: расход эл.энергии за час | F12: показания счетчика | G12: разность | I12: расход эл.энергии за час | J12: показания счетчика | K12: разность | M12: расход эл.энергии за час | N12: показания счетчика | O12: разность | Q12: расход эл.энергии за час
A13: 1 | B13: 2 | C13: 3 | E13: 4 | F13: 5 | G13: 6 | I13: 7 | J13: 8 | K13: 9 | M13: 10 | N13: 11 | O13: 12 | Q13: 13
A14: 0
A15: 1 | E15: 22.12 | I15: 1.56 | M15: 0 | Q15: 0
A16: 2 | E16: 20.64 | I16: 1.52 | M16: 0 | Q16: 0
A17: 3 | E17: 18.12 | I17: 1.56 | M17: 0 | Q17: 0
A18: 4 | E18: 18.52 | I18: 1.52 | M18: 0 | Q18: 0
A19: 5 | E19: 18.92 | I19: 1.56 | M19: 0 | Q19: 0
A20: 6 | E20: 20.64 | I20: 1.52 | M20: 0 | Q20: 0
A21: 7 | E21: 20.92 | I21: 1.52 | M21: 0 | Q21: 0
A22: 8 | E22: 22.84 | I22: 1.48 | M22: 0 | Q22: 0
A23: 9 | E23: 26.2 | I23: 1.56 | M23: 0 | Q23: 0
A24: 10 | E24: 27.92 | I24: 1.52 | M24: 0 | Q24: 0
A25: 11 | E25: 27.16 | I25: 1.52 | M25: 0 | Q25: 0
A26: 12 | E26: 26.96 | I26: 1.52 | M26: 0 | Q26: 0
... A38: 24 | E38: 24.36 | I38: 2.88 | M38: 0 | Q38: 0
A39: Итого | E39: =SUM(E15:E38) -> 617.4 | I39: =SUM(I15:I38) -> 52.72 | M39: =SUM(M15:M38) -> 0 | Q39: =SUM(Q15:Q38) -> 0
A40: 1. При наличии на предприятии отклонений от нормальных режимов электропотребления (временное изменение схем питания, остановка на ремонт, резкое снижение
A41: эл.потребления и т.д.) последние необходимо перечислить.
A42: Главный инженер АО "Вологдаоблэнерго" А.В. Чурляев
A43: составляется самим предприятием с соблюдением всех пунктов настоящей таблицы.

Sheet 4
B1: АО "Вологдаоблэнерго" | J1: код 900151 | N1: ПС Малечкино, ф. Поселок
B2: наименование предприятия | N2: наименование источника питания
N3: ТП-35; ТП-103
B4: ул. Горького, 99 | I4: Таблица № 1
B5: адрес
A6: почасовых записей показаний электрических счетчиков
A7: в режимный день 15 ИЮНЯ 2022 г.
A8: 1630 | B8: 1628
A9: часы суток | B9: Активная энергия | J9: Реактивная энергия
B10: ТП-35 | F10: ТП-103 | J10: ТП-35 | N10: ТП-103
B11: Расчет. Коэф. | E11: 30 | F11: Расчет. Коэф. | I11: 120 | J11: Расчет. Коэф. | M11: =E11 -> 30 | N11: Расчет. Коэф. | Q11: =I11 -> 120
B12: показания счетчика | C12: разность | E12: расход эл.энергии за час | F12: показания счетчика | G12: разность | I12: расход эл.энергии за час | J12: показания счетчика | K12: разность | M12: расход эл.энергии за час | N12: показания счетчика | O12: разность | Q12: расход эл.энергии за час
A13: 1 | B13: 2 | C13: 3 | E13: 4 | F13: 5 | G13: 6 | I13: 7 | J13: 8 | K13: 9 | M13: 10 | N13: 11 | O13: 12 | Q13: 13
A14: 0
A15: 1 | E15: 1.67 | I15: 71.904 | M15: 0 | Q15: 0
A16: 2 | E16: 1.48 | I16: 57.792 | M16: 0 | Q16: 0
A17: 3 | E17: 1.33 | I17: 52.632 | M17: 0 | Q17: 0
A18: 4 | E18: 1.43 | I18: 52.464 | M18: 0 | Q18: 0
A19: 5 | E19: 1.48 | I19: 49.464 | M19: 0 | Q19: 0
A20: 6 | E20: 3.69 | I20: 54.888 | M20: 0 | Q20: 0
A21: 7 | E21: 1.95 | I21: 63.288 | M21: 0 | Q21: 0
A22: 8 | E22: 3.03 | I22: 73.176 | M22: 0 | Q22: 0
A23: 9 | E23: 6 | I23: 76.008 | M23: 0 | Q23: 0
A24: 10 | E24: 5.06 | I24: 73.584 | M24: 0 | Q24: 0
A25: 11 | E25: 6.18 | I25: 75.696 | M25: 0 | Q25: 0
A26: 12 | E26: 3.97 | I26: 75.072 | M26: 0 | Q26: 0
... A38: 24 | E38: 2.37 | I38: 72.336 | M38: 0 | Q38: 0
A39: Итого | E39: =SUM(E15:E38) -> 90.07 | I39: =SUM(I15:I38) -> 1792.392 | M39: =SUM(M15:M38) -> 0 | Q39: =SUM(Q15:Q38) -> 0
A40: 1. При наличии на предприятии отклонений от нормальных режимов электропотребления (временное изменение схем питания, остановка на ремонт, резкое снижение
A41: эл.потребления и т.д.) последние необходимо перечислить.
A42: Главный инженер АО "Вологдаоблэнерго" А.В. Чурляев
A43: составляется самим предприятием с соблюдением всех пунктов настоящей таблицы.

Sheet 5
B1: АО "Вологдаоблэнерго" | J1: код 900151 | N1: ПС Малечкино, ф. Поселок
B2: наименование предприятия | N2: наименование источника питания
N3: ТП-3 ПС Малечкино; ТП-97
B4: ул. Горького, 99 | I4: Таблица № 1
B5: адрес
A6: почасовых записей показаний электрических счетчиков
A7: в режимный день 15 ИЮНЯ 2022 г.
A8: 1630 | B8: 1628
A9: часы суток | B9: Активная энергия | J9: Реактивная энергия
B10: ТП-3 ПС Малечкино | F10: ТП-97 | J10: ТП-3 ПС Малечкино | N10: ТП-97
B11: Расчет. Коэф. | E11: 120 | F11: Расчет. Коэф. | I11: 60 | J11: Расчет. Коэф. | M11: =E11 -> 120 | N11: Расчет. Коэф. | Q11: =I11 -> 60
B12: показания счетчика | C12: разность | E12: расход эл.энергии за час | F12: показания счетчика | G12: разность | I12: расход эл.энергии за час | J12: показания счетчика | K12: разность | M12: расход эл.энергии за час | N12: показания счетчика | O12: разность | Q12: расход эл.энергии за час
A13: 1 | B13: 2 | C13: 3 | E13: 4 | F13: 5 | G13: 6 | I13: 7 | J13: 8 | K13: 9 | M13: 10 | N13: 11 | O13: 12 | Q13: 13
A14: 0
A15: 1 | E15: 28.08 | I15: 30.42 | M15: 0 | Q15: 0
A16: 2 | E16: 26.424 | I16: 26.616 | M16: 0 | Q16: 0
A17: 3 | E17: 25.464 | I17: 24.624 | M17: 0 | Q17: 0
A18: 4 | E18: 24.792 | I18: 24.216 | M18: 0 | Q18: 0
A19: 5 | E19: 42.408 | I19: 25.548 | M19: 0 | Q19: 0
A20: 6 | E20: 37.8 | I20: 27.828 | M20: 0 | Q20: 0
A21: 7 | E21: 35.952 | I21: 28.848 | M21: 0 | Q21: 0
A22: 8 | E22: 36.576 | I22: 35.04 | M22: 0 | Q22: 0
A23: 9 | E23: 44.256 | I23: 40.176 | M23: 0 | Q23: 0
A24: 10 | E24: 46.32 | I24: 43.14 | M24: 0 | Q24: 0
A25: 11 | E25: 40.056 | I25: 38.304 | M25: 0 | Q25: 0
A26: 12 | E26: 38.736 | I26: 42.168 | M26: 0 | Q26: 0
... A37: 23 | E37: 41.664 | I37: 46.068 | M37: 0 | Q37: 0
A38: 24 | E38: 38.088 | I38: 39.54 | M38: 0 | Q38: 0 | R38: 1
A39: Итого | E39: =SUM(E15:E38) -> 866.496 | I39: =SUM(I15:I38) -> 930.66 | M39: =SUM(M15:M38) -> 0 | Q39: =SUM(Q15:Q38) -> 0
A40: 1. При наличии на предприятии отклонений от нормальных режимов электропотребления (временное изменение схем питания, остановка на ремонт, резкое снижение
A41: эл.потребления и т.д.) последние необходимо перечислить.
A42: Главный инженер АО "Вологдаоблэнерго" А.В. Чурляев
A43: составляется самим предприятием с соблюдением всех пунктов настоящей таблицы.

Sheet 6
B1: АО "Вологдаоблэнерго" | J1: код 900151 | N1: ПС Малечкино, ф. Поселок
B2: наименование предприятия | N2: наименование источника питания
N3: ТП-15 Кормоцех В-1; В-2
B4: ул. Горького, 99 | I4: Таблица № 1
B5: адрес
A6: почасовых записей показаний электрических счетчиков
A7: в режимный день 15 ИЮНЯ 2022 г.
A8: 1630 | B8: 1628
A9: часы суток | B9: Активная энергия | J9: Реактивная энергия
B10: ТП-15 Кормоцех В-1 | F10: ТП-15 Кормоцех В-2 | J10: ТП-15 Кормоцех В-1 | N10: ТП-15 Кормоцех В-2
B11: Расчет. Коэф. | E11: 60 | F11: Расчет. Коэф. | I11: 60 | J11: Расчет. Коэф. | M11: =E11 -> 60 | N11: Расчет. Коэф. | Q11: =I11 -> 60
B12: показания счетчика | C12: разность | E12: расход эл.энергии за час | F12: показания счетчика | G12: разность | I12: расход эл.энергии за час | J12: показания счетчика | K12: разность | M12: расход эл.энергии за час | N12: показания счетчика | O12: разность | Q12: расход эл.энергии за час
A13: 1 | B13: 2 | C13: 3 | E13: 4 | F13: 5 | G13: 6 | I13: 7 | J13: 8 | K13: 9 | M13: 10 | N13: 11 | O13: 12 | Q13: 13
A14: 0
A15: 1 | E15: 1.32 | I15: 0 | M15: 0 | Q15: 0
A16: 2 | E16: 1.32 | I16: 0 | M16: 0 | Q16: 0
A17: 3 | E17: 1.32 | I17: 0 | M17: 0 | Q17: 0
A18: 4 | E18: 1.35 | I18: 0 | M18: 0 | Q18: 0
A19: 5 | E19: 1.32 | I19: 0 | M19: 0 | Q19: 0
A20: 6 | E20: 1.11 | I20: 0 | M20: 0 | Q20: 0
A21: 7 | E21: 0.63 | I21: 0 | M21: 0 | Q21: 0
A22: 8 | E22: 16.11 | I22: 0 | M22: 0 | Q22: 0
A23: 9 | E23: 1.2 | I23: 0 | M23: 0 | Q23: 0
A24: 10 | E24: 2.64 | I24: 0 | M24: 0 | Q24: 0
A25: 11 | E25: 5.52 | I25: 0 | M25: 0 | Q25: 0
A26: 12 | E26: 17.82 | I26: 0 | M26: 0 | Q26: 0
... A38: 24 | E38: 2.61 | I38: 0 | M38: 0 | Q38: 0
A39: Итого | E39: =SUM(E15:E38) -> 95.91 | I39: =SUM(I15:I38) -> 0 | M39: =SUM(M15:M38) -> 0 | Q39: =SUM(Q15:Q38) -> 0
A40: 1. При наличии на предприятии отклонений от нормальных режимов электропотребления (временное изменение схем питания, остановка на ремонт, резкое снижение
A41: эл.потребления и т.д.) последние необходимо перечислить.
A42: Главный инженер АО "Вологдаоблэнерго" А.В. Чурляев
A43: составляется самим предприятием с соблюдением всех пунктов настоящей таблицы.

Sheet 7
B1: АО "Вологдаоблэнерго" | J1: код 900151 | N1: ПС Малечкино, ф. Парфеново-1
B2: наименование предприятия | N2: наименование источника питания
N3: ЦРП-Парфеново
B4: ул. Горького, 99 | I4: Таблица № 1
B5: адрес
A6: почасовых записей показаний электрических счетчиков
A7: в режимный день 15 ИЮНЯ 2022 г.
A8: 1630 | B8: 1628
A9: часы суток | B9: Активная энергия | J9: Реактивная энергия
B10: ЦРП-Парфеново В-1 | F10: ЦРП-Парфеново В-2 | J10: ЦРП-Парфеново В-1 | N10: ЦРП-Парфеново В-2
B11: Расчет. Коэф. | E11: 4000 | F11: Расчет. Коэф. | I11: 3000 | J11: Расчет. Коэф. | M11: =E11 -> 4000 | N11: Расчет. Коэф. | Q11: =I11 -> 3000
B12: показания счетчика | C12: разность | E12: расход эл.энергии за час | F12: показания счетчика | G12: разность | I12: расход эл.энергии за час | J12: показания счетчика | K12: разность | M12: расход эл.энергии за час | N12: показания счетчика | O12: разность | Q12: расход эл.энергии за час
A13: 1 | B13: 2 | C13: 3 | E13: 4 | F13: 5 | G13: 6 | I13: 7 | J13: 8 | K13: 9 | M13: 10 | N13: 11 | O13: 12 | Q13: 13
A14: 0
A15: 1 | E15: 233.6 | I15: 0 | M15: 0 | Q15: 0
A16: 2 | E16: 230.4 | I16: 0 | M16: 0 | Q16: 0
A17: 3 | E17: 240.8 | I17: 0 | M17: 0 | Q17: 0
A18: 4 | E18: 238.4 | I18: 0 | M18: 0 | Q18: 0
A19: 5 | E19: 229.2 | I19: 0 | M19: 0 | Q19: 0
A20: 6 | E20: 248.8 | I20: 0 | M20: 0 | Q20: 0
A21: 7 | E21: 270.4 | I21: 0 | M21: 0 | Q21: 0
A22: 8 | E22: 314.4 | I22: 0 | M22: 0 | Q22: 0
A23: 9 | E23: 557.6 | I23: 0 | M23: 0 | Q23: 0
A24: 10 | E24: 559.2 | I24: 0 | M24: 0 | Q24: 0
A25: 11 | E25: 561.6 | I25: 0 | M25: 0 | Q25: 0
A26: 12 | E26: 538.8 | I26: 0 | M26: 0 | Q26: 0
... A38: 24 | E38: 210.8 | I38: 0 | M38: 0 | Q38: 0
A39: Итого | E39: =SUM(E15:E38) -> 8200.4 | I39: =SUM(I15:I38) -> 0 | M39: =SUM(M15:M38) -> 0 | Q39: =SUM(Q15:Q38) -> 0
A40: 1. При наличии на предприятии отклонений от нормальных режимов электропотребления (временное изменение схем питания, остановка на ремонт, резкое снижение
A41: эл.потребления и т.д.) последние необходимо перечислить.
A42: Главный инженер АО "Вологдаоблэнерго" А.В. Чурляев
A43: составляется самим предприятием с соблюдением всех пунктов настоящей таблицы.

Sheet 8
B1: АО "Вологдаоблэнерго" | J1: код 900151 | N1: ПС Малечкино, ф. Киселево
B2: наименование предприятия | N2: наименование источника питания
N3: ЦРП-Парфеново
B4: ул. Горького, 99 | I4: Таблица № 1
B5: адрес
A6: почасовых записей показаний электрических счетчиков
A7: в режимный день 15 ИЮНЯ 2022 г.
A8: 1630 | B8: 1628
A9: часы суток | B9: Активная энергия | J9: Реактивная энергия
B10: ЦРП-Парфеново В ф.Киселево | J10: ЦРП-Парфеново В ф.Киселево
B11: Расчет. Коэф. | E11: 6000 | F11: Расчет. Коэф. | J11: Расчет. Коэф. | M11: =E11 -> 6000 | N11: Расчет. Коэф. | Q11: =I11 -> 0
B12: показания счетчика | C12: разность | E12: расход эл.энергии за час | F12: показания счетчика | G12: разность | I12: расход эл.энергии за час | J12: показания счетчика | K12: разность | M12: расход эл.энергии за час | N12: показания счетчика | O12: разность | Q12: расход эл.энергии за час
A13: 1 | B13: 2 | C13: 3 | E13: 4 | F13: 5 | G13: 6 | I13: 7 | J13: 8 | K13: 9 | M13: 10 | N13: 11 | O13: 12 | Q13: 13
A14: 0
A15: 1 | E15: 0 | M15: 0
A16: 2 | E16: 0 | M16: 0
A17: 3 | E17: 0 | M17: 0
A18: 4 | E18: 0 | M18: 0
A19: 5 | E19: 0 | M19: 0
A20: 6 | E20: 0 | M20: 0
A21: 7 | E21: 0 | M21: 0
A22: 8 | E22: 0 | M22: 0
A23: 9 | E23: 0 | M23: 0
A24: 10 | E24: 0 | M24: 0
A25: 11 | E25: 0 | M25: 0
A26: 12 | E26: 0 | M26: 0
... A38: 24 | E38: 0 | M38: 0
A39: Итого | E39: =SUM(E15:E38) -> 0 | I39: =SUM(I15:I38) -> 0 | M39: =SUM(M15:M38) -> 0 | Q39: =SUM(Q15:Q38) -> 0
A40: 1. При наличии на предприятии отклонений от нормальных режимов электропотребления (временное изменение схем питания, остановка на ремонт, резкое снижение
A41: эл.потребления и т.д.) последние необходимо перечислить.
A42: Главный инженер АО "Вологдаоблэнерго" А.В. Чурляев
A43: составляется самим предприятием с соблюдением всех пунктов настоящей таблицы.

Sheet 9
B1: АО "Вологдаоблэнерго" | J1: код 900151 | N1: ПС Малечкино, ф. Киселево
B2: наименование предприятия | N2: наименование источника питания
N3: ТП-51; КТП-250 Курилово-ферма
B4: ул. Горького, 99 | I4: Таблица № 1
B5: адрес
A6: почасовых записей показаний электрических счетчиков
A7: в режимный день 15 ИЮНЯ 2022 г.
A8: 1630 | B8: 1628
A9: часы суток | B9: Активная энергия | J9: Реактивная энергия
B10: ТП-51 | F10: КТП-250 Курилово-ферма | J10: ТП-51 | N10: КТП-250 Курилово-ферма
B11: Расчет. Коэф. | E11: 120 | F11: Расчет. Коэф. | I11: 30 | J11: Расчет. Коэф. | M11: =E11 -> 120 | N11: Расчет. Коэф. | Q11: =I11 -> 30
B12: показания счетчика | C12: разность | E12: расход эл.энергии за час | F12: показания счетчика | G12: разность | I12: расход эл.энергии за час | J12: показания счетчика | K12: разность | M12: расход эл.энергии за час | N12: показания счетчика | O12: разность | Q12: расход эл.энергии за час
A13: 1 | B13: 2 | C13: 3 | E13: 4 | F13: 5 | G13: 6 | I13: 7 | J13: 8 | K13: 9 | M13: 10 | N13: 11 | O13: 12 | Q13: 13
A14: 0
A15: 1 | E15: 0 | I15: 0.24 | M15: 0 | Q15: 0
A16: 2 | E16: 0 | I16: 0.2 | M16: 0 | Q16: 0
A17: 3 | E17: 0 | I17: 0.24 | M17: 0 | Q17: 0
A18: 4 | E18: 0 | I18: 0.24 | M18: 0 | Q18: 0
A19: 5 | E19: 0 | I19: 0.2 | M19: 0 | Q19: 0
A20: 6 | E20: 0 | I20: 0.24 | M20: 0 | Q20: 0
A21: 7 | E21: 0 | I21: 0.24 | M21: 0 | Q21: 0
A22: 8 | E22: 0 | I22: 0.2 | M22: 0 | Q22: 0
A23: 9 | E23: 0 | I23: 0.24 | M23: 0 | Q23: 0
A24: 10 | E24: 0 | I24: 0.56 | M24: 0 | Q24: 0
A25: 11 | E25: 0 | I25: 0.4 | M25: 0 | Q25: 0
A26: 12 | E26: 0 | I26: 0.2 | M26: 0 | Q26: 0
... A38: 24 | E38: 0 | I38: 0.24 | M38: 0 | Q38: 0
A39: Итого | E39: =SUM(E15:E38) -> 0 | I39: =SUM(I15:I38) -> 4.72 | M39: =SUM(M15:M38) -> 0 | Q39: =SUM(Q15:Q38) -> 0
A40: 1. При наличии на предприятии отклонений от нормальных режимов электропотребления (временное изменение схем питания, остановка на ремонт, резкое снижение
A41: эл.потребления и т.д.) последние необходимо перечислить.
A42: Главный инженер АО "Вологдаоблэнерго" А.В. Чурляев
A43: составляется самим предприятием с соблюдением всех пунктов настоящей таблицы.

Sheet 10
B1: АО "Вологдаоблэнерго" | J1: код 900151 | N1: ПС Малечкино, ф. Тепл. комбинат
B2: наименование предприятия | N2: наименование источника питания
N3: ТП-33; КТП-400 Пилорама Карат плюс
B4: ул. Горького, 99 | I4: Таблица № 1
B5: адрес
A6: почасовых записей показаний электрических счетчиков
A7: в режимный день 15 ИЮНЯ 2022 г.
A8: 1630 | B8: 1628
A9: часы суток | B9: Активная энергия | J9: Реактивная энергия
B10: ТП-33 | F10: КТП-400 Пилорама Карат плюс | J10: ТП-33 | N10: КТП-400 Пилорама Карат плюс
B11: Расчет. Коэф. | E11: 30 | F11: Расчет. Коэф. | I11: 120 | J11: Расчет. Коэф. | M11: =E11 -> 30 | N11: Расчет. Коэф. | Q11: =I11 -> 120
B12: показания счетчика | C12: разность | E12: расход эл.энергии за час | F12: показания счетчика | G12: разность | I12: расход эл.энергии за час | J12: показания счетчика | K12: разность | M12: расход эл.энергии за час | N12: показания счетчика | O12: разность | Q12: расход эл.энергии за час
A13: 1 | B13: 2 | C13: 3 | E13: 4 | F13: 5 | G13: 6 | I13: 7 | J13: 8 | K13: 9 | M13: 10 | N13: 11 | O13: 12 | Q13: 13
A14: 0
A15: 1 | E15: 15.74 | I15: 14.88 | M15: 0 | Q15: 0
A16: 2 | E16: 16.7 | I16: 13.392 | M16: 0 | Q16: 0
A17: 3 | E17: 14.62 | I17: 12.96 | M17: 0 | Q17: 0
A18: 4 | E18: 15.16 | I18: 12.408 | M18: 0 | Q18: 0
A19: 5 | E19: 16.34 | I19: 12.696 | M19: 0 | Q19: 0
A20: 6 | E20: 20.04 | I20: 13.872 | M20: 0 | Q20: 0
A21: 7 | E21: 23.56 | I21: 11.16 | M21: 0 | Q21: 0
A22: 8 | E22: 19.56 | I22: 12.504 | M22: 0 | Q22: 0
A23: 9 | E23: 29.22 | I23: 15.24 | M23: 0 | Q23: 0
A24: 10 | E24: 30.18 | I24: 19.56 | M24: 0 | Q24: 0
A25: 11 | E25: 32.02 | I25: 22.272 | M25: 0 | Q25: 0
A26: 12 | E26: 37.02 | I26: 38.856 | M26: 0 | Q26: 0
... A38: 24 | E38: 33.62 | I38: 20.568 | M38: 0 | Q38: 0
A39: Итого | E39: =SUM(E15:E38) -> 776.56 | I39: =SUM(I15:I38) -> 518.616 | M39: =SUM(M15:M38) -> 0 | Q39: =SUM(Q15:Q38) -> 0
A40: 1. При наличии на предприятии отклонений от нормальных режимов электропотребления (временное изменение схем питания, остановка на ремонт, резкое снижение
A41: эл.потребления и т.д.) последние необходимо перечислить.
A42: Главный инженер АО "Вологдаоблэнерго" А.В. Чурляев
A43: составляется самим предприятием с соблюдением всех пунктов настоящей таблицы.

Sheet 11
B1: АО "Вологдаоблэнерго" | J1: код 900151 | N1: ПС Загородная, ф. Тоншалово-2
B2: наименование предприятия | N2: наименование источника питания
N3: ТП-4 очистные В-1; ТП-4 очистные В-2
B4: ул. Горького, 99 | I4: Таблица № 1
B5: адрес
A6: почасовых записей показаний электрических счетчиков
A7: в режимный день 15 ИЮНЯ 2022 г.
A8: 1630 | B8: 1628
A9: часы суток | B9: Активная энергия | J9: Реактивная энергия
B10: ТП-4 очистные В-1 | F10: ТП-4 очистные В-2 | J10: ТП-4 очистные В-1 | N10: ТП-4 очистные В-2
B11: Расчет. Коэф. | E11: 120 | F11: Расчет. Коэф. | I11: 120 | J11: Расчет. Коэф. | M11: =E11 -> 120 | N11: Расчет. Коэф. | Q11: =I11 -> 120
B12: показания счетчика | C12: разность | E12: расход эл.энергии за час | F12: показания счетчика | G12: разность | I12: расход эл.энергии за час | J12: показания счетчика | K12: разность | M12: расход эл.энергии за час | N12: показания счетчика | O12: разность | Q12: расход эл.энергии за час
A13: 1 | B13: 2 | C13: 3 | E13: 4 | F13: 5 | G13: 6 | I13: 7 | J13: 8 | K13: 9 | M13: 10 | N13: 11 | O13: 12 | Q13: 13
A14: 0
A15: 1 | E15: 42.528 | I15: 14.88 | M15: 0 | Q15: 0
A16: 2 | E16: 46.584 | I16: 13.392 | M16: 0 | Q16: 0
A17: 3 | E17: 46.512 | I17: 12.96 | M17: 0 | Q17: 0
A18: 4 | E18: 45.984 | I18: 12.408 | M18: 0 | Q18: 0
A19: 5 | E19: 44.448 | I19: 12.696 | M19: 0 | Q19: 0
A20: 6 | E20: 40.584 | I20: 13.872 | M20: 0 | Q20: 0
A21: 7 | E21: 44.016 | I21: 11.16 | M21: 0 | Q21: 0
A22: 8 | E22: 47.112 | I22: 12.504 | M22: 0 | Q22: 0
A23: 9 | E23: 45.984 | I23: 15.24 | M23: 0 | Q23: 0
A24: 10 | E24: 45.336 | I24: 19.56 | M24: 0 | Q24: 0
A25: 11 | E25: 43.152 | I25: 22.272 | M25: 0 | Q25: 0
A26: 12 | E26: 44.472 | I26: 38.856 | M26: 0 | Q26: 0
... A38: 24 | E38: 43.896 | I38: 20.568 | M38: 0 | Q38: 0
A39: Итого | E39: =SUM(E15:E38) -> 1083.528 | I39: =SUM(I15:I38) -> 518.616 | M39: =SUM(M15:M38) -> 0 | Q39: =SUM(Q15:Q38) -> 0
A40: 1. При наличии на предприятии отклонений от нормальных режимов электропотребления (временное изменение схем питания, остановка на ремонт, резкое снижение
A41: эл.потребления и т.д.) последние необходимо перечислить.
A42: Главный инженер АО "Вологдаоблэнерго" А.В. Чурляев
A43: составляется самим предприятием с соблюдением всех пунктов настоящей таблицы.

Sheet 12
B1: АО "Вологдаоблэнерго" | J1: код 900151 | N1: ПС Загородная, ф. Тоншалово-2
B2: наименование предприятия | N2: наименование источника питания
N3: ТП-3 Школа В-1; ТП-3 Школа В-2
B4: ул. Горького, 99 | I4: Таблица № 1
B5: адрес
A6: почасовых записей показаний электрических счетчиков
A7: в режимный день 15 ИЮНЯ 2022 г.
A8: 1630 | B8: 1628
A9: часы суток | B9: Активная энергия | J9: Реактивная энергия
B10: ТП-3 Школа В-1 | F10: ТП-3 Школа В-2 | J10: ТП-3 Школа В-1 | N10: ТП-3 Школа В-2
B11: Расчет. Коэф. | E11: 120 | F11: Расчет. Коэф. | I11: 120 | J11: Расчет. Коэф. | M11: =E11 -> 120 | N11: Расчет. Коэф. | Q11: =I11 -> 120
B12: показания счетчика | C12: разность | E12: расход эл.энергии за час | F12: показания счетчика | G12: разность | I12: расход эл.энергии за час | J12: показания счетчика | K12: разность | M12: расход эл.энергии за час | N12: показания счетчика | O12: разность | Q12: расход эл.энергии за час
A13: 1 | B13: 2 | C13: 3 | E13: 4 | F13: 5 | G13: 6 | I13: 7 | J13: 8 | K13: 9 | M13: 10 | N13: 11 | O13: 12 | Q13: 13
A14: 0
A15: 1 | E15: 41.232 | I15: 0 | M15: 0 | Q15: 0
A16: 2 | E16: 41.136 | I16: 0 | M16: 0 | Q16: 0
A17: 3 | E17: 40.368 | I17: 0 | M17: 0 | Q17: 0
A18: 4 | E18: 40.776 | I18: 0 | M18: 0 | Q18: 0
A19: 5 | E19: 40.224 | I19: 0 | M19: 0 | Q19: 0
A20: 6 | E20: 43.488 | I20: 0 | M20: 0 | Q20: 0
A21: 7 | E21: 43.128 | I21: 0 | M21: 0 | Q21: 0
A22: 8 | E22: 55.488 | I22: 0 | M22: 0 | Q22: 0
A23: 9 | E23: 62.472 | I23: 0 | M23: 0 | Q23: 0
A24: 10 | E24: 73.896 | I24: 0 | M24: 0 | Q24: 0
A25: 11 | E25: 77.64 | I25: 0 | M25: 0 | Q25: 0
A26: 12 | E26: 75.816 | I26: 0 | M26: 0 | Q26: 0
... A38: 24 | E38: 43.272 | I38: 0 | M38: 0 | Q38: 0
A39: Итого | E39: =SUM(E15:E38) -> 1438.584 | I39: =SUM(I15:I38) -> 0 | M39: =SUM(M15:M38) -> 0 | Q39: =SUM(Q15:Q38) -> 0
A40: 1. При наличии на предприятии отклонений от нормальных режимов электропотребления (временное изменение схем питания, остановка на ремонт, резкое снижение
A41: эл.потребления и т.д.) последние необходимо перечислить.
A42: Главный инженер АО "Вологдаоблэнерго" А.В. Чурляев
A43: составляется самим предприятием с соблюдением всех пунктов настоящей таблицы.

Sheet 13
B1: АО "Вологдаоблэнерго" | J1: код 900151 | N1: ПС Загородная, ф. Тоншалово-2
B2: наименование предприятия | N2: наименование источника питания
N3: ТП-5 ПМК-1 В-1
B4: ул. Горького, 99 | I4: Таблица № 1 | N4: ТП-5 ПМК-1 В-2
B5: адрес
A6: почасовых записей показаний электрических счетчиков
A7: в режимный день 15 ИЮНЯ 2022 г.
A8: 1630 | B8: 1628
A9: часы суток | B9: Активная энергия | J9: Реактивная энергия
B10: =N3 -> ТП-5 ПМК-1 В-1 | F10: =N4 -> ТП-5 ПМК-1 В-2 | J10: =B10 -> ТП-5 ПМК-1 В-1 | N10: =F10 -> ТП-5 ПМК-1 В-2
B11: Расчет. Коэф. | E11: 120 | F11: Расчет. Коэф. | I11: 120 | J11: Расчет. Коэф. | M11: =E11 -> 120 | N11: Расчет. Коэф. | Q11: =I11 -> 120
B12: показания счетчика | C12: разность | E12: расход эл.энергии за час | F12: показания счетчика | G12: разность | I12: расход эл.энергии за час | J12: показания счетчика | K12: разность | M12: расход эл.энергии за час | N12: показания счетчика | O12: разность | Q12: расход эл.энергии за час
A13: 1 | B13: 2 | C13: 3 | E13: 4 | F13: 5 | G13: 6 | I13: 7 | J13: 8 | K13: 9 | M13: 10 | N13: 11 | O13: 12 | Q13: 13
A14: 0
A15: 1 | E15: 39.504 | I15: 12 | M15: 0 | Q15: 0
A16: 2 | E16: 33.744 | I16: 11.424 | M16: 0 | Q16: 0
A17: 3 | E17: 33.336 | I17: 11.04 | M17: 0 | Q17: 0
A18: 4 | E18: 31.848 | I18: 11.04 | M18: 0 | Q18: 0
A19: 5 | E19: 46.056 | I19: 10.56 | M19: 0 | Q19: 0
A20: 6 | E20: 66.6 | I20: 12.144 | M20: 0 | Q20: 0
A21: 7 | E21: 71.784 | I21: 11.76 | M21: 0 | Q21: 0
A22: 8 | E22: 64.68 | I22: 13.632 | M22: 0 | Q22: 0
A23: 9 | E23: 62.472 | I23: 14.904 | M23: 0 | Q23: 0
A24: 10 | E24: 60.624 | I24: 14.664 | M24: 0 | Q24: 0
A25: 11 | E25: 70.416 | I25: 14.28 | M25: 0 | Q25: 0
A26: 12 | E26: 63.168 | I26: 16.08 | M26: 0 | Q26: 0
... A38: 24 | E38: 48.336 | I38: 14.352 | M38: 0 | Q38: 0
A39: Итого | E39: =SUM(E15:E38) -> 1343.424 | I39: =SUM(I15:I38) -> 339.864 | M39: =SUM(M15:M38) -> 0 | Q39: =SUM(Q15:Q38) -> 0
A40: 1. При наличии на предприятии отклонений от нормальных режимов электропотребления (временное изменение схем питания, остановка на ремонт, резкое снижение
A41: эл.потребления и т.д.) последние необходимо перечислить.
A42: Главный инженер АО "Вологдаоблэнерго" А.В. Чурляев
A43: составляется самим предприятием с соблюдением всех пунктов настоящей таблицы.

Sheet 14
B1: АО "Вологдаоблэнерго" | J1: код 900151 | N1: ПС Загородная, ф. Тоншалово-2
B2: наименование предприятия | N2: наименование источника питания
N3: ТП-6 Детский сад В-1
B4: ул. Горького, 99 | I4: Таблица № 1 | N4: ТП-6 Детский сад В-2
B5: адрес
A6: почасовых записей показаний электрических счетчиков
A7: в режимный день 15 ИЮНЯ 2022 г.
A8: 1630 | B8: 1628
A9: часы суток | B9: Активная энергия | J9: Реактивная энергия
B10: =N3 -> ТП-6 Детский сад В-1 | F10: =N4 -> ТП-6 Детский сад В-2 | J10: =B10 -> ТП-6 Детский сад В-1 | N10: =F10 -> ТП-6 Детский сад В-2
B11: Расчет. Коэф. | E11: 120 | F11: Расчет. Коэф. | I11: 120 | J11: Расчет. Коэф. | M11: =E11 -> 120 | N11: Расчет. Коэф. | Q11: =I11 -> 120
B12: показания счетчика | C12: разность | E12: расход эл.энергии за час | F12: показания счетчика | G12: разность | I12: расход эл.энергии за час | J12: показания счетчика | K12: разность | M12: расход эл.энергии за час | N12: показания счетчика | O12: разность | Q12: расход эл.энергии за час
A13: 1 | B13: 2 | C13: 3 | E13: 4 | F13: 5 | G13: 6 | I13: 7 | J13: 8 | K13: 9 | M13: 10 | N13: 11 | O13: 12 | Q13: 13
A14: 0
A15: 1 | E15: 44.112 | I15: 33.696 | M15: 0 | Q15: 0
A16: 2 | E16: 39.672 | I16: 29.064 | M16: 0 | Q16: 0
A17: 3 | E17: 39.816 | I17: 27.96 | M17: 0 | Q17: 0
A18: 4 | E18: 37.68 | I18: 26.064 | M18: 0 | Q18: 0
A19: 5 | E19: 35.664 | I19: 26.952 | M19: 0 | Q19: 0
A20: 6 | E20: 35.592 | I20: 29.592 | M20: 0 | Q20: 0
A21: 7 | E21: 41.544 | I21: 35.664 | M21: 0 | Q21: 0
A22: 8 | E22: 50.16 | I22: 36.96 | M22: 0 | Q22: 0
A23: 9 | E23: 52.872 | I23: 36.264 | M23: 0 | Q23: 0
A24: 10 | E24: 54.144 | I24: 36.864 | M24: 0 | Q24: 0
A25: 11 | E25: 61.416 | I25: 38.088 | M25: 0 | Q25: 0
A26: 12 | E26: 61.824 | I26: 36.984 | M26: 0 | Q26: 0
... A38: 24 | E38: 51.432 | I38: 38.304 | M38: 0 | Q38: 0
A39: Итого | E39: =SUM(E15:E38) -> 1364.184 | I39: =SUM(I15:I38) -> 927.6 | M39: =SUM(M15:M38) -> 0 | Q39: =SUM(Q15:Q38) -> 0
A40: 1. При наличии на предприятии отклонений от нормальных режимов электропотребления (временное изменение схем питания, остановка на ремонт, резкое снижение
A41: эл.потребления и т.д.) последние необходимо перечислить.
A42: Главный инженер АО "Вологдаоблэнерго" А.В. Чурляев
A43: составляется самим предприятием с соблюдением всех пунктов настоящей таблицы.

Sheet 15
B1: АО "Вологдаоблэнерго" | J1: код 900151 | N1: ПС Загородная, ф. Тоншалово-2
B2: наименование предприятия | N2: наименование источника питания
N3: ТП-2 Поселок
B4: ул. Горького, 99 | I4: Таблица № 1
B5: адрес
A6: почасовых записей показаний электрических счетчиков
A7: в режимный день 15 ИЮНЯ 2022 г.
A8: 1630 | B8: 1628
A9: часы суток | B9: Активная энергия | J9: Реактивная энергия
B10: =N3 -> ТП-2 Поселок | F10: =N4 -> 0 | J10: =B10 -> ТП-2 Поселок | N10: =F10 -> 0
B11: Расчет. Коэф. | E11: 200 | F11: Расчет. Коэф. | I11: 120 | J11: Расчет. Коэф. | M11: =E11 -> 200 | N11: Расчет. Коэф. | Q11: =I11 -> 120
B12: показания счетчика | C12: разность | E12: расход эл.энергии за час | F12: показания счетчика | G12: разность | I12: расход эл.энергии за час | J12: показания счетчика | K12: разность | M12: расход эл.энергии за час | N12: показания счетчика | O12: разность | Q12: расход эл.энергии за час
A13: 1 | B13: 2 | C13: 3 | E13: 4 | F13: 5 | G13: 6 | I13: 7 | J13: 8 | K13: 9 | M13: 10 | N13: 11 | O13: 12 | Q13: 13
A14: 0
A15: 1 | E15: 100.28 | I15: 0 | M15: 0 | Q15: 0
A16: 2 | E16: 90.16 | I16: 0 | M16: 0 | Q16: 0
A17: 3 | E17: 87.96 | I17: 0 | M17: 0 | Q17: 0
A18: 4 | E18: 82.76 | I18: 0 | M18: 0 | Q18: 0
A19: 5 | E19: 81.68 | I19: 0 | M19: 0 | Q19: 0
A20: 6 | E20: 88.08 | I20: 0 | M20: 0 | Q20: 0
A21: 7 | E21: 101.16 | I21: 0 | M21: 0 | Q21: 0
A22: 8 | E22: 112.04 | I22: 0 | M22: 0 | Q22: 0
A23: 9 | E23: 115.2 | I23: 0 | M23: 0 | Q23: 0
A24: 10 | E24: 117.56 | I24: 0 | M24: 0 | Q24: 0
A25: 11 | E25: 122.16 | I25: 0 | M25: 0 | Q25: 0
A26: 12 | E26: 119.24 | I26: 0 | M26: 0 | Q26: 0
... A38: 24 | E38: 112.76 | I38: 0 | M38: 0 | Q38: 0
A39: Итого | E39: =SUM(E15:E38) -> 2696.72 | I39: =SUM(I15:I38) -> 0 | M39: =SUM(M15:M38) -> 0 | Q39: =SUM(Q15:Q38) -> 0
A40: 1. При наличии на предприятии отклонений от нормальных режимов электропотребления (временное изменение схем питания, остановка на ремонт, резкое снижение
A41: эл.потребления и т.д.) последние необходимо перечислить.
A42: Главный инженер АО "Вологдаоблэнерго" А.В. Чурляев
A43: составляется самим предприятием с соблюдением всех пунктов настоящей таблицы.

Sheet 16
B1: АО "Вологдаоблэнерго" | J1: код 900151 | N1: ПС Загородная, ф. Солманское
B2: наименование предприятия | N2: наименование источника питания
N3: ТП-Котельная ПМК-2 В-1
B4: ул. Горького, 99 | I4: Таблица № 1 | N4: ТП-Котельная ПМК-2 В-2
B5: адрес
A6: почасовых записей показаний электрических счетчиков
A7: в режимный день 15 ИЮНЯ 2022 г.
A8: 1630 | B8: 1628
A9: часы суток | B9: Активная энергия | J9: Реактивная энергия
B10: =N3 -> ТП-Котельная ПМК-2 В-1 | F10: =N4 -> ТП-Котельная ПМК-2 В-2 | J10: =B10 -> ТП-Котельная ПМК-2 В-1 | N10: =F10 -> ТП-Котельная ПМК-2 В-2
B11: Расчет. Коэф. | E11: 80 | F11: Расчет. Коэф. | I11: 80 | J11: Расчет. Коэф. | M11: =E11 -> 80 | N11: Расчет. Коэф. | Q11: =I11 -> 80
B12: показания счетчика | C12: разность | E12: расход эл.энергии за час | F12: показания счетчика | G12: разность | I12: расход эл.энергии за час | J12: показания счетчика | K12: разность | M12: расход эл.энергии за час | N12: показания счетчика | O12: разность | Q12: расход эл.энергии за час
A13: 1 | B13: 2 | C13: 3 | E13: 4 | F13: 5 | G13: 6 | I13: 7 | J13: 8 | K13: 9 | M13: 10 | N13: 11 | O13: 12 | Q13: 13
A14: 0
A15: 1 | E15: 5.6 | I15: 0 | M15: 0 | Q15: 0
A16: 2 | E16: 5.376 | I16: 0 | M16: 0 | Q16: 0
A17: 3 | E17: 5.68 | I17: 0 | M17: 0 | Q17: 0
A18: 4 | E18: 5.44 | I18: 0 | M18: 0 | Q18: 0
A19: 5 | E19: 6.096 | I19: 0 | M19: 0 | Q19: 0
A20: 6 | E20: 12.96 | I20: 0 | M20: 0 | Q20: 0
A21: 7 | E21: 38.032 | I21: 0 | M21: 0 | Q21: 0
A22: 8 | E22: 49.968 | I22: 0 | M22: 0 | Q22: 0
A23: 9 | E23: 28.144 | I23: 0 | M23: 0 | Q23: 0
A24: 10 | E24: 28.176 | I24: 0 | M24: 0 | Q24: 0
A25: 11 | E25: 22.736 | I25: 0 | M25: 0 | Q25: 0
A26: 12 | E26: 41.264 | I26: 0 | M26: 0 | Q26: 0
... A38: 24 | E38: 5.408 | I38: 0 | M38: 0 | Q38: 0
A39: Итого | E39: =SUM(E15:E38) -> 354.368 | I39: =SUM(I15:I38) -> 0 | M39: =SUM(M15:M38) -> 0 | Q39: =SUM(Q15:Q38) -> 0
A40: 1. При наличии на предприятии отклонений от нормальных режимов электропотребления (временное изменение схем питания, остановка на ремонт, резкое снижение
A41: эл.потребления и т.д.) последние необходимо перечислить.
A42: Главный инженер АО "Вологдаоблэнерго" А.В. Чурляев
A43: составляется самим предприятием с соблюдением всех пунктов настоящей таблицы.

Sheet 17
B1: АО "Вологдаоблэнерго" | J1: код 900151 | N1: ПС Нелазское, ф. Шулма
B2: наименование предприятия | N2: наименование источника питания
N3: ТП-244
B4: ул. Горького, 99 | I4: Таблица № 1 | N4: ТП-250
B5: адрес
A6: почасовых записей показаний электрических счетчиков
A7: в режимный день 15 ИЮНЯ 2022 г.
A8: 1630 | B8: 1628
A9: часы суток | B9: Активная энергия | J9: Реактивная энергия
B10: =N3 -> ТП-244 | F10: =N4 -> ТП-250 | J10: =B10 -> ТП-244 | N10: =F10 -> ТП-250
B11: Расчет. Коэф. | E11: 60 | F11: Расчет. Коэф. | I11: 60 | J11: Расчет. Коэф. | M11: =E11 -> 60 | N11: Расчет. Коэф. | Q11: =I11 -> 60
B12: показания счетчика | C12: разность | E12: расход эл.энергии за час | F12: показания счетчика | G12: разность | I12: расход эл.энергии за час | J12: показания счетчика | K12: разность | M12: расход эл.энергии за час | N12: показания счетчика | O12: разность | Q12: расход эл.энергии за час
A13: 1 | B13: 2 | C13: 3 | E13: 4 | F13: 5 | G13: 6 | I13: 7 | J13: 8 | K13: 9 | M13: 10 | N13: 11 | O13: 12 | Q13: 13
A14: 0
A15: 1 | E15: 6.69 | I15: 0 | M15: 0 | Q15: 0
A16: 2 | E16: 6.66 | I16: 0 | M16: 0 | Q16: 0
A17: 3 | E17: 6.66 | I17: 0 | M17: 0 | Q17: 0
A18: 4 | E18: 6.66 | I18: 0 | M18: 0 | Q18: 0
A19: 5 | E19: 6.66 | I19: 0 | M19: 0 | Q19: 0
A20: 6 | E20: 6.66 | I20: 0 | M20: 0 | Q20: 0
A21: 7 | E21: 6.66 | I21: 0 | M21: 0 | Q21: 0
A22: 8 | E22: 6.66 | I22: 0 | M22: 0 | Q22: 0
A23: 9 | E23: 6.66 | I23: 0 | M23: 0 | Q23: 0
A24: 10 | E24: 6.63 | I24: 0 | M24: 0 | Q24: 0
A25: 11 | E25: 6.66 | I25: 0 | M25: 0 | Q25: 0
A26: 12 | E26: 6.63 | I26: 0 | M26: 0 | Q26: 0
... A38: 24 | E38: 6.57 | I38: 0 | M38: 0 | Q38: 0
A39: Итого | E39: =SUM(E15:E38) -> 159.51 | I39: =SUM(I15:I38) -> 0 | M39: =SUM(M15:M38) -> 0 | Q39: =SUM(Q15:Q38) -> 0
A40: 1. При наличии на предприятии отклонений от нормальных режимов электропотребления (временное изменение схем питания, остановка на ремонт, резкое снижение
A41: эл.потребления и т.д.) последние необходимо перечислить.
A42: Главный инженер АО "Вологдаоблэнерго" А.В. Чурляев
A43: составляется самим предприятием с соблюдением всех пунктов настоящей таблицы.

Sheet 18
B1: АО "Вологдаоблэнерго" | J1: код 900151 | N1: ПС Нелазское, ф. Шулма
B2: наименование предприятия | N2: наименование источника питания
N3: ТП-Поселок
B4: ул. Горького, 99 | I4: Таблица № 1 | N4: ТП-Школа
B5: адрес
A6: почасовых записей показаний электрических счетчиков
A7: в режимный день 15 ИЮНЯ 2022 г.
A8: 1630 | B8: 1628
A9: часы суток | B9: Активная энергия | J9: Реактивная энергия
B10: =N3 -> ТП-Поселок | F10: =N4 -> ТП-Школа | J10: =B10 -> ТП-Поселок | N10: =F10 -> ТП-Школа
B11: Расчет. Коэф. | E11: 120 | F11: Расчет. Коэф. | I11: 120 | J11: Расчет. Коэф. | M11: =E11 -> 120 | N11: Расчет. Коэф. | Q11: =I11 -> 120
B12: показания счетчика | C12: разность | E12: расход эл.энергии за час | F12: показания счетчика | G12: разность | I12: расход эл.энергии за час | J12: показания счетчика | K12: разность | M12: расход эл.энергии за час | N12: показания счетчика | O12: разность | Q12: расход эл.энергии за час
A13: 1 | B13: 2 | C13: 3 | E13: 4 | F13: 5 | G13: 6 | I13: 7 | J13: 8 | K13: 9 | M13: 10 | N13: 11 | O13: 12 | Q13: 13
A14: 0
A15: 1 | E15: 82.8 | I15: 6.456 | M15: 0 | Q15: 0
A16: 2 | E16: 75.72 | I16: 8.064 | M16: 0 | Q16: 0
A17: 3 | E17: 77.28 | I17: 5.568 | M17: 0 | Q17: 0
A18: 4 | E18: 75.6 | I18: 5.736 | M18: 0 | Q18: 0
A19: 5 | E19: 75.48 | I19: 3.936 | M19: 0 | Q19: 0
A20: 6 | E20: 80.28 | I20: 2.688 | M20: 0 | Q20: 0
A21: 7 | E21: 94.2 | I21: 5.976 | M21: 0 | Q21: 0
A22: 8 | E22: 99.84 | I22: 13.944 | M22: 0 | Q22: 0
A23: 9 | E23: 109.68 | I23: 17.184 | M23: 0 | Q23: 0
A24: 10 | E24: 105.48 | I24: 16.896 | M24: 0 | Q24: 0
A25: 11 | E25: 108.36 | I25: 21.888 | M25: 0 | Q25: 0
A26: 12 | E26: 108.48 | I26: 14.424 | M26: 0 | Q26: 0
... A38: 24 | E38: 98.16 | I38: 6.168 | M38: 0 | Q38: 0
A39: Итого | E39: =SUM(E15:E38) -> 2429.52 | I39: =SUM(I15:I38) -> 222.072 | M39: =SUM(M15:M38) -> 0 | Q39: =SUM(Q15:Q38) -> 0
A40: 1. При наличии на предприятии отклонений от нормальных режимов электропотребления (временное изменение схем питания, остановка на ремонт, резкое снижение
A41: эл.потребления и т.д.) последние необходимо перечислить.
A42: Главный инженер АО "Вологдаоблэнерго" А.В. Чурляев
A43: составляется самим предприятием с соблюдением всех пунктов настоящей таблицы.

Sheet 19
B1: АО "Вологдаоблэнерго" | J1: код 900151 | N1: ПС Нелазское, ф. К-с Нелазское-2
B2: наименование предприятия | N2: наименование источника питания
N3: ТП-14 В-1
B4: ул. Горького, 99 | I4: Таблица № 1 | N4: ТП-14 В-2
B5: адрес
A6: почасовых записей показаний электрических счетчиков
A7: в режимный день 15 ИЮНЯ 2022 г.
A8: 1630 | B8: 1628
A9: часы суток | B9: Активная энергия | J9: Реактивная энергия
B10: =N3 -> ТП-14 В-1 | F10: =N4 -> ТП-14 В-2 | J10: =B10 -> ТП-14 В-1 | N10: =F10 -> ТП-14 В-2
B11: Расчет. Коэф. | E11: 120 | F11: Расчет. Коэф. | I11: 120 | J11: Расчет. Коэф. | M11: =E11 -> 120 | N11: Расчет. Коэф. | Q11: =I11 -> 120
B12: показания счетчика | C12: разность | E12: расход эл.энергии за час | F12: показания счетчика | G12: разность | I12: расход эл.энергии за час | J12: показания счетчика | K12: разность | M12: расход эл.энергии за час | N12: показания счетчика | O12: разность | Q12: расход эл.энергии за час
A13: 1 | B13: 2 | C13: 3 | E13: 4 | F13: 5 | G13: 6 | I13: 7 | J13: 8 | K13: 9 | M13: 10 | N13: 11 | O13: 12 | Q13: 13
A14: 0
A15: 1 | E15: 0 | I15: 109.8 | M15: 0 | Q15: 0
A16: 2 | E16: 0 | I16: 68.04 | M16: 0 | Q16: 0
A17: 3 | E17: 0 | I17: 77.64 | M17: 0 | Q17: 0
A18: 4 | E18: 0 | I18: 74.52 | M18: 0 | Q18: 0
A19: 5 | E19: 0 | I19: 56.88 | M19: 0 | Q19: 0
A20: 6 | E20: 0 | I20: 69.96 | M20: 0 | Q20: 0
A21: 7 | E21: 0 | I21: 63.6 | M21: 0 | Q21: 0
A22: 8 | E22: 0 | I22: 91.56 | M22: 0 | Q22: 0
A23: 9 | E23: 0 | I23: 103.32 | M23: 0 | Q23: 0
A24: 10 | E24: 0 | I24: 97.68 | M24: 0 | Q24: 0
A25: 11 | E25: 0 | I25: 102.24 | M25: 0 | Q25: 0
A26: 12 | E26: 0 | I26: 113.04 | M26: 0 | Q26: 0
... A38: 24 | E38: 0 | I38: 99.72 | M38: 0 | Q38: 0
A39: Итого | E39: =SUM(E15:E38) -> 0 | I39: =SUM(I15:I38) -> 2167.2 | M39: =SUM(M15:M38) -> 0 | Q39: =SUM(Q15:Q38) -> 0
A40: 1. При наличии на предприятии отклонений от нормальных режимов электропотребления (временное изменение схем питания, остановка на ремонт, резкое снижение
A41: эл.потребления и т.д.) последние необходимо перечислить.
A42: Главный инженер АО "Вологдаоблэнерго" А.В. Чурляев
A43: составляется самим предприятием с соблюдением всех пунктов настоящей таблицы.

Sheet 20
B1: АО "Вологдаоблэнерго" | J1: код 900151 | N1: ПС Нелазское, ф. К-с Нелазское-2
B2: наименование предприятия | N2: наименование источника питания
N3: ТП-15 В-1
B4: ул. Горького, 99 | I4: Таблица № 1 | N4: ТП-15 В-2
B5: адрес
A6: почасовых записей показаний электрических счетчиков
A7: в режимный день 15 ИЮНЯ 2022 г.
A8: 1630 | B8: 1628
A9: часы суток | B9: Активная энергия | J9: Реактивная энергия
B10: =N3 -> ТП-15 В-1 | F10: =N4 -> ТП-15 В-2 | J10: =B10 -> ТП-15 В-1 | N10: =F10 -> ТП-15 В-2
B11: Расчет. Коэф. | E11: 200 | F11: Расчет. Коэф. | I11: 120 | J11: Расчет. Коэф. | M11: =E11 -> 200 | N11: Расчет. Коэф. | Q11: =I11 -> 120
B12: показания счетчика | C12: разность | E12: расход эл.энергии за час | F12: показания счетчика | G12: разность | I12: расход эл.энергии за час | J12: показания счетчика | K12: разность | M12: расход эл.энергии за час | N12: показания счетчика | O12: разность | Q12: расход эл.энергии за час
A13: 1 | B13: 2 | C13: 3 | E13: 4 | F13: 5 | G13: 6 | I13: 7 | J13: 8 | K13: 9 | M13: 10 | N13: 11 | O13: 12 | Q13: 13
A14: 0
A15: 1 | E15: 1.4 | I15: 37.8 | M15: 0 | Q15: 0
A16: 2 | E16: 1.4 | I16: 34.2 | M16: 0 | Q16: 0
A17: 3 | E17: 1.6 | I17: 33.96 | M17: 0 | Q17: 0
A18: 4 | E18: 1.4 | I18: 34.2 | M18: 0 | Q18: 0
A19: 5 | E19: 1.4 | I19: 34.44 | M19: 0 | Q19: 0
A20: 6 | E20: 1.6 | I20: 37.44 | M20: 0 | Q20: 0
A21: 7 | E21: 1.4 | I21: 44.16 | M21: 0 | Q21: 0
A22: 8 | E22: 1.4 | I22: 47.04 | M22: 0 | Q22: 0
A23: 9 | E23: 1.6 | I23: 66.48 | M23: 0 | Q23: 0
A24: 10 | E24: 1.4 | I24: 89.64 | M24: 0 | Q24: 0
A25: 11 | E25: 1.4 | I25: 79.2 | M25: 0 | Q25: 0
A26: 12 | E26: 1.6 | I26: 97.2 | M26: 0 | Q26: 0
... A38: 24 | E38: 1.6 | I38: 38.64 | M38: 0 | Q38: 0
A39: Итого | E39: =SUM(E15:E38) -> 35.2 | I39: =SUM(I15:I38) -> 1217.28 | M39: =SUM(M15:M38) -> 0 | Q39: =SUM(Q15:Q38) -> 0
A40: 1. При наличии на предприятии отклонений от нормальных режимов электропотребления (временное изменение схем питания, остановка на ремонт, резкое снижение
A41: эл.потребления и т.д.) последние необходимо перечислить.
A42: Главный инженер АО "Вологдаоблэнерго" А.В. Чурляев
A43: составляется самим предприятием с соблюдением всех пунктов настоящей таблицы.

Sheet 21
B1: АО "Вологдаоблэнерго" | J1: код 900151 | N1: ПС Нелазское, ф. Шулма очистные
B2: наименование предприятия | N2: наименование источника питания
N3: КТП-Ива
B4: ул. Горького, 99 | I4: Таблица № 1
B5: адрес
A6: почасовых записей показаний электрических счетчиков
A7: в режимный день 15 ИЮНЯ 2022 г.
A8: 1630 | B8: 1628
A9: часы суток | B9: Активная энергия | J9: Реактивная энергия
B10: =N3 -> КТП-Ива | F10: =N4 -> 0 | J10: =B10 -> КТП-Ива | N10: =F10 -> 0
B11: Расчет. Коэф. | E11: 30 | F11: Расчет. Коэф. | I11: 120 | J11: Расчет. Коэф. | M11: =E11 -> 30 | N11: Расчет. Коэф. | Q11: =I11 -> 120
B12: показания счетчика | C12: разность | E12: расход эл.энергии за час | F12: показания счетчика | G12: разность | I12: расход эл.энергии за час | J12: показания счетчика | K12: разность | M12: расход эл.энергии за час | N12: показания счетчика | O12: разность | Q12: расход эл.энергии за час
A13: 1 | B13: 2 | C13: 3 | E13: 4 | F13: 5 | G13: 6 | I13: 7 | J13: 8 | K13: 9 | M13: 10 | N13: 11 | O13: 12 | Q13: 13
A14: 0
A15: 1 | E15: 3.03 | M15: 0
A16: 2 | E16: 2.22 | M16: 0
A17: 3 | E17: 2.415 | M17: 0
A18: 4 | E18: 2.01 | M18: 0
A19: 5 | E19: 1.875 | M19: 0
A20: 6 | E20: 4.92 | M20: 0
A21: 7 | E21: 3.63 | M21: 0
A22: 8 | E22: 3.765 | M22: 0
A23: 9 | E23: 4.155 | M23: 0
A24: 10 | E24: 4.635 | M24: 0
A25: 11 | E25: 3.585 | M25: 0
A26: 12 | E26: 3.06 | M26: 0
... A38: 24 | E38: 3.405 | M38: 0
A39: Итого | E39: =SUM(E15:E38) -> 95.61 | I39: =SUM(I15:I38) -> 0 | M39: =SUM(M15:M38) -> 0 | Q39: =SUM(Q15:Q38) -> 0
A40: 1. При наличии на предприятии отклонений от нормальных режимов электропотребления (временное изменение схем питания, остановка на ремонт, резкое снижение
A41: эл.потребления и т.д.) последние необходимо перечислить.
A42: Главный инженер АО "Вологдаоблэнерго" А.В. Чурляев
A43: составляется самим предприятием с соблюдением всех пунктов настоящей таблицы.

Sheet 22
B1: АО "Вологдаоблэнерго" | J1: код 900151 | N1: ПС Нелазское, ф. Крутец
B2: наименование предприятия | N2: наименование источника питания
N3: КТП-1 "Сад-3 ЧМК"
B4: ул. Горького, 99 | I4: Таблица № 1 | N4: КТП-2 "Сад-3 ЧМК"
B5: адрес
A6: почасовых записей показаний электрических счетчиков
A7: в режимный день 15 ИЮНЯ 2022 г.
A8: 1630 | B8: 1628
A9: часы суток | B9: Активная энергия | J9: Реактивная энергия
B10: =N3 -> КТП-1 "Сад-3 ЧМК" | F10: =N4 -> КТП-2 "Сад-3 ЧМК" | J10: =B10 -> КТП-1 "Сад-3 ЧМК" | N10: =F10 -> КТП-2 "Сад-3 ЧМК"
B11: Расчет. Коэф. | E11: 60 | F11: Расчет. Коэф. | I11: 60 | J11: Расчет. Коэф. | M11: =E11 -> 60 | N11: Расчет. Коэф. | Q11: =I11 -> 60
B12: показания счетчика | C12: разность | E12: расход эл.энергии за час | F12: показания счетчика | G12: разность | I12: расход эл.энергии за час | J12: показания счетчика | K12: разность | M12: расход эл.энергии за час | N12: показания счетчика | O12: разность | Q12: расход эл.энергии за час
A13: 1 | B13: 2 | C13: 3 | E13: 4 | F13: 5 | G13: 6 | I13: 7 | J13: 8 | K13: 9 | M13: 10 | N13: 11 | O13: 12 | Q13: 13
A14: 0
A15: 1 | E15: 18.51 | I15: 4.02 | M15: 0 | Q15: 0
A16: 2 | E16: 19.14 | I16: 4.17 | M16: 0 | Q16: 0
A17: 3 | E17: 18.03 | I17: 4.08 | M17: 0 | Q17: 0
A18: 4 | E18: 16.8 | I18: 4.08 | M18: 0 | Q18: 0
A19: 5 | E19: 16.08 | I19: 5.73 | M19: 0 | Q19: 0
A20: 6 | E20: 17.49 | I20: 5.79 | M20: 0 | Q20: 0
A21: 7 | E21: 22.65 | I21: 5.07 | M21: 0 | Q21: 0
A22: 8 | E22: 29.94 | I22: 7.14 | M22: 0 | Q22: 0
A23: 9 | E23: 31.68 | I23: 8.01 | M23: 0 | Q23: 0
A24: 10 | E24: 34.71 | I24: 5.13 | M24: 0 | Q24: 0
A25: 11 | E25: 30.51 | I25: 5.85 | M25: 0 | Q25: 0
A26: 12 | E26: 33.81 | I26: 7.62 | M26: 0 | Q26: 0
... A38: 24 | E38: 31.74 | I38: 5.04 | M38: 0 | Q38: 0
A39: Итого | E39: =SUM(E15:E38) -> 799.23 | I39: =SUM(I15:I38) -> 155.31 | M39: =SUM(M15:M38) -> 0 | Q39: =SUM(Q15:Q38) -> 0
A40: 1. При наличии на предприятии отклонений от нормальных режимов электропотребления (временное изменение схем питания, остановка на ремонт, резкое снижение
A41: эл.потребления и т.д.) последние необходимо перечислить.
A42: Главный инженер АО "Вологдаоблэнерго" А.В. Чурляев
A43: составляется самим предприятием с соблюдением всех пунктов настоящей таблицы.

Sheet 23
B1: АО "Вологдаоблэнерго" | J1: код 900151 | N1: ПС Суда, ф. Андога
B2: наименование предприятия | N2: наименование источника питания
N3: ТП-243
B4: ул. Горького, 99 | I4: Таблица № 1 | N4: КТП-63 Кривец-1
B5: адрес
A6: почасовых записей показаний электрических счетчиков
A7: в режимный день 15 ИЮНЯ 2022 г.
A8: 1630 | B8: 1628
A9: часы суток | B9: Активная энергия | J9: Реактивная энергия
B10: =N3 -> ТП-243 | F10: =N4 -> КТП-63 Кривец-1 | J10: =B10 -> ТП-243 | N10: =F10 -> КТП-63 Кривец-1
B11: Расчет. Коэф. | E11: 60 | F11: Расчет. Коэф. | I11: 20 | J11: Расчет. Коэф. | M11: =E11 -> 60 | N11: Расчет. Коэф. | Q11: =I11 -> 20
B12: показания счетчика | C12: разность | E12: расход эл.энергии за час | F12: показания счетчика | G12: разность | I12: расход эл.энергии за час | J12: показания счетчика | K12: разность | M12: расход эл.энергии за час | N12: показания счетчика | O12: разность | Q12: расход эл.энергии за час
A13: 1 | B13: 2 | C13: 3 | E13: 4 | F13: 5 | G13: 6 | I13: 7 | J13: 8 | K13: 9 | M13: 10 | N13: 11 | O13: 12 | Q13: 13
A14: 0
A15: 1 | E15: 5.88 | I15: 0 | M15: 0 | Q15: 0
A16: 2 | E16: 6.39 | I16: 0 | M16: 0 | Q16: 0
A17: 3 | E17: 6.15 | I17: 0 | M17: 0 | Q17: 0
A18: 4 | E18: 5.1 | I18: 0 | M18: 0 | Q18: 0
A19: 5 | E19: 5.13 | I19: 0 | M19: 0 | Q19: 0
A20: 6 | E20: 5.04 | I20: 0 | M20: 0 | Q20: 0
A21: 7 | E21: 7.41 | I21: 0 | M21: 0 | Q21: 0
A22: 8 | E22: 8.13 | I22: 0 | M22: 0 | Q22: 0
A23: 9 | E23: 10.56 | I23: 0 | M23: 0 | Q23: 0
A24: 10 | E24: 16.56 | I24: 0 | M24: 0 | Q24: 0
A25: 11 | E25: 12.99 | I25: 0 | M25: 0 | Q25: 0
A26: 12 | E26: 11.31 | I26: 0 | M26: 0 | Q26: 0
... A38: 24 | E38: 10.11 | I38: 0 | M38: 0 | Q38: 0
A39: Итого | E39: =SUM(E15:E38) -> 288.96 | I39: =SUM(I15:I38) -> 0 | M39: =SUM(M15:M38) -> 0 | Q39: =SUM(Q15:Q38) -> 0
A40: 1. При наличии на предприятии отклонений от нормальных режимов электропотребления (временное изменение схем питания, остановка на ремонт, резкое снижение
A41: эл.потребления и т.д.) последние необходимо перечислить.
A42: Главный инженер АО "Вологдаоблэнерго" А.В. Чурляев
A43: составляется самим предприятием с соблюдением всех пунктов настоящей таблицы.

Sheet 24
B1: АО "Вологдаоблэнерго" | J1: код 900151 | N1: ПС Суда, ф. Сойволовское
B2: наименование предприятия | N2: наименование источника питания
N3: КТП общества садоводов "Заря-2"
B4: ул. Горького, 99 | I4: Таблица № 1 | N4: КТП "Дачи"
B5: адрес
A6: почасовых записей показаний электрических счетчиков
A7: в режимный день 15 ИЮНЯ 2022 г.
A8: 1630 | B8: 1628
A9: часы суток | B9: Активная энергия | J9: Реактивная энергия
B10: =N3 -> КТП общества садоводов "Заря-2" | F10: =N4 -> КТП "Дачи" | J10: =B10 -> КТП общества садоводов "Заря-2" | N10: =F10 -> КТП "Дачи"
B11: Расчет. Коэф. | E11: 40 | F11: Расчет. Коэф. | I11: 60 | J11: Расчет. Коэф. | M11: =E11 -> 40 | N11: Расчет. Коэф. | Q11: =I11 -> 60
B12: показания счетчика | C12: разность | E12: расход эл.энергии за час | F12: показания счетчика | G12: разность | I12: расход эл.энергии за час | J12: показания счетчика | K12: разность | M12: расход эл.энергии за час | N12: показания счетчика | O12: разность | Q12: расход эл.энергии за час
A13: 1 | B13: 2 | C13: 3 | E13: 4 | F13: 5 | G13: 6 | I13: 7 | J13: 8 | K13: 9 | M13: 10 | N13: 11 | O13: 12 | Q13: 13
A14: 0
A15: 1 | E15: 21.312 | I15: 10.89 | M15: 0 | Q15: 0
A16: 2 | E16: 20.82 | I16: 9.09 | M16: 0 | Q16: 0
A17: 3 | E17: 17.172 | I17: 8.4 | M17: 0 | Q17: 0
A18: 4 | E18: 17.664 | I18: 7.77 | M18: 0 | Q18: 0
A19: 5 | E19: 21.708 | I19: 8.4 | M19: 0 | Q19: 0
A20: 6 | E20: 30.372 | I20: 10.26 | M20: 0 | Q20: 0
A21: 7 | E21: 35.868 | I21: 12.6 | M21: 0 | Q21: 0
A22: 8 | E22: 34.26 | I22: 13.71 | M22: 0 | Q22: 0
A23: 9 | E23: 34.332 | I23: 17.67 | M23: 0 | Q23: 0
A24: 10 | E24: 37.776 | I24: 16.02 | M24: 0 | Q24: 0
A25: 11 | E25: 34.356 | I25: 16.53 | M25: 0 | Q25: 0
A26: 12 | E26: 35.34 | I26: 16.08 | M26: 0 | Q26: 0
... A38: 24 | E38: 25.164 | I38: 12.15 | M38: 0 | Q38: 0
A39: Итого | E39: =SUM(E15:E38) -> 759.864 | I39: =SUM(I15:I38) -> 346.74 | M39: =SUM(M15:M38) -> 0 | Q39: =SUM(Q15:Q38) -> 0
A40: 1. При наличии на предприятии отклонений от нормальных режимов электропотребления (временное изменение схем питания, остановка на ремонт, резкое снижение
A41: эл.потребления и т.д.) последние необходимо перечислить.
A42: Главный инженер АО "Вологдаоблэнерго" А.В. Чурляев
A43: составляется самим предприятием с соблюдением всех пунктов настоящей таблицы.

Sheet 25
B1: АО "Вологдаоблэнерго" | J1: код 900151 | N1: ПС Петринево, ф. Романово
B2: наименование предприятия | N2: наименование источника питания
N3: ТП-317
B4: ул. Горького, 99 | I4: Таблица № 1
B5: адрес
A6: почасовых записей показаний электрических счетчиков
A7: в режимный день 15 ИЮНЯ 2022 г.
A8: 1630 | B8: 1628
A9: часы суток | B9: Активная энергия | J9: Реактивная энергия
B10: =N3 -> ТП-317 | F10: =N4 -> 0 | J10: =B10 -> ТП-317 | N10: =F10 -> 0
B11: Расчет. Коэф. | E11: 120 | F11: Расчет. Коэф. | I11: 120 | J11: Расчет. Коэф. | M11: =E11 -> 120 | N11: Расчет. Коэф. | Q11: =I11 -> 120
B12: показания счетчика | C12: разность | E12: расход эл.энергии за час | F12: показания счетчика | G12: разность | I12: расход эл.энергии за час | J12: показания счетчика | K12: разность | M12: расход эл.энергии за час | N12: показания счетчика | O12: разность | Q12: расход эл.энергии за час
A13: 1 | B13: 2 | C13: 3 | E13: 4 | F13: 5 | G13: 6 | I13: 7 | J13: 8 | K13: 9 | M13: 10 | N13: 11 | O13: 12 | Q13: 13
A14: 0
A15: 1 | E15: 7.98 | M15: 0
A16: 2 | E16: 7.14 | M16: 0
A17: 3 | E17: 6.24 | M17: 0
A18: 4 | E18: 7.32 | M18: 0
A19: 5 | E19: 9.9 | M19: 0
A20: 6 | E20: 10.92 | M20: 0
A21: 7 | E21: 13.26 | M21: 0
A22: 8 | E22: 8.1 | M22: 0
A23: 9 | E23: 10.02 | M23: 0
A24: 10 | E24: 11.34 | M24: 0
A25: 11 | E25: 10.02 | M25: 0
A26: 12 | E26: 9.66 | M26: 0
... A38: 24 | E38: 8.52 | M38: 0
A39: Итого | E39: =SUM(E15:E38) -> 261.18 | I39: =SUM(I15:I38) -> 0 | M39: =SUM(M15:M38) -> 0 | Q39: =SUM(Q15:Q38) -> 0
A40: 1. При наличии на предприятии отклонений от нормальных режимов электропотребления (временное изменение схем питания, остановка на ремонт, резкое снижение
A41: эл.потребления и т.д.) последние необходимо перечислить.
A42: Главный инженер АО "Вологдаоблэнерго" А.В. Чурляев
A43: составляется самим предприятием с соблюдением всех пунктов настоящей таблицы.

Sheet 26
B1: АО "Вологдаоблэнерго" | J1: код 900151 | N1: ПС Домозерово, ф.Дом-2
B2: наименование предприятия | N2: наименование источника питания
N3: ТП-Водозабор (встроен) В-1
B4: ул. Горького, 99 | I4: Таблица № 1 | N4: ТП-Водозабор (встроен) В-2
B5: адрес
A6: почасовых записей показаний электрических счетчиков
A7: в режимный день 15 ИЮНЯ 2022 г.
A8: 1630 | B8: 1628
A9: часы суток | B9: Активная энергия | J9: Реактивная энергия
B10: =N3 -> ТП-Водозабор (встроен) В-1 | F10: =N4 -> ТП-Водозабор (встроен) В-2 | J10: =B10 -> ТП-Водозабор (встроен) В-1 | N10: =F10 -> ТП-Водозабор (встроен) В-2
B11: Расчет. Коэф. | E11: 20 | F11: Расчет. Коэф. | I11: 20 | J11: Расчет. Коэф. | M11: =E11 -> 20 | N11: Расчет. Коэф. | Q11: =I11 -> 20
B12: показания счетчика | C12: разность | E12: расход эл.энергии за час | F12: показания счетчика | G12: разность | I12: расход эл.энергии за час | J12: показания счетчика | K12: разность | M12: расход эл.энергии за час | N12: показания счетчика | O12: разность | Q12: расход эл.энергии за час
A13: 1 | B13: 2 | C13: 3 | E13: 4 | F13: 5 | G13: 6 | I13: 7 | J13: 8 | K13: 9 | M13: 10 | N13: 11 | O13: 12 | Q13: 13
A14: 0
A15: 1 | E15: 0 | I15: 1.51 | M15: 0 | Q15: 0
A16: 2 | E16: 0 | I16: 1.5 | M16: 0 | Q16: 0
A17: 3 | E17: 0 | I17: 1.5 | M17: 0 | Q17: 0
A18: 4 | E18: 0 | I18: 1.57 | M18: 0 | Q18: 0
A19: 5 | E19: 0 | I19: 1.49 | M19: 0 | Q19: 0
A20: 6 | E20: 0 | I20: 1.48 | M20: 0 | Q20: 0
A21: 7 | E21: 0 | I21: 3.07 | M21: 0 | Q21: 0
A22: 8 | E22: 0 | I22: 8.66 | M22: 0 | Q22: 0
A23: 9 | E23: 0 | I23: 8.6 | M23: 0 | Q23: 0
A24: 10 | E24: 0 | I24: 8.65 | M24: 0 | Q24: 0
A25: 11 | E25: 0 | I25: 8.57 | M25: 0 | Q25: 0
A26: 12 | E26: 0 | I26: 9.17 | M26: 0 | Q26: 0
... A38: 24 | E38: 0 | I38: 1.51 | M38: 0 | Q38: 0
A39: Итого | E39: =SUM(E15:E38) -> 0 | I39: =SUM(I15:I38) -> 102.57 | M39: =SUM(M15:M38) -> 0 | Q39: =SUM(Q15:Q38) -> 0
A40: 1. При наличии на предприятии отклонений от нормальных режимов электропотребления (временное изменение схем питания, остановка на ремонт, резкое снижение
A41: эл.потребления и т.д.) последние необходимо перечислить.
A42: Главный инженер АО "Вологдаоблэнерго" А.В. Чурляев
A43: составляется самим предприятием с соблюдением всех пунктов настоящей таблицы.

Sheet 27
B1: АО "Вологдаоблэнерго" | J1: код 900151 | N1: ПС Домозерово, ф.Дом-2
B2: наименование предприятия | N2: наименование источника питания
N3: ТП-Школа ПС Домозерово В-1
B4: ул. Горького, 99 | I4: Таблица № 1 | N4: ТП-Школа ПС Домозерово В-2
B5: адрес
A6: почасовых записей показаний электрических счетчиков
A7: в режимный день 15 ИЮНЯ 2022 г.
A8: 1630 | B8: 1628
A9: часы суток | B9: Активная энергия | J9: Реактивная энергия
B10: =N3 -> ТП-Школа ПС Домозерово В-1 | F10: =N4 -> ТП-Школа ПС Домозерово В-2 | J10: =B10 -> ТП-Школа ПС Домозерово В-1 | N10: =F10 -> ТП-Школа ПС Домозерово В-2
B11: Расчет. Коэф. | E11: 120 | F11: Расчет. Коэф. | I11: 120 | J11: Расчет. Коэф. | M11: =E11 -> 120 | N11: Расчет. Коэф. | Q11: =I11 -> 120
B12: показания счетчика | C12: разность | E12: расход эл.энергии за час | F12: показания счетчика | G12: разность | I12: расход эл.энергии за час | J12: показания счетчика | K12: разность | M12: расход эл.энергии за час | N12: показания счетчика | O12: разность | Q12: расход эл.энергии за час
A13: 1 | B13: 2 | C13: 3 | E13: 4 | F13: 5 | G13: 6 | I13: 7 | J13: 8 | K13: 9 | M13: 10 | N13: 11 | O13: 12 | Q13: 13
A14: 0
A15: 1 | E15: 9.84 | I15: 20.16 | M15: 0 | Q15: 0
A16: 2 | E16: 9.672 | I16: 17.928 | M16: 0 | Q16: 0
A17: 3 | E17: 9.552 | I17: 17.496 | M17: 0 | Q17: 0
A18: 4 | E18: 7.632 | I18: 18.696 | M18: 0 | Q18: 0
A19: 5 | E19: 7.056 | I19: 16.08 | M19: 0 | Q19: 0
A20: 6 | E20: 6.816 | I20: 18.648 | M20: 0 | Q20: 0
A21: 7 | E21: 7.296 | I21: 18.192 | M21: 0 | Q21: 0
A22: 8 | E22: 7.56 | I22: 33.552 | M22: 0 | Q22: 0
A23: 9 | E23: 6.984 | I23: 33.672 | M23: 0 | Q23: 0
A24: 10 | E24: 6.696 | I24: 33.84 | M24: 0 | Q24: 0
A25: 11 | E25: 6.912 | I25: 34.416 | M25: 0 | Q25: 0
A26: 12 | E26: 16.248 | I26: 38.184 | M26: 0 | Q26: 0
... A38: 24 | E38: 9.552 | I38: 20.136 | M38: 0 | Q38: 0
A39: Итого | E39: =SUM(E15:E38) -> 197.16 | I39: =SUM(I15:I38) -> 628.008 | M39: =SUM(M15:M38) -> 0 | Q39: =SUM(Q15:Q38) -> 0
A40: 1. При наличии на предприятии отклонений от нормальных режимов электропотребления (временное изменение схем питания, остановка на ремонт, резкое снижение
A41: эл.потребления и т.д.) последние необходимо перечислить.
A42: Главный инженер АО "Вологдаоблэнерго" А.В. Чурляев
A43: составляется самим предприятием с соблюдением всех пунктов настоящей таблицы.

Sheet 28
B1: АО "Вологдаоблэнерго" | J1: код 900151 | N1: ПС Домозерово, ф.Дом-2
B2: наименование предприятия | N2: наименование источника питания
N3: КТП "Очистные" ПС Домозерово
B4: ул. Горького, 99 | I4: Таблица № 1 | N4: ТП "Детский сад" ПС Домозерово
B5: адрес
A6: почасовых записей показаний электрических счетчиков
A7: в режимный день 15 ИЮНЯ 2022 г.
A8: 1630 | B8: 1628
A9: часы суток | B9: Активная энергия | J9: Реактивная энергия
B10: =N3 -> КТП "Очистные" ПС Домозерово | F10: =N4 -> ТП "Детский сад" ПС Домозерово | J10: =B10 -> КТП "Очистные" ПС Домозерово | N10: =F10 -> ТП "Детский сад" ПС Домозерово
B11: Расчет. Коэф. | E11: 60 | F11: Расчет. Коэф. | I11: 80 | J11: Расчет. Коэф. | M11: =E11 -> 60 | N11: Расчет. Коэф. | Q11: =I11 -> 80
B12: показания счетчика | C12: разность | E12: расход эл.энергии за час | F12: показания счетчика | G12: разность | I12: расход эл.энергии за час | J12: показания счетчика | K12: разность | M12: расход эл.энергии за час | N12: показания счетчика | O12: разность | Q12: расход эл.энергии за час
A13: 1 | B13: 2 | C13: 3 | E13: 4 | F13: 5 | G13: 6 | I13: 7 | J13: 8 | K13: 9 | M13: 10 | N13: 11 | O13: 12 | Q13: 13
A14: 0
A15: 1 | E15: 0.384 | I15: 19.92 | M15: 0 | Q15: 0
A16: 2 | E16: 0.324 | I16: 19.52 | M16: 0 | Q16: 0
A17: 3 | E17: 0.276 | I17: 17.36 | M17: 0 | Q17: 0
A18: 4 | E18: 0.312 | I18: 16.56 | M18: 0 | Q18: 0
A19: 5 | E19: 0.3 | I19: 17.12 | M19: 0 | Q19: 0
A20: 6 | E20: 0.744 | I20: 20.56 | M20: 0 | Q20: 0
A21: 7 | E21: 2.1 | I21: 26.72 | M21: 0 | Q21: 0
A22: 8 | E22: 1.116 | I22: 29.68 | M22: 0 | Q22: 0
A23: 9 | E23: 1.008 | I23: 30.4 | M23: 0 | Q23: 0
A24: 10 | E24: 0.648 | I24: 25.68 | M24: 0 | Q24: 0
A25: 11 | E25: 0.336 | I25: 24.4 | M25: 0 | Q25: 0
A26: 12 | E26: 0.312 | I26: 25.52 | M26: 0 | Q26: 0
... A38: 24 | E38: 0.348 | I38: 26.08 | M38: 0 | Q38: 0
A39: Итого | E39: =SUM(E15:E38) -> 19.632 | I39: =SUM(I15:I38) -> 624.56 | M39: =SUM(M15:M38) -> 0 | Q39: =SUM(Q15:Q38) -> 0
A40: 1. При наличии на предприятии отклонений от нормальных режимов электропотребления (временное изменение схем питания, остановка на ремонт, резкое снижение
A41: эл.потребления и т.д.) последние необходимо перечислить.
A42: Главный инженер АО "Вологдаоблэнерго" А.В. Чурляев
A43: составляется самим предприятием с соблюдением всех пунктов настоящей таблицы.

Sheet 29
B1: АО "Вологдаоблэнерго" | J1: код 900151 | N1: ПС Нелазское, ф. Цыково
B2: наименование предприятия | N2: наименование источника питания
N3: КТП-250кВА Зашекснинское
B4: ул. Горького, 99 | I4: Таблица № 1
B5: адрес
A6: почасовых записей показаний электрических счетчиков
A7: в режимный день 15 ИЮНЯ 2022 г.
A8: 1630 | B8: 1628
A9: часы суток | B9: Активная энергия | J9: Реактивная энергия
B10: =N3 -> КТП-250кВА Зашекснинское | F10: =N4 -> 0 | J10: =B10 -> КТП-250кВА Зашекснинское | N10: =F10 -> 0
B11: Расчет. Коэф. | E11: 60 | F11: Расчет. Коэф. | I11: 120 | J11: Расчет. Коэф. | M11: =E11 -> 60 | N11: Расчет. Коэф. | Q11: =I11 -> 120
B12: показания счетчика | C12: разность | E12: расход эл.энергии за час | F12: показания счетчика | G12: разность | I12: расход эл.энергии за час | J12: показания счетчика | K12: разность | M12: расход эл.энергии за час | N12: показания счетчика | O12: разность | Q12: расход эл.энергии за час
A13: 1 | B13: 2 | C13: 3 | E13: 4 | F13: 5 | G13: 6 | I13: 7 | J13: 8 | K13: 9 | M13: 10 | N13: 11 | O13: 12 | Q13: 13
A14: 0
A15: 1 | E15: 0 | M15: 0
A16: 2 | E16: 0 | M16: 0
A17: 3 | E17: 0 | M17: 0
A18: 4 | E18: 0 | M18: 0
A19: 5 | E19: 0 | M19: 0
A20: 6 | E20: 0 | M20: 0
A21: 7 | E21: 0 | M21: 0
A22: 8 | E22: 0 | M22: 0
A23: 9 | E23: 0 | M23: 0
A24: 10 | E24: 0 | M24: 0
A25: 11 | E25: 0 | M25: 0
A26: 12 | E26: 0 | M26: 0
... A38: 24 | E38: 0 | M38: 0
A39: Итого | E39: =SUM(E15:E38) -> 0 | I39: =SUM(I15:I38) -> 0 | M39: =SUM(M15:M38) -> 0 | Q39: =SUM(Q15:Q38) -> 0
A40: 1. При наличии на предприятии отклонений от нормальных режимов электропотребления (временное изменение схем питания, остановка на ремонт, резкое снижение
A41: эл.потребления и т.д.) последние необходимо перечислить.
A42: Главный инженер АО "Вологдаоблэнерго" А.В. Чурляев
A43: составляется самим предприятием с соблюдением всех пунктов настоящей таблицы.

Sheet 30
B1: АО "Вологдаоблэнерго" | J1: код 900151 | N1: ПС Нелазское, ф. Починок
B2: наименование предприятия | N2: наименование источника питания
N3: КТП-Дачи "Березка"
B4: ул. Горького, 99 | I4: Таблица № 1 | N4: КТП-Пенек
B5: адрес
A6: почасовых записей показаний электрических счетчиков
A7: в режимный день 15 ИЮНЯ 2022 г.
A8: 1630 | B8: 1628
A9: часы суток | B9: Активная энергия | J9: Реактивная энергия
B10: =N3 -> КТП-Дачи "Березка" | F10: =N4 -> КТП-Пенек | J10: =B10 -> КТП-Дачи "Березка" | N10: =F10 -> КТП-Пенек
B11: Расчет. Коэф. | E11: 80 | F11: Расчет. Коэф. | I11: 80 | J11: Расчет. Коэф. | M11: =E11 -> 80 | N11: Расчет. Коэф. | Q11: =I11 -> 80
B12: показания счетчика | C12: разность | E12: расход эл.энергии за час | F12: показания счетчика | G12: разность | I12: расход эл.энергии за час | J12: показания счетчика | K12: разность | M12: расход эл.энергии за час | N12: показания счетчика | O12: разность | Q12: расход эл.энергии за час
A13: 1 | B13: 2 | C13: 3 | E13: 4 | F13: 5 | G13: 6 | I13: 7 | J13: 8 | K13: 9 | M13: 10 | N13: 11 | O13: 12 | Q13: 13
A14: 0
A15: 1 | E15: 22.92 | I15: 23.6 | M15: 0 | Q15: 0
A16: 2 | E16: 19.16 | I16: 15.44 | M16: 0 | Q16: 0
A17: 3 | E17: 17.4 | I17: 17.12 | M17: 0 | Q17: 0
A18: 4 | E18: 20.32 | I18: 14.96 | M18: 0 | Q18: 0
A19: 5 | E19: 16.12 | I19: 15.08 | M19: 0 | Q19: 0
A20: 6 | E20: 21.2 | I20: 17.32 | M20: 0 | Q20: 0
A21: 7 | E21: 29.68 | I21: 24.84 | M21: 0 | Q21: 0
A22: 8 | E22: 34.92 | I22: 29.16 | M22: 0 | Q22: 0
A23: 9 | E23: 39.84 | I23: 32.72 | M23: 0 | Q23: 0
A24: 10 | E24: 39.84 | I24: 39.96 | M24: 0 | Q24: 0
A25: 11 | E25: 42.96 | I25: 44.64 | M25: 0 | Q25: 0
A26: 12 | E26: 40.36 | I26: 37.32 | M26: 0 | Q26: 0
... A38: 24 | E38: 39.4 | I38: 37.04 | M38: 0 | Q38: 0
A39: Итого | E39: =SUM(E15:E38) -> 881.8 | I39: =SUM(I15:I38) -> 830 | M39: =SUM(M15:M38) -> 0 | Q39: =SUM(Q15:Q38) -> 0
A40: 1. При наличии на предприятии отклонений от нормальных режимов электропотребления (временное изменение схем питания, остановка на ремонт, резкое снижение
A41: эл.потребления и т.д.) последние необходимо перечислить.
A42: Главный инженер АО "Вологдаоблэнерго" А.В. Чурляев
A43: составляется самим предприятием с соблюдением всех пунктов настоящей таблицы.

Sheet 31
B1: АО "Вологдаоблэнерго" | J1: код 900151 | N1: ПС Нелазское, ф. Починок
B2: наименование предприятия | N2: наименование источника питания
N3: КТП-Кацитадзе
B4: ул. Горького, 99 | I4: Таблица № 1 | N4: ТП-75
B5: адрес
A6: почасовых записей показаний электрических счетчиков
A7: в режимный день 15 ИЮНЯ 2022 г.
A8: 1630 | B8: 1628
A9: часы суток | B9: Активная энергия | J9: Реактивная энергия
B10: =N3 -> КТП-Кацитадзе | F10: =N4 -> ТП-75 | J10: =B10 -> КТП-Кацитадзе | N10: =F10 -> ТП-75
B11: Расчет. Коэф. | E11: 30 | F11: Расчет. Коэф. | I11: 80 | J11: Расчет. Коэф. | M11: =E11 -> 30 | N11: Расчет. Коэф. | Q11: 80
B12: показания счетчика | C12: разность | E12: расход эл.энергии за час | F12: показания счетчика | G12: разность | I12: расход эл.энергии за час | J12: показания счетчика | K12: разность | M12: расход эл.энергии за час | N12: показания счетчика | O12: разность | Q12: расход эл.энергии за час
A13: 1 | B13: 2 | C13: 3 | E13: 4 | F13: 5 | G13: 6 | I13: 7 | J13: 8 | K13: 9 | M13: 10 | N13: 11 | O13: 12 | Q13: 13
A14: 0
A15: 1 | E15: 8.475 | I15: 13.52 | M15: 0 | Q15: 0
A16: 2 | E16: 1.725 | I16: 12.6 | M16: 0 | Q16: 0
A17: 3 | E17: 2.265 | I17: 13.64 | M17: 0 | Q17: 0
A18: 4 | E18: 1.395 | I18: 12.52 | M18: 0 | Q18: 0
A19: 5 | E19: 1.47 | I19: 13.6 | M19: 0 | Q19: 0
A20: 6 | E20: 1.455 | I20: 13.16 | M20: 0 | Q20: 0
A21: 7 | E21: 2.505 | I21: 16.32 | M21: 0 | Q21: 0
A22: 8 | E22: 2.31 | I22: 17.64 | M22: 0 | Q22: 0
A23: 9 | E23: 3.21 | I23: 19 | M23: 0 | Q23: 0
A24: 10 | E24: 1.815 | I24: 22.84 | M24: 0 | Q24: 0
A25: 11 | E25: 4.05 | I25: 16.72 | M25: 0 | Q25: 0
A26: 12 | E26: 4.215 | I26: 15.92 | M26: 0 | Q26: 0
... A38: 24 | E38: 4.35 | I38: 17.4 | M38: 0 | Q38: 0
A39: Итого | E39: =SUM(E15:E38) -> 84.48 | I39: =SUM(I15:I38) -> 439.8 | M39: =SUM(M15:M38) -> 0 | Q39: =SUM(Q15:Q38) -> 0
A40: 1. При наличии на предприятии отклонений от нормальных режимов электропотребления (временное изменение схем питания, остановка на ремонт, резкое снижение
A41: эл.потребления и т.д.) последние необходимо перечислить.
A42: Главный инженер АО "Вологдаоблэнерго" А.В. Чурляев
A43: составляется самим предприятием с соблюдением всех пунктов настоящей таблицы.

Sheet 32
B1: АО "Вологдаоблэнерго" | J1: код 900151 | N1: ПС Нелазское, ф. Шулма
B2: наименование предприятия | N2: наименование источника питания
N3: КТП-Коттеджи
B4: ул. Горького, 99 | I4: Таблица № 1 | N4: КТП-118 (Горизонт)
B5: адрес
A6: почасовых записей показаний электрических счетчиков
A7: в режимный день 15 ИЮНЯ 2022 г.
A8: 1630 | B8: 1628
A9: часы суток | B9: Активная энергия | J9: Реактивная энергия
B10: =N3 -> КТП-Коттеджи | F10: =N4 -> КТП-118 (Горизонт) | J10: =B10 -> КТП-Коттеджи | N10: =F10 -> КТП-118 (Горизонт)
B11: Расчет. Коэф. | E11: 60 | F11: Расчет. Коэф. | I11: 80 | J11: Расчет. Коэф. | M11: =E11 -> 60 | N11: Расчет. Коэф. | Q11: =I11 -> 80
B12: показания счетчика | C12: разность | E12: расход эл.энергии за час | F12: показания счетчика | G12: разность | I12: расход эл.энергии за час | J12: показания счетчика | K12: разность | M12: расход эл.энергии за час | N12: показания счетчика | O12: разность | Q12: расход эл.энергии за час
A13: 1 | B13: 2 | C13: 3 | E13: 4 | F13: 5 | G13: 6 | I13: 7 | J13: 8 | K13: 9 | M13: 10 | N13: 11 | O13: 12 | Q13: 13
A14: 0
A15: 1 | E15: 6.072 | I15: 13.152 | M15: 0 | Q15: 0
A16: 2 | E16: 5.796 | I16: 18.944 | M16: 0 | Q16: 0
A17: 3 | E17: 6.204 | I17: 13.184 | M17: 0 | Q17: 0
A18: 4 | E18: 6.012 | I18: 11.408 | M18: 0 | Q18: 0
A19: 5 | E19: 4.56 | I19: 12.176 | M19: 0 | Q19: 0
A20: 6 | E20: 5.448 | I20: 13.6 | M20: 0 | Q20: 0
A21: 7 | E21: 6.048 | I21: 17.552 | M21: 0 | Q21: 0
A22: 8 | E22: 6.888 | I22: 14.608 | M22: 0 | Q22: 0
A23: 9 | E23: 7.008 | I23: 24.8 | M23: 0 | Q23: 0
A24: 10 | E24: 6.828 | I24: 20.064 | M24: 0 | Q24: 0
A25: 11 | E25: 7.62 | I25: 21.328 | M25: 0 | Q25: 0
A26: 12 | E26: 7.392 | I26: 18.016 | M26: 0 | Q26: 0
... A38: 24 | E38: 7.008 | I38: 24.16 | M38: 0 | Q38: 0
A39: Итого | E39: =SUM(E15:E38) -> 165.252 | I39: =SUM(I15:I38) -> 489.92 | M39: =SUM(M15:M38) -> 0 | Q39: =SUM(Q15:Q38) -> 0
A40: 1. При наличии на предприятии отклонений от нормальных режимов электропотребления (временное изменение схем питания, остановка на ремонт, резкое снижение
A41: эл.потребления и т.д.) последние необходимо перечислить.
A42: Главный инженер АО "Вологдаоблэнерго" А.В. Чурляев
A43: составляется самим предприятием с соблюдением всех пунктов настоящей таблицы.

Sheet 33
B1: АО "Вологдаоблэнерго" | J1: код 900151 | N1: ПС Домозерово, ф. Жары
B2: наименование предприятия | N2: наименование источника питания
N3: ТП-79
B4: ул. Горького, 99 | I4: Таблица № 1
B5: адрес
A6: почасовых записей показаний электрических счетчиков
A7: в режимный день 15 ИЮНЯ 2022 г.
A8: 1630 | B8: 1628
A9: часы суток | B9: Активная энергия | J9: Реактивная энергия
B10: =N3 -> ТП-79 | F10: =N4 -> 0 | J10: =B10 -> ТП-79 | N10: =F10 -> 0
B11: Расчет. Коэф. | E11: 40 | F11: Расчет. Коэф. | I11: 120 | J11: Расчет. Коэф. | M11: =E11 -> 40 | N11: Расчет. Коэф. | Q11: =I11 -> 120
B12: показания счетчика | C12: разность | E12: расход эл.энергии за час | F12: показания счетчика | G12: разность | I12: расход эл.энергии за час | J12: показания счетчика | K12: разность | M12: расход эл.энергии за час | N12: показания счетчика | O12: разность | Q12: расход эл.энергии за час
A13: 1 | B13: 2 | C13: 3 | E13: 4 | F13: 5 | G13: 6 | I13: 7 | J13: 8 | K13: 9 | M13: 10 | N13: 11 | O13: 12 | Q13: 13
A14: 0
A15: 1 | E15: 6.22 | M15: 0
A16: 2 | E16: 6.18 | M16: 0
A17: 3 | E17: 6.24 | M17: 0
A18: 4 | E18: 6.04 | M18: 0
A19: 5 | E19: 6.32 | M19: 0
A20: 6 | E20: 6.08 | M20: 0
A21: 7 | E21: 5.68 | M21: 0
A22: 8 | E22: 5.54 | M22: 0
A23: 9 | E23: 5.38 | M23: 0
A24: 10 | E24: 5.4 | M24: 0
A25: 11 | E25: 6.44 | M25: 0
A26: 12 | E26: 6.32 | M26: 0
... A38: 24 | E38: 9.66 | M38: 0
A39: Итого | E39: =SUM(E15:E38) -> 148.48 | I39: =SUM(I15:I38) -> 0 | M39: =SUM(M15:M38) -> 0 | Q39: =SUM(Q15:Q38) -> 0
A40: 1. При наличии на предприятии отклонений от нормальных режимов электропотребления (временное изменение схем питания, остановка на ремонт, резкое снижение
A41: эл.потребления и т.д.) последние необходимо перечислить.
A42: Главный инженер АО "Вологдаоблэнерго" А.В. Чурляев
A43: составляется самим предприятием с соблюдением всех пунктов настоящей таблицы.

Sheet 34
B1: АО "Вологдаоблэнерго" | J1: код 900151 | N1: ПС Батран, ф. Гоша
B2: наименование предприятия | N2: наименование источника питания
N3: ТП-72
B4: ул. Горького, 99 | I4: Таблица № 1 | N4: МТП Гоша-2
B5: адрес
A6: почасовых записей показаний электрических счетчиков
A7: в режимный день 15 ИЮНЯ 2022 г.
A8: 1630 | B8: 1628
A9: часы суток | B9: Активная энергия | J9: Реактивная энергия
B10: =N3 -> ТП-72 | F10: =N4 -> МТП Гоша-2 | J10: =B10 -> ТП-72 | N10: =F10 -> МТП Гоша-2
B11: Расчет. Коэф. | E11: 50 | F11: Расчет. Коэф. | I11: 20 | J11: Расчет. Коэф. | M11: =E11 -> 50 | N11: Расчет. Коэф. | Q11: =I11 -> 20
B12: показания счетчика | C12: разность | E12: расход эл.энергии за час | F12: показания счетчика | G12: разность | I12: расход эл.энергии за час | J12: показания счетчика | K12: разность | M12: расход эл.энергии за час | N12: показания счетчика | O12: разность | Q12: расход эл.энергии за час
A13: 1 | B13: 2 | C13: 3 | E13: 4 | F13: 5 | G13: 6 | I13: 7 | J13: 8 | K13: 9 | M13: 10 | N13: 11 | O13: 12 | Q13: 13
A14: 0
A15: 1 | E15: 2.625 | I15: 0 | M15: 0 | Q15: 0
A16: 2 | E16: 4.75 | I16: 0 | M16: 0 | Q16: 0
A17: 3 | E17: 5.175 | I17: 0 | M17: 0 | Q17: 0
A18: 4 | E18: 4.875 | I18: 0 | M18: 0 | Q18: 0
A19: 5 | E19: 2.85 | I19: 0 | M19: 0 | Q19: 0
A20: 6 | E20: 2.7 | I20: 0 | M20: 0 | Q20: 0
A21: 7 | E21: 3.25 | I21: 0 | M21: 0 | Q21: 0
A22: 8 | E22: 3.45 | I22: 0 | M22: 0 | Q22: 0
A23: 9 | E23: 4.45 | I23: 0 | M23: 0 | Q23: 0
A24: 10 | E24: 5.125 | I24: 0 | M24: 0 | Q24: 0
A25: 11 | E25: 4.975 | I25: 0 | M25: 0 | Q25: 0
A26: 12 | E26: 3.725 | I26: 0 | M26: 0 | Q26: 0
... A38: 24 | E38: 6.2 | I38: 0 | M38: 0 | Q38: 0
A39: Итого | E39: =SUM(E15:E38) -> 104.4 | I39: =SUM(I15:I38) -> 0 | M39: =SUM(M15:M38) -> 0 | Q39: =SUM(Q15:Q38) -> 0
A40: 1. При наличии на предприятии отклонений от нормальных режимов электропотребления (временное изменение схем питания, остановка на ремонт, резкое снижение
A41: эл.потребления и т.д.) последние необходимо перечислить.
A42: Главный инженер АО "Вологдаоблэнерго" А.В. Чурляев
A43: составляется самим предприятием с соблюдением всех пунктов настоящей таблицы.

Sheet 35
B1: АО "Вологдаоблэнерго" | J1: код 900151 | N1: ПС Южная, ф. Матинга
B2: наименование предприятия | N2: наименование источника питания
N3: ТП-55
B4: ул. Горького, 99 | I4: Таблица № 1
B5: адрес
A6: почасовых записей показаний электрических счетчиков
A7: в режимный день 15 ИЮНЯ 2022 г.
A8: 1630 | B8: 1628
A9: часы суток | B9: Активная энергия | J9: Реактивная энергия
B10: =N3 -> ТП-55 | F10: =N4 -> 0 | J10: =B10 -> ТП-55 | N10: =F10 -> 0
B11: Расчет. Коэф. | E11: 30 | F11: Расчет. Коэф. | I11: 120 | J11: Расчет. Коэф. | M11: =E11 -> 30 | N11: Расчет. Коэф. | Q11: =I11 -> 120
B12: показания счетчика | C12: разность | E12: расход эл.энергии за час | F12: показания счетчика | G12: разность | I12: расход эл.энергии за час | J12: показания счетчика | K12: разность | M12: расход эл.энергии за час | N12: показания счетчика | O12: разность | Q12: расход эл.энергии за час
A13: 1 | B13: 2 | C13: 3 | E13: 4 | F13: 5 | G13: 6 | I13: 7 | J13: 8 | K13: 9 | M13: 10 | N13: 11 | O13: 12 | Q13: 13
A14: 0
A15: 1 | E15: 4.245 | M15: 0
A16: 2 | E16: 2.055 | M16: 0
A17: 3 | E17: 2.16 | M17: 0
A18: 4 | E18: 1.86 | M18: 0
A19: 5 | E19: 1.995 | M19: 0
A20: 6 | E20: 2.1 | M20: 0
A21: 7 | E21: 2.895 | M21: 0
A22: 8 | E22: 2.73 | M22: 0
A23: 9 | E23: 3.555 | M23: 0
A24: 10 | E24: 4.365 | M24: 0
A25: 11 | E25: 4.05 | M25: 0
A26: 12 | E26: 4.74 | M26: 0
... A38: 24 | E38: 6.69 | M38: 0
A39: Итого | E39: =SUM(E15:E38) -> 88.5 | I39: =SUM(I15:I38) -> 0 | M39: =SUM(M15:M38) -> 0 | Q39: =SUM(Q15:Q38) -> 0
A40: 1. При наличии на предприятии отклонений от нормальных режимов электропотребления (временное изменение схем питания, остановка на ремонт, резкое снижение
A41: эл.потребления и т.д.) последние необходимо перечислить.
A42: Главный инженер АО "Вологдаоблэнерго" А.В. Чурляев
A43: составляется самим предприятием с соблюдением всех пунктов настоящей таблицы.

Sheet 36
B1: АО "Вологдаоблэнерго" | J1: код 900151 | N1: ПС Ирдоматка, ф. Ирдоматка-1
B2: наименование предприятия | N2: наименование источника питания
N3: ТП-25
B4: ул. Горького, 99 | I4: Таблица № 1 | N4: ТП-80
B5: адрес
A6: почасовых записей показаний электрических счетчиков
A7: в режимный день 15 ИЮНЯ 2022 г.
A8: 1630 | B8: 1628
A9: часы суток | B9: Активная энергия | J9: Реактивная энергия
B10: =N3 -> ТП-25 | F10: =N4 -> ТП-80 | J10: =B10 -> ТП-25 | N10: =F10 -> ТП-80
B11: Расчет. Коэф. | E11: 20 | F11: Расчет. Коэф. | I11: 40 | J11: Расчет. Коэф. | M11: =E11 -> 20 | N11: Расчет. Коэф. | Q11: =I11 -> 40
B12: показания счетчика | C12: разность | E12: расход эл.энергии за час | F12: показания счетчика | G12: разность | I12: расход эл.энергии за час | J12: показания счетчика | K12: разность | M12: расход эл.энергии за час | N12: показания счетчика | O12: разность | Q12: расход эл.энергии за час
A13: 1 | B13: 2 | C13: 3 | E13: 4 | F13: 5 | G13: 6 | I13: 7 | J13: 8 | K13: 9 | M13: 10 | N13: 11 | O13: 12 | Q13: 13
A14: 0
A15: 1 | E15: 4.21 | I15: 30.62 | M15: 0 | Q15: 0
A16: 2 | E16: 1.79 | I16: 29.72 | M16: 0 | Q16: 0
A17: 3 | E17: 2.84 | I17: 30.86 | M17: 0 | Q17: 0
A18: 4 | E18: 1.62 | I18: 28.08 | M18: 0 | Q18: 0
A19: 5 | E19: 1.72 | I19: 31.38 | M19: 0 | Q19: 0
A20: 6 | E20: 1.77 | I20: 36.28 | M20: 0 | Q20: 0
A21: 7 | E21: 2.88 | I21: 42.9 | M21: 0 | Q21: 0
A22: 8 | E22: 1.75 | I22: 44.2 | M22: 0 | Q22: 0
A23: 9 | E23: 1.78 | I23: 43.16 | M23: 0 | Q23: 0
A24: 10 | E24: 4.07 | I24: 44.44 | M24: 0 | Q24: 0
A25: 11 | E25: 3.11 | I25: 42.86 | M25: 0 | Q25: 0
A26: 12 | E26: 3.69 | I26: 41.32 | M26: 0 | Q26: 0
... A38: 24 | E38: 2.91 | I38: 37.42 | M38: 0 | Q38: 0
A39: Итого | E39: =SUM(E15:E38) -> 68.87 | I39: =SUM(I15:I38) -> 998.92 | M39: =SUM(M15:M38) -> 0 | Q39: =SUM(Q15:Q38) -> 0
A40: 1. При наличии на предприятии отклонений от нормальных режимов электропотребления (временное изменение схем питания, остановка на ремонт, резкое снижение
A41: эл.потребления и т.д.) последние необходимо перечислить.
A42: Главный инженер АО "Вологдаоблэнерго" А.В. Чурляев
A43: составляется самим предприятием с соблюдением всех пунктов настоящей таблицы.

Sheet 37
B1: АО "Вологдаоблэнерго" | J1: код 900151 | N1: ПС Ирдоматка, ф. Ирдоматка-1
B2: наименование предприятия | N2: наименование источника питания
N3: ТП-209 Тепловая
B4: ул. Горького, 99 | I4: Таблица № 1 | N4: КТП-210 Ирдоматка
B5: адрес
A6: почасовых записей показаний электрических счетчиков
A7: в режимный день 15 ИЮНЯ 2022 г.
A8: 1630 | B8: 1628
A9: часы суток | B9: Активная энергия | J9: Реактивная энергия
B10: =N3 -> ТП-209 Тепловая | F10: =N4 -> КТП-210 Ирдоматка | J10: =B10 -> ТП-209 Тепловая | N10: =F10 -> КТП-210 Ирдоматка
B11: Расчет. Коэф. | E11: 80 | F11: Расчет. Коэф. | I11: 80 | J11: Расчет. Коэф. | M11: =E11 -> 80 | N11: Расчет. Коэф. | Q11: =I11 -> 80
B12: показания счетчика | C12: разность | E12: расход эл.энергии за час | F12: показания счетчика | G12: разность | I12: расход эл.энергии за час | J12: показания счетчика | K12: разность | M12: расход эл.энергии за час | N12: показания счетчика | O12: разность | Q12: расход эл.энергии за час
A13: 1 | B13: 2 | C13: 3 | E13: 4 | F13: 5 | G13: 6 | I13: 7 | J13: 8 | K13: 9 | M13: 10 | N13: 11 | O13: 12 | Q13: 13
A14: 0
A15: 1 | E15: 24.16 | I15: 14.64 | M15: 0 | Q15: 0
A16: 2 | E16: 20.24 | I16: 12.64 | M16: 0 | Q16: 0
A17: 3 | E17: 17.6 | I17: 9.68 | M17: 0 | Q17: 0
A18: 4 | E18: 18.48 | I18: 7.96 | M18: 0 | Q18: 0
A19: 5 | E19: 14.8 | I19: 9.68 | M19: 0 | Q19: 0
A20: 6 | E20: 16.72 | I20: 9.64 | M20: 0 | Q20: 0
A21: 7 | E21: 17.52 | I21: 14.12 | M21: 0 | Q21: 0
A22: 8 | E22: 26.24 | I22: 21.8 | M22: 0 | Q22: 0
A23: 9 | E23: 25.68 | I23: 19.88 | M23: 0 | Q23: 0
A24: 10 | E24: 37.68 | I24: 18.6 | M24: 0 | Q24: 0
A25: 11 | E25: 40.88 | I25: 18.64 | M25: 0 | Q25: 0
A26: 12 | E26: 40.72 | I26: 20.44 | M26: 0 | Q26: 0
... A38: 24 | E38: 25.12 | I38: 16.12 | M38: 0 | Q38: 0
A39: Итого | E39: =SUM(E15:E38) -> 750.8 | I39: =SUM(I15:I38) -> 434.04 | M39: =SUM(M15:M38) -> 0 | Q39: =SUM(Q15:Q38) -> 0
A40: 1. При наличии на предприятии отклонений от нормальных режимов электропотребления (временное изменение схем питания, остановка на ремонт, резкое снижение
A41: эл.потребления и т.д.) последние необходимо перечислить.
A42: Главный инженер АО "Вологдаоблэнерго" А.В. Чурляев
A43: составляется самим предприятием с соблюдением всех пунктов настоящей таблицы.

Sheet 38
B1: АО "Вологдаоблэнерго" | J1: код 900151 | N1: ПС Ирдоматка ф.Даргун
B2: наименование предприятия | N2: наименование источника питания
N3: ТП-113
B4: ул. Горького, 99 | I4: Таблица № 1
B5: адрес
A6: почасовых записей показаний электрических счетчиков
A7: в режимный день 15 ИЮНЯ 2022 г.
A8: 1630 | B8: 1628
A9: часы суток | B9: Активная энергия | J9: Реактивная энергия
B10: =N3 -> ТП-113 | F10: =N4 -> 0 | J10: =B10 -> ТП-113 | N10: =F10 -> 0
B11: Расчет. Коэф. | E11: 80 | F11: Расчет. Коэф. | I11: 120 | J11: Расчет. Коэф. | M11: =E11 -> 80 | N11: Расчет. Коэф. | Q11: =I11 -> 120
B12: показания счетчика | C12: разность | E12: расход эл.энергии за час | F12: показания счетчика | G12: разность | I12: расход эл.энергии за час | J12: показания счетчика | K12: разность | M12: расход эл.энергии за час | N12: показания счетчика | O12: разность | Q12: расход эл.энергии за час
A13: 1 | B13: 2 | C13: 3 | E13: 4 | F13: 5 | G13: 6 | I13: 7 | J13: 8 | K13: 9 | M13: 10 | N13: 11 | O13: 12 | Q13: 13
A14: 0
A15: 1 | E15: 0 | M15: 0
A16: 2 | E16: 0 | M16: 0
A17: 3 | E17: 0 | M17: 0
A18: 4 | E18: 0 | M18: 0
A19: 5 | E19: 0 | M19: 0
A20: 6 | E20: 0 | M20: 0
A21: 7 | E21: 0 | M21: 0
A22: 8 | E22: 0 | M22: 0
A23: 9 | E23: 0 | M23: 0
A24: 10 | E24: 0 | M24: 0
A25: 11 | E25: 0 | M25: 0
A26: 12 | E26: 0 | M26: 0
... A38: 24 | E38: 0 | M38: 0
A39: Итого | E39: =SUM(E15:E38) -> 0 | I39: =SUM(I15:I38) -> 0 | M39: =SUM(M15:M38) -> 0 | Q39: =SUM(Q15:Q38) -> 0
A40: 1. При наличии на предприятии отклонений от нормальных режимов электропотребления (временное изменение схем питания, остановка на ремонт, резкое снижение
A41: эл.потребления и т.д.) последние необходимо перечислить.
A42: Главный инженер АО "Вологдаоблэнерго" А.В. Чурляев
A43: составляется самим предприятием с соблюдением всех пунктов настоящей таблицы.

Sheet 39
B1: АО "Вологдаоблэнерго" | J1: код 900151 | N1: ПС Ирдоматка, ф. Ирдоматка-1
B2: наименование предприятия | N2: наименование источника питания
N3: КТП-400 Дачи "Пулово Борисово"
B4: ул. Горького, 99 | I4: Таблица № 1
B5: адрес
A6: почасовых записей показаний электрических счетчиков
A7: в режимный день 15 ИЮНЯ 2022 г.
A8: 1630 | B8: 1628
A9: часы суток | B9: Активная энергия | J9: Реактивная энергия
B10: =N3 -> КТП-400 Дачи "Пулово Борисово" | F10: =N4 -> 0 | J10: =B10 -> КТП-400 Дачи "Пулово Борисово" | N10: =F10 -> 0
B11: Расчет. Коэф. | E11: 60 | F11: Расчет. Коэф. | I11: 120 | J11: Расчет. Коэф. | M11: =E11 -> 60 | N11: Расчет. Коэф. | Q11: =I11 -> 120
B12: показания счетчика | C12: разность | E12: расход эл.энергии за час | F12: показания счетчика | G12: разность | I12: расход эл.энергии за час | J12: показания счетчика | K12: разность | M12: расход эл.энергии за час | N12: показания счетчика | O12: разность | Q12: расход эл.энергии за час
A13: 1 | B13: 2 | C13: 3 | E13: 4 | F13: 5 | G13: 6 | I13: 7 | J13: 8 | K13: 9 | M13: 10 | N13: 11 | O13: 12 | Q13: 13
A14: 0
A15: 1 | E15: 0 | M15: 0
A16: 2 | E16: 0 | M16: 0
A17: 3 | E17: 0 | M17: 0
A18: 4 | E18: 0 | M18: 0
A19: 5 | E19: 0 | M19: 0
A20: 6 | E20: 0 | M20: 0
A21: 7 | E21: 0 | M21: 0
A22: 8 | E22: 0 | M22: 0
A23: 9 | E23: 0 | M23: 0
A24: 10 | E24: 0 | M24: 0
A25: 11 | E25: 0 | M25: 0
A26: 12 | E26: 0 | M26: 0
... A38: 24 | E38: 0 | M38: 0
A39: Итого | E39: =SUM(E15:E38) -> 0 | I39: =SUM(I15:I38) -> 0 | M39: =SUM(M15:M38) -> 0 | Q39: =SUM(Q15:Q38) -> 0
A40: 1. При наличии на предприятии отклонений от нормальных режимов электропотребления (временное изменение схем питания, остановка на ремонт, резкое снижение
A41: эл.потребления и т.д.) последние необходимо перечислить.
A42: Главный инженер АО "Вологдаоблэнерго" А.В. Чурляев
A43: составляется самим предприятием с соблюдением всех пунктов настоящей таблицы.

Sheet 40
B1: АО "Вологдаоблэнерго" | J1: код 900151 | N1: ПС Абакаеово ф. Осеевская
B2: наименование предприятия | N2: наименование источника питания
N3: ТП-Лесопильных цех (д.Заручьевье)
B4: ул. Горького, 99 | I4: Таблица № 1
B5: адрес
A6: почасовых записей показаний электрических счетчиков
A7: в режимный день 15 ИЮНЯ 2022 г.
A8: 1630 | B8: 1628
A9: часы суток | B9: Активная энергия | J9: Реактивная энергия
B10: =N3 -> ТП-Лесопильных цех (д.Заручьевье) | F10: =N4 -> 0 | J10: =B10 -> ТП-Лесопильных цех (д.Заручьевье) | N10: =F10 -> 0
B11: Расчет. Коэф. | E11: 30 | F11: Расчет. Коэф. | I11: 120 | J11: Расчет. Коэф. | M11: =E11 -> 30 | N11: Расчет. Коэф. | Q11: =I11 -> 120
B12: показания счетчика | C12: разность | E12: расход эл.энергии за час | F12: показания счетчика | G12: разность | I12: расход эл.энергии за час | J12: показания счетчика | K12: разность | M12: расход эл.энергии за час | N12: показания счетчика | O12: разность | Q12: расход эл.энергии за час
A13: 1 | B13: 2 | C13: 3 | E13: 4 | F13: 5 | G13: 6 | I13: 7 | J13: 8 | K13: 9 | M13: 10 | N13: 11 | O13: 12 | Q13: 13
A14: 0
A15: 1 | E15: 0.195 | M15: 0
A16: 2 | E16: 0.165 | M16: 0
A17: 3 | E17: 0.165 | M17: 0
A18: 4 | E18: 0.15 | M18: 0
A19: 5 | E19: 0.15 | M19: 0
A20: 6 | E20: 0.51 | M20: 0
A21: 7 | E21: 1.425 | M21: 0
A22: 8 | E22: 11.325 | M22: 0
A23: 9 | E23: 12.285 | M23: 0
A24: 10 | E24: 9.765 | M24: 0
A25: 11 | E25: 11.52 | M25: 0
A26: 12 | E26: 9.885 | M26: 0
... A38: 24 | E38: 0.435 | M38: 0
A39: Итого | E39: =SUM(E15:E38) -> 97.05 | I39: =SUM(I15:I38) -> 0 | M39: =SUM(M15:M38) -> 0 | Q39: =SUM(Q15:Q38) -> 0
A40: 1. При наличии на предприятии отклонений от нормальных режимов электропотребления (временное изменение схем питания, остановка на ремонт, резкое снижение
A41: эл.потребления и т.д.) последние необходимо перечислить.
A42: Главный инженер АО "Вологдаоблэнерго" А.В. Чурляев
A43: составляется самим предприятием с соблюдением всех пунктов настоящей таблицы.

Sheet 41
B1: АО "Вологдаоблэнерго" | J1: код 900151 | N1: ПС Новые Углы ф. Кораблево
B2: наименование предприятия | N2: наименование источника питания
N3: ТП-3 Общежитие В-1
B4: ул. Горького, 99 | I4: Таблица № 1 | N4: ТП-3 Общежитие В-2
B5: адрес
A6: почасовых записей показаний электрических счетчиков
A7: в режимный день 15 ИЮНЯ 2022 г.
A8: 1630 | B8: 1628
A9: часы суток | B9: Активная энергия | J9: Реактивная энергия
B10: =N3 -> ТП-3 Общежитие В-1 | F10: =N4 -> ТП-3 Общежитие В-2 | J10: =B10 -> ТП-3 Общежитие В-1 | N10: =F10 -> ТП-3 Общежитие В-2
B11: Расчет. Коэф. | E11: 60 | F11: Расчет. Коэф. | I11: 60 | J11: Расчет. Коэф. | M11: =E11 -> 60 | N11: Расчет. Коэф. | Q11: =I11 -> 60
B12: показания счетчика | C12: разность | E12: расход эл.энергии за час | F12: показания счетчика | G12: разность | I12: расход эл.энергии за час | J12: показания счетчика | K12: разность | M12: расход эл.энергии за час | N12: показания счетчика | O12: разность | Q12: расход эл.энергии за час
A13: 1 | B13: 2 | C13: 3 | E13: 4 | F13: 5 | G13: 6 | I13: 7 | J13: 8 | K13: 9 | M13: 10 | N13: 11 | O13: 12 | Q13: 13
A14: 0
A15: 1 | E15: 0 | I15: 12.492 | M15: 0 | Q15: 0
A16: 2 | E16: 0 | I16: 10.392 | M16: 0 | Q16: 0
A17: 3 | E17: 0 | I17: 9.624 | M17: 0 | Q17: 0
A18: 4 | E18: 0 | I18: 9.672 | M18: 0 | Q18: 0
A19: 5 | E19: 0 | I19: 9.192 | M19: 0 | Q19: 0
A20: 6 | E20: 0 | I20: 10.776 | M20: 0 | Q20: 0
A21: 7 | E21: 0 | I21: 16.812 | M21: 0 | Q21: 0
A22: 8 | E22: 0 | I22: 19.128 | M22: 0 | Q22: 0
A23: 9 | E23: 0 | I23: 19.44 | M23: 0 | Q23: 0
A24: 10 | E24: 0 | I24: 17.04 | M24: 0 | Q24: 0
A25: 11 | E25: 0 | I25: 20.088 | M25: 0 | Q25: 0
A26: 12 | E26: 0 | I26: 18.108 | M26: 0 | Q26: 0
... A38: 24 | E38: 0 | I38: 16.668 | M38: 0 | Q38: 0
A39: Итого | E39: =SUM(E15:E38) -> 0 | I39: =SUM(I15:I38) -> 431.616 | M39: =SUM(M15:M38) -> 0 | Q39: =SUM(Q15:Q38) -> 0
A40: 1. При наличии на предприятии отклонений от нормальных режимов электропотребления (временное изменение схем питания, остановка на ремонт, резкое снижение
A41: эл.потребления и т.д.) последние необходимо перечислить.
A42: Главный инженер АО "Вологдаоблэнерго" А.В. Чурляев
A43: составляется самим предприятием с соблюдением всех пунктов настоящей таблицы.

Sheet 42
B1: АО "Вологдаоблэнерго" | J1: код 900151 | N1: ПС Новые Углы ф. Кораблево
B2: наименование предприятия | N2: наименование источника питания
N3: ТП-2 Училище В-1
B4: ул. Горького, 99 | I4: Таблица № 1 | N4: ТП-2 Училище В-2
B5: адрес
A6: почасовых записей показаний электрических счетчиков
A7: в режимный день 15 ИЮНЯ 2022 г.
A8: 1630 | B8: 1628
A9: часы суток | B9: Активная энергия | J9: Реактивная энергия
B10: =N3 -> ТП-2 Училище В-1 | F10: =N4 -> ТП-2 Училище В-2 | J10: =B10 -> ТП-2 Училище В-1 | N10: =F10 -> ТП-2 Училище В-2
B11: Расчет. Коэф. | E11: 80 | F11: Расчет. Коэф. | I11: 80 | J11: Расчет. Коэф. | M11: =E11 -> 80 | N11: Расчет. Коэф. | Q11: =I11 -> 80
B12: показания счетчика | C12: разность | E12: расход эл.энергии за час | F12: показания счетчика | G12: разность | I12: расход эл.энергии за час | J12: показания счетчика | K12: разность | M12: расход эл.энергии за час | N12: показания счетчика | O12: разность | Q12: расход эл.энергии за час
A13: 1 | B13: 2 | C13: 3 | E13: 4 | F13: 5 | G13: 6 | I13: 7 | J13: 8 | K13: 9 | M13: 10 | N13: 11 | O13: 12 | Q13: 13
A14: 0
A15: 1 | E15: 27.392 | I15: 6.752 | M15: 0 | Q15: 0
A16: 2 | E16: 27.392 | I16: 6.192 | M16: 0 | Q16: 0
A17: 3 | E17: 27.584 | I17: 6.464 | M17: 0 | Q17: 0
A18: 4 | E18: 27.136 | I18: 7.248 | M18: 0 | Q18: 0
A19: 5 | E19: 26.96 | I19: 4.608 | M19: 0 | Q19: 0
A20: 6 | E20: 36.192 | I20: 3.104 | M20: 0 | Q20: 0
A21: 7 | E21: 38.384 | I21: 3.184 | M21: 0 | Q21: 0
A22: 8 | E22: 39.472 | I22: 4.704 | M22: 0 | Q22: 0
A23: 9 | E23: 38.224 | I23: 5.904 | M23: 0 | Q23: 0
A24: 10 | E24: 39.664 | I24: 8.192 | M24: 0 | Q24: 0
A25: 11 | E25: 39.392 | I25: 8.944 | M25: 0 | Q25: 0
A26: 12 | E26: 39.296 | I26: 7.28 | M26: 0 | Q26: 0
... A38: 24 | E38: 27.952 | I38: 6.272 | M38: 0 | Q38: 0
A39: Итого | E39: =SUM(E15:E38) -> 779.664 | I39: =SUM(I15:I38) -> 148.352 | M39: =SUM(M15:M38) -> 0 | Q39: =SUM(Q15:Q38) -> 0
A40: 1. При наличии на предприятии отклонений от нормальных режимов электропотребления (временное изменение схем питания, остановка на ремонт, резкое снижение
A41: эл.потребления и т.д.) последние необходимо перечислить.
A42: Главный инженер АО "Вологдаоблэнерго" А.В. Чурляев
A43: составляется самим предприятием с соблюдением всех пунктов настоящей таблицы.

Sheet 43
B1: АО "Вологдаоблэнерго" | J1: код 900151 | N1: ПС Новые Углы ф. Кораблево
B2: наименование предприятия | N2: наименование источника питания
N3: ТП-222 В-1
B4: ул. Горького, 99 | I4: Таблица № 1 | N4: ТП-222 В-2
B5: адрес
A6: почасовых записей показаний электрических счетчиков
A7: в режимный день 15 ИЮНЯ 2022 г.
A8: 1630 | B8: 1628
A9: часы суток | B9: Активная энергия | J9: Реактивная энергия
B10: =N3 -> ТП-222 В-1 | F10: =N4 -> ТП-222 В-2 | J10: =B10 -> ТП-222 В-1 | N10: =F10 -> ТП-222 В-2
B11: Расчет. Коэф. | E11: 120 | F11: Расчет. Коэф. | I11: 120 | J11: Расчет. Коэф. | M11: =E11 -> 120 | N11: Расчет. Коэф. | Q11: =I11 -> 120
B12: показания счетчика | C12: разность | E12: расход эл.энергии за час | F12: показания счетчика | G12: разность | I12: расход эл.энергии за час | J12: показания счетчика | K12: разность | M12: расход эл.энергии за час | N12: показания счетчика | O12: разность | Q12: расход эл.энергии за час
A13: 1 | B13: 2 | C13: 3 | E13: 4 | F13: 5 | G13: 6 | I13: 7 | J13: 8 | K13: 9 | M13: 10 | N13: 11 | O13: 12 | Q13: 13
A14: 0
A15: 1 | E15: 6.24 | I15: 23.52 | M15: 0 | Q15: 0
A16: 2 | E16: 5.64 | I16: 23.04 | M16: 0 | Q16: 0
A17: 3 | E17: 5.4 | I17: 21.84 | M17: 0 | Q17: 0
A18: 4 | E18: 5.04 | I18: 21.84 | M18: 0 | Q18: 0
A19: 5 | E19: 6.72 | I19: 21.36 | M19: 0 | Q19: 0
A20: 6 | E20: 16.08 | I20: 24.6 | M20: 0 | Q20: 0
A21: 7 | E21: 15.36 | I21: 28.68 | M21: 0 | Q21: 0
A22: 8 | E22: 15 | I22: 30.6 | M22: 0 | Q22: 0
A23: 9 | E23: 18.12 | I23: 36.12 | M23: 0 | Q23: 0
A24: 10 | E24: 15.48 | I24: 34.56 | M24: 0 | Q24: 0
A25: 11 | E25: 12.72 | I25: 30.96 | M25: 0 | Q25: 0
A26: 12 | E26: 11.88 | I26: 31.2 | M26: 0 | Q26: 0
... A38: 24 | E38: 9.6 | I38: 32.4 | M38: 0 | Q38: 0
A39: Итого | E39: =SUM(E15:E38) -> 259.8 | I39: =SUM(I15:I38) -> 806.04 | M39: =SUM(M15:M38) -> 0 | Q39: =SUM(Q15:Q38) -> 0
A40: 1. При наличии на предприятии отклонений от нормальных режимов электропотребления (временное изменение схем питания, остановка на ремонт, резкое снижение
A41: эл.потребления и т.д.) последние необходимо перечислить.
A42: Главный инженер АО "Вологдаоблэнерго" А.В. Чурляев
A43: составляется самим предприятием с соблюдением всех пунктов настоящей таблицы.

Sheet 44
B1: АО "Вологдаоблэнерго" | J1: код 900151 | N1: ПС Новые Углы ф. Кораблево
B2: наименование предприятия | N2: наименование источника питания
N3: ТП-Шухободь Жилзона В-1
B4: ул. Горького, 99 | I4: Таблица № 1 | N4: ТП-Шухободь Жилзона В-2
B5: адрес
A6: почасовых записей показаний электрических счетчиков
A7: в режимный день 15 ИЮНЯ 2022 г.
A8: 1630 | B8: 1628
A9: часы суток | B9: Активная энергия | J9: Реактивная энергия
B10: =N3 -> ТП-Шухободь Жилзона В-1 | F10: =N4 -> ТП-Шухободь Жилзона В-2 | J10: =B10 -> ТП-Шухободь Жилзона В-1 | N10: =F10 -> ТП-Шухободь Жилзона В-2
B11: Расчет. Коэф. | E11: 80 | F11: Расчет. Коэф. | I11: 80 | J11: Расчет. Коэф. | M11: =E11 -> 80 | N11: Расчет. Коэф. | Q11: =I11 -> 80
B12: показания счетчика | C12: разность | E12: расход эл.энергии за час | F12: показания счетчика | G12: разность | I12: расход эл.энергии за час | J12: показания счетчика | K12: разность | M12: расход эл.энергии за час | N12: показания счетчика | O12: разность | Q12: расход эл.энергии за час
A13: 1 | B13: 2 | C13: 3 | E13: 4 | F13: 5 | G13: 6 | I13: 7 | J13: 8 | K13: 9 | M13: 10 | N13: 11 | O13: 12 | Q13: 13
A14: 0
A15: 1 | E15: 29.6 | I15: 33.28 | M15: 0 | Q15: 0
A16: 2 | E16: 26.32 | I16: 30.96 | M16: 0 | Q16: 0
A17: 3 | E17: 24.56 | I17: 28.16 | M17: 0 | Q17: 0
A18: 4 | E18: 24.08 | I18: 28.56 | M18: 0 | Q18: 0
A19: 5 | E19: 24.24 | I19: 28.08 | M19: 0 | Q19: 0
A20: 6 | E20: 23.92 | I20: 33.52 | M20: 0 | Q20: 0
A21: 7 | E21: 27.76 | I21: 36.4 | M21: 0 | Q21: 0
A22: 8 | E22: 37.04 | I22: 41.68 | M22: 0 | Q22: 0
A23: 9 | E23: 39.2 | I23: 54.56 | M23: 0 | Q23: 0
A24: 10 | E24: 43.44 | I24: 41.76 | M24: 0 | Q24: 0
A25: 11 | E25: 42.88 | I25: 44.8 | M25: 0 | Q25: 0
A26: 12 | E26: 42.56 | I26: 44.88 | M26: 0 | Q26: 0
... A38: 24 | E38: 37.28 | I38: 41.12 | M38: 0 | Q38: 0
A39: Итого | E39: =SUM(E15:E38) -> 911.76 | I39: =SUM(I15:I38) -> 1032.72 | M39: =SUM(M15:M38) -> 0 | Q39: =SUM(Q15:Q38) -> 0
A40: 1. При наличии на предприятии отклонений от нормальных режимов электропотребления (временное изменение схем питания, остановка на ремонт, резкое снижение
A41: эл.потребления и т.д.) последние необходимо перечислить.
A42: Главный инженер АО "Вологдаоблэнерго" А.В. Чурляев
A43: составляется самим предприятием с соблюдением всех пунктов настоящей таблицы.

Sheet 45
B1: АО "Вологдаоблэнерго" | J1: код 900151 | N1: ПС Новые Углы ф. Кораблево
B2: наименование предприятия | N2: наименование источника питания
N3: ТП-К-с Шухободь В-1
B4: ул. Горького, 99 | I4: Таблица № 1 | N4: ТП-К-с Шухободь В-2
B5: адрес
A6: почасовых записей показаний электрических счетчиков
A7: в режимный день 15 ИЮНЯ 2022 г.
A8: 1630 | B8: 1628
A9: часы суток | B9: Активная энергия | J9: Реактивная энергия
B10: =N3 -> ТП-К-с Шухободь В-1 | F10: =N4 -> ТП-К-с Шухободь В-2 | J10: =B10 -> ТП-К-с Шухободь В-1 | N10: =F10 -> ТП-К-с Шухободь В-2
B11: Расчет. Коэф. | E11: 120 | F11: Расчет. Коэф. | I11: 120 | J11: Расчет. Коэф. | M11: =E11 -> 120 | N11: Расчет. Коэф. | Q11: =I11 -> 120
B12: показания счетчика | C12: разность | E12: расход эл.энергии за час | F12: показания счетчика | G12: разность | I12: расход эл.энергии за час | J12: показания счетчика | K12: разность | M12: расход эл.энергии за час | N12: показания счетчика | O12: разность | Q12: расход эл.энергии за час
A13: 1 | B13: 2 | C13: 3 | E13: 4 | F13: 5 | G13: 6 | I13: 7 | J13: 8 | K13: 9 | M13: 10 | N13: 11 | O13: 12 | Q13: 13
A14: 0
A15: 1 | E15: 0 | I15: 0 | M15: 0 | Q15: 0
A16: 2 | E16: 0 | I16: 0 | M16: 0 | Q16: 0
A17: 3 | E17: 0 | I17: 0 | M17: 0 | Q17: 0
A18: 4 | E18: 0 | I18: 0 | M18: 0 | Q18: 0
A19: 5 | E19: 0 | I19: 0 | M19: 0 | Q19: 0
A20: 6 | E20: 0 | I20: 0 | M20: 0 | Q20: 0
A21: 7 | E21: 0 | I21: 0 | M21: 0 | Q21: 0
A22: 8 | E22: 0 | I22: 0 | M22: 0 | Q22: 0
A23: 9 | E23: 0 | I23: 0 | M23: 0 | Q23: 0
A24: 10 | E24: 0 | I24: 0 | M24: 0 | Q24: 0
A25: 11 | E25: 0 | I25: 0 | M25: 0 | Q25: 0
A26: 12 | E26: 0 | I26: 0 | M26: 0 | Q26: 0
... A38: 24 | E38: 0 | I38: 0 | M38: 0 | Q38: 0
A39: Итого | E39: =SUM(E15:E38) -> 0 | I39: =SUM(I15:I38) -> 0 | M39: =SUM(M15:M38) -> 0 | Q39: =SUM(Q15:Q38) -> 0
A40: 1. При наличии на предприятии отклонений от нормальных режимов электропотребления (временное изменение схем питания, остановка на ремонт, резкое снижение
A41: эл.потребления и т.д.) последние необходимо перечислить.
A42: Главный инженер АО "Вологдаоблэнерго" А.В. Чурляев
A43: составляется самим предприятием с соблюдением всех пунктов настоящей таблицы.

Sheet 46
B1: АО "Вологдаоблэнерго" | J1: код 900151 | N1: ПС Абаканово, ф. Алексино
B2: наименование предприятия | N2: наименование источника питания
N3: ТП-Поселок (3,4 этажные дома)
B4: ул. Горького, 99 | I4: Таблица № 1 | N4: ТП-211
B5: адрес
A6: почасовых записей показаний электрических счетчиков
A7: в режимный день 15 ИЮНЯ 2022 г.
A8: 1630 | B8: 1628
A9: часы суток | B9: Активная энергия | J9: Реактивная энергия
B10: =N3 -> ТП-Поселок (3,4 этажные дома) | F10: =N4 -> ТП-211 | J10: =B10 -> ТП-Поселок (3,4 этажные дома) | N10: =F10 -> ТП-211
B11: Расчет. Коэф. | E11: 50 | F11: Расчет. Коэф. | I11: 80 | J11: Расчет. Коэф. | M11: =E11 -> 50 | N11: Расчет. Коэф. | Q11: =I11 -> 80
B12: показания счетчика | C12: разность | E12: расход эл.энергии за час | F12: показания счетчика | G12: разность | I12: расход эл.энергии за час | J12: показания счетчика | K12: разность | M12: расход эл.энергии за час | N12: показания счетчика | O12: разность | Q12: расход эл.энергии за час
A13: 1 | B13: 2 | C13: 3 | E13: 4 | F13: 5 | G13: 6 | I13: 7 | J13: 8 | K13: 9 | M13: 10 | N13: 11 | O13: 12 | Q13: 13
A14: 0
A15: 1 | E15: 40.7 | I15: 1.6 | M15: 0 | Q15: 0
A16: 2 | E16: 37.15 | I16: 0.96 | M16: 0 | Q16: 0
A17: 3 | E17: 35.9 | I17: 1.32 | M17: 0 | Q17: 0
A18: 4 | E18: 37.25 | I18: 1.2 | M18: 0 | Q18: 0
A19: 5 | E19: 38.45 | I19: 0.76 | M19: 0 | Q19: 0
A20: 6 | E20: 47 | I20: 3.8 | M20: 0 | Q20: 0
A21: 7 | E21: 47.5 | I21: 23.4 | M21: 0 | Q21: 0
A22: 8 | E22: 50.85 | I22: 22 | M22: 0 | Q22: 0
A23: 9 | E23: 59.75 | I23: 26.24 | M23: 0 | Q23: 0
A24: 10 | E24: 61.7 | I24: 29.68 | M24: 0 | Q24: 0
A25: 11 | E25: 58.45 | I25: 14.52 | M25: 0 | Q25: 0
A26: 12 | E26: 58.75 | I26: 13.72 | M26: 0 | Q26: 0
... A38: 24 | E38: 45.05 | I38: 1.08 | M38: 0 | Q38: 0
A39: Итого | E39: =SUM(E15:E38) -> 1328.5 | I39: =SUM(I15:I38) -> 193.72 | M39: =SUM(M15:M38) -> 0 | Q39: =SUM(Q15:Q38) -> 0
A40: 1. При наличии на предприятии отклонений от нормальных режимов электропотребления (временное изменение схем питания, остановка на ремонт, резкое снижение
A41: эл.потребления и т.д.) последние необходимо перечислить.
A42: Главный инженер АО "Вологдаоблэнерго" А.В. Чурляев
A43: составляется самим предприятием с соблюдением всех пунктов настоящей таблицы.

Sheet 47
B1: АО "Вологдаоблэнерго" | J1: код 900151 | N1: ПС Абаканово, ф. Алексино
B2: наименование предприятия | N2: наименование источника питания
N3: КТП "Мастерские" с. Абаканово
B4: ул. Горького, 99 | I4: Таблица № 1 | N4: ТП-242
B5: адрес
A6: почасовых записей показаний электрических счетчиков
A7: в режимный день 15 ИЮНЯ 2022 г.
A8: 1630 | B8: 1628
A9: часы суток | B9: Активная энергия | J9: Реактивная энергия
B10: =N3 -> КТП "Мастерские" с. Абаканово | F10: =N4 -> ТП-242 | J10: =B10 -> КТП "Мастерские" с. Абаканово | N10: =F10 -> ТП-242
B11: Расчет. Коэф. | E11: 40 | F11: Расчет. Коэф. | I11: 30 | J11: Расчет. Коэф. | M11: =E11 -> 40 | N11: Расчет. Коэф. | Q11: =I11 -> 30
B12: показания счетчика | C12: разность | E12: расход эл.энергии за час | F12: показания счетчика | G12: разность | I12: расход эл.энергии за час | J12: показания счетчика | K12: разность | M12: расход эл.энергии за час | N12: показания счетчика | O12: разность | Q12: расход эл.энергии за час
A13: 1 | B13: 2 | C13: 3 | E13: 4 | F13: 5 | G13: 6 | I13: 7 | J13: 8 | K13: 9 | M13: 10 | N13: 11 | O13: 12 | Q13: 13
A14: 0
A15: 1 | E15: 0 | I15: 1.125 | M15: 0 | Q15: 0
A16: 2 | E16: 0 | I16: 1.035 | M16: 0 | Q16: 0
A17: 3 | E17: 0 | I17: 0.945 | M17: 0 | Q17: 0
A18: 4 | E18: 0 | I18: 1.065 | M18: 0 | Q18: 0
A19: 5 | E19: 0 | I19: 1.035 | M19: 0 | Q19: 0
A20: 6 | E20: 0 | I20: 1.425 | M20: 0 | Q20: 0
A21: 7 | E21: 0 | I21: 1.05 | M21: 0 | Q21: 0
A22: 8 | E22: 0 | I22: 0.855 | M22: 0 | Q22: 0
A23: 9 | E23: 0 | I23: 1.08 | M23: 0 | Q23: 0
A24: 10 | E24: 0 | I24: 1.395 | M24: 0 | Q24: 0
A25: 11 | E25: 0 | I25: 2.325 | M25: 0 | Q25: 0
A26: 12 | E26: 0 | I26: 1.68 | M26: 0 | Q26: 0
... A38: 24 | E38: 0 | I38: 1.425 | M38: 0 | Q38: 0
A39: Итого | E39: =SUM(E15:E38) -> 0 | I39: =SUM(I15:I38) -> 37.95 | M39: =SUM(M15:M38) -> 0 | Q39: =SUM(Q15:Q38) -> 0
A40: 1. При наличии на предприятии отклонений от нормальных режимов электропотребления (временное изменение схем питания, остановка на ремонт, резкое снижение
A41: эл.потребления и т.д.) последние необходимо перечислить.
A42: Главный инженер АО "Вологдаоблэнерго" А.В. Чурляев
A43: составляется самим предприятием с соблюдением всех пунктов настоящей таблицы.

Sheet 48
B1: АО "Вологдаоблэнерго" | J1: код 900151 | N1: ПС Абаканово, ф. Слабеево
B2: наименование предприятия | N2: наименование источника питания
N3: ТП-249
B4: ул. Горького, 99 | I4: Таблица № 1
B5: адрес
A6: почасовых записей показаний электрических счетчиков
A7: в режимный день 15 ИЮНЯ 2022 г.
A8: 1630 | B8: 1628
A9: часы суток | B9: Активная энергия | J9: Реактивная энергия
B10: =N3 -> ТП-249 | F10: =N4 -> 0 | J10: =B10 -> ТП-249 | N10: =F10 -> 0
B11: Расчет. Коэф. | E11: 1 | F11: Расчет. Коэф. | I11: 120 | J11: Расчет. Коэф. | M11: =E11 -> 1 | N11: Расчет. Коэф. | Q11: =I11 -> 120
B12: показания счетчика | C12: разность | E12: расход эл.энергии за час | F12: показания счетчика | G12: разность | I12: расход эл.энергии за час | J12: показания счетчика | K12: разность | M12: расход эл.энергии за час | N12: показания счетчика | O12: разность | Q12: расход эл.энергии за час
A13: 1 | B13: 2 | C13: 3 | E13: 4 | F13: 5 | G13: 6 | I13: 7 | J13: 8 | K13: 9 | M13: 10 | N13: 11 | O13: 12 | Q13: 13
A14: 0
A15: 1 | E15: 0 | M15: 0
A16: 2 | E16: 0 | M16: 0
A17: 3 | E17: 0 | M17: 0
A18: 4 | E18: 0 | M18: 0
A19: 5 | E19: 0 | M19: 0
A20: 6 | E20: 0 | M20: 0
A21: 7 | E21: 0 | M21: 0
A22: 8 | E22: 0 | M22: 0
A23: 9 | E23: 0 | M23: 0
A24: 10 | E24: 0 | M24: 0
A25: 11 | E25: 0 | M25: 0
A26: 12 | E26: 0 | M26: 0
... A38: 24 | E38: 0 | M38: 0
A39: Итого | E39: =SUM(E15:E38) -> 0 | I39: =SUM(I15:I38) -> 0 | M39: =SUM(M15:M38) -> 0 | Q39: =SUM(Q15:Q38) -> 0
A40: 1. При наличии на предприятии отклонений от нормальных режимов электропотребления (временное изменение схем питания, остановка на ремонт, резкое снижение
A41: эл.потребления и т.д.) последние необходимо перечислить.
A42: Главный инженер АО "Вологдаоблэнерго" А.В. Чурляев
A43: составляется самим предприятием с соблюдением всех пунктов настоящей таблицы.

Sheet 49
B1: АО "Вологдаоблэнерго" | J1: код 900151 | N1: ПС Поповка, ф. Привалино
B2: наименование предприятия | N2: наименование источника питания
N3: КТП-Погорелка
B4: ул. Горького, 99 | I4: Таблица № 1 | N4: КТП-Хлебаево
B5: адрес
A6: почасовых записей показаний электрических счетчиков
A7: в режимный день 15 ИЮНЯ 2022 г.
A8: 1630 | B8: 1628
A9: часы суток | B9: Активная энергия | J9: Реактивная энергия
B10: =N3 -> КТП-Погорелка | F10: =N4 -> КТП-Хлебаево | J10: =B10 -> КТП-Погорелка | N10: =F10 -> КТП-Хлебаево
B11: Расчет. Коэф. | E11: 30 | F11: Расчет. Коэф. | I11: 30 | J11: Расчет. Коэф. | M11: =E11 -> 30 | N11: Расчет. Коэф. | Q11: =I11 -> 30
B12: показания счетчика | C12: разность | E12: расход эл.энергии за час | F12: показания счетчика | G12: разность | I12: расход эл.энергии за час | J12: показания счетчика | K12: разность | M12: расход эл.энергии за час | N12: показания счетчика | O12: разность | Q12: расход эл.энергии за час
A13: 1 | B13: 2 | C13: 3 | E13: 4 | F13: 5 | G13: 6 | I13: 7 | J13: 8 | K13: 9 | M13: 10 | N13: 11 | O13: 12 | Q13: 13
A14: 0
A15: 1 | E15: 0.24 | I15: 0 | M15: 0 | Q15: 0
A16: 2 | E16: 0.84 | I16: 0 | M16: 0 | Q16: 0
A17: 3 | E17: 0.84 | I17: 0 | M17: 0 | Q17: 0
A18: 4 | E18: 0.9 | I18: 0 | M18: 0 | Q18: 0
A19: 5 | E19: 0.84 | I19: 0 | M19: 0 | Q19: 0
A20: 6 | E20: 0.84 | I20: 0 | M20: 0 | Q20: 0
A21: 7 | E21: 0.84 | I21: 0 | M21: 0 | Q21: 0
A22: 8 | E22: 1.74 | I22: 0 | M22: 0 | Q22: 0
A23: 9 | E23: 3.9 | I23: 0 | M23: 0 | Q23: 0
A24: 10 | E24: 6.6 | I24: 0 | M24: 0 | Q24: 0
A25: 11 | E25: 6.9 | I25: 0 | M25: 0 | Q25: 0
A26: 12 | E26: 6.9 | I26: 0 | M26: 0 | Q26: 0
... A38: 24 | E38: 2.04 | I38: 0 | M38: 0 | Q38: 0
A39: Итого | E39: =SUM(E15:E38) -> 80.04 | I39: =SUM(I15:I38) -> 0 | M39: =SUM(M15:M38) -> 0 | Q39: =SUM(Q15:Q38) -> 0
A40: 1. При наличии на предприятии отклонений от нормальных режимов электропотребления (временное изменение схем питания, остановка на ремонт, резкое снижение
A41: эл.потребления и т.д.) последние необходимо перечислить.
A42: Главный инженер АО "Вологдаоблэнерго" А.В. Чурляев
A43: составляется самим предприятием с соблюдением всех пунктов настоящей таблицы.

Sheet 50
B1: АО "Вологдаоблэнерго" | J1: код 900151 | N1: ПС Поповка, ф. Привалино
B2: наименование предприятия | N2: наименование источника питания
N3: ТП-226
B4: ул. Горького, 99 | I4: Таблица № 1 | N4: ТП-257
B5: адрес
A6: почасовых записей показаний электрических счетчиков
A7: в режимный день 15 ИЮНЯ 2022 г.
A8: 1630 | B8: 1628
A9: часы суток | B9: Активная энергия | J9: Реактивная энергия
B10: =N3 -> ТП-226 | F10: =N4 -> ТП-257 | J10: =B10 -> ТП-226 | N10: =F10 -> ТП-257
B11: Расчет. Коэф. | E11: 30 | F11: Расчет. Коэф. | I11: 30 | J11: Расчет. Коэф. | M11: =E11 -> 30 | N11: Расчет. Коэф. | Q11: =I11 -> 30
B12: показания счетчика | C12: разность | E12: расход эл.энергии за час | F12: показания счетчика | G12: разность | I12: расход эл.энергии за час | J12: показания счетчика | K12: разность | M12: расход эл.энергии за час | N12: показания счетчика | O12: разность | Q12: расход эл.энергии за час
A13: 1 | B13: 2 | C13: 3 | E13: 4 | F13: 5 | G13: 6 | I13: 7 | J13: 8 | K13: 9 | M13: 10 | N13: 11 | O13: 12 | Q13: 13
A14: 0
A15: 1 | E15: 1.185 | I15: 0.65 | M15: 0 | Q15: 0
A16: 2 | E16: 1.68 | I16: 1.1 | M16: 0 | Q16: 0
A17: 3 | E17: 0.99 | I17: 0.82 | M17: 0 | Q17: 0
A18: 4 | E18: 2.655 | I18: 0.68 | M18: 0 | Q18: 0
A19: 5 | E19: 3 | I19: 0.68 | M19: 0 | Q19: 0
A20: 6 | E20: 2.67 | I20: 1.36 | M20: 0 | Q20: 0
A21: 7 | E21: 1.935 | I21: 0.48 | M21: 0 | Q21: 0
A22: 8 | E22: 1.665 | I22: 0.53 | M22: 0 | Q22: 0
A23: 9 | E23: 2.73 | I23: 0.55 | M23: 0 | Q23: 0
A24: 10 | E24: 2.16 | I24: 0.6 | M24: 0 | Q24: 0
A25: 11 | E25: 2.085 | I25: 0.55 | M25: 0 | Q25: 0
A26: 12 | E26: 1.215 | I26: 0.65 | M26: 0 | Q26: 0
... A38: 24 | E38: 4.245 | I38: 0.41 | M38: 0 | Q38: 0
A39: Итого | E39: =SUM(E15:E38) -> 66.9 | I39: =SUM(I15:I38) -> 13.52 | M39: =SUM(M15:M38) -> 0 | Q39: =SUM(Q15:Q38) -> 0
A40: 1. При наличии на предприятии отклонений от нормальных режимов электропотребления (временное изменение схем питания, остановка на ремонт, резкое снижение
A41: эл.потребления и т.д.) последние необходимо перечислить.
A42: Главный инженер АО "Вологдаоблэнерго" А.В. Чурляев
A43: составляется самим предприятием с соблюдением всех пунктов настоящей таблицы.

Sheet 51
B1: АО "Вологдаоблэнерго" | J1: код 900151 | N1: ПС Абаканово ф. Покров
B2: наименование предприятия | N2: наименование источника питания
N3: КТП Шухтовское Лесничество
B4: ул. Горького, 99 | I4: Таблица № 1
B5: адрес
A6: почасовых записей показаний электрических счетчиков
A7: в режимный день 15 ИЮНЯ 2022 г.
A8: 1630 | B8: 1628
A9: часы суток | B9: Активная энергия | J9: Реактивная энергия
B10: =N3 -> КТП Шухтовское Лесничество | F10: =N4 -> 0 | J10: =B10 -> КТП Шухтовское Лесничество | N10: =F10 -> 0
B11: Расчет. Коэф. | E11: 30 | F11: Расчет. Коэф. | I11: 120 | J11: Расчет. Коэф. | M11: =E11 -> 30 | N11: Расчет. Коэф. | Q11: =I11 -> 120
B12: показания счетчика | C12: разность | E12: расход эл.энергии за час | F12: показания счетчика | G12: разность | I12: расход эл.энергии за час | J12: показания счетчика | K12: разность | M12: расход эл.энергии за час | N12: показания счетчика | O12: разность | Q12: расход эл.энергии за час
A13: 1 | B13: 2 | C13: 3 | E13: 4 | F13: 5 | G13: 6 | I13: 7 | J13: 8 | K13: 9 | M13: 10 | N13: 11 | O13: 12 | Q13: 13
A14: 0
A15: 1 | E15: 8.92 | M15: 0
A16: 2 | E16: 8.24 | M16: 0
A17: 3 | E17: 9.48 | M17: 0
A18: 4 | E18: 8.88 | M18: 0
A19: 5 | E19: 8.36 | M19: 0
A20: 6 | E20: 8.44 | M20: 0
A21: 7 | E21: 9.24 | M21: 0
A22: 8 | E22: 14.92 | M22: 0
A23: 9 | E23: 19.48 | M23: 0
A24: 10 | E24: 20.4 | M24: 0
A25: 11 | E25: 21.04 | M25: 0
A26: 12 | E26: 17.84 | M26: 0
... A38: 24 | E38: 8.6 | M38: 0
A39: Итого | E39: =SUM(E15:E38) -> 284.64 | I39: =SUM(I15:I38) -> 0 | M39: =SUM(M15:M38) -> 0 | Q39: =SUM(Q15:Q38) -> 0
A40: 1. При наличии на предприятии отклонений от нормальных режимов электропотребления (временное изменение схем питания, остановка на ремонт, резкое снижение
A41: эл.потребления и т.д.) последние необходимо перечислить.
A42: Главный инженер АО "Вологдаоблэнерго" А.В. Чурляев
A43: составляется самим предприятием с соблюдением всех пунктов настоящей таблицы.

Sheet 52
B1: АО "Вологдаоблэнерго" | J1: код 900151 | N1: ПС Абаканово, ф. Маслово
B2: наименование предприятия | N2: наименование источника питания
N3: ЦРП-Маслово
B4: ул. Горького, 99 | I4: Таблица № 1
B5: адрес
A6: почасовых записей показаний электрических счетчиков
A7: в режимный день 15 ИЮНЯ 2022 г.
A8: 1630 | B8: 1628
A9: часы суток | B9: Активная энергия | J9: Реактивная энергия
B10: =N3 -> ЦРП-Маслово | F10: =N4 -> 0 | J10: =B10 -> ЦРП-Маслово | N10: =F10 -> 0
B11: Расчет. Коэф. | E11: 80 | F11: Расчет. Коэф. | I11: 120 | J11: Расчет. Коэф. | M11: =E11 -> 80 | N11: Расчет. Коэф. | Q11: =I11 -> 120
B12: показания счетчика | C12: разность | E12: расход эл.энергии за час | F12: показания счетчика | G12: разность | I12: расход эл.энергии за час | J12: показания счетчика | K12: разность | M12: расход эл.энергии за час | N12: показания счетчика | O12: разность | Q12: расход эл.энергии за час
A13: 1 | B13: 2 | C13: 3 | E13: 4 | F13: 5 | G13: 6 | I13: 7 | J13: 8 | K13: 9 | M13: 10 | N13: 11 | O13: 12 | Q13: 13
A14: 0
A15: 1 | E15: 8.2 | M15: 0
A16: 2 | E16: 7.48 | M16: 0
A17: 3 | E17: 9 | M17: 0
A18: 4 | E18: 9.24 | M18: 0
A19: 5 | E19: 8.08 | M19: 0
A20: 6 | E20: 8.16 | M20: 0
A21: 7 | E21: 8.12 | M21: 0
A22: 8 | E22: 8 | M22: 0
A23: 9 | E23: 5.72 | M23: 0
A24: 10 | E24: 5.68 | M24: 0
A25: 11 | E25: 6 | M25: 0
A26: 12 | E26: 6.04 | M26: 0
... A38: 24 | E38: 9.64 | M38: 0
A39: Итого | E39: =SUM(E15:E38) -> 187.52 | I39: =SUM(I15:I38) -> 0 | M39: =SUM(M15:M38) -> 0 | Q39: =SUM(Q15:Q38) -> 0
A40: 1. При наличии на предприятии отклонений от нормальных режимов электропотребления (временное изменение схем питания, остановка на ремонт, резкое снижение
A41: эл.потребления и т.д.) последние необходимо перечислить.
A42: Главный инженер АО "Вологдаоблэнерго" А.В. Чурляев
A43: составляется самим предприятием с соблюдением всех пунктов настоящей таблицы.

Sheet 53
B1: АО "Вологдаоблэнерго" | J1: код 900151 | N1: ПС Абаканово, ф.Шухободь
B2: наименование предприятия | N2: наименование источника питания
N3: ТП-227
B4: ул. Горького, 99 | I4: Таблица № 1
B5: адрес
A6: почасовых записей показаний электрических счетчиков
A7: в режимный день 15 ИЮНЯ 2022 г.
A8: 1630 | B8: 1628
A9: часы суток | B9: Активная энергия | J9: Реактивная энергия
B10: =N3 -> ТП-227 | F10: =N4 | J10: =B10 -> ТП-227 | N10: =F10
B11: Расчет. Коэф. | E11: 60 | F11: Расчет. Коэф. | I11: 120 | J11: Расчет. Коэф. | M11: =E11 -> 60 | N11: Расчет. Коэф. | Q11: =I11 -> 120
B12: показания счетчика | C12: разность | E12: расход эл.энергии за час | F12: показания счетчика | G12: разность | I12: расход эл.энергии за час | J12: показания счетчика | K12: разность | M12: расход эл.энергии за час | N12: показания счетчика | O12: разность | Q12: расход эл.энергии за час
A13: 1 | B13: 2 | C13: 3 | E13: 4 | F13: 5 | G13: 6 | I13: 7 | J13: 8 | K13: 9 | M13: 10 | N13: 11 | O13: 12 | Q13: 13
A14: 0
A15: 1 | E15: 3.54 | M15: 0
A16: 2 | E16: 3.33 | M16: 0
A17: 3 | E17: 3.24 | M17: 0
A18: 4 | E18: 3.315 | M18: 0
A19: 5 | E19: 3.315 | M19: 0
A20: 6 | E20: 3.315 | M20: 0
A21: 7 | E21: 3.075 | M21: 0
A22: 8 | E22: 1.665 | M22: 0
A23: 9 | E23: 1.23 | M23: 0
A24: 10 | E24: 3.87 | M24: 0
A25: 11 | E25: 3.75 | M25: 0
A26: 12 | E26: 3.195 | M26: 0
... A38: 24 | E38: 4.815 | M38: 0
A39: Итого | E39: =SUM(E15:E38) -> 96.375 | I39: =SUM(I15:I38) -> 0 | M39: =SUM(M15:M38) -> 0 | Q39: =SUM(Q15:Q38) -> 0
A40: 1. При наличии на предприятии отклонений от нормальных режимов электропотребления (временное изменение схем питания, остановка на ремонт, резкое снижение
A41: эл.потребления и т.д.) последние необходимо перечислить.
A42: Главный инженер АО "Вологдаоблэнерго" А.В. Чурляев
A43: составляется самим предприятием с соблюдением всех пунктов настоящей таблицы.

Sheet 54
B1: АО "Вологдаоблэнерго" | J1: код 900151 | N1: ПС Искра, ф. Оросительная
B2: наименование предприятия | N2: наименование источника питания
N3: КТП-3 Сад №9 "ЧереповецАгроСтрой"
B4: ул. Горького, 99 | I4: Таблица № 1 | N4: КТП-2 Сад №1 "Аммофос"
B5: адрес
A6: почасовых записей показаний электрических счетчиков
A7: в режимный день 15 ИЮНЯ 2022 г.
A8: 1630 | B8: 1628
A9: часы суток | B9: Активная энергия | J9: Реактивная энергия
B10: =N3 -> КТП-3 Сад №9 "ЧереповецАгроСтрой" | F10: =N4 -> КТП-2 Сад №1 "Аммофос" | J10: =B10 -> КТП-3 Сад №9 "ЧереповецАгроСтрой" | N10: =F10 -> КТП-2 Сад №1 "Аммофос"
B11: Расчет. Коэф. | E11: 60 | F11: Расчет. Коэф. | I11: 120 | J11: Расчет. Коэф. | M11: =E11 -> 60 | N11: Расчет. Коэф. | Q11: =I11 -> 120
B12: показания счетчика | C12: разность | E12: расход эл.энергии за час | F12: показания счетчика | G12: разность | I12: расход эл.энергии за час | J12: показания счетчика | K12: разность | M12: расход эл.энергии за час | N12: показания счетчика | O12: разность | Q12: расход эл.энергии за час
A13: 1 | B13: 2 | C13: 3 | E13: 4 | F13: 5 | G13: 6 | I13: 7 | J13: 8 | K13: 9 | M13: 10 | N13: 11 | O13: 12 | Q13: 13
A14: 0
A15: 1 | E15: 0 | I15: 38.76 | M15: 0 | Q15: 0
A16: 2 | E16: 0 | I16: 34.62 | M16: 0 | Q16: 0
A17: 3 | E17: 0 | I17: 31.98 | M17: 0 | Q17: 0
A18: 4 | E18: 0 | I18: 31.8 | M18: 0 | Q18: 0
A19: 5 | E19: 0 | I19: 33.42 | M19: 0 | Q19: 0
A20: 6 | E20: 0 | I20: 38.22 | M20: 0 | Q20: 0
A21: 7 | E21: 0 | I21: 47.1 | M21: 0 | Q21: 0
A22: 8 | E22: 0 | I22: 52.56 | M22: 0 | Q22: 0
A23: 9 | E23: 0 | I23: 60 | M23: 0 | Q23: 0
A24: 10 | E24: 0 | I24: 57.84 | M24: 0 | Q24: 0
A25: 11 | E25: 0 | I25: 59.82 | M25: 0 | Q25: 0
A26: 12 | E26: 0 | I26: 59.1 | M26: 0 | Q26: 0
... A38: 24 | E38: 0 | I38: 73.14 | M38: 0 | Q38: 0
A39: Итого | E39: =SUM(E15:E38) -> 0 | I39: =SUM(I15:I38) -> 1516.44 | M39: =SUM(M15:M38) -> 0 | Q39: =SUM(Q15:Q38) -> 0
A40: 1. При наличии на предприятии отклонений от нормальных режимов электропотребления (временное изменение схем питания, остановка на ремонт, резкое снижение
A41: эл.потребления и т.д.) последние необходимо перечислить.
A42: Главный инженер АО "Вологдаоблэнерго" А.В. Чурляев
A43: составляется самим предприятием с соблюдением всех пунктов настоящей таблицы.

Sheet 55
B1: АО "Вологдаоблэнерго" | J1: код 900151 | N1: ПС Искра, ф. Оросительная
B2: наименование предприятия | N2: наименование источника питания
N3: КТП-10 ЧМХС и №2 ЧСПЗ
B4: ул. Горького, 99 | I4: Таблица № 1 | N4: КТП Сад Вера
B5: адрес
A6: почасовых записей показаний электрических счетчиков
A7: в режимный день 15 ИЮНЯ 2022 г.
A8: 1630 | B8: 1628
A9: часы суток | B9: Активная энергия | J9: Реактивная энергия
B10: =N3 -> КТП-10 ЧМХС и №2 ЧСПЗ | F10: =N4 -> КТП Сад Вера | J10: =B10 -> КТП-10 ЧМХС и №2 ЧСПЗ | N10: =F10 -> КТП Сад Вера
B11: Расчет. Коэф. | E11: 80 | F11: Расчет. Коэф. | I11: 20 | J11: Расчет. Коэф. | M11: =E11 -> 80 | N11: Расчет. Коэф. | Q11: =I11 -> 20
B12: показания счетчика | C12: разность | E12: расход эл.энергии за час | F12: показания счетчика | G12: разность | I12: расход эл.энергии за час | J12: показания счетчика | K12: разность | M12: расход эл.энергии за час | N12: показания счетчика | O12: разность | Q12: расход эл.энергии за час
A13: 1 | B13: 2 | C13: 3 | E13: 4 | F13: 5 | G13: 6 | I13: 7 | J13: 8 | K13: 9 | M13: 10 | N13: 11 | O13: 12 | Q13: 13
A14: 0
A15: 1 | E15: 0 | I15: 10.16 | M15: 0 | Q15: 0
A16: 2 | E16: 0 | I16: 9.28 | M16: 0 | Q16: 0
A17: 3 | E17: 0 | I17: 9.76 | M17: 0 | Q17: 0
A18: 4 | E18: 0 | I18: 10.24 | M18: 0 | Q18: 0
A19: 5 | E19: 0 | I19: 9.76 | M19: 0 | Q19: 0
A20: 6 | E20: 0 | I20: 11.12 | M20: 0 | Q20: 0
A21: 7 | E21: 0 | I21: 15.36 | M21: 0 | Q21: 0
A22: 8 | E22: 0 | I22: 20.64 | M22: 0 | Q22: 0
A23: 9 | E23: 0 | I23: 18.88 | M23: 0 | Q23: 0
A24: 10 | E24: 0 | I24: 20.48 | M24: 0 | Q24: 0
A25: 11 | E25: 0 | I25: 21.52 | M25: 0 | Q25: 0
A26: 12 | E26: 0 | I26: 21.28 | M26: 0 | Q26: 0
... A38: 24 | E38: 0 | I38: 15.52 | M38: 0 | Q38: 0
A39: Итого | E39: =SUM(E15:E38) -> 0 | I39: =SUM(I15:I38) -> 408.8 | M39: =SUM(M15:M38) -> 0 | Q39: =SUM(Q15:Q38) -> 0
A40: 1. При наличии на предприятии отклонений от нормальных режимов электропотребления (временное изменение схем питания, остановка на ремонт, резкое снижение
A41: эл.потребления и т.д.) последние необходимо перечислить.
A42: Главный инженер АО "Вологдаоблэнерго" А.В. Чурляев
A43: составляется самим предприятием с соблюдением всех пунктов настоящей таблицы.

Sheet 56
B1: АО "Вологдаоблэнерго" | J1: код 900151 | N1: ПС Батран, ф.Льнозавод
B2: наименование предприятия | N2: наименование источника питания
N3: КТП-Льнозавод
B4: ул. Горького, 99 | I4: Таблица № 1 | N4: КТП-Детский сад
B5: адрес
A6: почасовых записей показаний электрических счетчиков
A7: в режимный день 15 ИЮНЯ 2022 г.
A8: 1630 | B8: 1628
A9: часы суток | B9: Активная энергия | J9: Реактивная энергия
B10: =N3 -> КТП-Льнозавод | F10: =N4 -> КТП-Детский сад | J10: =B10 -> КТП-Льнозавод | N10: =F10 -> КТП-Детский сад
B11: Расчет. Коэф. | E11: 120 | F11: Расчет. Коэф. | I11: 40 | J11: Расчет. Коэф. | M11: =E11 -> 120 | N11: Расчет. Коэф. | Q11: =I11 -> 40
B12: показания счетчика | C12: разность | E12: расход эл.энергии за час | F12: показания счетчика | G12: разность | I12: расход эл.энергии за час | J12: показания счетчика | K12: разность | M12: расход эл.энергии за час | N12: показания счетчика | O12: разность | Q12: расход эл.энергии за час
A13: 1 | B13: 2 | C13: 3 | E13: 4 | F13: 5 | G13: 6 | I13: 7 | J13: 8 | K13: 9 | M13: 10 | N13: 11 | O13: 12 | Q13: 13
A14: 0
A15: 1 | E15: 0 | I15: 6.16 | M15: 0 | Q15: 0
A16: 2 | E16: 0 | I16: 6.8 | M16: 0 | Q16: 0
A17: 3 | E17: 0 | I17: 6.92 | M17: 0 | Q17: 0
A18: 4 | E18: 0 | I18: 5.62 | M18: 0 | Q18: 0
A19: 5 | E19: 0 | I19: 5.4 | M19: 0 | Q19: 0
A20: 6 | E20: 0 | I20: 5.26 | M20: 0 | Q20: 0
A21: 7 | E21: 0 | I21: 6.74 | M21: 0 | Q21: 0
A22: 8 | E22: 0 | I22: 10.32 | M22: 0 | Q22: 0
A23: 9 | E23: 0 | I23: 9.92 | M23: 0 | Q23: 0
A24: 10 | E24: 0 | I24: 9.88 | M24: 0 | Q24: 0
A25: 11 | E25: 0 | I25: 10.52 | M25: 0 | Q25: 0
A26: 12 | E26: 0 | I26: 10.88 | M26: 0 | Q26: 0
... A38: 24 | E38: 0 | I38: 9.62 | M38: 0 | Q38: 0
A39: Итого | E39: =SUM(E15:E38) -> 0 | I39: =SUM(I15:I38) -> 232.8 | M39: =SUM(M15:M38) -> 0 | Q39: =SUM(Q15:Q38) -> 0
A40: 1. При наличии на предприятии отклонений от нормальных режимов электропотребления (временное изменение схем питания, остановка на ремонт, резкое снижение
A41: эл.потребления и т.д.) последние необходимо перечислить.
A42: Главный инженер АО "Вологдаоблэнерго" А.В. Чурляев
A43: составляется самим предприятием с соблюдением всех пунктов настоящей таблицы.

Sheet 57
B1: АО "Вологдаоблэнерго" | J1: код 900151 | N1: ПС Аксеново ф. Шалимово
B2: наименование предприятия | N2: наименование источника питания
N3: ТП-23 В-1
B4: ул. Горького, 99 | I4: Таблица № 1 | N4: КТП-Очистные
B5: адрес
A6: почасовых записей показаний электрических счетчиков
A7: в режимный день 15 ИЮНЯ 2022 г.
A8: 1630 | B8: 1628
A9: часы суток | B9: Активная энергия | J9: Реактивная энергия
B10: =N3 -> ТП-23 В-1 | F10: =N4 -> КТП-Очистные | J10: =B10 -> ТП-23 В-1 | N10: =F10 -> КТП-Очистные
B11: Расчет. Коэф. | E11: 120 | F11: Расчет. Коэф. | I11: 20 | J11: Расчет. Коэф. | M11: =E11 -> 120 | N11: Расчет. Коэф. | Q11: =I11 -> 20
B12: показания счетчика | C12: разность | E12: расход эл.энергии за час | F12: показания счетчика | G12: разность | I12: расход эл.энергии за час | J12: показания счетчика | K12: разность | M12: расход эл.энергии за час | N12: показания счетчика | O12: разность | Q12: расход эл.энергии за час
A13: 1 | B13: 2 | C13: 3 | E13: 4 | F13: 5 | G13: 6 | I13: 7 | J13: 8 | K13: 9 | M13: 10 | N13: 11 | O13: 12 | Q13: 13
A14: 0
A15: 1 | E15: 0 | I15: 0 | M15: 0 | Q15: 0
A16: 2 | E16: 0 | I16: 0 | M16: 0 | Q16: 0
A17: 3 | E17: 0 | I17: 0 | M17: 0 | Q17: 0
A18: 4 | E18: 0 | I18: 0 | M18: 0 | Q18: 0
A19: 5 | E19: 0 | I19: 0 | M19: 0 | Q19: 0
A20: 6 | E20: 0 | I20: 0 | M20: 0 | Q20: 0
A21: 7 | E21: 0 | I21: 0 | M21: 0 | Q21: 0
A22: 8 | E22: 0 | I22: 0 | M22: 0 | Q22: 0
A23: 9 | E23: 0 | I23: 0 | M23: 0 | Q23: 0
A24: 10 | E24: 0 | I24: 0 | M24: 0 | Q24: 0
A25: 11 | E25: 0 | I25: 0 | M25: 0 | Q25: 0
A26: 12 | E26: 0 | I26: 0 | M26: 0 | Q26: 0
... A38: 24 | E38: 0 | I38: 0 | M38: 0 | Q38: 0
A39: Итого | E39: =SUM(E15:E38) -> 0 | I39: =SUM(I15:I38) -> 0 | M39: =SUM(M15:M38) -> 0 | Q39: =SUM(Q15:Q38) -> 0
A40: 1. При наличии на предприятии отклонений от нормальных режимов электропотребления (временное изменение схем питания, остановка на ремонт, резкое снижение
A41: эл.потребления и т.д.) последние необходимо перечислить.
A42: Главный инженер АО "Вологдаоблэнерго" А.В. Чурляев
A43: составляется самим предприятием с соблюдением всех пунктов настоящей таблицы.

Sheet 58
B1: АО "Вологдаоблэнерго" | H1: код 900151 | K1: ПС Юрочкино, ф. Фоминское
B2: наименование предприятия | K2: наименование источника питания
K3: ТП-15
B4: ул. Горького, 99 | G4: Таблица № 1 | K4: ТП-23 В-2
B5: адрес
A6: почасовых записей показаний электрических счетчиков
A7: в режимный день 15 ИЮНЯ 2022 г.
A8: 1630 | B8: 1628
A9: часы суток | B9: Активная энергия | H9: Реактивная энергия
B10: =K3 -> ТП-15 | E10: =K4 -> ТП-23 В-2 | H10: =B10 -> ТП-15 | K10: =E10 -> ТП-23 В-2
B11: Расчет. Коэф. | D11: 40 | E11: Расчет. Коэф. | G11: 120 | H11: Расчет. Коэф. | J11: =D11 -> 40 | K11: Расчет. Коэф. | M11: =G11 -> 120
B12: показания счетчика | C12: разность | D12: расход эл.энергии за час | E12: показания счетчика | F12: разность | G12: расход эл.энергии за час | H12: показания счетчика | I12: разность | J12: расход эл.энергии за час | K12: показания счетчика | L12: разность | M12: расход эл.энергии за час
A13: 1 | B13: 2 | C13: 3 | D13: 4 | E13: 5 | F13: 6 | G13: 7 | H13: 8 | I13: 9 | J13: 10 | K13: 11 | L13: 12 | M13: 13
A14: 0
A15: 1 | D15: 0.12 | F15: 0 | J15: 0 | M15: 0
A16: 2 | D16: 0.14 | F16: 0 | J16: 0 | M16: 0
A17: 3 | D17: 0.12 | F17: 0 | J17: 0 | M17: 0
A18: 4 | D18: 0.1 | F18: 0 | J18: 0 | M18: 0
A19: 5 | D19: 0.12 | F19: 0 | J19: 0 | M19: 0
A20: 6 | D20: 0.1 | F20: 0 | J20: 0 | M20: 0
A21: 7 | D21: 0.1 | F21: 0 | J21: 0 | M21: 0
A22: 8 | D22: 0.24 | F22: 0 | J22: 0 | M22: 0
A23: 9 | D23: 25.82 | F23: 0 | J23: 0 | M23: 0
A24: 10 | D24: 28.74 | F24: 0 | J24: 0 | M24: 0
A25: 11 | D25: 18.76 | F25: 0 | J25: 0 | M25: 0
A26: 12 | D26: 23.8 | F26: 0 | J26: 0 | M26: 0
... A38: 24 | D38: 0.14 | F38: 0 | J38: 0 | M38: 0
A39: Итого | D39: =SUM(D15:D38) -> 206.24 | G39: =SUM(G15:G38) -> 0 | J39: =SUM(J15:J38) -> 0 | M39: =SUM(M15:M38) -> 0
A40: 1. При наличии на предприятии отклонений от нормальных режимов электропотребления (временное изменение схем питания, остановка на ремонт, резкое снижение
A41: эл.потребления и т.д.) последние необходимо перечислить.
A42: Главный инженер АО "Вологдаоблэнерго" А.В. Чурляев
A43: составляется самим предприятием с соблюдением всех пунктов настоящей таблицы.

Sheet 59
B1: АО "Вологдаоблэнерго" | I1: код 900151 | L1: ПС Домозерово, ф. Дом-2
B2: наименование предприятия | L2: наименование источника питания
L3: ТП-74
B4: ул. Горького, 99 | H4: Таблица № 1 | L4: ТП-СЗМК-2
B5: адрес
A6: почасовых записей показаний электрических счетчиков
A7: в режимный день 15 ИЮНЯ 2022 г.
A8: 1630 | B8: 1628
A9: часы суток | B9: Активная энергия | I9: Реактивная энергия
B10: =L3 -> ТП-74 | E10: =L4 -> ТП-СЗМК-2 | I10: =B10 -> ТП-74 | L10: =E10 -> ТП-СЗМК-2
B11: Расчет. Коэф. | D11: 120 | E11: Расчет. Коэф. | H11: 200 | I11: Расчет. Коэф. | K11: =D11 -> 120 | L11: Расчет. Коэф. | N11: =H11 -> 200
B12: показания счетчика | C12: разность | D12: расход эл.энергии за час | E12: показания счетчика | F12: разность | H12: расход эл.энергии за час | I12: показания счетчика | J12: разность | K12: расход эл.энергии за час | L12: показания счетчика | M12: разность | N12: расход эл.энергии за час
A13: 1 | B13: 2 | C13: 3 | D13: 4 | E13: 5 | F13: 6 | H13: 7 | I13: 8 | J13: 9 | K13: 10 | L13: 11 | M13: 12 | N13: 13
A14: 0
A15: 1 | D15: 32.544 | H15: 0.3 | K15: 0 | N15: 0
A16: 2 | D16: 29.832 | H16: 0.3 | K16: 0 | N16: 0
A17: 3 | D17: 31.176 | H17: 0.3 | K17: 0 | N17: 0
A18: 4 | D18: 30.024 | H18: 0.2 | K18: 0 | N18: 0
A19: 5 | D19: 30.816 | H19: 0 | K19: 0 | N19: 0
A20: 6 | D20: 28.872 | H20: 0 | K20: 0 | N20: 0
A21: 7 | D21: 28.488 | H21: 0.5 | K21: 0 | N21: 0
A22: 8 | D22: 29.304 | H22: 1 | K22: 0 | N22: 0
A23: 9 | D23: 50.592 | H23: 1 | K23: 0 | N23: 0
A24: 10 | D24: 66.048 | H24: 1 | K24: 0 | N24: 0
A25: 11 | D25: 58.752 | H25: 1.1 | K25: 0 | N25: 0
A26: 12 | D26: 53.4 | H26: 1.3 | K26: 0 | N26: 0
... A38: 24 | D38: 30.504 | H38: 0 | K38: 0 | N38: 0
A39: Итого | D39: =SUM(D15:D38) -> 976.368 | H39: =SUM(H15:H38) -> 8.6 | K39: =SUM(K15:K38) -> 0 | N39: =SUM(N15:N38) -> 0
A40: 1. При наличии на предприятии отклонений от нормальных режимов электропотребления (временное изменение схем питания, остановка на ремонт, резкое снижение
A41: эл.потребления и т.д.) последние необходимо перечислить.
A42: Главный инженер АО "Вологдаоблэнерго" А.В. Чурляев
A43: составляется самим предприятием с соблюдением всех пунктов настоящей таблицы.

Sheet 60
B1: АО "Вологдаоблэнерго" | H1: код 900151 | K1: ПС Енюково, ф.Борисово
B2: наименование предприятия | K2: наименование источника питания
K3: ТП-Ферма Фенево В-1
B4: ул. Горького, 99 | G4: Таблица № 1 | K4: ТП-Ферма Фенево В-2
B5: адрес
A6: почасовых записей показаний электрических счетчиков
A7: в режимный день 15 ИЮНЯ 2022 г.
A8: 1630 | B8: 1628
A9: часы суток | B9: Активная энергия | H9: Реактивная энергия
B10: =K3 -> ТП-Ферма Фенево В-1 | E10: =K4 -> ТП-Ферма Фенево В-2 | H10: =B10 -> ТП-Ферма Фенево В-1 | K10: =E10 -> ТП-Ферма Фенево В-2
B11: Расчет. Коэф. | D11: 200 | E11: Расчет. Коэф. | G11: 200 | H11: Расчет. Коэф. | J11: =D11 -> 200 | K11: Расчет. Коэф. | M11: =G11 -> 200
B12: показания счетчика | C12: разность | D12: расход эл.энергии за час | E12: показания счетчика | F12: разность | G12: расход эл.энергии за час | H12: показания счетчика | I12: разность | J12: расход эл.энергии за час | K12: показания счетчика | L12: разность | M12: расход эл.энергии за час
A13: 1 | B13: 2 | C13: 3 | D13: 4 | E13: 5 | F13: 6 | G13: 7 | H13: 8 | I13: 9 | J13: 10 | K13: 11 | L13: 12 | M13: 13
A14: 0
A15: 1 | D15: 12.6 | G15: 9.5 | J15: 0 | M15: 0
A16: 2 | D16: 12.2 | G16: 17.8 | J16: 0 | M16: 0
A17: 3 | D17: 12.9 | G17: 39.5 | J17: 0 | M17: 0
A18: 4 | D18: 12.4 | G18: 68.6 | J18: 0 | M18: 0
A19: 5 | D19: 30.2 | G19: 72.6 | J19: 0 | M19: 0
A20: 6 | D20: 29.7 | G20: 62.3 | J20: 0 | M20: 0
A21: 7 | D21: 28.4 | G21: 29.8 | J21: 0 | M21: 0
A22: 8 | D22: 26.1 | G22: 34.4 | J22: 0 | M22: 0
A23: 9 | D23: 24.4 | G23: 43 | J23: 0 | M23: 0
A24: 10 | D24: 29.2 | G24: 33.1 | J24: 0 | M24: 0
A25: 11 | D25: 25.4 | G25: 21.9 | J25: 0 | M25: 0
A26: 12 | D26: 21.5 | G26: 34.7 | J26: 0 | M26: 0
... A38: 24 | D38: 18 | G38: 8.9 | J38: 0 | M38: 0
A39: Итого | D39: =SUM(D15:D38) -> 620 | G39: =SUM(G15:G38) -> 842 | J39: =SUM(J15:J38) -> 0 | M39: =SUM(M15:M38) -> 0
A40: 1. При наличии на предприятии отклонений от нормальных режимов электропотребления (временное изменение схем питания, остановка на ремонт, резкое снижение
A41: эл.потребления и т.д.) последние необходимо перечислить.
A42: Главный инженер АО "Вологдаоблэнерго" А.В. Чурляев
A43: составляется самим предприятием с соблюдением всех пунктов настоящей таблицы.

Sheet 61
B1: АО "Вологдаоблэнерго" | H1: код 900151 | K1: ПС Поповка, ф. Аннино
B2: наименование предприятия | K2: наименование источника питания
K3: ТП-376
B4: ул. Горького, 99 | G4: Таблица № 1
B5: адрес
A6: почасовых записей показаний электрических счетчиков
A7: в режимный день 15 ИЮНЯ 2022 г.
A8: 1630 | B8: 1628
A9: часы суток | B9: Активная энергия | H9: Реактивная энергия
B10: =K3 -> ТП-376 | E10: =K4 -> 0 | H10: =B10 -> ТП-376 | K10: =E10 -> 0
B11: Расчет. Коэф. | D11: 60 | E11: Расчет. Коэф. | G11: 120 | H11: Расчет. Коэф. | J11: =D11 -> 60 | K11: Расчет. Коэф. | M11: =G11 -> 120
B12: показания счетчика | C12: разность | D12: расход эл.энергии за час | E12: показания счетчика | F12: разность | G12: расход эл.энергии за час | H12: показания счетчика | I12: разность | J12: расход эл.энергии за час | K12: показания счетчика | L12: разность | M12: расход эл.энергии за час
A13: 1 | B13: 2 | C13: 3 | D13: 4 | E13: 5 | F13: 6 | G13: 7 | H13: 8 | I13: 9 | J13: 10 | K13: 11 | L13: 12 | M13: 13
A14: 0
A15: 1 | D15: 11.53 | J15: 0
A16: 2 | D16: 11.18 | J16: 0
A17: 3 | D17: 12.58 | J17: 0
A18: 4 | D18: 12.77 | J18: 0
A19: 5 | D19: 15.16 | J19: 0
A20: 6 | D20: 14.41 | J20: 0
A21: 7 | D21: 15.43 | J21: 0
A22: 8 | D22: 17.23 | J22: 0
A23: 9 | D23: 18.43 | J23: 0
A24: 10 | D24: 18.1 | J24: 0
A25: 11 | D25: 14.16 | J25: 0
A26: 12 | D26: 13.35 | J26: 0
... A38: 24 | D38: 15.24 | J38: 0
A39: Итого | D39: =SUM(D15:D38) -> 360.21 | G39: =SUM(G15:G38) -> 0 | J39: =SUM(J15:J38) -> 0 | M39: =SUM(M15:M38) -> 0
A40: 1. При наличии на предприятии отклонений от нормальных режимов электропотребления (временное изменение схем питания, остановка на ремонт, резкое снижение
A41: эл.потребления и т.д.) последние необходимо перечислить.
A42: Главный инженер АО "Вологдаоблэнерго" А.В. Чурляев
A43: составляется самим предприятием с соблюдением всех пунктов настоящей таблицы.

Sheet 62
B1: АО "Вологдаоблэнерго" | H1: код 900151 | K1: ПС Поповка, ф. Красково
B2: наименование предприятия | K2: наименование источника питания
K3: КТП-ЭСПА
B4: ул. Горького, 99 | G4: Таблица № 1 | K4: КТП-Ново-Дубровка
B5: адрес
A6: почасовых записей показаний электрических счетчиков
A7: в режимный день 15 ИЮНЯ 2022 г.
A8: 1630 | B8: 1628
A9: часы суток | B9: Активная энергия | H9: Реактивная энергия
B10: =K3 -> КТП-ЭСПА | E10: =K4 -> КТП-Ново-Дубровка | H10: =B10 -> КТП-ЭСПА | K10: =E10 -> КТП-Ново-Дубровка
B11: Расчет. Коэф. | D11: 20 | E11: Расчет. Коэф. | G11: 20 | H11: Расчет. Коэф. | J11: =D11 -> 20 | K11: Расчет. Коэф. | M11: =G11 -> 20
B12: показания счетчика | C12: разность | D12: расход эл.энергии за час | E12: показания счетчика | F12: разность | G12: расход эл.энергии за час | H12: показания счетчика | I12: разность | J12: расход эл.энергии за час | K12: показания счетчика | L12: разность | M12: расход эл.энергии за час
A13: 1 | B13: 2 | C13: 3 | D13: 4 | E13: 5 | F13: 6 | G13: 7 | H13: 8 | I13: 9 | J13: 10 | K13: 11 | L13: 12 | M13: 13
A14: 0
A15: 1 | D15: 0.71 | G15: 0.7 | J15: 0 | M15: 0
A16: 2 | D16: 0.71 | G16: 0.7 | J16: 0 | M16: 0
A17: 3 | D17: 0.68 | G17: 0.59 | J17: 0 | M17: 0
A18: 4 | D18: 0.39 | G18: 0.32 | J18: 0 | M18: 0
A19: 5 | D19: 0.11 | G19: 0.26 | J19: 0 | M19: 0
A20: 6 | D20: 0.11 | G20: 0.24 | J20: 0 | M20: 0
A21: 7 | D21: 0.07 | G21: 0.54 | J21: 0 | M21: 0
A22: 8 | D22: 0.11 | G22: 1.16 | J22: 0 | M22: 0
A23: 9 | D23: 0.13 | G23: 1.73 | J23: 0 | M23: 0
A24: 10 | D24: 0.44 | G24: 1.2 | J24: 0 | M24: 0
A25: 11 | D25: 0.36 | G25: 0.59 | J25: 0 | M25: 0
A26: 12 | D26: 0.28 | G26: 0.52 | J26: 0 | M26: 0
... A38: 24 | D38: 0.82 | G38: 0.7 | J38: 0 | M38: 0
A39: Итого | D39: =SUM(D15:D38) -> 9.64 | G39: =SUM(G15:G38) -> 19.68 | J39: =SUM(J15:J38) -> 0 | M39: =SUM(M15:M38) -> 0
A40: 1. При наличии на предприятии отклонений от нормальных режимов электропотребления (временное изменение схем питания, остановка на ремонт, резкое снижение
A41: эл.потребления и т.д.) последние необходимо перечислить.
A42: Главный инженер АО "Вологдаоблэнерго" А.В. Чурляев
A43: составляется самим предприятием с соблюдением всех пунктов настоящей таблицы.

Sheet 63
B1: АО "Вологдаоблэнерго" | H1: код 900151 | K1: ПС Поповка, ф. Красково
B2: наименование предприятия | K2: наименование источника питания
K3: КТП-Козлово-2
B4: ул. Горького, 99 | G4: Таблица № 1 | K4: ТП-319
B5: адрес
A6: почасовых записей показаний электрических счетчиков
A7: в режимный день 15 ИЮНЯ 2022 г.
A8: 1630 | B8: 1628
A9: часы суток | B9: Активная энергия | H9: Реактивная энергия
B10: =K3 -> КТП-Козлово-2 | E10: =K4 -> ТП-319 | H10: =B10 -> КТП-Козлово-2 | K10: =E10 -> ТП-319
B11: Расчет. Коэф. | D11: 60 | E11: Расчет. Коэф. | G11: 30 | H11: Расчет. Коэф. | J11: =D11 -> 60 | K11: Расчет. Коэф. | M11: =G11 -> 30
B12: показания счетчика | C12: разность | D12: расход эл.энергии за час | E12: показания счетчика | F12: разность | G12: расход эл.энергии за час | H12: показания счетчика | I12: разность | J12: расход эл.энергии за час | K12: показания счетчика | L12: разность | M12: расход эл.энергии за час
A13: 1 | B13: 2 | C13: 3 | D13: 4 | E13: 5 | F13: 6 | G13: 7 | H13: 8 | I13: 9 | J13: 10 | K13: 11 | L13: 12 | M13: 13
A14: 0
A15: 1 | D15: 5.64 | G15: 0 | J15: 0 | M15: 0
A16: 2 | D16: 6 | G16: 0 | J16: 0 | M16: 0
A17: 3 | D17: 3.8 | G17: 0 | J17: 0 | M17: 0
A18: 4 | D18: 3.8 | G18: 0 | J18: 0 | M18: 0
A19: 5 | D19: 3.56 | G19: 0 | J19: 0 | M19: 0
A20: 6 | D20: 4.96 | G20: 0 | J20: 0 | M20: 0
A21: 7 | D21: 6.24 | G21: 0 | J21: 0 | M21: 0
A22: 8 | D22: 6.6 | G22: 0 | J22: 0 | M22: 0
A23: 9 | D23: 6.88 | G23: 0 | J23: 0 | M23: 0
A24: 10 | D24: 9.16 | G24: 0 | J24: 0 | M24: 0
A25: 11 | D25: 5.92 | G25: 0 | J25: 0 | M25: 0
A26: 12 | D26: 6.8 | G26: 0 | J26: 0 | M26: 0
... A38: 24 | D38: 5.96 | G38: 0 | J38: 0 | M38: 0
A39: Итого | D39: =SUM(D15:D38) -> 151.24 | G39: =SUM(G15:G38) -> 0 | J39: =SUM(J15:J38) -> 0 | M39: =SUM(M15:M38) -> 0
A40: 1. При наличии на предприятии отклонений от нормальных режимов электропотребления (временное изменение схем питания, остановка на ремонт, резкое снижение
A41: эл.потребления и т.д.) последние необходимо перечислить.
A42: Главный инженер АО "Вологдаоблэнерго" А.В. Чурляев
A43: составляется самим предприятием с соблюдением всех пунктов настоящей таблицы.

Sheet 64
B1: АО "Вологдаоблэнерго" | H1: код 900151 | K1: ПС Петринево, ф.Надпорожье
B2: наименование предприятия | K2: наименование источника питания
K3: КТП-Броды
B4: ул. Горького, 99 | G4: Таблица № 1 | K4: КТП-100 дачи "Водник"
B5: адрес
A6: почасовых записей показаний электрических счетчиков
A7: в режимный день 15 ИЮНЯ 2022 г.
A8: 1630 | B8: 1628
A9: часы суток | B9: Активная энергия | H9: Реактивная энергия
B10: =K3 -> КТП-Броды | E10: =K4 -> КТП-100 дачи "Водник" | H10: =B10 -> КТП-Броды | K10: =E10 -> КТП-100 дачи "Водник"
B11: Расчет. Коэф. | D11: 30 | E11: Расчет. Коэф. | G11: 40 | H11: Расчет. Коэф. | J11: =D11 -> 30 | K11: Расчет. Коэф. | M11: =G11 -> 40
B12: показания счетчика | C12: разность | D12: расход эл.энергии за час | E12: показания счетчика | F12: разность | G12: расход эл.энергии за час | H12: показания счетчика | I12: разность | J12: расход эл.энергии за час | K12: показания счетчика | L12: разность | M12: расход эл.энергии за час
A13: 1 | B13: 2 | C13: 3 | D13: 4 | E13: 5 | F13: 6 | G13: 7 | H13: 8 | I13: 9 | J13: 10 | K13: 11 | L13: 12 | M13: 13
A14: 0
A15: 1 | D15: 5.67 | G15: 2.91 | J15: 0 | M15: 0
A16: 2 | D16: 5.295 | G16: 2.61 | J16: 0 | M16: 0
A17: 3 | D17: 5.43 | G17: 2.685 | J17: 0 | M17: 0
A18: 4 | D18: 4.905 | G18: 2.67 | J18: 0 | M18: 0
A19: 5 | D19: 4.35 | G19: 2.835 | J19: 0 | M19: 0
A20: 6 | D20: 5.025 | G20: 2.925 | J20: 0 | M20: 0
A21: 7 | D21: 5.28 | G21: 3.3 | J21: 0 | M21: 0
A22: 8 | D22: 8.055 | G22: 5.67 | J22: 0 | M22: 0
A23: 9 | D23: 9.885 | G23: 7.305 | J23: 0 | M23: 0
A24: 10 | D24: 6.66 | G24: 6.42 | J24: 0 | M24: 0
A25: 11 | D25: 8.31 | G25: 4.815 | J25: 0 | M25: 0
A26: 12 | D26: 8.97 | G26: 4.74 | J26: 0 | M26: 0
... A38: 24 | D38: 10.59 | G38: 5.01 | J38: 0 | M38: 0
A39: Итого | D39: =SUM(D15:D38) -> 199.95 | G39: =SUM(G15:G38) -> 125.46 | J39: =SUM(J15:J38) -> 0 | M39: =SUM(M15:M38) -> 0
A40: 1. При наличии на предприятии отклонений от нормальных режимов электропотребления (временное изменение схем питания, остановка на ремонт, резкое снижение
A41: эл.потребления и т.д.) последние необходимо перечислить.
A42: Главный инженер АО "Вологдаоблэнерго" А.В. Чурляев
A43: составляется самим предприятием с соблюдением всех пунктов настоящей таблицы.

Sheet 65
B1: АО "Вологдаоблэнерго" | H1: код 900151 | K1: ПС Петринево, ф.Надпорожье
B2: наименование предприятия | K2: наименование источника питания
K3: КТП-Сад№11 ЧМХС
B4: ул. Горького, 99 | G4: Таблица № 1
B5: адрес
A6: почасовых записей показаний электрических счетчиков
A7: в режимный день 15 ИЮНЯ 2022 г.
A8: 1630 | B8: 1628
A9: часы суток | B9: Активная энергия | H9: Реактивная энергия
B10: =K3 -> КТП-Сад№11 ЧМХС | E10: =K4 -> 0 | H10: =B10 -> КТП-Сад№11 ЧМХС | K10: =E10 -> 0
B11: Расчет. Коэф. | D11: 20 | E11: Расчет. Коэф. | G11: 120 | H11: Расчет. Коэф. | J11: =D11 -> 20 | K11: Расчет. Коэф. | M11: =G11 -> 120
B12: показания счетчика | C12: разность | D12: расход эл.энергии за час | E12: показания счетчика | F12: разность | G12: расход эл.энергии за час | H12: показания счетчика | I12: разность | J12: расход эл.энергии за час | K12: показания счетчика | L12: разность | M12: расход эл.энергии за час
A13: 1 | B13: 2 | C13: 3 | D13: 4 | E13: 5 | F13: 6 | G13: 7 | H13: 8 | I13: 9 | J13: 10 | K13: 11 | L13: 12 | M13: 13
A14: 0
A15: 1 | D15: 6.91 | J15: 0
A16: 2 | D16: 4.32 | J16: 0
A17: 3 | D17: 3.57 | J17: 0
A18: 4 | D18: 3.37 | J18: 0
A19: 5 | D19: 3.13 | J19: 0
A20: 6 | D20: 2.72 | J20: 0
A21: 7 | D21: 3.38 | J21: 0
A22: 8 | D22: 3.72 | J22: 0
A23: 9 | D23: 3.59 | J23: 0
A24: 10 | D24: 5.4 | J24: 0
A25: 11 | D25: 7.17 | J25: 0
A26: 12 | D26: 8.44 | J26: 0
... A38: 24 | D38: 7.01 | J38: 0
A39: Итого | D39: =SUM(D15:D38) -> 143.94 | G39: =SUM(G15:G38) -> 0 | J39: =SUM(J15:J38) -> 0 | M39: =SUM(M15:M38) -> 0
A40: 1. При наличии на предприятии отклонений от нормальных режимов электропотребления (временное изменение схем питания, остановка на ремонт, резкое снижение
A41: эл.потребления и т.д.) последние необходимо перечислить.
A42: Главный инженер АО "Вологдаоблэнерго" А.В. Чурляев
A43: составляется самим предприятием с соблюдением всех пунктов настоящей таблицы.

Sheet 66
B1: АО "Вологдаоблэнерго" | H1: код 900151 | K1: ПС Енюково, ф. Яганово
B2: наименование предприятия | K2: наименование источника питания
K3: КТП-КЗС-2
B4: ул. Горького, 99 | G4: Таблица № 1
B5: адрес
A6: почасовых записей показаний электрических счетчиков
A7: в режимный день 15 ИЮНЯ 2022 г.
A8: 1630 | B8: 1628
A9: часы суток | B9: Активная энергия | H9: Реактивная энергия
B10: =K3 -> КТП-КЗС-2 | E10: =K4 -> 0 | H10: =B10 -> КТП-КЗС-2 | K10: =E10 -> 0
B11: Расчет. Коэф. | D11: 80 | E11: Расчет. Коэф. | G11: 120 | H11: Расчет. Коэф. | J11: =D11 -> 80 | K11: Расчет. Коэф. | M11: =G11 -> 120
B12: показания счетчика | C12: разность | D12: расход эл.энергии за час | E12: показания счетчика | F12: разность | G12: расход эл.энергии за час | H12: показания счетчика | I12: разность | J12: расход эл.энергии за час | K12: показания счетчика | L12: разность | M12: расход эл.энергии за час
A13: 1 | B13: 2 | C13: 3 | D13: 4 | E13: 5 | F13: 6 | G13: 7 | H13: 8 | I13: 9 | J13: 10 | K13: 11 | L13: 12 | M13: 13
A14: 0
A15: 1 | D15: 3.96 | J15: 0
A16: 2 | D16: 3.88 | J16: 0
A17: 3 | D17: 3.72 | J17: 0
A18: 4 | D18: 3.84 | J18: 0
A19: 5 | D19: 3.84 | J19: 0
A20: 6 | D20: 3.88 | J20: 0
A21: 7 | D21: 4.12 | J21: 0
A22: 8 | D22: 4.04 | J22: 0
A23: 9 | D23: 4.92 | J23: 0
A24: 10 | D24: 4.48 | J24: 0
A25: 11 | D25: 4.44 | J25: 0
A26: 12 | D26: 4.72 | J26: 0
... A38: 24 | D38: 3.96 | J38: 0
A39: Итого | D39: =SUM(D15:D38) -> 104.92 | G39: =SUM(G15:G38) -> 0 | J39: =SUM(J15:J38) -> 0 | M39: =SUM(M15:M38) -> 0
A40: 1. При наличии на предприятии отклонений от нормальных режимов электропотребления (временное изменение схем питания, остановка на ремонт, резкое снижение
A41: эл.потребления и т.д.) последние необходимо перечислить.
A42: Главный инженер АО "Вологдаоблэнерго" А.В. Чурляев
A43: составляется самим предприятием с соблюдением всех пунктов настоящей таблицы.

Sheet 67
B1: АО "Вологдаоблэнерго" | H1: код 900151 | K1: ПС Климовская, ф.Лохта
B2: наименование предприятия | K2: наименование источника питания
K3: КТПН-400 Животноводческий комплекс
B4: ул. Горького, 99 | G4: Таблица № 1 | K4: КТП-Деревня
B5: адрес
A6: почасовых записей показаний электрических счетчиков
A7: в режимный день 15 ИЮНЯ 2022 г.
A8: 1630 | B8: 1628
A9: часы суток | B9: Активная энергия | H9: Реактивная энергия
B10: =K3 -> КТПН-400 Животноводческий комплекс | E10: =K4 -> КТП-Деревня | H10: =B10 -> КТПН-400 Животноводческий комплекс | K10: =E10 -> КТП-Деревня
B11: Расчет. Коэф. | D11: 120 | E11: Расчет. Коэф. | G11: 120 | H11: Расчет. Коэф. | J11: =D11 -> 120 | K11: Расчет. Коэф. | M11: =G11 -> 120
B12: показания счетчика | C12: разность | D12: расход эл.энергии за час | E12: показания счетчика | F12: разность | G12: расход эл.энергии за час | H12: показания счетчика | I12: разность | J12: расход эл.энергии за час | K12: показания счетчика | L12: разность | M12: расход эл.энергии за час
A13: 1 | B13: 2 | C13: 3 | D13: 4 | E13: 5 | F13: 6 | G13: 7 | H13: 8 | I13: 9 | J13: 10 | K13: 11 | L13: 12 | M13: 13
A14: 0
A15: 1 | D15: 20.58 | J15: 0
A16: 2 | D16: 35.46 | J16: 0
A17: 3 | D17: 26.94 | J17: 0
A18: 4 | D18: 30.84 | J18: 0
A19: 5 | D19: 47.64 | J19: 0
A20: 6 | D20: 45 | J20: 0
A21: 7 | D21: 45.84 | J21: 0
A22: 8 | D22: 41.16 | J22: 0
A23: 9 | D23: 34.8 | J23: 0
A24: 10 | D24: 29.34 | J24: 0
A25: 11 | D25: 26.22 | J25: 0
A26: 12 | D26: 31.44 | J26: 0
... A38: 24 | D38: 16.68 | J38: 0
A39: Итого | D39: =SUM(D15:D38) -> 826.86 | G39: =SUM(G15:G38) -> 0 | J39: =SUM(J15:J38) -> 0 | M39: =SUM(M15:M38) -> 0
A40: 1. При наличии на предприятии отклонений от нормальных режимов электропотребления (временное изменение схем питания, остановка на ремонт, резкое снижение
A41: эл.потребления и т.д.) последние необходимо перечислить.
A42: Главный инженер АО "Вологдаоблэнерго" А.В. Чурляев
A43: составляется самим предприятием с соблюдением всех пунктов настоящей таблицы.

Sheet 68
B1: АО "Вологдаоблэнерго" | H1: код 900151 | K1: ПС Енюково ф. Соболево
B2: наименование предприятия | K2: наименование источника питания
K3: ТП-323
B4: ул. Горького, 99 | G4: Таблица № 1
B5: адрес
A6: почасовых записей показаний электрических счетчиков
A7: в режимный день 15 ИЮНЯ 2022 г.
A8: 1630 | B8: 1628
A9: часы суток | B9: Активная энергия | H9: Реактивная энергия
B10: =K3 -> ТП-323 | E10: =K4 -> 0 | H10: =B10 -> ТП-323 | K10: =E10 -> 0
B11: Расчет. Коэф. | D11: 20 | E11: Расчет. Коэф. | G11: 120 | H11: Расчет. Коэф. | J11: =D11 -> 20 | K11: Расчет. Коэф. | M11: =G11 -> 120
B12: показания счетчика | C12: разность | D12: расход эл.энергии за час | E12: показания счетчика | F12: разность | G12: расход эл.энергии за час | H12: показания счетчика | I12: разность | J12: расход эл.энергии за час | K12: показания счетчика | L12: разность | M12: расход эл.энергии за час
A13: 1 | B13: 2 | C13: 3 | D13: 4 | E13: 5 | F13: 6 | G13: 7 | H13: 8 | I13: 9 | J13: 10 | K13: 11 | L13: 12 | M13: 13
A14: 0
A15: 1 | D15: 4.18 | J15: 0
A16: 2 | D16: 4.18 | J16: 0
A17: 3 | D17: 4.15 | J17: 0
A18: 4 | D18: 4.13 | J18: 0
A19: 5 | D19: 4.14 | J19: 0
A20: 6 | D20: 4.1 | J20: 0
A21: 7 | D21: 0.8 | J21: 0
A22: 8 | D22: 1.77 | J22: 0
A23: 9 | D23: 4.79 | J23: 0
A24: 10 | D24: 4.49 | J24: 0
A25: 11 | D25: 4.66 | J25: 0
A26: 12 | D26: 4.02 | J26: 0
... A38: 24 | D38: 3.97 | J38: 0
A39: Итого | D39: =SUM(D15:D38) -> 92.5 | G39: =SUM(G15:G38) -> 0 | J39: =SUM(J15:J38) -> 0 | M39: =SUM(M15:M38) -> 0
A40: 1. При наличии на предприятии отклонений от нормальных режимов электропотребления (временное изменение схем питания, остановка на ремонт, резкое снижение
A41: эл.потребления и т.д.) последние необходимо перечислить.
A42: Главный инженер АО "Вологдаоблэнерго" А.В. Чурляев
A43: составляется самим предприятием с соблюдением всех пунктов настоящей таблицы.

Sheet 69
B1: АО "Вологдаоблэнерго" | H1: код 900151 | K1: ПС Поповка, ф.Привалино
B2: наименование предприятия | K2: наименование источника питания
K3: КТП-Поселок Поповка
B4: ул. Горького, 99 | G4: Таблица № 1
B5: адрес
A6: почасовых записей показаний электрических счетчиков
A7: в режимный день 15 ИЮНЯ 2022 г.
A8: 1630 | B8: 1628
A9: часы суток | B9: Активная энергия | H9: Реактивная энергия
B10: =K3 -> КТП-Поселок Поповка | E10: =K4 -> 0 | H10: =B10 -> КТП-Поселок Поповка | K10: =E10 -> 0
B11: Расчет. Коэф. | D11: 40 | E11: Расчет. Коэф. | G11: 120 | H11: Расчет. Коэф. | J11: =D11 -> 40 | K11: Расчет. Коэф. | M11: =G11 -> 120
B12: показания счетчика | C12: разность | D12: расход эл.энергии за час | E12: показания счетчика | F12: разность | G12: расход эл.энергии за час | H12: показания счетчика | I12: разность | J12: расход эл.энергии за час | K12: показания счетчика | L12: разность | M12: расход эл.энергии за час
A13: 1 | B13: 2 | C13: 3 | D13: 4 | E13: 5 | F13: 6 | G13: 7 | H13: 8 | I13: 9 | J13: 10 | K13: 11 | L13: 12 | M13: 13
A14: 0
A15: 1 | D15: 16.68 | J15: 0
A16: 2 | D16: 16.08 | J16: 0
A17: 3 | D17: 16.02 | J17: 0
A18: 4 | D18: 17.1 | J18: 0
A19: 5 | D19: 10.32 | J19: 0
A20: 6 | D20: 10.32 | J20: 0
A21: 7 | D21: 15.06 | J21: 0
A22: 8 | D22: 17.4 | J22: 0
A23: 9 | D23: 21.66 | J23: 0
A24: 10 | D24: 21.06 | J24: 0
A25: 11 | D25: 21.96 | J25: 0
A26: 12 | D26: 17.64 | J26: 0
... A38: 24 | D38: 18.72 | J38: 0
A39: Итого | D39: =SUM(D15:D38) -> 448.74 | G39: =SUM(G15:G38) -> 0 | J39: =SUM(J15:J38) -> 0 | M39: =SUM(M15:M38) -> 0
A40: 1. При наличии на предприятии отклонений от нормальных режимов электропотребления (временное изменение схем питания, остановка на ремонт, резкое снижение
A41: эл.потребления и т.д.) последние необходимо перечислить.
A42: Главный инженер АО "Вологдаоблэнерго" А.В. Чурляев
A43: составляется самим предприятием с соблюдением всех пунктов настоящей таблицы.

Sheet 70
B1: АО "Вологдаоблэнерго" | H1: код 900151 | K1: ПС Загородная, ф.Парфеново
B2: наименование предприятия | K2: наименование источника питания
K3: ТП-69 (КТПН-23)
B4: ул. Горького, 99 | G4: Таблица № 1
B5: адрес
A6: почасовых записей показаний электрических счетчиков
A7: в режимный день 15 ИЮНЯ 2022 г.
A8: 1630 | B8: 1628
A9: часы суток | B9: Активная энергия | H9: Реактивная энергия
B10: =K3 -> ТП-69 (КТПН-23) | E10: =K4 -> 0 | H10: =B10 -> ТП-69 (КТПН-23) | K10: =E10 -> 0
B11: Расчет. Коэф. | D11: 20 | E11: Расчет. Коэф. | G11: 120 | H11: Расчет. Коэф. | J11: =D11 -> 20 | K11: Расчет. Коэф. | M11: =G11 -> 120
B12: показания счетчика | C12: разность | D12: расход эл.энергии за час | E12: показания счетчика | F12: разность | G12: расход эл.энергии за час | H12: показания счетчика | I12: разность | J12: расход эл.энергии за час | K12: показания счетчика | L12: разность | M12: расход эл.энергии за час
A13: 1 | B13: 2 | C13: 3 | D13: 4 | E13: 5 | F13: 6 | G13: 7 | H13: 8 | I13: 9 | J13: 10 | K13: 11 | L13: 12 | M13: 13
A14: 0
A15: 1 | D15: 0 | J15: 0
A16: 2 | D16: 0 | J16: 0
A17: 3 | D17: 0 | J17: 0
A18: 4 | D18: 0 | J18: 0
A19: 5 | D19: 0 | J19: 0
A20: 6 | D20: 0 | J20: 0
A21: 7 | D21: 0 | J21: 0
A22: 8 | D22: 0 | J22: 0
A23: 9 | D23: 0 | J23: 0
A24: 10 | D24: 0 | J24: 0
A25: 11 | D25: 0 | J25: 0
A26: 12 | D26: 0 | J26: 0
... A38: 24 | D38: 0 | J38: 0
A39: Итого | D39: =SUM(D15:D38) -> 0 | G39: =SUM(G15:G38) -> 0 | J39: =SUM(J15:J38) -> 0 | M39: =SUM(M15:M38) -> 0
A40: 1. При наличии на предприятии отклонений от нормальных режимов электропотребления (временное изменение схем питания, остановка на ремонт, резкое снижение
A41: эл.потребления и т.д.) последние необходимо перечислить.
A42: Главный инженер АО "Вологдаоблэнерго" А.В. Чурляев
A43: составляется самим предприятием с соблюдением всех пунктов настоящей таблицы.

Sheet 71
B1: АО "Вологдаоблэнерго" | H1: код 900151 | K1: ПС Нелазское, ф. к-сНелазское-1
B2: наименование предприятия | K2: наименование источника питания
K3: ТП-Мастерские Шулма
B4: ул. Горького, 99 | G4: Таблица № 1
B5: адрес
A6: почасовых записей показаний электрических счетчиков
A7: в режимный день 15 ИЮНЯ 2022 г.
A8: 1630 | B8: 1628
A9: часы суток | B9: Активная энергия | H9: Реактивная энергия
B10: =K3 -> ТП-Мастерские Шулма | E10: =K4 -> 0 | H10: =B10 -> ТП-Мастерские Шулма | K10: =E10 -> 0
B11: Расчет. Коэф. | D11: 60 | E11: Расчет. Коэф. | G11: 120 | H11: Расчет. Коэф. | J11: =D11 -> 60 | K11: Расчет. Коэф. | M11: =G11 -> 120
B12: показания счетчика | C12: разность | D12: расход эл.энергии за час | E12: показания счетчика | F12: разность | G12: расход эл.энергии за час | H12: показания счетчика | I12: разность | J12: расход эл.энергии за час | K12: показания счетчика | L12: разность | M12: расход эл.энергии за час
A13: 1 | B13: 2 | C13: 3 | D13: 4 | E13: 5 | F13: 6 | G13: 7 | H13: 8 | I13: 9 | J13: 10 | K13: 11 | L13: 12 | M13: 13
A14: 0
A15: 1 | D15: 0.87 | J15: 0
A16: 2 | D16: 0.87 | J16: 0
A17: 3 | D17: 3.27 | J17: 0
A18: 4 | D18: 4.95 | J18: 0
A19: 5 | D19: 4.86 | J19: 0
A20: 6 | D20: 4.17 | J20: 0
A21: 7 | D21: 0.78 | J21: 0
A22: 8 | D22: 1.35 | J22: 0
A23: 9 | D23: 1.86 | J23: 0
A24: 10 | D24: 3.6 | J24: 0
A25: 11 | D25: 2.73 | J25: 0
A26: 12 | D26: 3.33 | J26: 0
... A38: 24 | D38: 1.74 | J38: 0
A39: Итого | D39: =SUM(D15:D38) -> 62.16 | G39: =SUM(G15:G38) -> 0 | J39: =SUM(J15:J38) -> 0 | M39: =SUM(M15:M38) -> 0
A40: 1. При наличии на предприятии отклонений от нормальных режимов электропотребления (временное изменение схем питания, остановка на ремонт, резкое снижение
A41: эл.потребления и т.д.) последние необходимо перечислить.
A42: Главный инженер АО "Вологдаоблэнерго" А.В. Чурляев
A43: составляется самим предприятием с соблюдением всех пунктов настоящей таблицы.

Sheet 72
B1: АО "Вологдаоблэнерго" | H1: код 900151 | K1: ПС Нелазское, ф. Крутец
B2: наименование предприятия | K2: наименование источника питания
K3: КТП-Шулма, ул.Олимпийская
B4: ул. Горького, 99 | G4: Таблица № 1
B5: адрес
A6: почасовых записей показаний электрических счетчиков
A7: в режимный день 15 ИЮНЯ 2022 г.
A8: 1630 | B8: 1628
A9: часы суток | B9: Активная энергия | H9: Реактивная энергия
B10: =K3 -> КТП-Шулма, ул.Олимпийская | E10: =K4 -> 0 | H10: =B10 -> КТП-Шулма, ул.Олимпийская | K10: =E10 -> 0
B11: Расчет. Коэф. | D11: 60 | E11: Расчет. Коэф. | G11: 120 | H11: Расчет. Коэф. | J11: =D11 -> 60 | K11: Расчет. Коэф. | M11: =G11 -> 120
B12: показания счетчика | C12: разность | D12: расход эл.энергии за час | E12: показания счетчика | F12: разность | G12: расход эл.энергии за час | H12: показания счетчика | I12: разность | J12: расход эл.энергии за час | K12: показания счетчика | L12: разность | M12: расход эл.энергии за час
A13: 1 | B13: 2 | C13: 3 | D13: 4 | E13: 5 | F13: 6 | G13: 7 | H13: 8 | I13: 9 | J13: 10 | K13: 11 | L13: 12 | M13: 13
A14: 0
A15: 1 | D15: 21.81 | J15: 0
A16: 2 | D16: 22.02 | J16: 0
A17: 3 | D17: 17.85 | J17: 0
A18: 4 | D18: 16.41 | J18: 0
A19: 5 | D19: 16.41 | J19: 0
A20: 6 | D20: 18.27 | J20: 0
A21: 7 | D21: 20.43 | J21: 0
A22: 8 | D22: 22.02 | J22: 0
A23: 9 | D23: 20.76 | J23: 0
A24: 10 | D24: 21.93 | J24: 0
A25: 11 | D25: 20.94 | J25: 0
A26: 12 | D26: 20.07 | J26: 0
... A38: 24 | D38: 29.49 | J38: 0
A39: Итого | D39: =SUM(D15:D38) -> 566.94 | G39: =SUM(G15:G38) -> 0 | J39: =SUM(J15:J38) -> 0 | M39: =SUM(M15:M38) -> 0
A40: 1. При наличии на предприятии отклонений от нормальных режимов электропотребления (временное изменение схем питания, остановка на ремонт, резкое снижение
A41: эл.потребления и т.д.) последние необходимо перечислить.
A42: Главный инженер АО "Вологдаоблэнерго" А.В. Чурляев
A43: составляется самим предприятием с соблюдением всех пунктов настоящей таблицы.

Sheet 73
B1: АО "Вологдаоблэнерго" | H1: код 900151 | K1: ПС Домозерово, ф. Починок
B2: наименование предприятия | K2: наименование источника питания
K3: КТП-Бомк
B4: ул. Горького, 99 | G4: Таблица № 1
B5: адрес
A6: почасовых записей показаний электрических счетчиков
A7: в режимный день 15 ИЮНЯ 2022 г.
A8: 1630 | B8: 1628
A9: часы суток | B9: Активная энергия | H9: Реактивная энергия
B10: =K3 -> КТП-Бомк | E10: =K4 -> 0 | H10: =B10 -> КТП-Бомк | K10: =E10 -> 0
B11: Расчет. Коэф. | D11: 80 | E11: Расчет. Коэф. | G11: 120 | H11: Расчет. Коэф. | J11: =D11 -> 80 | K11: Расчет. Коэф. | M11: =G11 -> 120
B12: показания счетчика | C12: разность | D12: расход эл.энергии за час | E12: показания счетчика | F12: разность | G12: расход эл.энергии за час | H12: показания счетчика | I12: разность | J12: расход эл.энергии за час | K12: показания счетчика | L12: разность | M12: расход эл.энергии за час
A13: 1 | B13: 2 | C13: 3 | D13: 4 | E13: 5 | F13: 6 | G13: 7 | H13: 8 | I13: 9 | J13: 10 | K13: 11 | L13: 12 | M13: 13
A14: 0
A15: 1 | D15: 22.576 | J15: 0
A16: 2 | D16: 18.608 | J16: 0
A17: 3 | D17: 17.744 | J17: 0
A18: 4 | D18: 16.24 | J18: 0
A19: 5 | D19: 18.528 | J19: 0
A20: 6 | D20: 22.352 | J20: 0
A21: 7 | D21: 20.112 | J21: 0
A22: 8 | D22: 26.016 | J22: 0
A23: 9 | D23: 30.768 | J23: 0
A24: 10 | D24: 35.152 | J24: 0
A25: 11 | D25: 35.312 | J25: 0
A26: 12 | D26: 35.776 | J26: 0
... A38: 24 | D38: 30.016 | J38: 0
A39: Итого | D39: =SUM(D15:D38) -> 768.896 | G39: =SUM(G15:G38) -> 0 | J39: =SUM(J15:J38) -> 0 | M39: =SUM(M15:M38) -> 0
A40: 1. При наличии на предприятии отклонений от нормальных режимов электропотребления (временное изменение схем питания, остановка на ремонт, резкое снижение
A41: эл.потребления и т.д.) последние необходимо перечислить.
A42: Главный инженер АО "Вологдаоблэнерго" А.В. Чурляев
A43: составляется самим предприятием с соблюдением всех пунктов настоящей таблицы.

Sheet 74
B1: АО "Вологдаоблэнерго" | H1: код 900151 | K1: ПС Батран, ф.Гоша
B2: наименование предприятия | K2: наименование источника питания
K3: КТП-ДНТ Ульяновский
B4: ул. Горького, 99 | G4: Таблица № 1
B5: адрес
A6: почасовых записей показаний электрических счетчиков
A7: в режимный день 15 ИЮНЯ 2022 г.
A8: 1630 | B8: 1628
A9: часы суток | B9: Активная энергия | H9: Реактивная энергия
B10: =K3 -> КТП-ДНТ Ульяновский | E10: =K4 -> 0 | H10: =B10 -> КТП-ДНТ Ульяновский | K10: =E10 -> 0
B11: Расчет. Коэф. | D11: 60 | E11: Расчет. Коэф. | G11: 120 | H11: Расчет. Коэф. | J11: =D11 -> 60 | K11: Расчет. Коэф. | M11: =G11 -> 120
B12: показания счетчика | C12: разность | D12: расход эл.энергии за час | E12: показания счетчика | F12: разность | G12: расход эл.энергии за час | H12: показания счетчика | I12: разность | J12: расход эл.энергии за час | K12: показания счетчика | L12: разность | M12: расход эл.энергии за час
A13: 1 | B13: 2 | C13: 3 | D13: 4 | E13: 5 | F13: 6 | G13: 7 | H13: 8 | I13: 9 | J13: 10 | K13: 11 | L13: 12 | M13: 13
A14: 0
A15: 1 | D15: 1.02 | J15: 0
A16: 2 | D16: 1.08 | J16: 0
A17: 3 | D17: 1.02 | J17: 0
A18: 4 | D18: 0.99 | J18: 0
A19: 5 | D19: 1.02 | J19: 0
A20: 6 | D20: 0.9 | J20: 0
A21: 7 | D21: 1.47 | J21: 0
A22: 8 | D22: 2.19 | J22: 0
A23: 9 | D23: 2.34 | J23: 0
A24: 10 | D24: 2.61 | J24: 0
A25: 11 | D25: 2.28 | J25: 0
A26: 12 | D26: 2.22 | J26: 0
... A38: 24 | D38: 1.08 | J38: 0
A39: Итого | D39: =SUM(D15:D38) -> 41.61 | G39: =SUM(G15:G38) -> 0 | J39: =SUM(J15:J38) -> 0 | M39: =SUM(M15:M38) -> 0
A40: 1. При наличии на предприятии отклонений от нормальных режимов электропотребления (временное изменение схем питания, остановка на ремонт, резкое снижение
A41: эл.потребления и т.д.) последние необходимо перечислить.
A42: Главный инженер АО "Вологдаоблэнерго" А.В. Чурляев
A43: составляется самим предприятием с соблюдением всех пунктов настоящей таблицы.

Sheet 75
B1: АО "Вологдаоблэнерго" | H1: код 900151 | K1: ПС Малечкино, ф.Котельная
B2: наименование предприятия | K2: наименование источника питания
K3: ТП-47 В-1
B4: ул. Горького, 99 | G4: Таблица № 1 | K4: ТП-47 В-2
B5: адрес
A6: почасовых записей показаний электрических счетчиков
A7: в режимный день 15 ИЮНЯ 2022 г.
A8: 1630 | B8: 1628
A9: часы суток | B9: Активная энергия | H9: Реактивная энергия
B10: =K3 -> ТП-47 В-1 | E10: =K4 -> ТП-47 В-2 | H10: =B10 -> ТП-47 В-1 | K10: =E10 -> ТП-47 В-2
B11: Расчет. Коэф. | D11: 120 | E11: Расчет. Коэф. | G11: 120 | H11: Расчет. Коэф. | J11: =D11 -> 120 | K11: Расчет. Коэф. | M11: =G11 -> 120
B12: показания счетчика | C12: разность | D12: расход эл.энергии за час | E12: показания счетчика | F12: разность | G12: расход эл.энергии за час | H12: показания счетчика | I12: разность | J12: расход эл.энергии за час | K12: показания счетчика | L12: разность | M12: расход эл.энергии за час
A13: 1 | B13: 2 | C13: 3 | D13: 4 | E13: 5 | F13: 6 | G13: 7 | H13: 8 | I13: 9 | J13: 10 | K13: 11 | L13: 12 | M13: 13
A14: 0
A15: 1 | D15: 0 | G15: 31.512 | J15: 0 | M15: 0
A16: 2 | D16: 0 | G16: 33.36 | J16: 0 | M16: 0
A17: 3 | D17: 0 | G17: 31.152 | J17: 0 | M17: 0
A18: 4 | D18: 0 | G18: 31.152 | J18: 0 | M18: 0
A19: 5 | D19: 0 | G19: 33 | J19: 0 | M19: 0
A20: 6 | D20: 0 | G20: 31.104 | J20: 0 | M20: 0
A21: 7 | D21: 0 | G21: 34.248 | J21: 0 | M21: 0
A22: 8 | D22: 0 | G22: 33.504 | J22: 0 | M22: 0
A23: 9 | D23: 0 | G23: 31.56 | J23: 0 | M23: 0
A24: 10 | D24: 0 | G24: 33.12 | J24: 0 | M24: 0
A25: 11 | D25: 0 | G25: 30.504 | J25: 0 | M25: 0
A26: 12 | D26: 0 | G26: 33 | J26: 0 | M26: 0
... A38: 24 | D38: 0 | G38: 33.696 | J38: 0 | M38: 0
A39: Итого | D39: =SUM(D15:D38) -> 0 | G39: =SUM(G15:G38) -> 788.088 | J39: =SUM(J15:J38) -> 0 | M39: =SUM(M15:M38) -> 0
A40: 1. При наличии на предприятии отклонений от нормальных режимов электропотребления (временное изменение схем питания, остановка на ремонт, резкое снижение
A41: эл.потребления и т.д.) последние необходимо перечислить.
A42: Главный инженер АО "Вологдаоблэнерго" А.В. Чурляев
A43: составляется самим предприятием с соблюдением всех пунктов настоящей таблицы.

Sheet 76
B1: АО "Вологдаоблэнерго" | H1: код 900151 | K1: ПС Малечкино, ф.Птицефабрика
B2: наименование предприятия | K2: наименование источника питания
K3: ТП-9 В-1
B4: ул. Горького, 99 | G4: Таблица № 1
B5: адрес
A6: почасовых записей показаний электрических счетчиков
A7: в режимный день 15 ИЮНЯ 2022 г.
A8: 1630 | B8: 1628
A9: часы суток | B9: Активная энергия | H9: Реактивная энергия
B10: =K3 -> ТП-9 В-1 | E10: =K4 -> 0 | H10: =B10 -> ТП-9 В-1 | K10: =E10 -> 0
B11: Расчет. Коэф. | D11: 40 | E11: Расчет. Коэф. | G11: 120 | H11: Расчет. Коэф. | J11: =D11 -> 40 | K11: Расчет. Коэф. | M11: =G11 -> 120
B12: показания счетчика | C12: разность | D12: расход эл.энергии за час | E12: показания счетчика | F12: разность | G12: расход эл.энергии за час | H12: показания счетчика | I12: разность | J12: расход эл.энергии за час | K12: показания счетчика | L12: разность | M12: расход эл.энергии за час
A13: 1 | B13: 2 | C13: 3 | D13: 4 | E13: 5 | F13: 6 | G13: 7 | H13: 8 | I13: 9 | J13: 10 | K13: 11 | L13: 12 | M13: 13
A14: 0
A15: 1 | D15: 0 | J15: 0
A16: 2 | D16: 0 | J16: 0
A17: 3 | D17: 0 | J17: 0
A18: 4 | D18: 0 | J18: 0
A19: 5 | D19: 0 | J19: 0
A20: 6 | D20: 0 | J20: 0
A21: 7 | D21: 0 | J21: 0
A22: 8 | D22: 0 | J22: 0
A23: 9 | D23: 0 | J23: 0
A24: 10 | D24: 0 | J24: 0
A25: 11 | D25: 0 | J25: 0
A26: 12 | D26: 0 | J26: 0
... A38: 24 | D38: 0 | J38: 0
A39: Итого | D39: =SUM(D15:D38) -> 0 | G39: =SUM(G15:G38) -> 0 | J39: =SUM(J15:J38) -> 0 | M39: =SUM(M15:M38) -> 0
A40: 1. При наличии на предприятии отклонений от нормальных режимов электропотребления (временное изменение схем питания, остановка на ремонт, резкое снижение
A41: эл.потребления и т.д.) последние необходимо перечислить.
A42: Главный инженер АО "Вологдаоблэнерго" А.В. Чурляев
A43: составляется самим предприятием с соблюдением всех пунктов настоящей таблицы.

Sheet 77
B1: АО "Вологдаоблэнерго" | H1: код 900151 | K1: ПС Малечкино, ф.Котельная
B2: наименование предприятия | K2: наименование источника питания
K3: ТП-9 В-2
B4: ул. Горького, 99 | G4: Таблица № 1
B5: адрес
A6: почасовых записей показаний электрических счетчиков
A7: в режимный день 15 ИЮНЯ 2022 г.
A8: 1630 | B8: 1628
A9: часы суток | B9: Активная энергия | H9: Реактивная энергия
B10: =K3 -> ТП-9 В-2 | E10: =K4 -> 0 | H10: =B10 -> ТП-9 В-2 | K10: =E10 -> 0
B11: Расчет. Коэф. | D11: 40 | E11: Расчет. Коэф. | G11: 120 | H11: Расчет. Коэф. | J11: =D11 -> 40 | K11: Расчет. Коэф. | M11: =G11 -> 120
B12: показания счетчика | C12: разность | D12: расход эл.энергии за час | E12: показания счетчика | F12: разность | G12: расход эл.энергии за час | H12: показания счетчика | I12: разность | J12: расход эл.энергии за час | K12: показания счетчика | L12: разность | M12: расход эл.энергии за час
A13: 1 | B13: 2 | C13: 3 | D13: 4 | E13: 5 | F13: 6 | G13: 7 | H13: 8 | I13: 9 | J13: 10 | K13: 11 | L13: 12 | M13: 13
A14: 0
A15: 1 | D15: 4.696 | J15: 0
A16: 2 | D16: 4.568 | J16: 0
A17: 3 | D17: 4.456 | J17: 0
A18: 4 | D18: 4.336 | J18: 0
A19: 5 | D19: 4.712 | J19: 0
A20: 6 | D20: 6.448 | J20: 0
A21: 7 | D21: 7.432 | J21: 0
A22: 8 | D22: 10.584 | J22: 0
A23: 9 | D23: 9.592 | J23: 0
A24: 10 | D24: 9.192 | J24: 0
A25: 11 | D25: 8.184 | J25: 0
A26: 12 | D26: 5.776 | J26: 0
... A38: 24 | D38: 5.672 | J38: 0
A39: Итого | D39: =SUM(D15:D38) -> 157.952 | G39: =SUM(G15:G38) -> 0 | J39: =SUM(J15:J38) -> 0 | M39: =SUM(M15:M38) -> 0
A40: 1. При наличии на предприятии отклонений от нормальных режимов электропотребления (временное изменение схем питания, остановка на ремонт, резкое снижение
A41: эл.потребления и т.д.) последние необходимо перечислить.
A42: Главный инженер АО "Вологдаоблэнерго" А.В. Чурляев
A43: составляется самим предприятием с соблюдением всех пунктов настоящей таблицы.

Sheet 78
B1: АО "Вологдаоблэнерго" | H1: код 900151 | K1: ПС Загородная, ф.Солнаское
B2: наименование предприятия | K2: наименование источника питания
K3: ТП Северо-Западный т.д.
B4: ул. Горького, 99 | G4: Таблица № 1 | K4: КТП- Мелиоводстрой
B5: адрес
A6: почасовых записей показаний электрических счетчиков
A7: в режимный день 15 ИЮНЯ 2022 г.
A8: 1630 | B8: 1628
A9: часы суток | B9: Активная энергия | H9: Реактивная энергия
B10: =K3 -> ТП Северо-Западный т.д. | E10: =K4 -> КТП- Мелиоводстрой | H10: =B10 -> ТП Северо-Западный т.д. | K10: =E10 -> КТП- Мелиоводстрой
B11: Расчет. Коэф. | D11: 120 | E11: Расчет. Коэф. | G11: 200 | H11: Расчет. Коэф. | J11: =D11 -> 120 | K11: Расчет. Коэф. | M11: =G11 -> 200
B12: показания счетчика | C12: разность | D12: расход эл.энергии за час | E12: показания счетчика | F12: разность | G12: расход эл.энергии за час | H12: показания счетчика | I12: разность | J12: расход эл.энергии за час | K12: показания счетчика | L12: разность | M12: расход эл.энергии за час
A13: 1 | B13: 2 | C13: 3 | D13: 4 | E13: 5 | F13: 6 | G13: 7 | H13: 8 | I13: 9 | J13: 10 | K13: 11 | L13: 12 | M13: 13
A14: 0
A15: 1 | D15: 2.1 | G15: 60.96 | J15: 0 | M15: 0
A16: 2 | D16: 1.86 | G16: 56.64 | J16: 0 | M16: 0
A17: 3 | D17: 1.98 | G17: 54.44 | J17: 0 | M17: 0
A18: 4 | D18: 1.98 | G18: 53.64 | J18: 0 | M18: 0
A19: 5 | D19: 0.9 | G19: 48.12 | J19: 0 | M19: 0
A20: 6 | D20: 0.9 | G20: 47.48 | J20: 0 | M20: 0
A21: 7 | D21: 0.84 | G21: 59.28 | J21: 0 | M21: 0
A22: 8 | D22: 2.04 | G22: 60.08 | J22: 0 | M22: 0
A23: 9 | D23: 3.24 | G23: 82.56 | J23: 0 | M23: 0
A24: 10 | D24: 3.42 | G24: 81.32 | J24: 0 | M24: 0
A25: 11 | D25: 3.6 | G25: 84.32 | J25: 0 | M25: 0
A26: 12 | D26: 3.78 | G26: 86.72 | J26: 0 | M26: 0
... A38: 24 | D38: 1.98 | G38: 76.92 | J38: 0 | M38: 0
A39: Итого | D39: =SUM(D15:D38) -> 74.16 | G39: =SUM(G15:G38) -> 1825.16 | J39: =SUM(J15:J38) -> 0 | M39: =SUM(M15:M38) -> 0
A40: 1. При наличии на предприятии отклонений от нормальных режимов электропотребления (временное изменение схем питания, остановка на ремонт, резкое снижение
A41: эл.потребления и т.д.) последние необходимо перечислить.
A42: Главный инженер АО "Вологдаоблэнерго" А.В. Чурляев
A43: составляется самим предприятием с соблюдением всех пунктов настоящей таблицы.

Sheet 79
B1: АО "Вологдаоблэнерго" | H1: код 900151 | K1: ПС Суда, ф. Андога
B2: наименование предприятия | K2: наименование источника питания
K3: КТП-100 Детский дом
B4: ул. Горького, 99 | G4: Таблица № 1
B5: адрес
A6: почасовых записей показаний электрических счетчиков
A7: в режимный день 15 ИЮНЯ 2022 г.
A8: 1630 | B8: 1628
A9: часы суток | B9: Активная энергия | H9: Реактивная энергия
B10: =K3 -> КТП-100 Детский дом | E10: =K4 -> 0 | H10: =B10 -> КТП-100 Детский дом | K10: =E10 -> 0
B11: Расчет. Коэф. | D11: 20 | E11: Расчет. Коэф. | G11: 200 | H11: Расчет. Коэф. | J11: =D11 -> 20 | K11: Расчет. Коэф. | M11: =G11 -> 200
B12: показания счетчика | C12: разность | D12: расход эл.энергии за час | E12: показания счетчика | F12: разность | G12: расход эл.энергии за час | H12: показания счетчика | I12: разность | J12: расход эл.энергии за час | K12: показания счетчика | L12: разность | M12: расход эл.энергии за час
A13: 1 | B13: 2 | C13: 3 | D13: 4 | E13: 5 | F13: 6 | G13: 7 | H13: 8 | I13: 9 | J13: 10 | K13: 11 | L13: 12 | M13: 13
A14: 0
A15: 1 | D15: 0.76 | J15: 0
A16: 2 | D16: 0.748 | J16: 0
A17: 3 | D17: 1.004 | J17: 0
A18: 4 | D18: 1.076 | J18: 0
A19: 5 | D19: 0.744 | J19: 0
A20: 6 | D20: 1.02 | J20: 0
A21: 7 | D21: 0.884 | J21: 0
A22: 8 | D22: 0.912 | J22: 0
A23: 9 | D23: 0.716 | J23: 0
A24: 10 | D24: 0.7 | J24: 0
A25: 11 | D25: 0.636 | J25: 0
A26: 12 | D26: 0.54 | J26: 0
... A38: 24 | D38: 1.136 | J38: 0
A39: Итого | D39: =SUM(D15:D38) -> 21.316 | G39: =SUM(G15:G38) -> 0 | J39: =SUM(J15:J38) -> 0 | M39: =SUM(M15:M38) -> 0
A40: 1. При наличии на предприятии отклонений от нормальных режимов электропотребления (временное изменение схем питания, остановка на ремонт, резкое снижение
A41: эл.потребления и т.д.) последние необходимо перечислить.
A42: Главный инженер АО "Вологдаоблэнерго" А.В. Чурляев
A43: составляется самим предприятием с соблюдением всех пунктов настоящей таблицы.

Sheet 80
B1: АО "Вологдаоблэнерго" | H1: код 900151 | K1: ПС Климовская, ф. Лохта
B2: наименование предприятия | K2: наименование источника питания
K3: ТП-325
B4: ул. Горького, 99 | G4: Таблица № 1
B5: адрес
A6: почасовых записей показаний электрических счетчиков
A7: в режимный день 15 ИЮНЯ 2022 г.
A8: 1630 | B8: 1628
A9: часы суток | B9: Активная энергия | H9: Реактивная энергия
B10: =K3 -> ТП-325 | E10: =K4 -> 0 | H10: =B10 -> ТП-325 | K10: =E10 -> 0
B11: Расчет. Коэф. | D11: 120 | E11: Расчет. Коэф. | G11: 200 | H11: Расчет. Коэф. | J11: =D11 -> 120 | K11: Расчет. Коэф. | M11: =G11 -> 200
B12: показания счетчика | C12: разность | D12: расход эл.энергии за час | E12: показания счетчика | F12: разность | G12: расход эл.энергии за час | H12: показания счетчика | I12: разность | J12: расход эл.энергии за час | K12: показания счетчика | L12: разность | M12: расход эл.энергии за час
A13: 1 | B13: 2 | C13: 3 | D13: 4 | E13: 5 | F13: 6 | G13: 7 | H13: 8 | I13: 9 | J13: 10 | K13: 11 | L13: 12 | M13: 13
A14: 0
A15: 1 | D15: 0.42 | J15: 0
A16: 2 | D16: 0.48 | J16: 0
A17: 3 | D17: 0.48 | J17: 0
A18: 4 | D18: 0.48 | J18: 0
A19: 5 | D19: 0.42 | J19: 0
A20: 6 | D20: 0.54 | J20: 0
A21: 7 | D21: 0.42 | J21: 0
A22: 8 | D22: 0.48 | J22: 0
A23: 9 | D23: 5.4 | J23: 0
A24: 10 | D24: 5.16 | J24: 0
A25: 11 | D25: 8.64 | J25: 0
A26: 12 | D26: 6.66 | J26: 0
... A38: 24 | D38: 0.48 | J38: 0
A39: Итого | D39: =SUM(D15:D38) -> 42.78 | G39: =SUM(G15:G38) -> 0 | J39: =SUM(J15:J38) -> 0 | M39: =SUM(M15:M38) -> 0
A40: 1. При наличии на предприятии отклонений от нормальных режимов электропотребления (временное изменение схем питания, остановка на ремонт, резкое снижение
A41: эл.потребления и т.д.) последние необходимо перечислить.
A42: Главный инженер АО "Вологдаоблэнерго" А.В. Чурляев
A43: составляется самим предприятием с соблюдением всех пунктов настоящей таблицы.

Sheet 81
B1: АО "Вологдаоблэнерго" | H1: код 900151 | K1: ПС Енюково, ф. Ботово
B2: наименование предприятия | K2: наименование источника питания
K3: ТП-Новое Ботово
B4: ул. Горького, 99 | G4: Таблица № 1 | K4: КТП- д.Ботово
B5: адрес
A6: почасовых записей показаний электрических счетчиков
A7: в режимный день 15 ИЮНЯ 2022 г.
A8: 1630 | B8: 1628
A9: часы суток | B9: Активная энергия | H9: Реактивная энергия
B10: =K3 -> ТП-Новое Ботово | E10: =K4 -> КТП- д.Ботово | H10: =B10 -> ТП-Новое Ботово | K10: =E10 -> КТП- д.Ботово
B11: Расчет. Коэф. | D11: 40 | E11: Расчет. Коэф. | G11: 40 | H11: Расчет. Коэф. | J11: =D11 -> 40 | K11: Расчет. Коэф. | M11: =G11 -> 40
B12: показания счетчика | C12: разность | D12: расход эл.энергии за час | E12: показания счетчика | F12: разность | G12: расход эл.энергии за час | H12: показания счетчика | I12: разность | J12: расход эл.энергии за час | K12: показания счетчика | L12: разность | M12: расход эл.энергии за час
A13: 1 | B13: 2 | C13: 3 | D13: 4 | E13: 5 | F13: 6 | G13: 7 | H13: 8 | I13: 9 | J13: 10 | K13: 11 | L13: 12 | M13: 13
A14: 0
A15: 1 | D15: 5.5 | G15: 8.415 | J15: 0 | M15: 0
A16: 2 | D16: 4.06 | G16: 7.425 | J16: 0 | M16: 0
A17: 3 | D17: 1.84 | G17: 4.275 | J17: 0 | M17: 0
A18: 4 | D18: 1.98 | G18: 4.305 | J18: 0 | M18: 0
A19: 5 | D19: 1.6 | G19: 4.14 | J19: 0 | M19: 0
A20: 6 | D20: 1.36 | G20: 3.375 | J20: 0 | M20: 0
A21: 7 | D21: 2.84 | G21: 4.545 | J21: 0 | M21: 0
A22: 8 | D22: 4.02 | G22: 6.33 | J22: 0 | M22: 0
A23: 9 | D23: 4.12 | G23: 10.035 | J23: 0 | M23: 0
A24: 10 | D24: 2.66 | G24: 12.12 | J24: 0 | M24: 0
A25: 11 | D25: 1.22 | G25: 12.81 | J25: 0 | M25: 0
A26: 12 | D26: 3.06 | G26: 9.96 | J26: 0 | M26: 0
... A38: 24 | D38: 6.32 | G38: 10.845 | J38: 0 | M38: 0
A39: Итого | D39: =SUM(D15:D38) -> 75.1 | G39: =SUM(G15:G38) -> 222.57 | J39: =SUM(J15:J38) -> 0 | M39: =SUM(M15:M38) -> 0
A40: 1. При наличии на предприятии отклонений от нормальных режимов электропотребления (временное изменение схем питания, остановка на ремонт, резкое снижение
A41: эл.потребления и т.д.) последние необходимо перечислить.
A42: Главный инженер АО "Вологдаоблэнерго" А.В. Чурляев
A43: составляется самим предприятием с соблюдением всех пунктов настоящей таблицы.

Sheet 82
B1: АО "Вологдаоблэнерго" | H1: код 900151 | K1: ПС Енюково, ф. Борисово
B2: наименование предприятия | K2: наименование источника питания
K3: КТП-100 АЗС №43
B4: ул. Горького, 99 | G4: Таблица № 1
B5: адрес
A6: почасовых записей показаний электрических счетчиков
A7: в режимный день 15 ИЮНЯ 2022 г.
A8: 1630 | B8: 1628
A9: часы суток | B9: Активная энергия | H9: Реактивная энергия
B10: =K3 -> КТП-100 АЗС №43 | E10: =K4 -> 0 | H10: =B10 -> КТП-100 АЗС №43 | K10: =E10 -> 0
B11: Расчет. Коэф. | D11: 30 | E11: Расчет. Коэф. | G11: 40 | H11: Расчет. Коэф. | J11: =D11 -> 30 | K11: Расчет. Коэф. | M11: =G11 -> 40
B12: показания счетчика | C12: разность | D12: расход эл.энергии за час | E12: показания счетчика | F12: разность | G12: расход эл.энергии за час | H12: показания счетчика | I12: разность | J12: расход эл.энергии за час | K12: показания счетчика | L12: разность | M12: расход эл.энергии за час
A13: 1 | B13: 2 | C13: 3 | D13: 4 | E13: 5 | F13: 6 | G13: 7 | H13: 8 | I13: 9 | J13: 10 | K13: 11 | L13: 12 | M13: 13
A14: 0
A15: 1 | D15: 11.604 | J15: 0
A16: 2 | D16: 11.142 | J16: 0
A17: 3 | D17: 13.236 | J17: 0
A18: 4 | D18: 12.678 | J18: 0
A19: 5 | D19: 9.192 | J19: 0
A20: 6 | D20: 5.022 | J20: 0
A21: 7 | D21: 6.978 | J21: 0
A22: 8 | D22: 8.178 | J22: 0
A23: 9 | D23: 8.142 | J23: 0
A24: 10 | D24: 8.328 | J24: 0
A25: 11 | D25: 7.716 | J25: 0
A26: 12 | D26: 6.924 | J26: 0
... A38: 24 | D38: 11.826 | J38: 0
A39: Итого | D39: =SUM(D15:D38) -> 197.352 | G39: =SUM(G15:G38) -> 0 | J39: =SUM(J15:J38) -> 0 | M39: =SUM(M15:M38) -> 0
A40: 1. При наличии на предприятии отклонений от нормальных режимов электропотребления (временное изменение схем питания, остановка на ремонт, резкое снижение
A41: эл.потребления и т.д.) последние необходимо перечислить.
A42: Главный инженер АО "Вологдаоблэнерго" А.В. Чурляев
A43: составляется самим предприятием с соблюдением всех пунктов настоящей таблицы.

Sheet 83
B1: АО "Вологдаоблэнерго" | H1: код 900151 | K1: ПС Енюково, ф. Борисово
B2: наименование предприятия | K2: наименование источника питания
K3: КТП-100 АЗС №43
B4: ул. Горького, 99 | G4: Таблица № 1 | K4: ТП- "Освещение дороги" (Аэропорт)
B5: адрес
A6: почасовых записей показаний электрических счетчиков
A7: в режимный день 15 ИЮНЯ 2022 г.
A8: 1630 | B8: 1628
A9: часы суток | B9: Активная энергия | H9: Реактивная энергия
B10: =K3 -> КТП-100 АЗС №43 | E10: =K4 -> ТП- "Освещение дороги" (Аэропорт) | H10: =B10 -> КТП-100 АЗС №43 | K10: =E10 -> ТП- "Освещение дороги" (Аэропорт)
B11: Расчет. Коэф. | D11: 30 | E11: Расчет. Коэф. | G11: 1 | H11: Расчет. Коэф. | J11: =D11 -> 30 | K11: Расчет. Коэф. | M11: =G11 -> 1
B12: показания счетчика | C12: разность | D12: расход эл.энергии за час | E12: показания счетчика | F12: разность | G12: расход эл.энергии за час | H12: показания счетчика | I12: разность | J12: расход эл.энергии за час | K12: показания счетчика | L12: разность | M12: расход эл.энергии за час
A13: 1 | B13: 2 | C13: 3 | D13: 4 | E13: 5 | F13: 6 | G13: 7 | H13: 8 | I13: 9 | J13: 10 | K13: 11 | L13: 12 | M13: 13
A14: 0
A15: 1 | D15: 11.604 | G15: 11.814 | J15: 0 | M15: 0
A16: 2 | D16: 11.142 | G16: 11.731 | J16: 0 | M16: 0
A17: 3 | D17: 13.236 | G17: 9.309 | J17: 0 | M17: 0
A18: 4 | D18: 12.678 | G18: 0.019 | J18: 0 | M18: 0
A19: 5 | D19: 9.192 | G19: 0.019 | J19: 0 | M19: 0
A20: 6 | D20: 5.022 | G20: 0.02 | J20: 0 | M20: 0
A21: 7 | D21: 6.978 | G21: 0.019 | J21: 0 | M21: 0
A22: 8 | D22: 8.178 | G22: 0.02 | J22: 0 | M22: 0
A23: 9 | D23: 8.142 | G23: 0.019 | J23: 0 | M23: 0
A24: 10 | D24: 8.328 | G24: 0.018 | J24: 0 | M24: 0
A25: 11 | D25: 7.716 | G25: 0.018 | J25: 0 | M25: 0
A26: 12 | D26: 6.924 | G26: 0.019 | J26: 0 | M26: 0
... A38: 24 | D38: 11.826 | G38: 11.678 | J38: 0 | M38: 0
A39: Итого | D39: =SUM(D15:D38) -> 197.352 | G39: =SUM(G15:G38) -> 53.638 | J39: =SUM(J15:J38) -> 0 | M39: =SUM(M15:M38) -> 0
A40: 1. При наличии на предприятии отклонений от нормальных режимов электропотребления (временное изменение схем питания, остановка на ремонт, резкое снижение
A41: эл.потребления и т.д.) последние необходимо перечислить.
A42: Главный инженер АО "Вологдаоблэнерго" А.В. Чурляев
A43: составляется самим предприятием с соблюдением всех пунктов настоящей таблицы.

Sheet 84
B1: АО "Вологдаоблэнерго" | H1: код 900151 | K1: ПС РПП-1, ф. Шубацкое
B2: наименование предприятия | K2: наименование источника питания
K3: КТП-63 "ЧЭТС"
B4: ул. Горького, 99 | G4: Таблица № 1
B5: адрес
A6: почасовых записей показаний электрических счетчиков
A7: в режимный день 15 ИЮНЯ 2022 г.
A8: 1630 | B8: 1628
A9: часы суток | B9: Активная энергия | H9: Реактивная энергия
B10: =K3 -> КТП-63 "ЧЭТС" | E10: =K4 -> 0 | H10: =B10 -> КТП-63 "ЧЭТС" | K10: =E10 -> 0
B11: Расчет. Коэф. | D11: 20 | E11: Расчет. Коэф. | G11: 40 | H11: Расчет. Коэф. | J11: =D11 -> 20 | K11: Расчет. Коэф. | M11: =G11 -> 40
B12: показания счетчика | C12: разность | D12: расход эл.энергии за час | E12: показания счетчика | F12: разность | G12: расход эл.энергии за час | H12: показания счетчика | I12: разность | J12: расход эл.энергии за час | K12: показания счетчика | L12: разность | M12: расход эл.энергии за час
A13: 1 | B13: 2 | C13: 3 | D13: 4 | E13: 5 | F13: 6 | G13: 7 | H13: 8 | I13: 9 | J13: 10 | K13: 11 | L13: 12 | M13: 13
A14: 0
A15: 1 | D15: 5.01 | J15: 0
A16: 2 | D16: 4.53 | J16: 0
A17: 3 | D17: 4.67 | J17: 0
A18: 4 | D18: 4.44 | J18: 0
A19: 5 | D19: 5.78 | J19: 0
A20: 6 | D20: 5.99 | J20: 0
A21: 7 | D21: 6.1 | J21: 0
A22: 8 | D22: 8.73 | J22: 0
A23: 9 | D23: 8.21 | J23: 0
A24: 10 | D24: 8.47 | J24: 0
A25: 11 | D25: 8.6 | J25: 0
A26: 12 | D26: 9.01 | J26: 0
... A38: 24 | D38: 4.87 | J38: 0
A39: Итого | D39: =SUM(D15:D38) -> 160.03 | G39: =SUM(G15:G38) -> 0 | J39: =SUM(J15:J38) -> 0 | M39: =SUM(M15:M38) -> 0
A40: 1. При наличии на предприятии отклонений от нормальных режимов электропотребления (временное изменение схем питания, остановка на ремонт, резкое снижение
A41: эл.потребления и т.д.) последние необходимо перечислить.
A42: Главный инженер АО "Вологдаоблэнерго" А.В. Чурляев
A43: составляется самим предприятием с соблюдением всех пунктов настоящей таблицы.

Sheet 85
B1: АО "Вологдаоблэнерго" | H1: код 900151 | K1: ПС Климоская, ф. Лохта
B2: наименование предприятия | K2: наименование источника питания
K3: КТП-Деревня
B4: ул. Горького, 99 | G4: Таблица № 1 | K4: ТП-321
B5: адрес
A6: почасовых записей показаний электрических счетчиков
A7: в режимный день 15 ИЮНЯ 2022 г.
A8: 1630 | B8: 1628
A9: часы суток | B9: Активная энергия | H9: Реактивная энергия
B10: =K3 -> КТП-Деревня | E10: =K4 -> ТП-321 | H10: =B10 -> КТП-Деревня | K10: =E10 -> ТП-321
B11: Расчет. Коэф. | D11: 80 | E11: Расчет. Коэф. | G11: 30 | H11: Расчет. Коэф. | J11: =D11 -> 80 | K11: Расчет. Коэф. | M11: =G11 -> 30
B12: показания счетчика | C12: разность | D12: расход эл.энергии за час | E12: показания счетчика | F12: разность | G12: расход эл.энергии за час | H12: показания счетчика | I12: разность | J12: расход эл.энергии за час | K12: показания счетчика | L12: разность | M12: расход эл.энергии за час
A13: 1 | B13: 2 | C13: 3 | D13: 4 | E13: 5 | F13: 6 | G13: 7 | H13: 8 | I13: 9 | J13: 10 | K13: 11 | L13: 12 | M13: 13
A14: 0
A15: 1 | D15: 38.496 | G15: 3.945 | J15: 0 | M15: 0
A16: 2 | D16: 36.32 | G16: 3.87 | J16: 0 | M16: 0
A17: 3 | D17: 36.672 | G17: 3.9 | J17: 0 | M17: 0
A18: 4 | D18: 28.928 | G18: 3.855 | J18: 0 | M18: 0
A19: 5 | D19: 30.256 | G19: 4.02 | J19: 0 | M19: 0
A20: 6 | D20: 31.072 | G20: 6.9 | J20: 0 | M20: 0
A21: 7 | D21: 37.632 | G21: 6.54 | J21: 0 | M21: 0
A22: 8 | D22: 41.472 | G22: 5.16 | J22: 0 | M22: 0
A23: 9 | D23: 46.416 | G23: 4.425 | J23: 0 | M23: 0
A24: 10 | D24: 47.84 | G24: 2.07 | J24: 0 | M24: 0
A25: 11 | D25: 49.68 | G25: 1.65 | J25: 0 | M25: 0
A26: 12 | D26: 46.576 | G26: 4.785 | J26: 0 | M26: 0
... A38: 24 | D38: 52.368 | G38: 4.14 | J38: 0 | M38: 0
A39: Итого | D39: =SUM(D15:D38) -> 1116.576 | G39: =SUM(G15:G38) -> 121.665 | J39: =SUM(J15:J38) -> 0 | M39: =SUM(M15:M38) -> 0
A40: 1. При наличии на предприятии отклонений от нормальных режимов электропотребления (временное изменение схем питания, остановка на ремонт, резкое снижение
A41: эл.потребления и т.д.) последние необходимо перечислить.
A42: Главный инженер АО "Вологдаоблэнерго" А.В. Чурляев
A43: составляется самим предприятием с соблюдением всех пунктов настоящей таблицы.

Sheet 86
B1: АО "Вологдаоблэнерго" | H1: код 900151 | K1: ПС Енюково
B2: наименование предприятия | K2: наименование источника питания
K3: ф. КУФ-3
B4: ул. Горького, 99 | G4: Таблица № 1
B5: адрес
A6: почасовых записей показаний электрических счетчиков
A7: в режимный день 15 ИЮНЯ 2022 г.
A8: 1630 | B8: 1628
A9: часы суток | B9: Активная энергия | H9: Реактивная энергия
B10: =K3 -> ф. КУФ-3 | E10: =K4 -> 0 | H10: =B10 -> ф. КУФ-3 | K10: =E10 -> 0
B11: Расчет. Коэф. | D11: 80 | E11: Расчет. Коэф. | G11: 30 | H11: Расчет. Коэф. | J11: =D11 -> 80 | K11: Расчет. Коэф. | M11: =G11 -> 30
B12: показания счетчика | C12: разность | D12: расход эл.энергии за час | E12: показания счетчика | F12: разность | G12: расход эл.энергии за час | H12: показания счетчика | I12: разность | J12: расход эл.энергии за час | K12: показания счетчика | L12: разность | M12: расход эл.энергии за час
A13: 1 | B13: 2 | C13: 3 | D13: 4 | E13: 5 | F13: 6 | G13: 7 | H13: 8 | I13: 9 | J13: 10 | K13: 11 | L13: 12 | M13: 13
A14: 0
A15: 1 | D15: 0 | J15: 0
A16: 2 | D16: 0 | J16: 0
A17: 3 | D17: 0 | J17: 0
A18: 4 | D18: 0 | J18: 0
A19: 5 | D19: 0 | J19: 0
A20: 6 | D20: 0 | J20: 0
A21: 7 | D21: 0 | J21: 0
A22: 8 | D22: 0 | J22: 0
A23: 9 | D23: 0 | J23: 0
A24: 10 | D24: 0 | J24: 0
A25: 11 | D25: 0 | J25: 0
A26: 12 | D26: 0 | J26: 0
... A38: 24 | D38: 0 | J38: 0
A39: Итого | D39: =SUM(D15:D38) -> 0 | G39: =SUM(G15:G38) -> 0 | J39: =SUM(J15:J38) -> 0 | M39: =SUM(M15:M38) -> 0
A40: 1. При наличии на предприятии отклонений от нормальных режимов электропотребления (временное изменение схем питания, остановка на ремонт, резкое снижение
A41: эл.потребления и т.д.) последние необходимо перечислить.
A42: Главный инженер АО "Вологдаоблэнерго" А.В. Чурляев
A43: составляется самим предприятием с соблюдением всех пунктов настоящей таблицы.

Sheet 87
B1: АО "Вологдаоблэнерго" | H1: код 900151 | K1: ПС Ирдоматка
B2: наименование предприятия | K2: наименование источника питания
K3: ф. Промкомбинат
B4: ул. Горького, 99 | G4: Таблица № 1 | K4: ф. Романда
B5: адрес
A6: почасовых записей показаний электрических счетчиков
A7: в режимный день 15 ИЮНЯ 2022 г.
A8: 1630 | B8: 1628
A9: часы суток | B9: Активная энергия | H9: Реактивная энергия
B10: =K3 -> ф. Промкомбинат | E10: =K4 -> ф. Романда | H10: =B10 -> ф. Промкомбинат | K10: =E10 -> ф. Романда
B11: Расчет. Коэф. | D11: 80 | E11: Расчет. Коэф. | G11: 30 | H11: Расчет. Коэф. | J11: =D11 -> 80 | K11: Расчет. Коэф. | M11: =G11 -> 30
B12: показания счетчика | C12: разность | D12: расход эл.энергии за час | E12: показания счетчика | F12: разность | G12: расход эл.энергии за час | H12: показания счетчика | I12: разность | J12: расход эл.энергии за час | K12: показания счетчика | L12: разность | M12: расход эл.энергии за час
A13: 1 | B13: 2 | C13: 3 | D13: 4 | E13: 5 | F13: 6 | G13: 7 | H13: 8 | I13: 9 | J13: 10 | K13: 11 | L13: 12 | M13: 13
A14: 0
A15: 1 | D15: 102.2 | G15: 133.6 | J15: 0
A16: 2 | D16: 92.2 | G16: 112 | J16: 0
A17: 3 | D17: 110.6 | G17: 105.8 | J17: 0
A18: 4 | D18: 114.8 | G18: 106.8 | J18: 0
A19: 5 | D19: 110.2 | G19: 105.8 | J19: 0
A20: 6 | D20: 105.8 | G20: 121.2 | J20: 0
A21: 7 | D21: 117.2 | G21: 151.2 | J21: 0
A22: 8 | D22: 107 | G22: 190.4 | J22: 0
A23: 9 | D23: 131.8 | G23: 195 | J23: 0
A24: 10 | D24: 116.6 | G24: 188 | J24: 0
A25: 11 | D25: 149.4 | G25: 180.2 | J25: 0
A26: 12 | D26: 164 | G26: 198.6 | J26: 0
... A38: 24 | D38: 104 | G38: 205 | J38: 0
A39: Итого | D39: =SUM(D15:D38) -> 3026.8 | G39: =SUM(G15:G38) -> 4469.8 | J39: =SUM(J15:J38) -> 0 | M39: =SUM(M15:M38) -> 0
A40: 1. При наличии на предприятии отклонений от нормальных режимов электропотребления (временное изменение схем питания, остановка на ремонт, резкое снижение
A41: эл.потребления и т.д.) последние необходимо перечислить.
A42: Главный инженер АО "Вологдаоблэнерго" А.В. Чурляев
A43: составляется самим предприятием с соблюдением всех пунктов настоящей таблицы.

Sheet 88
B1: АО "Вологдаоблэнерго" | H1: код 900151 | K1: ПС Вишняки
B2: наименование предприятия | K2: наименование источника питания
K3: ф. Парус-1
B4: ул. Горького, 99 | G4: Таблица № 1 | K4: ф. Парсу-2
B5: адрес
A6: почасовых записей показаний электрических счетчиков
A7: в режимный день 15 ИЮНЯ 2022 г.
A8: 1630 | B8: 1628
A9: часы суток | B9: Активная энергия | H9: Реактивная энергия
B10: =K3 -> ф. Парус-1 | E10: =K4 -> ф. Парсу-2 | H10: =B10 -> ф. Парус-1 | K10: =E10 -> ф. Парсу-2
B11: Расчет. Коэф. | D11: 80 | E11: Расчет. Коэф. | G11: 30 | H11: Расчет. Коэф. | J11: =D11 -> 80 | K11: Расчет. Коэф. | M11: =G11 -> 30
B12: показания счетчика | C12: разность | D12: расход эл.энергии за час | E12: показания счетчика | F12: разность | G12: расход эл.энергии за час | H12: показания счетчика | I12: разность | J12: расход эл.энергии за час | K12: показания счетчика | L12: разность | M12: расход эл.энергии за час
A13: 1 | B13: 2 | C13: 3 | D13: 4 | E13: 5 | F13: 6 | G13: 7 | H13: 8 | I13: 9 | J13: 10 | K13: 11 | L13: 12 | M13: 13
A14: 0
A15: 1 | D15: 38.4 | G15: 0 | J15: 0 | M15: 0
A16: 2 | D16: 38.4 | G16: 0 | J16: 0 | M16: 0
A17: 3 | D17: 37.4 | G17: 0 | J17: 0 | M17: 0
A18: 4 | D18: 37.6 | G18: 0 | J18: 0 | M18: 0
A19: 5 | D19: 35.4 | G19: 0 | J19: 0 | M19: 0
A20: 6 | D20: 37.6 | G20: 0 | J20: 0 | M20: 0
A21: 7 | D21: 36.8 | G21: 0 | J21: 0 | M21: 0
A22: 8 | D22: 40.2 | G22: 0 | J22: 0 | M22: 0
A23: 9 | D23: 41 | G23: 0 | J23: 0 | M23: 0
A24: 10 | D24: 41 | G24: 0 | J24: 0 | M24: 0
A25: 11 | D25: 39.4 | G25: 0 | J25: 0 | M25: 0
A26: 12 | D26: 39.4 | G26: 0 | J26: 0 | M26: 0
... A38: 24 | D38: 39.2 | G38: 0 | J38: 0 | M38: 0
A39: Итого | D39: =SUM(D15:D38) -> 944.4 | G39: =SUM(G15:G38) -> 0 | J39: =SUM(J15:J38) -> 0 | M39: =SUM(M15:M38) -> 0
A40: 1. При наличии на предприятии отклонений от нормальных режимов электропотребления (временное изменение схем питания, остановка на ремонт, резкое снижение
A41: эл.потребления и т.д.) последние необходимо перечислить.
A42: Главный инженер АО "Вологдаоблэнерго" А.В. Чурляев
A43: составляется самим предприятием с соблюдением всех пунктов настоящей таблицы.

Sheet 89
B1: АО "Вологдаоблэнерго" | H1: код 900151 | K1: ПС Искра
B2: наименование предприятия | K2: наименование источника питания
K3: ф. Садовая
B4: ул. Горького, 99 | G4: Таблица № 1 | K4: ф. Газовая-1
B5: адрес
A6: почасовых записей показаний электрических счетчиков
A7: в режимный день 15 ИЮНЯ 2022 г.
A8: 1630 | B8: 1628
A9: часы суток | B9: Активная энергия | H9: Реактивная энергия
B10: =K3 -> ф. Садовая | E10: =K4 -> ф. Газовая-1 | H10: =B10 -> ф. Садовая | K10: =E10 -> ф. Газовая-1
B11: Расчет. Коэф. | D11: 80 | E11: Расчет. Коэф. | G11: 30 | H11: Расчет. Коэф. | J11: =D11 -> 80 | K11: Расчет. Коэф. | M11: =G11 -> 30
B12: показания счетчика | C12: разность | D12: расход эл.энергии за час | E12: показания счетчика | F12: разность | G12: расход эл.энергии за час | H12: показания счетчика | I12: разность | J12: расход эл.энергии за час | K12: показания счетчика | L12: разность | M12: расход эл.энергии за час
A13: 1 | B13: 2 | C13: 3 | D13: 4 | E13: 5 | F13: 6 | G13: 7 | H13: 8 | I13: 9 | J13: 10 | K13: 11 | L13: 12 | M13: 13
A14: 0
A15: 1 | D15: 273.657 | G15: 347.87186 | J15: 0 | M15: 0
A16: 2 | D16: 232.83603 | G16: 292.71646 | J16: 0 | M16: 0
A17: 3 | D17: 213.47864 | G17: 285.62198 | J17: 0 | M17: 0
A18: 4 | D18: 205.35185 | G18: 283.25255 | J18: 0 | M18: 0
A19: 5 | D19: 211.06763 | G19: 390.88907 | J19: 0 | M19: 0
A20: 6 | D20: 238.14303 | G20: 326.77548 | J20: 0 | M20: 0
A21: 7 | D21: 272.46532 | G21: 282.49738 | J21: 0 | M21: 0
A22: 8 | D22: 314.56799 | G22: 255.22103 | J22: 0 | M22: 0
A23: 9 | D23: 336.16321 | G23: 605.48315 | J23: 0 | M23: 0
A24: 10 | D24: 333.30186 | G24: 667.55286 | J24: 0 | M24: 0
A25: 11 | D25: 355.73538 | G25: 630.93732 | J25: 0 | M25: 0
A26: 12 | D26: 368.6149 | G26: 602.99591 | J26: 0 | M26: 0
... A38: 24 | D38: 403.85867 | G38: 404.32976 | J38: 0 | M38: 0
A39: Итого | D39: =SUM(D15:D38) -> 8675.1945 | G39: =SUM(G15:G38) -> 11852.474 | J39: =SUM(J15:J38) -> 0 | M39: =SUM(M15:M38) -> 0
A40: 1. При наличии на предприятии отклонений от нормальных режимов электропотребления (временное изменение схем питания, остановка на ремонт, резкое снижение
A41: эл.потребления и т.д.) последние необходимо перечислить.
A42: Главный инженер АО "Вологдаоблэнерго" А.В. Чурляев
A43: составляется самим предприятием с соблюдением всех пунктов настоящей таблицы.

Sheet 90
B1: АО "Вологдаоблэнерго" | H1: код 900151 | K1: ПС Климовская
B2: наименование предприятия | K2: наименование источника питания
K3: ф. КУФ-1
B4: ул. Горького, 99 | G4: Таблица № 1 | K4: ф. КУФ-2
B5: адрес
A6: почасовых записей показаний электрических счетчиков
A7: в режимный день 15 ИЮНЯ 2022 г.
A8: 1630 | B8: 1628
A9: часы суток | B9: Активная энергия | H9: Реактивная энергия
B10: =K3 -> ф. КУФ-1 | E10: =K4 -> ф. КУФ-2 | H10: =B10 -> ф. КУФ-1 | K10: =E10 -> ф. КУФ-2
B11: Расчет. Коэф. | D11: 80 | E11: Расчет. Коэф. | G11: 30 | H11: Расчет. Коэф. | J11: =D11 -> 80 | K11: Расчет. Коэф. | M11: =G11 -> 30
B12: показания счетчика | C12: разность | D12: расход эл.энергии за час | E12: показания счетчика | F12: разность | G12: расход эл.энергии за час | H12: показания счетчика | I12: разность | J12: расход эл.энергии за час | K12: показания счетчика | L12: разность | M12: расход эл.энергии за час
A13: 1 | B13: 2 | C13: 3 | D13: 4 | E13: 5 | F13: 6 | G13: 7 | H13: 8 | I13: 9 | J13: 10 | K13: 11 | L13: 12 | M13: 13
A14: 0
A15: 1 | D15: 26.1 | G15: 183 | J15: 0 | M15: 0
A16: 2 | D16: 23.1 | G16: 189 | J16: 0 | M16: 0
A17: 3 | D17: 23.4 | G17: 165.9 | J17: 0 | M17: 0
A18: 4 | D18: 22.2 | G18: 130.2 | J18: 0 | M18: 0
A19: 5 | D19: 22.2 | G19: 183.3 | J19: 0 | M19: 0
A20: 6 | D20: 25.2 | G20: 179.7 | J20: 0 | M20: 0
A21: 7 | D21: 26.1 | G21: 194.7 | J21: 0 | M21: 0
A22: 8 | D22: 27.6 | G22: 207.9 | J22: 0 | M22: 0
A23: 9 | D23: 28.5 | G23: 187.2 | J23: 0 | M23: 0
A24: 10 | D24: 27.6 | G24: 233.7 | J24: 0 | M24: 0
A25: 11 | D25: 26.4 | G25: 154.2 | J25: 0 | M25: 0
A26: 12 | D26: 26.7 | G26: 204.3 | J26: 0 | M26: 0
... A38: 24 | D38: 24.6 | G38: 192 | J38: 0 | M38: 0
A39: Итого | D39: =SUM(D15:D38) -> 620.4 | G39: =SUM(G15:G38) -> 4653.3 | J39: =SUM(G15:G38) -> 4653.3 | M39: =SUM(M15:M38) -> 0
A40: 1. При наличии на предприятии отклонений от нормальных режимов электропотребления (временное изменение схем питания, остановка на ремонт, резкое снижение
A41: эл.потребления и т.д.) последние необходимо перечислить.
A42: Главный инженер АО "Вологдаоблэнерго" А.В. Чурляев
A43: составляется самим предприятием с соблюдением всех пунктов настоящей таблицы.

Sheet 91
B1: АО "Вологдаоблэнерго" | H1: код 900151 | K1: ПС Климовская
B2: наименование предприятия | K2: наименование источника питания
K3: ф. Поселок
B4: ул. Горького, 99 | G4: Таблица № 1 | K4: ф. ПТФ-2
B5: адрес
A6: почасовых записей показаний электрических счетчиков
A7: в режимный день 15 ИЮНЯ 2022 г.
A8: 1630 | B8: 1628
A9: часы суток | B9: Активная энергия | H9: Реактивная энергия
B10: =K3 -> ф. Поселок | E10: =K4 -> ф. ПТФ-2 | H10: =B10 -> ф. Поселок | K10: =E10 -> ф. ПТФ-2
B11: Расчет. Коэф. | D11: 80 | E11: Расчет. Коэф. | G11: 30 | H11: Расчет. Коэф. | J11: =D11 -> 80 | K11: Расчет. Коэф. | M11: =G11 -> 30
B12: показания счетчика | C12: разность | D12: расход эл.энергии за час | E12: показания счетчика | F12: разность | G12: расход эл.энергии за час | H12: показания счетчика | I12: разность | J12: расход эл.энергии за час | K12: показания счетчика | L12: разность | M12: расход эл.энергии за час
A13: 1 | B13: 2 | C13: 3 | D13: 4 | E13: 5 | F13: 6 | G13: 7 | H13: 8 | I13: 9 | J13: 10 | K13: 11 | L13: 12 | M13: 13
A14: 0
A15: 1 | D15: 119.6 | G15: 9.6 | J15: 0 | M15: 0
A16: 2 | D16: 114.2 | G16: 10.4 | J16: 0 | M16: 0
A17: 3 | D17: 98.4 | G17: 9.2 | J17: 0 | M17: 0
A18: 4 | D18: 97.4 | G18: 9.2 | J18: 0 | M18: 0
A19: 5 | D19: 96.8 | G19: 8.4 | J19: 0 | M19: 0
A20: 6 | D20: 100 | G20: 8.8 | J20: 0 | M20: 0
A21: 7 | D21: 115.8 | G21: 8.4 | J21: 0 | M21: 0
A22: 8 | D22: 129 | G22: 10.4 | J22: 0 | M22: 0
A23: 9 | D23: 132.6 | G23: 14 | J23: 0 | M23: 0
A24: 10 | D24: 140.2 | G24: 19.6 | J24: 0 | M24: 0
A25: 11 | D25: 145 | G25: 12 | J25: 0 | M25: 0
A26: 12 | D26: 150.2 | G26: 12.4 | J26: 0 | M26: 0
... A38: 24 | D38: 121 | G38: 10 | J38: 0 | M38: 0
A39: Итого | D39: =SUM(D15:D38) -> 3185.8 | G39: =SUM(G15:G38) -> 288.8 | J39: =SUM(J15:J38) -> 0 | M39: =SUM(M15:M38) -> 0
A40: 1. При наличии на предприятии отклонений от нормальных режимов электропотребления (временное изменение схем питания, остановка на ремонт, резкое снижение
A41: эл.потребления и т.д.) последние необходимо перечислить.
A42: Главный инженер АО "Вологдаоблэнерго" А.В. Чурляев
A43: составляется самим предприятием с соблюдением всех пунктов настоящей таблицы.

Sheet 92
B1: АО "Вологдаоблэнерго" | H1: код 900151 | K1: ПС Климовская
B2: наименование предприятия | K2: наименование источника питания
K3: ф. ПТФ-3
B4: ул. Горького, 99 | G4: Таблица № 1 | K4: ф. ПТФ-4
B5: адрес
A6: почасовых записей показаний электрических счетчиков
A7: в режимный день 15 ИЮНЯ 2022 г.
A8: 1630 | B8: 1628
A9: часы суток | B9: Активная энергия | H9: Реактивная энергия
B10: =K3 -> ф. ПТФ-3 | E10: =K4 -> ф. ПТФ-4 | H10: =B10 -> ф. ПТФ-3 | K10: =E10 -> ф. ПТФ-4
B11: Расчет. Коэф. | D11: 80 | E11: Расчет. Коэф. | G11: 30 | H11: Расчет. Коэф. | J11: =D11 -> 80 | K11: Расчет. Коэф. | M11: =G11 -> 30
B12: показания счетчика | C12: разность | D12: расход эл.энергии за час | E12: показания счетчика | F12: разность | G12: расход эл.энергии за час | H12: показания счетчика | I12: разность | J12: расход эл.энергии за час | K12: показания счетчика | L12: разность | M12: расход эл.энергии за час
A13: 1 | B13: 2 | C13: 3 | D13: 4 | E13: 5 | F13: 6 | G13: 7 | H13: 8 | I13: 9 | J13: 10 | K13: 11 | L13: 12 | M13: 13
A14: 0
A15: 1 | D15: 148.8 | G15: 31.2 | J15: 0 | M15: 0
A16: 2 | D16: 139.2 | G16: 30.6 | J16: 0 | M16: 0
A17: 3 | D17: 133.6 | G17: 27.6 | J17: 0 | M17: 0
A18: 4 | D18: 128.8 | G18: 30 | J18: 0 | M18: 0
A19: 5 | D19: 128 | G19: 29.4 | J19: 0 | M19: 0
A20: 6 | D20: 128.8 | G20: 30 | J20: 0 | M20: 0
A21: 7 | D21: 164 | G21: 27.6 | J21: 0 | M21: 0
A22: 8 | D22: 190.4 | G22: 30.6 | J22: 0 | M22: 0
A23: 9 | D23: 219.2 | G23: 32.4 | J23: 0 | M23: 0
A24: 10 | D24: 193.6 | G24: 30 | J24: 0 | M24: 0
A25: 11 | D25: 198.4 | G25: 28.2 | J25: 0 | M25: 0
A26: 12 | D26: 198.4 | G26: 31.2 | J26: 0 | M26: 0
... A38: 24 | D38: 180 | G38: 31.2 | J38: 0 | M38: 0
A39: Итого | D39: =SUM(D15:D38) -> 4437.6 | G39: =SUM(G15:G38) -> 723.6 | J39: =SUM(J15:J38) -> 0 | M39: =SUM(M15:M38) -> 0
A40: 1. При наличии на предприятии отклонений от нормальных режимов электропотребления (временное изменение схем питания, остановка на ремонт, резкое снижение
A41: эл.потребления и т.д.) последние необходимо перечислить.
A42: Главный инженер АО "Вологдаоблэнерго" А.В. Чурляев
A43: составляется самим предприятием с соблюдением всех пунктов настоящей таблицы.

Sheet 93
B1: АО "Вологдаоблэнерго" | H1: код 900151 | K1: ПС Новые Углы
B2: наименование предприятия | K2: наименование источника питания
K3: ф. Подсобное хоз.-1
B4: ул. Горького, 99 | G4: Таблица № 1 | K4: ф. Подсобное хоз.-2
B5: адрес
A6: почасовых записей показаний электрических счетчиков
A7: в режимный день 15 ИЮНЯ 2022 г.
A8: 1630 | B8: 1628
A9: часы суток | B9: Активная энергия | H9: Реактивная энергия
B10: =K3 -> ф. Подсобное хоз.-1 | E10: =K4 -> ф. Подсобное хоз.-2 | H10: =B10 -> ф. Подсобное хоз.-1 | K10: =E10 -> ф. Подсобное хоз.-2
B11: Расчет. Коэф. | D11: 80 | E11: Расчет. Коэф. | G11: 30 | H11: Расчет. Коэф. | J11: =D11 -> 80 | K11: Расчет. Коэф. | M11: =G11 -> 30
B12: показания счетчика | C12: разность | D12: расход эл.энергии за час | E12: показания счетчика | F12: разность | G12: расход эл.энергии за час | H12: показания счетчика | I12: разность | J12: расход эл.энергии за час | K12: показания счетчика | L12: разность | M12: расход эл.энергии за час
A13: 1 | B13: 2 | C13: 3 | D13: 4 | E13: 5 | F13: 6 | G13: 7 | H13: 8 | I13: 9 | J13: 10 | K13: 11 | L13: 12 | M13: 13
A14: 0
A15: 1 | D15: 56.8 | G15: 312.4 | J15: 0 | M15: 0
A16: 2 | D16: 53.2 | G16: 284.4 | J16: 0 | M16: 0
A17: 3 | D17: 41.6 | G17: 284.8 | J17: 0 | M17: 0
A18: 4 | D18: 36.8 | G18: 280.4 | J18: 0 | M18: 0
A19: 5 | D19: 34.8 | G19: 293.2 | J19: 0 | M19: 0
A20: 6 | D20: 36 | G20: 277.6 | J20: 0 | M20: 0
A21: 7 | D21: 40.4 | G21: 353.2 | J21: 0 | M21: 0
A22: 8 | D22: 46.4 | G22: 489.6 | J22: 0 | M22: 0
A23: 9 | D23: 44 | G23: 572 | J23: 0 | M23: 0
A24: 10 | D24: 46.8 | G24: 574.8 | J24: 0 | M24: 0
A25: 11 | D25: 52.8 | G25: 536 | J25: 0 | M25: 0
A26: 12 | D26: 53.6 | G26: 510.4 | J26: 0 | M26: 0
... A38: 24 | D38: 61.2 | G38: 335.2 | J38: 0 | M38: 0
A39: Итого | D39: =SUM(D15:D38) -> 1206.8 | G39: =SUM(G15:G38) -> 9917.6 | J39: =SUM(J15:J38) -> 0 | M39: =SUM(M15:M38) -> 0
A40: 1. При наличии на предприятии отклонений от нормальных режимов электропотребления (временное изменение схем питания, остановка на ремонт, резкое снижение
A41: эл.потребления и т.д.) последние необходимо перечислить.
A42: Главный инженер АО "Вологдаоблэнерго" А.В. Чурляев
A43: составляется самим предприятием с соблюдением всех пунктов настоящей таблицы.

Sheet 94
B1: АО "Вологдаоблэнерго" | H1: код 900151 | K1: ПС Нелазкое
