Workbook

Sheet Содержание книги
A1: Содержание
A4: № листа | B4: Электросетевой участок | C4: Центр питания
A5: 1-102 | B5: ЭСУ "Череповец"
A6: 103-111 | B6: ЭСУ "Бабаево"
A7: 112-146 | B7: ЭСУ "Кадуй"
A8: 147-159 | B8: ЭСУ "Чагода"
A9: 160-200 | B9: ЭСУ "Шексна"
A11: Содержание
A14: № листа | B14: Электросетевой участок | C14: Центр питания
A15: 1 а | B15: г. Вологда | C15: ОАО "БМЗ"
D16: яч. Т1, яч. Т2
A17: 1, 2 | B17: г. Вологда | C17: ПС "АНАНЬИНО"
D18: яч.7 - ф."Город-7"
D19: яч.8 - ф."Городской", яч.2 - ф."Овощехранилище"
A20: 3 | B20: г. Вологда | C20: ПС "ИСКРА"
D21: яч.18 - ф."РУБЦОВО"- СВ - ВЛ№2
A22: 4 | B22: г. Вологда | C22: ПС "МАЕГА"
D23: яч.13 - ф."НИКИТИНО"-СВ - ВЛ№27
A24: 5,6, 7, 8, 9 | B24: г. Вологда | C24: ПС "ЗАПАДНАЯ
D25: яч.19 - "РМЗ-1", яч.24 - "РМЗ-2"
D26: яч.15 -"ОЧИСТНЫЕ-1", яч.9 -"ГОРОД-1"
D27: яч.21- "П/я-1", яч.20 - "П/я-2"
D28: яч.33 - "РП-35", яч.35 - "РП-37"
D29: яч.11 - "ГОРОД-2", яч.18 - "ОЧИСТНЫЕ-2"
A30: 10 | B30: г. Вологда | C30: ПС "СЕВЕРНАЯ 35/6 кВ
D31: Т1 - РП5ф3 ввод №1, Т2 - РП5ф17 ввод №2
A32: 11 | B32: г. Вологда | C32: РТП "ТЕПЛИЧНОГО ХОЗ - ВА"
D33: яч. 3 - ф."Микрорайон-1" ввод № 1, яч.13 - ф."Микрорайон-2" ввод № 2
A34: 12,13, 14 | B34: г. Вологда | C34: ГПП 110/10 кВ "ВОМЗ"
D35: яч.47 - РП 29 ввод № 1, яч.31 - РП 29 ввод № 2
D36: яч.5 - РП 14 ввод № 1, яч.22 - РП 14 ввод № 2
D37: яч.44 - РП 2 ввод № 1, яч.26в - РП 2 ввод № 2
A38: 15,16,17,18,19,20, 21 | B38: г. Вологда | C38: ПС ВОЛОГДА-ЮЖНАЯ РУ - 6 -10 кВ
D39: яч.15 - "ГОРОД-15", яч.24 - "ТУБДИСПАНСЕР"
D40: яч.10 - "ГОРОД-10", яч.14 - "ГОРОД-14"
D41: яч.20 - "ГОРОД 20"
D42: яч. 7- ф."ГОРОД 7", яч.17 - ф."ГОРОД 17"
D43: яч.3 - "ГОРОД-3", яч.5 - "ГОРОД-5"
D44: яч. 1 - "ГОРОД -1", яч. 20 - "РП 27"
D45: яч. 4 ф."РОДИОНЦЕВО" - ПКУ
...

Sheet 1
B1: АО "Вологдаоблэнерго" | J1: код 900151 | N1: ПС "Малечкино" ф.Птицефабрика
B2: наименование предприятия | N2: наименование источника питания
N3: _________________________________
B4: ул. Горького, 99 | I4: Таблица № 1 | N4: ТП-1 ЦРП Малечкино; ТП-5 АВМ
B5: адрес
A6: почасовых записей показаний электрических счетчиков
A7: в режимный день 15 ИЮНЯ 2022 г.
A8: 1630 | B8: 1628
A9: часы суток | B9: Активная энергия | J9: Реактивная энергия
B10: ТП-1 ЦРП Малечкино | F10: ТП-5 АВМ | J10: ТП-1 ЦРП Малечкино | N10: ТП-5 АВМ
B11: Расчет. Коэф. | E11: 30 | F11: Расчет. Коэф. | I11: 120 | J11: Расчет. Коэф. | M11: =E11 -> 30 | N11: Расчет. Коэф. | Q11: =I11 -> 120
B12: показания счетчика | C12: разность | E12: расход эл.энергии за час | F12: показания счетчика | G12: разность | I12: расход эл.энергии за час | J12: показания счетчика | K12: разность | M12: расход эл.энергии за час | N12: показания счетчика | O12: разность | Q12: расход эл.энергии за час
A13: 1 | B13: 2 | C13: 3 | E13: 4 | F13: 5 | G13: 6 | I13: 7 | J13: 8 | K13: 9 | M13: 10 | N13: 11 | O13: 12 | Q13: 13
A14: 0
A15: 1 | E15: 3.28 | I15: 5.256 | M15: 0 | Q15: 0
A16: 2 | E16: 3.8 | I16: 5.208 | M16: 0 | Q16: 0
A17: 3 | E17: 3.88 | I17: 4.92 | M17: 0 | Q17: 0
A18: 4 | E18: 0.96 | I18: 5.544 | M18: 0 | Q18: 0
A19: 5 | E19: 2.44 | I19: 5.28 | M19: 0 | Q19: 0
A20: 6 | E20: 2.2 | I20: 5.088 | M20: 0 | Q20: 0
A21: 7 | E21: 0.4 | I21: 5.616 | M21: 0 | Q21: 0
A22: 8 | E22: 1.72 | I22: 6.672 | M22: 0 | Q22: 0
A23: 9 | E23: 12.48 | I23: 7.992 | M23: 0 | Q23: 0
A24: 10 | E24: 15.76 | I24: 8.28 | M24: 0 | Q24: 0
A25: 11 | E25: 20.04 | I25: 9.432 | M25: 0 | Q25: 0
A26: 12 | E26: 15.12 | I26: 14.52 | M26: 0 | Q26: 0
... A38: 24 | E38: 3 | I38: 6.96 | M38: 0 | Q38: 0
A39: Итого | E39: =SUM(E15:E38) -> 185.84 | I39: =SUM(I15:I38) -> 209.832 | M39: =SUM(M15:M38) -> 0 | Q39: =SUM(Q15:Q38) -> 0
A40: 1. При наличии на предприятии отклонений от нормальных режимов электропотребления (временное изменение схем питания, остановка на ремонт, резкое снижение
A41: эл.потребления и т.д.) последние необходимо перечислить.
A42: Главный инженер АО "Вологдаоблэнерго" А.В. Чурляев
A43: составляется самим предприятием с соблюдением всех пунктов настоящей таблицы.

Sheet 2
B1: АО "Вологдаоблэнерго" | J1: код 900151 | N1: ПС Малечкино, ф. Поселок
B2: наименование предприятия | N2: наименование источника питания
N3: ТП-8 ПС Малечкино В-1; В-2
B4: ул. Горького, 99 | I4: Таблица № 1
B5: адрес
A6: почасовых записей показаний электрических счетчиков
A7: в режимный день 15 ИЮНЯ 2022 г.
A8: 1630 | B8: 1628
A9: часы суток | B9: Активная энергия | J9: Реактивная энергия
B10: ТП-8 ПС Малечкино В-1 | F10: ТП-8 ПС Малечкино В-2 | J10: ТП-8 ПС Малечкино В-1 | N10: ТП-8 ПС Малечкино В-2
B11: Расчет. Коэф. | E11: 80 | F11: Расчет. Коэф. | I11: 80 | J11: Расчет. Коэф. | M11: =E11 -> 80 | N11: Расчет. Коэф. | Q11: =I11 -> 80
B12: показания счетчика | C12: разность | E12: расход эл.энергии за час | F12: показания счетчика | G12: разность | I12: расход эл.энергии за час | J12: показания счетчика | K12: разность | M12: расход эл.энергии за час | N12: показания счетчика | O12: разность | Q12: расход эл.энергии за час
A13: 1 | B13: 2 | C13: 3 | E13: 4 | F13: 5 | G13: 6 | I13: 7 | J13: 8 | K13: 9 | M13: 10 | N13: 11 | O13: 12 | Q13: 13
A14: 0
A15: 1 | E15: 15.712 | I15: 8.48 | M15: 0 | Q15: 0
A16: 2 | E16: 12.064 | I16: 7.664 | M16: 0 | Q16: 0
A17: 3 | E17: 10.816 | I17: 6.96 | M17: 0 | Q17: 0
A18: 4 | E18: 10.016 | I18: 8.56 | M18: 0 | Q18: 0
A19: 5 | E19: 19.312 | I19: 6.64 | M19: 0 | Q19: 0
A20: 6 | E20: 20.832 | I20: 13.552 | M20: 0 | Q20: 0
A21: 7 | E21: 21.424 | I21: 25.808 | M21: 0 | Q21: 0
A22: 8 | E22: 19.744 | I22: 23.024 | M22: 0 | Q22: 0
A23: 9 | E23: 25.584 | I23: 19.168 | M23: 0 | Q23: 0
A24: 10 | E24: 22.88 | I24: 19.776 | M24: 0 | Q24: 0
A25: 11 | E25: 20.432 | I25: 23.216 | M25: 0 | Q25: 0
A26: 12 | E26: 19.872 | I26: 17.744 | M26: 0 | Q26: 0
... A38: 24 | E38: 15.136 | I38: 10.528 | M38: 0 | Q38: 0
A39: Итого | E39: =SUM(E15:E38) -> 469.248 | I39: =SUM(I15:I38) -> 353.136 | M39: =SUM(M15:M38) -> 0 | Q39: =SUM(Q15:Q38) -> 0
A40: 1. При наличии на предприятии отклонений от нормальных режимов электропотребления (временное изменение схем питания, остановка на ремонт, резкое снижение
A41: эл.потребления и т.д.) последние необходимо перечислить.
A42: Главный инженер АО "Вологдаоблэнерго" А.В. Чурляев
A43: составляется самим предприятием с соблюдением всех пунктов настоящей таблицы.

Sheet 3
B1: АО "Вологдаоблэнерго" | J1: код 900151 | N1: ПС Малечкино, ф. Поселок
B2: наименование предприятия | N2: наименование источника питания
N3: ТП-105; КТП-Дачи п.Малечкино
B4: ул. Горького, 99 | I4: Таблица № 1
B5: адрес
A6: почасовых записей показаний электрических счетчиков
A7: в режимный день 15 ИЮНЯ 2022 г.
A8: 1630 | B8: 1628
A9: часы суток | B9: Активная энергия | J9: Реактивная энергия
B10: ТП-105 | F10: КТП-Дачи п.Малечкино | J10: ТП-105 | N10: КТП-Дачи п.Малечкино
B11: Расчет. Коэф. | E11: 80 | F11: Расчет. Коэф. | I11: 60 | J11: Расчет. Коэф. | M11: =E11 -> 80 | N11: Расчет. Коэф. | Q11: =I11 -> 60
B12: показания счетчика | C12: разность | E12: расход эл.энергии за час | F12: показания счетчика | G12: разность | I12: расход эл.энергии за час | J12: показания счетчика | K12: разность | M12: расход эл.энергии за час | N12: показания счетчика | O12: разность | Q12: расход эл.энергии за час
A13: 1 | B13: 2 | C13: 3 | E13: 4 | F13: 5 | G13: 6 | I13: 7 | J13: 8 | K13: 9 | M13: 10 | N13: 11 | O13: 12 | Q13: 13
A14: 0
A15: 1 | E15: 22.12 | I15: 1.56 | M15: 0 | Q15: 0
A16: 2 | E16: 20.64 | I16: 1.52 | M16: 0 | Q16: 0
A17: 3 | E17: 18.12 | I17: 1.56 | M17: 0 | Q17: 0
A18: 4 | E18: 18.52 | I18: 1.52 | M18: 0 | Q18: 0
A19: 5 | E19: 18.92 | I19: 1.56 | M19: 0 | Q19: 0
A20: 6 | E20: 20.64 | I20: 1.52 | M20: 0 | Q20: 0
A21: 7 | E21: 20.92 | I21: 1.52 | M21: 0 | Q21: 0
A22: 8 | E22: 22.84 | I22: 1.48 | M22: 0 | Q22: 0
A23: 9 | E23: 26.2 | I23: 1.56 | M23: 0 | Q23: 0
A24: 10 | E24: 27.92 | I24: 1.52 | M24: 0 | Q24: 0
A25: 11 | E25: 27.16 | I25: 1.52 | M25: 0 | Q25: 0
A26: 12 | E26: 26.96 | I26: 1.52 | M26: 0 | Q26: 0
... A38: 24 | E38: 24.36 | I38: 2.88 | M38: 0 | Q38: 0
A39: Итого | E39: =SUM(E15:E38) -> 617.4 | I39: =SUM(I15:I38) -> 52.72 | M39: =SUM(M15:M38) -> 0 | Q39: =SUM(Q15:Q38) -> 0
A40: 1. При наличии на предприятии отклонений от нормальных режимов электропотребления (временное изменение схем питания, остановка на ремонт, резкое снижение
A41: эл.потребления и т.д.) последние необходимо перечислить.
A42: Главный инженер АО "Вологдаоблэнерго" А.В. Чурляев
A43: составляется самим предприятием с соблюдением всех пунктов настоящей таблицы.

Sheet 4
B1: АО "Вологдаоблэнерго" | J1: код 900151 | N1: ПС Малечкино, ф. Поселок
B2: наименование предприятия | N2: наименование источника питания
N3: ТП-35; ТП-103
B4: ул. Горького, 99 | I4: Таблица № 1
B5: адрес
A6: почасовых записей показаний электрических счетчиков
A7: в режимный день 15 ИЮНЯ 2022 г.
A8: 1630 | B8: 1628
A9: часы суток | B9: Активная энергия | J9: Реактивная энергия
B10: ТП-35 | F10: ТП-103 | J10: ТП-35 | N10: ТП-103
B11: Расчет. Коэф. | E11: 30 | F11: Расчет. Коэф. | I11: 120 | J11: Расчет. Коэф. | M11: =E11 -> 30 | N11: Расчет. Коэф. | Q11: =I11 -> 120
B12: показания счетчика | C12: разность | E12: расход эл.энергии за час | F12: показания счетчика | G12: разность | I12: расход эл.энергии за час | J12: показания счетчика | K12: разность | M12: расход эл.энергии за час | N12: показания счетчика | O12: разность | Q12: расход эл.энергии за час
A13: 1 | B13: 2 | C13: 3 | E13: 4 | F13: 5 | G13: 6 | I13: 7 | J13: 8 | K13: 9 | M13: 10 | N13: 11 | O13: 12 | Q13: 13
A14: 0
A15: 1 | E15: 1.67 | I15: 71.904 | M15: 0 | Q15: 0
A16: 2 | E16: 1.48 | I16: 57.792 | M16: 0 | Q16: 0
A17: 3 | E17: 1.33 | I17: 52.632 | M17: 0 | Q17: 0
A18: 4 | E18: 1.43 | I18: 52.464 | M18: 0 | Q18: 0
A19: 5 | E19: 1.48 | I19: 49.464 | M19: 0 | Q19: 0
A20: 6 | E20: 3.69 | I20: 54.888 | M20: 0 | Q20: 0
A21: 7 | E21: 1.95 | I21: 63.288 | M21: 0 | Q21: 0
A22: 8 | E22: 3.03 | I22: 73.176 | M22: 0 | Q22: 0
A23: 9 | E23: 6 | I23: 76.008 | M23: 0 | Q23: 0
A24: 10 | E24: 5.06 | I24: 73.584 | M24: 0 | Q24: 0
A25: 11 | E25: 6.18 | I25: 75.696 | M25: 0 | Q25: 0
A26: 12 | E26: 3.97 | I26: 75.072 | M26: 0 | Q26: 0
... A38: 24 | E38: 2.37 | I38: 72.336 | M38: 0 | Q38: 0
A39: Итого | E39: =SUM(E15:E38) -> 90.07 | I39: =SUM(I15:I38) -> 1792.392 | M39: =SUM(M15:M38) -> 0 | Q39: =SUM(Q15:Q38) -> 0
A40: 1. При наличии на предприятии отклонений от нормальных режимов электропотребления (временное изменение схем питания, остановка на ремонт, резкое снижение
A41: эл.потребления и т.д.) последние необходимо перечислить.
A42: Главный инженер АО "Вологдаоблэнерго" А.В. Чурляев
A43: составляется самим предприятием с соблюдением всех пунктов настоящей таблицы.

Sheet 5
B1: АО "Вологдаоблэнерго" | J1: код 900151 | N1: ПС Малечкино, ф. Поселок
B2: наименование предприятия | N2: наименование источника питания
N3: ТП-3 ПС Малечкино; ТП-97
B4: ул. Горького, 99 | I4: Таблица № 1
B5: адрес
A6: почасовых записей показаний электрических счетчиков
A7: в режимный день 15 ИЮНЯ 2022 г.
A8: 1630 | B8: 1628
A9: часы суток | B9: Активная энергия | J9: Реактивная энергия
B10: ТП-3 ПС Малечкино | F10: ТП-97 | J10: ТП-3 ПС Малечкино | N10: ТП-97
B11: Расчет. Коэф. | E11: 120 | F11: Расчет. Коэф. | I11: 60 | J11: Расчет. Коэф. | M11: =E11 -> 120 | N11: Расчет. Коэф. | Q11: =I11 -> 60
B12: показания счетчика | C12: разность | E12: расход эл.энергии за час | F12: показания счетчика | G12: разность | I12: расход эл.энергии за час | J12: показания счетчика | K12: разность | M12: расход эл.энергии за час | N12: показания счетчика | O12: разность | Q12: расход эл.энергии за час
A13: 1 | B13: 2 | C13: 3 | E13: 4 | F13: 5 | G13: 6 | I13: 7 | J13: 8 | K13: 9 | M13: 10 | N13: 11 | O13: 12 | Q13: 13
A14: 0
A15: 1 | E15: 28.08 | I15: 30.42 | M15: 0 | Q15: 0
A16: 2 | E16: 26.424 | I16: 26.616 | M16: 0 | Q16: 0
A17: 3 | E17: 25.464 | I17: 24.624 | M17: 0 | Q17: 0
A18: 4 | E18: 24.792 | I18: 24.216 | M18: 0 | Q18: 0
A19: 5 | E19: 42.408 | I19: 25.548 | M19: 0 | Q19: 0
A20: 6 | E20: 37.8 | I20: 27.828 | M20: 0 | Q20: 0
A21: 7 | E21: 35.952 | I21: 28.848 | M21: 0 | Q21: 0
A22: 8 | E22: 36.576 | I22: 35.04 | M22: 0 | Q22: 0
A23: 9 | E23: 44.256 | I23: 40.176 | M23: 0 | Q23: 0
A24: 10 | E24: 46.32 | I24: 43.14 | M24: 0 | Q24: 0
A25: 11 | E25: 40.056 | I25: 38.304 | M25: 0 | Q25: 0
A26: 12 | E26: 38.736 | I26: 42.168 | M26: 0 | Q26: 0
... A37: 23 | E37: 41.664 | I37: 46.068 | M37: 0 | Q37: 0
A38: 24 | E38: 38.088 | I38: 39.54 | M38: 0 | Q38: 0 | R38: 1
A39: Итого | E39: =SUM(E15:E38) -> 866.496 | I39: =SUM(I15:I38) -> 930.66 | M39: =SUM(M15:M38) -> 0 | Q39: =SUM(Q15:Q38) -> 0
A40: 1. При наличии на предприятии отклонений от нормальных режимов электропотребления (временное изменение схем питания, остановка на ремонт, резкое снижение
A41: эл.потребления и т.д.) последние необходимо перечислить.
A42: Главный инженер АО "Вологдаоблэнерго" А.В. Чурляев
A43: составляется самим предприятием с соблюдением всех пунктов настоящей таблицы.

Sheet 6
B1: АО "Вологдаоблэнерго" | J1: код 900151 | N1: ПС Малечкино, ф. Поселок
B2: наименование предприятия | N2: наименование источника питания
N3: ТП-15 Кормоцех В-1; В-2
B4: ул. Горького, 99 | I4: Таблица № 1
B5: адрес
A6: почасовых записей показаний электрических счетчиков
A7: в режимный день 15 ИЮНЯ 2022 г.
A8: 1630 | B8: 1628
A9: часы суток | B9: Активная энергия | J9: Реактивная энергия
B10: ТП-15 Кормоцех В-1 | F10: ТП-15 Кормоцех В-2 | J10: ТП-15 Кормоцех В-1 | N10: ТП-15 Кормоцех В-2
B11: Расчет. Коэф. | E11: 60 | F11: Расчет. Коэф. | I11: 60 | J11: Расчет. Коэф. | M11: =E11 -> 60 | N11: Расчет. Коэф. | Q11: =I11 -> 60
B12: показания счетчика | C12: разность | E12: расход эл.энергии за час | F12: показания счетчика | G12: разность | I12: расход эл.энергии за час | J12: показания счетчика | K12: разность | M12: расход эл.энергии за час | N12: показания счетчика | O12: разность | Q12: расход эл.энергии за час
A13: 1 | B13: 2 | C13: 3 | E13: 4 | F13: 5 | G13: 6 | I13: 7 | J13: 8 | K13: 9 | M13: 10 | N13: 11 | O13: 12 | Q13: 13
A14: 0
A15: 1 | E15: 1.32 | I15: 0 | M15: 0 | Q15: 0
A16: 2 | E16: 1.32 | I16: 0 | M16: 0 | Q16: 0
A17: 3 | E17: 1.32 | I17: 0 | M17: 0 | Q17: 0
A18: 4 | E18: 1.35 | I18: 0 | M18: 0 | Q18: 0
A19: 5 | E19: 1.32 | I19: 0 | M19: 0 | Q19: 0
A20: 6 | E20: 1.11 | I20: 0 | M20: 0 | Q20: 0
A21: 7 | E21: 0.63 | I21: 0 | M21: 0 | Q21: 0
A22: 8 | E22: 16.11 | I22: 0 | M22: 0 | Q22: 0
A23: 9 | E23: 1.2 | I23: 0 | M23: 0 | Q23: 0
A24: 10 | E24: 2.64 | I24: 0 | M24: 0 | Q24: 0
A25: 11 | E25: 5.52 | I25: 0 | M25: 0 | Q25: 0
A26: 12 | E26: 17.82 | I26: 0 | M26: 0 | Q26: 0
... A38: 24 | E38: 2.61 | I38: 0 | M38: 0 | Q38: 0
A39: Итого | E39: =SUM(E15:E38) -> 95.91 | I39: =SUM(I15:I38) -> 0 | M39: =SUM(M15:M38) -> 0 | Q39: =SUM(Q15:Q38) -> 0
A40: 1. При наличии на предприятии отклонений от нормальных режимов электропотребления (временное изменение схем питания, остановка на ремонт, резкое снижение
A41: эл.потребления и т.д.) последние необходимо перечислить.
A42: Главный инженер АО "Вологдаоблэнерго" А.В. Чурляев
A43: составляется самим предприятием с соблюдением всех пунктов настоящей таблицы.

Sheet 7
B1: АО "Вологдаоблэнерго" | J1: код 900151 | N1: ПС Малечкино, ф. Парфеново-1
B2: наименование предприятия | N2: наименование источника питания
N3: ЦРП-Парфеново
B4: ул. Горького, 99 | I4: Таблица № 1
B5: адрес
A6: почасовых записей показаний электрических счетчиков
A7: в режимный день 15 ИЮНЯ 2022 г.
A8: 1630 | B8: 1628
A9: часы суток | B9: Активная энергия | J9: Реактивная энергия
B10: ЦРП-Парфеново В-1 | F10: ЦРП-Парфеново В-2 | J10: ЦРП-Парфеново В-1 | N10: ЦРП-Парфеново В-2
B11: Расчет. Коэф. | E11: 4000 | F11: Расчет. Коэф. | I11: 3000 | J11: Расчет. Коэф. | M11: =E11 -> 4000 | N11: Расчет. Коэф. | Q11: =I11 -> 3000
B12: показания счетчика | C12: разность | E12: расход эл.энергии за час | F12: показания счетчика | G12: разность | I12: расход эл.энергии за час | J12: показания счетчика | K12: разность | M12: расход эл.энергии за час | N12: показания счетчика | O12: разность | Q12: расход эл.энергии за час
A13: 1 | B13: 2 | C13: 3 | E13: 4 | F13: 5 | G13: 6 | I13: 7 | J13: 8 | K13: 9 | M13: 10 | N13: 11 | O13: 12 | Q13: 13
A14: 0
A15: 1 | E15: 233.6 | I15: 0 | M15: 0 | Q15: 0
A16: 2 | E16: 230.4 | I16: 0 | M16: 0 | Q16: 0
A17: 3 | E17: 240.8 | I17: 0 | M17: 0 | Q17: 0
A18: 4 | E18: 238.4 | I18: 0 | M18: 0 | Q18: 0
A19: 5 | E19: 229.2 | I19: 0 | M19: 0 | Q19: 0
A20: 6 | E20: 248.8 | I20: 0 | M20: 0 | Q20: 0
A21: 7 | E21: 270.4 | I21: 0 | M21: 0 | Q21: 0
A22: 8 | E22: 314.4 | I22: 0 | M22: 0 | Q22: 0
A23: 9 | E23: 557.6 | I23: 0 | M23: 0 | Q23: 0
A24: 10 | E24: 559.2 | I24: 0 | M24: 0 | Q24: 0
A25: 11 | E25: 561.6 | I25: 0 | M25: 0 | Q25: 0
A26: 12 | E26: 538.8 | I26: 0 | M26: 0 | Q26: 0
... A38: 24 | E38: 210.8 | I38: 0 | M38: 0 | Q38: 0
A39: Итого | E39: =SUM(E15:E38) -> 8200.4 | I39: =SUM(I15:I38) -> 0 | M39: =SUM(M15:M38) -> 0 | Q39: =SUM(Q15:Q38) -> 0
A40: 1. При наличии на предприятии отклонений от нормальных режимов электропотребления (временное изменение схем питания, остановка на ремонт, резкое снижение
A41: эл.потребления и т.д.) последние необходимо перечислить.
A42: Главный инженер АО "Вологдаоблэнерго" А.В. Чурляев
A43: составляется самим предприятием с соблюдением всех пунктов настоящей таблицы.

Sheet 8
B1: АО "Вологдаоблэнерго" | J1: код 900151 | N1: ПС Малечкино, ф. Киселево
B2: наименование предприятия | N2: наименование источника питания
N3: ЦРП-Парфеново
B4: ул. Горького, 99 | I4: Таблица № 1
B5: адрес
A6: почасовых записей показаний электрических счетчиков
A7: в режимный день 15 ИЮНЯ 2022 г.
A8: 1630 | B8: 1628
A9: часы суток | B9: Активная энергия | J9: Реактивная энергия
B10: ЦРП-Парфеново В ф.Киселево | J10: ЦРП-Парфеново В ф.Киселево
B11: Расчет. Коэф. | E11: 6000 | F11: Расчет. Коэф. | J11: Расчет. Коэф. | M11: =E11 -> 6000 | N11: Расчет. Коэф. | Q11: =I11 -> 0
B12: показания счетчика | C12: разность | E12: расход эл.энергии за час | F12: показания счетчика | G12: разность | I12: расход эл.энергии за час | J12: показания счетчика | K12: разность | M12: расход эл.энергии за час | N12: показания счетчика | O12: разность | Q12: расход эл.энергии за час
A13: 1 | B13: 2 | C13: 3 | E13: 4 | F13: 5 | G13: 6 | I13: 7 | J13: 8 | K13: 9 | M13: 10 | N13: 11 | O13: 12 | Q13: 13
A14: 0
A15: 1 | E15: 0 | M15: 0
A16: 2 | E16: 0 | M16: 0
A17: 3 | E17: 0 | M17: 0
A18: 4 | E18: 0 | M18: 0
A19: 5 | E19: 0 | M19: 0
A20: 6 | E20: 0 | M20: 0
A21: 7 | E21: 0 | M21: 0
A22: 8 | E22: 0 | M22: 0
A23: 9 | E23: 0 | M23: 0
A24: 10 | E24: 0 | M24: 0
A25: 11 | E25: 0 | M25: 0
A26: 12 | E26: 0 | M26: 0
... A38: 24 | E38: 0 | M38: 0
A39: Итого | E39: =SUM(E15:E38) -> 0 | I39: =SUM(I15:I38) -> 0 | M39: =SUM(M15:M38) -> 0 | Q39: =SUM(Q15:Q38) -> 0
A40: 1. При наличии на предприятии отклонений от нормальных режимов электропотребления (временное изменение схем питания, остановка на ремонт, резкое снижение
A41: эл.потребления и т.д.) последние необходимо перечислить.
A42: Главный инженер АО "Вологдаоблэнерго" А.В. Чурляев
A43: составляется самим предприятием с соблюдением всех пунктов настоящей таблицы.

Sheet 9
B1: АО "Вологдаоблэнерго" | J1: код 900151 | N1: ПС Малечкино, ф. Киселево
B2: наименование предприятия | N2: наименование источника питания
N3: ТП-51; КТП-250 Курилово-ферма
B4: ул. Горького, 99 | I4: Таблица № 1
B5: адрес
A6: почасовых записей показаний электрических счетчиков
A7: в режимный день 15 ИЮНЯ 2022 г.
A8: 1630 | B8: 1628
A9: часы суток | B9: Активная энергия | J9: Реактивная энергия
B10: ТП-51 | F10: КТП-250 Курилово-ферма | J10: ТП-51 | N10: КТП-250 Курилово-ферма
B11: Расчет. Коэф. | E11: 120 | F11: Расчет. Коэф. | I11: 30 | J11: Расчет. Коэф. | M11: =E11 -> 120 | N11: Расчет. Коэф. | Q11: =I11 -> 30
B12: показания счетчика | C12: разность | E12: расход эл.энергии за час | F12: показания счетчика | G12: разность | I12: расход эл.энергии за час | J12: показания счетчика | K12: разность | M12: расход эл.энергии за час | N12: показания счетчика | O12: разность | Q12: расход эл.энергии за час
A13: 1 | B13: 2 | C13: 3 | E13: 4 | F13: 5 | G13: 6 | I13: 7 | J13: 8 | K13: 9 | M13: 10 | N13: 11 | O13: 12 | Q13: 13
A14: 0
A15: 1 | E15: 0 | I15: 0.24 | M15: 0 | Q15: 0
A16: 2 | E16: 0 | I16: 0.2 | M16: 0 | Q16: 0
A17: 3 | E17: 0 | I17: 0.24 | M17: 0 | Q17: 0
A18: 4 | E18: 0 | I18: 0.24 | M18: 0 | Q18: 0
A19: 5 | E19: 0 | I19: 0.2 | M19: 0 | Q19: 0
A20: 6 | E20: 0 | I20: 0.24 | M20: 0 | Q20: 0
A21: 7 | E21: 0 | I21: 0.24 | M21: 0 | Q21: 0
A22: 8 | E22: 0 | I22: 0.2 | M22: 0 | Q22: 0
A23: 9 | E23: 0 | I23: 0.24 | M23: 0 | Q23: 0
A24: 10 | E24: 0 | I24: 0.56 | M24: 0 | Q24: 0
A25: 11 | E25: 0 | I25: 0.4 | M25: 0 | Q25: 0
A26: 12 | E26: 0 | I26: 0.2 | M26: 0 | Q26: 0
... A38: 24 | E38: 0 | I38: 0.24 | M38: 0 | Q38: 0
A39: Итого | E39: =SUM(E15:E38) -> 0 | I39: =SUM(I15:I38) -> 4.72 | M39: =SUM(M15:M38) -> 0 | Q39: =SUM(Q15:Q38) -> 0
A40: 1. При наличии на предприятии отклонений от нормальных режимов электропотребления (временное изменение схем питания, остановка на ремонт, резкое снижение
A41: эл.потребления и т.д.) последние необходимо перечислить.
A42: Главный инженер АО "Вологдаоблэнерго" А.В. Чурляев
A43: составляется самим предприятием с соблюдением всех пунктов настоящей таблицы.

Sheet 10
B1: АО "Вологдаоблэнерго" | J1: код 900151 | N1: ПС Малечкино, ф. Тепл. комбинат
B2: наименование предприятия | N2: наименование источника питания
N3: ТП-33; КТП-400 Пилорама Карат плюс
B4: ул. Горького, 99 | I4: Таблица № 1
B5: адрес
A6: почасовых записей показаний электрических счетчиков
A7: в режимный день 15 ИЮНЯ 2022 г.
A8: 1630 | B8: 1628
A9: часы суток | B9: Активная энергия | J9: Реактивная энергия
B10: ТП-33 | F10: КТП-400 Пилорама Карат плюс | J10: ТП-33 | N10: КТП-400 Пилорама Карат плюс
B11: Расчет. Коэф. | E11: 30 | F11: Расчет. Коэф. | I11: 120 | J11: Расчет. Коэф. | M11: =E11 -> 30 | N11: Расчет. Коэф. | Q11: =I11 -> 120
B12: показания счетчика | C12: разность | E12: расход эл.энергии за час | F12: показания счетчика | G12: разность | I12: расход эл.энергии за час | J12: показания счетчика | K12: разность | M12: расход эл.энергии за час | N12: показания счетчика | O12: разность | Q12: расход эл.энергии за час
A13: 1 | B13: 2 | C13: 3 | E13: 4 | F13: 5 | G13: 6 | I13: 7 | J13: 8 | K13: 9 | M13: 10 | N13: 11 | O13: 12 | Q13: 13
A14: 0
A15: 1 | E15: 15.74 | I15: 14.88 | M15: 0 | Q15: 0
A16: 2 | E16: 16.7 | I16: 13.392 | M16: 0 | Q16: 0
A17: 3 | E17: 14.62 | I17: 12.96 | M17: 0 | Q17: 0
A18: 4 | E18: 15.16 | I18: 12.408 | M18: 0 | Q18: 0
A19: 5 | E19: 16.34 | I19: 12.696 | M19: 0 | Q19: 0
A20: 6 | E20: 20.04 | I20: 13.872 | M20: 0 | Q20: 0
A21: 7 | E21: 23.56 | I21: 11.16 | M21: 0 | Q21: 0
A22: 8 | E22: 19.56 | I22: 12.504 | M22: 0 | Q22: 0
A23: 9 | E23: 29.22 | I23: 15.24 | M23: 0 | Q23: 0
A24: 10 | E24: 30.18 | I24: 19.56 | M24: 0 | Q24: 0
A25: 11 | E25: 32.02 | I25: 22.272 | M25: 0 | Q25: 0
A26: 12 | E26: 37.02 | I26: 38.856 | M26: 0 | Q26: 0
... A38: 24 | E38: 33.62 | I38: 20.568 | M38: 0 | Q38: 0
A39: Итого | E39: =SUM(E15:E38) -> 776.56 | I39: =SUM(I15:I38) -> 518.616 | M39: =SUM(M15:M38) -> 0 | Q39: =SUM(Q15:Q38) -> 0
A40: 1. При наличии на предприятии отклонений от нормальных режимов электропотребления (временное изменение схем питания, остановка на ремонт, резкое снижение
A41: эл.потребления и т.д.) последние необходимо перечислить.
A42: Главный инженер АО "Вологдаоблэнерго" А.В. Чурляев
A43: составляется самим предприятием с соблюдением всех пунктов настоящей таблицы.

Sheet 11
B1: АО "Вологдаоблэнерго" | J1: код 900151 | N1: ПС Загородная, ф. Тоншалово-2
B2: наименование предприятия | N2: наименование источника питания
N3: ТП-4 очистные В-1; ТП-4 очистные В-2
B4: ул. Горького, 99 | I4: Таблица № 1
B5: адрес
A6: почасовых записей показаний электрических счетчиков
A7: в режимный день 15 ИЮНЯ 2022 г.
A8: 1630 | B8: 1628
A9: часы суток | B9: Активная энергия | J9: Реактивная энергия
B10: ТП-4 очистные В-1 | F10: ТП-4 очистные В-2 | J10: ТП-4 очистные В-1 | N10: ТП-4 очистные В-2
B11: Расчет. Коэф. | E11: 120 | F11: Расчет. Коэф. | I11: 120 | J11: Расчет. Коэф. | M11: =E11 -> 120 | N11: Расчет. Коэф. | Q11: =I11 -> 120
B12: показания счетчика | C12: разность | E12: расход эл.энергии за час | F12: показания счетчика | G12: разность | I12: расход эл.энергии за час | J12: показания счетчика | K12: разность | M12: расход эл.энергии за час | N12: показания счетчика | O12: разность | Q12: расход эл.энергии за час
A13: 1 | B13: 2 | C13: 3 | E13: 4 | F13: 5 | G13: 6 | I13: 7 | J13: 8 | K13: 9 | M13: 10 | N13: 11 | O13: 12 | Q13: 13
A14: 0
A15: 1 | E15: 42.528 | I15: 14.88 | M15: 0 | Q15: 0
A16: 2 | E16: 46.584 | I16: 13.392 | M16: 0 | Q16: 0
A17: 3 | E17: 46.512 | I17: 12.96 | M17: 0 | Q17: 0
A18: 4 | E18: 45.984 | I18: 12.408 | M18: 0 | Q18: 0
A19: 5 | E19: 44.448 | I19: 12.696 | M19: 0 | Q19: 0
A20: 6 | E20: 40.584 | I20: 13.872 | M20: 0 | Q20: 0
A21: 7 | E21: 44.016 | I21: 11.16 | M21: 0 | Q21: 0
A22: 8 | E22: 47.112 | I22: 12.504 | M22: 0 | Q22: 0
A23: 9 | E23: 45.984 | I23: 15.24 | M23: 0 | Q23: 0
A24: 10 | E24: 45.336 | I24: 19.56 | M24: 0 | Q24: 0
A25: 11 | E25: 43.152 | I25: 22.272 | M25: 0 | Q25: 0
A26: 12 | E26: 44.472 | I26: 38.856 | M26: 0 | Q26: 0
... A38: 24 | E38: 43.896 | I38: 20.568 | M38: 0 | Q38: 0
A39: Итого | E39: =SUM(E15:E38) -> 1083.528 | I39: =SUM(I15:I38) -> 518.616 | M39: =SUM(M15:M38) -> 0 | Q39: =SUM(Q15:Q38) -> 0
A40: 1. При наличии на предприятии отклонений от нормальных режимов электропотребления (временное изменение схем питания, остановка на ремонт, резкое снижение
A41: эл.потребления и т.д.) последние необходимо перечислить.
A42: Главный инженер АО "Вологдаоблэнерго" А.В. Чурляев
A43: составляется самим предприятием с соблюдением всех пунктов настоящей таблицы.

Sheet 12
B1: АО "Вологдаоблэнерго" | J1: код 900151 | N1: ПС Загородная, ф. Тоншалово-2
B2: наименование предприятия | N2: наименование источника питания
N3: ТП-3 Школа В-1; ТП-3 Школа В-2
B4: ул. Горького, 99 | I4: Таблица № 1
B5: адрес
A6: почасовых записей показаний электрических счетчиков
A7: в режимный день 15 ИЮНЯ 2022 г.
A8: 1630 | B8: 1628
A9: часы суток | B9: Активная энергия | J9: Реактивная энергия
B10: ТП-3 Школа В-1 | F10: ТП-3 Школа В-2 | J10: ТП-3 Школа В-1 | N10: ТП-3 Школа В-2
B11: Расчет. Коэф. | E11: 120 | F11: Расчет. Коэф. | I11: 120 | J11: Расчет. Коэф. | M11: =E11 -> 120 | N11: Расчет. Коэф. | Q11: =I11 -> 120
B12: показания счетчика | C12: разность | E12: расход эл.энергии за час | F12: показания счетчика | G12: разность | I12: расход эл.энергии за час | J12: показания счетчика | K12: разность | M12: расход эл.энергии за час | N12: показания счетчика | O12: разность | Q12: расход эл.энергии за час
A13: 1 | B13: 2 | C13: 3 | E13: 4 | F13: 5 | G13: 6 | I13: 7 | J13: 8 | K13: 9 | M13: 10 | N13: 11 | O13: 12 | Q13: 13
A14: 0
A15: 1 | E15: 41.232 | I15: 0 | M15: 0 | Q15: 0
A16: 2 | E16: 41.136 | I16: 0 | M16: 0 | Q16: 0
A17: 3 | E17: 40.368 | I17: 0 | M17: 0 | Q17: 0
A18: 4 | E18: 40.776 | I18: 0 | M18: 0 | Q18: 0
A19: 5 | E19: 40.224 | I19: 0 | M19: 0 | Q19: 0
A20: 6 | E20: 43.488 | I20: 0 | M20: 0 | Q20: 0
A21: 7 | E21: 43.128 | I21: 0 | M21: 0 | Q21: 0
A22: 8 | E22: 55.488 | I22: 0 | M22: 0 | Q22: 0
A23: 9 | E23: 62.472 | I23: 0 | M23: 0 | Q23: 0
A24: 10 | E24: 73.896 | I24: 0 | M24: 0 | Q24: 0
A25: 11 | E25: 77.64 | I25: 0 | M25: 0 | Q25: 0
A26: 12 | E26: 75.816 | I26: 0 | M26: 0 | Q26: 0
... A38: 24 | E38: 43.272 | I38: 0 | M38: 0 | Q38: 0
A39: Итого | E39: =SUM(E15:E38) -> 1438.584 | I39: =SUM(I15:I38) -> 0 | M39: =SUM(M15:M38) -> 0 | Q39: =SUM(Q15:Q38) -> 0
A40: 1. При наличии на предприятии отклонений от нормальных режимов электропотребления (временное изменение схем питания, остановка на ремонт, резкое снижение
A41: эл.потребления и т.д.) последние необходимо перечислить.
A42: Главный инженер АО "Вологдаоблэнерго" А.В. Чурляев
A43: составляется самим предприятием с соблюдением всех пунктов настоящей таблицы.

Sheet 13
B1: АО "Вологдаоблэнерго" | J1: код 900151 | N1: ПС Загородная, ф. Тоншалово-2
B2: наименование предприятия | N2: наименование источника питания
N3: ТП-5 ПМК-1 В-1
B4: ул. Горького, 99 | I4: Таблица № 1 | N4: ТП-5 ПМК-1 В-2
B5: адрес
A6: почасовых записей показаний электрических счетчиков
A7: в режимный день 15 ИЮНЯ 2022 г.
A8: 1630 | B8: 1628
A9: часы суток | B9: Активная энергия | J9: Реактивная энергия
B10: =N3 -> ТП-5 ПМК-1 В-1 | F10: =N4 -> ТП-5 ПМК-1 В-2 | J10: =B10 -> ТП-5 ПМК-1 В-1 | N10: =F10 -> ТП-5 ПМК-1 В-2
B11: Расчет. Коэф. | E11: 120 | F11: Расчет. Коэф. | I11: 120 | J11: Расчет. Коэф. | M11: =E11 -> 120 | N11: Расчет. Коэф. | Q11: =I11 -> 120
B12: показания счетчика | C12: разность | E12: расход эл.энергии за час | F12: показания счетчика | G12: разность | I12: расход эл.энергии за час | J12: показания счетчика | K12: разность | M12: расход эл.энергии за час | N12: показания счетчика | O12: разность | Q12: расход эл.энергии за час
A13: 1 | B13: 2 | C13: 3 | E13: 4 | F13: 5 | G13: 6 | I13: 7 | J13: 8 | K13: 9 | M13: 10 | N13: 11 | O13: 12 | Q13: 13
A14: 0
A15: 1 | E15: 39.504 | I15: 12 | M15: 0 | Q15: 0
A16: 2 | E16: 33.744 | I16: 11.424 | M16: 0 | Q16: 0
A17: 3 | E17: 33.336 | I17: 11.04 | M17: 0 | Q17: 0
A18: 4 | E18: 31.848 | I18: 11.04 | M18: 0 | Q18: 0
A19: 5 | E19: 46.056 | I19: 10.56 | M19: 0 | Q19: 0
A20: 6 | E20: 66.6 | I20: 12.144 | M20: 0 | Q20: 0
A21: 7 | E21: 71.784 | I21: 11.76 | M21: 0 | Q21: 0
A22: 8 | E22: 64.68 | I22: 13.632 | M22: 0 | Q22: 0
A23: 9 | E23: 62.472 | I23: 14.904 | M23: 0 | Q23: 0
A24: 10 | E24: 60.624 | I24: 14.664 | M24: 0 | Q24: 0
A25: 11 | E25: 70.416 | I25: 14.28 | M25: 0 | Q25: 0
A26: 12 | E26: 63.168 | I26: 16.08 | M26: 0 | Q26: 0
... A38: 24 | E38: 48.336 | I38: 14.352 | M38: 0 | Q38: 0
A39: Итого | E39: =SUM(E15:E38) -> 1343.424 | I39: =SUM(I15:I38) -> 339.864 | M39: =SUM(M15:M38) -> 0 | Q39: =SUM(Q15:Q38) -> 0
A40: 1. При наличии на предприятии отклонений от нормальных режимов электропотребления (временное изменение схем питания, остановка на ремонт, резкое снижение
A41: эл.потребления и т.д.) последние необходимо перечислить.
A42: Главный инженер АО "Вологдаоблэнерго" А.В. Чурляев
A43: составляется самим предприятием с соблюдением всех пунктов настоящей таблицы.

Sheet 14
B1: АО "Вологдаоблэнерго" | J1: код 900151 | N1: ПС Загородная, ф. Тоншалово-2
B2: наименование предприятия | N2: наименование источника питания
N3: ТП-6 Детский сад В-1
B4: ул. Горького, 99 | I4: Таблица № 1 | N4: ТП-6 Детский сад В-2
B5: адрес
A6: почасовых записей показаний электрических счетчиков
A7: в режимный день 15 ИЮНЯ 2022 г.
A8: 1630 | B8: 1628
A9: часы суток | B9: Активная энергия | J9: Реактивная энергия
B10: =N3 -> ТП-6 Детский сад В-1 | F10: =N4 -> ТП-6 Детский сад В-2 | J10: =B10 -> ТП-6 Детский сад В-1 | N10: =F10 -> ТП-6 Детский сад В-2
B11: Расчет. Коэф. | E11: 120 | F11: Расчет. Коэф. | I11: 120 | J11: Расчет. Коэф. | M11: =E11 -> 120 | N11: Расчет. Коэф. | Q11: =I11 -> 120
B12: показания счетчика | C12: разность | E12: расход эл.энергии за час | F12: показания счетчика | G12: разность | I12: расход эл.энергии за час | J12: показания счетчика | K12: разность | M12: расход эл.энергии за час | N12: показания счетчика | O12: разность | Q12: расход эл.энергии за час
A13: 1 | B13: 2 | C13: 3 | E13: 4 | F13: 5 | G13: 6 | I13: 7 | J13: 8 | K13: 9 | M13: 10 | N13: 11 | O13: 12 | Q13: 13
A14: 0
A15: 1 | E15: 44.112 | I15: 33.696 | M15: 0 | Q15: 0
A16: 2 | E16: 39.672 | I16: 29.064 | M16: 0 | Q16: 0
A17: 3 | E17: 39.816 | I17: 27.96 | M17: 0 | Q17: 0
A18: 4 | E18: 37.68 | I18: 26.064 | M18: 0 | Q18: 0
A19: 5 | E19: 35.664 | I19: 26.952 | M19: 0 | Q19: 0
A20: 6 | E20: 35.592 | I20: 29.592 | M20: 0 | Q20: 0
A21: 7 | E21: 41.544 | I21: 35.664 | M21: 0 | Q21: 0
A22: 8 | E22: 50.16 | I22: 36.96 | M22: 0 | Q22: 0
A23: 9 | E23: 52.872 | I23: 36.264 | M23: 0 | Q23: 0
A24: 10 | E24: 54.144 | I24: 36.864 | M24: 0 | Q24: 0
A25: 11 | E25: 61.416 | I25: 38.088 | M25: 0 | Q25: 0
A26: 12 | E26: 61.824 | I26: 36.984 | M26: 0 | Q26: 0
... A38: 24 | E38: 51.432 | I38: 38.304 | M38: 0 | Q38: 0
A39: Итого | E39: =SUM(E15:E38) -> 1364.184 | I39: =SUM(I15:I38) -> 927.6 | M39: =SUM(M15:M38) -> 0 | Q39: =SUM(Q15:Q38) -> 0
A40: 1. При наличии на предприятии отклонений от нормальных режимов электропотребления (временное изменение схем питания, остановка на ремонт, резкое снижение
A41: эл.потребления и т.д.) последние необходимо перечислить.
A42: Главный инженер АО "Вологдаоблэнерго" А.В. Чурляев
A43: составляется самим предприятием с соблюдением всех пунктов настоящей таблицы.

Sheet 15
B1: АО "Вологдаоблэнерго" | J1: код 900151 | N1: ПС Загородная, ф. Тоншалово-2
B2: наименование предприятия | N2: наименование источника питания
N3: ТП-2 Поселок
B4: ул. Горького, 99 | I4: Таблица № 1
B5: адрес
A6: почасовых записей показаний электрических счетчиков
A7: в режимный день 15 ИЮНЯ 2022 г.
A8: 1630 | B8: 1628
A9: часы суток | B9: Активная энергия | J9: Реактивная энергия
B10: =N3 -> ТП-2 Поселок | F10: =N4 -> 0 | J10: =B10 -> ТП-2 Поселок | N10: =F10 -> 0
B11: Расчет. Коэф. | E11: 200 | F11: Расчет. Коэф. | I11: 120 | J11: Расчет. Коэф. | M11: =E11 -> 200 | N11: Расчет. Коэф. | Q11: =I11 -> 120
B12: показания счетчика | C12: разность | E12: расход эл.энергии за час | F12: показания счетчика | G12: разность | I12: расход эл.энергии за час | J12: показания счетчика | K12: разность | M12: расход эл.энергии за час | N12: показания счетчика | O12: разность | Q12: расход эл.энергии за час
A13: 1 | B13: 2 | C13: 3 | E13: 4 | F13: 5 | G13: 6 | I13: 7 | J13: 8 | K13: 9 | M13: 10 | N13: 11 | O13: 12 | Q13: 13
A14: 0
A15: 1 | E15: 100.28 | I15: 0 | M15: 0 | Q15: 0
A16: 2 | E16: 90.16 | I16: 0 | M16: 0 | Q16: 0
A17: 3 | E17: 87.96 | I17: 0 | M17: 0 | Q17: 0
A18: 4 | E18: 82.76 | I18: 0 | M18: 0 | Q18: 0
A19: 5 | E19: 81.68 | I19: 0 | M19: 0 | Q19: 0
A20: 6 | E20: 88.08 | I20: 0 | M20: 0 | Q20: 0
A21: 7 | E21: 101.16 | I21: 0 | M21: 0 | Q21: 0
A22: 8 | E22: 112.04 | I22: 0 | M22: 0 | Q22: 0
A23: 9 | E23: 115.2 | I23: 0 | M23: 0 | Q23: 0
A24: 10 | E24: 117.56 | I24: 0 | M24: 0 | Q24: 0
A25: 11 | E25: 122.16 | I25: 0 | M25: 0 | Q25: 0
A26: 12 | E26: 119.24 | I26: 0 | M26: 0 | Q26: 0
... A38: 24 | E38: 112.76 | I38: 0 | M38: 0 | Q38: 0
A39: Итого | E39: =SUM(E15:E38) -> 2696.72 | I39: =SUM(I15:I38) -> 0 | M39: =SUM(M15:M38) -> 0 | Q39: =SUM(Q15:Q38) -> 0
A40: 1. При наличии на предприятии отклонений от нормальных режимов электропотребления (временное изменение схем питания, остановка на ремонт, резкое снижение
A41: эл.потребления и т.д.) последние необходимо перечислить.
A42: Главный инженер АО "Вологдаоблэнерго" А.В. Чурляев
A43: составляется самим предприятием с соблюдением всех пунктов настоящей таблицы.

Sheet 16
B1: АО "Вологдаоблэнерго" | J1: код 900151 | N1: ПС Загородная, ф. Солманское
B2: наименование предприятия | N2: наименование источника питания
N3: ТП-Котельная ПМК-2 В-1
B4: ул. Горького, 99 | I4: Таблица № 1 | N4: ТП-Котельная ПМК-2 В-2
B5: адрес
A6: почасовых записей показаний электрических счетчиков
A7: в режимный день 15 ИЮНЯ 2022 г.
A8: 1630 | B8: 1628
A9: часы суток | B9: Активная энергия | J9: Реактивная энергия
B10: =N3 -> ТП-Котельная ПМК-2 В-1 | F10: =N4 -> ТП-Котельная ПМК-2 В-2 | J10: =B10 -> ТП-Котельная ПМК-2 В-1 | N10: =F10 -> ТП-Котельная ПМК-2 В-2
B11: Расчет. Коэф. | E11: 80 | F11: Расчет. Коэф. | I11: 80 | J11: Расчет. Коэф. | M11: =E11 -> 80 | N11: Расчет. Коэф. | Q11: =I11 -> 80
B12: показания счетчика | C12: разность | E12: расход эл.энергии за час | F12: показания счетчика | G12: разность | I12: расход эл.энергии за час | J12: показания счетчика | K12: разность | M12: расход эл.энергии за час | N12: показания счетчика | O12: разность | Q12: расход эл.энергии за час
A13: 1 | B13: 2 | C13: 3 | E13: 4 | F13: 5 | G13: 6 | I13: 7 | J13: 8 | K13: 9 | M13: 10 | N13: 11 | O13: 12 | Q13: 13
A14: 0
A15: 1 | E15: 5.6 | I15: 0 | M15: 0 | Q15: 0
A16: 2 | E16: 5.376 | I16: 0 | M16: 0 | Q16: 0
A17: 3 | E17: 5.68 | I17: 0 | M17: 0 | Q17: 0
A18: 4 | E18: 5.44 | I18: 0 | M18: 0 | Q18: 0
A19: 5 | E19: 6.096 | I19: 0 | M19: 0 | Q19: 0
A20: 6 | E20: 12.96 | I20: 0 | M20: 0 | Q20: 0
A21: 7 | E21: 38.032 | I21: 0 | M21: 0 | Q21: 0
A22: 8 | E22: 49.968 | I22: 0 | M22: 0 | Q22: 0
A23: 9 | E23: 28.144 | I23: 0 | M23: 0 | Q23: 0
A24: 10 | E24: 28.176 | I24: 0 | M24: 0 | Q24: 0
A25: 11 | E25: 22.736 | I25: 0 | M25: 0 | Q25: 0
A26: 12 | E26: 41.264 | I26: 0 | M26: 0 | Q26: 0
... A38: 24 | E38: 5.408 | I38: 0 | M38: 0 | Q38: 0
A39: Итого | E39: =SUM(E15:E38) -> 354.368 | I39: =SUM(I15:I38) -> 0 | M39: =SUM(M15:M38) -> 0 | Q39: =SUM(Q15:Q38) -> 0
A40: 1. При наличии на предприятии отклонений от нормальных режимов электропотребления (временное изменение схем питания, остановка на ремонт, резкое снижение
A41: эл.потребления и т.д.) последние необходимо перечислить.
A42: Главный инженер АО "Вологдаоблэнерго" А.В. Чурляев
A43: составляется самим предприятием с соблюдением всех пунктов настоящей таблицы.

Sheet 17
B1: АО "Вологдаоблэнерго" | J1: код 900151 | N1: ПС Нелазское, ф. Шулма
B2: наименование предприятия | N2: наименование источника питания
N3: ТП-244
B4: ул. Горького, 99 | I4: Таблица № 1 | N4: ТП-250
B5: адрес
A6: почасовых записей показаний электрических счетчиков
A7: в режимный день 15 ИЮНЯ 2022 г.
A8: 1630 | B8: 1628
A9: часы суток | B9: Активная энергия | J9: Реактивная энергия
B10: =N3 -> ТП-244 | F10: =N4 -> ТП-250 | J10: =B10 -> ТП-244 | N10: =F10 -> ТП-250
B11: Расчет. Коэф. | E11: 60 | F11: Расчет. Коэф. | I11: 60 | J11: Расчет. Коэф. | M11: =E11 -> 60 | N11: Расчет. Коэф. | Q11: =I11 -> 60
B12: показания счетчика | C12: разность | E12: расход эл.энергии за час | F12: показания счетчика | G12: разность | I12: расход эл.энергии за час | J12: показания счетчика | K12: разность | M12: расход эл.энергии за час | N12: показания счетчика | O12: разность | Q12: расход эл.энергии за час
A13: 1 | B13: 2 | C13: 3 | E13: 4 | F13: 5 | G13: 6 | I13: 7 | J13: 8 | K13: 9 | M13: 10 | N13: 11 | O13: 12 | Q13: 13
A14: 0
A15: 1 | E15: 6.69 | I15: 0 | M15: 0 | Q15: 0
A16: 2 | E16: 6.66 | I16: 0 | M16: 0 | Q16: 0
A17: 3 | E17: 6.66 | I17: 0 | M17: 0 | Q17: 0
A18: 4 | E18: 6.66 | I18: 0 | M18: 0 | Q18: 0
A19: 5 | E19: 6.66 | I19: 0 | M19: 0 | Q19: 0
A20: 6 | E20: 6.66 | I20: 0 | M20: 0 | Q20: 0
A21: 7 | E21: 6.66 | I21: 0 | M21: 0 | Q21: 0
A22: 8 | E22: 6.66 | I22: 0 | M22: 0 | Q22: 0
A23: 9 | E23: 6.66 | I23: 0 | M23: 0 | Q23: 0
A24: 10 | E24: 6.63 | I24: 0 | M24: 0 | Q24: 0
A25: 11 | E25: 6.66 | I25: 0 | M25: 0 | Q25: 0
A26: 12 | E26: 6.63 | I26: 0 | M26: 0 | Q26: 0
... A38: 24 | E38: 6.57 | I38: 0 | M38: 0 | Q38: 0
A39: Итого | E39: =SUM(E15:E38) -> 159.51 | I39: =SUM(I15:I38) -> 0 | M39: =SUM(M15:M38) -> 0 | Q39: =SUM(Q15:Q38) -> 0
A40: 1. При наличии на предприятии отклонений от нормальных режимов электропотребления (временное изменение схем питания, остановка на ремонт, резкое снижение
A41: эл.потребления и т.д.) последние необходимо перечислить.
A42: Главный инженер АО "Вологдаоблэнерго" А.В. Чурляев
A43: составляется самим предприятием с соблюдением всех пунктов настоящей таблицы.

Sheet 18
B1: АО "Вологдаоблэнерго" | J1: код 900151 | N1: ПС Нелазское, ф. Шулма
B2: наименование предприятия | N2: наименование источника питания
N3: ТП-Поселок
B4: ул. Горького, 99 | I4: Таблица № 1 | N4: ТП-Школа
B5: адрес
A6: почасовых записей показаний электрических счетчиков
A7: в режимный день 15 ИЮНЯ 2022 г.
A8: 1630 | B8: 1628
A9: часы суток | B9: Активная энергия | J9: Реактивная энергия
B10: =N3 -> ТП-Поселок | F10: =N4 -> ТП-Школа | J10: =B10 -> ТП-Поселок | N10: =F10 -> ТП-Школа
B11: Расчет. Коэф. | E11: 120 | F11: Расчет. Коэф. | I11: 120 | J11: Расчет. Коэф. | M11: =E11 -> 120 | N11: Расчет. Коэф. | Q11: =I11 -> 120
B12: показания счетчика | C12: разность | E12: расход эл.энергии за час | F12: показания счетчика | G12: разность | I12: расход эл.энергии за час | J12: показания счетчика | K12: разность | M12: расход эл.энергии за час | N12: показания счетчика | O12: разность | Q12: расход эл.энергии за час
A13: 1 | B13: 2 | C13: 3 | E13: 4 | F13: 5 | G13: 6 | I13: 7 | J13: 8 | K13: 9 | M13: 10 | N13: 11 | O13: 12 | Q13: 13
A14: 0
A15: 1 | E15: 82.8 | I15: 6.456 | M15: 0 | Q15: 0
A16: 2 | E16: 75.72 | I16: 8.064 | M16: 0 | Q16: 0
A17: 3 | E17: 77.28 | I17: 5.568 | M17: 0 | Q17: 0
A18: 4 | E18: 75.6 | I18: 5.736 | M18: 0 | Q18: 0
A19: 5 | E19: 75.48 | I19: 3.936 | M19: 0 | Q19: 0
A20: 6 | E20: 80.28 | I20: 2.688 | M20: 0 | Q20: 0
A21: 7 | E21: 94.2 | I21: 5.976 | M21: 0 | Q21: 0
A22: 8 | E22: 99.84 | I22: 13.944 | M22: 0 | Q22: 0
A23: 9 | E23: 109.68 | I23: 17.184 | M23: 0 | Q23: 0
A24: 10 | E24: 105.48 | I24: 16.896 | M24: 0 | Q24: 0
A25: 11 | E25: 108.36 | I25: 21.888 | M25: 0 | Q25: 0
A26: 12 | E26: 108.48 | I26: 14.424 | M26: 0 | Q26: 0
... A38: 24 | E38: 98.16 | I38: 6.168 | M38: 0 | Q38: 0
A39: Итого | E39: =SUM(E15:E38) -> 2429.52 | I39: =SUM(I15:I38) -> 222.072 | M39: =SUM(M15:M38) -> 0 | Q39: =SUM(Q15:Q38) -> 0
A40: 1. При наличии на предприятии отклонений от нормальных режимов электропотребления (временное изменение схем питания, остановка на ремонт, резкое снижение
A41: эл.потребления и т.д.) последние необходимо перечислить.
A42: Главный инженер АО "Вологдаоблэнерго" А.В. Чурляев
A43: составляется самим предприятием с соблюдением всех пунктов настоящей таблицы.

Sheet 19
B1: АО "Вологдаоблэнерго" | J1: код 900151 | N1: ПС Нелазское, ф. К-с Нелазское-2
B2: наименование предприятия | N2: наименование источника питания
N3: ТП-14 В-1
B4: ул. Горького, 99 | I4: Таблица № 1 | N4: ТП-14 В-2
B5: адрес
A6: почасовых записей показаний электрических счетчиков
A7: в режимный день 15 ИЮНЯ 2022 г.
A8: 1630 | B8: 1628
A9: часы суток | B9: Активная энергия | J9: Реактивная энергия
B10: =N3 -> ТП-14 В-1 | F10: =N4 -> ТП-14 В-2 | J10: =B10 -> ТП-14 В-1 | N10: =F10 -> ТП-14 В-2
B11: Расчет. Коэф. | E11: 120 | F11: Расчет. Коэф. | I11: 120 | J11: Расчет. Коэф. | M11: =E11 -> 120 | N11: Расчет. Коэф. | Q11: =I11 -> 120
B12: показания счетчика | C12: разность | E12: расход эл.энергии за час | F12: показания счетчика | G12: разность | I12: расход эл.энергии за час | J12: показания счетчика | K12: разность | M12: расход эл.энергии за час | N12: показания счетчика | O12: разность | Q12: расход эл.энергии за час
A13: 1 | B13: 2 | C13: 3 | E13: 4 | F13: 5 | G13: 6 | I13: 7 | J13: 8 | K13: 9 | M13: 10 | N13: 11 | O13: 12 | Q13: 13
A14: 0
A15: 1 | E15: 0 | I15: 109.8 | M15: 0 | Q15: 0
A16: 2 | E16: 0 | I16: 68.04 | M16: 0 | Q16: 0
A17: 3 | E17: 0 | I17: 77.64 | M17: 0 | Q17: 0
A18: 4 | E18: 0 | I18: 74.52 | M18: 0 | Q18: 0
A19: 5 | E19: 0 | I19: 56.88 | M19: 0 | Q19: 0
A20: 6 | E20: 0 | I20: 69.96 | M20: 0 | Q20: 0
A21: 7 | E21: 0 | I21: 63.6 | M21: 0 | Q21: 0
A22: 8 | E22: 0 | I22: 91.56 | M22: 0 | Q22: 0
A23: 9 | E23: 0 | I23: 103.32 | M23: 0 | Q23: 0
A24: 10 | E24: 0 | I24: 97.68 | M24: 0 | Q24: 0
A25: 11 | E25: 0 | I25: 102.24 | M25: 0 | Q25: 0
A26: 12 | E26: 0 | I26: 113.04 | M26: 0 | Q26: 0
... A38: 24 | E38: 0 | I38: 99.72 | M38: 0 | Q38: 0
A39: Итого | E39: =SUM(E15:E38) -> 0 | I39: =SUM(I15:I38) -> 2167.2 | M39: =SUM(M15:M38) -> 0 | Q39: =SUM(Q15:Q38) -> 0
A40: 1. При наличии на предприятии отклонений от нормальных режимов электропотребления (временное изменение схем питания, остановка на ремонт, резкое снижение
A41: эл.потребления и т.д.) последние необходимо перечислить.
A42: Главный инженер АО "Вологдаоблэнерго" А.В. Чурляев
A43: составляется самим предприятием с соблюдением всех пунктов настоящей таблицы.

Sheet 20
B1: АО "Вологдаоблэнерго" | J1: код 900151 | N1: ПС Нелазское, ф. К-с Нелазское-2
B2: наименование предприятия | N2: наименование источника питания
N3: ТП-15 В-1
B4: ул. Горького, 99 | I4: Таблица № 1 | N4: ТП-15 В-2
B5: адрес
A6: почасовых записей показаний электрических счетчиков
A7: в режимный день 15 ИЮНЯ 2022 г.
A8: 1630 | B8: 1628
A9: часы суток | B9: Активная энергия | J9: Реактивная энергия
B10: =N3 -> ТП-15 В-1 | F10: =N4 -> ТП-15 В-2 | J10: =B10 -> ТП-15 В-1 | N10: =F10 -> ТП-15 В-2
B11: Расчет. Коэф. | E11: 200 | F11: Расчет. Коэф. | I11: 120 | J11: Расчет. Коэф. | M11: =E11 -> 200 | N11: Расчет. Коэф. | Q11: =I11 -> 120
B12: показания счетчика | C12: разность | E12: расход эл.энергии за час | F12: показания счетчика | G12: разность | I12: расход эл.энергии за час | J12: показания счетчика | K12: разность | M12: расход эл.энергии за час | N12: показания счетчика | O12: разность | Q12: расход эл.энергии за час
A13: 1 | B13: 2 | C13: 3 | E13: 4 | F13: 5 | G13: 6 | I13: 7 | J13: 8 | K13: 9 | M13: 10 | N13: 11 | O13: 12 | Q13: 13
A14: 0
A15: 1 | E15: 1.4 | I15: 37.8 | M15: 0 | Q15: 0
A16: 2 | E16: 1.4 | I16: 34.2 | M16: 0 | Q16: 0
A17: 3 | E17: 1.6 | I17: 33.96 | M17: 0 | Q17: 0
A18: 4 | E18: 1.4 | I18: 34.2 | M18: 0 | Q18: 0
A19: 5 | E19: 1.4 | I19: 34.44 | M19: 0 | Q19: 0
A20: 6 | E20: 1.6 | I20: 37.44 | M20: 0 | Q20: 0
A21: 7 | E21: 1.4 | I21: 44.16 | M21: 0 | Q21: 0
A22: 8 | E22: 1.4 | I22: 47.04 | M22: 0 | Q22: 0
A23: 9 | E23: 1.6 | I23: 66.48 | M23: 0 | Q23: 0
A24: 10 | E24: 1.4 | I24: 89.64 | M24: 0 | Q24: 0
A25: 11 | E25: 1.4 | I25: 79.2 | M25: 0 | Q25: 0
A26: 12 | E26: 1.6 | I26: 97.2 | M26: 0 | Q26: 0
... A38: 24 | E38: 1.6 | I38: 38.64 | M38: 0 | Q38: 0
A39: Итого | E39: =SUM(E15:E38) -> 35.2 | I39: =SUM(I15:I38) -> 1217.28 | M39: =SUM(M15:M38) -> 0 | Q39: =SUM(Q15:Q38) -> 0
A40: 1. При наличии на предприятии отклонений от нормальных режимов электропотребления (временное изменение схем питания, остановка на ремонт, резкое снижение
A41: эл.потребления и т.д.) последние необходимо перечислить.
A42: Главный инженер АО "Вологдаоблэнерго" А.В. Чурляев
A43: составляется самим предприятием с соблюдением всех пунктов настоящей таблицы.

Sheet 21
B1: АО "Вологдаоблэнерго" | J1: код 900151 | N1: ПС Нелазское, ф. Шулма очистные
B2: наименование предприятия | N2: наименование источника питания
N3: КТП-Ива
B4: ул. Горького, 99 | I4: Таблица № 1
B5: адрес
A6: почасовых записей показаний электрических счетчиков
A7: в режимный день 15 ИЮНЯ 2022 г.
A8: 1630 | B8: 1628
A9: часы суток | B9: Активная энергия | J9: Реактивная энергия
B10: =N3 -> КТП-Ива | F10: =N4 -> 0 | J10: =B10 -> КТП-Ива | N10: =F10 -> 0
B11: Расчет. Коэф. | E11: 30 | F11: Расчет. Коэф. | I11: 120 | J11: Расчет. Коэф. | M11: =E11 -> 30 | N11: Расчет. Коэф. | Q11: =I11 -> 120
B12: показания счетчика | C12: разность | E12: расход эл.энергии за час | F12: показания счетчика | G12: разность | I12: расход эл.энергии за час | J12: показания счетчика | K12: разность | M12: расход эл.энергии за час | N12: показания счетчика | O12: разность | Q12: расход эл.энергии за час
A13: 1 | B13: 2 | C13: 3 | E13: 4 | F13: 5 | G13: 6 | I13: 7 | J13: 8 | K13: 9 | M13: 10 | N13: 11 | O13: 12 | Q13: 13
A14: 0
A15: 1 | E15: 3.03 | M15: 0
A16: 2 | E16: 2.22 | M16: 0
A17: 3 | E17: 2.415 | M17: 0
A18: 4 | E18: 2.01 | M18: 0
A19: 5 | E19: 1.875 | M19: 0
A20: 6 | E20: 4.92 | M20: 0
A21: 7 | E21: 3.63 | M21: 0
A22: 8 | E22: 3.765 | M22: 0
A23: 9 | E23: 4.155 | M23: 0
A24: 10 | E24: 4.635 | M24: 0
A25: 11 | E25: 3.585 | M25: 0
A26: 12 | E26: 3.06 | M26: 0
... A38: 24 | E38: 3.405 | M38: 0
A39: Итого | E39: =SUM(E15:E38) -> 95.61 | I39: =SUM(I15:I38) -> 0 | M39: =SUM(M15:M38) -> 0 | Q39: =SUM(Q15:Q38) -> 0
A40: 1. При наличии на предприятии отклонений от нормальных режимов электропотребления (временное изменение схем питания, остановка на ремонт, резкое снижение
A41: эл.потребления и т.д.) последние необходимо перечислить.
A42: Главный инженер АО "Вологдаоблэнерго" А.В. Чурляев
A43: составляется самим предприятием с соблюдением всех пунктов настоящей таблицы.

Sheet 22
B1: АО "Вологдаоблэнерго" | J1: код 900151 | N1: ПС Нелазское, ф. Крутец
B2: наименование предприятия | N2: наименование источника питания
N3: КТП-1 "Сад-3 ЧМК"
B4: ул. Горького, 99 | I4: Таблица № 1 | N4: КТП-2 "Сад-3 ЧМК"
B5: адрес
A6: почасовых записей показаний электрических счетчиков
A7: в режимный день 15 ИЮНЯ 2022 г.
A8: 1630 | B8: 1628
A9: часы суток | B9: Активная энергия | J9: Реактивная энергия
B10: =N3 -> КТП-1 "Сад-3 ЧМК" | F10: =N4 -> КТП-2 "Сад-3 ЧМК" | J10: =B10 -> КТП-1 "Сад-3 ЧМК" | N10: =F10 -> КТП-2 "Сад-3 ЧМК"
B11: Расчет. Коэф. | E11: 60 | F11: Расчет. Коэф. | I11: 60 | J11: Расчет. Коэф. | M11: =E11 -> 60 | N11: Расчет. Коэф. | Q11: =I11 -> 60
B12: показания счетчика | C12: разность | E12: расход эл.энергии за час | F12: показания счетчика | G12: разность | I12: расход эл.энергии за час | J12: показания счетчика | K12: разность | M12: расход эл.энергии за час | N12: показания счетчика | O12: разность | Q12: расход эл.энергии за час
A13: 1 | B13: 2 | C13: 3 | E13: 4 | F13: 5 | G13: 6 | I13: 7 | J13: 8 | K13: 9 | M13: 10 | N13: 11 | O13: 12 | Q13: 13
A14: 0
A15: 1 | E15: 18.51 | I15: 4.02 | M15: 0 | Q15: 0
A16: 2 | E16: 19.14 | I16: 4.17 | M16: 0 | Q16: 0
A17: 3 | E17: 18.03 | I17: 4.08 | M17: 0 | Q17: 0
A18: 4 | E18: 16.8 | I18: 4.08 | M18: 0 | Q18: 0
A19: 5 | E19: 16.08 | I19: 5.73 | M19: 0 | Q19: 0
A20: 6 | E20: 17.49 | I20: 5.79 | M20: 0 | Q20: 0
A21: 7 | E21: 22.65 | I21: 5.07 | M21: 0 | Q21: 0
A22: 8 | E22: 29.94 | I22: 7.14 | M22: 0 | Q22: 0
A23: 9 | E23: 31.68 | I23: 8.01 | M23: 0 | Q23: 0
A24: 10 | E24: 34.71 | I24: 5.13 | M24: 0 | Q24: 0
A25: 11 | E25: 30.51 | I25: 5.85 | M25: 0 | Q25: 0
A26: 12 | E26: 33.81 | I26: 7.62 | M26: 0 | Q26: 0
... A38: 24 | E38: 31.74 | I38: 5.04 | M38: 0 | Q38: 0
A39: Итого | E39: =SUM(E15:E38) -> 799.23 | I39: =SUM(I15:I38) -> 155.31 | M39: =SUM(M15:M38) -> 0 | Q39: =SUM(Q15:Q38) -> 0
A40: 1. При наличии на предприятии отклонений от нормальных режимов электропотребления (временное изменение схем питания, остановка на ремонт, резкое снижение
A41: эл.потребления и т.д.) последние необходимо перечислить.
A42: Главный инженер АО "Вологдаоблэнерго" А.В. Чурляев
A43: составляется самим предприятием с соблюдением всех пунктов настоящей таблицы.

Sheet 23
B1: АО "Вологдаоблэнерго" | J1: код 900151 | N1: ПС Суда, ф. Андога
B2: наименование предприятия | N2: наименование источника питания
N3: ТП-243
B4: ул. Горького, 99 | I4: Таблица № 1 | N4: КТП-63 Кривец-1
B5: адрес
A6: почасовых записей показаний электрических счетчиков
A7: в режимный день 15 ИЮНЯ 2022 г.
A8: 1630 | B8: 1628
A9: часы суток | B9: Активная энергия | J9: Реактивная энергия
B10: =N3 -> ТП-243 | F10: =N4 -> КТП-63 Кривец-1 | J10: =B10 -> ТП-243 | N10: =F10 -> КТП-63 Кривец-1
B11: Расчет. Коэф. | E11: 60 | F11: Расчет. Коэф. | I11: 20 | J11: Расчет. Коэф. | M11: =E11 -> 60 | N11: Расчет. Коэф. | Q11: =I11 -> 20
B12: показания счетчика | C12: разность | E12: расход эл.энергии за час | F12: показания счетчика | G12: разность | I12: расход эл.энергии за час | J12: показания счетчика | K12: разность | M12: расход эл.энергии за час | N12: показания счетчика | O12: разность | Q12: расход эл.энергии за час
A13: 1 | B13: 2 | C13: 3 | E13: 4 | F13: 5 | G13: 6 | I13: 7 | J13: 8 | K13: 9 | M13: 10 | N13: 11 | O13: 12 | Q13: 13
A14: 0
A15: 1 | E15: 5.88 | I15: 0 | M15: 0 | Q15: 0
A16: 2 | E16: 6.39 | I16: 0 | M16: 0 | Q16: 0
A17: 3 | E17: 6.15 | I17: 0 | M17: 0 | Q17: 0
A18: 4 | E18: 5.1 | I18: 0 | M18: 0 | Q18: 0
A19: 5 | E19: 5.13 | I19: 0 | M19: 0 | Q19: 0
A20: 6 | E20: 5.04 | I20: 0 | M20: 0 | Q20: 0
A21: 7 | E21: 7.41 | I21: 0 | M21: 0 | Q21: 0
A22: 8 | E22: 8.13 | I22: 0 | M22: 0 | Q22: 0
A23: 9 | E23: 10.56 | I23: 0 | M23: 0 | Q23: 0
A24: 10 | E24: 16.56 | I24: 0 | M24: 0 | Q24: 0
A25: 11 | E25: 12.99 | I25: 0 | M25: 0 | Q25: 0
A26: 12 | E26: 11.31 | I26: 0 | M26: 0 | Q26: 0
... A38: 24 | E38: 10.11 | I38: 0 | M38: 0 | Q38: 0
A39: Итого | E39: =SUM(E15:E38) -> 288.96 | I39: =SUM(I15:I38) -> 0 | M39: =SUM(M15:M38) -> 0 | Q39: =SUM(Q15:Q38) -> 0
A40: 1. При наличии на предприятии отклонений от нормальных режимов электропотребления (временное изменение схем питания, остановка на ремонт, резкое снижение
A41: эл.потребления и т.д.) последние необходимо перечислить.
A42: Главный инженер АО "Вологдаоблэнерго" А.В. Чурляев
A43: составляется самим предприятием с соблюдением всех пунктов настоящей таблицы.

Sheet 24
B1: АО "Вологдаоблэнерго" | J1: код 900151 | N1: ПС Суда, ф. Сойволовское
B2: наименование предприятия | N2: наименование источника питания
N3: КТП общества садоводов "Заря-2"
B4: ул. Горького, 99 | I4: Таблица № 1 | N4: КТП "Дачи"
B5: адрес
A6: почасовых записей показаний электрических счетчиков
A7: в режимный день 15 ИЮНЯ 2022 г.
A8: 1630 | B8: 1628
A9: часы суток | B9: Активная энергия | J9: Реактивная энергия
B10: =N3 -> КТП общества садоводов "Заря-2" | F10: =N4 -> КТП "Дачи" | J10: =B10 -> КТП общества садоводов "Заря-2" | N10: =F10 -> КТП "Дачи"
B11: Расчет. Коэф. | E11: 40 | F11: Расчет. Коэф. | I11: 60 | J11: Расчет. Коэф. | M11: =E11 -> 40 | N11: Расчет. Коэф. | Q11: =I11 -> 60
B12: показания счетчика | C12: разность | E12: расход эл.энергии за час | F12: показания счетчика | G12: разность | I12: расход эл.энергии за час | J12: показания счетчика | K12: разность | M12: расход эл.энергии за час | N12: показания счетчика | O12: разность | Q12: расход эл.энергии за час
A13: 1 | B13: 2 | C13: 3 | E13: 4 | F13: 5 | G13: 6 | I13: 7 | J13: 8 | K13: 9 | M13: 10 | N13: 11 | O13: 12 | Q13: 13
A14: 0
A15: 1 | E15: 21.312 | I15: 10.89 | M15: 0 | Q15: 0
A16: 2 | E16: 20.82 | I16: 9.09 | M16: 0 | Q16: 0
A17: 3 | E17: 17.172 | I17: 8.4 | M17: 0 | Q17: 0
A18: 4 | E18: 17.664 | I18: 7.77 | M18: 0 | Q18: 0
A19: 5 | E19: 21.708 | I19: 8.4 | M19: 0 | Q19: 0
A20: 6 | E20: 30.372 | I20: 10.26 | M20: 0 | Q20: 0
A21: 7 | E21: 35.868 | I21: 12.6 | M21: 0 | Q21: 0
A22: 8 | E22: 34.26 | I22: 13.71 | M22: 0 | Q22: 0
A23: 9 | E23: 34.332 | I23: 17.67 | M23: 0 | Q23: 0
A24: 10 | E24: 37.776 | I24: 16.02 | M24: 0 | Q24: 0
A25: 11 | E25: 34.356 | I25: 16.53 | M25: 0 | Q25: 0
A26: 12 | E26: 35.34 | I26: 16.08 | M26: 0 | Q26: 0
... A38: 24 | E38: 25.164 | I38: 12.15 | M38: 0 | Q38: 0
A39: Итого | E39: =SUM(E15:E38) -> 759.864 | I39: =SUM(I15:I38) -> 346.74 | M39: =SUM(M15:M38) -> 0 | Q39: =SUM(Q15:Q38) -> 0
A40: 1. При наличии на предприятии отклонений от нормальных режимов электропотребления (временное изменение схем питания, остановка на ремонт, резкое снижение
A41: эл.потребления и т.д.) последние необходимо перечислить.
A42: Главный инженер АО "Вологдаоблэнерго" А.В. Чурляев
A43: составляется самим предприятием с соблюдением всех пунктов настоящей таблицы.

Sheet 25
B1: АО "Вологдаоблэнерго" | J1: код 900151 | N1: ПС Петринево, ф. Романово
B2: наименование предприятия | N2: наименование источника питания
N3: ТП-317
B4: ул. Горького, 99 | I4: Таблица № 1
B5: адрес
A6: почасовых записей показаний электрических счетчиков
A7: в режимный день 15 ИЮНЯ 2022 г.
A8: 1630 | B8: 1628
A9: часы суток | B9: Активная энергия | J9: Реактивная энергия
B10: =N3 -> ТП-317 | F10: =N4 -> 0 | J10: =B10 -> ТП-317 | N10: =F10 -> 0
B11: Расчет. Коэф. | E11: 120 | F11: Расчет. Коэф. | I11: 120 | J11: Расчет. Коэф. | M11: =E11 -> 120 | N11: Расчет. Коэф. | Q11: =I11 -> 120
B12: показания счетчика | C12: разность | E12: расход эл.энергии за час | F12: показания счетчика | G12: разность | I12: расход эл.энергии за час | J12: показания счетчика | K12: разность | M12: расход эл.энергии за час | N12: показания счетчика | O12: разность | Q12: расход эл.энергии за час
A13: 1 | B13: 2 | C13: 3 | E13: 4 | F13: 5 | G13: 6 | I13: 7 | J13: 8 | K13: 9 | M13: 10 | N13: 11 | O13: 12 | Q13: 13
A14: 0
A15: 1 | E15: 7.98 | M15: 0
A16: 2 | E16: 7.14 | M16: 0
A17: 3 | E17: 6.24 | M17: 0
A18: 4 | E18: 7.32 | M18: 0
A19: 5 | E19: 9.9 | M19: 0
A20: 6 | E20: 10.92 | M20: 0
A21: 7 | E21: 13.26 | M21: 0
A22: 8 | E22: 8.1 | M22: 0
A23: 9 | E23: 10.02 | M23: 0
A24: 10 | E24: 11.34 | M24: 0
A25: 11 | E25: 10.02 | M25: 0
A26: 12 | E26: 9.66 | M26: 0
... A38: 24 | E38: 8.52 | M38: 0
A39: Итого | E39: =SUM(E15:E38) -> 261.18 | I39: =SUM(I15:I38) -> 0 | M39: =SUM(M15:M38) -> 0 | Q39: =SUM(Q15:Q38) -> 0
A40: 1. При наличии на предприятии отклонений от нормальных режимов электропотребления (временное изменение схем питания, остановка на ремонт, резкое снижение
A41: эл.потребления и т.д.) последние необходимо перечислить.
A42: Главный инженер АО "Вологдаоблэнерго" А.В. Чурляев
A43: составляется самим предприятием с соблюдением всех пунктов настоящей таблицы.

Sheet 26
B1: АО "Вологдаоблэнерго" | J1: код 900151 | N1: ПС Домозерово, ф.Дом-2
B2: наименование предприятия | N2: наименование источника питания
N3: ТП-Водозабор (встроен) В-1
B4: ул. Горького, 99 | I4: Таблица № 1 | N4: ТП-Водозабор (встроен) В-2
B5: адрес
A6: почасовых записей показаний электрических счетчиков
A7: в режимный день 15 ИЮНЯ 2022 г.
A8: 1630 | B8: 1628
A9: часы суток | B9: Активная энергия | J9: Реактивная энергия
B10: =N3 -> ТП-Водозабор (встроен) В-1 | F10: =N4 -> ТП-Водозабор (встроен) В-2 | J10: =B10 -> ТП-Водозабор (встроен) В-1 | N10: =F10 -> ТП-Водозабор (встроен) В-2
B11: Расчет. Коэф. | E11: 20 | F11: Расчет. Коэф. | I11: 20 | J11: Расчет. Коэф. | M11: =E11 -> 20 | N11: Расчет. Коэф. | Q11: =I11 -> 20
B12: показания счетчика | C12: разность | E12: расход эл.энергии за час | F12: показания счетчика | G12: разность | I12: расход эл.энергии за час | J12: показания счетчика | K12: разность | M12: расход эл.энергии за час | N12: показания счетчика | O12: разность | Q12: расход эл.энергии за час
A13: 1 | B13: 2 | C13: 3 | E13: 4 | F13: 5 | G13: 6 | I13: 7 | J13: 8 | K13: 9 | M13: 10 | N13: 11 | O13: 12 | Q13: 13
A14: 0
A15: 1 | E15: 0 | I15: 1.51 | M15: 0 | Q15: 0
A16: 2 | E16: 0 | I16: 1.5 | M16: 0 | Q16: 0
A17: 3 | E17: 0 | I17: 1.5 | M17: 0 | Q17: 0
A18: 4 | E18: 0 | I18: 1.57 | M18: 0 | Q18: 0
A19: 5 | E19: 0 | I19: 1.49 | M19: 0 | Q19: 0
A20: 6 | E20: 0 | I20: 1.48 | M20: 0 | Q20: 0
A21: 7 | E21: 0 | I21: 3.07 | M21: 0 | Q21: 0
A22: 8 | E22: 0 | I22: 8.66 | M22: 0 | Q22: 0
A23: 9 | E23: 0 | I23: 8.6 | M23: 0 | Q23: 0
A24: 10 | E24: 0 | I24: 8.65 | M24: 0 | Q24: 0
A25: 11 | E25: 0 | I25: 8.57 | M25: 0 | Q25: 0
A26: 12 | E26: 0 | I26: 9.17 | M26: 0 | Q26: 0
... A38: 24 | E38: 0 | I38: 1.51 | M38: 0 | Q38: 0
A39: Итого | E39: =SUM(E15:E38) -> 0 | I39: =SUM(I15:I38) -> 102.57 | M39: =SUM(M15:M38) -> 0 | Q39: =SUM(Q15:Q38) -> 0
A40: 1. При наличии на предприятии отклонений от нормальных режимов электропотребления (временное изменение схем питания, остановка на ремонт, резкое снижение
A41: эл.потребления и т.д.) последние необходимо перечислить.
A42: Главный инженер АО "Вологдаоблэнерго" А.В. Чурляев
A43: составляется самим предприятием с соблюдением всех пунктов настоящей таблицы.

Sheet 27
B1: АО "Вологдаоблэнерго" | J1: код 900151 | N1: ПС Домозерово, ф.Дом-2
B2: наименование предприятия | N2: наименование источника питания
N3: ТП-Школа ПС Домозерово В-1
B4: ул. Горького, 99 | I4: Таблица № 1 | N4: ТП-Школа ПС Домозерово В-2
B5: адрес
A6: почасовых записей показаний электрических счетчиков
A7: в режимный день 15 ИЮНЯ 2022 г.
A8: 1630 | B8: 1628
A9: часы суток | B9: Активная энергия | J9: Реактивная энергия
B10: =N3 -> ТП-Школа ПС Домозерово В-1 | F10: =N4 -> ТП-Школа ПС Домозерово В-2 | J10: =B10 -> ТП-Школа ПС Домозерово В-1 | N10: =F10 -> ТП-Школа ПС Домозерово В-2
B11: Расчет. Коэф. | E11: 120 | F11: Расчет. Коэф. | I11: 120 | J11: Расчет. Коэф. | M11: =E11 -> 120 | N11: Расчет. Коэф. | Q11: =I11 -> 120
B12: показания счетчика | C12: разность | E12: расход эл.энергии за час | F12: показания счетчика | G12: разность | I12: расход эл.энергии за час | J12: показания счетчика | K12: разность | M12: расход эл.энергии за час | N12: показания счетчика | O12: разность | Q12: расход эл.энергии за час
A13: 1 | B13: 2 | C13: 3 | E13: 4 | F13: 5 | G13: 6 | I13: 7 | J13: 8 | K13: 9 | M13: 10 | N13: 11 | O13: 12 | Q13: 13
A14: 0
A15: 1 | E15: 9.84 | I15: 20.16 | M15: 0 | Q15: 0
A16: 2 | E16: 9.672 | I16: 17.928 | M16: 0 | Q16: 0
A17: 3 | E17: 9.552 | I17: 17.496 | M17: 0 | Q17: 0
A18: 4 | E18: 7.632 | I18: 18.696 | M18: 0 | Q18: 0
A19: 5 | E19: 7.056 | I19: 16.08 | M19: 0 | Q19: 0
A20: 6 | E20: 6.816 | I20: 18.648 | M20: 0 | Q20: 0
A21: 7 | E21: 7.296 | I21: 18.192 | M21: 0 | Q21: 0
A22: 8 | E22: 7.56 | I22: 33.552 | M22: 0 | Q22: 0
A23: 9 | E23: 6.984 | I23: 33.672 | M23: 0 | Q23: 0
A24: 10 | E24: 6.696 | I24: 33.84 | M24: 0 | Q24: 0
A25: 11 | E25: 6.912 | I25: 34.416 | M25: 0 | Q25: 0
A26: 12 | E26: 16.248 | I26: 38.184 | M26: 0 | Q26: 0
