Workbook

Sheet тит
P2: Приложение
P3: к приказу Министерства энергетики России
P4: от «24» марта 2010 г. № 114
A15: ОТЧЕТ ГП ВО "Областные электротеплосети"
A17: об исполнении инвестиционной программы
A20: за 2015 г.
A24: Наименование, реквизиты решения об установлении цен (тарифов): приказ Региональной энергетической комиссии "Об установлении единых (котловых) тарифов на услуги по передаче электрической энергии по электрическим сетям на территории Вологодской области на 2015 год от 26.12.2014 № 996
A25: Наименование, дата утверждения инвестиционной программы, сведения о внесении изменений и внесенных изменениях в инвестиционную программу: Инвестиционная программа ГП ВО "Областные электротеплосети" на 2015-2019 гг.
A87: _______________________________________________________
A88: 1 Решение об установлении цен (тарифов), при принятии которого в состав необходимой валовой выручки указанного субъекта контроля (надзора) включены расходы, запланированные на финансирование инвестиционных проектов (отдельных мероприятий), предусмотренных инвестиционной программой.
A89: 2 Нарастающим итогом за год.
A90: 3 В соответствии с утвержденной инвестиционной программой.
A91: 4 В ценах отчетного года.
A92: 5 При государственном регулировании цен (тарифов) с применением метода обеспечения доходности инвестированного капитала.

Sheet 7.1 без НДС 3 кв
A2: Отчет об исполнении инвестиционной программы, млн. рублей без НДС (представляется ежеквартально)
D8: ='[1]7.1 с НДС '!D13/1.18 -> 134.9665 | E8: ='[1]7.1 с НДС '!E13/1.18 -> 50.937449 | F8: ='[1]7.1 с НДС '!F13/1.18 -> 24.2795 | G8: ='[1]7.1 с НДС '!G13/1.18 -> 26.030573 | H8: ='[1]7.1 с НДС '!H13/1.18 -> 41.15075 | I8: ='[1]7.1 с НДС '!I13/1.18 -> 22.876877 | J8: ='[1]7.1 с НДС '!J13/1.18 -> 40.72075 | K8: ='[1]7.1 с НДС '!K13/1.18 -> 2.03 | ... S8: ='[1]7.1 с НДС '!S13/1.18 -> -38.69075
A9: № | B9: Наименование объекта | C9: Остаток стоимости на начало года * | D9: Объем финансирования [отчетный год] | N9: Освоено (закрыто актами выполнен- ных работ), млн. рублей | P9: Введено (оформлено актами ввода в эксплуатацию), млн. рублей | R9: Осталось профинанси- ровать по ре- зультатам отчетного периода * | S9: Отклонение *** | W9: Причины отклонений
D10: всего | F10: I кв. | H10: II кв. | J10: III кв. | L10: IV кв. | S10: млн. рублей | T10: % | U10: в том числе за счет
D11: план ** | E11: факт *** | F11: план | G11: факт | H11: план | I11: факт | J11: план | K11: факт | L11: план | M11: факт | N11: всего | O11: за отчетный квартал | P11: всего | Q11: за отчетный квартал | U11: уточнения стоимости по результатам утвержденной ПСД | V11: уточнения стоимости по результатам закупочных процедур
B12: ВСЕГО: | D12: =D13+D98+D103+D104 -> 134.9665 | E12: =E13+E98+E103+E104 -> 50.937449 | F12: =F13+F98+F103+F104 -> 24.2795 | G12: =G13+G98+G103+G104 -> 26.030573 | H12: =H13+H98+H103+H104 -> 41.15075 | I12: =I13+I98+I103+I104 -> 22.876877 | J12: =J13+J98+J103+J104 -> 40.72075 | K12: =K13+K98+K103+K104 -> 2.03 | ... M12: =M13+M98+M103+M104 -> 0 | N12: =E12 -> 50.937449 | O12: =G12 -> 26.030573 | P12: =P13+P98+P103+P104 -> 55.871146 | Q12: =Q13+Q98+Q103+Q104 -> 55.871146 | R12: =D12-G12-I12-K12-M12 -> 84.029051 | S12: =G12-F12 -> 1.7510729 | T12: =IF(F12>0,(G12/F12*100-100),0) -> 7.2121455 | U12: =U13+U98+U103+U104 -> 0 | V12: =V13+V98+V103+V104 -> 0
A13: 1 | B13: Техническое перевооружение и реконструкция | D13: =D14+D15+D37+D70+D86+D92+D93 -> 56.42 | E13: =E14+E15+E37+E70+E86+E92+E93 -> 6.3947706 | F13: =F14+F15+F37+F70+F86+F92+F93 -> 8.3145 | G13: =G14+G15+G37+G70+G86+G92+G93 -> 2.891322 | H13: =H14+H15+H37+H70+H86+H92+H93 -> 17.5525 | I13: =I14+I15+I37+I70+I86+I92+I93 -> 3.5034486 | J13: =J14+J15+J37+J70+J86+J92+J93 -> 17.7025 | K13: =K14+K15+K37+K70+K86+K92+K93 -> 0 | ... M13: =M14+M15+M37+M70+M86+M92+M93 -> 0 | N13: =E13 -> 6.3947706 | O13: =G13 -> 2.891322 | P13: =P14+P15+P37+P70+P86+P92+P93 -> 1.9446586 | Q13: =Q14+Q15+Q37+Q70+Q86+Q92+Q93 -> 1.9446586 | R13: =D13-G13-I13-K13-M13 -> 50.025229 | S13: =G13-F13 -> -5.423178 | T13: =IF(F13>0,(G13/F13*100-100),0) -> -65.225546 | U13: =U14+U15+U37+U70+U86+U92+U93 -> 0 | V13: =V14+V15+V37+V70+V86+V92+V93 -> 0
A14: 1.1. | B14: Проектные работы по перевооружению и реконструкции | D14: 0 | E14: 0 | N14: =E14 -> 0 | O14: =G14 -> 0 | R14: =D14-G14-I14-K14-M14 -> 0 | S14: =G14-F14 -> 0 | T14: =IF(F14>0,(G14/F14*100-100),0) -> 0
A15: 1.2. | B15: Кабельные линии 0,4 кВ. | D15: =SUM(D16:D34) -> 5.51 | E15: =SUM(E16:E34) -> 0.799477 | F15: =SUM(F16:F34) -> 1.162 | G15: =SUM(G16:G34) -> 0.799477 | H15: =SUM(H16:H34) -> 1.87 | I15: =SUM(I16:I34) -> 0 | J15: =SUM(J16:J34) -> 1.87 | K15: =SUM(K16:K34) -> 0 | ... M15: =SUM(M16:M34) -> 0 | N15: =E15 -> 0.799477 | O15: =G15 -> 0.799477 | P15: =SUM(P16:P34) -> 0 | Q15: =SUM(Q16:Q34) -> 0 | R15: =D15-G15-I15-K15-M15 -> 4.710523 | S15: =G15-F15 -> -0.362523 | T15: =IF(F15>0,(G15/F15*100-100),0) -> -31.198193 | U15: =SUM(U16:U34) -> 0 | V15: =SUM(V16:V34) -> 0
B16: =[2]CO3!I26 -> КЛ-0,4 кВ «ТП 185 – ВРУ ж.д. Зосимовская,52» | D16: =[2]CO3!O26/1000 -> 0.268 | E16: =G16+I16+K16+M16 -> 0 | F16: =D16 -> 0.268 | N16: =E16 -> 0 | O16: =G16 -> 0 | R16: =D16-G16-I16-K16-M16 -> 0.268 | S16: =G16-F16 -> -0.268 | T16: =IF(F16>0,(G16/F16*100-100),0) -> -100
B17: =[2]CO3!I27 -> КЛ-0,4 кВ «ТП 185 – ВРУ ж.д. Ветошкина,23» | D17: =[2]CO3!O27/1000 -> 0.268 | E17: =G17+I17+K17+M17 -> 0 | F17: =D17 -> 0.268 | N17: =E17 -> 0 | O17: =G17 -> 0 | R17: =D17-G17-I17-K17-M17 -> 0.268 | S17: =G17-F17 -> -0.268 | T17: =IF(F17>0,(G17/F17*100-100),0) -> -100
B18: =[2]CO3!I28 -> КЛ-0,4 кВ «ТП 445 – ВРУ ж.д. Новгородская,9а» | D18: =[2]CO3!O28/1000 -> 0.179 | E18: =G18+I18+K18+M18 -> 0 | F18: =D18 -> 0.179 | N18: =E18 -> 0 | O18: =G18 -> 0 | R18: =D18-G18-I18-K18-M18 -> 0.179 | S18: =G18-F18 -> -0.179 | T18: =IF(F18>0,(G18/F18*100-100),0) -> -100
B19: =[2]CO3!I29 -> КЛ-0,4 кВ «ТП 445 – ВРУ ж.д. Новгородская,9г» | D19: =[2]CO3!O29/1000 -> 0.447 | E19: =G19+I19+K19+M19 -> 0 | F19: =D19 -> 0.447 | N19: =E19 -> 0 | O19: =G19 -> 0 | R19: =D19-G19-I19-K19-M19 -> 0.447 | S19: =G19-F19 -> -0.447 | T19: =IF(F19>0,(G19/F19*100-100),0) -> -100
B20: =[2]CO3!I30 -> КЛ-0,4 кВ «ТП 445 – ВРУ ж.д. Новгородская,9б» | D20: =[2]CO3!O30/1000 -> 0.492 | E20: =G20+I20+K20+M20 -> 0 | H20: =D20 -> 0.492 | N20: =E20 -> 0 | O20: =G20 -> 0 | R20: =D20-G20-I20-K20-M20 -> 0.492 | S20: =G20-F20 -> 0 | T20: =IF(F20>0,(G20/F20*100-100),0) -> 0
B21: =[2]CO3!I31 -> КЛ-0,4 кВ «ТП 655 – ВРУ шк. Болонина, 32(уч.корпус)» | D21: =[2]CO3!O31/1000 -> 0.447 | E21: =G21+I21+K21+M21 -> 0 | H21: =D21 -> 0.447 | N21: =E21 -> 0 | O21: =G21 -> 0 | R21: =D21-G21-I21-K21-M21 -> 0.447 | S21: =G21-F21 -> 0 | T21: =IF(F21>0,(G21/F21*100-100),0) -> 0
B22: =[2]CO3!I32 -> КЛ-0,4 кВ «ТП 655 – ВРУ шк. Болонина, 32(спорт.корпус)» | D22: =[2]CO3!O32/1000 -> 0.134 | E22: =G22+I22+K22+M22 -> 0 | H22: =D22 -> 0.134 | N22: =E22 -> 0 | O22: =G22 -> 0 | R22: =D22-G22-I22-K22-M22 -> 0.134 | S22: =G22-F22 -> 0 | T22: =IF(F22>0,(G22/F22*100-100),0) -> 0
B23: =[2]CO3!I33 -> КЛ-0,4 кВ «ТП 655 – ВРУ шк. Болонина, 32(спал.корпус)» | D23: =[2]CO3!O33/1000 -> 0.295 | E23: =G23+I23+K23+M23 -> 0 | H23: =D23 -> 0.295 | N23: =E23 -> 0 | O23: =G23 -> 0 | R23: =D23-G23-I23-K23-M23 -> 0.295 | S23: =G23-F23 -> 0 | T23: =IF(F23>0,(G23/F23*100-100),0) -> 0
B24: =[2]CO3!I34 -> КЛ-0,4 кВ «ТП 193 – ВРУ ж.д. Гагарина,53» | D24: =[2]CO3!O34/1000 -> 0.295 | E24: =G24+I24+K24+M24 -> 0 | H24: =D24 -> 0.295 | N24: =E24 -> 0 | O24: =G24 -> 0 | R24: =D24-G24-I24-K24-M24 -> 0.295 | S24: =G24-F24 -> 0 | T24: =IF(F24>0,(G24/F24*100-100),0) -> 0
B25: =[2]CO3!I35 -> КЛ-0,4 кВ «ТП 106 – ВРУ ж.д. Козленская,127» | D25: =[2]CO3!O35/1000 -> 0.671 | E25: =G25+I25+K25+M25 -> 0 | H25: =(D25+(1.87-SUM(D20:D25))) -> 0.207 | J25: =D25-H25 -> 0.464 | N25: =E25 -> 0 | O25: =G25 -> 0 | R25: =D25-G25-I25-K25-M25 -> 0.671 | S25: =G25-F25 -> 0 | T25: =IF(F25>0,(G25/F25*100-100),0) -> 0
B26: =[2]CO3!I36 -> КЛ-0,4 кВ «ТП 367 – ВРУ ж.д. Герцена,94» | D26: =[2]CO3!O36/1000 -> 0.447 | E26: =G26+I26+K26+M26 -> 0 | J26: =D26 -> 0.447 | N26: =E26 -> 0 | O26: =G26 -> 0 | R26: =D26-G26-I26-K26-M26 -> 0.447 | S26: =G26-F26 -> 0 | T26: =IF(F26>0,(G26/F26*100-100),0) -> 0
B27: =[2]CO3!I37 -> КЛ-0,4 кВ «ТП 367 – ВРУ ж.д. Ветошкина,99» | D27: =[2]CO3!O37/1000 -> 0.358 | E27: =G27+I27+K27+M27 -> 0 | J27: =D27 -> 0.358 | N27: =E27 -> 0 | O27: =G27 -> 0 | R27: =D27-G27-I27-K27-M27 -> 0.358 | S27: =G27-F27 -> 0 | T27: =IF(F27>0,(G27/F27*100-100),0) -> 0
B28: =[2]CO3!I38 -> КЛ-0,4 кВ «ТП 533 – DРУ ж.д. 1мкр. ПЗ, 9» | D28: =[2]CO3!O38/1000 -> 0.116 | E28: =G28+I28+K28+M28 -> 0 | J28: =D28 -> 0.116 | N28: =E28 -> 0 | O28: =G28 -> 0 | R28: =D28-G28-I28-K28-M28 -> 0.116 | S28: =G28-F28 -> 0 | T28: =IF(F28>0,(G28/F28*100-100),0) -> 0
B29: =[2]CO3!I39 -> КЛ-0,4 кВ «ТП 533 – ВРУ ж.д. 1мкр. ПЗ, 10» | D29: =[2]CO3!O39/1000 -> 0.179 | E29: =G29+I29+K29+M29 -> 0 | J29: =D29 -> 0.179 | N29: =E29 -> 0 | O29: =G29 -> 0 | R29: =D29-G29-I29-K29-M29 -> 0.179 | S29: =G29-F29 -> 0 | T29: =IF(F29>0,(G29/F29*100-100),0) -> 0
B30: =[2]CO3!I40 -> КЛ-0,4 кВ «ТП 534 – ВРУ ж.д. 1мкр. ПЗ, 21» | D30: =[2]CO3!O40/1000 -> 0.107 | E30: =G30+I30+K30+M30 -> 0 | J30: =D30 -> 0.107 | N30: =E30 -> 0 | O30: =G30 -> 0 | R30: =D30-G30-I30-K30-M30 -> 0.107 | S30: =G30-F30 -> 0 | T30: =IF(F30>0,(G30/F30*100-100),0) -> 0
B31: =[2]CO3!I41 -> КЛ-0,4 кВ «ТП 534 – ВРУ ж.д. 1мкр. ПЗ, 23» | D31: =[2]CO3!O41/1000 -> 0.179 | E31: =G31+I31+K31+M31 -> 0 | J31: =D31 -> 0.179 | N31: =E31 -> 0 | O31: =G31 -> 0 | R31: =D31-G31-I31-K31-M31 -> 0.179 | S31: =G31-F31 -> 0 | T31: =IF(F31>0,(G31/F31*100-100),0) -> 0
B32: =[2]CO3!I42 -> КЛ-0,4 кВ «ТП 427 – ВРУ шк. Поповича, 26а» | D32: =[2]CO3!O42/1000 -> 0.358 | E32: =G32+I32+K32+M32 -> 0 | J32: =D32+(1.87-SUM(J25:J31,D32)) -> 0.02 | L32: =D32-J32 -> 0.338 | N32: =E32 -> 0 | O32: =G32 -> 0 | R32: =D32-G32-I32-K32-M32 -> 0.358 | S32: =G32-F32 -> 0 | T32: =IF(F32>0,(G32/F32*100-100),0) -> 0
B33: =[2]CO3!I43 -> КЛ-0,4 кВ «ТП 422– ВРУ ж/д Советский пр., 131» | D33: =[2]CO3!O43/1000 -> 0.27 | E33: =G33+I33+K33+M33 -> 0 | L33: =D33-J33 -> 0.27 | N33: =E33 -> 0 | O33: =G33 -> 0 | R33: =D33-G33-I33-K33-M33 -> 0.27 | S33: =G33-F33 -> 0 | T33: =IF(F33>0,(G33/F33*100-100),0) -> 0
B34: =[2]CO3!$I$86 -> КЛ 0,4 ТП217-ВРУ здания СТО Козленская | E34: =G34+I34+K34+M34 -> 0.799477 | F34: 0 | G34: =[2]CO3!$P$86/1000 -> 0.799477 | I34: ='[3]08'!$E$399/1000000-G34 -> 0 | L34: =D34-J34 -> 0 | N34: =E34 -> 0.799477 | O34: =G34 -> 0.799477 | P34: =Q34 -> 0 | R34: =D34-G34-I34-K34-M34 -> -0.799477 | S34: =G34-F34 -> 0.799477 | T34: =IF(F34>0,(G34/F34*100-100),0) -> 0
A37: 1.3. | B37: Кабельные линии 6-10 кВ. | D37: =SUM(D38:D65) -> 21.91 | E37: =SUM(E38:E65) -> 1.3919561 | F37: =SUM(F38:F65) -> 2.78 | G37: =SUM(G38:G65) -> 0.43972641 | H37: =SUM(H38:H65) -> 6.51 | I37: =SUM(I38:I65) -> 0.95222964 | J37: =SUM(J38:J65) -> 6.51 | K37: =SUM(K38:K65) -> 0 | ... Q37: =SUM(Q38:Q65) -> 0 | R37: =D37-G37-I37-K37-M37 -> 20.518044 | S37: =G37-F37 -> -2.3402736 | T37: =IF(F37>0,(G37/F37*100-100),0) -> -84.182503 | U37: =SUM(U38:U62) -> 0 | V37: =SUM(V38:V62) -> 0 | W37: =SUM(W38:W62) -> 0
B38: =[2]CO3!I44 -> КЛ-6 кВ «ТП 13 – ТП149» | D38: =[2]CO3!O44/1000 -> 1.051 | E38: =G38+I38+K38+M38 -> 0 | F38: =D38 -> 1.051 | N38: =E38 -> 0 | O38: =G38 -> 0 | R38: =D38-G38-I38-K38-M38 -> 1.051 | S38: =G38-F38 -> -1.051 | T38: =IF(F38>0,(G38/F38*100-100),0) -> -100
B39: =[2]CO3!I45 -> КЛ-6 кВ «ТП 22 – ТП303» | D39: =[2]CO3!O45/1000 -> 0.421 | E39: =G39+I39+K39+M39 -> 0 | F39: =D39 -> 0.421 | N39: =E39 -> 0 | O39: =G39 -> 0 | R39: =D39-G39-I39-K39-M39 -> 0.421 | S39: =G39-F39 -> -0.421 | T39: =IF(F39>0,(G39/F39*100-100),0) -> -100
B40: =[2]CO3!I46 -> КЛ-6 кВ «ТП 27 – ТП63» | D40: =[2]CO3!O46/1000 -> 0.421 | E40: =G40+I40+K40+M40 -> 0 | F40: =D40 -> 0.421 | N40: =E40 -> 0 | O40: =G40 -> 0 | R40: =D40-G40-I40-K40-M40 -> 0.421 | S40: =G40-F40 -> -0.421 | T40: =IF(F40>0,(G40/F40*100-100),0) -> -100
B41: =[2]CO3!I47 -> КЛ-6 кВ «ТП 32 – ТП2» | D41: =[2]CO3!O47/1000 -> 1.051 | E41: =G41+I41+K41+M41 -> 0 | F41: =2.78+(D41-SUM(D38:D41)) -> 0.887 | H41: =D41-F41 -> 0.164 | N41: =E41 -> 0 | O41: =G41 -> 0 | R41: =D41-G41-I41-K41-M41 -> 1.051 | S41: =G41-F41 -> -0.887 | T41: =IF(F41>0,(G41/F41*100-100),0) -> -100
B42: =[2]CO3!I48 -> КЛ-6 кВ «ТП 35 – ТП193» | D42: =[2]CO3!O48/1000 -> 1.135 | E42: =G42+I42+K42+M42 -> 0 | H42: =D42 -> 1.135 | N42: =E42 -> 0 | O42: =G42 -> 0 | R42: =D42-G42-I42-K42-M42 -> 1.135 | S42: =G42-F42 -> 0 | T42: =IF(F42>0,(G42/F42*100-100),0) -> 0
B43: =[2]CO3!I49 -> КЛ-6 кВ «ТП 56 – ТП258» | D43: =[2]CO3!O49/1000 -> 0.505 | E43: =G43+I43+K43+M43 -> 0 | H43: =D43 -> 0.505 | N43: =E43 -> 0 | O43: =G43 -> 0 | R43: =D43-G43-I43-K43-M43 -> 0.505 | S43: =G43-F43 -> 0 | T43: =IF(F43>0,(G43/F43*100-100),0) -> 0
B44: =[2]CO3!I50 -> КЛ-6 кВ «ТП 60 – ТП121» | D44: =[2]CO3!O50/1000 -> 0.673 | E44: =G44+I44+K44+M44 -> 0 | H44: =D44 -> 0.673 | N44: =E44 -> 0 | O44: =G44 -> 0 | R44: =D44-G44-I44-K44-M44 -> 0.673 | S44: =G44-F44 -> 0 | T44: =IF(F44>0,(G44/F44*100-100),0) -> 0
B45: =[2]CO3!I51 -> КЛ-6 кВ «ТП 69 – ТП309» | D45: =[2]CO3!O51/1000 -> 0.484 | E45: =G45+I45+K45+M45 -> 0 | H45: =D45 -> 0.484 | N45: =E45 -> 0 | O45: =G45 -> 0 | R45: =D45-G45-I45-K45-M45 -> 0.484 | S45: =G45-F45 -> 0 | T45: =IF(F45>0,(G45/F45*100-100),0) -> 0
B46: =[2]CO3!I52 -> КЛ-6 кВ «ТП 110 – ТП113» | D46: =[2]CO3!O52/1000 -> 0.589 | E46: =G46+I46+K46+M46 -> 0 | H46: =D46 -> 0.589 | N46: =E46 -> 0 | O46: =G46 -> 0 | R46: =D46-G46-I46-K46-M46 -> 0.589 | S46: =G46-F46 -> 0 | T46: =IF(F46>0,(G46/F46*100-100),0) -> 0
B47: =[2]CO3!I53 -> КЛ-6 кВ «ТП 121 – ТП153» | D47: =[2]CO3!O53/1000 -> 0.631 | E47: =G47+I47+K47+M47 -> 0 | H47: =D47 -> 0.631 | N47: =E47 -> 0 | O47: =G47 -> 0 | R47: =D47-G47-I47-K47-M47 -> 0.631 | S47: =G47-F47 -> 0 | T47: =IF(F47>0,(G47/F47*100-100),0) -> 0
B48: =[2]CO3!I54 -> КЛ-6 кВ «ТП 131 – ТП188» | D48: =[2]CO3!O54/1000 -> 0.736 | E48: =G48+I48+K48+M48 -> 0 | H48: =D48 -> 0.736 | N48: =E48 -> 0 | O48: =G48 -> 0 | R48: =D48-G48-I48-K48-M48 -> 0.736 | S48: =G48-F48 -> 0 | T48: =IF(F48>0,(G48/F48*100-100),0) -> 0
...

Sheet 7.1 без НДС
A2: Отчет об исполнении инвестиционной программы, млн. рублей без НДС (представляется ежеквартально)
D8: ='7.1 с НДС '!D13/1.18-D12 -> 0 | E8: ='7.1 с НДС '!E13/1.18-E12 -> 0 | F8: ='7.1 с НДС '!F13/1.18-F12 -> 0 | G8: ='7.1 с НДС '!G13/1.18-G12 -> 0 | H8: ='7.1 с НДС '!H13/1.18-H12 -> 0 | I8: ='7.1 с НДС '!I13/1.18-I12 -> 0 | J8: ='7.1 с НДС '!J13/1.18-J12 -> 0 | K8: ='7.1 с НДС '!K13/1.18-K12 -> 0 | ... S8: ='7.1 с НДС '!S13/1.18-S12 -> 0 | U8: ='7.1 с НДС '!U13/1.18-U12 -> 0 | V8: ='7.1 с НДС '!V13/1.18-V12 -> 0
A9: № | B9: Наименование объекта | C9: Остаток стоимости на начало года * | D9: Объем финансирования [отчетный год] | N9: Освоено (закрыто актами выполнен- ных работ), млн. рублей | P9: Введено (оформлено актами ввода в эксплуатацию), млн. рублей | R9: Осталось профинанси- ровать по ре- зультатам отчетного периода * | S9: Отклонение *** | W9: Причины отклонений
D10: всего | F10: I кв. | H10: II кв. | J10: III кв. | L10: IV кв. | S10: млн. рублей | T10: % | U10: в том числе за счет
D11: план ** | E11: факт *** | F11: план | G11: факт | H11: план | I11: факт | J11: план | K11: факт | L11: план | M11: факт | N11: всего | O11: за отчетный квартал | P11: всего | Q11: за отчетный квартал | U11: уточнения стоимости по результатам утвержденной ПСД | V11: уточнения стоимости по результатам закупочных процедур
B12: ВСЕГО: | D12: =D13+D98+D103+D104 -> 134.9665 | E12: =E13+E98+E103+E104 -> 148.85411 | F12: =F13+F98+F103+F104 -> 24.2795 | G12: =G13+G98+G103+G104 -> 26.030573 | H12: =H13+H98+H103+H104 -> 41.15075 | I12: =I13+I98+I103+I104 -> 22.876877 | J12: =J13+J98+J103+J104 -> 40.72075 | K12: =K13+K98+K103+K104 -> 2.03 | ... M12: =M13+M98+M103+M104 -> 97.916662 | N12: =E12 -> 148.85411 | O12: =M12 -> 97.916662 | P12: =P13+P98+P103+P104 -> 131.0054 | Q12: =P12-'7.1 без НДС 3 кв'!P12 -> 75.134249 | R12: =D12-G12-I12-K12-M12 -> -13.887611 | S12: =M12-L12 -> 69.101162 | T12: =IF(L12>0,(M12/L12*100-100),0) -> 239.80553 | U12: =U13+U98+U103+U104 -> 0 | V12: =V13+V98+V103+V104 -> 0
A13: 1 | B13: Техническое перевооружение и реконструкция | D13: =D14+D15+D37+D70+D86+D92+D93 -> 56.42 | E13: =E14+E15+E37+E70+E86+E92+E93 -> 10.615121 | F13: =F14+F15+F37+F70+F86+F92+F93 -> 8.3145 | G13: =G14+G15+G37+G70+G86+G92+G93 -> 2.891322 | H13: =H14+H15+H37+H70+H86+H92+H93 -> 17.5525 | I13: =I14+I15+I37+I70+I86+I92+I93 -> 3.5034486 | J13: =J14+J15+J37+J70+J86+J92+J93 -> 17.7025 | K13: =K14+K15+K37+K70+K86+K92+K93 -> 0 | ... M13: =M14+M15+M37+M70+M86+M92+M93 -> 4.2203504 | N13: =E13 -> 10.615121 | O13: =M13 -> 4.2203504 | P13: =P14+P15+P37+P70+P86+P92+P93 -> 6.5621752 | Q13: =P13-'7.1 без НДС 3 кв'!P13 -> 4.6175165 | R13: =D13-G13-I13-K13-M13 -> 45.804879 | S13: =M13-L13 -> -8.6301496 | T13: =IF(L13>0,(M13/L13*100-100),0) -> -67.158084 | U13: =U14+U15+U37+U70+U86+U92+U93 -> 0 | V13: =V14+V15+V37+V70+V86+V92+V93 -> 0
A14: 1.1. | B14: Проектные работы по перевооружению и реконструкции | D14: 0 | E14: 0 | N14: =E14 -> 0 | O14: =M14 -> 0 | Q14: =P14-'7.1 без НДС 3 кв'!P14 -> 0 | R14: =D14-G14-I14-K14-M14 -> 0 | S14: =M14-L14 -> 0 | T14: =IF(L14>0,(M14/L14*100-100),0) -> 0
A15: 1.2. | B15: Кабельные линии 0,4 кВ. | D15: =SUM(D16:D36) -> 5.51 | E15: =SUM(E16:E36) -> 1.0701043 | F15: =SUM(F16:F36) -> 1.162 | G15: =SUM(G16:G36) -> 0.799477 | H15: =SUM(H16:H36) -> 1.87 | I15: =SUM(I16:I36) -> 0 | J15: =SUM(J16:J36) -> 1.87 | K15: =SUM(K16:K36) -> 0 | ... M15: =SUM(M16:M36) -> 0.27062733 | N15: =E15 -> 1.0701043 | O15: =M15 -> 0.27062733 | P15: =SUM(P16:P36) -> 0.12212735 | Q15: =P15-'7.1 без НДС 3 кв'!P15 -> 0.12212735 | R15: =D15-G15-I15-K15-M15 -> 4.4398957 | S15: =M15-L15 -> -0.33737267 | T15: =IF(L15>0,(M15/L15*100-100),0) -> -55.488926 | U15: =SUM(U16:U34) -> 0 | V15: =SUM(V16:V34) -> 0
B16: =[2]CO3!I26 -> КЛ-0,4 кВ «ТП 185 – ВРУ ж.д. Зосимовская,52» | D16: =[2]CO3!O26/1000 -> 0.268 | E16: =G16+I16+K16+M16 -> 0 | F16: =D16 -> 0.268 | N16: =E16 -> 0 | O16: =M16 -> 0 | Q16: =P16-'7.1 без НДС 3 кв'!P16 -> 0 | R16: =D16-G16-I16-K16-M16 -> 0.268 | S16: =M16-L16 -> 0 | T16: =IF(L16>0,(M16/L16*100-100),0) -> 0
B17: =[2]CO3!I27 -> КЛ-0,4 кВ «ТП 185 – ВРУ ж.д. Ветошкина,23» | D17: =[2]CO3!O27/1000 -> 0.268 | E17: =G17+I17+K17+M17 -> 0 | F17: =D17 -> 0.268 | N17: =E17 -> 0 | O17: =M17 -> 0 | Q17: =P17-'7.1 без НДС 3 кв'!P17 -> 0 | R17: =D17-G17-I17-K17-M17 -> 0.268 | S17: =M17-L17 -> 0 | T17: =IF(L17>0,(M17/L17*100-100),0) -> 0
B18: =[2]CO3!I28 -> КЛ-0,4 кВ «ТП 445 – ВРУ ж.д. Новгородская,9а» | D18: =[2]CO3!O28/1000 -> 0.179 | E18: =G18+I18+K18+M18 -> 0 | F18: =D18 -> 0.179 | N18: =E18 -> 0 | O18: =M18 -> 0 | Q18: =P18-'7.1 без НДС 3 кв'!P18 -> 0 | R18: =D18-G18-I18-K18-M18 -> 0.179 | S18: =M18-L18 -> 0 | T18: =IF(L18>0,(M18/L18*100-100),0) -> 0
B19: =[2]CO3!I29 -> КЛ-0,4 кВ «ТП 445 – ВРУ ж.д. Новгородская,9г» | D19: =[2]CO3!O29/1000 -> 0.447 | E19: =G19+I19+K19+M19 -> 0 | F19: =D19 -> 0.447 | N19: =E19 -> 0 | O19: =M19 -> 0 | Q19: =P19-'7.1 без НДС 3 кв'!P19 -> 0 | R19: =D19-G19-I19-K19-M19 -> 0.447 | S19: =M19-L19 -> 0 | T19: =IF(L19>0,(M19/L19*100-100),0) -> 0
B20: =[2]CO3!I30 -> КЛ-0,4 кВ «ТП 445 – ВРУ ж.д. Новгородская,9б» | D20: =[2]CO3!O30/1000 -> 0.492 | E20: =G20+I20+K20+M20 -> 0 | H20: =D20 -> 0.492 | N20: =E20 -> 0 | O20: =M20 -> 0 | Q20: =P20-'7.1 без НДС 3 кв'!P20 -> 0 | R20: =D20-G20-I20-K20-M20 -> 0.492 | S20: =M20-L20 -> 0 | T20: =IF(L20>0,(M20/L20*100-100),0) -> 0
B21: =[2]CO3!I31 -> КЛ-0,4 кВ «ТП 655 – ВРУ шк. Болонина, 32(уч.корпус)» | D21: =[2]CO3!O31/1000 -> 0.447 | E21: =G21+I21+K21+M21 -> 0 | H21: =D21 -> 0.447 | N21: =E21 -> 0 | O21: =M21 -> 0 | Q21: =P21-'7.1 без НДС 3 кв'!P21 -> 0 | R21: =D21-G21-I21-K21-M21 -> 0.447 | S21: =M21-L21 -> 0 | T21: =IF(L21>0,(M21/L21*100-100),0) -> 0
B22: =[2]CO3!I32 -> КЛ-0,4 кВ «ТП 655 – ВРУ шк. Болонина, 32(спорт.корпус)» | D22: =[2]CO3!O32/1000 -> 0.134 | E22: =G22+I22+K22+M22 -> 0 | H22: =D22 -> 0.134 | N22: =E22 -> 0 | O22: =M22 -> 0 | Q22: =P22-'7.1 без НДС 3 кв'!P22 -> 0 | R22: =D22-G22-I22-K22-M22 -> 0.134 | S22: =M22-L22 -> 0 | T22: =IF(L22>0,(M22/L22*100-100),0) -> 0
B23: =[2]CO3!I33 -> КЛ-0,4 кВ «ТП 655 – ВРУ шк. Болонина, 32(спал.корпус)» | D23: =[2]CO3!O33/1000 -> 0.295 | E23: =G23+I23+K23+M23 -> 0 | H23: =D23 -> 0.295 | N23: =E23 -> 0 | O23: =M23 -> 0 | Q23: =P23-'7.1 без НДС 3 кв'!P23 -> 0 | R23: =D23-G23-I23-K23-M23 -> 0.295 | S23: =M23-L23 -> 0 | T23: =IF(L23>0,(M23/L23*100-100),0) -> 0
B24: =[2]CO3!I34 -> КЛ-0,4 кВ «ТП 193 – ВРУ ж.д. Гагарина,53» | D24: =[2]CO3!O34/1000 -> 0.295 | E24: =G24+I24+K24+M24 -> 0 | H24: =D24 -> 0.295 | N24: =E24 -> 0 | O24: =M24 -> 0 | Q24: =P24-'7.1 без НДС 3 кв'!P24 -> 0 | R24: =D24-G24-I24-K24-M24 -> 0.295 | S24: =M24-L24 -> 0 | T24: =IF(L24>0,(M24/L24*100-100),0) -> 0
B25: =[2]CO3!I35 -> КЛ-0,4 кВ «ТП 106 – ВРУ ж.д. Козленская,127» | D25: =[2]CO3!O35/1000 -> 0.671 | E25: =G25+I25+K25+M25 -> 0 | H25: =(D25+(1.87-SUM(D20:D25))) -> 0.207 | J25: =D25-H25 -> 0.464 | N25: =E25 -> 0 | O25: =M25 -> 0 | Q25: =P25-'7.1 без НДС 3 кв'!P25 -> 0 | R25: =D25-G25-I25-K25-M25 -> 0.671 | S25: =M25-L25 -> 0 | T25: =IF(L25>0,(M25/L25*100-100),0) -> 0
B26: =[2]CO3!I36 -> КЛ-0,4 кВ «ТП 367 – ВРУ ж.д. Герцена,94» | D26: =[2]CO3!O36/1000 -> 0.447 | E26: =G26+I26+K26+M26 -> 0 | J26: =D26 -> 0.447 | N26: =E26 -> 0 | O26: =M26 -> 0 | Q26: =P26-'7.1 без НДС 3 кв'!P26 -> 0 | R26: =D26-G26-I26-K26-M26 -> 0.447 | S26: =M26-L26 -> 0 | T26: =IF(L26>0,(M26/L26*100-100),0) -> 0
B27: =[2]CO3!I37 -> КЛ-0,4 кВ «ТП 367 – ВРУ ж.д. Ветошкина,99» | D27: =[2]CO3!O37/1000 -> 0.358 | E27: =G27+I27+K27+M27 -> 0 | J27: =D27 -> 0.358 | N27: =E27 -> 0 | O27: =M27 -> 0 | Q27: =P27-'7.1 без НДС 3 кв'!P27 -> 0 | R27: =D27-G27-I27-K27-M27 -> 0.358 | S27: =M27-L27 -> 0 | T27: =IF(L27>0,(M27/L27*100-100),0) -> 0
B28: =[2]CO3!I38 -> КЛ-0,4 кВ «ТП 533 – DРУ ж.д. 1мкр. ПЗ, 9» | D28: =[2]CO3!O38/1000 -> 0.116 | E28: =G28+I28+K28+M28 -> 0 | J28: =D28 -> 0.116 | N28: =E28 -> 0 | O28: =M28 -> 0 | Q28: =P28-'7.1 без НДС 3 кв'!P28 -> 0 | R28: =D28-G28-I28-K28-M28 -> 0.116 | S28: =M28-L28 -> 0 | T28: =IF(L28>0,(M28/L28*100-100),0) -> 0
B29: =[2]CO3!I39 -> КЛ-0,4 кВ «ТП 533 – ВРУ ж.д. 1мкр. ПЗ, 10» | D29: =[2]CO3!O39/1000 -> 0.179 | E29: =G29+I29+K29+M29 -> 0 | J29: =D29 -> 0.179 | N29: =E29 -> 0 | O29: =M29 -> 0 | Q29: =P29-'7.1 без НДС 3 кв'!P29 -> 0 | R29: =D29-G29-I29-K29-M29 -> 0.179 | S29: =M29-L29 -> 0 | T29: =IF(L29>0,(M29/L29*100-100),0) -> 0
B30: =[2]CO3!I40 -> КЛ-0,4 кВ «ТП 534 – ВРУ ж.д. 1мкр. ПЗ, 21» | D30: =[2]CO3!O40/1000 -> 0.107 | E30: =G30+I30+K30+M30 -> 0 | J30: =D30 -> 0.107 | N30: =E30 -> 0 | O30: =M30 -> 0 | Q30: =P30-'7.1 без НДС 3 кв'!P30 -> 0 | R30: =D30-G30-I30-K30-M30 -> 0.107 | S30: =M30-L30 -> 0 | T30: =IF(L30>0,(M30/L30*100-100),0) -> 0
B31: =[2]CO3!I41 -> КЛ-0,4 кВ «ТП 534 – ВРУ ж.д. 1мкр. ПЗ, 23» | D31: =[2]CO3!O41/1000 -> 0.179 | E31: =G31+I31+K31+M31 -> 0 | J31: =D31 -> 0.179 | N31: =E31 -> 0 | O31: =M31 -> 0 | Q31: =P31-'7.1 без НДС 3 кв'!P31 -> 0 | R31: =D31-G31-I31-K31-M31 -> 0.179 | S31: =M31-L31 -> 0 | T31: =IF(L31>0,(M31/L31*100-100),0) -> 0
B32: =[2]CO3!I42 -> КЛ-0,4 кВ «ТП 427 – ВРУ шк. Поповича, 26а» | D32: =[2]CO3!O42/1000 -> 0.358 | E32: =G32+I32+K32+M32 -> 0 | J32: =D32+(1.87-SUM(J25:J31,D32)) -> 0.02 | L32: =D32-J32 -> 0.338 | N32: =E32 -> 0 | O32: =M32 -> 0 | Q32: =P32-'7.1 без НДС 3 кв'!P32 -> 0 | R32: =D32-G32-I32-K32-M32 -> 0.358 | S32: =M32-L32 -> -0.338 | T32: =IF(L32>0,(M32/L32*100-100),0) -> -100
B33: =[2]CO3!I43 -> КЛ-0,4 кВ «ТП 422– ВРУ ж/д Советский пр., 131» | D33: =[2]CO3!O43/1000 -> 0.27 | E33: =G33+I33+K33+M33 -> 0 | L33: =D33-J33 -> 0.27 | N33: =E33 -> 0 | O33: =M33 -> 0 | Q33: =P33-'7.1 без НДС 3 кв'!P33 -> 0 | R33: =D33-G33-I33-K33-M33 -> 0.27 | S33: =M33-L33 -> -0.27 | T33: =IF(L33>0,(M33/L33*100-100),0) -> -100
B34: =[2]CO3!$I$86 -> КЛ 0,4 ТП217-ВРУ здания СТО Козленская | E34: =G34+I34+K34+M34 -> 0.799477 | F34: 0 | G34: =[2]CO3!$P$86/1000 -> 0.799477 | I34: ='[3]08'!$E$399/1000000-G34 -> 0 | L34: =D34-J34 -> 0 | M34: 0 | N34: =E34 -> 0.799477 | O34: =M34 -> 0 | Q34: =P34-'7.1 без НДС 3 кв'!P34 -> 0 | R34: =D34-G34-I34-K34-M34 -> -0.799477 | S34: =M34-L34 -> 0 | T34: =IF(L34>0,(M34/L34*100-100),0) -> 0
B35: Вынос КЛ 0,4 кВ "ТП356 - админ.здание, ул.Герцена, 54" (ООО Соната) | E35: =G35+I35+K35+M35 -> 0.12212735 | M35: ='[9]свод 16,02 (2)'!$E$25/1000000 -> 0.12212735 | N35: =E35 -> 0.12212735 | O35: =M35 -> 0.12212735 | P35: ='[9]свод 16,02 (2)'!$F$25/1000000 -> 0.12212735 | Q35: =P35-'7.1 без НДС 3 кв'!P35 -> 0.12212735 | S35: =M35-L35 -> 0.12212735 | T35: =IF(L35>0,(M35/L35*100-100),0) -> 0
B36: Переустройство ВЛ 0,4 кВ и прокладка КЛ 0,4 кВ от ТП-700 (многокв.жилой дом, Пречист.наб) | E36: =G36+I36+K36+M36 -> 0.14849998 | M36: ='[9]свод 16,02 (2)'!$E$26/1000000 -> 0.14849998 | N36: =E36 -> 0.14849998 | O36: =M36 -> 0.14849998 | P36: ='[9]свод 16,02 (2)'!$F$26/1000000 -> 0 | Q36: =P36-'7.1 без НДС 3 кв'!P36 -> 0 | S36: =M36-L36 -> 0.14849998 | T36: =IF(L36>0,(M36/L36*100-100),0) -> 0
A37: 1.3. | B37: Кабельные линии 6-10 кВ. | D37: =SUM(D38:D69) -> 21.91 | E37: =SUM(E38:E69) -> 3.3161955 | F37: =SUM(F38:F69) -> 2.78 | G37: =SUM(G38:G69) -> 0.43972641 | H37: =SUM(H38:H69) -> 6.51 | I37: =SUM(I38:I69) -> 0.95222964 | J37: =SUM(J38:J69) -> 6.51 | K37: =SUM(K38:K69) -> 0 | ... M37: =SUM(M38:M69) -> 1.9242394 | N37: =E37 -> 3.3161955 | O37: =M37 -> 1.9242394 | P37: =SUM(P38:P69) -> 2.1511492 | Q37: =P37-'7.1 без НДС 3 кв'!P37 -> 2.1511492 | R37: =D37-G37-I37-K37-M37 -> 18.593805 | S37: =M37-L37 -> -4.1857606 | T37: =IF(L37>0,(M37/L37*100-100),0) -> -68.50672 | U37: =SUM(U38:U62) -> 0 | V37: =SUM(V38:V62) -> 0 | W37: =SUM(W38:W62) -> 0
B38: =[2]CO3!I44 -> КЛ-6 кВ «ТП 13 – ТП149» | D38: =[2]CO3!O44/1000 -> 1.051 | E38: =G38+I38+K38+M38 -> 0 | F38: =D38 -> 1.051 | N38: =E38 -> 0 | O38: =M38 -> 0 | Q38: =P38-'7.1 без НДС 3 кв'!P38 -> 0 | R38: =D38-G38-I38-K38-M38 -> 1.051 | S38: =M38-L38 -> 0 | T38: =IF(L38>0,(M38/L38*100-100),0) -> 0
B39: =[2]CO3!I45 -> КЛ-6 кВ «ТП 22 – ТП303» | D39: =[2]CO3!O45/1000 -> 0.421 | E39: =G39+I39+K39+M39 -> 0 | F39: =D39 -> 0.421 | N39: =E39 -> 0 | O39: =M39 -> 0 | Q39: =P39-'7.1 без НДС 3 кв'!P39 -> 0 | R39: =D39-G39-I39-K39-M39 -> 0.421 | S39: =M39-L39 -> 0 | T39: =IF(L39>0,(M39/L39*100-100),0) -> 0
B40: =[2]CO3!I46 -> КЛ-6 кВ «ТП 27 – ТП63» | D40: =[2]CO3!O46/1000 -> 0.421 | E40: =G40+I40+K40+M40 -> 0 | F40: =D40 -> 0.421 | N40: =E40 -> 0 | O40: =M40 -> 0 | Q40: =P40-'7.1 без НДС 3 кв'!P40 -> 0 | R40: =D40-G40-I40-K40-M40 -> 0.421 | S40: =M40-L40 -> 0 | T40: =IF(L40>0,(M40/L40*100-100),0) -> 0
B41: =[2]CO3!I47 -> КЛ-6 кВ «ТП 32 – ТП2» | D41: =[2]CO3!O47/1000 -> 1.051 | E41: =G41+I41+K41+M41 -> 0 | F41: =2.78+(D41-SUM(D38:D41)) -> 0.887 | H41: =D41-F41 -> 0.164 | N41: =E41 -> 0 | O41: =M41 -> 0 | Q41: =P41-'7.1 без НДС 3 кв'!P41 -> 0 | R41: =D41-G41-I41-K41-M41 -> 1.051 | S41: =M41-L41 -> 0 | T41: =IF(L41>0,(M41/L41*100-100),0) -> 0
B42: =[2]CO3!I48 -> КЛ-6 кВ «ТП 35 – ТП193» | D42: =[2]CO3!O48/1000 -> 1.135 | E42: =G42+I42+K42+M42 -> 0 | H42: =D42 -> 1.135 | N42: =E42 -> 0 | O42: =M42 -> 0 | Q42: =P42-'7.1 без НДС 3 кв'!P42 -> 0 | R42: =D42-G42-I42-K42-M42 -> 1.135 | S42: =M42-L42 -> 0 | T42: =IF(L42>0,(M42/L42*100-100),0) -> 0
B43: =[2]CO3!I49 -> КЛ-6 кВ «ТП 56 – ТП258» | D43: =[2]CO3!O49/1000 -> 0.505 | E43: =G43+I43+K43+M43 -> 0 | H43: =D43 -> 0.505 | N43: =E43 -> 0 | O43: =M43 -> 0 | Q43: =P43-'7.1 без НДС 3 кв'!P43 -> 0 | R43: =D43-G43-I43-K43-M43 -> 0.505 | S43: =M43-L43 -> 0 | T43: =IF(L43>0,(M43/L43*100-100),0) -> 0
B44: =[2]CO3!I50 -> КЛ-6 кВ «ТП 60 – ТП121» | D44: =[2]CO3!O50/1000 -> 0.673 | E44: =G44+I44+K44+M44 -> 0 | H44: =D44 -> 0.673 | N44: =E44 -> 0 | O44: =M44 -> 0 | Q44: =P44-'7.1 без НДС 3 кв'!P44 -> 0 | R44: =D44-G44-I44-K44-M44 -> 0.673 | S44: =M44-L44 -> 0 | T44: =IF(L44>0,(M44/L44*100-100),0) -> 0
B45: =[2]CO3!I51 -> КЛ-6 кВ «ТП 69 – ТП309» | D45: =[2]CO3!O51/1000 -> 0.484 | E45: =G45+I45+K45+M45 -> 0 | H45: =D45 -> 0.484 | N45: =E45 -> 0 | O45: =M45 -> 0 | Q45: =P45-'7.1 без НДС 3 кв'!P45 -> 0 | R45: =D45-G45-I45-K45-M45 -> 0.484 | S45: =M45-L45 -> 0 | T45: =IF(L45>0,(M45/L45*100-100),0) -> 0
B46: =[2]CO3!I52 -> КЛ-6 кВ «ТП 110 – ТП113» | D46: =[2]CO3!O52/1000 -> 0.589 | E46: =G46+I46+K46+M46 -> 0 | H46: =D46 -> 0.589 | N46: =E46 -> 0 | O46: =M46 -> 0 | Q46: =P46-'7.1 без НДС 3 кв'!P46 -> 0 | R46: =D46-G46-I46-K46-M46 -> 0.589 | S46: =M46-L46 -> 0 | T46: =IF(L46>0,(M46/L46*100-100),0) -> 0
...

Sheet 6.1
U1: Приложение № 6.1 к Приказу Минэнерго России от 24.03.2010 № 114
A2: Отчет об исполнении инвестиционной программы ГП ВО "Областные электротеплосети", млн. рублей с НДС (представляется ежеквартально)
W3: Утверждаю
U4: Директор ГП ВО "Областные электротеплосети"
U5: _________________А.А. Цветков
U6: "____"______________2016 года
W8: М.П.
A10: № | B10: Наименование объекта | C10: Остаток стоимости на начало года * | D10: Объем финансирования 2015 г. | N10: Освоено (закрыто актами выполнен- ных работ), млн. рублей | P10: Введено (оформлено актами ввода в эксплуатацию), млн. рублей | R10: Осталось профинанси- ровать по ре- зультатам отчетного периода * | S10: Отклонение *** | W10: Причины отклонений
D11: всего | F11: I кв. | H11: II кв. | J11: III кв. | L11: IV кв. | S11: млн. рублей | T11: % | U11: в том числе за счет
D12: план ** | E12: факт *** | F12: план | G12: факт | H12: план | I12: факт | J12: план | K12: факт | L12: план | M12: факт | N12: всего | O12: за отчетный квартал | P12: всего | Q12: за отчетный квартал | U12: уточнения стоимости по результатам утвержденной ПСД | V12: уточнения стоимости по результатам закупочных процедур
B13: ВСЕГО: | D13: 159.26047 | E13: 175.64785 | F13: 28.64981 | G13: 30.716076 | H13: 48.557885 | I13: 26.994714 | J13: 48.050485 | K13: 2.3954 | L13: 34.00229 | M13: 115.54166 | N13: 175.64785 | O13: 115.54166 | P13: 154.58637 | Q13: 88.658414 | R13: -16.387381 | S13: 16.387381 | T13: 10.289673 | U13: 0 | V13: 0
A14: 1 | B14: Техническое перевооружение и реконструкция | D14: 66.5756 | E14: 12.525843 | F14: 9.81111 | G14: 3.4117599 | H14: 20.71195 | I14: 4.1340694 | J14: 20.88895 | K14: 0 | L14: 15.16359 | M14: 4.9800134 | N14: 12.525843 | O14: 4.9800134 | P14: 7.7433667 | Q14: 5.4486695 | R14: 54.049757 | S14: -54.049757 | T14: -81.185535 | U14: 0 | V14: 0
A15: 1.1. | B15: Проектные работы по перевооружению и реконструкции | D15: 0 | E15: 0 | F15: 0 | G15: 0 | H15: 0 | I15: 0 | J15: 0 | K15: 0 | L15: 0 | M15: 0 | N15: 0 | O15: 0 | Q15: 0 | R15: 0 | S15: 0 | T15: 0
A16: 1.2. | B16: Кабельные линии 0,4 кВ. | D16: 6.5018 | E16: 1.2627231 | F16: 1.37116 | G16: 0.94338286 | H16: 2.2066 | I16: 0 | J16: 2.2066 | K16: 0 | L16: 0.71744 | M16: 0.31934025 | N16: 1.2627231 | O16: 0.31934025 | P16: 0.14411027 | Q16: 0.14411027 | R16: 5.2390769 | S16: -5.2390769 | T16: -80.578869 | U16: 0 | V16: 0
B17: КЛ-0,4 кВ «ТП 185 – ВРУ ж.д. Зосимовская,52» | D17: 0.31624 | E17: 0 | F17: 0.31624 | G17: 0 | H17: 0 | I17: 0 | J17: 0 | K17: 0 | L17: 0 | M17: 0 | N17: 0 | O17: 0 | Q17: 0 | R17: 0.31624 | S17: -0.31624 | T17: -100
B18: КЛ-0,4 кВ «ТП 185 – ВРУ ж.д. Ветошкина,23» | D18: 0.31624 | E18: 0 | F18: 0.31624 | G18: 0 | H18: 0 | I18: 0 | J18: 0 | K18: 0 | L18: 0 | M18: 0 | N18: 0 | O18: 0 | Q18: 0 | R18: 0.31624 | S18: -0.31624 | T18: -100
B19: КЛ-0,4 кВ «ТП 445 – ВРУ ж.д. Новгородская,9а» | D19: 0.21122 | E19: 0 | F19: 0.21122 | G19: 0 | H19: 0 | I19: 0 | J19: 0 | K19: 0 | L19: 0 | M19: 0 | N19: 0 | O19: 0 | Q19: 0 | R19: 0.21122 | S19: -0.21122 | T19: -100
B20: КЛ-0,4 кВ «ТП 445 – ВРУ ж.д. Новгородская,9г» | D20: 0.52746 | E20: 0 | F20: 0.52746 | G20: 0 | H20: 0 | I20: 0 | J20: 0 | K20: 0 | L20: 0 | M20: 0 | N20: 0 | O20: 0 | Q20: 0 | R20: 0.52746 | S20: -0.52746 | T20: -100
B21: КЛ-0,4 кВ «ТП 445 – ВРУ ж.д. Новгородская,9б» | D21: 0.58056 | E21: 0 | F21: 0 | G21: 0 | H21: 0.58056 | I21: 0 | J21: 0 | K21: 0 | L21: 0 | M21: 0 | N21: 0 | O21: 0 | Q21: 0 | R21: 0.58056 | S21: -0.58056 | T21: -100
B22: КЛ-0,4 кВ «ТП 655 – ВРУ шк. Болонина, 32(уч.корпус)» | D22: 0.52746 | E22: 0 | F22: 0 | G22: 0 | H22: 0.52746 | I22: 0 | J22: 0 | K22: 0 | L22: 0 | M22: 0 | N22: 0 | O22: 0 | Q22: 0 | R22: 0.52746 | S22: -0.52746 | T22: -100
B23: КЛ-0,4 кВ «ТП 655 – ВРУ шк. Болонина, 32(спорт.корпус)» | D23: 0.15812 | E23: 0 | F23: 0 | G23: 0 | H23: 0.15812 | I23: 0 | J23: 0 | K23: 0 | L23: 0 | M23: 0 | N23: 0 | O23: 0 | Q23: 0 | R23: 0.15812 | S23: -0.15812 | T23: -100
B24: КЛ-0,4 кВ «ТП 655 – ВРУ шк. Болонина, 32(спал.корпус)» | D24: 0.3481 | E24: 0 | F24: 0 | G24: 0 | H24: 0.3481 | I24: 0 | J24: 0 | K24: 0 | L24: 0 | M24: 0 | N24: 0 | O24: 0 | Q24: 0 | R24: 0.3481 | S24: -0.3481 | T24: -100
B25: КЛ-0,4 кВ «ТП 193 – ВРУ ж.д. Гагарина,53» | D25: 0.3481 | E25: 0 | F25: 0 | G25: 0 | H25: 0.3481 | I25: 0 | J25: 0 | K25: 0 | L25: 0 | M25: 0 | N25: 0 | O25: 0 | Q25: 0 | R25: 0.3481 | S25: -0.3481 | T25: -100
B26: КЛ-0,4 кВ «ТП 106 – ВРУ ж.д. Козленская,127» | D26: 0.79178 | E26: 0 | F26: 0 | G26: 0 | H26: 0.24426 | I26: 0 | J26: 0.54752 | K26: 0 | L26: 0 | M26: 0 | N26: 0 | O26: 0 | Q26: 0 | R26: 0.79178 | S26: -0.79178 | T26: -100
B27: КЛ-0,4 кВ «ТП 367 – ВРУ ж.д. Герцена,94» | D27: 0.52746 | E27: 0 | F27: 0 | G27: 0 | H27: 0 | I27: 0 | J27: 0.52746 | K27: 0 | L27: 0 | M27: 0 | N27: 0 | O27: 0 | Q27: 0 | R27: 0.52746 | S27: -0.52746 | T27: -100
B28: КЛ-0,4 кВ «ТП 367 – ВРУ ж.д. Ветошкина,99» | D28: 0.42244 | E28: 0 | F28: 0 | G28: 0 | H28: 0 | I28: 0 | J28: 0.42244 | K28: 0 | L28: 0 | M28: 0 | N28: 0 | O28: 0 | Q28: 0 | R28: 0.42244 | S28: -0.42244 | T28: -100
... B34: КЛ-0,4 кВ «ТП 422– ВРУ ж/д Советский пр., 131» | D34: 0.3186 | E34: 0 | F34: 0 | G34: 0 | H34: 0 | I34: 0 | J34: 0 | K34: 0 | L34: 0.3186 | M34: 0 | N34: 0 | O34: 0 | Q34: 0 | R34: 0.3186 | S34: -0.3186 | T34: -100
B35: КЛ 0,4 ТП217-ВРУ здания СТО Козленская | D35: 0 | E35: 0.94338286 | F35: 0 | G35: 0.94338286 | H35: 0 | I35: 0 | J35: 0 | K35: 0 | L35: 0 | M35: 0 | N35: 0.94338286 | O35: 0 | P35: 0 | Q35: 0 | R35: -0.94338286 | S35: 0.94338286 | T35: 0
B36: Вынос КЛ 0,4 кВ "ТП356 - админ.здание, ул.Герцена, 54" (ООО Соната) | D36: 0 | E36: 0.14411027 | F36: 0 | G36: 0 | H36: 0 | I36: 0 | J36: 0 | K36: 0 | L36: 0 | M36: 0.14411027 | N36: 0.14411027 | O36: 0.14411027 | P36: 0.14411027 | Q36: 0.14411027 | R36: -0.14411027 | S36: 0.14411027 | T36: 0
B37: Переустройство ВЛ 0,4 кВ и прокладка КЛ 0,4 кВ от ТП-700 (многокв.жилой дом, Пречист.наб) | D37: 0 | E37: 0.17522998 | F37: 0 | G37: 0 | H37: 0 | I37: 0 | J37: 0 | K37: 0 | L37: 0 | M37: 0.17522998 | N37: 0.17522998 | O37: 0.17522998 | P37: 0 | Q37: 0 | R37: -0.17522998 | S37: 0.17522998 | T37: 0
A38: 1.3. | B38: Кабельные линии 6-10 кВ. | D38: 25.8538 | E38: 3.9131107 | F38: 3.2804 | G38: 0.51887716 | H38: 7.6818 | I38: 1.123631 | J38: 7.6818 | K38: 0 | L38: 7.2098 | M38: 2.2706025 | N38: 3.9131107 | O38: 2.2706025 | P38: 2.538356 | Q38: 2.538356 | R38: 21.940689 | S38: -21.940689 | T38: -84.864466 | U38: 0 | V38: 0 | W38: 0
B39: КЛ-6 кВ «ТП 13 – ТП149» | D39: 1.24018 | E39: 0 | F39: 1.24018 | G39: 0 | H39: 0 | I39: 0 | J39: 0 | K39: 0 | L39: 0 | M39: 0 | N39: 0 | O39: 0 | Q39: 0 | R39: 1.24018 | S39: -1.24018 | T39: -100
B40: КЛ-6 кВ «ТП 22 – ТП303» | D40: 0.49678 | E40: 0 | F40: 0.49678 | G40: 0 | H40: 0 | I40: 0 | J40: 0 | K40: 0 | L40: 0 | M40: 0 | N40: 0 | O40: 0 | Q40: 0 | R40: 0.49678 | S40: -0.49678 | T40: -100
B41: КЛ-6 кВ «ТП 27 – ТП63» | D41: 0.49678 | E41: 0 | F41: 0.49678 | G41: 0 | H41: 0 | I41: 0 | J41: 0 | K41: 0 | L41: 0 | M41: 0 | N41: 0 | O41: 0 | Q41: 0 | R41: 0.49678 | S41: -0.49678 | T41: -100
B42: КЛ-6 кВ «ТП 32 – ТП2» | D42: 1.24018 | E42: 0 | F42: 1.04666 | G42: 0 | H42: 0.19352 | I42: 0 | J42: 0 | K42: 0 | L42: 0 | M42: 0 | N42: 0 | O42: 0 | Q42: 0 | R42: 1.24018 | S42: -1.24018 | T42: -100
B43: КЛ-6 кВ «ТП 35 – ТП193» | D43: 1.3393 | E43: 0 | F43: 0 | G43: 0 | H43: 1.3393 | I43: 0 | J43: 0 | K43: 0 | L43: 0 | M43: 0 | N43: 0 | O43: 0 | Q43: 0 | R43: 1.3393 | S43: -1.3393 | T43: -100
B44: КЛ-6 кВ «ТП 56 – ТП258» | D44: 0.5959 | E44: 0 | F44: 0 | G44: 0 | H44: 0.5959 | I44: 0 | J44: 0 | K44: 0 | L44: 0 | M44: 0 | N44: 0 | O44: 0 | Q44: 0 | R44: 0.5959 | S44: -0.5959 | T44: -100
B45: КЛ-6 кВ «ТП 60 – ТП121» | D45: 0.79414 | E45: 0 | F45: 0 | G45: 0 | H45: 0.79414 | I45: 0 | J45: 0 | K45: 0 | L45: 0 | M45: 0 | N45: 0 | O45: 0 | Q45: 0 | R45: 0.79414 | S45: -0.79414 | T45: -100
B46: КЛ-6 кВ «ТП 69 – ТП309» | D46: 0.57112 | E46: 0 | F46: 0 | G46: 0 | H46: 0.57112 | I46: 0 | J46: 0 | K46: 0 | L46: 0 | M46: 0 | N46: 0 | O46: 0 | Q46: 0 | R46: 0.57112 | S46: -0.57112 | T46: -100
B47: КЛ-6 кВ «ТП 110 – ТП113» | D47: 0.69502 | E47: 0 | F47: 0 | G47: 0 | H47: 0.69502 | I47: 0 | J47: 0 | K47: 0 | L47: 0 | M47: 0 | N47: 0 | O47: 0 | Q47: 0 | R47: 0.69502 | S47: -0.69502 | T47: -100
...

Sheet 6.2
EY1: Приложение № 6.2
EY2: к Приказу Минэнерго России
EY3: от 24.03.2010 № 114
A4: Отчет об источниках финансирования инвестиционных программ ГП ВО "Облстные электротеплосети" за 2015 год, млн. рублей с НДС
BB5: Утверждаю Директор ГП ВО "Областные электротеплосети"
BB6: ______________А.А. Цветков
BB7: "____"______________2016 года
EY8: М.П.
A10: № | G10: Источник финансирования | AO10: Объем финансирования [отчетный год] | EA10: Причины отклонений
AO11: всего | BG11: I кв. | BY11: II кв. | CQ11: III кв. | DI11: IV кв.
AO12: план * | AX12: факт ** | BG12: план | BP12: факт | BY12: план | CH12: факт | CQ12: план | CZ12: факт | DI12: план | DR12: факт
A13: 1 | G13: Собственные средства | AO13: 159.26047 | AX13: 175.64785 | BG13: 28.64981 | BP13: 30.716076 | BY13: 48.557885 | CH13: 26.994714 | CQ13: 48.050485 | CZ13: 2.3954 | DI13: 34.00229 | DR13: 115.54166
A14: 1.1. | G14: Прибыль, направляемая на инвестиции: | AO14: 0 | AX14: 0 | BG14: 0 | BP14: 0 | BY14: 0 | CH14: 0
A15: 1.1.1. | G15: в т.ч. инвестиционная составляющая в тарифе | AO15: 0 | AX15: 0
A16: 1.1.2. | G16: в т.ч. прибыль со свободного сектора | AO16: 0 | AX16: 0
A17: 1.1.3. | G17: в т.ч. выпадающие доходы в тарифе | AO17: 0 | AX17: 0 | DI17: 0
A18: 1.1.3.1. | G18: в т.ч. от технологического присоединения генерации | AO18: 0 | AX18: 0
A19: 1.1.3.2. | G19: в т.ч. от технологического присоединения потребителей | AO19: 0 | AX19: 0
A20: 1.1.4. | G20: Прочая прибыль | AO20: 0 | AX20: 0
A21: 1.2. | G21: Амортизация | AO21: 134.9665 | AX21: 118.37993 | BG21: 24.2795 | BP21: 17.930187 | BY21: 41.15075 | CH21: 18.216386 | CQ21: 40.72075 | CZ21: 2.03 | DI21: 28.8155 | DR21: 80.20336
A22: 1.2.1. | G22: Амортизация, учтенная в тарифе | AO22: 134.9665 | AX22: 118.37993 | BG22: 24.2795 | BP22: 17.930187 | BY22: 41.15075 | CH22: 18.216386 | CQ22: 40.72075 | CZ22: 2.03 | DI22: 28.8155 | DR22: 80.20336
A23: 1.2.2. | G23: Прочая амортизация | AO23: 0 | AX23: 0
A24: 1.2.3. | G24: Недоиспользованная амортизация прошлых лет | AO24: 0 | AX24: 0
A25: 1.3. | G25: Возврат НДС | AO25: 24.29397 | AX25: 26.79374 | BG25: 4.37031 | BP25: 4.6855031 | BY25: 7.407135 | CH25: 4.1178378 | CQ25: 7.329735 | CZ25: 0.3654 | DI25: 5.18679 | DR25: 17.624999
A26: 1.4. | G26: Прочие собственные средства (плата за технологическое присоединение потребителей) | AO26: 0 | AX26: 30.474179 | BG26: 0 | BP26: 8.1003862 | BY26: 0 | CH26: 4.6604903 | CQ26: 0 | DI26: 0 | DR26: 17.713302
A27: 1.4.1. | G27: в т.ч. средства допэмиссии
A28: 1.5. | G28: Остаток собственных средств на начало года
A29: 2. | G29: Привлеченные средства, в т.ч.:
A30: 2.1. | G30: Кредиты
A31: 2.2. | G31: Облигационные займы
A32: 2.3. | G32: Займы организаций
A33: 2.4. | G33: Бюджетное финансирование
A34: 2.5. | G34: Средства внешних инвесторов
A35: 2.6. | G35: Использование лизинга
A36: 2.7. | G36: Прочие привлеченные средства
G37: ВСЕГО источников финансирования
G38: для ОГК/ТГК, в том числе
G39: ДПМ
G40: вне ДПМ
B42: Панько Д.М.
...

Sheet 6.3
CK1: Приложение № 6.3 к Приказу Минэнерго России от 24.03.2010 № 114
A3: Отчет о вводах/выводах объектов ГП ВО "Областные электротеплосети" за 2015 год
CM4: Утверждаю Директор ГП ВО "Областные электротеплосети"
CM5: ________________А.А. Цветков
CM6: "____"______________2016 года
CM8: М.П.
A11: № | F11: Наименование проекта | Z11: Ввод мощностей | CR11: Вывод мощностей
Z12: план * | BI12: факт | CR12: план * | EA12: факт
Z13: МВт, Гкал/час, км, МВА | BI13: МВт, Гкал/час, км, МВА | CR13: МВт, Гкал/час, км, МВА | EA13: МВт, Гкал/час, км, МВА
Z14: I кв. | AG14: II кв. | AN14: III кв. | AU14: IV кв. | BB14: 2015 г. | BI14: I кв. | BP14: II кв. | BW14: III кв. | CD14: IV кв. | CK14: 2015 г. | CR14: I кв. | CY14: II кв. | DF14: III кв. | DM14: IV кв. | DT14: 2015 г. | EA14: I кв. | EH14: II кв. | EO14: III кв. | EV14: IV кв. | FC14: 2015 г.
A15: 1 | F15: 2 | Z15: 3 | AG15: 4 | AN15: 5 | AU15: 6 | BB15: 7 | BI15: 8 | BP15: 9 | BW15: 10 | CD15: 11 | CK15: 12 | CR15: 13 | CY15: 14 | DF15: 15 | DM15: 16 | DT15: 17 | EA15: 18 | EH15: 19 | EO15: 20 | EV15: 21 | FC15: 22
A16: 1.1 | F16: КЛ 0,4 кВ | Z16: 1.3 | AG16: 2.1 | AN16: 2.1 | AU16: 0.66 | BB16: 6.16 | BI16: 0.34 | BP16: 0 | BW16: 0 | CD16: 0.57018371 | CK16: 0.91018371 | CR16: 1.3 | CY16: 2.1 | DF16: 2.1 | DM16: 0.66 | DT16: 6.16 | EA16: 0.34 | EH16: 0 | EO16: 0 | EV16: 0.57018371 | FC16: 0.91018371
A17: 1.2 | F17: КЛ 6-10 кВ | Z17: 1.8 | AG17: 3.1 | AN17: 3.1 | AU17: 2.42 | BB17: 10.42 | BI17: 0.19 | BP17: 0 | BW17: 0.21 | CD17: 0.98092853 | CK17: 1.3809285 | CR17: 1.8 | CY17: 3.1 | DF17: 3.1 | DM17: 2.42 | DT17: 10.42 | EA17: 0.19 | EH17: 0 | EO17: 0.21 | EV17: 0.98092853 | FC17: 1.3809285
A18: 1.3 | F18: ВЛ 0,4 кВ | Z18: 0.85 | AG18: 7.3 | AN18: 7.4 | AU18: 3.2 | BB18: 18.75 | BP18: 0.15 | BW18: 0 | CD18: 0.67043719 | CK18: 0.82043719 | CR18: 0.85 | CY18: 7.3 | DF18: 7.4 | DM18: 3.2 | DT18: 18.75 | EA18: 0 | EH18: 0.15 | EO18: 0 | EV18: 0.67043719 | FC18: 0.82043719
A19: 1.4 | F19: ВЛ 6-10 кВ | Z19: - | AG19: 2.3 | AN19: 2.5 | AU19: 0.8 | BB19: 5.6 | BI19: 0.33 | BP19: 0 | BW19: 0 | CD19: 0 | CK19: 0.33 | CR19: - | CY19: 2.3 | DF19: 2.5 | DM19: 0.8 | DT19: 5.6 | EA19: 0.33 | EH19: 0 | EO19: 0 | EV19: 0 | FC19: 0.33
A20: 1.5 | F20: ТП, РП, ПС | Z20: 0 | AG20: 0 | AN20: 0 | AU20: 0 | BB20: 0 | CK20: 0 | CR20: 0 | CY20: 0 | DF20: 0 | DM20: 0 | DT20: - | EA20: 0 | EH20: 0 | EO20: 0 | EV20: 0 | FC20: 0
A21: 1.6 | F21: Силовые трансформаторы | Z21: 2 | AG21: 2.12 | AN21: 2 | AU21: 2.12 | BB21: 8.24 | CD21: 4.8 | CK21: 4.8 | CR21: 2 | CY21: 2.12 | DF21: 2 | DM21: 2.12 | DT21: 8.24 | EA21: 0 | EH21: 0 | EO21: 0 | EV21: 4.8 | FC21: 4.8
A22: 1.7 | F22: Новое строительство ТП, РП, РТП, ПС | Z22: - | AG22: 0.35971959 | AN22: 0.35971959 | AU22: - | BB22: 0.71943919 | CK22: 0 | CR22: - | CY22: 0.35971959 | DF22: 0.35971959 | DM22: - | DT22: -
A23: 1.8 | F23: Новое строительство КЛ 6-10кВ | Z23: - | AG23: 1 | AN23: 0.8 | AU23: - | BB23: 1.8 | CK23: 0 | CR23: - | CY23: 1 | DF23: 0.8 | DM23: - | DT23: -
A24: 2 | F24: Технологическое присоединение, МВт/км | BB24: 0 | BI24: 4/5,38 | BP24: 1,2/10,39 | BW24: 0,25/0,75 | CD24: 22,35/42,82 | CK24: 27,8/58,34 | CR24: 0 | CY24: 0 | DF24: 0 | DM24: 0 | DT24: 0
A30: Белоусов С.Н.
A31: 88712-54-00-24

Sheet 7.1 с НДС 
U1: Приложение № 7.1 к Приказу Минэнерго России от 24.03.2010 № 114
A2: Отчет об исполнении инвестиционной программы ГП ВО "Областные электротеплосети", млн. рублей с НДС (представляется ежеквартально)
W3: Утверждаю
U4: Директор ГП ВО "Областные электротеплосети"
U5: _________________А.А. Цветков
U6: "____"______________2016 года
W8: М.П.
A10: № | B10: Наименование объекта | C10: Остаток стоимости на начало года * | D10: Объем финансирования 2015 г. | N10: Освоено (закрыто актами выполнен- ных работ), млн. рублей | P10: Введено (оформлено актами ввода в эксплуатацию), млн. рублей | R10: Осталось профинанси- ровать по ре- зультатам отчетного периода * | S10: Отклонение *** | W10: Причины отклонений
D11: всего | F11: I кв. | H11: II кв. | J11: III кв. | L11: IV кв. | S11: млн. рублей | T11: % | U11: в том числе за счет
D12: план ** | E12: факт *** | F12: план | G12: факт | H12: план | I12: факт | J12: план | K12: факт | L12: план | M12: факт | N12: всего | O12: за отчетный квартал | P12: всего | Q12: за отчетный квартал | U12: уточнения стоимости по результатам утвержденной ПСД | V12: уточнения стоимости по результатам закупочных процедур
B13: ВСЕГО: | D13: 159.26047 | E13: 175.64785 | F13: 28.64981 | G13: 30.716076 | H13: 48.557885 | I13: 26.994714 | J13: 48.050485 | K13: 2.3954 | L13: 34.00229 | M13: 115.54166 | N13: 175.64785 | O13: 115.54166 | P13: 154.58637 | Q13: 88.658414 | R13: -16.387381 | S13: 81.539371 | T13: 239.80553 | U13: 0 | V13: 0
A14: 1 | B14: Техническое перевооружение и реконструкция | D14: 66.5756 | E14: 12.525843 | F14: 9.81111 | G14: 3.4117599 | H14: 20.71195 | I14: 4.1340694 | J14: 20.88895 | K14: 0 | L14: 15.16359 | M14: 4.9800134 | N14: 12.525843 | O14: 4.9800134 | P14: 7.7433667 | Q14: 5.4486695 | R14: 54.049757 | S14: -10.183577 | T14: -67.158084 | U14: 0 | V14: 0
A15: 1.1. | B15: Проектные работы по перевооружению и реконструкции | D15: 0 | E15: 0 | F15: 0 | G15: 0 | H15: 0 | I15: 0 | J15: 0 | K15: 0 | L15: 0 | M15: 0 | N15: 0 | O15: 0 | Q15: 0 | R15: 0 | S15: 0 | T15: 0
A16: 1.2. | B16: Кабельные линии 0,4 кВ. | D16: 6.5018 | E16: 1.2627231 | F16: 1.37116 | G16: 0.94338286 | H16: 2.2066 | I16: 0 | J16: 2.2066 | K16: 0 | L16: 0.71744 | M16: 0.31934025 | N16: 1.2627231 | O16: 0.31934025 | P16: 0.14411027 | Q16: 0.14411027 | R16: 5.2390769 | S16: -0.39809975 | T16: -55.488926 | U16: 0 | V16: 0
B17: КЛ-0,4 кВ «ТП 185 – ВРУ ж.д. Зосимовская,52» | D17: 0.31624 | E17: 0 | F17: 0.31624 | G17: 0 | H17: 0 | I17: 0 | J17: 0 | K17: 0 | L17: 0 | M17: 0 | N17: 0 | O17: 0 | Q17: 0 | R17: 0.31624 | S17: 0 | T17: 0
B18: КЛ-0,4 кВ «ТП 185 – ВРУ ж.д. Ветошкина,23» | D18: 0.31624 | E18: 0 | F18: 0.31624 | G18: 0 | H18: 0 | I18: 0 | J18: 0 | K18: 0 | L18: 0 | M18: 0 | N18: 0 | O18: 0 | Q18: 0 | R18: 0.31624 | S18: 0 | T18: 0
B19: КЛ-0,4 кВ «ТП 445 – ВРУ ж.д. Новгородская,9а» | D19: 0.21122 | E19: 0 | F19: 0.21122 | G19: 0 | H19: 0 | I19: 0 | J19: 0 | K19: 0 | L19: 0 | M19: 0 | N19: 0 | O19: 0 | Q19: 0 | R19: 0.21122 | S19: 0 | T19: 0
B20: КЛ-0,4 кВ «ТП 445 – ВРУ ж.д. Новгородская,9г» | D20: 0.52746 | E20: 0 | F20: 0.52746 | G20: 0 | H20: 0 | I20: 0 | J20: 0 | K20: 0 | L20: 0 | M20: 0 | N20: 0 | O20: 0 | Q20: 0 | R20: 0.52746 | S20: 0 | T20: 0
B21: КЛ-0,4 кВ «ТП 445 – ВРУ ж.д. Новгородская,9б» | D21: 0.58056 | E21: 0 | F21: 0 | G21: 0 | H21: 0.58056 | I21: 0 | J21: 0 | K21: 0 | L21: 0 | M21: 0 | N21: 0 | O21: 0 | Q21: 0 | R21: 0.58056 | S21: 0 | T21: 0
B22: КЛ-0,4 кВ «ТП 655 – ВРУ шк. Болонина, 32(уч.корпус)» | D22: 0.52746 | E22: 0 | F22: 0 | G22: 0 | H22: 0.52746 | I22: 0 | J22: 0 | K22: 0 | L22: 0 | M22: 0 | N22: 0 | O22: 0 | Q22: 0 | R22: 0.52746 | S22: 0 | T22: 0
B23: КЛ-0,4 кВ «ТП 655 – ВРУ шк. Болонина, 32(спорт.корпус)» | D23: 0.15812 | E23: 0 | F23: 0 | G23: 0 | H23: 0.15812 | I23: 0 | J23: 0 | K23: 0 | L23: 0 | M23: 0 | N23: 0 | O23: 0 | Q23: 0 | R23: 0.15812 | S23: 0 | T23: 0
B24: КЛ-0,4 кВ «ТП 655 – ВРУ шк. Болонина, 32(спал.корпус)» | D24: 0.3481 | E24: 0 | F24: 0 | G24: 0 | H24: 0.3481 | I24: 0 | J24: 0 | K24: 0 | L24: 0 | M24: 0 | N24: 0 | O24: 0 | Q24: 0 | R24: 0.3481 | S24: 0 | T24: 0
B25: КЛ-0,4 кВ «ТП 193 – ВРУ ж.д. Гагарина,53» | D25: 0.3481 | E25: 0 | F25: 0 | G25: 0 | H25: 0.3481 | I25: 0 | J25: 0 | K25: 0 | L25: 0 | M25: 0 | N25: 0 | O25: 0 | Q25: 0 | R25: 0.3481 | S25: 0 | T25: 0
B26: КЛ-0,4 кВ «ТП 106 – ВРУ ж.д. Козленская,127» | D26: 0.79178 | E26: 0 | F26: 0 | G26: 0 | H26: 0.24426 | I26: 0 | J26: 0.54752 | K26: 0 | L26: 0 | M26: 0 | N26: 0 | O26: 0 | Q26: 0 | R26: 0.79178 | S26: 0 | T26: 0
B27: КЛ-0,4 кВ «ТП 367 – ВРУ ж.д. Герцена,94» | D27: 0.52746 | E27: 0 | F27: 0 | G27: 0 | H27: 0 | I27: 0 | J27: 0.52746 | K27: 0 | L27: 0 | M27: 0 | N27: 0 | O27: 0 | Q27: 0 | R27: 0.52746 | S27: 0 | T27: 0
B28: КЛ-0,4 кВ «ТП 367 – ВРУ ж.д. Ветошкина,99» | D28: 0.42244 | E28: 0 | F28: 0 | G28: 0 | H28: 0 | I28: 0 | J28: 0.42244 | K28: 0 | L28: 0 | M28: 0 | N28: 0 | O28: 0 | Q28: 0 | R28: 0.42244 | S28: 0 | T28: 0
... B34: КЛ-0,4 кВ «ТП 422– ВРУ ж/д Советский пр., 131» | D34: 0.3186 | E34: 0 | F34: 0 | G34: 0 | H34: 0 | I34: 0 | J34: 0 | K34: 0 | L34: 0.3186 | M34: 0 | N34: 0 | O34: 0 | Q34: 0 | R34: 0.3186 | S34: -0.3186 | T34: -100
B35: КЛ 0,4 ТП217-ВРУ здания СТО Козленская | D35: 0 | E35: 0.94338286 | F35: 0 | G35: 0.94338286 | H35: 0 | I35: 0 | J35: 0 | K35: 0 | L35: 0 | M35: 0 | N35: 0.94338286 | O35: 0 | P35: 0 | Q35: 0 | R35: -0.94338286 | S35: 0 | T35: 0
B36: Вынос КЛ 0,4 кВ "ТП356 - админ.здание, ул.Герцена, 54" (ООО Соната) | D36: 0 | E36: 0.14411027 | F36: 0 | G36: 0 | H36: 0 | I36: 0 | J36: 0 | K36: 0 | L36: 0 | M36: 0.14411027 | N36: 0.14411027 | O36: 0.14411027 | P36: 0.14411027 | Q36: 0.14411027 | S36: 0.14411027 | T36: 0
B37: Переустройство ВЛ 0,4 кВ и прокладка КЛ 0,4 кВ от ТП-700 (многокв.жилой дом, Пречист.наб) | D37: 0 | E37: 0.17522998 | F37: 0 | G37: 0 | H37: 0 | I37: 0 | J37: 0 | K37: 0 | L37: 0 | M37: 0.17522998 | N37: 0.17522998 | O37: 0.17522998 | P37: 0 | Q37: 0 | S37: 0.17522998 | T37: 0
A38: 1.3. | B38: Кабельные линии 6-10 кВ. | D38: 25.8538 | E38: 3.9131107 | F38: 3.2804 | G38: 0.51887716 | H38: 7.6818 | I38: 1.123631 | J38: 7.6818 | K38: 0 | L38: 7.2098 | M38: 2.2706025 | N38: 3.9131107 | O38: 2.2706025 | P38: 2.538356 | Q38: 2.538356 | R38: 21.940689 | S38: -4.9391975 | T38: -68.50672 | U38: 0 | V38: 0 | W38: 0
B39: КЛ-6 кВ «ТП 13 – ТП149» | D39: 1.24018 | E39: 0 | F39: 1.24018 | G39: 0 | H39: 0 | I39: 0 | J39: 0 | K39: 0 | L39: 0 | M39: 0 | N39: 0 | O39: 0 | Q39: 0 | R39: 1.24018 | S39: 0 | T39: 0
B40: КЛ-6 кВ «ТП 22 – ТП303» | D40: 0.49678 | E40: 0 | F40: 0.49678 | G40: 0 | H40: 0 | I40: 0 | J40: 0 | K40: 0 | L40: 0 | M40: 0 | N40: 0 | O40: 0 | Q40: 0 | R40: 0.49678 | S40: 0 | T40: 0
B41: КЛ-6 кВ «ТП 27 – ТП63» | D41: 0.49678 | E41: 0 | F41: 0.49678 | G41: 0 | H41: 0 | I41: 0 | J41: 0 | K41: 0 | L41: 0 | M41: 0 | N41: 0 | O41: 0 | Q41: 0 | R41: 0.49678 | S41: 0 | T41: 0
B42: КЛ-6 кВ «ТП 32 – ТП2» | D42: 1.24018 | E42: 0 | F42: 1.04666 | G42: 0 | H42: 0.19352 | I42: 0 | J42: 0 | K42: 0 | L42: 0 | M42: 0 | N42: 0 | O42: 0 | Q42: 0 | R42: 1.24018 | S42: 0 | T42: 0
B43: КЛ-6 кВ «ТП 35 – ТП193» | D43: 1.3393 | E43: 0 | F43: 0 | G43: 0 | H43: 1.3393 | I43: 0 | J43: 0 | K43: 0 | L43: 0 | M43: 0 | N43: 0 | O43: 0 | Q43: 0 | R43: 1.3393 | S43: 0 | T43: 0
B44: КЛ-6 кВ «ТП 56 – ТП258» | D44: 0.5959 | E44: 0 | F44: 0 | G44: 0 | H44: 0.5959 | I44: 0 | J44: 0 | K44: 0 | L44: 0 | M44: 0 | N44: 0 | O44: 0 | Q44: 0 | R44: 0.5959 | S44: 0 | T44: 0
B45: КЛ-6 кВ «ТП 60 – ТП121» | D45: 0.79414 | E45: 0 | F45: 0 | G45: 0 | H45: 0.79414 | I45: 0 | J45: 0 | K45: 0 | L45: 0 | M45: 0 | N45: 0 | O45: 0 | Q45: 0 | R45: 0.79414 | S45: 0 | T45: 0
B46: КЛ-6 кВ «ТП 69 – ТП309» | D46: 0.57112 | E46: 0 | F46: 0 | G46: 0 | H46: 0.57112 | I46: 0 | J46: 0 | K46: 0 | L46: 0 | M46: 0 | N46: 0 | O46: 0 | Q46: 0 | R46: 0.57112 | S46: 0 | T46: 0
B47: КЛ-6 кВ «ТП 110 – ТП113» | D47: 0.69502 | E47: 0 | F47: 0 | G47: 0 | H47: 0.69502 | I47: 0 | J47: 0 | K47: 0 | L47: 0 | M47: 0 | N47: 0 | O47: 0 | Q47: 0 | R47: 0.69502 | S47: 0 | T47: 0
...

Sheet 7.2
AG1: Приложение № 7.2 к Приказу Минэнерго России от 24.03.2010 № 114
A3: Отчет об исполнении основных этапов работ по реализации инвестиционной программы ГП ВО "Облстные электротеплосети" за 2015 год
AJ4: Утверждаю
AF5: Директор ГП ВО "Областные электротеплосети"
AG6: _________________А.А. Цветков
AG7: "____"______________2016 года
A11: № | B11: Наименование объекта * | C11: Плановый объем финансирования, млн. руб. * | H11: Фактически профинансировано, млн. руб. | M11: Отклонение фактической стоимости работ по плановой стоимости, млн. руб. | R11: Фактически освоено (закрыто актами выполненных работ), млн. руб. | W11: Технические характеристики созданных объектов
W12: генерирующие объекты | AA12: подстанции | AE12: линии электропередачи | AJ12: иные объекты
B13: ВСЕГО | C13: всего | D13: ПИР | E13: СМР | F13: оборудо- вание и мате- риалы | G13: прочие | H13: всего | I13: ПИР | J13: СМР | K13: оборудо- вание и мате- риалы | L13: прочие | M13: всего | N13: ПИР | O13: СМР | P13: оборудо- вание и мате- риалы | Q13: прочие | R13: всего | S13: ПИР | T13: СМР | U13: оборудо- вание и мате- риалы | V13: прочие | W13: год ввода в эксплуа- тацию | X13: норма- тивный срок службы, лет | Y13: мощ- ность, МВт | Z13: тепловая энергия, Гкал/час | AA13: год ввода в эксплуа- тацию | AB13: норма- тивный срок службы, лет | AC13: коли- чество и марка силовых транс- формато- ров, шт. | AD13: мощ- ность, МВА | AE13: год ввода в эксплуа- тацию | AF13: норма- тивный срок службы, лет | AG13: тип опор | AH13: марка кабеля | AI13: протя- жен- ность, км
B14: ВСЕГО: | C14: 159.26047 | H14: 175.64785 | M14: 16.387381 | R14: 175.64785
A15: 1 | B15: Техническое перевооружение и реконструкция | C15: 66.5756 | H15: 12.525843 | M15: -54.049757 | R15: 12.525843
A16: 1.1. | B16: Проектные работы по перевооружению и реконструкции | C16: 0 | H16: 0 | M16: 0 | R16: 0
A17: 1.2. | B17: Кабельные линии 0,4 кВ. | C17: 6.5018 | H17: 1.2627231 | M17: -5.2390769 | R17: 1.2627231
B18: КЛ-0,4 кВ «ТП 185 – ВРУ ж.д. Зосимовская,52» | C18: 0.31624 | H18: 0 | M18: -0.31624 | R18: 0
B19: КЛ-0,4 кВ «ТП 185 – ВРУ ж.д. Ветошкина,23» | C19: 0.31624 | H19: 0 | M19: -0.31624 | R19: 0
B20: КЛ-0,4 кВ «ТП 445 – ВРУ ж.д. Новгородская,9а» | C20: 0.21122 | H20: 0 | M20: -0.21122 | R20: 0
B21: КЛ-0,4 кВ «ТП 445 – ВРУ ж.д. Новгородская,9г» | C21: 0.52746 | H21: 0 | M21: -0.52746 | R21: 0
B22: КЛ-0,4 кВ «ТП 445 – ВРУ ж.д. Новгородская,9б» | C22: 0.58056 | H22: 0 | M22: -0.58056 | R22: 0
B23: КЛ-0,4 кВ «ТП 655 – ВРУ шк. Болонина, 32(уч.корпус)» | C23: 0.52746 | H23: 0 | M23: -0.52746 | R23: 0
B24: КЛ-0,4 кВ «ТП 655 – ВРУ шк. Болонина, 32(спорт.корпус)» | C24: 0.15812 | H24: 0 | M24: -0.15812 | R24: 0
B25: КЛ-0,4 кВ «ТП 655 – ВРУ шк. Болонина, 32(спал.корпус)» | C25: 0.3481 | H25: 0 | M25: -0.3481 | R25: 0
B26: КЛ-0,4 кВ «ТП 193 – ВРУ ж.д. Гагарина,53» | C26: 0.3481 | H26: 0 | M26: -0.3481 | R26: 0
B27: КЛ-0,4 кВ «ТП 106 – ВРУ ж.д. Козленская,127» | C27: 0.79178 | H27: 0 | M27: -0.79178 | R27: 0
B28: КЛ-0,4 кВ «ТП 367 – ВРУ ж.д. Герцена,94» | C28: 0.52746 | H28: 0 | M28: -0.52746 | R28: 0
B29: КЛ-0,4 кВ «ТП 367 – ВРУ ж.д. Ветошкина,99» | C29: 0.42244 | H29: 0 | M29: -0.42244 | R29: 0
... B35: КЛ-0,4 кВ «ТП 422– ВРУ ж/д Советский пр., 131» | C35: 0.3186 | H35: 0 | M35: -0.3186 | R35: 0
B36: КЛ 0,4 ТП217-ВРУ здания СТО Козленская | C36: 0 | H36: 0.94338286 | M36: 0.94338286 | R36: 0.94338286 | AE36: 2015 | AF36: 25 | AH36: АВбБШв-1-4х70 | AI36: 0.34 | AK36: 2.7746555
B37: Вынос КЛ 0,4 кВ "ТП356 - админ.здание, ул.Герцена, 54" (ООО Соната) | C37: 0 | H37: 0.14411027 | M37: 0.14411027 | R37: 0.14411027 | AE37: 2015 | AF37: 25 | AH37: АВбБШв-1-4х71 | AI37: 0.25658267 | AK37: 0.5616524
B38: Переустройство ВЛ 0,4 кВ и прокладка КЛ 0,4 кВ от ТП-700 (многокв.жилой дом, Пречист.наб) | C38: 0 | H38: 0.17522998 | M38: 0.17522998 | R38: 0.17522998 | AE38: 2015 | AF38: 25 | AH38: АВбБШв-1-4х72 | AI38: 0.31360104 | AK38: 0.5587672
A39: 1.3. | B39: Кабельные линии 6-10 кВ. | C39: 25.8538 | H39: 3.9131107 | M39: -21.940689 | R39: 3.9131107
B40: КЛ-6 кВ «ТП 13 – ТП149» | C40: 1.24018 | H40: 0 | M40: -1.24018 | R40: 0
B41: КЛ-6 кВ «ТП 22 – ТП303» | C41: 0.49678 | H41: 0 | M41: -0.49678 | R41: 0
B42: КЛ-6 кВ «ТП 27 – ТП63» | C42: 0.49678 | H42: 0 | M42: -0.49678 | R42: 0
B43: КЛ-6 кВ «ТП 32 – ТП2» | C43: 1.24018 | H43: 0 | M43: -1.24018 | R43: 0
B44: КЛ-6 кВ «ТП 35 – ТП193» | C44: 1.3393 | H44: 0 | M44: -1.3393 | R44: 0
B45: КЛ-6 кВ «ТП 56 – ТП258» | C45: 0.5959 | H45: 0 | M45: -0.5959 | R45: 0
B46: КЛ-6 кВ «ТП 60 – ТП121» | C46: 0.79414 | H46: 0 | M46: -0.79414 | R46: 0
B47: КЛ-6 кВ «ТП 69 – ТП309» | C47: 0.57112 | H47: 0 | M47: -0.57112 | R47: 0
B48: КЛ-6 кВ «ТП 110 – ТП113» | C48: 0.69502 | H48: 0 | M48: -0.69502 | R48: 0
B49: КЛ-6 кВ «ТП 121 – ТП153» | C49: 0.74458 | H49: 0 | M49: -0.74458 | R49: 0
...

Sheet 8
EY1: Приложение № 8
EY2: к Приказу Минэнерго России
EY3: от 24.03.2010 № 114
A4: Отчет об источниках финансирования инвестиционных программ ГП ВО "Облстные электротеплосети" за 2015 год, млн. рублей с НДС
DR5: Утверждаю Директор ГП ВО "Областные электротеплосети"
DX6: ________________А.А. Цветков
DX7: "____"______________2016 года
EY8: М.П.
A10: № | G10: Источник финансирования | AO10: Объем финансирования [отчетный год] | EA10: Причины отклонений
AO11: всего | BG11: I кв. | BY11: II кв. | CQ11: III кв. | DI11: IV кв.
AO12: план * | AX12: факт ** | BG12: план | BP12: факт | BY12: план | CH12: факт | CQ12: план | CZ12: факт | DI12: план | DR12: факт
A13: 1 | G13: Собственные средства | AO13: 159.26047 | AX13: 175.64785 | BG13: 28.64981 | BP13: 30.716076 | BY13: 48.557885 | CH13: 26.994714 | CQ13: 48.050485 | CZ13: 2.3954 | DI13: 34.00229 | DR13: 115.54166
A14: 1.1. | G14: Прибыль, направляемая на инвестиции: | AO14: 0 | AX14: 0 | BG14: 0 | BP14: 0 | BY14: 0 | CH14: 0
A15: 1.1.1. | G15: в т.ч. инвестиционная составляющая в тарифе | AO15: 0 | AX15: 0
A16: 1.1.2. | G16: в т.ч. прибыль со свободного сектора | AO16: 0 | AX16: 0
A17: 1.1.3. | G17: в т.ч. выпадающие доходы в тарифе | AO17: 0 | AX17: 0 | DI17: 0
A18: 1.1.3.1. | G18: в т.ч. от технологического присоединения генерации | AO18: 0 | AX18: 0
A19: 1.1.3.2. | G19: в т.ч. от технологического присоединения потребителей | AO19: 0 | AX19: 0
A20: 1.1.4. | G20: Прочая прибыль | AO20: 0 | AX20: 0
A21: 1.2. | G21: Амортизация | AO21: 134.9665 | AX21: 118.37993 | BG21: 24.2795 | BP21: 17.930187 | BY21: 41.15075 | CH21: 18.216386 | CQ21: 40.72075 | CZ21: 2.03 | DI21: 28.8155 | DR21: 80.20336
A22: 1.2.1. | G22: Амортизация, учтенная в тарифе | AO22: 134.9665 | AX22: 118.37993 | BG22: 24.2795 | BP22: 17.930187 | BY22: 41.15075 | CH22: 18.216386 | CQ22: 40.72075 | CZ22: 2.03 | DI22: 28.8155 | DR22: 80.20336
A23: 1.2.2. | G23: Прочая амортизация | AO23: 0 | AX23: 0
A24: 1.2.3. | G24: Недоиспользованная амортизация прошлых лет | AO24: 0 | AX24: 0
A25: 1.3. | G25: Возврат НДС | AO25: 24.29397 | AX25: 26.79374 | BG25: 4.37031 | BP25: 4.6855031 | BY25: 7.407135 | CH25: 4.1178378 | CQ25: 7.329735 | CZ25: 0.3654 | DI25: 5.18679 | DR25: 17.624999
A26: 1.4. | G26: Прочие собственные средства (плата за технологическое присоединение потребителей) | AO26: 0 | AX26: 30.474179 | BG26: 0 | BP26: 8.1003862 | BY26: 0 | CH26: 4.6604903 | CQ26: 0 | DI26: 0 | DR26: 17.713302
A27: 1.4.1. | G27: в т.ч. средства допэмиссии
A28: 1.5. | G28: Остаток собственных средств на начало года
A29: 2. | G29: Привлеченные средства, в т.ч.:
A30: 2.1. | G30: Кредиты
A31: 2.2. | G31: Облигационные займы
A32: 2.3. | G32: Займы организаций
A33: 2.4. | G33: Бюджетное финансирование
A34: 2.5. | G34: Средства внешних инвесторов
A35: 2.6. | G35: Использование лизинга
A36: 2.7. | G36: Прочие привлеченные средства
G37: ВСЕГО источников финансирования
G38: для ОГК/ТГК, в том числе
G39: ДПМ
G40: вне ДПМ
B42: Панько Д.М.
...

Sheet 9
EI1: Приложение № 9 к Приказу Минэнерго России от 24.03.2010 № 114
A3: Отчет о вводах/выводах объектов ГП ВО "Областные электротеплосети" за 2015 год
EB4: Утверждаю Директор ГП ВО "Областные электротеплосети"
EH5: ________________А.А. Цветков
EH6: "____"______________2016 года
FI8: М.П.
A11: № | F11: Наименование проекта | Z11: Ввод мощностей | CR11: Вывод мощностей
Z12: план * | BI12: факт | CR12: план * | EA12: факт
Z13: МВт, Гкал/час, км, МВА | BI13: МВт, Гкал/час, км, МВА | CR13: МВт, Гкал/час, км, МВА | EA13: МВт, Гкал/час, км, МВА
Z14: I кв. | AG14: II кв. | AN14: III кв. | AU14: IV кв. | BB14: 2015 г. | BI14: I кв. | BP14: II кв. | BW14: III кв. | CD14: IV кв. | CK14: 2015 г. | CR14: I кв. | CY14: II кв. | DF14: III кв. | DM14: IV кв. | DT14: 2015 г. | EA14: I кв. | EH14: II кв. | EO14: III кв. | EV14: IV кв. | FC14: 2015 г.
A15: 1 | F15: 2 | Z15: 3 | AG15: 4 | AN15: 5 | AU15: 6 | BB15: 7 | BI15: 8 | BP15: 9 | BW15: 10 | CD15: 11 | CK15: 12 | CR15: 13 | CY15: 14 | DF15: 15 | DM15: 16 | DT15: 17 | EA15: 18 | EH15: 19 | EO15: 20 | EV15: 21 | FC15: 22
