Workbook

Sheet Содержание книги
B2: № листа | C2: Центр питания | D2: Электросетевой участок
B3: 1-7 | C3: ПС Абаканово | D3: ЭСУ "Череповец"
B4: 8 | C4: ПС Аксеново
B5: 9-11 | C5: ПС Батран
B6: 12-18 | C6: ПС Домозерово
B7: 19-24 | C7: ПС Енюково
B8: 25-32 | C8: ПС Загородная
B9: 33-36 | C9: ПС Ирдоматка
B10: 37-38 | C10: ПС Искра
B11: 39-41 | C11: ПС Климовская
B12: 42-54 | C12: ПС Малечкино
B13: 55-65 | C13: ПС Нелазское
B14: 66-70 | C14: ПС Новые углы
B15: 71-74 | C15: ПС Петринево
... B22: 98-110 | C22: МУП "Электросеть"
B23: 111-119 | D23: ЭСУ "Бабаево"
B24: 120-121 | C24: ПС Великое | D24: ЭСУ "Кадуй"
B25: 122 | C25: ПС Вешняки
B26: 123-130 | C26: ПС Кадуй
B27: 131-137 | C27: ПС Коротово
B28: 138-139 | C28: ПС Никольское
B29: 140-141 | C29: ПС Поселковая
B30: 142 | C30: ПС Суда
B31: 143-145 | C31: ПС Ягница
B32: 146-154 | C32: КВЛ-10 кВ
B33: 155-167 | D33: ЭСУ "Чагода"
B34: 168 | C34: ПС Газ | D34: ЭСУ "Шексна"
B35: 169 | C35: ПС Нестерово
B36: 170-171 | C36: ПС Нифантово
B37: 172 | C37: ПС Поток
B38: 173 | C38: РП-Ершово
B39: 174-179 | C39: РП-Пача
B40: 180-181 | C40: ПС Чаромское
B41: 182-189 | C41: ПС Чебсара
B42: 190-196 | C42: ПС Чуровское
B43: 197-199 | C43: ПС Шексна
B44: 200-208 | C44: КВЛ-10 кВ

Sheet 1
B1: АО "Вологдаоблэнерго" | J1: код 900151 | M1: ПС Абакаеово ф, Осеевская
B2: наименование предприятия | M2: наименование источника питания
M3: ТП-Лесопильных цех (д,Заручьевье)
B4: ул, Горького, 99 | I4: Таблица № 1
B5: адрес
A6: почасовых записей показаний электрических счетчиков
A7: ='42'!A7:O7 -> в режимный день 18 ДЕКАБРЯ 2024г.
A8: 1630 | B8: 1628
A9: часы суток | B9: Активная энергия | J9: Реактивная энергия
B10: =M3 -> ТП-Лесопильных цех (д,Заручьевье) | F10: =M4 -> 0 | J10: =B10 -> ТП-Лесопильных цех (д,Заручьевье) | M10: =F10 -> 0
B11: Расчет, Коэф, | E11: 30 | F11: Расчет, Коэф, | I11: 120 | J11: Расчет, Коэф, | L11: =E11 -> 30 | M11: Расчет, Коэф, | O11: =I11 -> 120
B12: показания счетчика | C12: разность | E12: расход эл,энергии за час | F12: показания счетчика | G12: разность | I12: расход эл,энергии за час | J12: показания счетчика | K12: разность | L12: расход эл,энергии за час | M12: показания счетчика | N12: разность | O12: расход эл,энергии за час
A13: 1 | B13: 2 | C13: 3 | E13: 4 | F13: 5 | G13: 6 | I13: 7 | J13: 8 | K13: 9 | L13: 10 | M13: 11 | N13: 12 | O13: 13
A14: 0 | E14: 0.4176 | I14: 0
A15: 1 | E15: 0.1872 | I15: 0
A16: 2 | E16: 0.1584 | I16: 0
A17: 3 | E17: 0.1584 | I17: 0
A18: 4 | E18: 0.144 | I18: 0
A19: 5 | E19: 0.144 | I19: 0
A20: 6 | E20: 0.4998 | I20: 0
A21: 7 | E21: 1.3965 | I21: 0
A22: 8 | E22: 11.0985 | I22: 0
A23: 9 | E23: 12.0393 | I23: 0
A24: 10 | E24: 9.5697 | I24: 0
A25: 11 | E25: 11.2896 | I25: 0
... A37: 23 | E37: 0.6534 | I37: 0
A38: 24
A39: Итого | E39: =SUM(E15:E38) -> 94.44675 | I39: =SUM(I15:I38) -> 0 | L39: =SUM(L15:L38) -> 0 | O39: =SUM(O15:O38) -> 0
A40: 1, При наличии на предприятии отклонений от нормальных режимов электропотребления (временное изменение схем питания, остановка на ремонт, резкое снижение
A41: эл,потребления и т,д,) последние необходимо перечислить,
A42: Главный инженер АО "Вологдаоблэнерго" А,В, Чурляев
A43: составляется самим предприятием с соблюдением всех пунктов настоящей таблицы,

Sheet 2
B1: АО "Вологдаоблэнерго" | J1: код 900151 | M1: ПС Абаканово, ф, Алексино
B2: наименование предприятия | M2: наименование источника питания
M3: ТП-Поселок (3,4 этажные дома)
B4: ул, Горького, 99 | I4: Таблица № 1 | M4: ТП-211
B5: адрес
A6: почасовых записей показаний электрических счетчиков
A7: ='42'!A7:O7 -> в режимный день 18 ДЕКАБРЯ 2024г.
A8: 1630 | B8: 1628
A9: часы суток | B9: Активная энергия | J9: Реактивная энергия
B10: =M3 -> ТП-Поселок (3,4 этажные дома) | F10: =M4 -> ТП-211 | J10: =B10 -> ТП-Поселок (3,4 этажные дома) | M10: =F10 -> ТП-211
B11: Расчет, Коэф, | E11: 50 | F11: Расчет, Коэф, | I11: 80 | J11: Расчет, Коэф, | L11: =E11 -> 50 | M11: Расчет, Коэф, | O11: =I11 -> 80
B12: показания счетчика | C12: разность | E12: расход эл,энергии за час | F12: показания счетчика | G12: разность | I12: расход эл,энергии за час | J12: показания счетчика | K12: разность | L12: расход эл,энергии за час | M12: показания счетчика | N12: разность | O12: расход эл,энергии за час
A13: 1 | B13: 2 | C13: 3 | E13: 4 | F13: 5 | G13: 6 | I13: 7 | J13: 8 | K13: 9 | L13: 10 | M13: 11 | N13: 12 | O13: 13
A14: 0 | E14: 43.248 | I14: 1.0584
A15: 1 | E15: 39.072 | I15: 1.568
A16: 2 | E16: 35.664 | I16: 0.9408
A17: 3 | E17: 34.464 | I17: 1.2936
A18: 4 | E18: 35.76 | I18: 1.176
A19: 5 | E19: 36.912 | I19: 0.7448
A20: 6 | E20: 46.06 | I20: 3.724
A21: 7 | E21: 46.55 | I21: 22.932
A22: 8 | E22: 49.833 | I22: 21.56
A23: 9 | E23: 58.555 | I23: 25.7152
A24: 10 | E24: 60.466 | I24: 29.0864
A25: 11 | E25: 57.281 | I25: 14.2296
... A37: 23 | E37: 61.38 | I37: 1.0192
A38: 24
A39: Итого | E39: =SUM(E15:E38) -> 1250.8285 | I39: =SUM(I15:I38) -> 188.7872 | L39: =SUM(L15:L38) -> 0 | O39: =SUM(O15:O38) -> 0
A40: 1, При наличии на предприятии отклонений от нормальных режимов электропотребления (временное изменение схем питания, остановка на ремонт, резкое снижение
A41: эл,потребления и т,д,) последние необходимо перечислить,
A42: Главный инженер АО "Вологдаоблэнерго" А,В, Чурляев
A43: составляется самим предприятием с соблюдением всех пунктов настоящей таблицы,

Sheet 3
B1: АО "Вологдаоблэнерго" | J1: код 900151 | M1: ПС Абаканово, ф, Алексино
B2: наименование предприятия | M2: наименование источника питания
M3: КТП "Мастерские" с, Абаканово
B4: ул, Горького, 99 | I4: Таблица № 1 | M4: ТП-242
B5: адрес
A6: почасовых записей показаний электрических счетчиков
A7: ='42'!A7:O7 -> в режимный день 18 ДЕКАБРЯ 2024г.
A8: 1630 | B8: 1628
A9: часы суток | B9: Активная энергия | J9: Реактивная энергия
B10: =M3 -> КТП "Мастерские" с, Абаканово | F10: =M4 -> ТП-242 | J10: =B10 -> КТП "Мастерские" с, Абаканово | M10: =F10 -> ТП-242
B11: Расчет, Коэф, | E11: 40 | F11: Расчет, Коэф, | I11: 30 | J11: Расчет, Коэф, | L11: =E11 -> 40 | M11: Расчет, Коэф, | O11: =I11 -> 30
B12: показания счетчика | C12: разность | E12: расход эл,энергии за час | F12: показания счетчика | G12: разность | I12: расход эл,энергии за час | J12: показания счетчика | K12: разность | L12: расход эл,энергии за час | M12: показания счетчика | N12: разность | O12: расход эл,энергии за час
A13: 1 | B13: 2 | C13: 3 | E13: 4 | F13: 5 | G13: 6 | I13: 7 | J13: 8 | K13: 9 | L13: 10 | M13: 11 | N13: 12 | O13: 13
A14: 0 | E14: 0 | I14: 1.3965
A15: 1 | E15: 0 | I15: 1.1025
A16: 2 | E16: 0 | I16: 1.0143
A17: 3 | E17: 0 | I17: 0.9261
A18: 4 | E18: 0 | I18: 1.0437
A19: 5 | E19: 0 | I19: 1.0143
A20: 6 | E20: 0 | I20: 1.3965
A21: 7 | E21: 0 | I21: 1.029
A22: 8 | E22: 0 | I22: 0.8379
A23: 9 | E23: 0 | I23: 1.0584
A24: 10 | E24: 0 | I24: 1.3671
A25: 11 | E25: 0 | I25: 2.2785
... A37: 23 | E37: 0 | I37: 2.0433
A38: 24
A39: Итого | E39: =SUM(E15:E38) -> 0 | I39: =SUM(I15:I38) -> 35.7945 | L39: =SUM(L15:L38) -> 0 | O39: =SUM(O15:O38) -> 0
A40: 1, При наличии на предприятии отклонений от нормальных режимов электропотребления (временное изменение схем питания, остановка на ремонт, резкое снижение
A41: эл,потребления и т,д,) последние необходимо перечислить,
A42: Главный инженер АО "Вологдаоблэнерго" А,В, Чурляев
A43: составляется самим предприятием с соблюдением всех пунктов настоящей таблицы,

Sheet 4
B1: АО "Вологдаоблэнерго" | J1: код 900151 | M1: ПС Абаканово, ф, Слабеево
B2: наименование предприятия | M2: наименование источника питания
M3: ТП-249
B4: ул, Горького, 99 | I4: Таблица № 1
B5: адрес
A6: почасовых записей показаний электрических счетчиков
A7: ='42'!A7:O7 -> в режимный день 18 ДЕКАБРЯ 2024г.
A8: 1630 | B8: 1628
A9: часы суток | B9: Активная энергия | J9: Реактивная энергия
B10: =M3 -> ТП-249 | F10: =M4 -> 0 | J10: =B10 -> ТП-249 | M10: =F10 -> 0
B11: Расчет, Коэф, | E11: 1 | F11: Расчет, Коэф, | I11: 120 | J11: Расчет, Коэф, | L11: =E11 -> 1 | M11: Расчет, Коэф, | O11: =I11 -> 120
B12: показания счетчика | C12: разность | E12: расход эл,энергии за час | F12: показания счетчика | G12: разность | I12: расход эл,энергии за час | J12: показания счетчика | K12: разность | L12: расход эл,энергии за час | M12: показания счетчика | N12: разность | O12: расход эл,энергии за час
A13: 1 | B13: 2 | C13: 3 | E13: 4 | F13: 5 | G13: 6 | I13: 7 | J13: 8 | K13: 9 | L13: 10 | M13: 11 | N13: 12 | O13: 13
A14: 0 | E14: 0 | I14: 0
A15: 1 | E15: 0 | I15: 0
A16: 2 | E16: 0 | I16: 0
A17: 3 | E17: 0 | I17: 0
A18: 4 | E18: 0 | I18: 0
A19: 5 | E19: 0 | I19: 0
A20: 6 | E20: 0 | I20: 0
A21: 7 | E21: 0 | I21: 0
A22: 8 | E22: 0 | I22: 0
A23: 9 | E23: 0 | I23: 0
A24: 10 | E24: 0 | I24: 0
A25: 11 | E25: 0 | I25: 0
... A37: 23 | E37: 0 | I37: 0
A38: 24
A39: Итого | E39: =SUM(E15:E38) -> 0 | I39: =SUM(I15:I38) -> 0 | L39: =SUM(L15:L38) -> 0 | O39: =SUM(O15:O38) -> 0
A40: 1, При наличии на предприятии отклонений от нормальных режимов электропотребления (временное изменение схем питания, остановка на ремонт, резкое снижение
A41: эл,потребления и т,д,) последние необходимо перечислить,
A42: Главный инженер АО "Вологдаоблэнерго" А,В, Чурляев
A43: составляется самим предприятием с соблюдением всех пунктов настоящей таблицы,

Sheet 5
B1: АО "Вологдаоблэнерго" | J1: код 900151 | M1: ПС Абаканово ф, Покров
B2: наименование предприятия | M2: наименование источника питания
M3: КТП Шухтовское Лесничество
B4: ул, Горького, 99 | I4: Таблица № 1
B5: адрес
A6: почасовых записей показаний электрических счетчиков
A7: ='42'!A7:O7 -> в режимный день 18 ДЕКАБРЯ 2024г.
A8: 1630 | B8: 1628
A9: часы суток | B9: Активная энергия | J9: Реактивная энергия
B10: =M3 -> КТП Шухтовское Лесничество | F10: =M4 -> 0 | J10: =B10 -> КТП Шухтовское Лесничество | M10: =F10 -> 0
B11: Расчет, Коэф, | E11: 30 | F11: Расчет, Коэф, | I11: 120 | J11: Расчет, Коэф, | L11: =E11 -> 30 | M11: Расчет, Коэф, | O11: =I11 -> 120
B12: показания счетчика | C12: разность | E12: расход эл,энергии за час | F12: показания счетчика | G12: разность | I12: расход эл,энергии за час | J12: показания счетчика | K12: разность | L12: расход эл,энергии за час | M12: показания счетчика | N12: разность | O12: расход эл,энергии за час
A13: 1 | B13: 2 | C13: 3 | E13: 4 | F13: 5 | G13: 6 | I13: 7 | J13: 8 | K13: 9 | L13: 10 | M13: 11 | N13: 12 | O13: 13
A14: 0 | E14: 8.256 | I14: 0
A15: 1 | E15: 8.5632 | I15: 0
A16: 2 | E16: 7.9104 | I16: 0
A17: 3 | E17: 9.1008 | I17: 0
A18: 4 | E18: 8.5248 | I18: 0
A19: 5 | E19: 8.0256 | I19: 0
A20: 6 | E20: 8.2712 | I20: 0
A21: 7 | E21: 9.0552 | I21: 0
A22: 8 | E22: 14.6216 | I22: 0
A23: 9 | E23: 19.0904 | I23: 0
A24: 10 | E24: 19.992 | I24: 0
A25: 11 | E25: 20.6192 | I25: 0
... A37: 23 | E37: 9.7812 | I37: 0
A38: 24
A39: Итого | E39: =SUM(E15:E38) -> 269.1304 | I39: =SUM(I15:I38) -> 0 | L39: =SUM(L15:L38) -> 0 | O39: =SUM(O15:O38) -> 0
A40: 1, При наличии на предприятии отклонений от нормальных режимов электропотребления (временное изменение схем питания, остановка на ремонт, резкое снижение
A41: эл,потребления и т,д,) последние необходимо перечислить,
A42: Главный инженер АО "Вологдаоблэнерго" А,В, Чурляев
A43: составляется самим предприятием с соблюдением всех пунктов настоящей таблицы,

Sheet 6
B1: АО "Вологдаоблэнерго" | J1: код 900151 | M1: ПС Абаканово, ф, Маслово
B2: наименование предприятия | M2: наименование источника питания
M3: ЦРП-Маслово
B4: ул, Горького, 99 | I4: Таблица № 1
B5: адрес
A6: почасовых записей показаний электрических счетчиков
A7: ='42'!A7:O7 -> в режимный день 18 ДЕКАБРЯ 2024г.
A8: 1630 | B8: 1628
A9: часы суток | B9: Активная энергия | J9: Реактивная энергия
B10: =M3 -> ЦРП-Маслово | F10: =M4 -> 0 | J10: =B10 -> ЦРП-Маслово | M10: =F10 -> 0
B11: Расчет, Коэф, | E11: 80 | F11: Расчет, Коэф, | I11: 120 | J11: Расчет, Коэф, | L11: =E11 -> 80 | M11: Расчет, Коэф, | O11: =I11 -> 120
B12: показания счетчика | C12: разность | E12: расход эл,энергии за час | F12: показания счетчика | G12: разность | I12: расход эл,энергии за час | J12: показания счетчика | K12: разность | L12: расход эл,энергии за час | M12: показания счетчика | N12: разность | O12: расход эл,энергии за час
A13: 1 | B13: 2 | C13: 3 | E13: 4 | F13: 5 | G13: 6 | I13: 7 | J13: 8 | K13: 9 | L13: 10 | M13: 11 | N13: 12 | O13: 13
A14: 0 | E14: 9.2544 | I14: 0
A15: 1 | E15: 7.872 | I15: 0
A16: 2 | E16: 7.1808 | I16: 0
A17: 3 | E17: 8.64 | I17: 0
A18: 4 | E18: 8.8704 | I18: 0
A19: 5 | E19: 7.7568 | I19: 0
A20: 6 | E20: 7.9968 | I20: 0
A21: 7 | E21: 7.9576 | I21: 0
A22: 8 | E22: 7.84 | I22: 0
A23: 9 | E23: 5.6056 | I23: 0
A24: 10 | E24: 5.5664 | I24: 0
A25: 11 | E25: 5.88 | I25: 0
... A37: 23 | E37: 8.91 | I37: 0
A38: 24
A39: Итого | E39: =SUM(E15:E38) -> 173.0948 | I39: =SUM(I15:I38) -> 0 | L39: =SUM(L15:L38) -> 0 | O39: =SUM(O15:O38) -> 0
A40: 1, При наличии на предприятии отклонений от нормальных режимов электропотребления (временное изменение схем питания, остановка на ремонт, резкое снижение
A41: эл,потребления и т,д,) последние необходимо перечислить,
A42: Главный инженер АО "Вологдаоблэнерго" А,В, Чурляев
A43: составляется самим предприятием с соблюдением всех пунктов настоящей таблицы,

Sheet 7
B1: АО "Вологдаоблэнерго" | J1: код 900151 | M1: ПС Абаканово, ф,Шухободь
B2: наименование предприятия | M2: наименование источника питания
M3: ТП-227
B4: ул, Горького, 99 | I4: Таблица № 1
B5: адрес
A6: почасовых записей показаний электрических счетчиков
A7: ='42'!A7:O7 -> в режимный день 18 ДЕКАБРЯ 2024г.
A8: 1630 | B8: 1628
A9: часы суток | B9: Активная энергия | J9: Реактивная энергия
B10: =M3 -> ТП-227 | F10: =M4 | J10: =B10 -> ТП-227 | M10: =F10
B11: Расчет, Коэф, | E11: 60 | F11: Расчет, Коэф, | I11: 120 | J11: Расчет, Коэф, | L11: =E11 -> 60 | M11: Расчет, Коэф, | O11: =I11 -> 120
B12: показания счетчика | C12: разность | E12: расход эл,энергии за час | F12: показания счетчика | G12: разность | I12: расход эл,энергии за час | J12: показания счетчика | K12: разность | L12: расход эл,энергии за час | M12: показания счетчика | N12: разность | O12: расход эл,энергии за час
A13: 1 | B13: 2 | C13: 3 | E13: 4 | F13: 5 | G13: 6 | I13: 7 | J13: 8 | K13: 9 | L13: 10 | M13: 11 | N13: 12 | O13: 13
A14: 0 | E14: 4.6224 | I14: 0
A15: 1 | E15: 3.3984 | I15: 0
A16: 2 | E16: 3.1968 | I16: 0
A17: 3 | E17: 3.1104 | I17: 0
A18: 4 | E18: 3.1824 | I18: 0
A19: 5 | E19: 3.1824 | I19: 0
A20: 6 | E20: 3.2487 | I20: 0
A21: 7 | E21: 3.0135 | I21: 0
A22: 8 | E22: 1.6317 | I22: 0
A23: 9 | E23: 1.2054 | I23: 0
A24: 10 | E24: 3.7926 | I24: 0
A25: 11 | E25: 3.675 | I25: 0
... A37: 23 | E37: 7.2468 | I37: 0
A38: 24
A39: Итого | E39: =SUM(E15:E38) -> 89.18775 | I39: =SUM(I15:I38) -> 0 | L39: =SUM(L15:L38) -> 0 | O39: =SUM(O15:O38) -> 0
A40: 1, При наличии на предприятии отклонений от нормальных режимов электропотребления (временное изменение схем питания, остановка на ремонт, резкое снижение
A41: эл,потребления и т,д,) последние необходимо перечислить,
A42: Главный инженер АО "Вологдаоблэнерго" А,В, Чурляев
A43: составляется самим предприятием с соблюдением всех пунктов настоящей таблицы,

Sheet 8
B1: АО "Вологдаоблэнерго" | J1: код 900151 | M1: ПС Аксеново ф, Шалимово
B2: наименование предприятия | M2: наименование источника питания
M3: ТП-23 В-1
B4: ул, Горького, 99 | I4: Таблица № 1 | M4: КТП-Очистные
B5: адрес
A6: почасовых записей показаний электрических счетчиков
A7: ='42'!A7:O7 -> в режимный день 18 ДЕКАБРЯ 2024г.
A8: 1630 | B8: 1628
A9: часы суток | B9: Активная энергия | J9: Реактивная энергия
B10: =M3 -> ТП-23 В-1 | F10: =M4 -> КТП-Очистные | J10: =B10 -> ТП-23 В-1 | M10: =F10 -> КТП-Очистные
B11: Расчет, Коэф, | E11: 120 | F11: Расчет, Коэф, | I11: 20 | J11: Расчет, Коэф, | L11: =E11 -> 120 | M11: Расчет, Коэф, | O11: =I11 -> 20
B12: показания счетчика | C12: разность | E12: расход эл,энергии за час | F12: показания счетчика | G12: разность | I12: расход эл,энергии за час | J12: показания счетчика | K12: разность | L12: расход эл,энергии за час | M12: показания счетчика | N12: разность | O12: расход эл,энергии за час
A13: 1 | B13: 2 | C13: 3 | E13: 4 | F13: 5 | G13: 6 | I13: 7 | J13: 8 | K13: 9 | L13: 10 | M13: 11 | N13: 12 | O13: 13
A14: 0 | E14: 8 | I14: 8.3104
A15: 1 | E15: 14.8608 | I15: 6.08384
A16: 2 | E16: 16.2432 | I16: 6.27984
A17: 3 | E17: 13.9392 | I17: 6.04464
A18: 4 | E18: 12.3264 | I18: 6.14656
A19: 5 | E19: 12.096 | I19: 6.5072
A20: 6 | E20: 12.348 | I20: 6.75024
A21: 7 | E21: 15.1704 | I21: 6.48368
A22: 8 | E22: 20.8152 | I22: 6.49152
A23: 9 | E23: 20.58 | I23: 6.06816
A24: 10 | E24: 17.9928 | I24: 6.30336
A25: 11 | E25: 21.756 | I25: 6.20928
... A37: 23 | E37: 21.978 | I37: 8.1536
A38: 24
A39: Итого | E39: =SUM(E15:E38) -> 417.7992 | I39: =SUM(I15:I38) -> 161.8176 | L39: =SUM(L15:L38) -> 0 | O39: =SUM(O15:O38) -> 0
A40: 1, При наличии на предприятии отклонений от нормальных режимов электропотребления (временное изменение схем питания, остановка на ремонт, резкое снижение
A41: эл,потребления и т,д,) последние необходимо перечислить,
A42: Главный инженер АО "Вологдаоблэнерго" А,В, Чурляев
A43: составляется самим предприятием с соблюдением всех пунктов настоящей таблицы,

Sheet 9
B1: АО "Вологдаоблэнерго" | J1: код 900151 | M1: ПС Батран, ф, Гоша
B2: наименование предприятия | M2: наименование источника питания
M3: ТП-72
B4: ул, Горького, 99 | I4: Таблица № 1 | M4: МТП Гоша-2
B5: адрес
A6: почасовых записей показаний электрических счетчиков
A7: ='42'!A7:O7 -> в режимный день 18 ДЕКАБРЯ 2024г.
A8: 1630 | B8: 1628
A9: часы суток | B9: Активная энергия | J9: Реактивная энергия
B10: =M3 -> ТП-72 | F10: =M4 -> МТП Гоша-2 | J10: =B10 -> ТП-72 | M10: =F10 -> МТП Гоша-2
B11: Расчет, Коэф, | E11: 50 | F11: Расчет, Коэф, | I11: 20 | J11: Расчет, Коэф, | L11: =E11 -> 50 | M11: Расчет, Коэф, | O11: =I11 -> 20
B12: показания счетчика | C12: разность | E12: расход эл,энергии за час | F12: показания счетчика | G12: разность | I12: расход эл,энергии за час | J12: показания счетчика | K12: разность | L12: расход эл,энергии за час | M12: показания счетчика | N12: разность | O12: расход эл,энергии за час
A13: 1 | B13: 2 | C13: 3 | E13: 4 | F13: 5 | G13: 6 | I13: 7 | J13: 8 | K13: 9 | L13: 10 | M13: 11 | N13: 12 | O13: 13
A14: 0 | E14: 5.952 | I14: 0
A15: 1 | E15: 2.52 | I15: 0
A16: 2 | E16: 4.56 | I16: 0
A17: 3 | E17: 4.968 | I17: 0
A18: 4 | E18: 4.68 | I18: 0
A19: 5 | E19: 2.736 | I19: 0
A20: 6 | E20: 2.646 | I20: 0
A21: 7 | E21: 3.185 | I21: 0
A22: 8 | E22: 3.381 | I22: 0
A23: 9 | E23: 4.361 | I23: 0
A24: 10 | E24: 5.0225 | I24: 0
A25: 11 | E25: 4.8755 | I25: 0
... A37: 23 | E37: 6.26175 | I37: 0
A38: 24
A39: Итого | E39: =SUM(E15:E38) -> 95.62275 | I39: =SUM(I15:I38) -> 0 | L39: =SUM(L15:L38) -> 0 | O39: =SUM(O15:O38) -> 0
A40: 1, При наличии на предприятии отклонений от нормальных режимов электропотребления (временное изменение схем питания, остановка на ремонт, резкое снижение
A41: эл,потребления и т,д,) последние необходимо перечислить,
A42: Главный инженер АО "Вологдаоблэнерго" А,В, Чурляев
A43: составляется самим предприятием с соблюдением всех пунктов настоящей таблицы,

Sheet 10
B1: АО "Вологдаоблэнерго" | J1: код 900151 | M1: ПС Батран, ф,Льнозавод
B2: наименование предприятия | M2: наименование источника питания
M3: КТП-Льнозавод
B4: ул, Горького, 99 | I4: Таблица № 1 | M4: КТП-Детский сад
B5: адрес
A6: почасовых записей показаний электрических счетчиков
A7: ='42'!A7:O7 -> в режимный день 18 ДЕКАБРЯ 2024г.
A8: 1630 | B8: 1628
A9: часы суток | B9: Активная энергия | J9: Реактивная энергия
B10: =M3 -> КТП-Льнозавод | F10: =M4 -> КТП-Детский сад | J10: =B10 -> КТП-Льнозавод | M10: =F10 -> КТП-Детский сад
B11: Расчет, Коэф, | E11: 120 | F11: Расчет, Коэф, | I11: 40 | J11: Расчет, Коэф, | L11: =E11 -> 120 | M11: Расчет, Коэф, | O11: =I11 -> 40
B12: показания счетчика | C12: разность | E12: расход эл,энергии за час | F12: показания счетчика | G12: разность | I12: расход эл,энергии за час | J12: показания счетчика | K12: разность | L12: расход эл,энергии за час | M12: показания счетчика | N12: разность | O12: расход эл,энергии за час
A13: 1 | B13: 2 | C13: 3 | E13: 4 | F13: 5 | G13: 6 | I13: 7 | J13: 8 | K13: 9 | L13: 10 | M13: 11 | N13: 12 | O13: 13
A14: 0 | E14: 0 | I14: 9.4276
A15: 1 | E15: 0 | I15: 6.0368
A16: 2 | E16: 0 | I16: 6.664
A17: 3 | E17: 0 | I17: 6.7816
A18: 4 | E18: 0 | I18: 5.5076
A19: 5 | E19: 0 | I19: 5.292
A20: 6 | E20: 0 | I20: 5.1548
A21: 7 | E21: 0 | I21: 6.6052
A22: 8 | E22: 0 | I22: 10.1136
A23: 9 | E23: 0 | I23: 9.7216
A24: 10 | E24: 0 | I24: 9.6824
A25: 11 | E25: 0 | I25: 10.3096
... A37: 23 | E37: 0 | I37: 12.9556
A38: 24
A39: Итого | E39: =SUM(E15:E38) -> 0 | I39: =SUM(I15:I38) -> 218.7164 | L39: =SUM(L15:L38) -> 0 | O39: =SUM(O15:O38) -> 0
A40: 1, При наличии на предприятии отклонений от нормальных режимов электропотребления (временное изменение схем питания, остановка на ремонт, резкое снижение
A41: эл,потребления и т,д,) последние необходимо перечислить,
A42: Главный инженер АО "Вологдаоблэнерго" А,В, Чурляев
A43: составляется самим предприятием с соблюдением всех пунктов настоящей таблицы,

Sheet 11
B1: АО "Вологдаоблэнерго" | J1: код 900151 | M1: ПС Батран, ф,Гоша
B2: наименование предприятия | M2: наименование источника питания
M3: КТП-ДНТ Ульяновский
B4: ул, Горького, 99 | I4: Таблица № 1
B5: адрес
A6: почасовых записей показаний электрических счетчиков
A7: ='42'!A7:O7 -> в режимный день 18 ДЕКАБРЯ 2024г.
A8: 1630 | B8: 1628
A9: часы суток | B9: Активная энергия | J9: Реактивная энергия
B10: =M3 -> КТП-ДНТ Ульяновский | F10: =M4 -> 0 | J10: =B10 -> КТП-ДНТ Ульяновский | M10: =F10 -> 0
B11: Расчет, Коэф, | E11: 60 | F11: Расчет, Коэф, | I11: 120 | J11: Расчет, Коэф, | L11: =E11 -> 60 | M11: Расчет, Коэф, | O11: =I11 -> 120
B12: показания счетчика | C12: разность | E12: расход эл,энергии за час | F12: показания счетчика | G12: разность | I12: расход эл,энергии за час | J12: показания счетчика | K12: разность | L12: расход эл,энергии за час | M12: показания счетчика | N12: разность | O12: расход эл,энергии за час
A13: 1 | B13: 2 | C13: 3 | E13: 4 | F13: 5 | G13: 6 | I13: 7 | J13: 8 | K13: 9 | L13: 10 | M13: 11 | N13: 12 | O13: 13
A14: 0 | E14: 1.0476 | I14: 0
A15: 1 | E15: 0.9894 | I15: 0
A16: 2 | E16: 1.0476 | I16: 0
A17: 3 | E17: 0.9894 | I17: 0
A18: 4 | E18: 0.9603 | I18: 0
A19: 5 | E19: 0.9894 | I19: 0
A20: 6 | E20: 0.873 | I20: 0
A21: 7 | E21: 1.4259 | I21: 0
A22: 8 | E22: 2.1243 | I22: 0
A23: 9 | E23: 2.2698 | I23: 0
A24: 10 | E24: 2.5317 | I24: 0
A25: 11 | E25: 2.2116 | I25: 0
... A37: 23 | E37: 1.0767 | I37: 0
A38: 24
A39: Итого | E39: =SUM(E15:E38) -> 39.3141 | I39: =SUM(I15:I38) -> 0 | L39: =SUM(L15:L38) -> 0 | O39: =SUM(O15:O38) -> 0
A40: 1, При наличии на предприятии отклонений от нормальных режимов электропотребления (временное изменение схем питания, остановка на ремонт, резкое снижение
A41: эл,потребления и т,д,) последние необходимо перечислить,
A42: Главный инженер АО "Вологдаоблэнерго" А,В, Чурляев
A43: составляется самим предприятием с соблюдением всех пунктов настоящей таблицы,

Sheet 12
B1: АО "Вологдаоблэнерго" | J1: код 900151 | M1: ПС Домозерово, ф,Дом-2
B2: наименование предприятия | M2: наименование источника питания
M3: ТП-Водозабор (встроен) В-1
B4: ул, Горького, 99 | I4: Таблица № 1 | M4: ТП-Водозабор (встроен) В-2
B5: адрес
A6: почасовых записей показаний электрических счетчиков
A7: ='42'!A7:O7 -> в режимный день 18 ДЕКАБРЯ 2024г.
A8: 1630 | B8: 1628
A9: часы суток | B9: Активная энергия | J9: Реактивная энергия
B10: =M3 -> ТП-Водозабор (встроен) В-1 | F10: =M4 -> ТП-Водозабор (встроен) В-2 | J10: =B10 -> ТП-Водозабор (встроен) В-1 | M10: =F10 -> ТП-Водозабор (встроен) В-2
B11: Расчет, Коэф, | E11: 20 | F11: Расчет, Коэф, | I11: 20 | J11: Расчет, Коэф, | L11: =E11 -> 20 | M11: Расчет, Коэф, | O11: =I11 -> 20
B12: показания счетчика | C12: разность | E12: расход эл,энергии за час | F12: показания счетчика | G12: разность | I12: расход эл,энергии за час | J12: показания счетчика | K12: разность | L12: расход эл,энергии за час | M12: показания счетчика | N12: разность | O12: расход эл,энергии за час
A13: 1 | B13: 2 | C13: 3 | E13: 4 | F13: 5 | G13: 6 | I13: 7 | J13: 8 | K13: 9 | L13: 10 | M13: 11 | N13: 12 | O13: 13
A14: 0 | E14: 0 | I14: 1.4798
A15: 1 | E15: 0 | I15: 1.4798
A16: 2 | E16: 0 | I16: 1.47
A17: 3 | E17: 0 | I17: 1.47
A18: 4 | E18: 0 | I18: 1.5386
A19: 5 | E19: 0 | I19: 1.4602
A20: 6 | E20: 0 | I20: 1.4504
A21: 7 | E21: 0 | I21: 3.0086
A22: 8 | E22: 0 | I22: 8.4868
A23: 9 | E23: 0 | I23: 8.428
A24: 10 | E24: 0 | I24: 8.477
A25: 11 | E25: 0 | I25: 8.3986
... A37: 23 | E37: 0 | I37: 1.4308
A38: 24
A39: Итого | E39: =SUM(E15:E38) -> 0 | I39: =SUM(I15:I38) -> 99.0388 | L39: =SUM(L15:L38) -> 0 | O39: =SUM(O15:O38) -> 0
A40: 1, При наличии на предприятии отклонений от нормальных режимов электропотребления (временное изменение схем питания, остановка на ремонт, резкое снижение
A41: эл,потребления и т,д,) последние необходимо перечислить,
A42: Главный инженер АО "Вологдаоблэнерго" А,В, Чурляев
A43: составляется самим предприятием с соблюдением всех пунктов настоящей таблицы,

Sheet 13
B1: АО "Вологдаоблэнерго" | J1: код 900151 | M1: ПС Домозерово, ф,Дом-2
B2: наименование предприятия | M2: наименование источника питания
M3: ТП-Школа ПС Домозерово В-1
B4: ул, Горького, 99 | I4: Таблица № 1 | M4: ТП-Школа ПС Домозерово В-2
B5: адрес
A6: почасовых записей показаний электрических счетчиков
A7: ='42'!A7:O7 -> в режимный день 18 ДЕКАБРЯ 2024г.
A8: 1630 | B8: 1628
A9: часы суток | B9: Активная энергия | J9: Реактивная энергия
B10: =M3 -> ТП-Школа ПС Домозерово В-1 | F10: =M4 -> ТП-Школа ПС Домозерово В-2 | J10: =B10 -> ТП-Школа ПС Домозерово В-1 | M10: =F10 -> ТП-Школа ПС Домозерово В-2
B11: Расчет, Коэф, | E11: 120 | F11: Расчет, Коэф, | I11: 120 | J11: Расчет, Коэф, | L11: =E11 -> 120 | M11: Расчет, Коэф, | O11: =I11 -> 120
B12: показания счетчика | C12: разность | E12: расход эл,энергии за час | F12: показания счетчика | G12: разность | I12: расход эл,энергии за час | J12: показания счетчика | K12: разность | L12: расход эл,энергии за час | M12: показания счетчика | N12: разность | O12: расход эл,энергии за час
A13: 1 | B13: 2 | C13: 3 | E13: 4 | F13: 5 | G13: 6 | I13: 7 | J13: 8 | K13: 9 | L13: 10 | M13: 11 | N13: 12 | O13: 13
A14: 0 | E14: 9.16992 | I14: 19.73328
A15: 1 | E15: 9.4464 | I15: 19.7568
A16: 2 | E16: 9.28512 | I16: 17.56944
A17: 3 | E17: 9.16992 | I17: 17.14608
A18: 4 | E18: 7.32672 | I18: 18.32208
A19: 5 | E19: 6.77376 | I19: 15.7584
A20: 6 | E20: 6.67968 | I20: 18.27504
A21: 7 | E21: 7.15008 | I21: 17.82816
A22: 8 | E22: 7.4088 | I22: 32.88096
A23: 9 | E23: 6.84432 | I23: 32.99856
A24: 10 | E24: 6.56208 | I24: 33.1632
A25: 11 | E25: 6.77376 | I25: 33.72768
... A37: 23 | E37: 8.60112 | I37: 21.68544
A38: 24
A39: Итого | E39: =SUM(E15:E38) -> 182.57112 | I39: =SUM(I15:I38) -> 595.71456 | L39: =SUM(L15:L38) -> 0 | O39: =SUM(O15:O38) -> 0
A40: 1, При наличии на предприятии отклонений от нормальных режимов электропотребления (временное изменение схем питания, остановка на ремонт, резкое снижение
A41: эл,потребления и т,д,) последние необходимо перечислить,
A42: Главный инженер АО "Вологдаоблэнерго" А,В, Чурляев
A43: составляется самим предприятием с соблюдением всех пунктов настоящей таблицы,

Sheet 14
B1: АО "Вологдаоблэнерго" | J1: код 900151 | M1: ПС Домозерово, ф,Дом-2
B2: наименование предприятия | M2: наименование источника питания
M3: КТП "Очистные" ПС Домозерово
B4: ул, Горького, 99 | I4: Таблица № 1 | M4: ТП "Детский сад" ПС Домозерово
B5: адрес
A6: почасовых записей показаний электрических счетчиков
A7: ='42'!A7:O7 -> в режимный день 18 ДЕКАБРЯ 2024г.
A8: 1630 | B8: 1628
A9: часы суток | B9: Активная энергия | J9: Реактивная энергия
B10: =M3 -> КТП "Очистные" ПС Домозерово | F10: =M4 -> ТП "Детский сад" ПС Домозерово | J10: =B10 -> КТП "Очистные" ПС Домозерово | M10: =F10 -> ТП "Детский сад" ПС Домозерово
B11: Расчет, Коэф, | E11: 60 | F11: Расчет, Коэф, | I11: 80 | J11: Расчет, Коэф, | L11: =E11 -> 60 | M11: Расчет, Коэф, | O11: =I11 -> 80
B12: показания счетчика | C12: разность | E12: расход эл,энергии за час | F12: показания счетчика | G12: разность | I12: расход эл,энергии за час | J12: показания счетчика | K12: разность | L12: расход эл,энергии за час | M12: показания счетчика | N12: разность | O12: расход эл,энергии за час
A13: 1 | B13: 2 | C13: 3 | E13: 4 | F13: 5 | G13: 6 | I13: 7 | J13: 8 | K13: 9 | L13: 10 | M13: 11 | N13: 12 | O13: 13
A14: 0 | E14: 0.33408 | I14: 25.5584
A15: 1 | E15: 0.36864 | I15: 19.5216
A16: 2 | E16: 0.31104 | I16: 19.1296
A17: 3 | E17: 0.26496 | I17: 17.0128
A18: 4 | E18: 0.29952 | I18: 16.2288
A19: 5 | E19: 0.288 | I19: 16.7776
A20: 6 | E20: 0.72912 | I20: 20.1488
A21: 7 | E21: 2.058 | I21: 26.1856
A22: 8 | E22: 1.09368 | I22: 29.0864
A23: 9 | E23: 0.98784 | I23: 29.792
A24: 10 | E24: 0.63504 | I24: 25.1664
A25: 11 | E25: 0.32928 | I25: 23.912
... A37: 23 | E37: 0.30888 | I37: 30.6544
A38: 24
A39: Итого | E39: =SUM(E15:E38) -> 18.79476 | I39: =SUM(I15:I38) -> 586.5104 | L39: =SUM(L15:L38) -> 0 | O39: =SUM(O15:O38) -> 0
A40: 1, При наличии на предприятии отклонений от нормальных режимов электропотребления (временное изменение схем питания, остановка на ремонт, резкое снижение
A41: эл,потребления и т,д,) последние необходимо перечислить,
A42: Главный инженер АО "Вологдаоблэнерго" А,В, Чурляев
A43: составляется самим предприятием с соблюдением всех пунктов настоящей таблицы,

Sheet 15
B1: АО "Вологдаоблэнерго" | J1: код 900151 | M1: ПС Домозерово, ф, Починок
B2: наименование предприятия | M2: наименование источника питания
M3: КТП-Коттеджи
B4: ул, Горького, 99 | I4: Таблица № 1 | M4: КТП-118 (Горизонт)
B5: адрес
A6: почасовых записей показаний электрических счетчиков
A7: ='42'!A7:O7 -> в режимный день 18 ДЕКАБРЯ 2024г.
A8: 1630 | B8: 1628
A9: часы суток | B9: Активная энергия | J9: Реактивная энергия
B10: =M3 -> КТП-Коттеджи | F10: =M4 -> КТП-118 (Горизонт) | J10: =B10 -> КТП-Коттеджи | M10: =F10 -> КТП-118 (Горизонт)
B11: Расчет, Коэф, | E11: 60 | F11: Расчет, Коэф, | I11: 80 | J11: Расчет, Коэф, | L11: =E11 -> 60 | M11: Расчет, Коэф, | O11: =I11 -> 80
B12: показания счетчика | C12: разность | E12: расход эл,энергии за час | F12: показания счетчика | G12: разность | I12: расход эл,энергии за час | J12: показания счетчика | K12: разность | L12: расход эл,энергии за час | M12: показания счетчика | N12: разность | O12: расход эл,энергии за час
A13: 1 | B13: 2 | C13: 3 | E13: 4 | F13: 5 | G13: 6 | I13: 7 | J13: 8 | K13: 9 | L13: 10 | M13: 11 | N13: 12 | O13: 13
A14: 0 | E14: 6.72768 | I14: 23.6768
A15: 1 | E15: 5.82912 | I15: 12.88896
A16: 2 | E16: 5.56416 | I16: 18.56512
A17: 3 | E17: 5.95584 | I17: 12.92032
A18: 4 | E18: 5.77152 | I18: 11.17984
A19: 5 | E19: 4.3776 | I19: 11.93248
A20: 6 | E20: 5.33904 | I20: 13.328
A21: 7 | E21: 5.92704 | I21: 17.20096
A22: 8 | E22: 6.75024 | I22: 14.31584
A23: 9 | E23: 6.86784 | I23: 24.304
A24: 10 | E24: 6.69144 | I24: 19.66272
A25: 11 | E25: 7.4676 | I25: 20.90144
... A37: 23 | E37: 6.7122 | I37: 20.57216
A38: 24
A39: Итого | E39: =SUM(E15:E38) -> 154.107 | I39: =SUM(I15:I38) -> 456.4448 | L39: =SUM(L15:L38) -> 0 | O39: =SUM(O15:O38) -> 0
A40: 1, При наличии на предприятии отклонений от нормальных режимов электропотребления (временное изменение схем питания, остановка на ремонт, резкое снижение
A41: эл,потребления и т,д,) последние необходимо перечислить,
A42: Главный инженер АО "Вологдаоблэнерго" А,В, Чурляев
A43: составляется самим предприятием с соблюдением всех пунктов настоящей таблицы,

Sheet 16
B1: АО "Вологдаоблэнерго" | J1: код 900151 | M1: ПС Домозерово, ф, Жары
B2: наименование предприятия | M2: наименование источника питания
M3: ТП-79
B4: ул, Горького, 99 | I4: Таблица № 1
B5: адрес
A6: почасовых записей показаний электрических счетчиков
A7: ='42'!A7:O7 -> в режимный день 18 ДЕКАБРЯ 2024г.
A8: 1630 | B8: 1628
A9: часы суток | B9: Активная энергия | J9: Реактивная энергия
B10: =M3 -> ТП-79 | F10: =M4 -> 0 | J10: =B10 -> ТП-79 | M10: =F10 -> 0
B11: Расчет, Коэф, | E11: 40 | F11: Расчет, Коэф, | I11: 120 | J11: Расчет, Коэф, | L11: =E11 -> 40 | M11: Расчет, Коэф, | O11: =I11 -> 120
B12: показания счетчика | C12: разность | E12: расход эл,энергии за час | F12: показания счетчика | G12: разность | I12: расход эл,энергии за час | J12: показания счетчика | K12: разность | L12: расход эл,энергии за час | M12: показания счетчика | N12: разность | O12: расход эл,энергии за час
A13: 1 | B13: 2 | C13: 3 | E13: 4 | F13: 5 | G13: 6 | I13: 7 | J13: 8 | K13: 9 | L13: 10 | M13: 11 | N13: 12 | O13: 13
A14: 0 | E14: 9.2736 | I14: 0
A15: 1 | E15: 5.9712 | I15: 0
A16: 2 | E16: 5.9328 | I16: 0
A17: 3 | E17: 5.9904 | I17: 0
A18: 4 | E18: 5.7984 | I18: 0
A19: 5 | E19: 6.0672 | I19: 0
A20: 6 | E20: 5.9584 | I20: 0
A21: 7 | E21: 5.5664 | I21: 0
A22: 8 | E22: 5.4292 | I22: 0
A23: 9 | E23: 5.2724 | I23: 0
A24: 10 | E24: 5.292 | I24: 0
A25: 11 | E25: 6.3112 | I25: 0
... A37: 23 | E37: 7.4052 | I37: 0
A38: 24
A39: Итого | E39: =SUM(E15:E38) -> 135.1558 | I39: =SUM(I15:I38) -> 0 | L39: =SUM(L15:L38) -> 0 | O39: =SUM(O15:O38) -> 0
A40: 1, При наличии на предприятии отклонений от нормальных режимов электропотребления (временное изменение схем питания, остановка на ремонт, резкое снижение
A41: эл,потребления и т,д,) последние необходимо перечислить,
A42: Главный инженер АО "Вологдаоблэнерго" А,В, Чурляев
A43: составляется самим предприятием с соблюдением всех пунктов настоящей таблицы,

Sheet 17
B1: АО "Вологдаоблэнерго" | K1: код 900151 | N1: ПС Домозерово, ф, Дом-2
B2: наименование предприятия | N2: наименование источника питания
N3: ТП-74
B4: ул, Горького, 99 | J4: Таблица № 1 | N4: ТП-СЗМК-2(не баланс)
B5: адрес
A6: почасовых записей показаний электрических счетчиков
A7: ='42'!A7:O7 -> в режимный день 18 ДЕКАБРЯ 2024г.
A8: 1630 | B8: 1628
A9: часы суток | B9: Активная энергия | K9: Реактивная энергия
B10: =N3 -> ТП-74 | F10: =N4 -> ТП-СЗМК-2(не баланс) | K10: =B10 -> ТП-74 | N10: =F10 -> ТП-СЗМК-2(не баланс)
B11: Расчет, Коэф, | E11: 120 | F11: Расчет, Коэф, | J11: 200 | K11: Расчет, Коэф, | M11: =E11 -> 120 | N11: Расчет, Коэф, | P11: =J11 -> 200
B12: показания счетчика | C12: разность | E12: расход эл,энергии за час | F12: показания счетчика | G12: разность | J12: расход эл,энергии за час | K12: показания счетчика | L12: разность | M12: расход эл,энергии за час | N12: показания счетчика | O12: разность | P12: расход эл,энергии за час
A13: 1 | B13: 2 | C13: 3 | E13: 4 | F13: 5 | G13: 6 | J13: 7 | K13: 8 | L13: 9 | M13: 10 | N13: 11 | O13: 12 | P13: 13
A14: 0 | E14: 29.58888 | I14: 0 | J14: 0
A15: 1 | E15: 31.56768 | I15: 0 | J15: 0.3
A16: 2 | E16: 28.93704 | I16: 0 | J16: 0.3
A17: 3 | E17: 30.24072 | I17: 0 | J17: 0.3
A18: 4 | E18: 29.12328 | I18: 0 | J18: 0.2
A19: 5 | E19: 29.89152 | I19: 0 | J19: 0
A20: 6 | E20: 28.00584 | I20: 0 | J20: 0
A21: 7 | E21: 27.63336 | I21: 0 | J21: 0.5
A22: 8 | E22: 28.42488 | I22: 0 | J22: 1
A23: 9 | E23: 49.07424 | I23: 0 | J23: 1
A24: 10 | E24: 64.06656 | I24: 0 | J24: 1
A25: 11 | E25: 56.98944 | I25: 0 | J25: 1.1
... A37: 23 | E37: 30.56664 | I37: 0 | J37: 0
A38: 24
A39: Итого | E39: =SUM(E15:E38) -> 917.48808 | J39: =SUM(J15:J38) -> 8.6 | M39: =SUM(M15:M38) -> 0 | P39: =SUM(P15:P38) -> 0
A40: 1, При наличии на предприятии отклонений от нормальных режимов электропотребления (временное изменение схем питания, остановка на ремонт, резкое снижение
A41: эл,потребления и т,д,) последние необходимо перечислить,
A42: Главный инженер АО "Вологдаоблэнерго" А,В, Чурляев
A43: составляется самим предприятием с соблюдением всех пунктов настоящей таблицы,

Sheet 18
B1: АО "Вологдаоблэнерго" | J1: код 900151 | M1: ПС Домозерово, ф, Починок
B2: наименование предприятия | M2: наименование источника питания
M3: КТП-Бомк
B4: ул, Горького, 99 | I4: Таблица № 1
B5: адрес
A6: почасовых записей показаний электрических счетчиков
A7: ='42'!A7:O7 -> в режимный день 18 ДЕКАБРЯ 2024г.
A8: 1630 | B8: 1628
A9: часы суток | B9: Активная энергия | J9: Реактивная энергия
B10: =M3 -> КТП-Бомк | F10: =M4 -> 0 | J10: =B10 -> КТП-Бомк | M10: =F10 -> 0
B11: Расчет, Коэф, | E11: 80 | F11: Расчет, Коэф, | I11: 120 | J11: Расчет, Коэф, | L11: =E11 -> 80 | M11: Расчет, Коэф, | O11: =I11 -> 120
B12: показания счетчика | C12: разность | E12: расход эл,энергии за час | F12: показания счетчика | G12: разность | I12: расход эл,энергии за час | J12: показания счетчика | K12: разность | L12: расход эл,энергии за час | M12: показания счетчика | N12: разность | O12: расход эл,энергии за час
A13: 1 | B13: 2 | C13: 3 | E13: 4 | F13: 5 | G13: 6 | I13: 7 | J13: 8 | K13: 9 | L13: 10 | M13: 11 | N13: 12 | O13: 13
A14: 0 | E14: 29.11552 | I14: 0
A15: 1 | E15: 21.89872 | I15: 0
A16: 2 | E16: 18.04976 | I16: 0
A17: 3 | E17: 17.21168 | I17: 0
A18: 4 | E18: 15.7528 | I18: 0
A19: 5 | E19: 17.97216 | I19: 0
A20: 6 | E20: 21.68144 | I20: 0
A21: 7 | E21: 19.50864 | I21: 0
A22: 8 | E22: 25.23552 | I22: 0
A23: 9 | E23: 29.84496 | I23: 0
A24: 10 | E24: 34.09744 | I24: 0
A25: 11 | E25: 34.25264 | I25: 0
... A37: 23 | E37: 37.68256 | I37: 0
A38: 24
A39: Итого | E39: =SUM(E15:E38) -> 716.7136 | I39: =SUM(I15:I38) -> 0 | L39: =SUM(L15:L38) -> 0 | O39: =SUM(O15:O38) -> 0
A40: 1, При наличии на предприятии отклонений от нормальных режимов электропотребления (временное изменение схем питания, остановка на ремонт, резкое снижение
A41: эл,потребления и т,д,) последние необходимо перечислить,
A42: Главный инженер АО "Вологдаоблэнерго" А,В, Чурляев
A43: составляется самим предприятием с соблюдением всех пунктов настоящей таблицы,

Sheet 19
B1: АО "Вологдаоблэнерго" | J1: код 900151 | M1: ПС Енюково, ф,Борисово
B2: наименование предприятия | M2: наименование источника питания
M3: ТП-Ферма Фенево В-1
B4: ул, Горького, 99 | I4: Таблица № 1 | M4: ТП-Ферма Фенево В-2
B5: адрес
A6: почасовых записей показаний электрических счетчиков
A7: ='42'!A7:O7 -> в режимный день 18 ДЕКАБРЯ 2024г.
A8: 1630 | B8: 1628
A9: часы суток | B9: Активная энергия | J9: Реактивная энергия
B10: =M3 -> ТП-Ферма Фенево В-1 | F10: =M4 -> ТП-Ферма Фенево В-2 | J10: =B10 -> ТП-Ферма Фенево В-1 | M10: =F10 -> ТП-Ферма Фенево В-2
B11: Расчет, Коэф, | E11: 200 | F11: Расчет, Коэф, | I11: 200 | J11: Расчет, Коэф, | L11: =E11 -> 200 | M11: Расчет, Коэф, | O11: =I11 -> 200
B12: показания счетчика | C12: разность | E12: расход эл,энергии за час | F12: показания счетчика | G12: разность | I12: расход эл,энергии за час | J12: показания счетчика | K12: разность | L12: расход эл,энергии за час | M12: показания счетчика | N12: разность | O12: расход эл,энергии за час
A13: 1 | B13: 2 | C13: 3 | E13: 4 | F13: 5 | G13: 6 | I13: 7 | J13: 8 | K13: 9 | L13: 10 | M13: 11 | N13: 12 | O13: 13
A14: 0 | E14: 17.46 | I14: 8.722
A15: 1 | E15: 12.222 | I15: 9.31
A16: 2 | E16: 11.834 | I16: 17.444
A17: 3 | E17: 12.513 | I17: 38.71
A18: 4 | E18: 12.028 | I18: 67.228
A19: 5 | E19: 29.294 | I19: 71.148
A20: 6 | E20: 28.809 | I20: 61.054
A21: 7 | E21: 27.548 | I21: 29.204
A22: 8 | E22: 25.317 | I22: 33.712
A23: 9 | E23: 23.668 | I23: 42.14
A24: 10 | E24: 28.324 | I24: 32.438
A25: 11 | E25: 24.638 | I25: 21.462
... A37: 23 | E37: 27.063 | I37: 8.232
A38: 24
A39: Итого | E39: =SUM(E15:E38) -> 583.94 | I39: =SUM(I15:I38) -> 816.438 | L39: =SUM(L15:L38) -> 0 | O39: =SUM(O15:O38) -> 0
A40: 1, При наличии на предприятии отклонений от нормальных режимов электропотребления (временное изменение схем питания, остановка на ремонт, резкое снижение
A41: эл,потребления и т,д,) последние необходимо перечислить,
A42: Главный инженер АО "Вологдаоблэнерго" А,В, Чурляев
A43: составляется самим предприятием с соблюдением всех пунктов настоящей таблицы,

Sheet 20
B1: АО "Вологдаоблэнерго" | J1: код 900151 | M1: ПС Енюково, ф, Яганово
B2: наименование предприятия | M2: наименование источника питания
M3: КТП-КЗС-2
B4: ул, Горького, 99 | I4: Таблица № 1
B5: адрес
A6: почасовых записей показаний электрических счетчиков
A7: ='42'!A7:O7 -> в режимный день 18 ДЕКАБРЯ 2024г.
A8: 1630 | B8: 1628
A9: часы суток | B9: Активная энергия | J9: Реактивная энергия
B10: =M3 -> КТП-КЗС-2 | F10: =M4 -> 0 | J10: =B10 -> КТП-КЗС-2 | M10: =F10 -> 0
B11: Расчет, Коэф, | E11: 80 | F11: Расчет, Коэф, | I11: 120 | J11: Расчет, Коэф, | L11: =E11 -> 80 | M11: Расчет, Коэф, | O11: =I11 -> 120
B12: показания счетчика | C12: разность | E12: расход эл,энергии за час | F12: показания счетчика | G12: разность | I12: расход эл,энергии за час | J12: показания счетчика | K12: разность | L12: расход эл,энергии за час | M12: показания счетчика | N12: разность | O12: расход эл,энергии за час
A13: 1 | B13: 2 | C13: 3 | E13: 4 | F13: 5 | G13: 6 | I13: 7 | J13: 8 | K13: 9 | L13: 10 | M13: 11 | N13: 12 | O13: 13
A14: 0 | E14: 3.8412 | I14: 0
A15: 1 | E15: 3.8412 | I15: 0
A16: 2 | E16: 3.7636 | I16: 0
A17: 3 | E17: 3.6084 | I17: 0
A18: 4 | E18: 3.7248 | I18: 0
A19: 5 | E19: 3.7248 | I19: 0
A20: 6 | E20: 3.7636 | I20: 0
A21: 7 | E21: 3.9964 | I21: 0
A22: 8 | E22: 3.9188 | I22: 0
A23: 9 | E23: 4.7724 | I23: 0
A24: 10 | E24: 4.3456 | I24: 0
A25: 11 | E25: 4.3068 | I25: 0
... A37: 23 | E37: 4.1904 | I37: 0
A38: 24
A39: Итого | E39: =SUM(E15:E38) -> 97.9312 | I39: =SUM(I15:I38) -> 0 | L39: =SUM(L15:L38) -> 0 | O39: =SUM(O15:O38) -> 0
A40: 1, При наличии на предприятии отклонений от нормальных режимов электропотребления (временное изменение схем питания, остановка на ремонт, резкое снижение
A41: эл,потребления и т,д,) последние необходимо перечислить,
A42: Главный инженер АО "Вологдаоблэнерго" А,В, Чурляев
A43: составляется самим предприятием с соблюдением всех пунктов настоящей таблицы,

Sheet 21
B1: АО "Вологдаоблэнерго" | J1: код 900151 | M1: ПС Енюково ф, Соболево
B2: наименование предприятия | M2: наименование источника питания
M3: ТП-323
B4: ул, Горького, 99 | I4: Таблица № 1
B5: адрес
A6: почасовых записей показаний электрических счетчиков
A7: ='42'!A7:O7 -> в режимный день 18 ДЕКАБРЯ 2024г.
A8: 1630 | B8: 1628
A9: часы суток | B9: Активная энергия | J9: Реактивная энергия
B10: =M3 -> ТП-323 | F10: =M4 -> 0 | J10: =B10 -> ТП-323 | M10: =F10 -> 0
B11: Расчет, Коэф, | E11: 20 | F11: Расчет, Коэф, | I11: 120 | J11: Расчет, Коэф, | L11: =E11 -> 20 | M11: Расчет, Коэф, | O11: =I11 -> 120
B12: показания счетчика | C12: разность | E12: расход эл,энергии за час | F12: показания счетчика | G12: разность | I12: расход эл,энергии за час | J12: показания счетчика | K12: разность | L12: расход эл,энергии за час | M12: показания счетчика | N12: разность | O12: расход эл,энергии за час
A13: 1 | B13: 2 | C13: 3 | E13: 4 | F13: 5 | G13: 6 | I13: 7 | J13: 8 | K13: 9 | L13: 10 | M13: 11 | N13: 12 | O13: 13
A14: 0 | E14: 3.8509 | I14: 0
A15: 1 | E15: 4.0546 | I15: 0
A16: 2 | E16: 4.0546 | I16: 0
A17: 3 | E17: 4.0255 | I17: 0
A18: 4 | E18: 4.0061 | I18: 0
A19: 5 | E19: 4.0158 | I19: 0
A20: 6 | E20: 3.977 | I20: 0
A21: 7 | E21: 0.776 | I21: 0
A22: 8 | E22: 1.7169 | I22: 0
A23: 9 | E23: 4.6463 | I23: 0
A24: 10 | E24: 4.3553 | I24: 0
A25: 11 | E25: 4.5202 | I25: 0
... A37: 23 | E37: 3.8606 | I37: 0
A38: 24
A39: Итого | E39: =SUM(E15:E38) -> 85.8741 | I39: =SUM(I15:I38) -> 0 | L39: =SUM(L15:L38) -> 0 | O39: =SUM(O15:O38) -> 0
A40: 1, При наличии на предприятии отклонений от нормальных режимов электропотребления (временное изменение схем питания, остановка на ремонт, резкое снижение
A41: эл,потребления и т,д,) последние необходимо перечислить,
A42: Главный инженер АО "Вологдаоблэнерго" А,В, Чурляев
A43: составляется самим предприятием с соблюдением всех пунктов настоящей таблицы,

Sheet 22
B1: АО "Вологдаоблэнерго" | J1: код 900151 | M1: ПС Енюково, ф, Ботово
B2: наименование предприятия | M2: наименование источника питания
M3: ТП-Новое Ботово
B4: ул, Горького, 99 | I4: Таблица № 1 | M4: КТП- д,Ботово
B5: адрес
A6: почасовых записей показаний электрических счетчиков
A7: ='42'!A7:O7 -> в режимный день 18 ДЕКАБРЯ 2024г.
A8: 1630 | B8: 1628
A9: часы суток | B9: Активная энергия | J9: Реактивная энергия
B10: =M3 -> ТП-Новое Ботово | F10: =M4 -> КТП- д,Ботово | J10: =B10 -> ТП-Новое Ботово | M10: =F10 -> КТП- д,Ботово
B11: Расчет, Коэф, | E11: 40 | F11: Расчет, Коэф, | I11: 40 | J11: Расчет, Коэф, | L11: =E11 -> 40 | M11: Расчет, Коэф, | O11: =I11 -> 40
B12: показания счетчика | C12: разность | E12: расход эл,энергии за час | F12: показания счетчика | G12: разность | I12: расход эл,энергии за час | J12: показания счетчика | K12: разность | L12: расход эл,энергии за час | M12: показания счетчика | N12: разность | O12: расход эл,энергии за час
A13: 1 | B13: 2 | C13: 3 | E13: 4 | F13: 5 | G13: 6 | I13: 7 | J13: 8 | K13: 9 | L13: 10 | M13: 11 | N13: 12 | O13: 13
A14: 0 | E14: 6.1304 | I14: 10.6281
A15: 1 | E15: 5.335 | I15: 8.2467
A16: 2 | E16: 3.9382 | I16: 7.2765
A17: 3 | E17: 1.7848 | I17: 4.1895
A18: 4 | E18: 1.9206 | I18: 4.2189
A19: 5 | E19: 1.552 | I19: 4.0572
A20: 6 | E20: 1.3192 | I20: 3.3075
A21: 7 | E21: 2.7548 | I21: 4.4541
A22: 8 | E22: 3.8994 | I22: 6.2034
A23: 9 | E23: 3.9964 | I23: 9.8343
A24: 10 | E24: 2.5802 | I24: 11.8776
A25: 11 | E25: 1.1834 | I25: 12.5538
... A37: 23 | E37: 3.8412 | I37: 7.938
A38: 24
A39: Итого | E39: =SUM(E15:E38) -> 66.7166 | I39: =SUM(I15:I38) -> 207.4905 | L39: =SUM(L15:L38) -> 0 | O39: =SUM(O15:O38) -> 0
A40: 1, При наличии на предприятии отклонений от нормальных режимов электропотребления (временное изменение схем питания, остановка на ремонт, резкое снижение
A41: эл,потребления и т,д,) последние необходимо перечислить,
A42: Главный инженер АО "Вологдаоблэнерго" А,В, Чурляев
A43: составляется самим предприятием с соблюдением всех пунктов настоящей таблицы,

Sheet 23
B1: АО "Вологдаоблэнерго" | J1: код 900151 | M1: ПС Енюково, ф, Борисово
B2: наименование предприятия | M2: наименование источника питания
M3: КТП-100 АЗС №43
B4: ул, Горького, 99 | I4: Таблица № 1
B5: адрес
A6: почасовых записей показаний электрических счетчиков
A7: ='42'!A7:O7 -> в режимный день 18 ДЕКАБРЯ 2024г.
A8: 1630 | B8: 1628
A9: часы суток | B9: Активная энергия | J9: Реактивная энергия
B10: =M3 -> КТП-100 АЗС №43 | F10: =M4 -> 0 | J10: =B10 -> КТП-100 АЗС №43 | M10: =F10 -> 0
B11: Расчет, Коэф, | E11: 30 | F11: Расчет, Коэф, | I11: 40 | J11: Расчет, Коэф, | L11: =E11 -> 30 | M11: Расчет, Коэф, | O11: =I11 -> 40
B12: показания счетчика | C12: разность | E12: расход эл,энергии за час | F12: показания счетчика | G12: разность | I12: расход эл,энергии за час | J12: показания счетчика | K12: разность | L12: расход эл,энергии за час | M12: показания счетчика | N12: разность | O12: расход эл,энергии за час
A13: 1 | B13: 2 | C13: 3 | E13: 4 | F13: 5 | G13: 6 | I13: 7 | J13: 8 | K13: 9 | L13: 10 | M13: 11 | N13: 12 | O13: 13
A14: 0 | E14: 11.47122 | I14: 0
A15: 1 | E15: 11.25588 | I15: 0
A16: 2 | E16: 10.80774 | I16: 0
A17: 3 | E17: 12.83892 | I17: 0
A18: 4 | E18: 12.29766 | I18: 0
A19: 5 | E19: 8.91624 | I19: 0
A20: 6 | E20: 4.87134 | I20: 0
A21: 7 | E21: 6.76866 | I21: 0
A22: 8 | E22: 7.93266 | I22: 0
A23: 9 | E23: 7.89774 | I23: 0
A24: 10 | E24: 8.07816 | I24: 0
A25: 11 | E25: 7.48452 | I25: 0
... A37: 23 | E37: 10.87176 | I37: 0
A38: 24
A39: Итого | E39: =SUM(E15:E38) -> 179.96022 | I39: =SUM(I15:I38) -> 0 | L39: =SUM(L15:L38) -> 0 | O39: =SUM(O15:O38) -> 0
A40: 1, При наличии на предприятии отклонений от нормальных режимов электропотребления (временное изменение схем питания, остановка на ремонт, резкое снижение
A41: эл,потребления и т,д,) последние необходимо перечислить,
A42: Главный инженер АО "Вологдаоблэнерго" А,В, Чурляев
A43: составляется самим предприятием с соблюдением всех пунктов настоящей таблицы,

Sheet 24
B1: АО "Вологдаоблэнерго" | J1: код 900151 | M1: ПС Енюково, ф, Борисово
B2: наименование предприятия | M2: наименование источника питания
M3: КТП-100 АЗС №43
B4: ул, Горького, 99 | I4: Таблица № 1 | M4: ТП- "Освещение дороги" (Аэропорт)
B5: адрес
A6: почасовых записей показаний электрических счетчиков
A7: ='42'!A7:O7 -> в режимный день 18 ДЕКАБРЯ 2024г.
A8: 1630 | B8: 1628
A9: часы суток | B9: Активная энергия | J9: Реактивная энергия
B10: =M3 -> КТП-100 АЗС №43 | F10: =M4 -> ТП- "Освещение дороги" (Аэропорт) | J10: =B10 -> КТП-100 АЗС №43 | M10: =F10 -> ТП- "Освещение дороги" (Аэропорт)
B11: Расчет, Коэф, | E11: 30 | F11: Расчет, Коэф, | I11: 1 | J11: Расчет, Коэф, | L11: =E11 -> 30 | M11: Расчет, Коэф, | O11: =I11 -> 1
B12: показания счетчика | C12: разность | E12: расход эл,энергии за час | F12: показания счетчика | G12: разность | I12: расход эл,энергии за час | J12: показания счетчика | K12: разность | L12: расход эл,энергии за час | M12: показания счетчика | N12: разность | O12: расход эл,энергии за час
A13: 1 | B13: 2 | C13: 3 | E13: 4 | F13: 5 | G13: 6 | I13: 7 | J13: 8 | K13: 9 | L13: 10 | M13: 11 | N13: 12 | O13: 13
A14: 0 | E14: 11.47122 | I14: 11.44444
A15: 1 | E15: 11.25588 | I15: 11.57772
A16: 2 | E16: 10.80774 | I16: 11.49638
A17: 3 | E17: 12.83892 | I17: 9.12282
A18: 4 | E18: 12.29766 | I18: 0.01862
A19: 5 | E19: 8.91624 | I19: 0.01862
A20: 6 | E20: 4.87134 | I20: 0.0196
A21: 7 | E21: 6.76866 | I21: 0.01862
A22: 8 | E22: 7.93266 | I22: 0.0196
A23: 9 | E23: 7.89774 | I23: 0.01862
A24: 10 | E24: 8.07816 | I24: 0.01764
A25: 11 | E25: 7.48452 | I25: 0.01764
... A37: 23 | E37: 10.87176 | I37: 8.56814
A38: 24
A39: Итого | E39: =SUM(E15:E38) -> 179.96022 | I39: =SUM(I15:I38) -> 41.1208 | L39: =SUM(L15:L38) -> 0 | O39: =SUM(O15:O38) -> 0
A40: 1, При наличии на предприятии отклонений от нормальных режимов электропотребления (временное изменение схем питания, остановка на ремонт, резкое снижение
A41: эл,потребления и т,д,) последние необходимо перечислить,
A42: Главный инженер АО "Вологдаоблэнерго" А,В, Чурляев
A43: составляется самим предприятием с соблюдением всех пунктов настоящей таблицы,

Sheet 25
B1: АО "Вологдаоблэнерго" | J1: код 900151 | M1: ПС Загородная, ф, Тоншалово-2
B2: наименование предприятия | M2: наименование источника питания
M3: ТП-4 очистные В-1; ТП-4 очистные В-2
B4: ул, Горького, 99 | I4: Таблица № 1
B5: адрес
A6: почасовых записей показаний электрических счетчиков
A7: ='42'!A7:O7 -> в режимный день 18 ДЕКАБРЯ 2024г.
A8: 1630 | B8: 1628
A9: часы суток | B9: Активная энергия | J9: Реактивная энергия
B10: ТП-4 очистные В-1 | F10: ТП-4 очистные В-2 | J10: ТП-4 очистные В-1 | M10: ТП-4 очистные В-2
B11: Расчет, Коэф, | E11: 120 | F11: Расчет, Коэф, | I11: 120 | J11: Расчет, Коэф, | L11: =E11 -> 120 | M11: Расчет, Коэф, | O11: =I11 -> 120
B12: показания счетчика | C12: разность | E12: расход эл,энергии за час | F12: показания счетчика | G12: разность | I12: расход эл,энергии за час | J12: показания счетчика | K12: разность | L12: расход эл,энергии за час | M12: показания счетчика | N12: разность | O12: расход эл,энергии за час
A13: 1 | B13: 2 | C13: 3 | E13: 4 | F13: 5 | G13: 6 | I13: 7 | J13: 8 | K13: 9 | L13: 10 | M13: 11 | N13: 12 | O13: 13
A14: 0 | E14: 42.14016 | I14: 20.15664
A15: 1 | E15: 40.82688 | I15: 14.5824
A16: 2 | E16: 44.72064 | I16: 13.12416
A17: 3 | E17: 44.65152 | I17: 12.7008
A18: 4 | E18: 44.14464 | I18: 12.15984
A19: 5 | E19: 42.67008 | I19: 12.44208
A20: 6 | E20: 39.77232 | I20: 13.59456
A21: 7 | E21: 43.13568 | I21: 10.9368
A22: 8 | E22: 46.16976 | I22: 12.25392
A23: 9 | E23: 45.06432 | I23: 14.9352
A24: 10 | E24: 44.42928 | I24: 19.1688
A25: 11 | E25: 42.28896 | I25: 21.82656
... A37: 23 | E37: 46.926 | I37: 20.1096
A38: 24
A39: Итого | E39: =SUM(E15:E38) -> 1012.079 | I39: =SUM(I15:I38) -> 488.08704 | L39: =SUM(L15:L38) -> 0 | O39: =SUM(O15:O38) -> 0
A40: 1, При наличии на предприятии отклонений от нормальных режимов электропотребления (временное изменение схем питания, остановка на ремонт, резкое снижение
A41: эл,потребления и т,д,) последние необходимо перечислить,
A42: Главный инженер АО "Вологдаоблэнерго" А,В, Чурляев
A43: составляется самим предприятием с соблюдением всех пунктов настоящей таблицы,

Sheet 26
B1: АО "Вологдаоблэнерго" | J1: код 900151 | M1: ПС Загородная, ф, Тоншалово-2
B2: наименование предприятия | M2: наименование источника питания
M3: ТП-3 Школа В-1; ТП-3 Школа В-2
B4: ул, Горького, 99 | I4: Таблица № 1
B5: адрес
A6: почасовых записей показаний электрических счетчиков
A7: ='42'!A7:O7 -> в режимный день 18 ДЕКАБРЯ 2024г.
A8: 1630 | B8: 1628
A9: часы суток | B9: Активная энергия | J9: Реактивная энергия
B10: ТП-3 Школа В-1 | F10: ТП-3 Школа В-2 | J10: ТП-3 Школа В-1 | M10: ТП-3 Школа В-2
B11: Расчет, Коэф, | E11: 120 | F11: Расчет, Коэф, | I11: 120 | J11: Расчет, Коэф, | L11: =E11 -> 120 | M11: Расчет, Коэф, | O11: =I11 -> 120
B12: показания счетчика | C12: разность | E12: расход эл,энергии за час | F12: показания счетчика | G12: разность | I12: расход эл,энергии за час | J12: показания счетчика | K12: разность | L12: расход эл,энергии за час | M12: показания счетчика | N12: разность | O12: расход эл,энергии за час
A13: 1 | B13: 2 | C13: 3 | E13: 4 | F13: 5 | G13: 6 | I13: 7 | J13: 8 | K13: 9 | L13: 10 | M13: 11 | N13: 12 | O13: 13
A14: 0 | E14: 41.54112 | I14: 0
A15: 1 | E15: 39.58272 | I15: 0
A16: 2 | E16: 39.49056 | I16: 0
A17: 3 | E17: 38.75328 | I17: 0
A18: 4 | E18: 39.14496 | I18: 0
A19: 5 | E19: 38.61504 | I19: 0
A20: 6 | E20: 42.61824 | I20: 0
A21: 7 | E21: 42.26544 | I21: 0
A22: 8 | E22: 54.37824 | I22: 0
A23: 9 | E23: 61.22256 | I23: 0
A24: 10 | E24: 72.41808 | I24: 0
A25: 11 | E25: 76.0872 | I25: 0
... A37: 23 | E37: 49.23072 | I37: 0
A38: 24
A39: Итого | E39: =SUM(E15:E38) -> 1359.4404 | I39: =SUM(I15:I38) -> 0 | L39: =SUM(L15:L38) -> 0 | O39: =SUM(O15:O38) -> 0
A40: 1, При наличии на предприятии отклонений от нормальных режимов электропотребления (временное изменение схем питания, остановка на ремонт, резкое снижение
A41: эл,потребления и т,д,) последние необходимо перечислить,
A42: Главный инженер АО "Вологдаоблэнерго" А,В, Чурляев
A43: составляется самим предприятием с соблюдением всех пунктов настоящей таблицы,

Sheet 27
B1: АО "Вологдаоблэнерго" | J1: код 900151 | M1: ПС Загородная, ф, Тоншалово-2
B2: наименование предприятия | M2: наименование источника питания
M3: ТП-5 ПМК-1 В-1
B4: ул, Горького, 99 | I4: Таблица № 1 | M4: ТП-5 ПМК-1 В-2
B5: адрес
A6: почасовых записей показаний электрических счетчиков
A7: ='42'!A7:O7 -> в режимный день 18 ДЕКАБРЯ 2024г.
A8: 1630 | B8: 1628
A9: часы суток | B9: Активная энергия | J9: Реактивная энергия
B10: =M3 -> ТП-5 ПМК-1 В-1 | F10: =M4 -> ТП-5 ПМК-1 В-2 | J10: =B10 -> ТП-5 ПМК-1 В-1 | M10: =F10 -> ТП-5 ПМК-1 В-2
B11: Расчет, Коэф, | E11: 120 | F11: Расчет, Коэф, | I11: 120 | J11: Расчет, Коэф, | L11: =E11 -> 120 | M11: Расчет, Коэф, | O11: =I11 -> 120
B12: показания счетчика | C12: разность | E12: расход эл,энергии за час | F12: показания счетчика | G12: разность | I12: расход эл,энергии за час | J12: показания счетчика | K12: разность | L12: расход эл,энергии за час | M12: показания счетчика | N12: разность | O12: расход эл,энергии за час
A13: 1 | B13: 2 | C13: 3 | E13: 4 | F13: 5 | G13: 6 | I13: 7 | J13: 8 | K13: 9 | L13: 10 | M13: 11 | N13: 12 | O13: 13
A14: 0 | E14: 13.77792 | I14: 47.36928
A15: 1 | E15: 11.52 | I15: 38.71392
A16: 2 | E16: 10.96704 | I16: 33.06912
A17: 3 | E17: 10.5984 | I17: 32.66928
A18: 4 | E18: 10.5984 | I18: 31.21104
A19: 5 | E19: 10.1376 | I19: 45.13488
A20: 6 | E20: 11.90112 | I20: 65.268
A21: 7 | E21: 11.5248 | I21: 70.34832
A22: 8 | E22: 13.35936 | I22: 63.3864
A23: 9 | E23: 14.60592 | I23: 61.22256
A24: 10 | E24: 14.37072 | I24: 59.41152
A25: 11 | E25: 13.9944 | I25: 69.00768
... A37: 23 | E37: 16.08552 | I37: 57.01248
A38: 24
A39: Итого | E39: =SUM(E15:E38) -> 317.1012 | I39: =SUM(I15:I38) -> 1269.1862 | L39: =SUM(L15:L38) -> 0 | O39: =SUM(O15:O38) -> 0
A40: 1, При наличии на предприятии отклонений от нормальных режимов электропотребления (временное изменение схем питания, остановка на ремонт, резкое снижение
A41: эл,потребления и т,д,) последние необходимо перечислить,
A42: Главный инженер АО "Вологдаоблэнерго" А,В, Чурляев
A43: составляется самим предприятием с соблюдением всех пунктов настоящей таблицы,

Sheet 28
B1: АО "Вологдаоблэнерго" | J1: код 900151 | M1: ПС Загородная, ф, Тоншалово-2
B2: наименование предприятия | M2: наименование источника питания
M3: ТП-6 Детский сад В-1
B4: ул, Горького, 99 | I4: Таблица № 1 | M4: ТП-6 Детский сад В-2
B5: адрес
A6: почасовых записей показаний электрических счетчиков
A7: ='42'!A7:O7 -> в режимный день 18 ДЕКАБРЯ 2024г.
A8: 1630 | B8: 1628
A9: часы суток | B9: Активная энергия | J9: Реактивная энергия
B10: =M3 -> ТП-6 Детский сад В-1 | F10: =M4 -> ТП-6 Детский сад В-2 | J10: =B10 -> ТП-6 Детский сад В-1 | M10: =F10 -> ТП-6 Детский сад В-2
B11: Расчет, Коэф, | E11: 120 | F11: Расчет, Коэф, | I11: 120 | J11: Расчет, Коэф, | L11: =E11 -> 120 | M11: Расчет, Коэф, | O11: =I11 -> 120
B12: показания счетчика | C12: разность | E12: расход эл,энергии за час | F12: показания счетчика | G12: разность | I12: расход эл,энергии за час | J12: показания счетчика | K12: разность | L12: расход эл,энергии за час | M12: показания счетчика | N12: разность | O12: расход эл,энергии за час
A13: 1 | B13: 2 | C13: 3 | E13: 4 | F13: 5 | G13: 6 | I13: 7 | J13: 8 | K13: 9 | L13: 10 | M13: 11 | N13: 12 | O13: 13
A14: 0 | E14: 49.37472 | I14: 37.53792
A15: 1 | E15: 42.34752 | I15: 33.02208
A16: 2 | E16: 38.08512 | I16: 28.48272
A17: 3 | E17: 38.22336 | I17: 27.4008
A18: 4 | E18: 36.1728 | I18: 25.54272
A19: 5 | E19: 34.23744 | I19: 26.41296
A20: 6 | E20: 34.88016 | I20: 29.00016
A21: 7 | E21: 40.71312 | I21: 34.95072
A22: 8 | E22: 49.1568 | I22: 36.2208
A23: 9 | E23: 51.81456 | I23: 35.53872
A24: 10 | E24: 53.06112 | I24: 36.12672
A25: 11 | E25: 60.18768 | I25: 37.32624
... A37: 23 | E37: 67.76352 | I37: 43.7472
A38: 24
A39: Итого | E39: =SUM(E15:E38) -> 1279.1393 | I39: =SUM(I15:I38) -> 871.51008 | L39: =SUM(L15:L38) -> 0 | O39: =SUM(O15:O38) -> 0
A40: 1, При наличии на предприятии отклонений от нормальных режимов электропотребления (временное изменение схем питания, остановка на ремонт, резкое снижение
A41: эл,потребления и т,д,) последние необходимо перечислить,
A42: Главный инженер АО "Вологдаоблэнерго" А,В, Чурляев
A43: составляется самим предприятием с соблюдением всех пунктов настоящей таблицы,

Sheet 29
B1: АО "Вологдаоблэнерго" | J1: код 900151 | M1: ПС Загородная, ф, Тоншалово-2
B2: наименование предприятия | M2: наименование источника питания
M3: ТП-2 Поселок
B4: ул, Горького, 99 | I4: Таблица № 1
B5: адрес
A6: почасовых записей показаний электрических счетчиков
A7: ='42'!A7:O7 -> в режимный день 18 ДЕКАБРЯ 2024г.
A8: 1630 | B8: 1628
A9: часы суток | B9: Активная энергия | J9: Реактивная энергия
B10: =M3 -> ТП-2 Поселок | F10: =M4 -> 0 | J10: =B10 -> ТП-2 Поселок | M10: =F10 -> 0
B11: Расчет, Коэф, | E11: 200 | F11: Расчет, Коэф, | I11: 120 | J11: Расчет, Коэф, | L11: =E11 -> 200 | M11: Расчет, Коэф, | O11: =I11 -> 120
B12: показания счетчика | C12: разность | E12: расход эл,энергии за час | F12: показания счетчика | G12: разность | I12: расход эл,энергии за час | J12: показания счетчика | K12: разность | L12: расход эл,энергии за час | M12: показания счетчика | N12: разность | O12: расход эл,энергии за час
A13: 1 | B13: 2 | C13: 3 | E13: 4 | F13: 5 | G13: 6 | I13: 7 | J13: 8 | K13: 9 | L13: 10 | M13: 11 | N13: 12 | O13: 13
A14: 0 | E14: 108.2496 | I14: 0
A15: 1 | E15: 96.2688 | I15: 0
A16: 2 | E16: 86.5536 | I16: 0
A17: 3 | E17: 84.4416 | I17: 0
A18: 4 | E18: 79.4496 | I18: 0
A19: 5 | E19: 78.4128 | I19: 0
A20: 6 | E20: 86.3184 | I20: 0
A21: 7 | E21: 99.1368 | I21: 0
A22: 8 | E22: 109.7992 | I22: 0
A23: 9 | E23: 112.896 | I23: 0
A24: 10 | E24: 115.2088 | I24: 0
A25: 11 | E25: 119.7168 | I25: 0
... A37: 23 | E37: 130.7196 | I37: 0
A38: 24
A39: Итого | E39: =SUM(E15:E38) -> 2517.7668 | I39: =SUM(I15:I38) -> 0 | L39: =SUM(L15:L38) -> 0 | O39: =SUM(O15:O38) -> 0
A40: 1, При наличии на предприятии отклонений от нормальных режимов электропотребления (временное изменение схем питания, остановка на ремонт, резкое снижение
A41: эл,потребления и т,д,) последние необходимо перечислить,
A42: Главный инженер АО "Вологдаоблэнерго" А,В, Чурляев
A43: составляется самим предприятием с соблюдением всех пунктов настоящей таблицы,

Sheet 30
B1: АО "Вологдаоблэнерго" | J1: код 900151 | M1: ПС Загородная, ф, Солманское
B2: наименование предприятия | M2: наименование источника питания
M3: ТП-Котельная ПМК-2 В-1
B4: ул, Горького, 99 | I4: Таблица № 1 | M4: ТП-Котельная ПМК-2 В-2
B5: адрес
A6: почасовых записей показаний электрических счетчиков
A7: ='42'!A7:O7 -> в режимный день 18 ДЕКАБРЯ 2024г.
A8: 1630 | B8: 1628
A9: часы суток | B9: Активная энергия | J9: Реактивная энергия
B10: =M3 -> ТП-Котельная ПМК-2 В-1 | F10: =M4 -> ТП-Котельная ПМК-2 В-2 | J10: =B10 -> ТП-Котельная ПМК-2 В-1 | M10: =F10 -> ТП-Котельная ПМК-2 В-2
B11: Расчет, Коэф, | E11: 80 | F11: Расчет, Коэф, | I11: 80 | J11: Расчет, Коэф, | L11: =E11 -> 80 | M11: Расчет, Коэф, | O11: =I11 -> 80
B12: показания счетчика | C12: разность | E12: расход эл,энергии за час | F12: показания счетчика | G12: разность | I12: расход эл,энергии за час | J12: показания счетчика | K12: разность | L12: расход эл,энергии за час | M12: показания счетчика | N12: разность | O12: расход эл,энергии за час
A13: 1 | B13: 2 | C13: 3 | E13: 4 | F13: 5 | G13: 6 | I13: 7 | J13: 8 | K13: 9 | L13: 10 | M13: 11 | N13: 12 | O13: 13
A14: 0 | E14: 5.19168 | I14: 0
A15: 1 | E15: 5.376 | I15: 0
A16: 2 | E16: 5.16096 | I16: 0
A17: 3 | E17: 5.4528 | I17: 0
A18: 4 | E18: 5.2224 | I18: 0
A19: 5 | E19: 5.85216 | I19: 0
A20: 6 | E20: 12.7008 | I20: 0
A21: 7 | E21: 37.27136 | I21: 0
A22: 8 | E22: 48.96864 | I22: 0
A23: 9 | E23: 27.58112 | I23: 0
A24: 10 | E24: 27.61248 | I24: 0
A25: 11 | E25: 22.28128 | I25: 0
... A37: 23 | E37: 5.11632 | I37: 0
A38: 24
A39: Итого | E39: =SUM(E15:E38) -> 341.07408 | I39: =SUM(I15:I38) -> 0 | L39: =SUM(L15:L38) -> 0 | O39: =SUM(O15:O38) -> 0
A40: 1, При наличии на предприятии отклонений от нормальных режимов электропотребления (временное изменение схем питания, остановка на ремонт, резкое снижение
A41: эл,потребления и т,д,) последние необходимо перечислить,
A42: Главный инженер АО "Вологдаоблэнерго" А,В, Чурляев
A43: составляется самим предприятием с соблюдением всех пунктов настоящей таблицы,

Sheet 31
B1: АО "Вологдаоблэнерго" | J1: код 900151 | M1: ПС Загородная, ф,Парфеново
B2: наименование предприятия | M2: наименование источника питания
M3: ТП-69 (КТПН-23)
B4: ул, Горького, 99 | I4: Таблица № 1
B5: адрес
A6: почасовых записей показаний электрических счетчиков
A7: ='42'!A7:O7 -> в режимный день 18 ДЕКАБРЯ 2024г.
A8: 1630 | B8: 1628
A9: часы суток | B9: Активная энергия | J9: Реактивная энергия
B10: =M3 -> ТП-69 (КТПН-23) | F10: =M4 -> 0 | J10: =B10 -> ТП-69 (КТПН-23) | M10: =F10 -> 0
B11: Расчет, Коэф, | E11: 20 | F11: Расчет, Коэф, | I11: 120 | J11: Расчет, Коэф, | L11: =E11 -> 20 | M11: Расчет, Коэф, | O11: =I11 -> 120
B12: показания счетчика | C12: разность | E12: расход эл,энергии за час | F12: показания счетчика | G12: разность | I12: расход эл,энергии за час | J12: показания счетчика | K12: разность | L12: расход эл,энергии за час | M12: показания счетчика | N12: разность | O12: расход эл,энергии за час
A13: 1 | B13: 2 | C13: 3 | E13: 4 | F13: 5 | G13: 6 | I13: 7 | J13: 8 | K13: 9 | L13: 10 | M13: 11 | N13: 12 | O13: 13
A14: 0 | E14: 0 | I14: 0
A15: 1 | E15: 0 | I15: 0
A16: 2 | E16: 0 | I16: 0
A17: 3 | E17: 0 | I17: 0
A18: 4 | E18: 0 | I18: 0
A19: 5 | E19: 0 | I19: 0
A20: 6 | E20: 0 | I20: 0
A21: 7 | E21: 0 | I21: 0
A22: 8 | E22: 0 | I22: 0
A23: 9 | E23: 0 | I23: 0
A24: 10 | E24: 0 | I24: 0
A25: 11 | E25: 0 | I25: 0
... A37: 23 | E37: 0 | I37: 0
A38: 24
A39: Итого | E39: =SUM(E15:E38) -> 0 | I39: =SUM(I15:I38) -> 0 | L39: =SUM(L15:L38) -> 0 | O39: =SUM(O15:O38) -> 0
A40: 1, При наличии на предприятии отклонений от нормальных режимов электропотребления (временное изменение схем питания, остановка на ремонт, резкое снижение
A41: эл,потребления и т,д,) последние необходимо перечислить,
A42: Главный инженер АО "Вологдаоблэнерго" А,В, Чурляев
A43: составляется самим предприятием с соблюдением всех пунктов настоящей таблицы,

Sheet 32
B1: АО "Вологдаоблэнерго" | J1: код 900151 | M1: ПС Загородная, ф,Солнаское
B2: наименование предприятия | M2: наименование источника питания
M3: ТП Северо-Западный т,д,
B4: ул, Горького, 99 | I4: Таблица № 1 | M4: КТП- Мелиоводстрой
B5: адрес
A6: почасовых записей показаний электрических счетчиков
A7: ='42'!A7:O7 -> в режимный день 18 ДЕКАБРЯ 2024г.
A8: 1630 | B8: 1628
A9: часы суток | B9: Активная энергия | J9: Реактивная энергия
B10: =M3 -> ТП Северо-Западный т,д, | F10: =M4 -> КТП- Мелиоводстрой | J10: =B10 -> ТП Северо-Западный т,д, | M10: =F10 -> КТП- Мелиоводстрой
B11: Расчет, Коэф, | E11: 120 | F11: Расчет, Коэф, | I11: 200 | J11: Расчет, Коэф, | L11: =E11 -> 120 | M11: Расчет, Коэф, | O11: =I11 -> 200
B12: показания счетчика | C12: разность | E12: расход эл,энергии за час | F12: показания счетчика | G12: разность | I12: расход эл,энергии за час | J12: показания счетчика | K12: разность | L12: расход эл,энергии за час | M12: показания счетчика | N12: разность | O12: расход эл,энергии за час
A13: 1 | B13: 2 | C13: 3 | E13: 4 | F13: 5 | G13: 6 | I13: 7 | J13: 8 | K13: 9 | L13: 10 | M13: 11 | N13: 12 | O13: 13
A14: 0 | E14: 1.9206 | I14: 75.3816
A15: 1 | E15: 2.037 | I15: 59.7408
A16: 2 | E16: 1.8042 | I16: 55.5072
A17: 3 | E17: 1.9206 | I17: 53.3512
A18: 4 | E18: 1.9206 | I18: 52.5672
A19: 5 | E19: 0.873 | I19: 47.1576
A20: 6 | E20: 0.873 | I20: 46.5304
A21: 7 | E21: 0.8148 | I21: 58.0944
A22: 8 | E22: 1.9788 | I22: 58.8784
A23: 9 | E23: 3.1428 | I23: 80.9088
A24: 10 | E24: 3.3174 | I24: 79.6936
A25: 11 | E25: 3.492 | I25: 82.6336
... A37: 23 | E37: 1.6878 | I37: 88.6704
A38: 24
A39: Итого | E39: =SUM(E15:E38) -> 70.0146 | I39: =SUM(I15:I38) -> 1713.2752 | L39: =SUM(L15:L38) -> 0 | O39: =SUM(O15:O38) -> 0
A40: 1, При наличии на предприятии отклонений от нормальных режимов электропотребления (временное изменение схем питания, остановка на ремонт, резкое снижение
A41: эл,потребления и т,д,) последние необходимо перечислить,
A42: Главный инженер АО "Вологдаоблэнерго" А,В, Чурляев
A43: составляется самим предприятием с соблюдением всех пунктов настоящей таблицы,

Sheet 33
B1: АО "Вологдаоблэнерго" | J1: код 900151 | M1: ПС Ирдоматка, ф, Ирдоматка-1
B2: наименование предприятия | M2: наименование источника питания
M3: ТП-25
B4: ул, Горького, 99 | I4: Таблица № 1 | M4: ТП-80
B5: адрес
A6: почасовых записей показаний электрических счетчиков
A7: ='42'!A7:O7 -> в режимный день 18 ДЕКАБРЯ 2024г.
A8: 1630 | B8: 1628
A9: часы суток | B9: Активная энергия | J9: Реактивная энергия
B10: =M3 -> ТП-25 | F10: =M4 -> ТП-80 | J10: =B10 -> ТП-25 | M10: =F10 -> ТП-80
B11: Расчет, Коэф, | E11: 20 | F11: Расчет, Коэф, | I11: 40 | J11: Расчет, Коэф, | L11: =E11 -> 20 | M11: Расчет, Коэф, | O11: =I11 -> 40
B12: показания счетчика | C12: разность | E12: расход эл,энергии за час | F12: показания счетчика | G12: разность | I12: расход эл,энергии за час | J12: показания счетчика | K12: разность | L12: расход эл,энергии за час | M12: показания счетчика | N12: разность | O12: расход эл,энергии за час
A13: 1 | B13: 2 | C13: 3 | E13: 4 | F13: 5 | G13: 6 | I13: 7 | J13: 8 | K13: 9 | L13: 10 | M13: 11 | N13: 12 | O13: 13
A14: 0 | E14: 2.7936 | I14: 36.6716
A15: 1 | E15: 4.0416 | I15: 30.0076
A16: 2 | E16: 1.7184 | I16: 29.1256
A17: 3 | E17: 2.7264 | I17: 30.2428
A18: 4 | E18: 1.5552 | I18: 27.5184
A19: 5 | E19: 1.6512 | I19: 30.7524
A20: 6 | E20: 1.7346 | I20: 35.5544
A21: 7 | E21: 2.8224 | I21: 42.042
A22: 8 | E22: 1.715 | I22: 43.316
A23: 9 | E23: 1.7444 | I23: 42.2968
A24: 10 | E24: 3.9886 | I24: 43.5512
A25: 11 | E25: 3.0478 | I25: 42.0028
... A37: 23 | E37: 3.0195 | I37: 43.9628
A38: 24
A39: Итого | E39: =SUM(E15:E38) -> 64.2354 | I39: =SUM(I15:I38) -> 942.27 | L39: =SUM(L15:L38) -> 0 | O39: =SUM(O15:O38) -> 0
A40: 1, При наличии на предприятии отклонений от нормальных режимов электропотребления (временное изменение схем питания, остановка на ремонт, резкое снижение
A41: эл,потребления и т,д,) последние необходимо перечислить,
A42: Главный инженер АО "Вологдаоблэнерго" А,В, Чурляев
A43: составляется самим предприятием с соблюдением всех пунктов настоящей таблицы,

Sheet 34
B1: АО "Вологдаоблэнерго" | J1: код 900151 | M1: ПС Ирдоматка, ф, Ирдоматка-1
B2: наименование предприятия | M2: наименование источника питания
M3: ТП-209 Тепловая
B4: ул, Горького, 99 | I4: Таблица № 1 | M4: КТП-210 Ирдоматка
B5: адрес
A6: почасовых записей показаний электрических счетчиков
A7: ='42'!A7:O7 -> в режимный день 18 ДЕКАБРЯ 2024г.
A8: 1630 | B8: 1628
A9: часы суток | B9: Активная энергия | J9: Реактивная энергия
B10: =M3 -> ТП-209 Тепловая | F10: =M4 -> КТП-210 Ирдоматка | J10: =B10 -> ТП-209 Тепловая | M10: =F10 -> КТП-210 Ирдоматка
B11: Расчет, Коэф, | E11: 80 | F11: Расчет, Коэф, | I11: 80 | J11: Расчет, Коэф, | L11: =E11 -> 80 | M11: Расчет, Коэф, | O11: =I11 -> 80
B12: показания счетчика | C12: разность | E12: расход эл,энергии за час | F12: показания счетчика | G12: разность | I12: расход эл,энергии за час | J12: показания счетчика | K12: разность | L12: расход эл,энергии за час | M12: показания счетчика | N12: разность | O12: расход эл,энергии за час
A13: 1 | B13: 2 | C13: 3 | E13: 4 | F13: 5 | G13: 6 | I13: 7 | J13: 8 | K13: 9 | L13: 10 | M13: 11 | N13: 12 | O13: 13
A14: 0 | E14: 24.1152 | I14: 31.5952
A15: 1 | E15: 23.1936 | I15: 28.6944
A16: 2 | E16: 19.4304 | I16: 24.7744
A17: 3 | E17: 16.896 | I17: 18.9728
A18: 4 | E18: 17.7408 | I18: 15.6016
A19: 5 | E19: 14.208 | I19: 18.9728
A20: 6 | E20: 16.3856 | I20: 18.8944
A21: 7 | E21: 17.1696 | I21: 27.6752
A22: 8 | E22: 25.7152 | I22: 42.728
A23: 9 | E23: 25.1664 | I23: 38.9648
A24: 10 | E24: 36.9264 | I24: 36.456
A25: 11 | E25: 40.0624 | I25: 36.5344
... A37: 23 | E37: 28.4328 | I37: 47.1184
A38: 24
A39: Итого | E39: =SUM(E15:E38) -> 707.1336 | I39: =SUM(I15:I38) -> 819.1232 | L39: =SUM(L15:L38) -> 0 | O39: =SUM(O15:O38) -> 0
A40: 1, При наличии на предприятии отклонений от нормальных режимов электропотребления (временное изменение схем питания, остановка на ремонт, резкое снижение
A41: эл,потребления и т,д,) последние необходимо перечислить,
A42: Главный инженер АО "Вологдаоблэнерго" А,В, Чурляев
A43: составляется самим предприятием с соблюдением всех пунктов настоящей таблицы,

Sheet 35
B1: АО "Вологдаоблэнерго" | J1: код 900151 | M1: ПС Ирдоматка ф,Даргун
B2: наименование предприятия | M2: наименование источника питания
M3: ТП-113
B4: ул, Горького, 99 | I4: Таблица № 1
B5: адрес
A6: почасовых записей показаний электрических счетчиков
A7: ='42'!A7:O7 -> в режимный день 18 ДЕКАБРЯ 2024г.
A8: 1630 | B8: 1628
A9: часы суток | B9: Активная энергия | J9: Реактивная энергия
B10: =M3 -> ТП-113 | F10: =M4 -> 0 | J10: =B10 -> ТП-113 | M10: =F10 -> 0
B11: Расчет, Коэф, | E11: 80 | F11: Расчет, Коэф, | I11: 120 | J11: Расчет, Коэф, | L11: =E11 -> 80 | M11: Расчет, Коэф, | O11: =I11 -> 120
B12: показания счетчика | C12: разность | E12: расход эл,энергии за час | F12: показания счетчика | G12: разность | I12: расход эл,энергии за час | J12: показания счетчика | K12: разность | L12: расход эл,энергии за час | M12: показания счетчика | N12: разность | O12: расход эл,энергии за час
A13: 1 | B13: 2 | C13: 3 | E13: 4 | F13: 5 | G13: 6 | I13: 7 | J13: 8 | K13: 9 | L13: 10 | M13: 11 | N13: 12 | O13: 13
A14: 0 | E14: 0 | I14: 0
A15: 1 | E15: 0 | I15: 0
A16: 2 | E16: 0 | I16: 0
A17: 3 | E17: 0 | I17: 0
A18: 4 | E18: 0 | I18: 0
A19: 5 | E19: 0 | I19: 0
A20: 6 | E20: 0 | I20: 0
A21: 7 | E21: 0 | I21: 0
A22: 8 | E22: 0 | I22: 0
A23: 9 | E23: 0 | I23: 0
A24: 10 | E24: 0 | I24: 0
A25: 11 | E25: 0 | I25: 0
... A37: 23 | E37: 0 | I37: 0
A38: 24
A39: Итого | E39: =SUM(E15:E38) -> 0 | I39: =SUM(I15:I38) -> 0 | L39: =SUM(L15:L38) -> 0 | O39: =SUM(O15:O38) -> 0
A40: 1, При наличии на предприятии отклонений от нормальных режимов электропотребления (временное изменение схем питания, остановка на ремонт, резкое снижение
A41: эл,потребления и т,д,) последние необходимо перечислить,
A42: Главный инженер АО "Вологдаоблэнерго" А,В, Чурляев
A43: составляется самим предприятием с соблюдением всех пунктов настоящей таблицы,

Sheet 36
B1: АО "Вологдаоблэнерго" | J1: код 900151 | M1: ПС Ирдоматка, ф, Ирдоматка-1
B2: наименование предприятия | M2: наименование источника питания
M3: КТП-400 Дачи "Пулово Борисово"
B4: ул, Горького, 99 | I4: Таблица № 1
B5: адрес
A6: почасовых записей показаний электрических счетчиков
A7: ='42'!A7:O7 -> в режимный день 18 ДЕКАБРЯ 2024г.
A8: 1630 | B8: 1628
A9: часы суток | B9: Активная энергия | J9: Реактивная энергия
B10: =M3 -> КТП-400 Дачи "Пулово Борисово" | F10: =M4 -> 0 | J10: =B10 -> КТП-400 Дачи "Пулово Борисово" | M10: =F10 -> 0
B11: Расчет, Коэф, | E11: 60 | F11: Расчет, Коэф, | I11: 120 | J11: Расчет, Коэф, | L11: =E11 -> 60 | M11: Расчет, Коэф, | O11: =I11 -> 120
B12: показания счетчика | C12: разность | E12: расход эл,энергии за час | F12: показания счетчика | G12: разность | I12: расход эл,энергии за час | J12: показания счетчика | K12: разность | L12: расход эл,энергии за час | M12: показания счетчика | N12: разность | O12: расход эл,энергии за час
A13: 1 | B13: 2 | C13: 3 | E13: 4 | F13: 5 | G13: 6 | I13: 7 | J13: 8 | K13: 9 | L13: 10 | M13: 11 | N13: 12 | O13: 13
A14: 0 | E14: 0 | I14: 0
A15: 1 | E15: 0 | I15: 0
A16: 2 | E16: 0 | I16: 0
A17: 3 | E17: 0 | I17: 0
A18: 4 | E18: 0 | I18: 0
A19: 5 | E19: 0 | I19: 0
A20: 6 | E20: 0 | I20: 0
A21: 7 | E21: 0 | I21: 0
A22: 8 | E22: 0 | I22: 0
A23: 9 | E23: 0 | I23: 0
A24: 10 | E24: 0 | I24: 0
A25: 11 | E25: 0 | I25: 0
... A37: 23 | E37: 0 | I37: 0
A38: 24
A39: Итого | E39: =SUM(E15:E38) -> 0 | I39: =SUM(I15:I38) -> 0 | L39: =SUM(L15:L38) -> 0 | O39: =SUM(O15:O38) -> 0
A40: 1, При наличии на предприятии отклонений от нормальных режимов электропотребления (временное изменение схем питания, остановка на ремонт, резкое снижение
A41: эл,потребления и т,д,) последние необходимо перечислить,
A42: Главный инженер АО "Вологдаоблэнерго" А,В, Чурляев
A43: составляется самим предприятием с соблюдением всех пунктов настоящей таблицы,

Sheet 37
B1: АО "Вологдаоблэнерго" | J1: код 900151 | M1: ПС Искра, ф, Оросительная
B2: наименование предприятия | M2: наименование источника питания
M3: КТП-3 Сад №9 "ЧереповецАгроСтрой"
B4: ул, Горького, 99 | I4: Таблица № 1 | M4: КТП-2 Сад №1 "Аммофос"
B5: адрес
A6: почасовых записей показаний электрических счетчиков
A7: ='42'!A7:O7 -> в режимный день 18 ДЕКАБРЯ 2024г.
A8: 1630 | B8: 1628
A9: часы суток | B9: Активная энергия | J9: Реактивная энергия
B10: =M3 -> КТП-3 Сад №9 "ЧереповецАгроСтрой" | F10: =M4 -> КТП-2 Сад №1 "Аммофос" | J10: =B10 -> КТП-3 Сад №9 "ЧереповецАгроСтрой" | M10: =F10 -> КТП-2 Сад №1 "Аммофос"
B11: Расчет, Коэф, | E11: 60 | F11: Расчет, Коэф, | I11: 120 | J11: Расчет, Коэф, | L11: =E11 -> 60 | M11: Расчет, Коэф, | O11: =I11 -> 120
B12: показания счетчика | C12: разность | E12: расход эл,энергии за час | F12: показания счетчика | G12: разность | I12: расход эл,энергии за час | J12: показания счетчика | K12: разность | L12: расход эл,энергии за час | M12: показания счетчика | N12: разность | O12: расход эл,энергии за час
A13: 1 | B13: 2 | C13: 3 | E13: 4 | F13: 5 | G13: 6 | I13: 7 | J13: 8 | K13: 9 | L13: 10 | M13: 11 | N13: 12 | O13: 13
A14: 0 | E14: 0 | I14: 71.6772
A15: 1 | E15: 0 | I15: 37.9848
A16: 2 | E16: 0 | I16: 33.9276
A17: 3 | E17: 0 | I17: 31.3404
A18: 4 | E18: 0 | I18: 31.164
A19: 5 | E19: 0 | I19: 32.7516
A20: 6 | E20: 0 | I20: 37.4556
A21: 7 | E21: 0 | I21: 46.158
A22: 8 | E22: 0 | I22: 51.5088
A23: 9 | E23: 0 | I23: 58.8
A24: 10 | E24: 0 | I24: 56.6832
A25: 11 | E25: 0 | I25: 58.6236
... A37: 23 | E37: 0 | I37: 86.6712
A38: 24
A39: Итого | E39: =SUM(E15:E38) -> 0 | I39: =SUM(I15:I38) -> 1414.434 | L39: =SUM(L15:L38) -> 0 | O39: =SUM(O15:O38) -> 0
A40: 1, При наличии на предприятии отклонений от нормальных режимов электропотребления (временное изменение схем питания, остановка на ремонт, резкое снижение
A41: эл,потребления и т,д,) последние необходимо перечислить,
A42: Главный инженер АО "Вологдаоблэнерго" А,В, Чурляев
A43: составляется самим предприятием с соблюдением всех пунктов настоящей таблицы,

Sheet 38
B1: АО "Вологдаоблэнерго" | J1: код 900151 | M1: ПС Искра, ф, Оросительная
B2: наименование предприятия | M2: наименование источника питания
M3: КТП-10 ЧМХС и №2 ЧСПЗ
B4: ул, Горького, 99 | I4: Таблица № 1 | M4: КТП Сад Вера
B5: адрес
A6: почасовых записей показаний электрических счетчиков
A7: ='42'!A7:O7 -> в режимный день 18 ДЕКАБРЯ 2024г.
A8: 1630 | B8: 1628
A9: часы суток | B9: Активная энергия | J9: Реактивная энергия
B10: =M3 -> КТП-10 ЧМХС и №2 ЧСПЗ | F10: =M4 -> КТП Сад Вера | J10: =B10 -> КТП-10 ЧМХС и №2 ЧСПЗ | M10: =F10 -> КТП Сад Вера
B11: Расчет, Коэф, | E11: 80 | F11: Расчет, Коэф, | I11: 20 | J11: Расчет, Коэф, | L11: =E11 -> 80 | M11: Расчет, Коэф, | O11: =I11 -> 20
B12: показания счетчика | C12: разность | E12: расход эл,энергии за час | F12: показания счетчика | G12: разность | I12: расход эл,энергии за час | J12: показания счетчика | K12: разность | L12: расход эл,энергии за час | M12: показания счетчика | N12: разность | O12: расход эл,энергии за час
A13: 1 | B13: 2 | C13: 3 | E13: 4 | F13: 5 | G13: 6 | I13: 7 | J13: 8 | K13: 9 | L13: 10 | M13: 11 | N13: 12 | O13: 13
A14: 0 | E14: 0 | I14: 15.2096
A15: 1 | E15: 0 | I15: 9.9568
A16: 2 | E16: 0 | I16: 9.0944
A17: 3 | E17: 0 | I17: 9.5648
A18: 4 | E18: 0 | I18: 10.0352
A19: 5 | E19: 0 | I19: 9.5648
A20: 6 | E20: 0 | I20: 10.8976
A21: 7 | E21: 0 | I21: 15.0528
A22: 8 | E22: 0 | I22: 20.2272
A23: 9 | E23: 0 | I23: 18.5024
A24: 10 | E24: 0 | I24: 20.0704
A25: 11 | E25: 0 | I25: 21.0896
... A37: 23 | E37: 0 | I37: 18.032
A38: 24
A39: Итого | E39: =SUM(E15:E38) -> 0 | I39: =SUM(I15:I38) -> 385.4144 | L39: =SUM(L15:L38) -> 0 | O39: =SUM(O15:O38) -> 0
A40: 1, При наличии на предприятии отклонений от нормальных режимов электропотребления (временное изменение схем питания, остановка на ремонт, резкое снижение
A41: эл,потребления и т,д,) последние необходимо перечислить,
A42: Главный инженер АО "Вологдаоблэнерго" А,В, Чурляев
A43: составляется самим предприятием с соблюдением всех пунктов настоящей таблицы,

Sheet 39
B1: АО "Вологдаоблэнерго" | J1: код 900151 | M1: ПС Климовская, ф,Лохта
B2: наименование предприятия | M2: наименование источника питания
M3: КТПН-400 Животноводческий комплекс
B4: ул, Горького, 99 | I4: Таблица № 1 | M4: КТП-Деревня
B5: адрес
A6: почасовых записей показаний электрических счетчиков
A7: ='42'!A7:O7 -> в режимный день 18 ДЕКАБРЯ 2024г.
A8: 1630 | B8: 1628
A9: часы суток | B9: Активная энергия | J9: Реактивная энергия
B10: =M3 -> КТПН-400 Животноводческий комплекс | F10: =M4 -> КТП-Деревня | J10: =B10 -> КТПН-400 Животноводческий комплекс | M10: =F10 -> КТП-Деревня
B11: Расчет, Коэф, | E11: 120 | F11: Расчет, Коэф, | I11: 80 | J11: Расчет, Коэф, | L11: =E11 -> 120 | M11: Расчет, Коэф, | O11: =I11 -> 80
B12: показания счетчика | C12: разность | E12: расход эл,энергии за час | F12: показания счетчика | G12: разность | I12: расход эл,энергии за час | J12: показания счетчика | K12: разность | L12: расход эл,энергии за час | M12: показания счетчика | N12: разность | O12: расход эл,энергии за час
A13: 1 | B13: 2 | C13: 3 | E13: 4 | F13: 5 | G13: 6 | I13: 7 | J13: 8 | K13: 9 | L13: 10 | M13: 11 | N13: 12 | O13: 13
A14: 0 | E14: 16.1796 | I14: 51.32064
A15: 1 | E15: 19.9626 | I15: 37.72608
A16: 2 | E16: 34.3962 | I16: 35.5936
A17: 3 | E17: 26.1318 | I17: 35.93856
A18: 4 | E18: 29.9148 | I18: 28.34944
A19: 5 | E19: 46.2108 | I19: 29.65088
A20: 6 | E20: 43.65 | I20: 30.45056
A21: 7 | E21: 44.4648 | I21: 36.87936
A22: 8 | E22: 39.9252 | I22: 40.64256
A23: 9 | E23: 33.756 | I23: 45.48768
A24: 10 | E24: 28.4598 | I24: 46.8832
A25: 11 | E25: 25.4334 | I25: 48.6864
... A37: 23 | E37: 17.8092 | I37: 61.49696
A38: 24
A39: Итого | E39: =SUM(E15:E38) -> 785.8746 | I39: =SUM(I15:I38) -> 1042.9238 | L39: =SUM(L15:L38) -> 0 | O39: =SUM(O15:O38) -> 0
A40: 1, При наличии на предприятии отклонений от нормальных режимов электропотребления (временное изменение схем питания, остановка на ремонт, резкое снижение
A41: эл,потребления и т,д,) последние необходимо перечислить,
A42: Главный инженер АО "Вологдаоблэнерго" А,В, Чурляев
A43: составляется самим предприятием с соблюдением всех пунктов настоящей таблицы,

Sheet 40
B1: АО "Вологдаоблэнерго" | J1: код 900151 | M1: ПС Климовская, ф, Лохта
B2: наименование предприятия | M2: наименование источника питания
M3: ТП-325
B4: ул, Горького, 99 | I4: Таблица № 1
B5: адрес
A6: почасовых записей показаний электрических счетчиков
A7: ='42'!A7:O7 -> в режимный день 18 ДЕКАБРЯ 2024г.
A8: 1630 | B8: 1628
A9: часы суток | B9: Активная энергия | J9: Реактивная энергия
B10: =M3 -> ТП-325 | F10: =M4 -> 0 | J10: =B10 -> ТП-325 | M10: =F10 -> 0
B11: Расчет, Коэф, | E11: 120 | F11: Расчет, Коэф, | I11: 200 | J11: Расчет, Коэф, | L11: =E11 -> 120 | M11: Расчет, Коэф, | O11: =I11 -> 200
B12: показания счетчика | C12: разность | E12: расход эл,энергии за час | F12: показания счетчика | G12: разность | I12: расход эл,энергии за час | J12: показания счетчика | K12: разность | L12: расход эл,энергии за час | M12: показания счетчика | N12: разность | O12: расход эл,энергии за час
A13: 1 | B13: 2 | C13: 3 | E13: 4 | F13: 5 | G13: 6 | I13: 7 | J13: 8 | K13: 9 | L13: 10 | M13: 11 | N13: 12 | O13: 13
A14: 0 | E14: 0.4656 | I14: 0
A15: 1 | E15: 0.4074 | I15: 0
A16: 2 | E16: 0.4656 | I16: 0
A17: 3 | E17: 0.4656 | I17: 0
A18: 4 | E18: 0.4656 | I18: 0
A19: 5 | E19: 0.4074 | I19: 0
A20: 6 | E20: 0.5238 | I20: 0
A21: 7 | E21: 0.4074 | I21: 0
A22: 8 | E22: 0.4656 | I22: 0
A23: 9 | E23: 5.238 | I23: 0
A24: 10 | E24: 5.0052 | I24: 0
A25: 11 | E25: 8.3808 | I25: 0
... A37: 23 | E37: 0.4656 | I37: 0
A38: 24
A39: Итого | E39: =SUM(E15:E38) -> 41.031 | I39: =SUM(I15:I38) -> 0 | L39: =SUM(L15:L38) -> 0 | O39: =SUM(O15:O38) -> 0
A40: 1, При наличии на предприятии отклонений от нормальных режимов электропотребления (временное изменение схем питания, остановка на ремонт, резкое снижение
A41: эл,потребления и т,д,) последние необходимо перечислить,
A42: Главный инженер АО "Вологдаоблэнерго" А,В, Чурляев
A43: составляется самим предприятием с соблюдением всех пунктов настоящей таблицы,

Sheet 41
B1: АО "Вологдаоблэнерго" | J1: код 900151 | M1: ПС Климовская, ф, Лохта
B2: наименование предприятия | M2: наименование источника питания
M3: КТП-Деревня
B4: ул, Горького, 99 | I4: Таблица № 1 | M4: ТП-321
B5: адрес
A6: почасовых записей показаний электрических счетчиков
A7: ='42'!A7:O7 -> в режимный день 18 ДЕКАБРЯ 2024г.
A8: 1630 | B8: 1628
A9: часы суток | B9: Активная энергия | J9: Реактивная энергия
B10: =M3 -> КТП-Деревня | F10: =M4 -> ТП-321 | J10: =B10 -> КТП-Деревня | M10: =F10 -> ТП-321
B11: Расчет, Коэф, | E11: 80 | F11: Расчет, Коэф, | I11: 30 | J11: Расчет, Коэф, | L11: =E11 -> 80 | M11: Расчет, Коэф, | O11: =I11 -> 30
B12: показания счетчика | C12: разность | E12: расход эл,энергии за час | F12: показания счетчика | G12: разность | I12: расход эл,энергии за час | J12: показания счетчика | K12: разность | L12: расход эл,энергии за час | M12: показания счетчика | N12: разность | O12: расход эл,энергии за час
A13: 1 | B13: 2 | C13: 3 | E13: 4 | F13: 5 | G13: 6 | I13: 7 | J13: 8 | K13: 9 | L13: 10 | M13: 11 | N13: 12 | O13: 13
A14: 0 | E14: 50.79696 | I14: 4.0572
A15: 1 | E15: 37.34112 | I15: 3.8661
A16: 2 | E16: 35.2304 | I16: 3.7926
A17: 3 | E17: 35.57184 | I17: 3.822
A18: 4 | E18: 28.06016 | I18: 3.7779
A19: 5 | E19: 29.34832 | I19: 3.9396
A20: 6 | E20: 30.13984 | I20: 6.762
A21: 7 | E21: 36.50304 | I21: 6.4092
A22: 8 | E22: 40.22784 | I22: 5.0568
A23: 9 | E23: 45.02352 | I23: 4.3365
A24: 10 | E24: 46.4048 | I24: 2.0286
A25: 11 | E25: 48.1896 | I25: 1.617
... A37: 23 | E37: 60.86944 | I37: 6.4092
A38: 24
A39: Итого | E39: =SUM(E15:E38) -> 1032.2818 | I39: =SUM(I15:I38) -> 115.1745 | L39: =SUM(L15:L38) -> 0 | O39: =SUM(O15:O38) -> 0
A40: 1, При наличии на предприятии отклонений от нормальных режимов электропотребления (временное изменение схем питания, остановка на ремонт, резкое снижение
A41: эл,потребления и т,д,) последние необходимо перечислить,
A42: Главный инженер АО "Вологдаоблэнерго" А,В, Чурляев
A43: составляется самим предприятием с соблюдением всех пунктов настоящей таблицы,

Sheet 42
B1: АО "Вологдаоблэнерго" | J1: код 900151 | M1: ПС "Малечкино" ф,Птицефабрика
B2: наименование предприятия | M2: наименование источника питания
M3: _________________________________
B4: ул, Горького, 99 | I4: Таблица № 1 | M4: ТП-1 ЦРП Малечкино; ТП-5 АВМ
B5: адрес
A6: почасовых записей показаний электрических счетчиков
A7: в режимный день 18 ДЕКАБРЯ 2024г.
A8: 1630 | B8: 1628
A9: часы суток | B9: Активная энергия | J9: Реактивная энергия
B10: ТП-1 ЦРП Малечкино | F10: ТП-5 АВМ | J10: ТП-1 ЦРП Малечкино | M10: ТП-5 АВМ
B11: Расчет, Коэф, | E11: 30 | F11: Расчет, Коэф, | I11: 120 | J11: Расчет, Коэф, | L11: =E11 -> 30 | M11: Расчет, Коэф, | O11: =I11 -> 120
B12: показания счетчика | C12: разность | E12: расход эл,энергии за час | F12: показания счетчика | G12: разность | I12: расход эл,энергии за час | J12: показания счетчика | K12: разность | L12: расход эл,энергии за час | M12: показания счетчика | N12: разность | O12: расход эл,энергии за час
A13: 1 | B13: 2 | C13: 3 | E13: 4 | F13: 5 | G13: 6 | I13: 7 | J13: 8 | K13: 9 | L13: 10 | M13: 11 | N13: 12 | O13: 13
A14: 0 | E14: 2.88 | I14: 9.73728
A15: 1 | E15: 3.1488 | I15: 6.5856
A16: 2 | E16: 3.648 | I16: 5.90352
A17: 3 | E17: 3.7248 | I17: 5.5272
A18: 4 | E18: 0.9216 | I18: 5.08032
A19: 5 | E19: 2.3424 | I19: 5.1744
A20: 6 | E20: 2.156 | I20: 5.12736
A21: 7 | E21: 0.392 | I21: 5.4096
A22: 8 | E22: 1.6856 | I22: 5.71536
A23: 9 | E23: 12.2304 | I23: 6.32688
A24: 10 | E24: 15.4448 | I24: 7.92624
A25: 11 | E25: 19.6392 | I25: 9.45504
... A37: 23 | E37: 2.376 | I37: 9.69024
A38: 24
A39: Итого | E39: =SUM(E15:E38) -> 178.2844 | I39: =SUM(I15:I38) -> 199.37904 | L39: =SUM(L15:L38) -> 0 | O39: =SUM(O15:O38) -> 0
A40: 1, При наличии на предприятии отклонений от нормальных режимов электропотребления (временное изменение схем питания, остановка на ремонт, резкое снижение
A41: эл,потребления и т,д,) последние необходимо перечислить,
A42: Главный инженер АО "Вологдаоблэнерго" А,В, Чурляев
A43: составляется самим предприятием с соблюдением всех пунктов настоящей таблицы,

Sheet 43
B1: АО "Вологдаоблэнерго" | J1: код 900151 | M1: ПС Малечкино, ф, Поселок
B2: наименование предприятия | M2: наименование источника питания
M3: ТП-8 ПС Малечкино В-1; В-2
B4: ул, Горького, 99 | I4: Таблица № 1
B5: адрес
A6: почасовых записей показаний электрических счетчиков
A7: ='42'!A7:O7 -> в режимный день 18 ДЕКАБРЯ 2024г.
A8: 1630 | B8: 1628
A9: часы суток | B9: Активная энергия | J9: Реактивная энергия
B10: ТП-8 ПС Малечкино В-1 | F10: ТП-8 ПС Малечкино В-2 | J10: ТП-8 ПС Малечкино В-1 | M10: ТП-8 ПС Малечкино В-2
B11: Расчет, Коэф, | E11: 80 | F11: Расчет, Коэф, | I11: 80 | J11: Расчет, Коэф, | L11: =E11 -> 80 | M11: Расчет, Коэф, | O11: =I11 -> 80
B12: показания счетчика | C12: разность | E12: расход эл,энергии за час | F12: показания счетчика | G12: разность | I12: расход эл,энергии за час | J12: показания счетчика | K12: разность | L12: расход эл,энергии за час | M12: показания счетчика | N12: разность | O12: расход эл,энергии за час
A13: 1 | B13: 2 | C13: 3 | E13: 4 | F13: 5 | G13: 6 | I13: 7 | J13: 8 | K13: 9 | L13: 10 | M13: 11 | N13: 12 | O13: 13
A14: 0 | E14: 14.53056 | I14: 10.31744
A15: 1 | E15: 15.08352 | I15: 8.3104
A16: 2 | E16: 11.58144 | I16: 7.51072
A17: 3 | E17: 10.38336 | I17: 6.8208
A18: 4 | E18: 9.61536 | I18: 8.3888
A19: 5 | E19: 18.53952 | I19: 6.5072
A20: 6 | E20: 20.41536 | I20: 13.28096
A21: 7 | E21: 20.99552 | I21: 25.29184
A22: 8 | E22: 19.34912 | I22: 22.56352
A23: 9 | E23: 25.07232 | I23: 18.78464
A24: 10 | E24: 22.4224 | I24: 19.38048
A25: 11 | E25: 20.02336 | I25: 22.75168
... A37: 23 | E37: 21.51072 | I37: 14.99008
A38: 24
A39: Итого | E39: =SUM(E15:E38) -> 442.72384 | I39: =SUM(I15:I38) -> 335.75584 | L39: =SUM(L15:L38) -> 0 | O39: =SUM(O15:O38) -> 0
A40: 1, При наличии на предприятии отклонений от нормальных режимов электропотребления (временное изменение схем питания, остановка на ремонт, резкое снижение
A41: эл,потребления и т,д,) последние необходимо перечислить,
A42: Главный инженер АО "Вологдаоблэнерго" А,В, Чурляев
A43: составляется самим предприятием с соблюдением всех пунктов настоящей таблицы,

Sheet 44
B1: АО "Вологдаоблэнерго" | J1: код 900151 | M1: ПС Малечкино, ф, Поселок
B2: наименование предприятия | M2: наименование источника питания
M3: ТП-105; КТП-Дачи п,Малечкино
B4: ул, Горького, 99 | I4: Таблица № 1
B5: адрес
A6: почасовых записей показаний электрических счетчиков
A7: ='42'!A7:O7 -> в режимный день 18 ДЕКАБРЯ 2024г.
A8: 1630 | B8: 1628
A9: часы суток | B9: Активная энергия | J9: Реактивная энергия
B10: ТП-105 | F10: КТП-Дачи п,Малечкино | J10: ТП-105 | M10: КТП-Дачи п,Малечкино
B11: Расчет, Коэф, | E11: 80 | F11: Расчет, Коэф, | I11: 60 | J11: Расчет, Коэф, | L11: =E11 -> 80 | M11: Расчет, Коэф, | O11: =I11 -> 60
B12: показания счетчика | C12: разность | E12: расход эл,энергии за час | F12: показания счетчика | G12: разность | I12: расход эл,энергии за час | J12: показания счетчика | K12: разность | L12: расход эл,энергии за час | M12: показания счетчика | N12: разность | O12: расход эл,энергии за час
A13: 1 | B13: 2 | C13: 3 | E13: 4 | F13: 5 | G13: 6 | I13: 7 | J13: 8 | K13: 9 | L13: 10 | M13: 11 | N13: 12 | O13: 13
A14: 0 | E14: 23.3856 | I14: 2.8224
A15: 1 | E15: 21.2352 | I15: 1.5288
A16: 2 | E16: 19.8144 | I16: 1.4896
A17: 3 | E17: 17.3952 | I17: 1.5288
A18: 4 | E18: 17.7792 | I18: 1.4896
A19: 5 | E19: 18.1632 | I19: 1.5288
A20: 6 | E20: 20.2272 | I20: 1.4896
A21: 7 | E21: 20.5016 | I21: 1.4896
A22: 8 | E22: 22.3832 | I22: 1.4504
A23: 9 | E23: 25.676 | I23: 1.5288
A24: 10 | E24: 27.3616 | I24: 1.4896
A25: 11 | E25: 26.6168 | I25: 1.4896
... A37: 23 | E37: 28.1952 | I37: 2.7832
A38: 24
A39: Итого | E39: =SUM(E15:E38) -> 577.6972 | I39: =SUM(I15:I38) -> 48.8432 | L39: =SUM(L15:L38) -> 0 | O39: =SUM(O15:O38) -> 0
A40: 1, При наличии на предприятии отклонений от нормальных режимов электропотребления (временное изменение схем питания, остановка на ремонт, резкое снижение
A41: эл,потребления и т,д,) последние необходимо перечислить,
A42: Главный инженер АО "Вологдаоблэнерго" А,В, Чурляев
A43: составляется самим предприятием с соблюдением всех пунктов настоящей таблицы,

Sheet 45
B1: АО "Вологдаоблэнерго" | J1: код 900151 | M1: ПС Малечкино, ф, Поселок
B2: наименование предприятия | M2: наименование источника питания
M3: ТП-35; ТП-103
B4: ул, Горького, 99 | I4: Таблица № 1
B5: адрес
A6: почасовых записей показаний электрических счетчиков
A7: ='42'!A7:O7 -> в режимный день 18 ДЕКАБРЯ 2024г.
A8: 1630 | B8: 1628
A9: часы суток | B9: Активная энергия | J9: Реактивная энергия
B10: ТП-35 | F10: ТП-103 | J10: ТП-35 | M10: ТП-103
B11: Расчет, Коэф, | E11: 30 | F11: Расчет, Коэф, | I11: 120 | J11: Расчет, Коэф, | L11: =E11 -> 30 | M11: Расчет, Коэф, | O11: =I11 -> 120
B12: показания счетчика | C12: разность | E12: расход эл,энергии за час | F12: показания счетчика | G12: разность | I12: расход эл,энергии за час | J12: показания счетчика | K12: разность | L12: расход эл,энергии за час | M12: показания счетчика | N12: разность | O12: расход эл,энергии за час
A13: 1 | B13: 2 | C13: 3 | E13: 4 | F13: 5 | G13: 6 | I13: 7 | J13: 8 | K13: 9 | L13: 10 | M13: 11 | N13: 12 | O13: 13
A14: 0 | E14: 4.5504 | I14: 74.41728
A15: 1 | E15: 3.2064 | I15: 64.25664
A16: 2 | E16: 2.8416 | I16: 57.1536
A17: 3 | E17: 2.5536 | I17: 62.16336
A18: 4 | E18: 2.7456 | I18: 55.272
A19: 5 | E19: 2.8416 | I19: 53.81376
A20: 6 | E20: 7.2324 | I20: 59.59968
A21: 7 | E21: 3.822 | I21: 69.36048
A22: 8 | E22: 5.9388 | I22: 75.852
A23: 9 | E23: 11.76 | I23: 75.99312
A24: 10 | E24: 9.9176 | I24: 76.93392
A25: 11 | E25: 12.1128 | I25: 75.7344
... A37: 23 | E37: 7.1082 | I37: 95.30304
A38: 24
A39: Итого | E39: =SUM(E15:E38) -> 171.0596 | I39: =SUM(I15:I38) -> 1860.8554 | L39: =SUM(L15:L38) -> 0 | O39: =SUM(O15:O38) -> 0
A40: 1, При наличии на предприятии отклонений от нормальных режимов электропотребления (временное изменение схем питания, остановка на ремонт, резкое снижение
A41: эл,потребления и т,д,) последние необходимо перечислить,
A42: Главный инженер АО "Вологдаоблэнерго" А,В, Чурляев
A43: составляется самим предприятием с соблюдением всех пунктов настоящей таблицы,

Sheet 46
B1: АО "Вологдаоблэнерго" | J1: код 900151 | M1: ПС Малечкино, ф, Поселок
B2: наименование предприятия | M2: наименование источника питания
M3: ТП-3 ПС Малечкино; ТП-97
B4: ул, Горького, 99 | I4: Таблица № 1
B5: адрес
A6: почасовых записей показаний электрических счетчиков
A7: ='42'!A7:O7 -> в режимный день 18 ДЕКАБРЯ 2024г.
A8: 1630 | B8: 1628
A9: часы суток | B9: Активная энергия | J9: Реактивная энергия
B10: ТП-3 ПС Малечкино | F10: ТП-97 | J10: ТП-3 ПС Малечкино | M10: ТП-97
B11: Расчет, Коэф, | E11: 120 | F11: Расчет, Коэф, | I11: 60 | J11: Расчет, Коэф, | L11: =E11 -> 120 | M11: Расчет, Коэф, | O11: =I11 -> 60
B12: показания счетчика | C12: разность | E12: расход эл,энергии за час | F12: показания счетчика | G12: разность | I12: расход эл,энергии за час | J12: показания счетчика | K12: разность | L12: расход эл,энергии за час | M12: показания счетчика | N12: разность | O12: расход эл,энергии за час
A13: 1 | B13: 2 | C13: 3 | E13: 4 | F13: 5 | G13: 6 | I13: 7 | J13: 8 | K13: 9 | L13: 10 | M13: 11 | N13: 12 | O13: 13
A14: 0 | E14: 36.56448 | I14: 38.7492
A15: 1 | E15: 26.9568 | I15: 29.8116
A16: 2 | E16: 25.36704 | I16: 26.08368
A17: 3 | E17: 24.44544 | I17: 24.13152
A18: 4 | E18: 23.80032 | I18: 23.73168
A19: 5 | E19: 40.71168 | I19: 25.03704
A20: 6 | E20: 37.044 | I20: 27.27144
A21: 7 | E21: 35.23296 | I21: 28.27104
A22: 8 | E22: 35.84448 | I22: 34.3392
A23: 9 | E23: 43.37088 | I23: 39.37248
A24: 10 | E24: 45.3936 | I24: 42.2772
A25: 11 | E25: 39.25488 | I25: 37.53792
... A37: 23 | E37: 41.24736 | I37: 45.14664
A38: 24 | P38: 1
A39: Итого | E39: =SUM(E15:E38) -> 807.33336 | I39: =SUM(I15:I38) -> 873.2976 | L39: =SUM(L15:L38) -> 0 | O39: =SUM(O15:O38) -> 0
A40: 1, При наличии на предприятии отклонений от нормальных режимов электропотребления (временное изменение схем питания, остановка на ремонт, резкое снижение
A41: эл,потребления и т,д,) последние необходимо перечислить,
A42: Главный инженер АО "Вологдаоблэнерго" А,В, Чурляев
A43: составляется самим предприятием с соблюдением всех пунктов настоящей таблицы,

Sheet 47
B1: АО "Вологдаоблэнерго" | J1: код 900151 | M1: ПС Малечкино, ф, Поселок
B2: наименование предприятия | M2: наименование источника питания
M3: ТП-15 Кормоцех В-1; В-2
B4: ул, Горького, 99 | I4: Таблица № 1
B5: адрес
A6: почасовых записей показаний электрических счетчиков
A7: ='42'!A7:O7 -> в режимный день 18 ДЕКАБРЯ 2024г.
A8: 1630 | B8: 1628
A9: часы суток | B9: Активная энергия | J9: Реактивная энергия
B10: ТП-15 Кормоцех В-1 | F10: ТП-15 Кормоцех В-2 | J10: ТП-15 Кормоцех В-1 | M10: ТП-15 Кормоцех В-2
B11: Расчет, Коэф, | E11: 60 | F11: Расчет, Коэф, | I11: 60 | J11: Расчет, Коэф, | L11: =E11 -> 60 | M11: Расчет, Коэф, | O11: =I11 -> 60
B12: показания счетчика | C12: разность | E12: расход эл,энергии за час | F12: показания счетчика | G12: разность | I12: расход эл,энергии за час | J12: показания счетчика | K12: разность | L12: расход эл,энергии за час | M12: показания счетчика | N12: разность | O12: расход эл,энергии за час
A13: 1 | B13: 2 | C13: 3 | E13: 4 | F13: 5 | G13: 6 | I13: 7 | J13: 8 | K13: 9 | L13: 10 | M13: 11 | N13: 12 | O13: 13
A14: 0 | E14: 7.9488 | I14: 0
A15: 1 | E15: 7.5456 | I15: 0
A16: 2 | E16: 7.5456 | I16: 0
A17: 3 | E17: 7.5456 | I17: 0
A18: 4 | E18: 7.5456 | I18: 0
A19: 5 | E19: 7.6032 | I19: 0
A20: 6 | E20: 7.5852 | I20: 0
A21: 7 | E21: 18.522 | I21: 0
A22: 8 | E22: 34.0452 | I22: 0
A23: 9 | E23: 8.1144 | I23: 0
A24: 10 | E24: 6.5856 | I24: 0
A25: 11 | E25: 6.468 | I25: 0
... A37: 23 | E37: 7.9596 | I37: 0
A38: 24
A39: Итого | E39: =SUM(E15:E38) -> 242.3922 | I39: =SUM(I15:I38) -> 0 | L39: =SUM(L15:L38) -> 0 | O39: =SUM(O15:O38) -> 0
A40: 1, При наличии на предприятии отклонений от нормальных режимов электропотребления (временное изменение схем питания, остановка на ремонт, резкое снижение
A41: эл,потребления и т,д,) последние необходимо перечислить,
A42: Главный инженер АО "Вологдаоблэнерго" А,В, Чурляев
A43: составляется самим предприятием с соблюдением всех пунктов настоящей таблицы,

Sheet 48
B1: АО "Вологдаоблэнерго" | J1: код 900151 | M1: ПС Малечкино, ф, Парфеново-1
B2: наименование предприятия | M2: наименование источника питания
M3: ЦРП-Парфеново
B4: ул, Горького, 99 | I4: Таблица № 1
B5: адрес
A6: почасовых записей показаний электрических счетчиков
A7: ='42'!A7:O7 -> в режимный день 18 ДЕКАБРЯ 2024г.
A8: 1630 | B8: 1628
A9: часы суток | B9: Активная энергия | J9: Реактивная энергия
B10: ЦРП-Парфеново В-1 | F10: ЦРП-Парфеново В-2 | J10: ЦРП-Парфеново В-1 | M10: ЦРП-Парфеново В-2
B11: Расчет, Коэф, | E11: 4000 | F11: Расчет, Коэф, | I11: 3000 | J11: Расчет, Коэф, | L11: =E11 -> 4000 | M11: Расчет, Коэф, | O11: =I11 -> 3000
B12: показания счетчика | C12: разность | E12: расход эл,энергии за час | F12: показания счетчика | G12: разность | I12: расход эл,энергии за час | J12: показания счетчика | K12: разность | L12: расход эл,энергии за час | M12: показания счетчика | N12: разность | O12: расход эл,энергии за час
A13: 1 | B13: 2 | C13: 3 | E13: 4 | F13: 5 | G13: 6 | I13: 7 | J13: 8 | K13: 9 | L13: 10 | M13: 11 | N13: 12 | O13: 13
A14: 0 | E14: 438.528 | I14: 0
A15: 1 | E15: 471.552 | I15: 0
A16: 2 | E16: 452.352 | I16: 0
A17: 3 | E17: 471.552 | I17: 0
A18: 4 | E18: 449.28 | I18: 0
A19: 5 | E19: 456.192 | I19: 0
A20: 6 | E20: 467.264 | I20: 0
A21: 7 | E21: 472.752 | I21: 0
A22: 8 | E22: 584.08 | I22: 0
A23: 9 | E23: 1084.272 | I23: 0
A24: 10 | E24: 1035.664 | I24: 0
A25: 11 | E25: 1062.32 | I25: 0
... A37: 23 | E37: 448.272 | I37: 0
A38: 24
A39: Итого | E39: =SUM(E15:E38) -> 14897.856 | I39: =SUM(I15:I38) -> 0 | L39: =SUM(L15:L38) -> 0 | O39: =SUM(O15:O38) -> 0
A40: 1, При наличии на предприятии отклонений от нормальных режимов электропотребления (временное изменение схем питания, остановка на ремонт, резкое снижение
A41: эл,потребления и т,д,) последние необходимо перечислить,
A42: Главный инженер АО "Вологдаоблэнерго" А,В, Чурляев
A43: составляется самим предприятием с соблюдением всех пунктов настоящей таблицы,

Sheet 49
B1: АО "Вологдаоблэнерго" | J1: код 900151 | M1: ПС Малечкино, ф, Киселево
B2: наименование предприятия | M2: наименование источника питания
M3: ЦРП-Парфеново
B4: ул, Горького, 99 | I4: Таблица № 1
B5: адрес
A6: почасовых записей показаний электрических счетчиков
A7: ='42'!A7:O7 -> в режимный день 18 ДЕКАБРЯ 2024г.
A8: 1630 | B8: 1628
A9: часы суток | B9: Активная энергия | J9: Реактивная энергия
B10: ЦРП-Парфеново В ф,Киселево | J10: ЦРП-Парфеново В ф,Киселево
B11: Расчет, Коэф, | E11: 6000 | F11: Расчет, Коэф, | J11: Расчет, Коэф, | L11: =E11 -> 6000 | M11: Расчет, Коэф, | O11: =I11 -> 0
B12: показания счетчика | C12: разность | E12: расход эл,энергии за час | F12: показания счетчика | G12: разность | I12: расход эл,энергии за час | J12: показания счетчика | K12: разность | L12: расход эл,энергии за час | M12: показания счетчика | N12: разность | O12: расход эл,энергии за час
A13: 1 | B13: 2 | C13: 3 | E13: 4 | F13: 5 | G13: 6 | I13: 7 | J13: 8 | K13: 9 | L13: 10 | M13: 11 | N13: 12 | O13: 13
A14: 0
A15: 1
A16: 2
A17: 3
A18: 4
A19: 5
A20: 6
A21: 7
A22: 8
A23: 9
A24: 10
A25: 11
... A38: 24
A39: Итого | E39: =SUM(E15:E38) -> 0 | I39: =SUM(I15:I38) -> 0 | L39: =SUM(L15:L38) -> 0 | O39: =SUM(O15:O38) -> 0
A40: 1, При наличии на предприятии отклонений от нормальных режимов электропотребления (временное изменение схем питания, остановка на ремонт, резкое снижение
A41: эл,потребления и т,д,) последние необходимо перечислить,
A42: Главный инженер АО "Вологдаоблэнерго" А,В, Чурляев
A43: составляется самим предприятием с соблюдением всех пунктов настоящей таблицы,

Sheet 50
B1: АО "Вологдаоблэнерго" | J1: код 900151 | M1: ПС Малечкино, ф, Киселево
B2: наименование предприятия | M2: наименование источника питания
M3: ТП-51; КТП-250 Курилово-ферма
B4: ул, Горького, 99 | I4: Таблица № 1
B5: адрес
A6: почасовых записей показаний электрических счетчиков
A7: ='42'!A7:O7 -> в режимный день 18 ДЕКАБРЯ 2024г.
A8: 1630 | B8: 1628
A9: часы суток | B9: Активная энергия | J9: Реактивная энергия
B10: ТП-51 | F10: КТП-250 Курилово-ферма | J10: ТП-51 | M10: КТП-250 Курилово-ферма
B11: Расчет, Коэф, | E11: 120 | F11: Расчет, Коэф, | I11: 30 | J11: Расчет, Коэф, | L11: =E11 -> 120 | M11: Расчет, Коэф, | O11: =I11 -> 30
B12: показания счетчика | C12: разность | E12: расход эл,энергии за час | F12: показания счетчика | G12: разность | I12: расход эл,энергии за час | J12: показания счетчика | K12: разность | L12: расход эл,энергии за час | M12: показания счетчика | N12: разность | O12: расход эл,энергии за час
A13: 1 | B13: 2 | C13: 3 | E13: 4 | F13: 5 | G13: 6 | I13: 7 | J13: 8 | K13: 9 | L13: 10 | M13: 11 | N13: 12 | O13: 13
A14: 0 | I14: 5.0176
A15: 1 | I15: 4.9392
A16: 2 | I16: 5.0176
A17: 3 | I17: 4.9392
A18: 4 | I18: 5.0176
A19: 5 | I19: 4.9392
A20: 6 | I20: 5.096
A21: 7 | I21: 5.2528
A22: 8 | I22: 5.096
A23: 9 | I23: 5.2528
A24: 10 | I24: 4.9392
A25: 11 | I25: 5.3312
... A37: 23 | I37: 5.3312
A38: 24
A39: Итого | E39: =SUM(E15:E38) -> 0 | I39: =SUM(I15:I38) -> 129.9088 | L39: =SUM(L15:L38) -> 0 | O39: =SUM(O15:O38) -> 0
A40: 1, При наличии на предприятии отклонений от нормальных режимов электропотребления (временное изменение схем питания, остановка на ремонт, резкое снижение
A41: эл,потребления и т,д,) последние необходимо перечислить,
A42: Главный инженер АО "Вологдаоблэнерго" А,В, Чурляев
A43: составляется самим предприятием с соблюдением всех пунктов настоящей таблицы,

Sheet 51
B1: АО "Вологдаоблэнерго" | J1: код 900151 | M1: ПС Малечкино, ф, Тепл, комбинат
B2: наименование предприятия | M2: наименование источника питания
M3: ТП-33; КТП-400 Пилорама Карат плюс
B4: ул, Горького, 99 | I4: Таблица № 1
B5: адрес
A6: почасовых записей показаний электрических счетчиков
A7: ='42'!A7:O7 -> в режимный день 18 ДЕКАБРЯ 2024г.
A8: 1630 | B8: 1628
A9: часы суток | B9: Активная энергия | J9: Реактивная энергия
B10: ТП-33 | F10: КТП-400 Пилорама Карат плюс | J10: ТП-33 | M10: КТП-400 Пилорама Карат плюс
B11: Расчет, Коэф, | E11: 30 | F11: Расчет, Коэф, | I11: 120 | J11: Расчет, Коэф, | L11: =E11 -> 30 | M11: Расчет, Коэф, | O11: =I11 -> 120
B12: показания счетчика | C12: разность | E12: расход эл,энергии за час | F12: показания счетчика | G12: разность | I12: расход эл,энергии за час | J12: показания счетчика | K12: разность | L12: расход эл,энергии за час | M12: показания счетчика | N12: разность | O12: расход эл,энергии за час
A13: 1 | B13: 2 | C13: 3 | E13: 4 | F13: 5 | G13: 6 | I13: 7 | J13: 8 | K13: 9 | L13: 10 | M13: 11 | N13: 12 | O13: 13
A14: 0 | E14: 32.2752 | I14: 32.48112
A15: 1 | E15: 15.1104 | I15: 33.44544
A16: 2 | E16: 16.032 | I16: 25.49568
A17: 3 | E17: 14.0352 | I17: 23.12016
A18: 4 | E18: 14.5536 | I18: 23.4024
A19: 5 | E19: 15.6864 | I19: 23.73168
A20: 6 | E20: 19.6392 | I20: 26.78928
A21: 7 | E21: 23.0888 | I21: 32.5752
A22: 8 | E22: 19.1688 | I22: 38.71392
A23: 9 | E23: 28.6356 | I23: 79.6152
A24: 10 | E24: 29.5764 | I24: 81.63792
A25: 11 | E25: 31.3796 | I25: 75.1464
... A37: 23 | E37: 43.1442 | I37: 33.3984
A38: 24
A39: Итого | E39: =SUM(E15:E38) -> 724.1994 | I39: =SUM(I15:I38) -> 1290.2366 | L39: =SUM(L15:L38) -> 0 | O39: =SUM(O15:O38) -> 0
A40: 1, При наличии на предприятии отклонений от нормальных режимов электропотребления (временное изменение схем питания, остановка на ремонт, резкое снижение
A41: эл,потребления и т,д,) последние необходимо перечислить,
A42: Главный инженер АО "Вологдаоблэнерго" А,В, Чурляев
A43: составляется самим предприятием с соблюдением всех пунктов настоящей таблицы,

Sheet 52
B1: АО "Вологдаоблэнерго" | J1: код 900151 | M1: ПС Малечкино, ф,Котельная
B2: наименование предприятия | M2: наименование источника питания
M3: ТП-47 В-1
B4: ул, Горького, 99 | I4: Таблица № 1 | M4: ТП-47 В-2
B5: адрес
A6: почасовых записей показаний электрических счетчиков
A7: ='42'!A7:O7 -> в режимный день 18 ДЕКАБРЯ 2024г.
A8: 1630 | B8: 1628
A9: часы суток | B9: Активная энергия | J9: Реактивная энергия
B10: =M3 -> ТП-47 В-1 | F10: =M4 -> ТП-47 В-2 | J10: =B10 -> ТП-47 В-1 | M10: =F10 -> ТП-47 В-2
B11: Расчет, Коэф, | E11: 120 | F11: Расчет, Коэф, | I11: 120 | J11: Расчет, Коэф, | L11: =E11 -> 120 | M11: Расчет, Коэф, | O11: =I11 -> 120
B12: показания счетчика | C12: разность | E12: расход эл,энергии за час | F12: показания счетчика | G12: разность | I12: расход эл,энергии за час | J12: показания счетчика | K12: разность | L12: расход эл,энергии за час | M12: показания счетчика | N12: разность | O12: расход эл,энергии за час
A13: 1 | B13: 2 | C13: 3 | E13: 4 | F13: 5 | G13: 6 | I13: 7 | J13: 8 | K13: 9 | L13: 10 | M13: 11 | N13: 12 | O13: 13
A14: 0 | E14: 0 | I14: 33.02208
A15: 1 | E15: 0 | I15: 30.88176
A16: 2 | E16: 0 | I16: 32.6928
A17: 3 | E17: 0 | I17: 30.52896
A18: 4 | E18: 0 | I18: 30.52896
A19: 5 | E19: 0 | I19: 32.34
A20: 6 | E20: 0 | I20: 30.48192
A21: 7 | E21: 0 | I21: 33.56304
A22: 8 | E22: 0 | I22: 32.83392
A23: 9 | E23: 0 | I23: 30.9288
A24: 10 | E24: 0 | I24: 32.4576
A25: 11 | E25: 0 | I25: 29.89392
... A37: 23 | E37: 0 | I37: 34.00992
A38: 24
A39: Итого | E39: =SUM(E15:E38) -> 0 | I39: =SUM(I15:I38) -> 739.30416 | L39: =SUM(L15:L38) -> 0 | O39: =SUM(O15:O38) -> 0
A40: 1, При наличии на предприятии отклонений от нормальных режимов электропотребления (временное изменение схем питания, остановка на ремонт, резкое снижение
A41: эл,потребления и т,д,) последние необходимо перечислить,
A42: Главный инженер АО "Вологдаоблэнерго" А,В, Чурляев
A43: составляется самим предприятием с соблюдением всех пунктов настоящей таблицы,

Sheet 53
B1: АО "Вологдаоблэнерго" | J1: код 900151 | M1: ПС Малечкино, ф,Птицефабрика
B2: наименование предприятия | M2: наименование источника питания
M3: ТП-9 В-1
B4: ул, Горького, 99 | I4: Таблица № 1
B5: адрес
A6: почасовых записей показаний электрических счетчиков
A7: ='42'!A7:O7 -> в режимный день 18 ДЕКАБРЯ 2024г.
A8: 1630 | B8: 1628
A9: часы суток | B9: Активная энергия | J9: Реактивная энергия
B10: =M3 -> ТП-9 В-1 | F10: =M4 -> 0 | J10: =B10 -> ТП-9 В-1 | M10: =F10 -> 0
B11: Расчет, Коэф, | E11: 40 | F11: Расчет, Коэф, | I11: 120 | J11: Расчет, Коэф, | L11: =E11 -> 40 | M11: Расчет, Коэф, | O11: =I11 -> 120
B12: показания счетчика | C12: разность | E12: расход эл,энергии за час | F12: показания счетчика | G12: разность | I12: расход эл,энергии за час | J12: показания счетчика | K12: разность | L12: расход эл,энергии за час | M12: показания счетчика | N12: разность | O12: расход эл,энергии за час
A13: 1 | B13: 2 | C13: 3 | E13: 4 | F13: 5 | G13: 6 | I13: 7 | J13: 8 | K13: 9 | L13: 10 | M13: 11 | N13: 12 | O13: 13
A14: 0 | E14: 0 | I14: 0
A15: 1 | E15: 0 | I15: 0
A16: 2 | E16: 0 | I16: 0
A17: 3 | E17: 0 | I17: 0
A18: 4 | E18: 0 | I18: 0
A19: 5 | E19: 0 | I19: 0
A20: 6 | E20: 0 | I20: 0
A21: 7 | E21: 0 | I21: 0
A22: 8 | E22: 0 | I22: 0
A23: 9 | E23: 0 | I23: 0
A24: 10 | E24: 0 | I24: 0
A25: 11 | E25: 0 | I25: 0
... A37: 23 | E37: 0 | I37: 0
A38: 24
A39: Итого | E39: =SUM(E15:E38) -> 0 | I39: =SUM(I15:I38) -> 0 | L39: =SUM(L15:L38) -> 0 | O39: =SUM(O15:O38) -> 0
A40: 1, При наличии на предприятии отклонений от нормальных режимов электропотребления (временное изменение схем питания, остановка на ремонт, резкое снижение
A41: эл,потребления и т,д,) последние необходимо перечислить,
A42: Главный инженер АО "Вологдаоблэнерго" А,В, Чурляев
A43: составляется самим предприятием с соблюдением всех пунктов настоящей таблицы,

Sheet 54
B1: АО "Вологдаоблэнерго" | J1: код 900151 | M1: ПС Малечкино, ф,Котельная
B2: наименование предприятия | M2: наименование источника питания
M3: ТП-9 В-2
B4: ул, Горького, 99 | I4: Таблица № 1
B5: адрес
A6: почасовых записей показаний электрических счетчиков
A7: ='42'!A7:O7 -> в режимный день 18 ДЕКАБРЯ 2024г.
A8: 1630 | B8: 1628
A9: часы суток | B9: Активная энергия | J9: Реактивная энергия
B10: =M3 -> ТП-9 В-2 | F10: =M4 -> 0 | J10: =B10 -> ТП-9 В-2 | M10: =F10 -> 0
B11: Расчет, Коэф, | E11: 40 | F11: Расчет, Коэф, | I11: 120 | J11: Расчет, Коэф, | L11: =E11 -> 40 | M11: Расчет, Коэф, | O11: =I11 -> 120
B12: показания счетчика | C12: разность | E12: расход эл,энергии за час | F12: показания счетчика | G12: разность | I12: расход эл,энергии за час | J12: показания счетчика | K12: разность | L12: расход эл,энергии за час | M12: показания счетчика | N12: разность | O12: расход эл,энергии за час
A13: 1 | B13: 2 | C13: 3 | E13: 4 | F13: 5 | G13: 6 | I13: 7 | J13: 8 | K13: 9 | L13: 10 | M13: 11 | N13: 12 | O13: 13
A14: 0 | E14: 5.50184 | I14: 0
A15: 1 | E15: 4.55512 | I15: 0
A16: 2 | E16: 4.43096 | I16: 0
A17: 3 | E17: 4.32232 | I17: 0
A18: 4 | E18: 4.20592 | I18: 0
A19: 5 | E19: 4.57064 | I19: 0
A20: 6 | E20: 6.25456 | I20: 0
A21: 7 | E21: 7.20904 | I21: 0
A22: 8 | E22: 10.26648 | I22: 0
A23: 9 | E23: 9.30424 | I23: 0
A24: 10 | E24: 8.91624 | I24: 0
A25: 11 | E25: 7.93848 | I25: 0
... A37: 23 | E37: 6.08384 | I37: 0
A38: 24
A39: Итого | E39: =SUM(E15:E38) -> 147.7116 | I39: =SUM(I15:I38) -> 0 | L39: =SUM(L15:L38) -> 0 | O39: =SUM(O15:O38) -> 0
A40: 1, При наличии на предприятии отклонений от нормальных режимов электропотребления (временное изменение схем питания, остановка на ремонт, резкое снижение
A41: эл,потребления и т,д,) последние необходимо перечислить,
A42: Главный инженер АО "Вологдаоблэнерго" А,В, Чурляев
A43: составляется самим предприятием с соблюдением всех пунктов настоящей таблицы,

Sheet 55
B1: АО "Вологдаоблэнерго" | J1: код 900151 | M1: ПС Нелазское, ф, Шулма
B2: наименование предприятия | M2: наименование источника питания
M3: ТП-244
B4: ул, Горького, 99 | I4: Таблица № 1 | M4: ТП-250
B5: адрес
A6: почасовых записей показаний электрических счетчиков
A7: ='42'!A7:O7 -> в режимный день 18 ДЕКАБРЯ 2024г.
A8: 1630 | B8: 1628
A9: часы суток | B9: Активная энергия | J9: Реактивная энергия
B10: =M3 -> ТП-244 | F10: =M4 -> ТП-250 | J10: =B10 -> ТП-244 | M10: =F10 -> ТП-250
B11: Расчет, Коэф, | E11: 60 | F11: Расчет, Коэф, | I11: 60 | J11: Расчет, Коэф, | L11: =E11 -> 60 | M11: Расчет, Коэф, | O11: =I11 -> 60
B12: показания счетчика | C12: разность | E12: расход эл,энергии за час | F12: показания счетчика | G12: разность | I12: расход эл,энергии за час | J12: показания счетчика | K12: разность | L12: расход эл,энергии за час | M12: показания счетчика | N12: разность | O12: расход эл,энергии за час
A13: 1 | B13: 2 | C13: 3 | E13: 4 | F13: 5 | G13: 6 | I13: 7 | J13: 8 | K13: 9 | L13: 10 | M13: 11 | N13: 12 | O13: 13
A14: 0 | E14: 6.3072 | I14: 0
A15: 1 | E15: 6.4224 | I15: 0
A16: 2 | E16: 6.3936 | I16: 0
A17: 3 | E17: 6.3936 | I17: 0
A18: 4 | E18: 6.3936 | I18: 0
A19: 5 | E19: 6.3936 | I19: 0
A20: 6 | E20: 6.5268 | I20: 0
A21: 7 | E21: 6.5268 | I21: 0
A22: 8 | E22: 6.5268 | I22: 0
A23: 9 | E23: 6.5268 | I23: 0
A24: 10 | E24: 6.4974 | I24: 0
A25: 11 | E25: 6.5268 | I25: 0
... A37: 23 | E37: 6.5637 | I37: 0
A38: 24
A39: Итого | E39: =SUM(E15:E38) -> 148.8822 | I39: =SUM(I15:I38) -> 0 | L39: =SUM(L15:L38) -> 0 | O39: =SUM(O15:O38) -> 0
A40: 1, При наличии на предприятии отклонений от нормальных режимов электропотребления (временное изменение схем питания, остановка на ремонт, резкое снижение
A41: эл,потребления и т,д,) последние необходимо перечислить,
A42: Главный инженер АО "Вологдаоблэнерго" А,В, Чурляев
A43: составляется самим предприятием с соблюдением всех пунктов настоящей таблицы,

Sheet 56
B1: АО "Вологдаоблэнерго" | J1: код 900151 | M1: ПС Нелазское, ф, Шулма
B2: наименование предприятия | M2: наименование источника питания
M3: ТП-Поселок
B4: ул, Горького, 99 | I4: Таблица № 1 | M4: ТП-Школа
B5: адрес
A6: почасовых записей показаний электрических счетчиков
A7: ='42'!A7:O7 -> в режимный день 18 ДЕКАБРЯ 2024г.
A8: 1630 | B8: 1628
A9: часы суток | B9: Активная энергия | J9: Реактивная энергия
B10: =M3 -> ТП-Поселок | F10: =M4 -> ТП-Школа | J10: =B10 -> ТП-Поселок | M10: =F10 -> ТП-Школа
B11: Расчет, Коэф, | E11: 120 | F11: Расчет, Коэф, | I11: 120 | J11: Расчет, Коэф, | L11: =E11 -> 120 | M11: Расчет, Коэф, | O11: =I11 -> 120
B12: показания счетчика | C12: разность | E12: расход эл,энергии за час | F12: показания счетчика | G12: разность | I12: расход эл,энергии за час | J12: показания счетчика | K12: разность | L12: расход эл,энергии за час | M12: показания счетчика | N12: разность | O12: расход эл,энергии за час
A13: 1 | B13: 2 | C13: 3 | E13: 4 | F13: 5 | G13: 6 | I13: 7 | J13: 8 | K13: 9 | L13: 10 | M13: 11 | N13: 12 | O13: 13
A14: 0 | E14: 94.2336 | I14: 6.04464
A15: 1 | E15: 79.488 | I15: 6.32688
A16: 2 | E16: 72.6912 | I16: 7.90272
A17: 3 | E17: 74.1888 | I17: 5.45664
A18: 4 | E18: 72.576 | I18: 5.62128
A19: 5 | E19: 72.4608 | I19: 3.85728
A20: 6 | E20: 78.6744 | I20: 2.63424
A21: 7 | E21: 92.316 | I21: 5.85648
A22: 8 | E22: 97.8432 | I22: 13.66512
A23: 9 | E23: 107.4864 | I23: 16.84032
A24: 10 | E24: 103.3704 | I24: 16.55808
A25: 11 | E25: 106.1928 | I25: 21.45024
... A37: 23 | E37: 109.296 | I37: 8.96112
A38: 24
A39: Итого | E39: =SUM(E15:E38) -> 2271.39 | I39: =SUM(I15:I38) -> 211.58592 | L39: =SUM(L15:L38) -> 0 | O39: =SUM(O15:O38) -> 0
A40: 1, При наличии на предприятии отклонений от нормальных режимов электропотребления (временное изменение схем питания, остановка на ремонт, резкое снижение
A41: эл,потребления и т,д,) последние необходимо перечислить,
A42: Главный инженер АО "Вологдаоблэнерго" А,В, Чурляев
A43: составляется самим предприятием с соблюдением всех пунктов настоящей таблицы,

Sheet 57
B1: АО "Вологдаоблэнерго" | J1: код 900151 | M1: ПС Нелазское, ф, К-с Нелазское-2
B2: наименование предприятия | M2: наименование источника питания
M3: ТП-14 В-1
B4: ул, Горького, 99 | I4: Таблица № 1 | M4: ТП-14 В-2
B5: адрес
A6: почасовых записей показаний электрических счетчиков
A7: ='42'!A7:O7 -> в режимный день 18 ДЕКАБРЯ 2024г.
A8: 1630 | B8: 1628
A9: часы суток | B9: Активная энергия | J9: Реактивная энергия
B10: =M3 -> ТП-14 В-1 | F10: =M4 -> ТП-14 В-2 | J10: =B10 -> ТП-14 В-1 | M10: =F10 -> ТП-14 В-2
B11: Расчет, Коэф, | E11: 120 | F11: Расчет, Коэф, | I11: 120 | J11: Расчет, Коэф, | L11: =E11 -> 120 | M11: Расчет, Коэф, | O11: =I11 -> 120
B12: показания счетчика | C12: разность | E12: расход эл,энергии за час | F12: показания счетчика | G12: разность | I12: расход эл,энергии за час | J12: показания счетчика | K12: разность | L12: расход эл,энергии за час | M12: показания счетчика | N12: разность | O12: расход эл,энергии за час
A13: 1 | B13: 2 | C13: 3 | E13: 4 | F13: 5 | G13: 6 | I13: 7 | J13: 8 | K13: 9 | L13: 10 | M13: 11 | N13: 12 | O13: 13
A14: 0 | E14: 0 | I14: 97.7256
A15: 1 | E15: 0 | I15: 107.604
A16: 2 | E16: 0 | I16: 66.6792
A17: 3 | E17: 0 | I17: 76.0872
A18: 4 | E18: 0 | I18: 73.0296
A19: 5 | E19: 0 | I19: 55.7424
A20: 6 | E20: 0 | I20: 68.5608
A21: 7 | E21: 0 | I21: 62.328
A22: 8 | E22: 0 | I22: 89.7288
A23: 9 | E23: 0 | I23: 101.2536
A24: 10 | E24: 0 | I24: 95.7264
A25: 11 | E25: 0 | I25: 100.1952
... A37: 23 | E37: 0 | I37: 84.7896
A38: 24
A39: Итого | E39: =SUM(E15:E38) -> 0 | I39: =SUM(I15:I38) -> 2026.1304 | L39: =SUM(L15:L38) -> 0 | O39: =SUM(O15:O38) -> 0
A40: 1, При наличии на предприятии отклонений от нормальных режимов электропотребления (временное изменение схем питания, остановка на ремонт, резкое снижение
A41: эл,потребления и т,д,) последние необходимо перечислить,
A42: Главный инженер АО "Вологдаоблэнерго" А,В, Чурляев
A43: составляется самим предприятием с соблюдением всех пунктов настоящей таблицы,

Sheet 58
B1: АО "Вологдаоблэнерго" | J1: код 900151 | M1: ПС Нелазское, ф, К-с Нелазское-2
B2: наименование предприятия | M2: наименование источника питания
M3: ТП-15 В-1
B4: ул, Горького, 99 | I4: Таблица № 1 | M4: ТП-15 В-2
B5: адрес
A6: почасовых записей показаний электрических счетчиков
A7: ='42'!A7:O7 -> в режимный день 18 ДЕКАБРЯ 2024г.
A8: 1630 | B8: 1628
A9: часы суток | B9: Активная энергия | J9: Реактивная энергия
B10: =M3 -> ТП-15 В-1 | F10: =M4 -> ТП-15 В-2 | J10: =B10 -> ТП-15 В-1 | M10: =F10 -> ТП-15 В-2
B11: Расчет, Коэф, | E11: 200 | F11: Расчет, Коэф, | I11: 120 | J11: Расчет, Коэф, | L11: =E11 -> 200 | M11: Расчет, Коэф, | O11: =I11 -> 120
B12: показания счетчика | C12: разность | E12: расход эл,энергии за час | F12: показания счетчика | G12: разность | I12: расход эл,энергии за час | J12: показания счетчика | K12: разность | L12: расход эл,энергии за час | M12: показания счетчика | N12: разность | O12: расход эл,энергии за час
A13: 1 | B13: 2 | C13: 3 | E13: 4 | F13: 5 | G13: 6 | I13: 7 | J13: 8 | K13: 9 | L13: 10 | M13: 11 | N13: 12 | O13: 13
A14: 0 | E14: 1.536 | I14: 37.8672
A15: 1 | E15: 1.344 | I15: 37.044
A16: 2 | E16: 1.344 | I16: 33.516
A17: 3 | E17: 1.536 | I17: 33.2808
A18: 4 | E18: 1.344 | I18: 33.516
A19: 5 | E19: 1.344 | I19: 33.7512
A20: 6 | E20: 1.568 | I20: 36.6912
A21: 7 | E21: 1.372 | I21: 43.2768
A22: 8 | E22: 1.372 | I22: 46.0992
A23: 9 | E23: 1.568 | I23: 65.1504
A24: 10 | E24: 1.372 | I24: 87.8472
A25: 11 | E25: 1.372 | I25: 77.616
... A37: 23 | E37: 1.386 | I37: 39.0432
A38: 24
A39: Итого | E39: =SUM(E15:E38) -> 32.708 | I39: =SUM(I15:I38) -> 1155.0672 | L39: =SUM(L15:L38) -> 0 | O39: =SUM(O15:O38) -> 0
A40: 1, При наличии на предприятии отклонений от нормальных режимов электропотребления (временное изменение схем питания, остановка на ремонт, резкое снижение
A41: эл,потребления и т,д,) последние необходимо перечислить,
A42: Главный инженер АО "Вологдаоблэнерго" А,В, Чурляев
A43: составляется самим предприятием с соблюдением всех пунктов настоящей таблицы,

Sheet 59
B1: АО "Вологдаоблэнерго" | J1: код 900151 | M1: ПС Нелазское, ф, Шулма очистные
B2: наименование предприятия | M2: наименование источника питания
M3: КТП-Ива
B4: ул, Горького, 99 | I4: Таблица № 1
B5: адрес
A6: почасовых записей показаний электрических счетчиков
A7: ='42'!A7:O7 -> в режимный день 18 ДЕКАБРЯ 2024г.
A8: 1630 | B8: 1628
A9: часы суток | B9: Активная энергия | J9: Реактивная энергия
B10: =M3 -> КТП-Ива | F10: =M4 -> 0 | J10: =B10 -> КТП-Ива | M10: =F10 -> 0
B11: Расчет, Коэф, | E11: 30 | F11: Расчет, Коэф, | I11: 120 | J11: Расчет, Коэф, | L11: =E11 -> 30 | M11: Расчет, Коэф, | O11: =I11 -> 120
B12: показания счетчика | C12: разность | E12: расход эл,энергии за час | F12: показания счетчика | G12: разность | I12: расход эл,энергии за час | J12: показания счетчика | K12: разность | L12: расход эл,энергии за час | M12: показания счетчика | N12: разность | O12: расход эл,энергии за час
A13: 1 | B13: 2 | C13: 3 | E13: 4 | F13: 5 | G13: 6 | I13: 7 | J13: 8 | K13: 9 | L13: 10 | M13: 11 | N13: 12 | O13: 13
A14: 0 | E14: 3.2688 | I14: 0
A15: 1 | E15: 2.9088 | I15: 0
A16: 2 | E16: 2.1312 | I16: 0
A17: 3 | E17: 2.3184 | I17: 0
A18: 4 | E18: 1.9296 | I18: 0
A19: 5 | E19: 1.8 | I19: 0
A20: 6 | E20: 4.8216 | I20: 0
A21: 7 | E21: 3.5574 | I21: 0
A22: 8 | E22: 3.6897 | I22: 0
A23: 9 | E23: 4.0719 | I23: 0
A24: 10 | E24: 4.5423 | I24: 0
A25: 11 | E25: 3.5133 | I25: 0
... A37: 23 | E37: 3.16305 | I37: 0
A38: 24
A39: Итого | E39: =SUM(E15:E38) -> 89.8326 | I39: =SUM(I15:I38) -> 0 | L39: =SUM(L15:L38) -> 0 | O39: =SUM(O15:O38) -> 0
A40: 1, При наличии на предприятии отклонений от нормальных режимов электропотребления (временное изменение схем питания, остановка на ремонт, резкое снижение
A41: эл,потребления и т,д,) последние необходимо перечислить,
A42: Главный инженер АО "Вологдаоблэнерго" А,В, Чурляев
A43: составляется самим предприятием с соблюдением всех пунктов настоящей таблицы,

Sheet 60
B1: АО "Вологдаоблэнерго" | J1: код 900151 | M1: ПС Нелазское, ф, Крутец
B2: наименование предприятия | M2: наименование источника питания
M3: КТП-1 "Сад-3 ЧМК"
B4: ул, Горького, 99 | I4: Таблица № 1 | M4: КТП-2 "Сад-3 ЧМК"
B5: адрес
A6: почасовых записей показаний электрических счетчиков
A7: ='42'!A7:O7 -> в режимный день 18 ДЕКАБРЯ 2024г.
A8: 1630 | B8: 1628
A9: часы суток | B9: Активная энергия | J9: Реактивная энергия
B10: =M3 -> КТП-1 "Сад-3 ЧМК" | F10: =M4 -> КТП-2 "Сад-3 ЧМК" | J10: =B10 -> КТП-1 "Сад-3 ЧМК" | M10: =F10 -> КТП-2 "Сад-3 ЧМК"
B11: Расчет, Коэф, | E11: 60 | F11: Расчет, Коэф, | I11: 60 | J11: Расчет, Коэф, | L11: =E11 -> 60 | M11: Расчет, Коэф, | O11: =I11 -> 60
B12: показания счетчика | C12: разность | E12: расход эл,энергии за час | F12: показания счетчика | G12: разность | I12: расход эл,энергии за час | J12: показания счетчика | K12: разность | L12: расход эл,энергии за час | M12: показания счетчика | N12: разность | O12: расход эл,энергии за час
A13: 1 | B13: 2 | C13: 3 | E13: 4 | F13: 5 | G13: 6 | I13: 7 | J13: 8 | K13: 9 | L13: 10 | M13: 11 | N13: 12 | O13: 13
A14: 0 | E14: 30.4704 | I14: 4.9392
A15: 1 | E15: 17.7696 | I15: 3.9396
A16: 2 | E16: 18.3744 | I16: 4.0866
A17: 3 | E17: 17.3088 | I17: 3.9984
A18: 4 | E18: 16.128 | I18: 3.9984
A19: 5 | E19: 15.4368 | I19: 5.6154
A20: 6 | E20: 17.1402 | I20: 5.6742
A21: 7 | E21: 22.197 | I21: 4.9686
A22: 8 | E22: 29.3412 | I22: 6.9972
A23: 9 | E23: 31.0464 | I23: 7.8498
A24: 10 | E24: 34.0158 | I24: 5.0274
A25: 11 | E25: 29.8998 | I25: 5.733
... A37: 23 | E37: 42.1146 | I37: 6.3504
A38: 24
A39: Итого | E39: =SUM(E15:E38) -> 748.1169 | I39: =SUM(I15:I38) -> 147.2646 | L39: =SUM(L15:L38) -> 0 | O39: =SUM(O15:O38) -> 0
A40: 1, При наличии на предприятии отклонений от нормальных режимов электропотребления (временное изменение схем питания, остановка на ремонт, резкое снижение
A41: эл,потребления и т,д,) последние необходимо перечислить,
A42: Главный инженер АО "Вологдаоблэнерго" А,В, Чурляев
A43: составляется самим предприятием с соблюдением всех пунктов настоящей таблицы,

Sheet 61
B1: АО "Вологдаоблэнерго" | J1: код 900151 | M1: ПС Нелазское, ф, Цыково
B2: наименование предприятия | M2: наименование источника питания
M3: КТП-250кВА Зашекснинское
B4: ул, Горького, 99 | I4: Таблица № 1
B5: адрес
A6: почасовых записей показаний электрических счетчиков
A7: ='42'!A7:O7 -> в режимный день 18 ДЕКАБРЯ 2024г.
A8: 1630 | B8: 1628
A9: часы суток | B9: Активная энергия | J9: Реактивная энергия
B10: =M3 -> КТП-250кВА Зашекснинское | F10: =M4 -> 0 | J10: =B10 -> КТП-250кВА Зашекснинское | M10: =F10 -> 0
B11: Расчет, Коэф, | E11: 60 | F11: Расчет, Коэф, | I11: 120 | J11: Расчет, Коэф, | L11: =E11 -> 60 | M11: Расчет, Коэф, | O11: =I11 -> 120
B12: показания счетчика | C12: разность | E12: расход эл,энергии за час | F12: показания счетчика | G12: разность | I12: расход эл,энергии за час | J12: показания счетчика | K12: разность | L12: расход эл,энергии за час | M12: показания счетчика | N12: разность | O12: расход эл,энергии за час
A13: 1 | B13: 2 | C13: 3 | E13: 4 | F13: 5 | G13: 6 | I13: 7 | J13: 8 | K13: 9 | L13: 10 | M13: 11 | N13: 12 | O13: 13
A14: 0 | E14: 0 | I14: 0
A15: 1 | E15: 0 | I15: 0
A16: 2 | E16: 0 | I16: 0
A17: 3 | E17: 0 | I17: 0
A18: 4 | E18: 0 | I18: 0
A19: 5 | E19: 0 | I19: 0
A20: 6 | E20: 0 | I20: 0
A21: 7 | E21: 0 | I21: 0
A22: 8 | E22: 0 | I22: 0
A23: 9 | E23: 0 | I23: 0
A24: 10 | E24: 0 | I24: 0
A25: 11 | E25: 0 | I25: 0
... A37: 23 | E37: 0 | I37: 0
A38: 24
A39: Итого | E39: =SUM(E15:E38) -> 0 | I39: =SUM(I15:I38) -> 0 | L39: =SUM(L15:L38) -> 0 | O39: =SUM(O15:O38) -> 0
A40: 1, При наличии на предприятии отклонений от нормальных режимов электропотребления (временное изменение схем питания, остановка на ремонт, резкое снижение
A41: эл,потребления и т,д,) последние необходимо перечислить,
A42: Главный инженер АО "Вологдаоблэнерго" А,В, Чурляев
A43: составляется самим предприятием с соблюдением всех пунктов настоящей таблицы,

Sheet 62
B1: АО "Вологдаоблэнерго" | J1: код 900151 | M1: ПС Нелазское, ф, Починок
B2: наименование предприятия | M2: наименование источника питания
M3: КТП-Дачи "Березка"
B4: ул, Горького, 99 | I4: Таблица № 1 | M4: КТП-Пенек
B5: адрес
A6: почасовых записей показаний электрических счетчиков
A7: ='42'!A7:O7 -> в режимный день 18 ДЕКАБРЯ 2024г.
A8: 1630 | B8: 1628
A9: часы суток | B9: Активная энергия | J9: Реактивная энергия
B10: =M3 -> КТП-Дачи "Березка" | F10: =M4 -> КТП-Пенек | J10: =B10 -> КТП-Дачи "Березка" | M10: =F10 -> КТП-Пенек
B11: Расчет, Коэф, | E11: 80 | F11: Расчет, Коэф, | I11: 80 | J11: Расчет, Коэф, | L11: =E11 -> 80 | M11: Расчет, Коэф, | O11: =I11 -> 80
B12: показания счетчика | C12: разность | E12: расход эл,энергии за час | F12: показания счетчика | G12: разность | I12: расход эл,энергии за час | J12: показания счетчика | K12: разность | L12: расход эл,энергии за час | M12: показания счетчика | N12: разность | O12: расход эл,энергии за час
A13: 1 | B13: 2 | C13: 3 | E13: 4 | F13: 5 | G13: 6 | I13: 7 | J13: 8 | K13: 9 | L13: 10 | M13: 11 | N13: 12 | O13: 13
A14: 0 | E14: 35.5584 | I14: 38.612
A15: 1 | E15: 22.656 | I15: 22.4616
A16: 2 | E16: 14.8224 | I16: 18.7768
A17: 3 | E17: 16.4352 | I17: 17.052
A18: 4 | E18: 14.3616 | I18: 19.9136
A19: 5 | E19: 14.4768 | I19: 15.7976
A20: 6 | E20: 16.9736 | I20: 20.776
A21: 7 | E21: 24.3432 | I21: 29.0864
A22: 8 | E22: 28.5768 | I22: 34.2216
A23: 9 | E23: 32.0656 | I23: 39.0432
A24: 10 | E24: 39.1608 | I24: 39.0432
A25: 11 | E25: 43.7472 | I25: 42.1008
... A37: 23 | E37: 46.7676 | I37: 57.82
A38: 24
A39: Итого | E39: =SUM(E15:E38) -> 773.2196 | I39: =SUM(I15:I38) -> 825.552 | L39: =SUM(L15:L38) -> 0 | O39: =SUM(O15:O38) -> 0
A40: 1, При наличии на предприятии отклонений от нормальных режимов электропотребления (временное изменение схем питания, остановка на ремонт, резкое снижение
A41: эл,потребления и т,д,) последние необходимо перечислить,
A42: Главный инженер АО "Вологдаоблэнерго" А,В, Чурляев
A43: составляется самим предприятием с соблюдением всех пунктов настоящей таблицы,

Sheet 63
B1: АО "Вологдаоблэнерго" | J1: код 900151 | M1: ПС Нелазское, ф, Починок
B2: наименование предприятия | M2: наименование источника питания
M3: КТП-Кацитадзе
B4: ул, Горького, 99 | I4: Таблица № 1 | M4: ТП-75
B5: адрес
A6: почасовых записей показаний электрических счетчиков
A7: ='42'!A7:O7 -> в режимный день 18 ДЕКАБРЯ 2024г.
A8: 1630 | B8: 1628
A9: часы суток | B9: Активная энергия | J9: Реактивная энергия
B10: =M3 -> КТП-Кацитадзе | F10: =M4 -> ТП-75 | J10: =B10 -> КТП-Кацитадзе | M10: =F10 -> ТП-75
B11: Расчет, Коэф, | E11: 30 | F11: Расчет, Коэф, | I11: 80 | J11: Расчет, Коэф, | L11: =E11 -> 30 | M11: Расчет, Коэф, | O11: 80
B12: показания счетчика | C12: разность | E12: расход эл,энергии за час | F12: показания счетчика | G12: разность | I12: расход эл,энергии за час | J12: показания счетчика | K12: разность | L12: расход эл,энергии за час | M12: показания счетчика | N12: разность | O12: расход эл,энергии за час
A13: 1 | B13: 2 | C13: 3 | E13: 4 | F13: 5 | G13: 6 | I13: 7 | J13: 8 | K13: 9 | L13: 10 | M13: 11 | N13: 12 | O13: 13
A14: 0 | E14: 4.176 | I14: 17.052
A15: 1 | E15: 8.136 | I15: 13.2496
A16: 2 | E16: 1.656 | I16: 12.348
A17: 3 | E17: 2.1744 | I17: 13.3672
A18: 4 | E18: 1.3392 | I18: 12.2696
A19: 5 | E19: 1.4112 | I19: 13.328
A20: 6 | E20: 1.4259 | I20: 12.8968
A21: 7 | E21: 2.4549 | I21: 15.9936
A22: 8 | E22: 2.2638 | I22: 17.2872
A23: 9 | E23: 3.1458 | I23: 18.62
A24: 10 | E24: 1.7787 | I24: 22.3832
A25: 11 | E25: 3.969 | I25: 16.3856
... A37: 23 | E37: 4.2174 | I37: 23.2456
A38: 24
A39: Итого | E39: =SUM(E15:E38) -> 78.0333 | I39: =SUM(I15:I38) -> 413.952 | L39: =SUM(L15:L38) -> 0 | O39: =SUM(O15:O38) -> 0
A40: 1, При наличии на предприятии отклонений от нормальных режимов электропотребления (временное изменение схем питания, остановка на ремонт, резкое снижение
A41: эл,потребления и т,д,) последние необходимо перечислить,
A42: Главный инженер АО "Вологдаоблэнерго" А,В, Чурляев
A43: составляется самим предприятием с соблюдением всех пунктов настоящей таблицы,

Sheet 64
B1: АО "Вологдаоблэнерго" | J1: код 900151 | M1: ПС Нелазское, ф, к-сНелазское-1
B2: наименование предприятия | M2: наименование источника питания
M3: ТП-Мастерские Шулма
B4: ул, Горького, 99 | I4: Таблица № 1
B5: адрес
A6: почасовых записей показаний электрических счетчиков
A7: ='42'!A7:O7 -> в режимный день 18 ДЕКАБРЯ 2024г.
A8: 1630 | B8: 1628
A9: часы суток | B9: Активная энергия | J9: Реактивная энергия
B10: =M3 -> ТП-Мастерские Шулма | F10: =M4 -> 0 | J10: =B10 -> ТП-Мастерские Шулма | M10: =F10 -> 0
B11: Расчет, Коэф, | E11: 60 | F11: Расчет, Коэф, | I11: 120 | J11: Расчет, Коэф, | L11: =E11 -> 60 | M11: Расчет, Коэф, | O11: =I11 -> 120
B12: показания счетчика | C12: разность | E12: расход эл,энергии за час | F12: показания счетчика | G12: разность | I12: расход эл,энергии за час | J12: показания счетчика | K12: разность | L12: расход эл,энергии за час | M12: показания счетчика | N12: разность | O12: расход эл,энергии за час
A13: 1 | B13: 2 | C13: 3 | E13: 4 | F13: 5 | G13: 6 | I13: 7 | J13: 8 | K13: 9 | L13: 10 | M13: 11 | N13: 12 | O13: 13
A14: 0 | E14: 1.6878 | I14: 0
A15: 1 | E15: 0.8439 | I15: 0
A16: 2 | E16: 0.8439 | I16: 0
A17: 3 | E17: 3.1719 | I17: 0
A18: 4 | E18: 4.8015 | I18: 0
A19: 5 | E19: 4.7142 | I19: 0
A20: 6 | E20: 4.0449 | I20: 0
A21: 7 | E21: 0.7566 | I21: 0
A22: 8 | E22: 1.3095 | I22: 0
A23: 9 | E23: 1.8042 | I23: 0
A24: 10 | E24: 3.492 | I24: 0
A25: 11 | E25: 2.6481 | I25: 0
... A37: 23 | E37: 1.7169 | I37: 0
A38: 24
A39: Итого | E39: =SUM(E15:E38) -> 58.6074 | I39: =SUM(I15:I38) -> 0 | L39: =SUM(L15:L38) -> 0 | O39: =SUM(O15:O38) -> 0
A40: 1, При наличии на предприятии отклонений от нормальных режимов электропотребления (временное изменение схем питания, остановка на ремонт, резкое снижение
A41: эл,потребления и т,д,) последние необходимо перечислить,
A42: Главный инженер АО "Вологдаоблэнерго" А,В, Чурляев
A43: составляется самим предприятием с соблюдением всех пунктов настоящей таблицы,

Sheet 65
B1: АО "Вологдаоблэнерго" | J1: код 900151 | M1: ПС Нелазское, ф, Крутец
B2: наименование предприятия | M2: наименование источника питания
M3: КТП-Шулма, ул,Олимпийская
B4: ул, Горького, 99 | I4: Таблица № 1
B5: адрес
A6: почасовых записей показаний электрических счетчиков
A7: ='42'!A7:O7 -> в режимный день 18 ДЕКАБРЯ 2024г.
A8: 1630 | B8: 1628
A9: часы суток | B9: Активная энергия | J9: Реактивная энергия
B10: =M3 -> КТП-Шулма, ул,Олимпийская | F10: =M4 -> 0 | J10: =B10 -> КТП-Шулма, ул,Олимпийская | M10: =F10 -> 0
B11: Расчет, Коэф, | E11: 60 | F11: Расчет, Коэф, | I11: 120 | J11: Расчет, Коэф, | L11: =E11 -> 60 | M11: Расчет, Коэф, | O11: =I11 -> 120
B12: показания счетчика | C12: разность | E12: расход эл,энергии за час | F12: показания счетчика | G12: разность | I12: расход эл,энергии за час | J12: показания счетчика | K12: разность | L12: расход эл,энергии за час | M12: показания счетчика | N12: разность | O12: расход эл,энергии за час
A13: 1 | B13: 2 | C13: 3 | E13: 4 | F13: 5 | G13: 6 | I13: 7 | J13: 8 | K13: 9 | L13: 10 | M13: 11 | N13: 12 | O13: 13
A14: 0 | E14: 28.6053 | I14: 0
A15: 1 | E15: 21.1557 | I15: 0
A16: 2 | E16: 21.3594 | I16: 0
A17: 3 | E17: 17.3145 | I17: 0
A18: 4 | E18: 15.9177 | I18: 0
A19: 5 | E19: 15.9177 | I19: 0
A20: 6 | E20: 17.7219 | I20: 0
A21: 7 | E21: 19.8171 | I21: 0
A22: 8 | E22: 21.3594 | I22: 0
A23: 9 | E23: 20.1372 | I23: 0
A24: 10 | E24: 21.2721 | I24: 0
A25: 11 | E25: 20.3118 | I25: 0
... A37: 23 | E37: 34.6581 | I37: 0
A38: 24
A39: Итого | E39: =SUM(E15:E38) -> 521.3265 | I39: =SUM(I15:I38) -> 0 | L39: =SUM(L15:L38) -> 0 | O39: =SUM(O15:O38) -> 0
A40: 1, При наличии на предприятии отклонений от нормальных режимов электропотребления (временное изменение схем питания, остановка на ремонт, резкое снижение
A41: эл,потребления и т,д,) последние необходимо перечислить,
A42: Главный инженер АО "Вологдаоблэнерго" А,В, Чурляев
A43: составляется самим предприятием с соблюдением всех пунктов настоящей таблицы,

Sheet 66
B1: АО "Вологдаоблэнерго" | J1: код 900151 | M1: ПС Новые Углы ф, Кораблево
B2: наименование предприятия | M2: наименование источника питания
M3: ТП-3 Общежитие В-1
B4: ул, Горького, 99 | I4: Таблица № 1 | M4: ТП-3 Общежитие В-2
B5: адрес
A6: почасовых записей показаний электрических счетчиков
A7: ='42'!A7:O7 -> в режимный день 18 ДЕКАБРЯ 2024г.
A8: 1630 | B8: 1628
A9: часы суток | B9: Активная энергия | J9: Реактивная энергия
B10: =M3 -> ТП-3 Общежитие В-1 | F10: =M4 -> ТП-3 Общежитие В-2 | J10: =B10 -> ТП-3 Общежитие В-1 | M10: =F10 -> ТП-3 Общежитие В-2
B11: Расчет, Коэф, | E11: 60 | F11: Расчет, Коэф, | I11: 60 | J11: Расчет, Коэф, | L11: =E11 -> 60 | M11: Расчет, Коэф, | O11: =I11 -> 60
B12: показания счетчика | C12: разность | E12: расход эл,энергии за час | F12: показания счетчика | G12: разность | I12: расход эл,энергии за час | J12: показания счетчика | K12: разность | L12: расход эл,энергии за час | M12: показания счетчика | N12: разность | O12: расход эл,энергии за час
A13: 1 | B13: 2 | C13: 3 | E13: 4 | F13: 5 | G13: 6 | I13: 7 | J13: 8 | K13: 9 | L13: 10 | M13: 11 | N13: 12 | O13: 13
A14: 0 | E14: 0 | I14: 16.33464
A15: 1 | E15: 0 | I15: 12.24216
A16: 2 | E16: 0 | I16: 10.18416
A17: 3 | E17: 0 | I17: 9.43152
A18: 4 | E18: 0 | I18: 9.47856
A19: 5 | E19: 0 | I19: 9.00816
A20: 6 | E20: 0 | I20: 10.56048
A21: 7 | E21: 0 | I21: 16.47576
A22: 8 | E22: 0 | I22: 18.74544
A23: 9 | E23: 0 | I23: 19.0512
A24: 10 | E24: 0 | I24: 16.6992
A25: 11 | E25: 0 | I25: 19.68624
... A37: 23 | E37: 0 | I37: 21.14448
A38: 24
A39: Итого | E39: =SUM(E15:E38) -> 0 | I39: =SUM(I15:I38) -> 406.64904 | L39: =SUM(L15:L38) -> 0 | O39: =SUM(O15:O38) -> 0
A40: 1, При наличии на предприятии отклонений от нормальных режимов электропотребления (временное изменение схем питания, остановка на ремонт, резкое снижение
A41: эл,потребления и т,д,) последние необходимо перечислить,
A42: Главный инженер АО "Вологдаоблэнерго" А,В, Чурляев
A43: составляется самим предприятием с соблюдением всех пунктов настоящей таблицы,

Sheet 67
B1: АО "Вологдаоблэнерго" | J1: код 900151 | M1: ПС Новые Углы ф, Кораблево
B2: наименование предприятия | M2: наименование источника питания
M3: ТП-2 Училище В-1
B4: ул, Горького, 99 | I4: Таблица № 1 | M4: ТП-2 Училище В-2
B5: адрес
A6: почасовых записей показаний электрических счетчиков
A7: ='42'!A7:O7 -> в режимный день 18 ДЕКАБРЯ 2024г.
A8: 1630 | B8: 1628
A9: часы суток | B9: Активная энергия | J9: Реактивная энергия
B10: =M3 -> ТП-2 Училище В-1 | F10: =M4 -> ТП-2 Училище В-2 | J10: =B10 -> ТП-2 Училище В-1 | M10: =F10 -> ТП-2 Училище В-2
B11: Расчет, Коэф, | E11: 80 | F11: Расчет, Коэф, | I11: 80 | J11: Расчет, Коэф, | L11: =E11 -> 80 | M11: Расчет, Коэф, | O11: =I11 -> 80
B12: показания счетчика | C12: разность | E12: расход эл,энергии за час | F12: показания счетчика | G12: разность | I12: расход эл,энергии за час | J12: показания счетчика | K12: разность | L12: расход эл,энергии за час | M12: показания счетчика | N12: разность | O12: расход эл,энергии за час
A13: 1 | B13: 2 | C13: 3 | E13: 4 | F13: 5 | G13: 6 | I13: 7 | J13: 8 | K13: 9 | L13: 10 | M13: 11 | N13: 12 | O13: 13
A14: 0 | E14: 34.82112 | I14: 8.29472
A15: 1 | E15: 35.38944 | I15: 10.16064
A16: 2 | E16: 34.7136 | I16: 7.84
A17: 3 | E17: 34.7904 | I17: 7.448
A18: 4 | E18: 34.69824 | I18: 7.32256
A19: 5 | E19: 34.89792 | I19: 7.54208
A20: 6 | E20: 35.4368 | I20: 7.62048
A21: 7 | E21: 42.13216 | I21: 8.74944
A22: 8 | E22: 45.864 | I22: 12.7792
A23: 9 | E23: 53.3904 | I23: 21.62272
A24: 10 | E24: 50.77184 | I24: 22.67328
A25: 11 | E25: 45.80128 | I25: 19.09824
... A37: 23 | E37: 36.33696 | I37: 9.53344
A38: 24
A39: Итого | E39: =SUM(E15:E38) -> 898.79584 | I39: =SUM(I15:I38) -> 293.23168 | L39: =SUM(L15:L38) -> 0 | O39: =SUM(O15:O38) -> 0
A40: 1, При наличии на предприятии отклонений от нормальных режимов электропотребления (временное изменение схем питания, остановка на ремонт, резкое снижение
A41: эл,потребления и т,д,) последние необходимо перечислить,
A42: Главный инженер АО "Вологдаоблэнерго" А,В, Чурляев
A43: составляется самим предприятием с соблюдением всех пунктов настоящей таблицы,

Sheet 68
B1: АО "Вологдаоблэнерго" | J1: код 900151 | M1: ПС Новые Углы ф, Кораблево
B2: наименование предприятия | M2: наименование источника питания
M3: ТП-222 В-1
B4: ул, Горького, 99 | I4: Таблица № 1 | M4: ТП-222 В-2
B5: адрес
A6: почасовых записей показаний электрических счетчиков
A7: ='42'!A7:O7 -> в режимный день 18 ДЕКАБРЯ 2024г.
A8: 1630 | B8: 1628
A9: часы суток | B9: Активная энергия | J9: Реактивная энергия
B10: =M3 -> ТП-222 В-1 | F10: =M4 -> ТП-222 В-2 | J10: =B10 -> ТП-222 В-1 | M10: =F10 -> ТП-222 В-2
B11: Расчет, Коэф, | E11: 120 | F11: Расчет, Коэф, | I11: 120 | J11: Расчет, Коэф, | L11: =E11 -> 120 | M11: Расчет, Коэф, | O11: =I11 -> 120
B12: показания счетчика | C12: разность | E12: расход эл,энергии за час | F12: показания счетчика | G12: разность | I12: расход эл,энергии за час | J12: показания счетчика | K12: разность | L12: расход эл,энергии за час | M12: показания счетчика | N12: разность | O12: расход эл,энергии за час
A13: 1 | B13: 2 | C13: 3 | E13: 4 | F13: 5 | G13: 6 | I13: 7 | J13: 8 | K13: 9 | L13: 10 | M13: 11 | N13: 12 | O13: 13
A14: 0 | E14: 9.216 | I14: 31.752
A15: 1 | E15: 5.9904 | I15: 23.0496
A16: 2 | E16: 5.4144 | I16: 22.5792
A17: 3 | E17: 5.184 | I17: 21.4032
A18: 4 | E18: 4.8384 | I18: 21.4032
A19: 5 | E19: 6.4512 | I19: 20.9328
A20: 6 | E20: 15.7584 | I20: 24.108
A21: 7 | E21: 15.0528 | I21: 28.1064
A22: 8 | E22: 14.7 | I22: 29.988
A23: 9 | E23: 17.7576 | I23: 35.3976
A24: 10 | E24: 15.1704 | I24: 33.8688
A25: 11 | E25: 12.4656 | I25: 30.3408
... A37: 23 | E37: 10.4544 | I37: 44.4528
A38: 24
A39: Итого | E39: =SUM(E15:E38) -> 244.0968 | I39: =SUM(I15:I38) -> 758.1672 | L39: =SUM(L15:L38) -> 0 | O39: =SUM(O15:O38) -> 0
A40: 1, При наличии на предприятии отклонений от нормальных режимов электропотребления (временное изменение схем питания, остановка на ремонт, резкое снижение
A41: эл,потребления и т,д,) последние необходимо перечислить,
A42: Главный инженер АО "Вологдаоблэнерго" А,В, Чурляев
A43: составляется самим предприятием с соблюдением всех пунктов настоящей таблицы,

Sheet 69
B1: АО "Вологдаоблэнерго" | J1: код 900151 | M1: ПС Новые Углы ф, Кораблево
B2: наименование предприятия | M2: наименование источника питания
M3: ТП-Шухободь Жилзона В-1
B4: ул, Горького, 99 | I4: Таблица № 1 | M4: ТП-Шухободь Жилзона В-2
B5: адрес
A6: почасовых записей показаний электрических счетчиков
A7: ='42'!A7:O7 -> в режимный день 18 ДЕКАБРЯ 2024г.
A8: 1630 | B8: 1628
A9: часы суток | B9: Активная энергия | J9: Реактивная энергия
B10: =M3 -> ТП-Шухободь Жилзона В-1 | F10: =M4 -> ТП-Шухободь Жилзона В-2 | J10: =B10 -> ТП-Шухободь Жилзона В-1 | M10: =F10 -> ТП-Шухободь Жилзона В-2
B11: Расчет, Коэф, | E11: 80 | F11: Расчет, Коэф, | I11: 80 | J11: Расчет, Коэф, | L11: =E11 -> 80 | M11: Расчет, Коэф, | O11: =I11 -> 80
B12: показания счетчика | C12: разность | E12: расход эл,энергии за час | F12: показания счетчика | G12: разность | I12: расход эл,энергии за час | J12: показания счетчика | K12: разность | L12: расход эл,энергии за час | M12: показания счетчика | N12: разность | O12: расход эл,энергии за час
A13: 1 | B13: 2 | C13: 3 | E13: 4 | F13: 5 | G13: 6 | I13: 7 | J13: 8 | K13: 9 | L13: 10 | M13: 11 | N13: 12 | O13: 13
A14: 0 | E14: 35.7888 | I14: 40.2976
A15: 1 | E15: 28.416 | I15: 32.6144
A16: 2 | E16: 25.2672 | I16: 30.3408
A17: 3 | E17: 23.5776 | I17: 27.5968
A18: 4 | E18: 23.1168 | I18: 27.9888
A19: 5 | E19: 23.2704 | I19: 27.5184
A20: 6 | E20: 23.4416 | I20: 32.8496
A21: 7 | E21: 27.2048 | I21: 35.672
A22: 8 | E22: 36.2992 | I22: 40.8464
A23: 9 | E23: 38.416 | I23: 53.4688
A24: 10 | E24: 42.5712 | I24: 40.9248
A25: 11 | E25: 42.0224 | I25: 43.904
... A37: 23 | E37: 42.5304 | I37: 52.2928
A38: 24
A39: Итого | E39: =SUM(E15:E38) -> 852.184 | L39: =SUM(L15:L38) -> 0 | O39: =SUM(O15:O38) -> 0
A40: 1, При наличии на предприятии отклонений от нормальных режимов электропотребления (временное изменение схем питания, остановка на ремонт, резкое снижение
A41: эл,потребления и т,д,) последние необходимо перечислить,
A42: Главный инженер АО "Вологдаоблэнерго" А,В, Чурляев
A43: составляется самим предприятием с соблюдением всех пунктов настоящей таблицы,

Sheet 70
B1: АО "Вологдаоблэнерго" | J1: код 900151 | M1: ПС Новые Углы ф, Кораблево
B2: наименование предприятия | M2: наименование источника питания
M3: ТП-К-с Шухободь В-1
B4: ул, Горького, 99 | I4: Таблица № 1 | M4: ТП-К-с Шухободь В-2
B5: адрес
A6: почасовых записей показаний электрических счетчиков
A7: ='42'!A7:O7 -> в режимный день 18 ДЕКАБРЯ 2024г.
A8: 1630 | B8: 1628
A9: часы суток | B9: Активная энергия | J9: Реактивная энергия
B10: =M3 -> ТП-К-с Шухободь В-1 | F10: =M4 -> ТП-К-с Шухободь В-2 | J10: =B10 -> ТП-К-с Шухободь В-1 | M10: =F10 -> ТП-К-с Шухободь В-2
B11: Расчет, Коэф, | E11: 120 | F11: Расчет, Коэф, | I11: 120 | J11: Расчет, Коэф, | L11: =E11 -> 120 | M11: Расчет, Коэф, | O11: =I11 -> 120
B12: показания счетчика | C12: разность | E12: расход эл,энергии за час | F12: показания счетчика | G12: разность | I12: расход эл,энергии за час | J12: показания счетчика | K12: разность | L12: расход эл,энергии за час | M12: показания счетчика | N12: разность | O12: расход эл,энергии за час
A13: 1 | B13: 2 | C13: 3 | E13: 4 | F13: 5 | G13: 6 | I13: 7 | J13: 8 | K13: 9 | L13: 10 | M13: 11 | N13: 12 | O13: 13
A14: 0 | E14: 70.80192 | I14: 0
A15: 1 | E15: 83.77344 | I15: 0
A16: 2 | E16: 76.1472 | I16: 0
A17: 3 | E17: 77.09184 | I17: 0
A18: 4 | E18: 78.77376 | I18: 0
A19: 5 | E19: 86.81472 | I19: 0
A20: 6 | E20: 106.12224 | I20: 0
A21: 7 | E21: 116.14176 | I21: 0
A22: 8 | E22: 132.91152 | I22: 0
A23: 9 | E23: 135.85152 | I23: 0
A24: 10 | E24: 132.39408 | I24: 0
A25: 11 | E25: 123.43296 | I25: 0
... A37: 23 | E37: 83.73024 | I37: 0
A38: 24
A39: Итого | E39: =SUM(E15:E38) -> 2331.3185 | I39: =SUM(I15:I38) -> 0 | L39: =SUM(L15:L38) -> 0 | O39: =SUM(O15:O38) -> 0
A40: 1, При наличии на предприятии отклонений от нормальных режимов электропотребления (временное изменение схем питания, остановка на ремонт, резкое снижение
A41: эл,потребления и т,д,) последние необходимо перечислить,
A42: Главный инженер АО "Вологдаоблэнерго" А,В, Чурляев
A43: составляется самим предприятием с соблюдением всех пунктов настоящей таблицы,

Sheet 71
B1: АО "Вологдаоблэнерго" | J1: код 900151 | M1: ПС Петринево, ф, Романово
B2: наименование предприятия | M2: наименование источника питания
M3: ТП-317
B4: ул, Горького, 99 | I4: Таблица № 1
B5: адрес
A6: почасовых записей показаний электрических счетчиков
A7: ='42'!A7:O7 -> в режимный день 18 ДЕКАБРЯ 2024г.
A8: 1630 | B8: 1628
A9: часы суток | B9: Активная энергия | J9: Реактивная энергия
B10: =M3 -> ТП-317 | F10: =M4 -> 0 | J10: =B10 -> ТП-317 | M10: =F10 -> 0
B11: Расчет, Коэф, | E11: 120 | F11: Расчет, Коэф, | I11: 120 | J11: Расчет, Коэф, | L11: =E11 -> 120 | M11: Расчет, Коэф, | O11: =I11 -> 120
B12: показания счетчика | C12: разность | E12: расход эл,энергии за час | F12: показания счетчика | G12: разность | I12: расход эл,энергии за час | J12: показания счетчика | K12: разность | L12: расход эл,энергии за час | M12: показания счетчика | N12: разность | O12: расход эл,энергии за час
A13: 1 | B13: 2 | C13: 3 | E13: 4 | F13: 5 | G13: 6 | I13: 7 | J13: 8 | K13: 9 | L13: 10 | M13: 11 | N13: 12 | O13: 13
A14: 0 | E14: 8.1792 | I14: 0
A15: 1 | E15: 7.6608 | I15: 0
A16: 2 | E16: 6.8544 | I16: 0
A17: 3 | E17: 5.9904 | I17: 0
A18: 4 | E18: 7.0272 | I18: 0
A19: 5 | E19: 9.504 | I19: 0
A20: 6 | E20: 10.7016 | I20: 0
A21: 7 | E21: 12.9948 | I21: 0
A22: 8 | E22: 7.938 | I22: 0
A23: 9 | E23: 9.8196 | I23: 0
A24: 10 | E24: 11.1132 | I24: 0
A25: 11 | E25: 9.8196 | I25: 0
... A37: 23 | E37: 12.8304 | I37: 0
A38: 24
A39: Итого | E39: =SUM(E15:E38) -> 246.306 | I39: =SUM(I15:I38) -> 0 | L39: =SUM(L15:L38) -> 0 | O39: =SUM(O15:O38) -> 0
A40: 1, При наличии на предприятии отклонений от нормальных режимов электропотребления (временное изменение схем питания, остановка на ремонт, резкое снижение
A41: эл,потребления и т,д,) последние необходимо перечислить,
A42: Главный инженер АО "Вологдаоблэнерго" А,В, Чурляев
A43: составляется самим предприятием с соблюдением всех пунктов настоящей таблицы,

Sheet 72
B1: АО "Вологдаоблэнерго" | J1: код 900151 | M1: ПС Петринево, ф,Надпорожье
B2: наименование предприятия | M2: наименование источника питания
M3: КТП-Броды
B4: ул, Горького, 99 | I4: Таблица № 1 | M4: КТП-100 дачи "Водник"
B5: адрес
A6: почасовых записей показаний электрических счетчиков
A7: ='42'!A7:O7 -> в режимный день 18 ДЕКАБРЯ 2024г.
A8: 1630 | B8: 1628
A9: часы суток | B9: Активная энергия | J9: Реактивная энергия
B10: =M3 -> КТП-Броды | F10: =M4 -> КТП-100 дачи "Водник" | J10: =B10 -> КТП-Броды | M10: =F10 -> КТП-100 дачи "Водник"
B11: Расчет, Коэф, | E11: 30 | F11: Расчет, Коэф, | I11: 40 | J11: Расчет, Коэф, | L11: =E11 -> 30 | M11: Расчет, Коэф, | O11: =I11 -> 40
B12: показания счетчика | C12: разность | E12: расход эл,энергии за час | F12: показания счетчика | G12: разность | I12: расход эл,энергии за час | J12: показания счетчика | K12: разность | L12: расход эл,энергии за час | M12: показания счетчика | N12: разность | O12: расход эл,энергии за час
A13: 1 | B13: 2 | C13: 3 | E13: 4 | F13: 5 | G13: 6 | I13: 7 | J13: 8 | K13: 9 | L13: 10 | M13: 11 | N13: 12 | O13: 13
A14: 0 | E14: 10.2723 | I14: 4.9098
A15: 1 | E15: 5.4999 | I15: 2.8518
A16: 2 | E16: 5.13615 | I16: 2.5578
A17: 3 | E17: 5.2671 | I17: 2.6313
A18: 4 | E18: 4.75785 | I18: 2.6166
A19: 5 | E19: 4.2195 | I19: 2.7783
A20: 6 | E20: 4.87425 | I20: 2.8665
A21: 7 | E21: 5.1216 | I21: 3.234
A22: 8 | E22: 7.81335 | I22: 5.5566
A23: 9 | E23: 9.58845 | I23: 7.1589
A24: 10 | E24: 6.4602 | I24: 6.2916
A25: 11 | E25: 8.0607 | I25: 4.7187
... A37: 23 | E37: 11.21805 | I37: 5.145
A38: 24
A39: Итого | E39: =SUM(E15:E38) -> 183.6792 | I39: =SUM(I15:I38) -> 118.041 | L39: =SUM(L15:L38) -> 0 | O39: =SUM(O15:O38) -> 0
A40: 1, При наличии на предприятии отклонений от нормальных режимов электропотребления (временное изменение схем питания, остановка на ремонт, резкое снижение
A41: эл,потребления и т,д,) последние необходимо перечислить,
A42: Главный инженер АО "Вологдаоблэнерго" А,В, Чурляев
A43: составляется самим предприятием с соблюдением всех пунктов настоящей таблицы,

Sheet 73
B1: АО "Вологдаоблэнерго" | J1: код 900151 | M1: ПС Петринево, ф,Надпорожье
B2: наименование предприятия | M2: наименование источника питания
M3: КТП-Сад№11 ЧМХС
B4: ул, Горького, 99 | I4: Таблица № 1
B5: адрес
A6: почасовых записей показаний электрических счетчиков
A7: ='42'!A7:O7 -> в режимный день 18 ДЕКАБРЯ 2024г.
A8: 1630 | B8: 1628
A9: часы суток | B9: Активная энергия | J9: Реактивная энергия
B10: =M3 -> КТП-Сад№11 ЧМХС | F10: =M4 -> 0 | J10: =B10 -> КТП-Сад№11 ЧМХС | M10: =F10 -> 0
B11: Расчет, Коэф, | E11: 20 | F11: Расчет, Коэф, | I11: 120 | J11: Расчет, Коэф, | L11: =E11 -> 20 | M11: Расчет, Коэф, | O11: =I11 -> 120
B12: показания счетчика | C12: разность | E12: расход эл,энергии за час | F12: показания счетчика | G12: разность | I12: расход эл,энергии за час | J12: показания счетчика | K12: разность | L12: расход эл,энергии за час | M12: показания счетчика | N12: разность | O12: расход эл,энергии за час
A13: 1 | B13: 2 | C13: 3 | E13: 4 | F13: 5 | G13: 6 | I13: 7 | J13: 8 | K13: 9 | L13: 10 | M13: 11 | N13: 12 | O13: 13
A14: 0 | E14: 6.7997 | I14: 0
A15: 1 | E15: 6.7027 | I15: 0
A16: 2 | E16: 4.1904 | I16: 0
A17: 3 | E17: 3.4629 | I17: 0
A18: 4 | E18: 3.2689 | I18: 0
A19: 5 | E19: 3.0361 | I19: 0
A20: 6 | E20: 2.6384 | I20: 0
A21: 7 | E21: 3.2786 | I21: 0
A22: 8 | E22: 3.6084 | I22: 0
A23: 9 | E23: 3.4823 | I23: 0
A24: 10 | E24: 5.238 | I24: 0
A25: 11 | E25: 6.9549 | I25: 0
... A37: 23 | E37: 7.1198 | I37: 0
A38: 24
A39: Итого | E39: =SUM(E15:E38) -> 132.8221 | I39: =SUM(I15:I38) -> 0 | L39: =SUM(L15:L38) -> 0 | O39: =SUM(O15:O38) -> 0
A40: 1, При наличии на предприятии отклонений от нормальных режимов электропотребления (временное изменение схем питания, остановка на ремонт, резкое снижение
A41: эл,потребления и т,д,) последние необходимо перечислить,
A42: Главный инженер АО "Вологдаоблэнерго" А,В, Чурляев
A43: составляется самим предприятием с соблюдением всех пунктов настоящей таблицы,

Sheet 74
B1: АО "Вологдаоблэнерго" | J1: код 900151 | M1: ПС Поповка, ф, Привалино
B2: наименование предприятия | M2: наименование источника питания
M3: КТП-Погорелка
B4: ул, Горького, 99 | I4: Таблица № 1 | M4: КТП-Хлебаево
B5: адрес
A6: почасовых записей показаний электрических счетчиков
A7: ='42'!A7:O7 -> в режимный день 18 ДЕКАБРЯ 2024г.
A8: 1630 | B8: 1628
A9: часы суток | B9: Активная энергия | J9: Реактивная энергия
B10: =M3 -> КТП-Погорелка | F10: =M4 -> КТП-Хлебаево | J10: =B10 -> КТП-Погорелка | M10: =F10 -> КТП-Хлебаево
B11: Расчет, Коэф, | E11: 30 | F11: Расчет, Коэф, | I11: 30 | J11: Расчет, Коэф, | L11: =E11 -> 30 | M11: Расчет, Коэф, | O11: =I11 -> 30
B12: показания счетчика | C12: разность | E12: расход эл,энергии за час | F12: показания счетчика | G12: разность | I12: расход эл,энергии за час | J12: показания счетчика | K12: разность | L12: расход эл,энергии за час | M12: показания счетчика | N12: разность | O12: расход эл,энергии за час
A13: 1 | B13: 2 | C13: 3 | E13: 4 | F13: 5 | G13: 6 | I13: 7 | J13: 8 | K13: 9 | L13: 10 | M13: 11 | N13: 12 | O13: 13
A14: 0 | E14: 1.9584 | I14: 0
A15: 1 | E15: 0.2304 | I15: 0
A16: 2 | E16: 0.8064 | I16: 0
A17: 3 | E17: 0.8064 | I17: 0
A18: 4 | E18: 0.864 | I18: 0
A19: 5 | E19: 0.8064 | I19: 0
A20: 6 | E20: 0.8232 | I20: 0
A21: 7 | E21: 0.8232 | I21: 0
A22: 8 | E22: 1.7052 | I22: 0
A23: 9 | E23: 3.822 | I23: 0
A24: 10 | E24: 6.468 | I24: 0
A25: 11 | E25: 6.762 | I25: 0
... A37: 23 | E37: 0.8316 | I37: 0
A38: 24
A39: Итого | E39: =SUM(E15:E38) -> 76.0458 | I39: =SUM(I15:I38) -> 0 | L39: =SUM(L15:L38) -> 0 | O39: =SUM(O15:O38) -> 0
A40: 1, При наличии на предприятии отклонений от нормальных режимов электропотребления (временное изменение схем питания, остановка на ремонт, резкое снижение
A41: эл,потребления и т,д,) последние необходимо перечислить,
A42: Главный инженер АО "Вологдаоблэнерго" А,В, Чурляев
A43: составляется самим предприятием с соблюдением всех пунктов настоящей таблицы,

Sheet 75
B1: АО "Вологдаоблэнерго" | J1: код 900151 | M1: ПС Поповка, ф, Привалино
B2: наименование предприятия | M2: наименование источника питания
M3: ТП-226
B4: ул, Горького, 99 | I4: Таблица № 1 | M4: ТП-257
B5: адрес
A6: почасовых записей показаний электрических счетчиков
A7: ='42'!A7:O7 -> в режимный день 18 ДЕКАБРЯ 2024г.
A8: 1630 | B8: 1628
A9: часы суток | B9: Активная энергия | J9: Реактивная энергия
B10: =M3 -> ТП-226 | F10: =M4 -> ТП-257 | J10: =B10 -> ТП-226 | M10: =F10 -> ТП-257
B11: Расчет, Коэф, | E11: 30 | F11: Расчет, Коэф, | I11: 30 | J11: Расчет, Коэф, | L11: =E11 -> 30 | M11: Расчет, Коэф, | O11: =I11 -> 30
B12: показания счетчика | C12: разность | E12: расход эл,энергии за час | F12: показания счетчика | G12: разность | I12: расход эл,энергии за час | J12: показания счетчика | K12: разность | L12: расход эл,энергии за час | M12: показания счетчика | N12: разность | O12: расход эл,энергии за час
A13: 1 | B13: 2 | C13: 3 | E13: 4 | F13: 5 | G13: 6 | I13: 7 | J13: 8 | K13: 9 | L13: 10 | M13: 11 | N13: 12 | O13: 13
A14: 0 | E14: 4.0752 | I14: 0.4018
A15: 1 | E15: 1.1376 | I15: 0.637
A16: 2 | E16: 1.6128 | I16: 1.078
A17: 3 | E17: 0.9504 | I17: 0.8036
A18: 4 | E18: 2.5488 | I18: 0.6664
A19: 5 | E19: 2.88 | I19: 0.6664
A20: 6 | E20: 2.6166 | I20: 1.3328
A21: 7 | E21: 1.8963 | I21: 0.4704
A22: 8 | E22: 1.6317 | I22: 0.5194
A23: 9 | E23: 2.6754 | I23: 0.539
A24: 10 | E24: 2.1168 | I24: 0.588
A25: 11 | E25: 2.0433 | I25: 0.539
... A37: 23 | E37: 5.6727 | I37: 0.3822
A38: 24
A39: Итого | E39: =SUM(E15:E38) -> 61.12485 | I39: =SUM(I15:I38) -> 12.8478 | L39: =SUM(L15:L38) -> 0 | O39: =SUM(O15:O38) -> 0
A40: 1, При наличии на предприятии отклонений от нормальных режимов электропотребления (временное изменение схем питания, остановка на ремонт, резкое снижение
A41: эл,потребления и т,д,) последние необходимо перечислить,
A42: Главный инженер АО "Вологдаоблэнерго" А,В, Чурляев
A43: составляется самим предприятием с соблюдением всех пунктов настоящей таблицы,

Sheet 76
B1: АО "Вологдаоблэнерго" | J1: код 900151 | M1: ПС Поповка, ф, Аннино
B2: наименование предприятия | M2: наименование источника питания
M3: ТП-376
B4: ул, Горького, 99 | I4: Таблица № 1
B5: адрес
A6: почасовых записей показаний электрических счетчиков
A7: ='42'!A7:O7 -> в режимный день 18 ДЕКАБРЯ 2024г.
A8: 1630 | B8: 1628
A9: часы суток | B9: Активная энергия | J9: Реактивная энергия
B10: =M3 -> ТП-376 | F10: =M4 -> 0 | J10: =B10 -> ТП-376 | M10: =F10 -> 0
B11: Расчет, Коэф, | E11: 60 | F11: Расчет, Коэф, | I11: 120 | J11: Расчет, Коэф, | L11: =E11 -> 60 | M11: Расчет, Коэф, | O11: =I11 -> 120
B12: показания счетчика | C12: разность | E12: расход эл,энергии за час | F12: показания счетчика | G12: разность | I12: расход эл,энергии за час | J12: показания счетчика | K12: разность | L12: расход эл,энергии за час | M12: показания счетчика | N12: разность | O12: расход эл,энергии за час
A13: 1 | B13: 2 | C13: 3 | E13: 4 | F13: 5 | G13: 6 | I13: 7 | J13: 8 | K13: 9 | L13: 10 | M13: 11 | N13: 12 | O13: 13
A14: 0 | E14: 14.7828 | I14: 0
A15: 1 | E15: 11.1841 | I15: 0
A16: 2 | E16: 10.8446 | I16: 0
A17: 3 | E17: 12.2026 | I17: 0
A18: 4 | E18: 12.3869 | I18: 0
A19: 5 | E19: 14.7052 | I19: 0
A20: 6 | E20: 13.9777 | I20: 0
A21: 7 | E21: 14.9671 | I21: 0
A22: 8 | E22: 16.7131 | I22: 0
A23: 9 | E23: 17.8771 | I23: 0
A24: 10 | E24: 17.557 | I24: 0
A25: 11 | E25: 13.7352 | I25: 0
... A37: 23 | E37: 14.6664 | I37: 0
A38: 24
A39: Итого | E39: =SUM(E15:E38) -> 334.6209 | I39: =SUM(I15:I38) -> 0 | L39: =SUM(L15:L38) -> 0 | O39: =SUM(O15:O38) -> 0
A40: 1, При наличии на предприятии отклонений от нормальных режимов электропотребления (временное изменение схем питания, остановка на ремонт, резкое снижение
A41: эл,потребления и т,д,) последние необходимо перечислить,
A42: Главный инженер АО "Вологдаоблэнерго" А,В, Чурляев
A43: составляется самим предприятием с соблюдением всех пунктов настоящей таблицы,

Sheet 77
B1: АО "Вологдаоблэнерго" | J1: код 900151 | M1: ПС Поповка, ф, Красково
B2: наименование предприятия | M2: наименование источника питания
M3: КТП-ЭСПА
B4: ул, Горького, 99 | I4: Таблица № 1 | M4: КТП-Ново-Дубровка
B5: адрес
A6: почасовых записей показаний электрических счетчиков
A7: ='42'!A7:O7 -> в режимный день 18 ДЕКАБРЯ 2024г.
A8: 1630 | B8: 1628
A9: часы суток | B9: Активная энергия | J9: Реактивная энергия
B10: =M3 -> КТП-ЭСПА | F10: =M4 -> КТП-Ново-Дубровка | J10: =B10 -> КТП-ЭСПА | M10: =F10 -> КТП-Ново-Дубровка
B11: Расчет, Коэф, | E11: 20 | F11: Расчет, Коэф, | I11: 20 | J11: Расчет, Коэф, | L11: =E11 -> 20 | M11: Расчет, Коэф, | O11: =I11 -> 20
B12: показания счетчика | C12: разность | E12: расход эл,энергии за час | F12: показания счетчика | G12: разность | I12: расход эл,энергии за час | J12: показания счетчика | K12: разность | L12: расход эл,энергии за час | M12: показания счетчика | N12: разность | O12: расход эл,энергии за час
A13: 1 | B13: 2 | C13: 3 | E13: 4 | F13: 5 | G13: 6 | I13: 7 | J13: 8 | K13: 9 | L13: 10 | M13: 11 | N13: 12 | O13: 13
A14: 0 | E14: 0.7954 | I14: 0.686
A15: 1 | E15: 0.6887 | I15: 0.686
A16: 2 | E16: 0.6887 | I16: 0.686
A17: 3 | E17: 0.6596 | I17: 0.5782
A18: 4 | E18: 0.3783 | I18: 0.3136
A19: 5 | E19: 0.1067 | I19: 0.2548
A20: 6 | E20: 0.1067 | I20: 0.2352
A21: 7 | E21: 0.0679 | I21: 0.5292
A22: 8 | E22: 0.1067 | I22: 1.1368
A23: 9 | E23: 0.1261 | I23: 1.6954
A24: 10 | E24: 0.4268 | I24: 1.176
A25: 11 | E25: 0.3492 | I25: 0.5782
... A37: 23 | E37: 0.7857 | I37: 0.6664
A38: 24
A39: Итого | E39: =SUM(E15:E38) -> 8.5554 | I39: =SUM(I15:I38) -> 18.6004 | L39: =SUM(L15:L38) -> 0 | O39: =SUM(O15:O38) -> 0
A40: 1, При наличии на предприятии отклонений от нормальных режимов электропотребления (временное изменение схем питания, остановка на ремонт, резкое снижение
A41: эл,потребления и т,д,) последние необходимо перечислить,
A42: Главный инженер АО "Вологдаоблэнерго" А,В, Чурляев
A43: составляется самим предприятием с соблюдением всех пунктов настоящей таблицы,

Sheet 78
B1: АО "Вологдаоблэнерго" | J1: код 900151 | M1: ПС Поповка, ф, Красково
B2: наименование предприятия | M2: наименование источника питания
M3: КТП-Козлово-2
B4: ул, Горького, 99 | I4: Таблица № 1 | M4: ТП-319
B5: адрес
A6: почасовых записей показаний электрических счетчиков
A7: ='42'!A7:O7 -> в режимный день 18 ДЕКАБРЯ 2024г.
A8: 1630 | B8: 1628
A9: часы суток | B9: Активная энергия | J9: Реактивная энергия
B10: =M3 -> КТП-Козлово-2 | F10: =M4 -> ТП-319 | J10: =B10 -> КТП-Козлово-2 | M10: =F10 -> ТП-319
B11: Расчет, Коэф, | E11: 60 | F11: Расчет, Коэф, | I11: 30 | J11: Расчет, Коэф, | L11: =E11 -> 60 | M11: Расчет, Коэф, | O11: =I11 -> 30
B12: показания счетчика | C12: разность | E12: расход эл,энергии за час | F12: показания счетчика | G12: разность | I12: расход эл,энергии за час | J12: показания счетчика | K12: разность | L12: расход эл,энергии за час | M12: показания счетчика | N12: разность | O12: расход эл,энергии за час
A13: 1 | B13: 2 | C13: 3 | E13: 4 | F13: 5 | G13: 6 | I13: 7 | J13: 8 | K13: 9 | L13: 10 | M13: 11 | N13: 12 | O13: 13
A14: 0 | E14: 5.7812 | I14: 0
A15: 1 | E15: 5.4708 | I15: 0
A16: 2 | E16: 5.82 | I16: 0
A17: 3 | E17: 3.686 | I17: 0
A18: 4 | E18: 3.686 | I18: 0
A19: 5 | E19: 3.4532 | I19: 0
A20: 6 | E20: 4.8112 | I20: 0
A21: 7 | E21: 6.0528 | I21: 0
A22: 8 | E22: 6.402 | I22: 0
A23: 9 | E23: 6.6736 | I23: 0
A24: 10 | E24: 8.8852 | I24: 0
A25: 11 | E25: 5.7424 | I25: 0
... A37: 23 | E37: 6.984 | I37: 0
A38: 24
A39: Итого | E39: =SUM(E15:E38) -> 140.9216 | I39: =SUM(I15:I38) -> 0 | L39: =SUM(L15:L38) -> 0 | O39: =SUM(O15:O38) -> 0
A40: 1, При наличии на предприятии отклонений от нормальных режимов электропотребления (временное изменение схем питания, остановка на ремонт, резкое снижение
A41: эл,потребления и т,д,) последние необходимо перечислить,
A42: Главный инженер АО "Вологдаоблэнерго" А,В, Чурляев
A43: составляется самим предприятием с соблюдением всех пунктов настоящей таблицы,

Sheet 79
B1: АО "Вологдаоблэнерго" | J1: код 900151 | M1: ПС Поповка, ф,Привалино
B2: наименование предприятия | M2: наименование источника питания
M3: КТП-Поселок Поповка
B4: ул, Горького, 99 | I4: Таблица № 1
B5: адрес
A6: почасовых записей показаний электрических счетчиков
A7: ='42'!A7:O7 -> в режимный день 18 ДЕКАБРЯ 2024г.
A8: 1630 | B8: 1628
A9: часы суток | B9: Активная энергия | J9: Реактивная энергия
B10: =M3 -> КТП-Поселок Поповка | F10: =M4 -> 0 | J10: =B10 -> КТП-Поселок Поповка | M10: =F10 -> 0
B11: Расчет, Коэф, | E11: 40 | F11: Расчет, Коэф, | I11: 120 | J11: Расчет, Коэф, | L11: =E11 -> 40 | M11: Расчет, Коэф, | O11: =I11 -> 120
B12: показания счетчика | C12: разность | E12: расход эл,энергии за час | F12: показания счетчика | G12: разность | I12: расход эл,энергии за час | J12: показания счетчика | K12: разность | L12: расход эл,энергии за час | M12: показания счетчика | N12: разность | O12: расход эл,энергии за час
A13: 1 | B13: 2 | C13: 3 | E13: 4 | F13: 5 | G13: 6 | I13: 7 | J13: 8 | K13: 9 | L13: 10 | M13: 11 | N13: 12 | O13: 13
A14: 0 | E14: 18.1584 | I14: 0
A15: 1 | E15: 16.1796 | I15: 0
A16: 2 | E16: 15.5976 | I16: 0
A17: 3 | E17: 15.5394 | I17: 0
A18: 4 | E18: 16.587 | I18: 0
A19: 5 | E19: 10.0104 | I19: 0
A20: 6 | E20: 10.0104 | I20: 0
A21: 7 | E21: 14.6082 | I21: 0
A22: 8 | E22: 16.878 | I22: 0
A23: 9 | E23: 21.0102 | I23: 0
A24: 10 | E24: 20.4282 | I24: 0
A25: 11 | E25: 21.3012 | I25: 0
... A37: 23 | E37: 17.169 | I37: 0
A38: 24
A39: Итого | E39: =SUM(E15:E38) -> 417.1194 | I39: =SUM(I15:I38) -> 0 | L39: =SUM(L15:L38) -> 0 | O39: =SUM(O15:O38) -> 0
A40: 1, При наличии на предприятии отклонений от нормальных режимов электропотребления (временное изменение схем питания, остановка на ремонт, резкое снижение
A41: эл,потребления и т,д,) последние необходимо перечислить,
A42: Главный инженер АО "Вологдаоблэнерго" А,В, Чурляев
A43: составляется самим предприятием с соблюдением всех пунктов настоящей таблицы,

Sheet 80
B1: АО "Вологдаоблэнерго" | J1: код 900151 | M1: ПС РПП-1, ф, Шубацкое
B2: наименование предприятия | M2: наименование источника питания
M3: КТП-63 "ЧЭТС"
B4: ул, Горького, 99 | I4: Таблица № 1
B5: адрес
A6: почасовых записей показаний электрических счетчиков
A7: ='42'!A7:O7 -> в режимный день 18 ДЕКАБРЯ 2024г.
A8: 1630 | B8: 1628
A9: часы суток | B9: Активная энергия | J9: Реактивная энергия
B10: =M3 -> КТП-63 "ЧЭТС" | F10: =M4 -> 0 | J10: =B10 -> КТП-63 "ЧЭТС" | M10: =F10 -> 0
B11: Расчет, Коэф, | E11: 20 | F11: Расчет, Коэф, | I11: 40 | J11: Расчет, Коэф, | L11: =E11 -> 20 | M11: Расчет, Коэф, | O11: =I11 -> 40
B12: показания счетчика | C12: разность | E12: расход эл,энергии за час | F12: показания счетчика | G12: разность | I12: расход эл,энергии за час | J12: показания счетчика | K12: разность | L12: расход эл,энергии за час | M12: показания счетчика | N12: разность | O12: расход эл,энергии за час
A13: 1 | B13: 2 | C13: 3 | E13: 4 | F13: 5 | G13: 6 | I13: 7 | J13: 8 | K13: 9 | L13: 10 | M13: 11 | N13: 12 | O13: 13
A14: 0 | E14: 4.7239 | I14: 0
A15: 1 | E15: 4.8597 | I15: 0
A16: 2 | E16: 4.3941 | I16: 0
A17: 3 | E17: 4.5299 | I17: 0
A18: 4 | E18: 4.3068 | I18: 0
A19: 5 | E19: 5.6066 | I19: 0
A20: 6 | E20: 5.8103 | I20: 0
A21: 7 | E21: 5.917 | I21: 0
A22: 8 | E22: 8.4681 | I22: 0
A23: 9 | E23: 7.9637 | I23: 0
A24: 10 | E24: 8.2159 | I24: 0
A25: 11 | E25: 8.342 | I25: 0
... A37: 23 | E37: 5.141 | I37: 0
A38: 24
A39: Итого | E39: =SUM(E15:E38) -> 150.5052 | I39: =SUM(I15:I38) -> 0 | L39: =SUM(L15:L38) -> 0 | O39: =SUM(O15:O38) -> 0
A40: 1, При наличии на предприятии отклонений от нормальных режимов электропотребления (временное изменение схем питания, остановка на ремонт, резкое снижение
A41: эл,потребления и т,д,) последние необходимо перечислить,
A42: Главный инженер АО "Вологдаоблэнерго" А,В, Чурляев
A43: составляется самим предприятием с соблюдением всех пунктов настоящей таблицы,

Sheet 81
B1: АО "Вологдаоблэнерго" | J1: код 900151 | M1: ПС Суда, ф, Андога
B2: наименование предприятия | M2: наименование источника питания
M3: ТП-243
B4: ул, Горького, 99 | I4: Таблица № 1 | M4: КТП-63 Кривец-1
B5: адрес
A6: почасовых записей показаний электрических счетчиков
A7: ='42'!A7:O7 -> в режимный день 18 ДЕКАБРЯ 2024г.
A8: 1630 | B8: 1628
A9: часы суток | B9: Активная энергия | J9: Реактивная энергия
B10: =M3 -> ТП-243 | F10: =M4 -> КТП-63 Кривец-1 | J10: =B10 -> ТП-243 | M10: =F10 -> КТП-63 Кривец-1
B11: Расчет, Коэф, | E11: 60 | F11: Расчет, Коэф, | I11: 20 | J11: Расчет, Коэф, | L11: =E11 -> 60 | M11: Расчет, Коэф, | O11: =I11 -> 20
B12: показания счетчика | C12: разность | E12: расход эл,энергии за час | F12: показания счетчика | G12: разность | I12: расход эл,энергии за час | J12: показания счетчика | K12: разность | L12: расход эл,энергии за час | M12: показания счетчика | N12: разность | O12: расход эл,энергии за час
A13: 1 | B13: 2 | C13: 3 | E13: 4 | F13: 5 | G13: 6 | I13: 7 | J13: 8 | K13: 9 | L13: 10 | M13: 11 | N13: 12 | O13: 13
A14: 0 | E14: 9.7056 | I14: 0
A15: 1 | E15: 5.6448 | I15: 0
A16: 2 | E16: 6.1344 | I16: 0
A17: 3 | E17: 5.904 | I17: 0
A18: 4 | E18: 4.896 | I18: 0
A19: 5 | E19: 4.9248 | I19: 0
A20: 6 | E20: 4.9392 | I20: 0
A21: 7 | E21: 7.2618 | I21: 0
A22: 8 | E22: 7.9674 | I22: 0
A23: 9 | E23: 10.3488 | I23: 0
A24: 10 | E24: 16.2288 | I24: 0
A25: 11 | E25: 12.7302 | I25: 0
... A37: 23 | E37: 12.474 | I37: 0
A38: 24
A39: Итого | E39: =SUM(E15:E38) -> 271.77 | I39: =SUM(I15:I38) -> 0 | L39: =SUM(L15:L38) -> 0 | O39: =SUM(O15:O38) -> 0
A40: 1, При наличии на предприятии отклонений от нормальных режимов электропотребления (временное изменение схем питания, остановка на ремонт, резкое снижение
A41: эл,потребления и т,д,) последние необходимо перечислить,
A42: Главный инженер АО "Вологдаоблэнерго" А,В, Чурляев
A43: составляется самим предприятием с соблюдением всех пунктов настоящей таблицы,

Sheet 82
B1: АО "Вологдаоблэнерго" | J1: код 900151 | M1: ПС Суда, ф, Сойволовское
B2: наименование предприятия | M2: наименование источника питания
M3: КТП общества садоводов "Заря-2"
B4: ул, Горького, 99 | I4: Таблица № 1 | M4: КТП "Дачи"
B5: адрес
A6: почасовых записей показаний электрических счетчиков
A7: ='42'!A7:O7 -> в режимный день 18 ДЕКАБРЯ 2024г.
A8: 1630 | B8: 1628
A9: часы суток | B9: Активная энергия | J9: Реактивная энергия
B10: =M3 -> КТП общества садоводов "Заря-2" | F10: =M4 -> КТП "Дачи" | J10: =B10 -> КТП общества садоводов "Заря-2" | M10: =F10 -> КТП "Дачи"
B11: Расчет, Коэф, | E11: 40 | F11: Расчет, Коэф, | I11: 60 | J11: Расчет, Коэф, | L11: =E11 -> 40 | M11: Расчет, Коэф, | O11: =I11 -> 60
B12: показания счетчика | C12: разность | E12: расход эл,энергии за час | F12: показания счетчика | G12: разность | I12: расход эл,энергии за час | J12: показания счетчика | K12: разность | L12: расход эл,энергии за час | M12: показания счетчика | N12: разность | O12: расход эл,энергии за час
A13: 1 | B13: 2 | C13: 3 | E13: 4 | F13: 5 | G13: 6 | I13: 7 | J13: 8 | K13: 9 | L13: 10 | M13: 11 | N13: 12 | O13: 13
A14: 0 | E14: 24.15744 | I14: 11.907
A15: 1 | E15: 20.45952 | I15: 10.6722
A16: 2 | E16: 19.9872 | I16: 8.9082
A17: 3 | E17: 16.48512 | I17: 8.232
A18: 4 | E18: 16.95744 | I18: 7.6146
A19: 5 | E19: 20.83968 | I19: 8.232
A20: 6 | E20: 29.76456 | I20: 10.0548
A21: 7 | E21: 35.15064 | I21: 12.348
A22: 8 | E22: 33.5748 | I22: 13.4358
A23: 9 | E23: 33.64536 | I23: 17.3166
A24: 10 | E24: 37.02048 | I24: 15.6996
A25: 11 | E25: 33.66888 | I25: 16.1994
... A37: 23 | E37: 37.16064 | I37: 15.3468
A38: 24
A39: Итого | E39: =SUM(E15:E38) -> 716.28936 | I39: =SUM(I15:I38) -> 327.8982 | L39: =SUM(L15:L38) -> 0 | O39: =SUM(O15:O38) -> 0
A40: 1, При наличии на предприятии отклонений от нормальных режимов электропотребления (временное изменение схем питания, остановка на ремонт, резкое снижение
A41: эл,потребления и т,д,) последние необходимо перечислить,
A42: Главный инженер АО "Вологдаоблэнерго" А,В, Чурляев
A43: составляется самим предприятием с соблюдением всех пунктов настоящей таблицы,

Sheet 83
B1: АО "Вологдаоблэнерго" | J1: код 900151 | M1: ПС Суда, ф, Андога
B2: наименование предприятия | M2: наименование источника питания
M3: КТП-100 Детский дом
B4: ул, Горького, 99 | I4: Таблица № 1
B5: адрес
A6: почасовых записей показаний электрических счетчиков
A7: ='42'!A7:O7 -> в режимный день 18 ДЕКАБРЯ 2024г.
A8: 1630 | B8: 1628
A9: часы суток | B9: Активная энергия | J9: Реактивная энергия
B10: =M3 -> КТП-100 Детский дом | F10: =M4 -> 0 | J10: =B10 -> КТП-100 Детский дом | M10: =F10 -> 0
B11: Расчет, Коэф, | E11: 20 | F11: Расчет, Коэф, | I11: 200 | J11: Расчет, Коэф, | L11: =E11 -> 20 | M11: Расчет, Коэф, | O11: =I11 -> 200
B12: показания счетчика | C12: разность | E12: расход эл,энергии за час | F12: показания счетчика | G12: разность | I12: расход эл,энергии за час | J12: показания счетчика | K12: разность | L12: расход эл,энергии за час | M12: показания счетчика | N12: разность | O12: расход эл,энергии за час
A13: 1 | B13: 2 | C13: 3 | E13: 4 | F13: 5 | G13: 6 | I13: 7 | J13: 8 | K13: 9 | L13: 10 | M13: 11 | N13: 12 | O13: 13
A14: 0 | E14: 1.10192 | I14: 0
A15: 1 | E15: 0.7372 | I15: 0
A16: 2 | E16: 0.72556 | I16: 0
A17: 3 | E17: 0.97388 | I17: 0
A18: 4 | E18: 1.04372 | I18: 0
A19: 5 | E19: 0.72168 | I19: 0
A20: 6 | E20: 0.9894 | I20: 0
A21: 7 | E21: 0.85748 | I21: 0
A22: 8 | E22: 0.88464 | I22: 0
A23: 9 | E23: 0.69452 | I23: 0
A24: 10 | E24: 0.679 | I24: 0
A25: 11 | E25: 0.61692 | I25: 0
... A37: 23 | E37: 1.56752 | I37: 0
A38: 24
A39: Итого | E39: =SUM(E15:E38) -> 19.5746 | I39: =SUM(I15:I38) -> 0 | L39: =SUM(L15:L38) -> 0 | O39: =SUM(O15:O38) -> 0
A40: 1, При наличии на предприятии отклонений от нормальных режимов электропотребления (временное изменение схем питания, остановка на ремонт, резкое снижение
A41: эл,потребления и т,д,) последние необходимо перечислить,
A42: Главный инженер АО "Вологдаоблэнерго" А,В, Чурляев
A43: составляется самим предприятием с соблюдением всех пунктов настоящей таблицы,

Sheet 84
B1: АО "Вологдаоблэнерго" | J1: код 900151 | M1: ПС Южная, ф, Матинга
B2: наименование предприятия | M2: наименование источника питания
M3: ТП-55
B4: ул, Горького, 99 | I4: Таблица № 1
B5: адрес
A6: почасовых записей показаний электрических счетчиков
A7: ='42'!A7:O7 -> в режимный день 18 ДЕКАБРЯ 2024г.
A8: 1630 | B8: 1628
A9: часы суток | B9: Активная энергия | J9: Реактивная энергия
B10: =M3 -> ТП-55 | F10: =M4 -> 0 | J10: =B10 -> ТП-55 | M10: =F10 -> 0
B11: Расчет, Коэф, | E11: 30 | F11: Расчет, Коэф, | I11: 120 | J11: Расчет, Коэф, | L11: =E11 -> 30 | M11: Расчет, Коэф, | O11: =I11 -> 120
B12: показания счетчика | C12: разность | E12: расход эл,энергии за час | F12: показания счетчика | G12: разность | I12: расход эл,энергии за час | J12: показания счетчика | K12: разность | L12: расход эл,энергии за час | M12: показания счетчика | N12: разность | O12: расход эл,энергии за час
A13: 1 | B13: 2 | C13: 3 | E13: 4 | F13: 5 | G13: 6 | I13: 7 | J13: 8 | K13: 9 | L13: 10 | M13: 11 | N13: 12 | O13: 13
A14: 0 | E14: 6.4224 | I14: 0
A15: 1 | E15: 4.0752 | I15: 0
A16: 2 | E16: 1.9728 | I16: 0
A17: 3 | E17: 2.0736 | I17: 0
A18: 4 | E18: 1.7856 | I18: 0
A19: 5 | E19: 1.9152 | I19: 0
A20: 6 | E20: 2.058 | I20: 0
A21: 7 | E21: 2.8371 | I21: 0
A22: 8 | E22: 2.6754 | I22: 0
A23: 9 | E23: 3.4839 | I23: 0
A24: 10 | E24: 4.2777 | I24: 0
A25: 11 | E25: 3.969 | I25: 0
... A37: 23 | E37: 3.84615 | I37: 0
A38: 24
A39: Итого | E39: =SUM(E15:E38) -> 79.7352 | I39: =SUM(I15:I38) -> 0 | L39: =SUM(L15:L38) -> 0 | O39: =SUM(O15:O38) -> 0
A40: 1, При наличии на предприятии отклонений от нормальных режимов электропотребления (временное изменение схем питания, остановка на ремонт, резкое снижение
A41: эл,потребления и т,д,) последние необходимо перечислить,
A42: Главный инженер АО "Вологдаоблэнерго" А,В, Чурляев
A43: составляется самим предприятием с соблюдением всех пунктов настоящей таблицы,

Sheet 85
B1: АО "Вологдаоблэнерго" | J1: код 900151 | M1: ПС Юрочкино, ф, Фоминское
B2: наименование предприятия | M2: наименование источника питания
M3: ТП-15
B4: ул, Горького, 99 | I4: Таблица № 1 | M4: ТП-23 В-2
B5: адрес
A6: почасовых записей показаний электрических счетчиков
A7: ='42'!A7:O7 -> в режимный день 18 ДЕКАБРЯ 2024г.
A8: 1630 | B8: 1628
A9: часы суток | B9: Активная энергия | J9: Реактивная энергия
B10: =M3 -> ТП-15 | F10: =M4 -> ТП-23 В-2 | J10: =B10 -> ТП-15 | M10: =F10 -> ТП-23 В-2
B11: Расчет, Коэф, | E11: 40 | F11: Расчет, Коэф, | I11: 120 | J11: Расчет, Коэф, | L11: =E11 -> 40 | M11: Расчет, Коэф, | O11: =I11 -> 120
B12: показания счетчика | C12: разность | E12: расход эл,энергии за час | F12: показания счетчика | G12: разность | I12: расход эл,энергии за час | J12: показания счетчика | K12: разность | L12: расход эл,энергии за час | M12: показания счетчика | N12: разность | O12: расход эл,энергии за час
A13: 1 | B13: 2 | C13: 3 | E13: 4 | F13: 5 | G13: 6 | I13: 7 | J13: 8 | K13: 9 | L13: 10 | M13: 11 | N13: 12 | O13: 13
A14: 0 | E14: 0.1358 | I14: 0
A15: 1 | E15: 0.1164 | I15: 0
A16: 2 | E16: 0.1358 | I16: 0
A17: 3 | E17: 0.1164 | I17: 0
A18: 4 | E18: 0.097 | I18: 0
A19: 5 | E19: 0.1164 | I19: 0
A20: 6 | E20: 0.097 | I20: 0
A21: 7 | E21: 0.097 | I21: 0
A22: 8 | E22: 0.2328 | I22: 0
A23: 9 | E23: 25.0454 | I23: 0
A24: 10 | E24: 27.8778 | I24: 0
A25: 11 | E25: 18.1972 | I25: 0
... A37: 23 | E37: 0.097 | I37: 0
A38: 24
A39: Итого | E39: =SUM(E15:E38) -> 199.917 | I39: =SUM(I15:I38) -> 0 | L39: =SUM(L15:L38) -> 0 | O39: =SUM(O15:O38) -> 0
A40: 1, При наличии на предприятии отклонений от нормальных режимов электропотребления (временное изменение схем питания, остановка на ремонт, резкое снижение
A41: эл,потребления и т,д,) последние необходимо перечислить,
A42: Главный инженер АО "Вологдаоблэнерго" А,В, Чурляев
A43: составляется самим предприятием с соблюдением всех пунктов настоящей таблицы,

Sheet 86
B1: АО "Вологдаоблэнерго" | J1: код 900151 | M1: ПС Енюково
B2: наименование предприятия | M2: наименование источника питания
M3: ф, КУФ-3
B4: ул, Горького, 99 | I4: Таблица № 1
B5: адрес
A6: почасовых записей показаний электрических счетчиков
A7: ='42'!A7:O7 -> в режимный день 18 ДЕКАБРЯ 2024г.
A8: 1630 | B8: 1628
A9: часы суток | B9: Активная энергия | J9: Реактивная энергия
B10: =M3 -> ф, КУФ-3 | F10: =M4 -> 0 | J10: =B10 -> ф, КУФ-3 | M10: =F10 -> 0
B11: Расчет, Коэф, | E11: 80 | F11: Расчет, Коэф, | I11: 30 | J11: Расчет, Коэф, | L11: =E11 -> 80 | M11: Расчет, Коэф, | O11: =I11 -> 30
B12: показания счетчика | C12: разность | E12: расход эл,энергии за час | F12: показания счетчика | G12: разность | I12: расход эл,энергии за час | J12: показания счетчика | K12: разность | L12: расход эл,энергии за час | M12: показания счетчика | N12: разность | O12: расход эл,энергии за час
A13: 1 | B13: 2 | C13: 3 | E13: 4 | F13: 5 | G13: 6 | I13: 7 | J13: 8 | K13: 9 | L13: 10 | M13: 11 | N13: 12 | O13: 13
A14: 0 | E14: 0 | I14: 0
A15: 1 | E15: 0 | I15: 0
A16: 2 | E16: 0 | I16: 0
A17: 3 | E17: 0 | I17: 0
A18: 4 | E18: 0 | I18: 0
A19: 5 | E19: 0 | I19: 0
A20: 6 | E20: 0 | I20: 0
A21: 7 | E21: 0 | I21: 0
A22: 8 | E22: 0 | I22: 0
A23: 9 | E23: 0 | I23: 0
A24: 10 | E24: 0 | I24: 0
A25: 11 | E25: 0 | I25: 0
... A37: 23 | E37: 0 | I37: 0
A38: 24
A39: Итого | E39: =SUM(E15:E38) -> 0 | I39: =SUM(I15:I38) -> 0 | L39: =SUM(L15:L38) -> 0 | O39: =SUM(O15:O38) -> 0
A40: 1, При наличии на предприятии отклонений от нормальных режимов электропотребления (временное изменение схем питания, остановка на ремонт, резкое снижение
A41: эл,потребления и т,д,) последние необходимо перечислить,
A42: Главный инженер АО "Вологдаоблэнерго" А,В, Чурляев
A43: составляется самим предприятием с соблюдением всех пунктов настоящей таблицы,

Sheet 87
B1: АО "Вологдаоблэнерго" | J1: код 900151 | M1: ПС Ирдоматка
B2: наименование предприятия | M2: наименование источника питания
M3: ф, Промкомбинат
B4: ул, Горького, 99 | I4: Таблица № 1 | M4: ф, Романда
B5: адрес
A6: почасовых записей показаний электрических счетчиков
A7: ='42'!A7:O7 -> в режимный день 18 ДЕКАБРЯ 2024г.
A8: 1630 | B8: 1628
A9: часы суток | B9: Активная энергия | J9: Реактивная энергия
B10: =M3 -> ф, Промкомбинат | F10: =M4 -> ф, Романда | J10: =B10 -> ф, Промкомбинат | M10: =F10 -> ф, Романда
B11: Расчет, Коэф, | E11: 80 | F11: Расчет, Коэф, | I11: 30 | J11: Расчет, Коэф, | L11: =E11 -> 80 | M11: Расчет, Коэф, | O11: =I11 -> 30
B12: показания счетчика | C12: разность | E12: расход эл,энергии за час | F12: показания счетчика | G12: разность | I12: расход эл,энергии за час | J12: показания счетчика | K12: разность | L12: расход эл,энергии за час | M12: показания счетчика | N12: разность | O12: расход эл,энергии за час
A13: 1 | B13: 2 | C13: 3 | E13: 4 | F13: 5 | G13: 6 | I13: 7 | J13: 8 | K13: 9 | L13: 10 | M13: 11 | N13: 12 | O13: 13
A14: 0 | E14: 230.6 | I14: 391.4
A15: 1 | E15: 265.6 | I15: 365
A16: 2 | E16: 254.8 | I16: 373.2
A17: 3 | E17: 235.8 | I17: 383.4
A18: 4 | E18: 221.8 | I18: 391.2
A19: 5 | E19: 243.2 | I19: 407.2
A20: 6 | E20: 263.8 | I20: 402.4
A21: 7 | E21: 264.6 | I21: 401.8
A22: 8 | E22: 275.6 | I22: 388.6
A23: 9 | E23: 299.6 | I23: 379
A24: 10 | E24: 287.6 | I24: 381.6
A25: 11 | E25: 277.4 | I25: 374.4
... A37: 23 | E37: 232.4 | I37: 441.2
A38: 24
A39: Итого | E39: =SUM(E15:E38) -> 6062.4 | I39: =SUM(I15:I38) -> 9198 | L39: =SUM(L15:L38) -> 0 | O39: =SUM(O15:O38) -> 0
A40: 1, При наличии на предприятии отклонений от нормальных режимов электропотребления (временное изменение схем питания, остановка на ремонт, резкое снижение
A41: эл,потребления и т,д,) последние необходимо перечислить,
A42: Главный инженер АО "Вологдаоблэнерго" А,В, Чурляев
A43: составляется самим предприятием с соблюдением всех пунктов настоящей таблицы,

Sheet 88
B1: АО "Вологдаоблэнерго" | J1: код 900151 | M1: ПС Вишняки
B2: наименование предприятия | M2: наименование источника питания
M3: ф, Парус-1
B4: ул, Горького, 99 | I4: Таблица № 1 | M4: ф, Парус-2
B5: адрес
A6: почасовых записей показаний электрических счетчиков
A7: ='42'!A7:O7 -> в режимный день 18 ДЕКАБРЯ 2024г.
A8: 1630 | B8: 1628
A9: часы суток | B9: Активная энергия | J9: Реактивная энергия
B10: =M3 -> ф, Парус-1 | F10: =M4 -> ф, Парус-2 | J10: =B10 -> ф, Парус-1 | M10: =F10 -> ф, Парус-2
B11: Расчет, Коэф, | E11: 80 | F11: Расчет, Коэф, | I11: 30 | J11: Расчет, Коэф, | L11: =E11 -> 80 | M11: Расчет, Коэф, | O11: =I11 -> 30
B12: показания счетчика | C12: разность | E12: расход эл,энергии за час | F12: показания счетчика | G12: разность | I12: расход эл,энергии за час | J12: показания счетчика | K12: разность | L12: расход эл,энергии за час | M12: показания счетчика | N12: разность | O12: расход эл,энергии за час
A13: 1 | B13: 2 | C13: 3 | E13: 4 | F13: 5 | G13: 6 | I13: 7 | J13: 8 | K13: 9 | L13: 10 | M13: 11 | N13: 12 | O13: 13
A14: 0 | E14: 65.2 | I14: 39.8
A15: 1 | E15: 65.2 | I15: 40
A16: 2 | E16: 63.8 | I16: 40.2
A17: 3 | E17: 65.4 | I17: 39.8
A18: 4 | E18: 64 | I18: 39.8
A19: 5 | E19: 65 | I19: 40.2
A20: 6 | E20: 65 | I20: 39.8
A21: 7 | E21: 66.4 | I21: 40
A22: 8 | E22: 65.4 | I22: 39.2
A23: 9 | E23: 67.6 | I23: 39
A24: 10 | E24: 66.4 | I24: 39.4
A25: 11 | E25: 67.8 | I25: 39.4
... A37: 23 | E37: 67.8 | I37: 40
A38: 24
A39: Итого | E39: =SUM(E15:E38) -> 1557.2 | I39: =SUM(I15:I38) -> 912.2 | L39: =SUM(L15:L38) -> 0 | O39: =SUM(O15:O38) -> 0
A40: 1, При наличии на предприятии отклонений от нормальных режимов электропотребления (временное изменение схем питания, остановка на ремонт, резкое снижение
A41: эл,потребления и т,д,) последние необходимо перечислить,
A42: Главный инженер АО "Вологдаоблэнерго" А,В, Чурляев
A43: составляется самим предприятием с соблюдением всех пунктов настоящей таблицы,

Sheet 89
B1: АО "Вологдаоблэнерго" | J1: код 900151 | M1: ПС Искра
B2: наименование предприятия | M2: наименование источника питания
M3: ф, Садовая
B4: ул, Горького, 99 | I4: Таблица № 1 | M4: ф, Газовая-1
B5: адрес
A6: почасовых записей показаний электрических счетчиков
A7: ='42'!A7:O7 -> в режимный день 18 ДЕКАБРЯ 2024г.
A8: 1630 | B8: 1628
A9: часы суток | B9: Активная энергия | J9: Реактивная энергия
B10: =M3 -> ф, Садовая | F10: =M4 -> ф, Газовая-1 | J10: =B10 -> ф, Садовая | M10: =F10 -> ф, Газовая-1
B11: Расчет, Коэф, | E11: 80 | F11: Расчет, Коэф, | I11: 30 | J11: Расчет, Коэф, | L11: =E11 -> 80 | M11: Расчет, Коэф, | O11: =I11 -> 30
B12: показания счетчика | C12: разность | E12: расход эл,энергии за час | F12: показания счетчика | G12: разность | I12: расход эл,энергии за час | J12: показания счетчика | K12: разность | L12: расход эл,энергии за час | M12: показания счетчика | N12: разность | O12: расход эл,энергии за час
A13: 1 | B13: 2 | C13: 3 | E13: 4 | F13: 5 | G13: 6 | I13: 7 | J13: 8 | K13: 9 | L13: 10 | M13: 11 | N13: 12 | O13: 13
A14: 0 | E14: 817.02881 | I14: 0
A15: 1 | E15: 785.11752 | I15: 0
A16: 2 | E16: 778.77124 | I16: 0
A17: 3 | E17: 768.70459 | I17: 0
A18: 4 | E18: 779.02069 | I18: 0
A19: 5 | E19: 811.53476 | I19: 0
A20: 6 | E20: 806.25546 | I20: 0
A21: 7 | E21: 798.37811 | I21: 0
A22: 8 | E22: 779.9006 | I22: 0
A23: 9 | E23: 749.99847 | I23: 0
A24: 10 | E24: 756.14377 | I24: 0
A25: 11 | E25: 776.72052 | I25: 0
... A37: 23 | E37: 876.14023 | I37: 0
A38: 24
A39: Итого | E39: =SUM(E15:E38) -> 18713.041 | I39: =SUM(I15:I38) -> 0 | L39: =SUM(L15:L38) -> 0 | O39: =SUM(O15:O38) -> 0
A40: 1, При наличии на предприятии отклонений от нормальных режимов электропотребления (временное изменение схем питания, остановка на ремонт, резкое снижение
A41: эл,потребления и т,д,) последние необходимо перечислить,
A42: Главный инженер АО "Вологдаоблэнерго" А,В, Чурляев
A43: составляется самим предприятием с соблюдением всех пунктов настоящей таблицы,

Sheet 90
B1: АО "Вологдаоблэнерго" | J1: код 900151 | M1: ПС Климовская
B2: наименование предприятия | M2: наименование источника питания
M3: ф, КУФ-1
B4: ул, Горького, 99 | I4: Таблица № 1 | M4: ф, КУФ-2
B5: адрес
A6: почасовых записей показаний электрических счетчиков
A7: ='42'!A7:O7 -> в режимный день 18 ДЕКАБРЯ 2024г.
A8: 1630 | B8: 1628
A9: часы суток | B9: Активная энергия | J9: Реактивная энергия
B10: =M3 -> ф, КУФ-1 | F10: =M4 -> ф, КУФ-2 | J10: =B10 -> ф, КУФ-1 | M10: =F10 -> ф, КУФ-2
B11: Расчет, Коэф, | E11: 80 | F11: Расчет, Коэф, | I11: 30 | J11: Расчет, Коэф, | L11: =E11 -> 80 | M11: Расчет, Коэф, | O11: =I11 -> 30
B12: показания счетчика | C12: разность | E12: расход эл,энергии за час | F12: показания счетчика | G12: разность | I12: расход эл,энергии за час | J12: показания счетчика | K12: разность | L12: расход эл,энергии за час | M12: показания счетчика | N12: разность | O12: расход эл,энергии за час
A13: 1 | B13: 2 | C13: 3 | E13: 4 | F13: 5 | G13: 6 | I13: 7 | J13: 8 | K13: 9 | L13: 10 | M13: 11 | N13: 12 | O13: 13
A14: 0 | E14: 74.7 | I14: 163.5
A15: 1 | E15: 64.5 | I15: 184.5
A16: 2 | E16: 74.1 | I16: 199.5
A17: 3 | E17: 73.2 | I17: 198
A18: 4 | E18: 71.7 | I18: 150.3
A19: 5 | E19: 75.3 | I19: 166.5
A20: 6 | E20: 77.1 | I20: 186.3
A21: 7 | E21: 73.5 | I21: 170.7
A22: 8 | E22: 67.8 | I22: 187.2
A23: 9 | E23: 72.3 | I23: 219.9
A24: 10 | E24: 74.4 | I24: 210.3
A25: 11 | E25: 77.7 | I25: 249.6
... A37: 23 | E37: 76.8 | I37: 178.2
A38: 24
A39: Итого | E39: =SUM(E15:E38) -> 1696.2 | I39: =SUM(I15:I38) -> 4508.4 | L39: =SUM(I15:I38) -> 4508.4 | O39: =SUM(O15:O38) -> 0
A40: 1, При наличии на предприятии отклонений от нормальных режимов электропотребления (временное изменение схем питания, остановка на ремонт, резкое снижение
A41: эл,потребления и т,д,) последние необходимо перечислить,
A42: Главный инженер АО "Вологдаоблэнерго" А,В, Чурляев
A43: составляется самим предприятием с соблюдением всех пунктов настоящей таблицы,

Sheet 91
B1: АО "Вологдаоблэнерго" | J1: код 900151 | M1: ПС Климовская
B2: наименование предприятия | M2: наименование источника питания
M3: ф, Поселок
B4: ул, Горького, 99 | I4: Таблица № 1 | M4: ф, ПТФ-2
B5: адрес
A6: почасовых записей показаний электрических счетчиков
A7: ='42'!A7:O7 -> в режимный день 18 ДЕКАБРЯ 2024г.
A8: 1630 | B8: 1628
A9: часы суток | B9: Активная энергия | J9: Реактивная энергия
B10: =M3 -> ф, Поселок | F10: =M4 -> ф, ПТФ-2 | J10: =B10 -> ф, Поселок | M10: =F10 -> ф, ПТФ-2
B11: Расчет, Коэф, | E11: 80 | F11: Расчет, Коэф, | I11: 30 | J11: Расчет, Коэф, | L11: =E11 -> 80 | M11: Расчет, Коэф, | O11: =I11 -> 30
B12: показания счетчика | C12: разность | E12: расход эл,энергии за час | F12: показания счетчика | G12: разность | I12: расход эл,энергии за час | J12: показания счетчика | K12: разность | L12: расход эл,энергии за час | M12: показания счетчика | N12: разность | O12: расход эл,энергии за час
A13: 1 | B13: 2 | C13: 3 | E13: 4 | F13: 5 | G13: 6 | I13: 7 | J13: 8 | K13: 9 | L13: 10 | M13: 11 | N13: 12 | O13: 13
A14: 0 | E14: 197.4 | I14: 24.4
A15: 1 | E15: 198.4 | I15: 23.6
A16: 2 | E16: 197.4 | I16: 22.8
A17: 3 | E17: 197.6 | I17: 24
A18: 4 | E18: 194.4 | I18: 23.2
A19: 5 | E19: 202.2 | I19: 24.4
A20: 6 | E20: 209.4 | I20: 25.6
A21: 7 | E21: 235.4 | I21: 28
A22: 8 | E22: 259.8 | I22: 39.2
A23: 9 | E23: 271.4 | I23: 41.2
A24: 10 | E24: 275 | I24: 38.4
A25: 11 | E25: 282 | I25: 34.8
... A37: 23 | E37: 209 | I37: 24
A38: 24
A39: Итого | E39: =SUM(E15:E38) -> 5585.2 | I39: =SUM(I15:I38) -> 717.2 | L39: =SUM(L15:L38) -> 0 | O39: =SUM(O15:O38) -> 0
A40: 1, При наличии на предприятии отклонений от нормальных режимов электропотребления (временное изменение схем питания, остановка на ремонт, резкое снижение
A41: эл,потребления и т,д,) последние необходимо перечислить,
A42: Главный инженер АО "Вологдаоблэнерго" А,В, Чурляев
A43: составляется самим предприятием с соблюдением всех пунктов настоящей таблицы,

Sheet 92
B1: АО "Вологдаоблэнерго" | J1: код 900151 | M1: ПС Климовская
B2: наименование предприятия | M2: наименование источника питания
M3: ф, ПТФ-3
B4: ул, Горького, 99 | I4: Таблица № 1 | M4: ф, ПТФ-4
B5: адрес
A6: почасовых записей показаний электрических счетчиков
A7: ='42'!A7:O7 -> в режимный день 18 ДЕКАБРЯ 2024г.
A8: 1630 | B8: 1628
A9: часы суток | B9: Активная энергия | J9: Реактивная энергия
B10: =M3 -> ф, ПТФ-3 | F10: =M4 -> ф, ПТФ-4 | J10: =B10 -> ф, ПТФ-3 | M10: =F10 -> ф, ПТФ-4
B11: Расчет, Коэф, | E11: 80 | F11: Расчет, Коэф, | I11: 30 | J11: Расчет, Коэф, | L11: =E11 -> 80 | M11: Расчет, Коэф, | O11: =I11 -> 30
B12: показания счетчика | C12: разность | E12: расход эл,энергии за час | F12: показания счетчика | G12: разность | I12: расход эл,энергии за час | J12: показания счетчика | K12: разность | L12: расход эл,энергии за час | M12: показания счетчика | N12: разность | O12: расход эл,энергии за час
A13: 1 | B13: 2 | C13: 3 | E13: 4 | F13: 5 | G13: 6 | I13: 7 | J13: 8 | K13: 9 | L13: 10 | M13: 11 | N13: 12 | O13: 13
A14: 0 | E14: 249.6 | I14: 31.8
A15: 1 | E15: 242.4 | I15: 30
A16: 2 | E16: 238.4 | I16: 29.4
A17: 3 | E17: 238.4 | I17: 28.2
A18: 4 | E18: 244 | I18: 30.6
A19: 5 | E19: 256.8 | I19: 31.2
A20: 6 | E20: 314.4 | I20: 34.2
A21: 7 | E21: 326.4 | I21: 34.8
A22: 8 | E22: 333.6 | I22: 32.4
A23: 9 | E23: 348.8 | I23: 33.6
A24: 10 | E24: 364 | I24: 35.4
A25: 11 | E25: 368 | I25: 34.8
... A37: 23 | E37: 270.4 | I37: 34.2
A38: 24
A39: Итого | E39: =SUM(E15:E38) -> 7283.2 | I39: =SUM(I15:I38) -> 751.2 | L39: =SUM(L15:L38) -> 0 | O39: =SUM(O15:O38) -> 0
A40: 1, При наличии на предприятии отклонений от нормальных режимов электропотребления (временное изменение схем питания, остановка на ремонт, резкое снижение
A41: эл,потребления и т,д,) последние необходимо перечислить,
A42: Главный инженер АО "Вологдаоблэнерго" А,В, Чурляев
A43: составляется самим предприятием с соблюдением всех пунктов настоящей таблицы,

Sheet 93
B1: АО "Вологдаоблэнерго" | J1: код 900151 | M1: ПС Новые Углы
B2: наименование предприятия | M2: наименование источника питания
M3: ф, Подсобное хоз,-1
B4: ул, Горького, 99 | I4: Таблица № 1 | M4: ф, Подсобное хоз,-2
B5: адрес
A6: почасовых записей показаний электрических счетчиков
A7: ='42'!A7:O7 -> в режимный день 18 ДЕКАБРЯ 2024г.
A8: 1630 | B8: 1628
A9: часы суток | B9: Активная энергия | J9: Реактивная энергия
B10: =M3 -> ф, Подсобное хоз,-1 | F10: =M4 -> ф, Подсобное хоз,-2 | J10: =B10 -> ф, Подсобное хоз,-1 | M10: =F10 -> ф, Подсобное хоз,-2
B11: Расчет, Коэф, | E11: 80 | F11: Расчет, Коэф, | I11: 30 | J11: Расчет, Коэф, | L11: =E11 -> 80 | M11: Расчет, Коэф, | O11: =I11 -> 30
B12: показания счетчика | C12: разность | E12: расход эл,энергии за час | F12: показания счетчика | G12: разность | I12: расход эл,энергии за час | J12: показания счетчика | K12: разность | L12: расход эл,энергии за час | M12: показания счетчика | N12: разность | O12: расход эл,энергии за час
A13: 1 | B13: 2 | C13: 3 | E13: 4 | F13: 5 | G13: 6 | I13: 7 | J13: 8 | K13: 9 | L13: 10 | M13: 11 | N13: 12 | O13: 13
A14: 0 | E14: 273.2 | I14: 213.6
A15: 1 | E15: 274.8 | I15: 209.2
A16: 2 | E16: 282 | I16: 203.2
A17: 3 | E17: 284 | I17: 205.2
A18: 4 | E18: 282 | I18: 210.4
A19: 5 | E19: 270.8 | I19: 228
A20: 6 | E20: 292 | I20: 251.6
A21: 7 | E21: 320 | I21: 328.8
A22: 8 | E22: 394.8 | I22: 372.8
A23: 9 | E23: 416 | I23: 348
A24: 10 | E24: 451.2 | I24: 372.4
A25: 11 | E25: 451.6 | I25: 338
... A37: 23 | E37: 300.4 | I37: 228
A38: 24
A39: Итого | E39: =SUM(E15:E38) -> 8276 | I39: =SUM(I15:I38) -> 6496 | L39: =SUM(L15:L38) -> 0 | O39: =SUM(O15:O38) -> 0
A40: 1, При наличии на предприятии отклонений от нормальных режимов электропотребления (временное изменение схем питания, остановка на ремонт, резкое снижение
A41: эл,потребления и т,д,) последние необходимо перечислить,
A42: Главный инженер АО "Вологдаоблэнерго" А,В, Чурляев
A43: составляется самим предприятием с соблюдением всех пунктов настоящей таблицы,

Sheet 94
B1: АО "Вологдаоблэнерго" | J1: код 900151 | M1: ПС Нелазкое
B2: наименование предприятия | M2: наименование источника питания
M3: ф, Нелазкое-2
B4: ул, Горького, 99 | I4: Таблица № 1
B5: адрес
A6: почасовых записей показаний электрических счетчиков
A7: ='42'!A7:O7 -> в режимный день 18 ДЕКАБРЯ 2024г.
A8: 1630 | B8: 1628
A9: часы суток | B9: Активная энергия | J9: Реактивная энергия
B10: =M3 -> ф, Нелазкое-2 | F10: =M4 -> 0 | J10: =B10 -> ф, Нелазкое-2 | M10: =F10 -> 0
B11: Расчет, Коэф, | E11: 80 | F11: Расчет, Коэф, | I11: 30 | J11: Расчет, Коэф, | L11: =E11 -> 80 | M11: Расчет, Коэф, | O11: =I11 -> 30
B12: показания счетчика | C12: разность | E12: расход эл,энергии за час | F12: показания счетчика | G12: разность | I12: расход эл,энергии за час | J12: показания счетчика | K12: разность | L12: расход эл,энергии за час | M12: показания счетчика | N12: разность | O12: расход эл,энергии за час
A13: 1 | B13: 2 | C13: 3 | E13: 4 | F13: 5 | G13: 6 | I13: 7 | J13: 8 | K13: 9 | L13: 10 | M13: 11 | N13: 12 | O13: 13
A14: 0 | E14: 59.6
A15: 1 | E15: 54.6
A16: 2 | E16: 59
A17: 3 | E17: 48
A18: 4 | E18: 45.6
A19: 5 | E19: 61.2
A20: 6 | E20: 58.4
A21: 7 | E21: 62.4
A22: 8 | E22: 72.8
A23: 9 | E23: 73.6
A24: 10 | E24: 76.4
A25: 11 | E25: 93.6
... A37: 23 | E37: 60.8
A38: 24
A39: Итого | E39: =SUM(E15:E38) -> 1540.8 | I39: =SUM(I15:I38) -> 0 | L39: =SUM(L15:L38) -> 0 | O39: =SUM(O15:O38) -> 0
A40: 1, При наличии на предприятии отклонений от нормальных режимов электропотребления (временное изменение схем питания, остановка на ремонт, резкое снижение
A41: эл,потребления и т,д,) последние необходимо перечислить,
A42: Главный инженер АО "Вологдаоблэнерго" А,В, Чурляев
A43: составляется самим предприятием с соблюдением всех пунктов настоящей таблицы,

Sheet 95
B1: АО "Вологдаоблэнерго" | J1: код 900151 | M1: ПС Суда
B2: наименование предприятия | M2: наименование источника питания
M3: ф, Котельная
B4: ул, Горького, 99 | I4: Таблица № 1 | M4: ф, Межное
B5: адрес
A6: почасовых записей показаний электрических счетчиков
A7: ='42'!A7:O7 -> в режимный день 18 ДЕКАБРЯ 2024г.
A8: 1630 | B8: 1628
A9: часы суток | B9: Активная энергия | J9: Реактивная энергия
B10: =M3 -> ф, Котельная | F10: =M4 -> ф, Межное | J10: =B10 -> ф, Котельная | M10: =F10 -> ф, Межное
B11: Расчет, Коэф, | E11: 80 | F11: Расчет, Коэф, | I11: 30 | J11: Расчет, Коэф, | L11: =E11 -> 80 | M11: Расчет, Коэф, | O11: =I11 -> 30
B12: показания счетчика | C12: разность | E12: расход эл,энергии за час | F12: показания счетчика | G12: разность | I12: расход эл,энергии за час | J12: показания счетчика | K12: разность | L12: расход эл,энергии за час | M12: показания счетчика | N12: разность | O12: расход эл,энергии за час
A13: 1 | B13: 2 | C13: 3 | E13: 4 | F13: 5 | G13: 6 | I13: 7 | J13: 8 | K13: 9 | L13: 10 | M13: 11 | N13: 12 | O13: 13
A14: 0 | E14: 116.4 | I14: 546
A15: 1 | E15: 116.4 | I15: 525.6
A16: 2 | E16: 116 | I16: 540
A17: 3 | E17: 116 | I17: 560.4
A18: 4 | E18: 116 | I18: 558
A19: 5 | E19: 116.4 | I19: 613.2
A20: 6 | E20: 116 | I20: 700.8
A21: 7 | E21: 116.4 | I21: 716.4
A22: 8 | E22: 116 | I22: 745.2
A23: 9 | E23: 115.6 | I23: 756
A24: 10 | E24: 115.6 | I24: 722.4
A25: 11 | E25: 116 | I25: 705.6
... A37: 23 | E37: 117.2 | I37: 597.6
A38: 24
A39: Итого | E39: =SUM(E15:E38) -> 2676 | I39: =SUM(I15:I38) -> 15596.4 | L39: =SUM(L15:L38) -> 0 | O39: =SUM(O15:O38) -> 0
A40: 1, При наличии на предприятии отклонений от нормальных режимов электропотребления (временное изменение схем питания, остановка на ремонт, резкое снижение
A41: эл,потребления и т,д,) последние необходимо перечислить,
A42: Главный инженер АО "Вологдаоблэнерго" А,В, Чурляев
A43: составляется самим предприятием с соблюдением всех пунктов настоящей таблицы,

Sheet 96
B1: АО "Вологдаоблэнерго" | J1: код 900151 | M1: ПС Суда
B2: наименование предприятия | M2: наименование источника питания
M3: ф, ЛПБ
B4: ул, Горького, 99 | I4: Таблица № 1
B5: адрес
A6: почасовых записей показаний электрических счетчиков
A7: ='42'!A7:O7 -> в режимный день 18 ДЕКАБРЯ 2024г.
A8: 1630 | B8: 1628
A9: часы суток | B9: Активная энергия | J9: Реактивная энергия
B10: =M3 -> ф, ЛПБ | F10: =M4 -> 0 | J10: =B10 -> ф, ЛПБ | M10: =F10 -> 0
B11: Расчет, Коэф, | E11: 80 | F11: Расчет, Коэф, | I11: 30 | J11: Расчет, Коэф, | L11: =E11 -> 80 | M11: Расчет, Коэф, | O11: =I11 -> 30
B12: показания счетчика | C12: разность | E12: расход эл,энергии за час | F12: показания счетчика | G12: разность | I12: расход эл,энергии за час | J12: показания счетчика | K12: разность | L12: расход эл,энергии за час | M12: показания счетчика | N12: разность | O12: расход эл,энергии за час
A13: 1 | B13: 2 | C13: 3 | E13: 4 | F13: 5 | G13: 6 | I13: 7 | J13: 8 | K13: 9 | L13: 10 | M13: 11 | N13: 12 | O13: 13
A14: 0 | E14: 361.2
A15: 1 | E15: 358.4
A16: 2 | E16: 354.8
A17: 3 | E17: 355.6
A18: 4 | E18: 358.4
A19: 5 | E19: 367.2
A20: 6 | E20: 378.8
A21: 7 | E21: 397.2
A22: 8 | E22: 444.8
A23: 9 | E23: 445.2
A24: 10 | E24: 421.2
A25: 11 | E25: 428
... A37: 23 | E37: 385.2
A38: 24
A39: Итого | E39: =SUM(E15:E38) -> 9336.4 | I39: =SUM(I15:I38) -> 0 | L39: =SUM(L15:L38) -> 0 | O39: =SUM(O15:O38) -> 0
A40: 1, При наличии на предприятии отклонений от нормальных режимов электропотребления (временное изменение схем питания, остановка на ремонт, резкое снижение
A41: эл,потребления и т,д,) последние необходимо перечислить,
A42: Главный инженер АО "Вологдаоблэнерго" А,В, Чурляев
A43: составляется самим предприятием с соблюдением всех пунктов настоящей таблицы,

Sheet 97
B1: АО "Вологдаоблэнерго" | J1: код 900151 | M1: ПС Зашекснинская
B2: наименование предприятия | M2: наименование источника питания
M3: ф, Берег
B4: ул, Горького, 99 | I4: Таблица № 1 | M4: ф, Городище
B5: адрес
A6: почасовых записей показаний электрических счетчиков
A7: ='42'!A7:O7 -> в режимный день 18 ДЕКАБРЯ 2024г.
A8: 1630 | B8: 1628
A9: часы суток | B9: Активная энергия | J9: Реактивная энергия
B10: =M3 -> ф, Берег | F10: =M4 -> ф, Городище | J10: =B10 -> ф, Берег | M10: =F10 -> ф, Городище
B11: Расчет, Коэф, | E11: 80 | F11: Расчет, Коэф, | I11: 30 | J11: Расчет, Коэф, | L11: =E11 -> 80 | M11: Расчет, Коэф, | O11: =I11 -> 30
B12: показания счетчика | C12: разность | E12: расход эл,энергии за час | F12: показания счетчика | G12: разность | I12: расход эл,энергии за час | J12: показания счетчика | K12: разность | L12: расход эл,энергии за час | M12: показания счетчика | N12: разность | O12: расход эл,энергии за час
A13: 1 | B13: 2 | C13: 3 | E13: 4 | F13: 5 | G13: 6 | I13: 7 | J13: 8 | K13: 9 | L13: 10 | M13: 11 | N13: 12 | O13: 13
A14: 0 | E14: 183.136 | I14: 241.08
A15: 1 | E15: 133.084 | I15: 180.712
A16: 2 | E16: 112.52 | I16: 179.928
A17: 3 | E17: 110.58 | I17: 167.384
A18: 4 | E18: 100.88 | I18: 181.888
A19: 5 | E19: 104.372 | I19: 188.356
A20: 6 | E20: 99.716 | I20: 184.828
A21: 7 | E21: 121.056 | I21: 190.12
A22: 8 | E22: 151.32 | I22: 190.708
A23: 9 | E23: 155.588 | I23: 215.992
A24: 10 | E24: 167.228 | I24: 218.344
A25: 11 | E25: 180.42 | I25: 205.8
... A37: 23 | E37: 186.628 | I37: 250.488
A38: 24
A39: Итого | E39: =SUM(E15:E38) -> 3325.548 | I39: =SUM(I15:I38) -> 4537.988 | L39: =SUM(L15:L38) -> 0 | O39: =SUM(O15:O38) -> 0
A40: 1, При наличии на предприятии отклонений от нормальных режимов электропотребления (временное изменение схем питания, остановка на ремонт, резкое снижение
A41: эл,потребления и т,д,) последние необходимо перечислить,
A42: Главный инженер АО "Вологдаоблэнерго" А,В, Чурляев
A43: составляется самим предприятием с соблюдением всех пунктов настоящей таблицы,

Sheet 98
B1: АО "Вологдаоблэнерго" | J1: код 900151 | M1: ПС Ирдоматка
B2: наименование предприятия | M2: наименование источника питания
M3: ф,10кВ Шайма (ОборнЭнерго)
B4: ул, Горького, 99 | I4: Таблица № 1
B5: адрес
A6: почасовых записей показаний электрических счетчиков
A7: ='42'!A7:O7 -> в режимный день 18 ДЕКАБРЯ 2024г.
A8: 1630 | B8: 1628
A9: часы суток | B9: Активная энергия | J9: Реактивная энергия
B10: =M3 -> ф,10кВ Шайма (ОборнЭнерго) | F10: =M4 -> 0 | J10: =B10 -> ф,10кВ Шайма (ОборнЭнерго) | M10: =F10 -> 0
B11: Расчет, Коэф, | E11: 80 | F11: Расчет, Коэф, | I11: 30 | J11: Расчет, Коэф, | L11: =E11 -> 80 | M11: Расчет, Коэф, | O11: =I11 -> 30
B12: показания счетчика | C12: разность | E12: расход эл,энергии за час | F12: показания счетчика | G12: разность | I12: расход эл,энергии за час | J12: показания счетчика | K12: разность | L12: расход эл,энергии за час | M12: показания счетчика | N12: разность | O12: расход эл,энергии за час
A13: 1 | B13: 2 | C13: 3 | E13: 4 | F13: 5 | G13: 6 | I13: 7 | J13: 8 | K13: 9 | L13: 10 | M13: 11 | N13: 12 | O13: 13
A14: 0 | E14: 391.298 | I14: 0
A15: 1 | E15: 377.718 | I15: 0
A16: 2 | E16: 370.152 | I16: 0
A17: 3 | E17: 376.942 | I17: 0
A18: 4 | E18: 375.584 | I18: 0
A19: 5 | E19: 375.39 | I19: 0
A20: 6 | E20: 372.868 | I20: 0
A21: 7 | E21: 413.22 | I21: 0
A22: 8 | E22: 401.386 | I22: 0
A23: 9 | E23: 380.046 | I23: 0
A24: 10 | E24: 374.614 | I24: 0
A25: 11 | E25: 383.732 | I25: 0
... A37: 23 | E37: 402.55 | I37: 0
A38: 24
A39: Итого | E39: =SUM(E15:E38) -> 9038.266 | I39: =SUM(I15:I38) -> 0 | L39: =SUM(L15:L38) -> 0 | O39: =SUM(O15:O38) -> 0
A40: 1, При наличии на предприятии отклонений от нормальных режимов электропотребления (временное изменение схем питания, остановка на ремонт, резкое снижение
A41: эл,потребления и т,д,) последние необходимо перечислить,
A42: Главный инженер АО "Вологдаоблэнерго" А,В, Чурляев
A43: составляется самим предприятием с соблюдением всех пунктов настоящей таблицы,

Sheet 99
B1: АО "Вологдаоблэнерго" | J1: код 900151 | M1: РПП-1
B2: наименование предприятия | M2: наименование источника питания
M3: ТП-107 база (МУП Электросеть)
B4: ул, Горького, 99 | I4: Таблица № 1 | M4: ТП-107 офис (МУП Электросеть)
B5: адрес
A6: почасовых записей показаний электрических счетчиков
A7: ='42'!A7:O7 -> в режимный день 18 ДЕКАБРЯ 2024г.
A8: 1630 | B8: 1628
A9: часы суток | B9: Активная энергия | J9: Реактивная энергия
B10: =M3 -> ТП-107 база (МУП Электросеть) | F10: =M4 -> ТП-107 офис (МУП Электросеть) | J10: =B10 -> ТП-107 база (МУП Электросеть) | M10: =F10 -> ТП-107 офис (МУП Электросеть)
B11: Расчет, Коэф, | E11: 80 | F11: Расчет, Коэф, | I11: 30 | J11: Расчет, Коэф, | L11: =E11 -> 80 | M11: Расчет, Коэф, | O11: =I11 -> 30
B12: показания счетчика | C12: разность | E12: расход эл,энергии за час | F12: показания счетчика | G12: разность | I12: расход эл,энергии за час | J12: показания счетчика | K12: разность | L12: расход эл,энергии за час | M12: показания счетчика | N12: разность | O12: расход эл,энергии за час
A13: 1 | B13: 2 | C13: 3 | E13: 4 | F13: 5 | G13: 6 | I13: 7 | J13: 8 | K13: 9 | L13: 10 | M13: 11 | N13: 12 | O13: 13
A14: 0 | E14: 7.76 | I14: 0
A15: 1 | E15: 8.73 | I15: 0
A16: 2 | E16: 8.73 | I16: 0
A17: 3 | E17: 7.76 | I17: 0
A18: 4 | E18: 6.79 | I18: 0
A19: 5 | E19: 6.79 | I19: 0
A20: 6 | E20: 7.76 | I20: 0
A21: 7 | E21: 9.7 | I21: 0
A22: 8 | E22: 14.55 | I22: 0
A23: 9 | E23: 43.65 | I23: 0
A24: 10 | E24: 50.44 | I24: 0
A25: 11 | E25: 49.47 | I25: 0
... A37: 23 | E37: 9.7 | I37: 0
A38: 24
A39: Итого | E39: =SUM(E15:E38) -> 556.78 | I39: =SUM(I15:I38) -> 0 | L39: =SUM(L15:L38) -> 0 | O39: =SUM(O15:O38) -> 0
A40: 1, При наличии на предприятии отклонений от нормальных режимов электропотребления (временное изменение схем питания, остановка на ремонт, резкое снижение
A41: эл,потребления и т,д,) последние необходимо перечислить,
A42: Главный инженер АО "Вологдаоблэнерго" А,В, Чурляев
A43: составляется самим предприятием с соблюдением всех пунктов настоящей таблицы,

Sheet 100
B1: АО "Вологдаоблэнерго" | J1: код 900151 | M1: ПС Первомайская
B2: наименование предприятия | M2: наименование источника питания
M3: ТП-451 (МУП Электросеть) В-1
B4: ул, Горького, 99 | I4: Таблица № 1 | M4: ТП-451 (МУП Электросеть) В-2
B5: адрес
A6: почасовых записей показаний электрических счетчиков
A7: ='42'!A7:O7 -> в режимный день 18 ДЕКАБРЯ 2024г.
A8: 1630 | B8: 1628
A9: часы суток | B9: Активная энергия | J9: Реактивная энергия
B10: =M3 -> ТП-451 (МУП Электросеть) В-1 | F10: =M4 -> ТП-451 (МУП Электросеть) В-2 | J10: =B10 -> ТП-451 (МУП Электросеть) В-1 | M10: =F10 -> ТП-451 (МУП Электросеть) В-2
B11: Расчет, Коэф, | E11: 80 | F11: Расчет, Коэф, | I11: 80 | J11: Расчет, Коэф, | L11: =E11 -> 80 | M11: Расчет, Коэф, | O11: =I11 -> 80
B12: показания счетчика | C12: разность | E12: расход эл,энергии за час | F12: показания счетчика | G12: разность | I12: расход эл,энергии за час | J12: показания счетчика | K12: разность | L12: расход эл,энергии за час | M12: показания счетчика | N12: разность | O12: расход эл,энергии за час
A13: 1 | B13: 2 | C13: 3 | E13: 4 | F13: 5 | G13: 6 | I13: 7 | J13: 8 | K13: 9 | L13: 10 | M13: 11 | N13: 12 | O13: 13
A14: 0 | E14: 36.86 | I14: 217.56
A15: 1 | E15: 38.8 | I15: 194.04
A16: 2 | E16: 45.59 | I16: 182.28
A17: 3 | E17: 54.32 | I17: 189.14
A18: 4 | E18: 35.89 | I18: 183.26
A19: 5 | E19: 27.16 | I19: 180.32
A20: 6 | E20: 36.86 | I20: 187.18
A21: 7 | E21: 68.87 | I21: 198.94
A22: 8 | E22: 64.02 | I22: 217.56
A23: 9 | E23: 47.53 | I23: 199.92
A24: 10 | E24: 41.71 | I24: 198.94
A25: 11 | E25: 51.41 | I25: 202.86
... A37: 23 | E37: 37.83 | I37: 223.44
A38: 24
