Workbook

Sheet Содержание книги
B2: № листа | C2: Центр питания | D2: Электросетевой участок
B3: 1-7 | C3: ПС Абаканово | D3: ЭСУ "Череповец"
B4: 8 | C4: ПС Аксеново
B5: 9-11 | C5: ПС Батран
B6: 12-18 | C6: ПС Домозерово
B7: 19-24 | C7: ПС Енюково
B8: 25-32 | C8: ПС Загородная
B9: 33-36 | C9: ПС Ирдоматка
B10: 37-38 | C10: ПС Искра
B11: 39-41 | C11: ПС Климовская
B12: 42-54 | C12: ПС Малечкино
B13: 55-65 | C13: ПС Нелазское
B14: 66-70 | C14: ПС Новые углы
B15: 71-74 | C15: ПС Петринево
... B22: 98-110 | C22: МУП "Электросеть"
B23: 111-119 | D23: ЭСУ "Бабаево"
B24: 120-121 | C24: ПС Великое | D24: ЭСУ "Кадуй"
B25: 122 | C25: ПС Вешняки
B26: 123-130 | C26: ПС Кадуй
B27: 131-137 | C27: ПС Коротово
B28: 138-139 | C28: ПС Никольское
B29: 140-141 | C29: ПС Поселковая
B30: 142 | C30: ПС Суда
B31: 143-145 | C31: ПС Ягница
B32: 146-154 | C32: КВЛ-10 кВ
B33: 155-167 | D33: ЭСУ "Чагода"
B34: 168 | C34: ПС Газ | D34: ЭСУ "Шексна"
B35: 169 | C35: ПС Нестерово
B36: 170-171 | C36: ПС Нифантово
B37: 172 | C37: ПС Поток
B38: 173 | C38: РП-Ершово
B39: 174-179 | C39: РП-Пача
B40: 180-181 | C40: ПС Чаромское
B41: 182-189 | C41: ПС Чебсара
B42: 190-196 | C42: ПС Чуровское
B43: 197-199 | C43: ПС Шексна
B44: 200-208 | C44: КВЛ-10 кВ

Sheet 1
B1: АО "Вологдаоблэнерго" | J1: код 900151 | M1: ПС Абакаеово ф, Осеевская
B2: наименование предприятия | M2: наименование источника питания
M3: ТП-Лесопильных цех (д,Заручьевье)
B4: ул, Горького, 99 | I4: Таблица № 1
B5: адрес
A6: почасовых записей показаний электрических счетчиков
A7: ='42'!A7:O7 -> в режимный день 18 ДЕКАБРЯ 2024г.
A8: 1630 | B8: 1628
A9: часы суток | B9: Активная энергия | J9: Реактивная энергия
B10: =M3 -> ТП-Лесопильных цех (д,Заручьевье) | F10: =M4 -> 0 | J10: =B10 -> ТП-Лесопильных цех (д,Заручьевье) | M10: =F10 -> 0
B11: Расчет, Коэф, | E11: 30 | F11: Расчет, Коэф, | I11: 120 | J11: Расчет, Коэф, | L11: =E11 -> 30 | M11: Расчет, Коэф, | O11: =I11 -> 120
B12: показания счетчика | C12: разность | E12: расход эл,энергии за час | F12: показания счетчика | G12: разность | I12: расход эл,энергии за час | J12: показания счетчика | K12: разность | L12: расход эл,энергии за час | M12: показания счетчика | N12: разность | O12: расход эл,энергии за час
A13: 1 | B13: 2 | C13: 3 | E13: 4 | F13: 5 | G13: 6 | I13: 7 | J13: 8 | K13: 9 | L13: 10 | M13: 11 | N13: 12 | O13: 13
A14: 0 | E14: 0.4176 | I14: 0
A15: 1 | E15: 0.1872 | I15: 0
A16: 2 | E16: 0.1584 | I16: 0
A17: 3 | E17: 0.1584 | I17: 0
A18: 4 | E18: 0.144 | I18: 0
A19: 5 | E19: 0.144 | I19: 0
A20: 6 | E20: 0.4998 | I20: 0
A21: 7 | E21: 1.3965 | I21: 0
A22: 8 | E22: 11.0985 | I22: 0
A23: 9 | E23: 12.0393 | I23: 0
A24: 10 | E24: 9.5697 | I24: 0
A25: 11 | E25: 11.2896 | I25: 0
... A37: 23 | E37: 0.6534 | I37: 0
A38: 24
A39: Итого | E39: =SUM(E15:E38) -> 94.44675 | I39: =SUM(I15:I38) -> 0 | L39: =SUM(L15:L38) -> 0 | O39: =SUM(O15:O38) -> 0
A40: 1, При наличии на предприятии отклонений от нормальных режимов электропотребления (временное изменение схем питания, остановка на ремонт, резкое снижение
A41: эл,потребления и т,д,) последние необходимо перечислить,
A42: Главный инженер АО "Вологдаоблэнерго" А,В, Чурляев
A43: составляется самим предприятием с соблюдением всех пунктов настоящей таблицы,

Sheet 2
B1: АО "Вологдаоблэнерго" | J1: код 900151 | M1: ПС Абаканово, ф, Алексино
B2: наименование предприятия | M2: наименование источника питания
M3: ТП-Поселок (3,4 этажные дома)
B4: ул, Горького, 99 | I4: Таблица № 1 | M4: ТП-211
B5: адрес
A6: почасовых записей показаний электрических счетчиков
A7: ='42'!A7:O7 -> в режимный день 18 ДЕКАБРЯ 2024г.
A8: 1630 | B8: 1628
A9: часы суток | B9: Активная энергия | J9: Реактивная энергия
B10: =M3 -> ТП-Поселок (3,4 этажные дома) | F10: =M4 -> ТП-211 | J10: =B10 -> ТП-Поселок (3,4 этажные дома) | M10: =F10 -> ТП-211
B11: Расчет, Коэф, | E11: 50 | F11: Расчет, Коэф, | I11: 80 | J11: Расчет, Коэф, | L11: =E11 -> 50 | M11: Расчет, Коэф, | O11: =I11 -> 80
B12: показания счетчика | C12: разность | E12: расход эл,энергии за час | F12: показания счетчика | G12: разность | I12: расход эл,энергии за час | J12: показания счетчика | K12: разность | L12: расход эл,энергии за час | M12: показания счетчика | N12: разность | O12: расход эл,энергии за час
A13: 1 | B13: 2 | C13: 3 | E13: 4 | F13: 5 | G13: 6 | I13: 7 | J13: 8 | K13: 9 | L13: 10 | M13: 11 | N13: 12 | O13: 13
A14: 0 | E14: 43.248 | I14: 1.0584
A15: 1 | E15: 39.072 | I15: 1.568
A16: 2 | E16: 35.664 | I16: 0.9408
A17: 3 | E17: 34.464 | I17: 1.2936
A18: 4 | E18: 35.76 | I18: 1.176
A19: 5 | E19: 36.912 | I19: 0.7448
A20: 6 | E20: 46.06 | I20: 3.724
A21: 7 | E21: 46.55 | I21: 22.932
A22: 8 | E22: 49.833 | I22: 21.56
A23: 9 | E23: 58.555 | I23: 25.7152
A24: 10 | E24: 60.466 | I24: 29.0864
A25: 11 | E25: 57.281 | I25: 14.2296
... A37: 23 | E37: 61.38 | I37: 1.0192
A38: 24
A39: Итого | E39: =SUM(E15:E38) -> 1250.8285 | I39: =SUM(I15:I38) -> 188.7872 | L39: =SUM(L15:L38) -> 0 | O39: =SUM(O15:O38) -> 0
A40: 1, При наличии на предприятии отклонений от нормальных режимов электропотребления (временное изменение схем питания, остановка на ремонт, резкое снижение
A41: эл,потребления и т,д,) последние необходимо перечислить,
A42: Главный инженер АО "Вологдаоблэнерго" А,В, Чурляев
A43: составляется самим предприятием с соблюдением всех пунктов настоящей таблицы,

Sheet 3
B1: АО "Вологдаоблэнерго" | J1: код 900151 | M1: ПС Абаканово, ф, Алексино
B2: наименование предприятия | M2: наименование источника питания
M3: КТП "Мастерские" с, Абаканово
B4: ул, Горького, 99 | I4: Таблица № 1 | M4: ТП-242
B5: адрес
A6: почасовых записей показаний электрических счетчиков
A7: ='42'!A7:O7 -> в режимный день 18 ДЕКАБРЯ 2024г.
A8: 1630 | B8: 1628
A9: часы суток | B9: Активная энергия | J9: Реактивная энергия
B10: =M3 -> КТП "Мастерские" с, Абаканово | F10: =M4 -> ТП-242 | J10: =B10 -> КТП "Мастерские" с, Абаканово | M10: =F10 -> ТП-242
B11: Расчет, Коэф, | E11: 40 | F11: Расчет, Коэф, | I11: 30 | J11: Расчет, Коэф, | L11: =E11 -> 40 | M11: Расчет, Коэф, | O11: =I11 -> 30
B12: показания счетчика | C12: разность | E12: расход эл,энергии за час | F12: показания счетчика | G12: разность | I12: расход эл,энергии за час | J12: показания счетчика | K12: разность | L12: расход эл,энергии за час | M12: показания счетчика | N12: разность | O12: расход эл,энергии за час
A13: 1 | B13: 2 | C13: 3 | E13: 4 | F13: 5 | G13: 6 | I13: 7 | J13: 8 | K13: 9 | L13: 10 | M13: 11 | N13: 12 | O13: 13
A14: 0 | E14: 0 | I14: 1.3965
A15: 1 | E15: 0 | I15: 1.1025
A16: 2 | E16: 0 | I16: 1.0143
A17: 3 | E17: 0 | I17: 0.9261
A18: 4 | E18: 0 | I18: 1.0437
A19: 5 | E19: 0 | I19: 1.0143
A20: 6 | E20: 0 | I20: 1.3965
A21: 7 | E21: 0 | I21: 1.029
A22: 8 | E22: 0 | I22: 0.8379
A23: 9 | E23: 0 | I23: 1.0584
A24: 10 | E24: 0 | I24: 1.3671
A25: 11 | E25: 0 | I25: 2.2785
... A37: 23 | E37: 0 | I37: 2.0433
A38: 24
A39: Итого | E39: =SUM(E15:E38) -> 0 | I39: =SUM(I15:I38) -> 35.7945 | L39: =SUM(L15:L38) -> 0 | O39: =SUM(O15:O38) -> 0
A40: 1, При наличии на предприятии отклонений от нормальных режимов электропотребления (временное изменение схем питания, остановка на ремонт, резкое снижение
A41: эл,потребления и т,д,) последние необходимо перечислить,
A42: Главный инженер АО "Вологдаоблэнерго" А,В, Чурляев
A43: составляется самим предприятием с соблюдением всех пунктов настоящей таблицы,

Sheet 4
B1: АО "Вологдаоблэнерго" | J1: код 900151 | M1: ПС Абаканово, ф, Слабеево
B2: наименование предприятия | M2: наименование источника питания
M3: ТП-249
B4: ул, Горького, 99 | I4: Таблица № 1
B5: адрес
A6: почасовых записей показаний электрических счетчиков
A7: ='42'!A7:O7 -> в режимный день 18 ДЕКАБРЯ 2024г.
A8: 1630 | B8: 1628
A9: часы суток | B9: Активная энергия | J9: Реактивная энергия
B10: =M3 -> ТП-249 | F10: =M4 -> 0 | J10: =B10 -> ТП-249 | M10: =F10 -> 0
B11: Расчет, Коэф, | E11: 1 | F11: Расчет, Коэф, | I11: 120 | J11: Расчет, Коэф, | L11: =E11 -> 1 | M11: Расчет, Коэф, | O11: =I11 -> 120
B12: показания счетчика | C12: разность | E12: расход эл,энергии за час | F12: показания счетчика | G12: разность | I12: расход эл,энергии за час | J12: показания счетчика | K12: разность | L12: расход эл,энергии за час | M12: показания счетчика | N12: разность | O12: расход эл,энергии за час
A13: 1 | B13: 2 | C13: 3 | E13: 4 | F13: 5 | G13: 6 | I13: 7 | J13: 8 | K13: 9 | L13: 10 | M13: 11 | N13: 12 | O13: 13
A14: 0 | E14: 0 | I14: 0
A15: 1 | E15: 0 | I15: 0
A16: 2 | E16: 0 | I16: 0
A17: 3 | E17: 0 | I17: 0
A18: 4 | E18: 0 | I18: 0
A19: 5 | E19: 0 | I19: 0
A20: 6 | E20: 0 | I20: 0
A21: 7 | E21: 0 | I21: 0
A22: 8 | E22: 0 | I22: 0
A23: 9 | E23: 0 | I23: 0
A24: 10 | E24: 0 | I24: 0
A25: 11 | E25: 0 | I25: 0
... A37: 23 | E37: 0 | I37: 0
A38: 24
A39: Итого | E39: =SUM(E15:E38) -> 0 | I39: =SUM(I15:I38) -> 0 | L39: =SUM(L15:L38) -> 0 | O39: =SUM(O15:O38) -> 0
A40: 1, При наличии на предприятии отклонений от нормальных режимов электропотребления (временное изменение схем питания, остановка на ремонт, резкое снижение
A41: эл,потребления и т,д,) последние необходимо перечислить,
A42: Главный инженер АО "Вологдаоблэнерго" А,В, Чурляев
A43: составляется самим предприятием с соблюдением всех пунктов настоящей таблицы,

Sheet 5
B1: АО "Вологдаоблэнерго" | J1: код 900151 | M1: ПС Абаканово ф, Покров
B2: наименование предприятия | M2: наименование источника питания
M3: КТП Шухтовское Лесничество
B4: ул, Горького, 99 | I4: Таблица № 1
B5: адрес
A6: почасовых записей показаний электрических счетчиков
A7: ='42'!A7:O7 -> в режимный день 18 ДЕКАБРЯ 2024г.
A8: 1630 | B8: 1628
A9: часы суток | B9: Активная энергия | J9: Реактивная энергия
B10: =M3 -> КТП Шухтовское Лесничество | F10: =M4 -> 0 | J10: =B10 -> КТП Шухтовское Лесничество | M10: =F10 -> 0
B11: Расчет, Коэф, | E11: 30 | F11: Расчет, Коэф, | I11: 120 | J11: Расчет, Коэф, | L11: =E11 -> 30 | M11: Расчет, Коэф, | O11: =I11 -> 120
B12: показания счетчика | C12: разность | E12: расход эл,энергии за час | F12: показания счетчика | G12: разность | I12: расход эл,энергии за час | J12: показания счетчика | K12: разность | L12: расход эл,энергии за час | M12: показания счетчика | N12: разность | O12: расход эл,энергии за час
A13: 1 | B13: 2 | C13: 3 | E13: 4 | F13: 5 | G13: 6 | I13: 7 | J13: 8 | K13: 9 | L13: 10 | M13: 11 | N13: 12 | O13: 13
A14: 0 | E14: 8.256 | I14: 0
A15: 1 | E15: 8.5632 | I15: 0
A16: 2 | E16: 7.9104 | I16: 0
A17: 3 | E17: 9.1008 | I17: 0
A18: 4 | E18: 8.5248 | I18: 0
A19: 5 | E19: 8.0256 | I19: 0
A20: 6 | E20: 8.2712 | I20: 0
A21: 7 | E21: 9.0552 | I21: 0
A22: 8 | E22: 14.6216 | I22: 0
A23: 9 | E23: 19.0904 | I23: 0
A24: 10 | E24: 19.992 | I24: 0
A25: 11 | E25: 20.6192 | I25: 0
... A37: 23 | E37: 9.7812 | I37: 0
A38: 24
A39: Итого | E39: =SUM(E15:E38) -> 269.1304 | I39: =SUM(I15:I38) -> 0 | L39: =SUM(L15:L38) -> 0 | O39: =SUM(O15:O38) -> 0
A40: 1, При наличии на предприятии отклонений от нормальных режимов электропотребления (временное изменение схем питания, остановка на ремонт, резкое снижение
A41: эл,потребления и т,д,) последние необходимо перечислить,
A42: Главный инженер АО "Вологдаоблэнерго" А,В, Чурляев
A43: составляется самим предприятием с соблюдением всех пунктов настоящей таблицы,

Sheet 6
B1: АО "Вологдаоблэнерго" | J1: код 900151 | M1: ПС Абаканово, ф, Маслово
B2: наименование предприятия | M2: наименование источника питания
M3: ЦРП-Маслово
B4: ул, Горького, 99 | I4: Таблица № 1
B5: адрес
A6: почасовых записей показаний электрических счетчиков
A7: ='42'!A7:O7 -> в режимный день 18 ДЕКАБРЯ 2024г.
A8: 1630 | B8: 1628
A9: часы суток | B9: Активная энергия | J9: Реактивная энергия
B10: =M3 -> ЦРП-Маслово | F10: =M4 -> 0 | J10: =B10 -> ЦРП-Маслово | M10: =F10 -> 0
B11: Расчет, Коэф, | E11: 80 | F11: Расчет, Коэф, | I11: 120 | J11: Расчет, Коэф, | L11: =E11 -> 80 | M11: Расчет, Коэф, | O11: =I11 -> 120
B12: показания счетчика | C12: разность | E12: расход эл,энергии за час | F12: показания счетчика | G12: разность | I12: расход эл,энергии за час | J12: показания счетчика | K12: разность | L12: расход эл,энергии за час | M12: показания счетчика | N12: разность | O12: расход эл,энергии за час
A13: 1 | B13: 2 | C13: 3 | E13: 4 | F13: 5 | G13: 6 | I13: 7 | J13: 8 | K13: 9 | L13: 10 | M13: 11 | N13: 12 | O13: 13
A14: 0 | E14: 9.2544 | I14: 0
A15: 1 | E15: 7.872 | I15: 0
A16: 2 | E16: 7.1808 | I16: 0
A17: 3 | E17: 8.64 | I17: 0
A18: 4 | E18: 8.8704 | I18: 0
A19: 5 | E19: 7.7568 | I19: 0
A20: 6 | E20: 7.9968 | I20: 0
A21: 7 | E21: 7.9576 | I21: 0
A22: 8 | E22: 7.84 | I22: 0
A23: 9 | E23: 5.6056 | I23: 0
A24: 10 | E24: 5.5664 | I24: 0
A25: 11 | E25: 5.88 | I25: 0
... A37: 23 | E37: 8.91 | I37: 0
A38: 24
A39: Итого | E39: =SUM(E15:E38) -> 173.0948 | I39: =SUM(I15:I38) -> 0 | L39: =SUM(L15:L38) -> 0 | O39: =SUM(O15:O38) -> 0
A40: 1, При наличии на предприятии отклонений от нормальных режимов электропотребления (временное изменение схем питания, остановка на ремонт, резкое снижение
A41: эл,потребления и т,д,) последние необходимо перечислить,
A42: Главный инженер АО "Вологдаоблэнерго" А,В, Чурляев
A43: составляется самим предприятием с соблюдением всех пунктов настоящей таблицы,

Sheet 7
B1: АО "Вологдаоблэнерго" | J1: код 900151 | M1: ПС Абаканово, ф,Шухободь
B2: наименование предприятия | M2: наименование источника питания
M3: ТП-227
B4: ул, Горького, 99 | I4: Таблица № 1
B5: адрес
A6: почасовых записей показаний электрических счетчиков
A7: ='42'!A7:O7 -> в режимный день 18 ДЕКАБРЯ 2024г.
A8: 1630 | B8: 1628
A9: часы суток | B9: Активная энергия | J9: Реактивная энергия
B10: =M3 -> ТП-227 | F10: =M4 | J10: =B10 -> ТП-227 | M10: =F10
B11: Расчет, Коэф, | E11: 60 | F11: Расчет, Коэф, | I11: 120 | J11: Расчет, Коэф, | L11: =E11 -> 60 | M11: Расчет, Коэф, | O11: =I11 -> 120
B12: показания счетчика | C12: разность | E12: расход эл,энергии за час | F12: показания счетчика | G12: разность | I12: расход эл,энергии за час | J12: показания счетчика | K12: разность | L12: расход эл,энергии за час | M12: показания счетчика | N12: разность | O12: расход эл,энергии за час
A13: 1 | B13: 2 | C13: 3 | E13: 4 | F13: 5 | G13: 6 | I13: 7 | J13: 8 | K13: 9 | L13: 10 | M13: 11 | N13: 12 | O13: 13
A14: 0 | E14: 4.6224 | I14: 0
A15: 1 | E15: 3.3984 | I15: 0
A16: 2 | E16: 3.1968 | I16: 0
A17: 3 | E17: 3.1104 | I17: 0
A18: 4 | E18: 3.1824 | I18: 0
A19: 5 | E19: 3.1824 | I19: 0
A20: 6 | E20: 3.2487 | I20: 0
A21: 7 | E21: 3.0135 | I21: 0
A22: 8 | E22: 1.6317 | I22: 0
A23: 9 | E23: 1.2054 | I23: 0
A24: 10 | E24: 3.7926 | I24: 0
A25: 11 | E25: 3.675 | I25: 0
... A37: 23 | E37: 7.2468 | I37: 0
A38: 24
A39: Итого | E39: =SUM(E15:E38) -> 89.18775 | I39: =SUM(I15:I38) -> 0 | L39: =SUM(L15:L38) -> 0 | O39: =SUM(O15:O38) -> 0
A40: 1, При наличии на предприятии отклонений от нормальных режимов электропотребления (временное изменение схем питания, остановка на ремонт, резкое снижение
A41: эл,потребления и т,д,) последние необходимо перечислить,
A42: Главный инженер АО "Вологдаоблэнерго" А,В, Чурляев
A43: составляется самим предприятием с соблюдением всех пунктов настоящей таблицы,

Sheet 8
B1: АО "Вологдаоблэнерго" | J1: код 900151 | M1: ПС Аксеново ф, Шалимово
B2: наименование предприятия | M2: наименование источника питания
M3: ТП-23 В-1
B4: ул, Горького, 99 | I4: Таблица № 1 | M4: КТП-Очистные
B5: адрес
A6: почасовых записей показаний электрических счетчиков
A7: ='42'!A7:O7 -> в режимный день 18 ДЕКАБРЯ 2024г.
A8: 1630 | B8: 1628
A9: часы суток | B9: Активная энергия | J9: Реактивная энергия
B10: =M3 -> ТП-23 В-1 | F10: =M4 -> КТП-Очистные | J10: =B10 -> ТП-23 В-1 | M10: =F10 -> КТП-Очистные
B11: Расчет, Коэф, | E11: 120 | F11: Расчет, Коэф, | I11: 20 | J11: Расчет, Коэф, | L11: =E11 -> 120 | M11: Расчет, Коэф, | O11: =I11 -> 20
B12: показания счетчика | C12: разность | E12: расход эл,энергии за час | F12: показания счетчика | G12: разность | I12: расход эл,энергии за час | J12: показания счетчика | K12: разность | L12: расход эл,энергии за час | M12: показания счетчика | N12: разность | O12: расход эл,энергии за час
A13: 1 | B13: 2 | C13: 3 | E13: 4 | F13: 5 | G13: 6 | I13: 7 | J13: 8 | K13: 9 | L13: 10 | M13: 11 | N13: 12 | O13: 13
A14: 0 | E14: 8 | I14: 8.3104
A15: 1 | E15: 14.8608 | I15: 6.08384
A16: 2 | E16: 16.2432 | I16: 6.27984
A17: 3 | E17: 13.9392 | I17: 6.04464
A18: 4 | E18: 12.3264 | I18: 6.14656
A19: 5 | E19: 12.096 | I19: 6.5072
A20: 6 | E20: 12.348 | I20: 6.75024
A21: 7 | E21: 15.1704 | I21: 6.48368
A22: 8 | E22: 20.8152 | I22: 6.49152
A23: 9 | E23: 20.58 | I23: 6.06816
A24: 10 | E24: 17.9928 | I24: 6.30336
A25: 11 | E25: 21.756 | I25: 6.20928
... A37: 23 | E37: 21.978 | I37: 8.1536
A38: 24
A39: Итого | E39: =SUM(E15:E38) -> 417.7992 | I39: =SUM(I15:I38) -> 161.8176 | L39: =SUM(L15:L38) -> 0 | O39: =SUM(O15:O38) -> 0
A40: 1, При наличии на предприятии отклонений от нормальных режимов электропотребления (временное изменение схем питания, остановка на ремонт, резкое снижение
A41: эл,потребления и т,д,) последние необходимо перечислить,
A42: Главный инженер АО "Вологдаоблэнерго" А,В, Чурляев
A43: составляется самим предприятием с соблюдением всех пунктов настоящей таблицы,

Sheet 9
B1: АО "Вологдаоблэнерго" | J1: код 900151 | M1: ПС Батран, ф, Гоша
B2: наименование предприятия | M2: наименование источника питания
M3: ТП-72
B4: ул, Горького, 99 | I4: Таблица № 1 | M4: МТП Гоша-2
B5: адрес
A6: почасовых записей показаний электрических счетчиков
A7: ='42'!A7:O7 -> в режимный день 18 ДЕКАБРЯ 2024г.
A8: 1630 | B8: 1628
A9: часы суток | B9: Активная энергия | J9: Реактивная энергия
B10: =M3 -> ТП-72 | F10: =M4 -> МТП Гоша-2 | J10: =B10 -> ТП-72 | M10: =F10 -> МТП Гоша-2
B11: Расчет, Коэф, | E11: 50 | F11: Расчет, Коэф, | I11: 20 | J11: Расчет, Коэф, | L11: =E11 -> 50 | M11: Расчет, Коэф, | O11: =I11 -> 20
B12: показания счетчика | C12: разность | E12: расход эл,энергии за час | F12: показания счетчика | G12: разность | I12: расход эл,энергии за час | J12: показания счетчика | K12: разность | L12: расход эл,энергии за час | M12: показания счетчика | N12: разность | O12: расход эл,энергии за час
A13: 1 | B13: 2 | C13: 3 | E13: 4 | F13: 5 | G13: 6 | I13: 7 | J13: 8 | K13: 9 | L13: 10 | M13: 11 | N13: 12 | O13: 13
A14: 0 | E14: 5.952 | I14: 0
A15: 1 | E15: 2.52 | I15: 0
A16: 2 | E16: 4.56 | I16: 0
A17: 3 | E17: 4.968 | I17: 0
A18: 4 | E18: 4.68 | I18: 0
A19: 5 | E19: 2.736 | I19: 0
A20: 6 | E20: 2.646 | I20: 0
A21: 7 | E21: 3.185 | I21: 0
A22: 8 | E22: 3.381 | I22: 0
A23: 9 | E23: 4.361 | I23: 0
A24: 10 | E24: 5.0225 | I24: 0
A25: 11 | E25: 4.8755 | I25: 0
... A37: 23 | E37: 6.26175 | I37: 0
A38: 24
A39: Итого | E39: =SUM(E15:E38) -> 95.62275 | I39: =SUM(I15:I38) -> 0 | L39: =SUM(L15:L38) -> 0 | O39: =SUM(O15:O38) -> 0
A40: 1, При наличии на предприятии отклонений от нормальных режимов электропотребления (временное изменение схем питания, остановка на ремонт, резкое снижение
A41: эл,потребления и т,д,) последние необходимо перечислить,
A42: Главный инженер АО "Вологдаоблэнерго" А,В, Чурляев
A43: составляется самим предприятием с соблюдением всех пунктов настоящей таблицы,

Sheet 10
B1: АО "Вологдаоблэнерго" | J1: код 900151 | M1: ПС Батран, ф,Льнозавод
B2: наименование предприятия | M2: наименование источника питания
M3: КТП-Льнозавод
B4: ул, Горького, 99 | I4: Таблица № 1 | M4: КТП-Детский сад
B5: адрес
A6: почасовых записей показаний электрических счетчиков
A7: ='42'!A7:O7 -> в режимный день 18 ДЕКАБРЯ 2024г.
A8: 1630 | B8: 1628
A9: часы суток | B9: Активная энергия | J9: Реактивная энергия
B10: =M3 -> КТП-Льнозавод | F10: =M4 -> КТП-Детский сад | J10: =B10 -> КТП-Льнозавод | M10: =F10 -> КТП-Детский сад
B11: Расчет, Коэф, | E11: 120 | F11: Расчет, Коэф, | I11: 40 | J11: Расчет, Коэф, | L11: =E11 -> 120 | M11: Расчет, Коэф, | O11: =I11 -> 40
B12: показания счетчика | C12: разность | E12: расход эл,энергии за час | F12: показания счетчика | G12: разность | I12: расход эл,энергии за час | J12: показания счетчика | K12: разность | L12: расход эл,энергии за час | M12: показания счетчика | N12: разность | O12: расход эл,энергии за час
A13: 1 | B13: 2 | C13: 3 | E13: 4 | F13: 5 | G13: 6 | I13: 7 | J13: 8 | K13: 9 | L13: 10 | M13: 11 | N13: 12 | O13: 13
A14: 0 | E14: 0 | I14: 9.4276
A15: 1 | E15: 0 | I15: 6.0368
A16: 2 | E16: 0 | I16: 6.664
A17: 3 | E17: 0 | I17: 6.7816
A18: 4 | E18: 0 | I18: 5.5076
A19: 5 | E19: 0 | I19: 5.292
A20: 6 | E20: 0 | I20: 5.1548
A21: 7 | E21: 0 | I21: 6.6052
A22: 8 | E22: 0 | I22: 10.1136
A23: 9 | E23: 0 | I23: 9.7216
A24: 10 | E24: 0 | I24: 9.6824
A25: 11 | E25: 0 | I25: 10.3096
... A37: 23 | E37: 0 | I37: 12.9556
A38: 24
A39: Итого | E39: =SUM(E15:E38) -> 0 | I39: =SUM(I15:I38) -> 218.7164 | L39: =SUM(L15:L38) -> 0 | O39: =SUM(O15:O38) -> 0
A40: 1, При наличии на предприятии отклонений от нормальных режимов электропотребления (временное изменение схем питания, остановка на ремонт, резкое снижение
A41: эл,потребления и т,д,) последние необходимо перечислить,
A42: Главный инженер АО "Вологдаоблэнерго" А,В, Чурляев
A43: составляется самим предприятием с соблюдением всех пунктов настоящей таблицы,

Sheet 11
B1: АО "Вологдаоблэнерго" | J1: код 900151 | M1: ПС Батран, ф,Гоша
B2: наименование предприятия | M2: наименование источника питания
M3: КТП-ДНТ Ульяновский
B4: ул, Горького, 99 | I4: Таблица № 1
B5: адрес
A6: почасовых записей показаний электрических счетчиков
A7: ='42'!A7:O7 -> в режимный день 18 ДЕКАБРЯ 2024г.
A8: 1630 | B8: 1628
A9: часы суток | B9: Активная энергия | J9: Реактивная энергия
B10: =M3 -> КТП-ДНТ Ульяновский | F10: =M4 -> 0 | J10: =B10 -> КТП-ДНТ Ульяновский | M10: =F10 -> 0
B11: Расчет, Коэф, | E11: 60 | F11: Расчет, Коэф, | I11: 120 | J11: Расчет, Коэф, | L11: =E11 -> 60 | M11: Расчет, Коэф, | O11: =I11 -> 120
B12: показания счетчика | C12: разность | E12: расход эл,энергии за час | F12: показания счетчика | G12: разность | I12: расход эл,энергии за час | J12: показания счетчика | K12: разность | L12: расход эл,энергии за час | M12: показания счетчика | N12: разность | O12: расход эл,энергии за час
A13: 1 | B13: 2 | C13: 3 | E13: 4 | F13: 5 | G13: 6 | I13: 7 | J13: 8 | K13: 9 | L13: 10 | M13: 11 | N13: 12 | O13: 13
A14: 0 | E14: 1.0476 | I14: 0
A15: 1 | E15: 0.9894 | I15: 0
A16: 2 | E16: 1.0476 | I16: 0
A17: 3 | E17: 0.9894 | I17: 0
A18: 4 | E18: 0.9603 | I18: 0
A19: 5 | E19: 0.9894 | I19: 0
A20: 6 | E20: 0.873 | I20: 0
A21: 7 | E21: 1.4259 | I21: 0
A22: 8 | E22: 2.1243 | I22: 0
A23: 9 | E23: 2.2698 | I23: 0
A24: 10 | E24: 2.5317 | I24: 0
A25: 11 | E25: 2.2116 | I25: 0
... A37: 23 | E37: 1.0767 | I37: 0
A38: 24
A39: Итого | E39: =SUM(E15:E38) -> 39.3141 | I39: =SUM(I15:I38) -> 0 | L39: =SUM(L15:L38) -> 0 | O39: =SUM(O15:O38) -> 0
A40: 1, При наличии на предприятии отклонений от нормальных режимов электропотребления (временное изменение схем питания, остановка на ремонт, резкое снижение
A41: эл,потребления и т,д,) последние необходимо перечислить,
A42: Главный инженер АО "Вологдаоблэнерго" А,В, Чурляев
A43: составляется самим предприятием с соблюдением всех пунктов настоящей таблицы,

Sheet 12
B1: АО "Вологдаоблэнерго" | J1: код 900151 | M1: ПС Домозерово, ф,Дом-2
B2: наименование предприятия | M2: наименование источника питания
M3: ТП-Водозабор (встроен) В-1
B4: ул, Горького, 99 | I4: Таблица № 1 | M4: ТП-Водозабор (встроен) В-2
B5: адрес
A6: почасовых записей показаний электрических счетчиков
A7: ='42'!A7:O7 -> в режимный день 18 ДЕКАБРЯ 2024г.
A8: 1630 | B8: 1628
A9: часы суток | B9: Активная энергия | J9: Реактивная энергия
B10: =M3 -> ТП-Водозабор (встроен) В-1 | F10: =M4 -> ТП-Водозабор (встроен) В-2 | J10: =B10 -> ТП-Водозабор (встроен) В-1 | M10: =F10 -> ТП-Водозабор (встроен) В-2
B11: Расчет, Коэф, | E11: 20 | F11: Расчет, Коэф, | I11: 20 | J11: Расчет, Коэф, | L11: =E11 -> 20 | M11: Расчет, Коэф, | O11: =I11 -> 20
B12: показания счетчика | C12: разность | E12: расход эл,энергии за час | F12: показания счетчика | G12: разность | I12: расход эл,энергии за час | J12: показания счетчика | K12: разность | L12: расход эл,энергии за час | M12: показания счетчика | N12: разность | O12: расход эл,энергии за час
A13: 1 | B13: 2 | C13: 3 | E13: 4 | F13: 5 | G13: 6 | I13: 7 | J13: 8 | K13: 9 | L13: 10 | M13: 11 | N13: 12 | O13: 13
A14: 0 | E14: 0 | I14: 1.4798
A15: 1 | E15: 0 | I15: 1.4798
A16: 2 | E16: 0 | I16: 1.47
A17: 3 | E17: 0 | I17: 1.47
A18: 4 | E18: 0 | I18: 1.5386
A19: 5 | E19: 0 | I19: 1.4602
A20: 6 | E20: 0 | I20: 1.4504
A21: 7 | E21: 0 | I21: 3.0086
A22: 8 | E22: 0 | I22: 8.4868
A23: 9 | E23: 0 | I23: 8.428
A24: 10 | E24: 0 | I24: 8.477
A25: 11 | E25: 0 | I25: 8.3986
... A37: 23 | E37: 0 | I37: 1.4308
A38: 24
A39: Итого | E39: =SUM(E15:E38) -> 0 | I39: =SUM(I15:I38) -> 99.0388 | L39: =SUM(L15:L38) -> 0 | O39: =SUM(O15:O38) -> 0
A40: 1, При наличии на предприятии отклонений от нормальных режимов электропотребления (временное изменение схем питания, остановка на ремонт, резкое снижение
A41: эл,потребления и т,д,) последние необходимо перечислить,
A42: Главный инженер АО "Вологдаоблэнерго" А,В, Чурляев
A43: составляется самим предприятием с соблюдением всех пунктов настоящей таблицы,

Sheet 13
B1: АО "Вологдаоблэнерго" | J1: код 900151 | M1: ПС Домозерово, ф,Дом-2
B2: наименование предприятия | M2: наименование источника питания
M3: ТП-Школа ПС Домозерово В-1
B4: ул, Горького, 99 | I4: Таблица № 1 | M4: ТП-Школа ПС Домозерово В-2
B5: адрес
A6: почасовых записей показаний электрических счетчиков
A7: ='42'!A7:O7 -> в режимный день 18 ДЕКАБРЯ 2024г.
A8: 1630 | B8: 1628
A9: часы суток | B9: Активная энергия | J9: Реактивная энергия
B10: =M3 -> ТП-Школа ПС Домозерово В-1 | F10: =M4 -> ТП-Школа ПС Домозерово В-2 | J10: =B10 -> ТП-Школа ПС Домозерово В-1 | M10: =F10 -> ТП-Школа ПС Домозерово В-2
B11: Расчет, Коэф, | E11: 120 | F11: Расчет, Коэф, | I11: 120 | J11: Расчет, Коэф, | L11: =E11 -> 120 | M11: Расчет, Коэф, | O11: =I11 -> 120
B12: показания счетчика | C12: разность | E12: расход эл,энергии за час | F12: показания счетчика | G12: разность | I12: расход эл,энергии за час | J12: показания счетчика | K12: разность | L12: расход эл,энергии за час | M12: показания счетчика | N12: разность | O12: расход эл,энергии за час
A13: 1 | B13: 2 | C13: 3 | E13: 4 | F13: 5 | G13: 6 | I13: 7 | J13: 8 | K13: 9 | L13: 10 | M13: 11 | N13: 12 | O13: 13
A14: 0 | E14: 9.16992 | I14: 19.73328
A15: 1 | E15: 9.4464 | I15: 19.7568
A16: 2 | E16: 9.28512 | I16: 17.56944
A17: 3 | E17: 9.16992 | I17: 17.14608
A18: 4 | E18: 7.32672 | I18: 18.32208
A19: 5 | E19: 6.77376 | I19: 15.7584
A20: 6 | E20: 6.67968 | I20: 18.27504
A21: 7 | E21: 7.15008 | I21: 17.82816
A22: 8 | E22: 7.4088 | I22: 32.88096
A23: 9 | E23: 6.84432 | I23: 32.99856
A24: 10 | E24: 6.56208 | I24: 33.1632
A25: 11 | E25: 6.77376 | I25: 33.72768
... A37: 23 | E37: 8.60112 | I37: 21.68544
A38: 24
A39: Итого | E39: =SUM(E15:E38) -> 182.57112 | I39: =SUM(I15:I38) -> 595.71456 | L39: =SUM(L15:L38) -> 0 | O39: =SUM(O15:O38) -> 0
A40: 1, При наличии на предприятии отклонений от нормальных режимов электропотребления (временное изменение схем питания, остановка на ремонт, резкое снижение
A41: эл,потребления и т,д,) последние необходимо перечислить,
A42: Главный инженер АО "Вологдаоблэнерго" А,В, Чурляев
A43: составляется самим предприятием с соблюдением всех пунктов настоящей таблицы,

Sheet 14
B1: АО "Вологдаоблэнерго" | J1: код 900151 | M1: ПС Домозерово, ф,Дом-2
B2: наименование предприятия | M2: наименование источника питания
M3: КТП "Очистные" ПС Домозерово
B4: ул, Горького, 99 | I4: Таблица № 1 | M4: ТП "Детский сад" ПС Домозерово
B5: адрес
A6: почасовых записей показаний электрических счетчиков
A7: ='42'!A7:O7 -> в режимный день 18 ДЕКАБРЯ 2024г.
A8: 1630 | B8: 1628
A9: часы суток | B9: Активная энергия | J9: Реактивная энергия
B10: =M3 -> КТП "Очистные" ПС Домозерово | F10: =M4 -> ТП "Детский сад" ПС Домозерово | J10: =B10 -> КТП "Очистные" ПС Домозерово | M10: =F10 -> ТП "Детский сад" ПС Домозерово
B11: Расчет, Коэф, | E11: 60 | F11: Расчет, Коэф, | I11: 80 | J11: Расчет, Коэф, | L11: =E11 -> 60 | M11: Расчет, Коэф, | O11: =I11 -> 80
B12: показания счетчика | C12: разность | E12: расход эл,энергии за час | F12: показания счетчика | G12: разность | I12: расход эл,энергии за час | J12: показания счетчика | K12: разность | L12: расход эл,энергии за час | M12: показания счетчика | N12: разность | O12: расход эл,энергии за час
A13: 1 | B13: 2 | C13: 3 | E13: 4 | F13: 5 | G13: 6 | I13: 7 | J13: 8 | K13: 9 | L13: 10 | M13: 11 | N13: 12 | O13: 13
A14: 0 | E14: 0.33408 | I14: 25.5584
A15: 1 | E15: 0.36864 | I15: 19.5216
A16: 2 | E16: 0.31104 | I16: 19.1296
A17: 3 | E17: 0.26496 | I17: 17.0128
A18: 4 | E18: 0.29952 | I18: 16.2288
A19: 5 | E19: 0.288 | I19: 16.7776
A20: 6 | E20: 0.72912 | I20: 20.1488
A21: 7 | E21: 2.058 | I21: 26.1856
A22: 8 | E22: 1.09368 | I22: 29.0864
A23: 9 | E23: 0.98784 | I23: 29.792
A24: 10 | E24: 0.63504 | I24: 25.1664
A25: 11 | E25: 0.32928 | I25: 23.912
... A37: 23 | E37: 0.30888 | I37: 30.6544
A38: 24
A39: Итого | E39: =SUM(E15:E38) -> 18.79476 | I39: =SUM(I15:I38) -> 586.5104 | L39: =SUM(L15:L38) -> 0 | O39: =SUM(O15:O38) -> 0
A40: 1, При наличии на предприятии отклонений от нормальных режимов электропотребления (временное изменение схем питания, остановка на ремонт, резкое снижение
A41: эл,потребления и т,д,) последние необходимо перечислить,
A42: Главный инженер АО "Вологдаоблэнерго" А,В, Чурляев
A43: составляется самим предприятием с соблюдением всех пунктов настоящей таблицы,

Sheet 15
B1: АО "Вологдаоблэнерго" | J1: код 900151 | M1: ПС Домозерово, ф, Починок
B2: наименование предприятия | M2: наименование источника питания
M3: КТП-Коттеджи
B4: ул, Горького, 99 | I4: Таблица № 1 | M4: КТП-118 (Горизонт)
B5: адрес
A6: почасовых записей показаний электрических счетчиков
A7: ='42'!A7:O7 -> в режимный день 18 ДЕКАБРЯ 2024г.
A8: 1630 | B8: 1628
A9: часы суток | B9: Активная энергия | J9: Реактивная энергия
B10: =M3 -> КТП-Коттеджи | F10: =M4 -> КТП-118 (Горизонт) | J10: =B10 -> КТП-Коттеджи | M10: =F10 -> КТП-118 (Горизонт)
B11: Расчет, Коэф, | E11: 60 | F11: Расчет, Коэф, | I11: 80 | J11: Расчет, Коэф, | L11: =E11 -> 60 | M11: Расчет, Коэф, | O11: =I11 -> 80
B12: показания счетчика | C12: разность | E12: расход эл,энергии за час | F12: показания счетчика | G12: разность | I12: расход эл,энергии за час | J12: показания счетчика | K12: разность | L12: расход эл,энергии за час | M12: показания счетчика | N12: разность | O12: расход эл,энергии за час
A13: 1 | B13: 2 | C13: 3 | E13: 4 | F13: 5 | G13: 6 | I13: 7 | J13: 8 | K13: 9 | L13: 10 | M13: 11 | N13: 12 | O13: 13
A14: 0 | E14: 6.72768 | I14: 23.6768
A15: 1 | E15: 5.82912 | I15: 12.88896
A16: 2 | E16: 5.56416 | I16: 18.56512
A17: 3 | E17: 5.95584 | I17: 12.92032
A18: 4 | E18: 5.77152 | I18: 11.17984
A19: 5 | E19: 4.3776 | I19: 11.93248
A20: 6 | E20: 5.33904 | I20: 13.328
A21: 7 | E21: 5.92704 | I21: 17.20096
A22: 8 | E22: 6.75024 | I22: 14.31584
A23: 9 | E23: 6.86784 | I23: 24.304
A24: 10 | E24: 6.69144 | I24: 19.66272
A25: 11 | E25: 7.4676 | I25: 20.90144
... A37: 23 | E37: 6.7122 | I37: 20.57216
A38: 24
A39: Итого | E39: =SUM(E15:E38) -> 154.107 | I39: =SUM(I15:I38) -> 456.4448 | L39: =SUM(L15:L38) -> 0 | O39: =SUM(O15:O38) -> 0
A40: 1, При наличии на предприятии отклонений от нормальных режимов электропотребления (временное изменение схем питания, остановка на ремонт, резкое снижение
A41: эл,потребления и т,д,) последние необходимо перечислить,
A42: Главный инженер АО "Вологдаоблэнерго" А,В, Чурляев
A43: составляется самим предприятием с соблюдением всех пунктов настоящей таблицы,

Sheet 16
B1: АО "Вологдаоблэнерго" | J1: код 900151 | M1: ПС Домозерово, ф, Жары
B2: наименование предприятия | M2: наименование источника питания
M3: ТП-79
B4: ул, Горького, 99 | I4: Таблица № 1
B5: адрес
A6: почасовых записей показаний электрических счетчиков
A7: ='42'!A7:O7 -> в режимный день 18 ДЕКАБРЯ 2024г.
A8: 1630 | B8: 1628
A9: часы суток | B9: Активная энергия | J9: Реактивная энергия
B10: =M3 -> ТП-79 | F10: =M4 -> 0 | J10: =B10 -> ТП-79 | M10: =F10 -> 0
B11: Расчет, Коэф, | E11: 40 | F11: Расчет, Коэф, | I11: 120 | J11: Расчет, Коэф, | L11: =E11 -> 40 | M11: Расчет, Коэф, | O11: =I11 -> 120
B12: показания счетчика | C12: разность | E12: расход эл,энергии за час | F12: показания счетчика | G12: разность | I12: расход эл,энергии за час | J12: показания счетчика | K12: разность | L12: расход эл,энергии за час | M12: показания счетчика | N12: разность | O12: расход эл,энергии за час
A13: 1 | B13: 2 | C13: 3 | E13: 4 | F13: 5 | G13: 6 | I13: 7 | J13: 8 | K13: 9 | L13: 10 | M13: 11 | N13: 12 | O13: 13
A14: 0 | E14: 9.2736 | I14: 0
A15: 1 | E15: 5.9712 | I15: 0
A16: 2 | E16: 5.9328 | I16: 0
A17: 3 | E17: 5.9904 | I17: 0
A18: 4 | E18: 5.7984 | I18: 0
A19: 5 | E19: 6.0672 | I19: 0
A20: 6 | E20: 5.9584 | I20: 0
A21: 7 | E21: 5.5664 | I21: 0
A22: 8 | E22: 5.4292 | I22: 0
A23: 9 | E23: 5.2724 | I23: 0
A24: 10 | E24: 5.292 | I24: 0
A25: 11 | E25: 6.3112 | I25: 0
... A37: 23 | E37: 7.4052 | I37: 0
A38: 24
A39: Итого | E39: =SUM(E15:E38) -> 135.1558 | I39: =SUM(I15:I38) -> 0 | L39: =SUM(L15:L38) -> 0 | O39: =SUM(O15:O38) -> 0
A40: 1, При наличии на предприятии отклонений от нормальных режимов электропотребления (временное изменение схем питания, остановка на ремонт, резкое снижение
A41: эл,потребления и т,д,) последние необходимо перечислить,
A42: Главный инженер АО "Вологдаоблэнерго" А,В, Чурляев
A43: составляется самим предприятием с соблюдением всех пунктов настоящей таблицы,

Sheet 17
B1: АО "Вологдаоблэнерго" | K1: код 900151 | N1: ПС Домозерово, ф, Дом-2
B2: наименование предприятия | N2: наименование источника питания
N3: ТП-74
B4: ул, Горького, 99 | J4: Таблица № 1 | N4: ТП-СЗМК-2(не баланс)
B5: адрес
A6: почасовых записей показаний электрических счетчиков
A7: ='42'!A7:O7 -> в режимный день 18 ДЕКАБРЯ 2024г.
A8: 1630 | B8: 1628
A9: часы суток | B9: Активная энергия | K9: Реактивная энергия
B10: =N3 -> ТП-74 | F10: =N4 -> ТП-СЗМК-2(не баланс) | K10: =B10 -> ТП-74 | N10: =F10 -> ТП-СЗМК-2(не баланс)
B11: Расчет, Коэф, | E11: 120 | F11: Расчет, Коэф, | J11: 200 | K11: Расчет, Коэф, | M11: =E11 -> 120 | N11: Расчет, Коэф, | P11: =J11 -> 200
B12: показания счетчика | C12: разность | E12: расход эл,энергии за час | F12: показания счетчика | G12: разность | J12: расход эл,энергии за час | K12: показания счетчика | L12: разность | M12: расход эл,энергии за час | N12: показания счетчика | O12: разность | P12: расход эл,энергии за час
A13: 1 | B13: 2 | C13: 3 | E13: 4 | F13: 5 | G13: 6 | J13: 7 | K13: 8 | L13: 9 | M13: 10 | N13: 11 | O13: 12 | P13: 13
A14: 0 | E14: 29.58888 | I14: 0 | J14: 0
A15: 1 | E15: 31.56768 | I15: 0 | J15: 0.3
A16: 2 | E16: 28.93704 | I16: 0 | J16: 0.3
A17: 3 | E17: 30.24072 | I17: 0 | J17: 0.3
A18: 4 | E18: 29.12328 | I18: 0 | J18: 0.2
A19: 5 | E19: 29.89152 | I19: 0 | J19: 0
A20: 6 | E20: 28.00584 | I20: 0 | J20: 0
A21: 7 | E21: 27.63336 | I21: 0 | J21: 0.5
A22: 8 | E22: 28.42488 | I22: 0 | J22: 1
A23: 9 | E23: 49.07424 | I23: 0 | J23: 1
A24: 10 | E24: 64.06656 | I24: 0 | J24: 1
A25: 11 | E25: 56.98944 | I25: 0 | J25: 1.1
... A37: 23 | E37: 30.56664 | I37: 0 | J37: 0
A38: 24
A39: Итого | E39: =SUM(E15:E38) -> 917.48808 | J39: =SUM(J15:J38) -> 8.6 | M39: =SUM(M15:M38) -> 0 | P39: =SUM(P15:P38) -> 0
A40: 1, При наличии на предприятии отклонений от нормальных режимов электропотребления (временное изменение схем питания, остановка на ремонт, резкое снижение
A41: эл,потребления и т,д,) последние необходимо перечислить,
A42: Главный инженер АО "Вологдаоблэнерго" А,В, Чурляев
A43: составляется самим предприятием с соблюдением всех пунктов настоящей таблицы,

Sheet 18
B1: АО "Вологдаоблэнерго" | J1: код 900151 | M1: ПС Домозерово, ф, Починок
B2: наименование предприятия | M2: наименование источника питания
M3: КТП-Бомк
B4: ул, Горького, 99 | I4: Таблица № 1
B5: адрес
A6: почасовых записей показаний электрических счетчиков
A7: ='42'!A7:O7 -> в режимный день 18 ДЕКАБРЯ 2024г.
A8: 1630 | B8: 1628
A9: часы суток | B9: Активная энергия | J9: Реактивная энергия
B10: =M3 -> КТП-Бомк | F10: =M4 -> 0 | J10: =B10 -> КТП-Бомк | M10: =F10 -> 0
B11: Расчет, Коэф, | E11: 80 | F11: Расчет, Коэф, | I11: 120 | J11: Расчет, Коэф, | L11: =E11 -> 80 | M11: Расчет, Коэф, | O11: =I11 -> 120
B12: показания счетчика | C12: разность | E12: расход эл,энергии за час | F12: показания счетчика | G12: разность | I12: расход эл,энергии за час | J12: показания счетчика | K12: разность | L12: расход эл,энергии за час | M12: показания счетчика | N12: разность | O12: расход эл,энергии за час
A13: 1 | B13: 2 | C13: 3 | E13: 4 | F13: 5 | G13: 6 | I13: 7 | J13: 8 | K13: 9 | L13: 10 | M13: 11 | N13: 12 | O13: 13
A14: 0 | E14: 29.11552 | I14: 0
A15: 1 | E15: 21.89872 | I15: 0
A16: 2 | E16: 18.04976 | I16: 0
A17: 3 | E17: 17.21168 | I17: 0
A18: 4 | E18: 15.7528 | I18: 0
A19: 5 | E19: 17.97216 | I19: 0
A20: 6 | E20: 21.68144 | I20: 0
A21: 7 | E21: 19.50864 | I21: 0
A22: 8 | E22: 25.23552 | I22: 0
A23: 9 | E23: 29.84496 | I23: 0
A24: 10 | E24: 34.09744 | I24: 0
A25: 11 | E25: 34.25264 | I25: 0
... A37: 23 | E37: 37.68256 | I37: 0
A38: 24
A39: Итого | E39: =SUM(E15:E38) -> 716.7136 | I39: =SUM(I15:I38) -> 0 | L39: =SUM(L15:L38) -> 0 | O39: =SUM(O15:O38) -> 0
A40: 1, При наличии на предприятии отклонений от нормальных режимов электропотребления (временное изменение схем питания, остановка на ремонт, резкое снижение
A41: эл,потребления и т,д,) последние необходимо перечислить,
A42: Главный инженер АО "Вологдаоблэнерго" А,В, Чурляев
A43: составляется самим предприятием с соблюдением всех пунктов настоящей таблицы,

Sheet 19
B1: АО "Вологдаоблэнерго" | J1: код 900151 | M1: ПС Енюково, ф,Борисово
B2: наименование предприятия | M2: наименование источника питания
M3: ТП-Ферма Фенево В-1
B4: ул, Горького, 99 | I4: Таблица № 1 | M4: ТП-Ферма Фенево В-2
B5: адрес
A6: почасовых записей показаний электрических счетчиков
A7: ='42'!A7:O7 -> в режимный день 18 ДЕКАБРЯ 2024г.
A8: 1630 | B8: 1628
A9: часы суток | B9: Активная энергия | J9: Реактивная энергия
B10: =M3 -> ТП-Ферма Фенево В-1 | F10: =M4 -> ТП-Ферма Фенево В-2 | J10: =B10 -> ТП-Ферма Фенево В-1 | M10: =F10 -> ТП-Ферма Фенево В-2
B11: Расчет, Коэф, | E11: 200 | F11: Расчет, Коэф, | I11: 200 | J11: Расчет, Коэф, | L11: =E11 -> 200 | M11: Расчет, Коэф, | O11: =I11 -> 200
B12: показания счетчика | C12: разность | E12: расход эл,энергии за час | F12: показания счетчика | G12: разность | I12: расход эл,энергии за час | J12: показания счетчика | K12: разность | L12: расход эл,энергии за час | M12: показания счетчика | N12: разность | O12: расход эл,энергии за час
A13: 1 | B13: 2 | C13: 3 | E13: 4 | F13: 5 | G13: 6 | I13: 7 | J13: 8 | K13: 9 | L13: 10 | M13: 11 | N13: 12 | O13: 13
A14: 0 | E14: 17.46 | I14: 8.722
A15: 1 | E15: 12.222 | I15: 9.31
A16: 2 | E16: 11.834 | I16: 17.444
A17: 3 | E17: 12.513 | I17: 38.71
A18: 4 | E18: 12.028 | I18: 67.228
A19: 5 | E19: 29.294 | I19: 71.148
A20: 6 | E20: 28.809 | I20: 61.054
A21: 7 | E21: 27.548 | I21: 29.204
A22: 8 | E22: 25.317 | I22: 33.712
A23: 9 | E23: 23.668 | I23: 42.14
A24: 10 | E24: 28.324 | I24: 32.438
A25: 11 | E25: 24.638 | I25: 21.462
... A37: 23 | E37: 27.063 | I37: 8.232
A38: 24
A39: Итого | E39: =SUM(E15:E38) -> 583.94 | I39: =SUM(I15:I38) -> 816.438 | L39: =SUM(L15:L38) -> 0 | O39: =SUM(O15:O38) -> 0
A40: 1, При наличии на предприятии отклонений от нормальных режимов электропотребления (временное изменение схем питания, остановка на ремонт, резкое снижение
A41: эл,потребления и т,д,) последние необходимо перечислить,
A42: Главный инженер АО "Вологдаоблэнерго" А,В, Чурляев
A43: составляется самим предприятием с соблюдением всех пунктов настоящей таблицы,

Sheet 20
B1: АО "Вологдаоблэнерго" | J1: код 900151 | M1: ПС Енюково, ф, Яганово
B2: наименование предприятия | M2: наименование источника питания
M3: КТП-КЗС-2
B4: ул, Горького, 99 | I4: Таблица № 1
B5: адрес
A6: почасовых записей показаний электрических счетчиков
A7: ='42'!A7:O7 -> в режимный день 18 ДЕКАБРЯ 2024г.
A8: 1630 | B8: 1628
A9: часы суток | B9: Активная энергия | J9: Реактивная энергия
B10: =M3 -> КТП-КЗС-2 | F10: =M4 -> 0 | J10: =B10 -> КТП-КЗС-2 | M10: =F10 -> 0
B11: Расчет, Коэф, | E11: 80 | F11: Расчет, Коэф, | I11: 120 | J11: Расчет, Коэф, | L11: =E11 -> 80 | M11: Расчет, Коэф, | O11: =I11 -> 120
B12: показания счетчика | C12: разность | E12: расход эл,энергии за час | F12: показания счетчика | G12: разность | I12: расход эл,энергии за час | J12: показания счетчика | K12: разность | L12: расход эл,энергии за час | M12: показания счетчика | N12: разность | O12: расход эл,энергии за час
A13: 1 | B13: 2 | C13: 3 | E13: 4 | F13: 5 | G13: 6 | I13: 7 | J13: 8 | K13: 9 | L13: 10 | M13: 11 | N13: 12 | O13: 13
A14: 0 | E14: 3.8412 | I14: 0
A15: 1 | E15: 3.8412 | I15: 0
A16: 2 | E16: 3.7636 | I16: 0
A17: 3 | E17: 3.6084 | I17: 0
A18: 4 | E18: 3.7248 | I18: 0
A19: 5 | E19: 3.7248 | I19: 0
A20: 6 | E20: 3.7636 | I20: 0
A21: 7 | E21: 3.9964 | I21: 0
A22: 8 | E22: 3.9188 | I22: 0
A23: 9 | E23: 4.7724 | I23: 0
A24: 10 | E24: 4.3456 | I24: 0
A25: 11 | E25: 4.3068 | I25: 0
... A37: 23 | E37: 4.1904 | I37: 0
A38: 24
A39: Итого | E39: =SUM(E15:E38) -> 97.9312 | I39: =SUM(I15:I38) -> 0 | L39: =SUM(L15:L38) -> 0 | O39: =SUM(O15:O38) -> 0
A40: 1, При наличии на предприятии отклонений от нормальных режимов электропотребления (временное изменение схем питания, остановка на ремонт, резкое снижение
A41: эл,потребления и т,д,) последние необходимо перечислить,
A42: Главный инженер АО "Вологдаоблэнерго" А,В, Чурляев
A43: составляется самим предприятием с соблюдением всех пунктов настоящей таблицы,

Sheet 21
B1: АО "Вологдаоблэнерго" | J1: код 900151 | M1: ПС Енюково ф, Соболево
B2: наименование предприятия | M2: наименование источника питания
M3: ТП-323
B4: ул, Горького, 99 | I4: Таблица № 1
B5: адрес
A6: почасовых записей показаний электрических счетчиков
A7: ='42'!A7:O7 -> в режимный день 18 ДЕКАБРЯ 2024г.
A8: 1630 | B8: 1628
A9: часы суток | B9: Активная энергия | J9: Реактивная энергия
B10: =M3 -> ТП-323 | F10: =M4 -> 0 | J10: =B10 -> ТП-323 | M10: =F10 -> 0
B11: Расчет, Коэф, | E11: 20 | F11: Расчет, Коэф, | I11: 120 | J11: Расчет, Коэф, | L11: =E11 -> 20 | M11: Расчет, Коэф, | O11: =I11 -> 120
B12: показания счетчика | C12: разность | E12: расход эл,энергии за час | F12: показания счетчика | G12: разность | I12: расход эл,энергии за час | J12: показания счетчика | K12: разность | L12: расход эл,энергии за час | M12: показания счетчика | N12: разность | O12: расход эл,энергии за час
A13: 1 | B13: 2 | C13: 3 | E13: 4 | F13: 5 | G13: 6 | I13: 7 | J13: 8 | K13: 9 | L13: 10 | M13: 11 | N13: 12 | O13: 13
A14: 0 | E14: 3.8509 | I14: 0
A15: 1 | E15: 4.0546 | I15: 0
A16: 2 | E16: 4.0546 | I16: 0
A17: 3 | E17: 4.0255 | I17: 0
A18: 4 | E18: 4.0061 | I18: 0
A19: 5 | E19: 4.0158 | I19: 0
A20: 6 | E20: 3.977 | I20: 0
A21: 7 | E21: 0.776 | I21: 0
A22: 8 | E22: 1.7169 | I22: 0
A23: 9 | E23: 4.6463 | I23: 0
A24: 10 | E24: 4.3553 | I24: 0
A25: 11 | E25: 4.5202 | I25: 0
... A37: 23 | E37: 3.8606 | I37: 0
A38: 24
A39: Итого | E39: =SUM(E15:E38) -> 85.8741 | I39: =SUM(I15:I38) -> 0 | L39: =SUM(L15:L38) -> 0 | O39: =SUM(O15:O38) -> 0
A40: 1, При наличии на предприятии отклонений от нормальных режимов электропотребления (временное изменение схем питания, остановка на ремонт, резкое снижение
A41: эл,потребления и т,д,) последние необходимо перечислить,
A42: Главный инженер АО "Вологдаоблэнерго" А,В, Чурляев
A43: составляется самим предприятием с соблюдением всех пунктов настоящей таблицы,

Sheet 22
B1: АО "Вологдаоблэнерго" | J1: код 900151 | M1: ПС Енюково, ф, Ботово
B2: наименование предприятия | M2: наименование источника питания
M3: ТП-Новое Ботово
B4: ул, Горького, 99 | I4: Таблица № 1 | M4: КТП- д,Ботово
B5: адрес
A6: почасовых записей показаний электрических счетчиков
A7: ='42'!A7:O7 -> в режимный день 18 ДЕКАБРЯ 2024г.
A8: 1630 | B8: 1628
A9: часы суток | B9: Активная энергия | J9: Реактивная энергия
B10: =M3 -> ТП-Новое Ботово | F10: =M4 -> КТП- д,Ботово | J10: =B10 -> ТП-Новое Ботово | M10: =F10 -> КТП- д,Ботово
B11: Расчет, Коэф, | E11: 40 | F11: Расчет, Коэф, | I11: 40 | J11: Расчет, Коэф, | L11: =E11 -> 40 | M11: Расчет, Коэф, | O11: =I11 -> 40
B12: показания счетчика | C12: разность | E12: расход эл,энергии за час | F12: показания счетчика | G12: разность | I12: расход эл,энергии за час | J12: показания счетчика | K12: разность | L12: расход эл,энергии за час | M12: показания счетчика | N12: разность | O12: расход эл,энергии за час
A13: 1 | B13: 2 | C13: 3 | E13: 4 | F13: 5 | G13: 6 | I13: 7 | J13: 8 | K13: 9 | L13: 10 | M13: 11 | N13: 12 | O13: 13
A14: 0 | E14: 6.1304 | I14: 10.6281
A15: 1 | E15: 5.335 | I15: 8.2467
A16: 2 | E16: 3.9382 | I16: 7.2765
A17: 3 | E17: 1.7848 | I17: 4.1895
A18: 4 | E18: 1.9206 | I18: 4.2189
A19: 5 | E19: 1.552 | I19: 4.0572
A20: 6 | E20: 1.3192 | I20: 3.3075
A21: 7 | E21: 2.7548 | I21: 4.4541
A22: 8 | E22: 3.8994 | I22: 6.2034
A23: 9 | E23: 3.9964 | I23: 9.8343
A24: 10 | E24: 2.5802 | I24: 11.8776
A25: 11 | E25: 1.1834 | I25: 12.5538
... A37: 23 | E37: 3.8412 | I37: 7.938
A38: 24
A39: Итого | E39: =SUM(E15:E38) -> 66.7166 | I39: =SUM(I15:I38) -> 207.4905 | L39: =SUM(L15:L38) -> 0 | O39: =SUM(O15:O38) -> 0
A40: 1, При наличии на предприятии отклонений от нормальных режимов электропотребления (временное изменение схем питания, остановка на ремонт, резкое снижение
A41: эл,потребления и т,д,) последние необходимо перечислить,
A42: Главный инженер АО "Вологдаоблэнерго" А,В, Чурляев
A43: составляется самим предприятием с соблюдением всех пунктов настоящей таблицы,

Sheet 23
B1: АО "Вологдаоблэнерго" | J1: код 900151 | M1: ПС Енюково, ф, Борисово
B2: наименование предприятия | M2: наименование источника питания
M3: КТП-100 АЗС №43
B4: ул, Горького, 99 | I4: Таблица № 1
B5: адрес
A6: почасовых записей показаний электрических счетчиков
A7: ='42'!A7:O7 -> в режимный день 18 ДЕКАБРЯ 2024г.
A8: 1630 | B8: 1628
A9: часы суток | B9: Активная энергия | J9: Реактивная энергия
B10: =M3 -> КТП-100 АЗС №43 | F10: =M4 -> 0 | J10: =B10 -> КТП-100 АЗС №43 | M10: =F10 -> 0
B11: Расчет, Коэф, | E11: 30 | F11: Расчет, Коэф, | I11: 40 | J11: Расчет, Коэф, | L11: =E11 -> 30 | M11: Расчет, Коэф, | O11: =I11 -> 40
B12: показания счетчика | C12: разность | E12: расход эл,энергии за час | F12: показания счетчика | G12: разность | I12: расход эл,энергии за час | J12: показания счетчика | K12: разность | L12: расход эл,энергии за час | M12: показания счетчика | N12: разность | O12: расход эл,энергии за час
A13: 1 | B13: 2 | C13: 3 | E13: 4 | F13: 5 | G13: 6 | I13: 7 | J13: 8 | K13: 9 | L13: 10 | M13: 11 | N13: 12 | O13: 13
A14: 0 | E14: 11.47122 | I14: 0
A15: 1 | E15: 11.25588 | I15: 0
A16: 2 | E16: 10.80774 | I16: 0
A17: 3 | E17: 12.83892 | I17: 0
A18: 4 | E18: 12.29766 | I18: 0
A19: 5 | E19: 8.91624 | I19: 0
A20: 6 | E20: 4.87134 | I20: 0
A21: 7 | E21: 6.76866 | I21: 0
A22: 8 | E22: 7.93266 | I22: 0
A23: 9 | E23: 7.89774 | I23: 0
A24: 10 | E24: 8.07816 | I24: 0
A25: 11 | E25: 7.48452 | I25: 0
... A37: 23 | E37: 10.87176 | I37: 0
A38: 24
A39: Итого | E39: =SUM(E15:E38) -> 179.96022 | I39: =SUM(I15:I38) -> 0 | L39: =SUM(L15:L38) -> 0 | O39: =SUM(O15:O38) -> 0
A40: 1, При наличии на предприятии отклонений от нормальных режимов электропотребления (временное изменение схем питания, остановка на ремонт, резкое снижение
A41: эл,потребления и т,д,) последние необходимо перечислить,
A42: Главный инженер АО "Вологдаоблэнерго" А,В, Чурляев
A43: составляется самим предприятием с соблюдением всех пунктов настоящей таблицы,

Sheet 24
B1: АО "Вологдаоблэнерго" | J1: код 900151 | M1: ПС Енюково, ф, Борисово
B2: наименование предприятия | M2: наименование источника питания
M3: КТП-100 АЗС №43
B4: ул, Горького, 99 | I4: Таблица № 1 | M4: ТП- "Освещение дороги" (Аэропорт)
B5: адрес
A6: почасовых записей показаний электрических счетчиков
A7: ='42'!A7:O7 -> в режимный день 18 ДЕКАБРЯ 2024г.
A8: 1630 | B8: 1628
A9: часы суток | B9: Активная энергия | J9: Реактивная энергия
B10: =M3 -> КТП-100 АЗС №43 | F10: =M4 -> ТП- "Освещение дороги" (Аэропорт) | J10: =B10 -> КТП-100 АЗС №43 | M10: =F10 -> ТП- "Освещение дороги" (Аэропорт)
B11: Расчет, Коэф, | E11: 30 | F11: Расчет, Коэф, | I11: 1 | J11: Расчет, Коэф, | L11: =E11 -> 30 | M11: Расчет, Коэф, | O11: =I11 -> 1
B12: показания счетчика | C12: разность | E12: расход эл,энергии за час | F12: показания счетчика | G12: разность | I12: расход эл,энергии за час | J12: показания счетчика | K12: разность | L12: расход эл,энергии за час | M12: показания счетчика | N12: разность | O12: расход эл,энергии за час
A13: 1 | B13: 2 | C13: 3 | E13: 4 | F13: 5 | G13: 6 | I13: 7 | J13: 8 | K13: 9 | L13: 10 | M13: 11 | N13: 12 | O13: 13
A14: 0 | E14: 11.47122 | I14: 11.44444
A15: 1 | E15: 11.25588 | I15: 11.57772
A16: 2 | E16: 10.80774 | I16: 11.49638
A17: 3 | E17: 12.83892 | I17: 9.12282
A18: 4 | E18: 12.29766 | I18: 0.01862
A19: 5 | E19: 8.91624 | I19: 0.01862
A20: 6 | E20: 4.87134 | I20: 0.0196
A21: 7 | E21: 6.76866 | I21: 0.01862
A22: 8 | E22: 7.93266 | I22: 0.0196
A23: 9 | E23: 7.89774 | I23: 0.01862
A24: 10 | E24: 8.07816 | I24: 0.01764
A25: 11 | E25: 7.48452 | I25: 0.01764
... A37: 23 | E37: 10.87176 | I37: 8.56814
A38: 24
A39: Итого | E39: =SUM(E15:E38) -> 179.96022 | I39: =SUM(I15:I38) -> 41.1208 | L39: =SUM(L15:L38) -> 0 | O39: =SUM(O15:O38) -> 0
A40: 1, При наличии на предприятии отклонений от нормальных режимов электропотребления (временное изменение схем питания, остановка на ремонт, резкое снижение
A41: эл,потребления и т,д,) последние необходимо перечислить,
A42: Главный инженер АО "Вологдаоблэнерго" А,В, Чурляев
A43: составляется самим предприятием с соблюдением всех пунктов настоящей таблицы,

Sheet 25
B1: АО "Вологдаоблэнерго" | J1: код 900151 | M1: ПС Загородная, ф, Тоншалово-2
B2: наименование предприятия | M2: наименование источника питания
M3: ТП-4 очистные В-1; ТП-4 очистные В-2
B4: ул, Горького, 99 | I4: Таблица № 1
B5: адрес
A6: почасовых записей показаний электрических счетчиков
A7: ='42'!A7:O7 -> в режимный день 18 ДЕКАБРЯ 2024г.
A8: 1630 | B8: 1628
A9: часы суток | B9: Активная энергия | J9: Реактивная энергия
B10: ТП-4 очистные В-1 | F10: ТП-4 очистные В-2 | J10: ТП-4 очистные В-1 | M10: ТП-4 очистные В-2
B11: Расчет, Коэф, | E11: 120 | F11: Расчет, Коэф, | I11: 120 | J11: Расчет, Коэф, | L11: =E11 -> 120 | M11: Расчет, Коэф, | O11: =I11 -> 120
B12: показания счетчика | C12: разность | E12: расход эл,энергии за час | F12: показания счетчика | G12: разность | I12: расход эл,энергии за час | J12: показания счетчика | K12: разность | L12: расход эл,энергии за час | M12: показания счетчика | N12: разность | O12: расход эл,энергии за час
A13: 1 | B13: 2 | C13: 3 | E13: 4 | F13: 5 | G13: 6 | I13: 7 | J13: 8 | K13: 9 | L13: 10 | M13: 11 | N13: 12 | O13: 13
A14: 0 | E14: 42.14016 | I14: 20.15664
A15: 1 | E15: 40.82688 | I15: 14.5824
A16: 2 | E16: 44.72064 | I16: 13.12416
A17: 3 | E17: 44.65152 | I17: 12.7008
A18: 4 | E18: 44.14464 | I18: 12.15984
A19: 5 | E19: 42.67008 | I19: 12.44208
A20: 6 | E20: 39.77232 | I20: 13.59456
A21: 7 | E21: 43.13568 | I21: 10.9368
A22: 8 | E22: 46.16976 | I22: 12.25392
A23: 9 | E23: 45.06432 | I23: 14.9352
A24: 10 | E24: 44.42928 | I24: 19.1688
A25: 11 | E25: 42.28896 | I25: 21.82656
... A37: 23 | E37: 46.926 | I37: 20.1096
A38: 24
A39: Итого | E39: =SUM(E15:E38) -> 1012.079 | I39: =SUM(I15:I38) -> 488.08704 | L39: =SUM(L15:L38) -> 0 | O39: =SUM(O15:O38) -> 0
A40: 1, При наличии на предприятии отклонений от нормальных режимов электропотребления (временное изменение схем питания, остановка на ремонт, резкое снижение
A41: эл,потребления и т,д,) последние необходимо перечислить,
A42: Главный инженер АО "Вологдаоблэнерго" А,В, Чурляев
A43: составляется самим предприятием с соблюдением всех пунктов настоящей таблицы,

Sheet 26
B1: АО "Вологдаоблэнерго" | J1: код 900151 | M1: ПС Загородная, ф, Тоншалово-2
B2: наименование предприятия | M2: наименование источника питания
M3: ТП-3 Школа В-1; ТП-3 Школа В-2
B4: ул, Горького, 99 | I4: Таблица № 1
B5: адрес
A6: почасовых записей показаний электрических счетчиков
A7: ='42'!A7:O7 -> в режимный день 18 ДЕКАБРЯ 2024г.
A8: 1630 | B8: 1628
A9: часы суток | B9: Активная энергия | J9: Реактивная энергия
B10: ТП-3 Школа В-1 | F10: ТП-3 Школа В-2 | J10: ТП-3 Школа В-1 | M10: ТП-3 Школа В-2
B11: Расчет, Коэф, | E11: 120 | F11: Расчет, Коэф, | I11: 120 | J11: Расчет, Коэф, | L11: =E11 -> 120 | M11: Расчет, Коэф, | O11: =I11 -> 120
B12: показания счетчика | C12: разность | E12: расход эл,энергии за час | F12: показания счетчика | G12: разность | I12: расход эл,энергии за час | J12: показания счетчика | K12: разность | L12: расход эл,энергии за час | M12: показания счетчика | N12: разность | O12: расход эл,энергии за час
A13: 1 | B13: 2 | C13: 3 | E13: 4 | F13: 5 | G13: 6 | I13: 7 | J13: 8 | K13: 9 | L13: 10 | M13: 11 | N13: 12 | O13: 13
A14: 0 | E14: 41.54112 | I14: 0
A15: 1 | E15: 39.58272 | I15: 0
A16: 2 | E16: 39.49056 | I16: 0
A17: 3 | E17: 38.75328 | I17: 0
A18: 4 | E18: 39.14496 | I18: 0
A19: 5 | E19: 38.61504 | I19: 0
A20: 6 | E20: 42.61824 | I20: 0
A21: 7 | E21: 42.26544 | I21: 0
A22: 8 | E22: 54.37824 | I22: 0
A23: 9 | E23: 61.22256 | I23: 0
A24: 10 | E24: 72.41808 | I24: 0
A25: 11 | E25: 76.0872 | I25: 0
... A37: 23 | E37: 49.23072 | I37: 0
A38: 24
A39: Итого | E39: =SUM(E15:E38) -> 1359.4404 | I39: =SUM(I15:I38) -> 0 | L39: =SUM(L15:L38) -> 0 | O39: =SUM(O15:O38) -> 0
A40: 1, При наличии на предприятии отклонений от нормальных режимов электропотребления (временное изменение схем питания, остановка на ремонт, резкое снижение
A41: эл,потребления и т,д,) последние необходимо перечислить,
A42: Главный инженер АО "Вологдаоблэнерго" А,В, Чурляев
A43: составляется самим предприятием с соблюдением всех пунктов настоящей таблицы,

Sheet 27
B1: АО "Вологдаоблэнерго" | J1: код 900151 | M1: ПС Загородная, ф, Тоншалово-2
B2: наименование предприятия | M2: наименование источника питания
M3: ТП-5 ПМК-1 В-1
B4: ул, Горького, 99 | I4: Таблица № 1 | M4: ТП-5 ПМК-1 В-2
B5: адрес
A6: почасовых записей показаний электрических счетчиков
A7: ='42'!A7:O7 -> в режимный день 18 ДЕКАБРЯ 2024г.
A8: 1630 | B8: 1628
A9: часы суток | B9: Активная энергия | J9: Реактивная энергия
B10: =M3 -> ТП-5 ПМК-1 В-1 | F10: =M4 -> ТП-5 ПМК-1 В-2 | J10: =B10 -> ТП-5 ПМК-1 В-1 | M10: =F10 -> ТП-5 ПМК-1 В-2
B11: Расчет, Коэф, | E11: 120 | F11: Расчет, Коэф, | I11: 120 | J11: Расчет, Коэф, | L11: =E11 -> 120 | M11: Расчет, Коэф, | O11: =I11 -> 120
B12: показания счетчика | C12: разность | E12: расход эл,энергии за час | F12: показания счетчика | G12: разность | I12: расход эл,энергии за час | J12: показания счетчика | K12: разность | L12: расход эл,энергии за час | M12: показания счетчика | N12: разность | O12: расход эл,энергии за час
A13: 1 | B13: 2 | C13: 3 | E13: 4 | F13: 5 | G13: 6 | I13: 7 | J13: 8 | K13: 9 | L13: 10 | M13: 11 | N13: 12 | O13: 13
A14: 0 | E14: 13.77792 | I14: 47.36928
A15: 1 | E15: 11.52 | I15: 38.71392
A16: 2 | E16: 10.96704 | I16: 33.06912
A17: 3 | E17: 10.5984 | I17: 32.66928
A18: 4 | E18: 10.5984 | I18: 31.21104
A19: 5 | E19: 10.1376 | I19: 45.13488
A20: 6 | E20: 11.90112 | I20: 65.268
A21: 7 | E21: 11.5248 | I21: 70.34832
A22: 8 | E22: 13.35936 | I22: 63.3864
A23: 9 | E23: 14.60592 | I23: 61.22256
A24: 10 | E24: 14.37072 | I24: 59.41152
A25: 11 | E25: 13.9944 | I25: 69.00768
... A37: 23 | E37: 16.08552 | I37: 57.01248
A38: 24
A39: Итого | E39: =SUM(E15:E38) -> 317.1012 | I39: =SUM(I15:I38) -> 1269.1862 | L39: =SUM(L15:L38) -> 0 | O39: =SUM(O15:O38) -> 0
A40: 1, При наличии на предприятии отклонений от нормальных режимов электропотребления (временное изменение схем питания, остановка на ремонт, резкое снижение
A41: эл,потребления и т,д,) последние необходимо перечислить,
A42: Главный инженер АО "Вологдаоблэнерго" А,В, Чурляев
A43: составляется самим предприятием с соблюдением всех пунктов настоящей таблицы,

Sheet 28
B1: АО "Вологдаоблэнерго" | J1: код 900151 | M1: ПС Загородная, ф, Тоншалово-2
B2: наименование предприятия | M2: наименование источника питания
M3: ТП-6 Детский сад В-1
B4: ул, Горького, 99 | I4: Таблица № 1 | M4: ТП-6 Детский сад В-2
B5: адрес
A6: почасовых записей показаний электрических счетчиков
A7: ='42'!A7:O7 -> в режимный день 18 ДЕКАБРЯ 2024г.
A8: 1630 | B8: 1628
A9: часы суток | B9: Активная энергия | J9: Реактивная энергия
B10: =M3 -> ТП-6 Детский сад В-1 | F10: =M4 -> ТП-6 Детский сад В-2 | J10: =B10 -> ТП-6 Детский сад В-1 | M10: =F10 -> ТП-6 Детский сад В-2
B11: Расчет, Коэф, | E11: 120 | F11: Расчет, Коэф, | I11: 120 | J11: Расчет, Коэф, | L11: =E11 -> 120 | M11: Расчет, Коэф, | O11: =I11 -> 120
B12: показания счетчика | C12: разность | E12: расход эл,энергии за час | F12: показания счетчика | G12: разность | I12: расход эл,энергии за час | J12: показания счетчика | K12: разность | L12: расход эл,энергии за час | M12: показания счетчика | N12: разность | O12: расход эл,энергии за час
A13: 1 | B13: 2 | C13: 3 | E13: 4 | F13: 5 | G13: 6 | I13: 7 | J13: 8 | K13: 9 | L13: 10 | M13: 11 | N13: 12 | O13: 13
A14: 0 | E14: 49.37472 | I14: 37.53792
A15: 1 | E15: 42.34752 | I15: 33.02208
A16: 2 | E16: 38.08512 | I16: 28.48272
A17: 3 | E17: 38.22336 | I17: 27.4008
A18: 4 | E18: 36.1728 | I18: 25.54272
A19: 5 | E19: 34.23744 | I19: 26.41296
A20: 6 | E20: 34.88016 | I20: 29.00016
A21: 7 | E21: 40.71312 | I21: 34.95072
A22: 8 | E22: 49.1568 | I22: 36.2208
A23: 9 | E23: 51.81456 | I23: 35.53872
A24: 10 | E24: 53.06112 | I24: 36.12672
A25: 11 | E25: 60.18768 | I25: 37.32624
... A37: 23 | E37: 67.76352 | I37: 43.7472
A38: 24
A39: Итого | E39: =SUM(E15:E38) -> 1279.1393 | I39: =SUM(I15:I38) -> 871.51008 | L39: =SUM(L15:L38) -> 0 | O39: =SUM(O15:O38) -> 0
A40: 1, При наличии на предприятии отклонений от нормальных режимов электропотребления (временное изменение схем питания, остановка на ремонт, резкое снижение
A41: эл,потребления и т,д,) последние необходимо перечислить,
A42: Главный инженер АО "Вологдаоблэнерго" А,В, Чурляев
A43: составляется самим предприятием с соблюдением всех пунктов настоящей таблицы,

Sheet 29
B1: АО "Вологдаоблэнерго" | J1: код 900151 | M1: ПС Загородная, ф, Тоншалово-2
B2: наименование предприятия | M2: наименование источника питания
M3: ТП-2 Поселок
B4: ул, Горького, 99 | I4: Таблица № 1
B5: адрес
A6: почасовых записей показаний электрических счетчиков
A7: ='42'!A7:O7 -> в режимный день 18 ДЕКАБРЯ 2024г.
A8: 1630 | B8: 1628
A9: часы суток | B9: Активная энергия | J9: Реактивная энергия
B10: =M3 -> ТП-2 Поселок | F10: =M4 -> 0 | J10: =B10 -> ТП-2 Поселок | M10: =F10 -> 0
B11: Расчет, Коэф, | E11: 200 | F11: Расчет, Коэф, | I11: 120 | J11: Расчет, Коэф, | L11: =E11 -> 200 | M11: Расчет, Коэф, | O11: =I11 -> 120
B12: показания счетчика | C12: разность | E12: расход эл,энергии за час | F12: показания счетчика | G12: разность | I12: расход эл,энергии за час | J12: показания счетчика | K12: разность | L12: расход эл,энергии за час | M12: показания счетчика | N12: разность | O12: расход эл,энергии за час
A13: 1 | B13: 2 | C13: 3 | E13: 4 | F13: 5 | G13: 6 | I13: 7 | J13: 8 | K13: 9 | L13: 10 | M13: 11 | N13: 12 | O13: 13
A14: 0 | E14: 108.2496 | I14: 0
A15: 1 | E15: 96.2688 | I15: 0
A16: 2 | E16: 86.5536 | I16: 0
A17: 3 | E17: 84.4416 | I17: 0
A18: 4 | E18: 79.4496 | I18: 0
A19: 5 | E19: 78.4128 | I19: 0
A20: 6 | E20: 86.3184 | I20: 0
A21: 7 | E21: 99.1368 | I21: 0
A22: 8 | E22: 109.7992 | I22: 0
A23: 9 | E23: 112.896 | I23: 0
A24: 10 | E24: 115.2088 | I24: 0
A25: 11 | E25: 119.7168 | I25: 0
... A37: 23 | E37: 130.7196 | I37: 0
A38: 24
A39: Итого | E39: =SUM(E15:E38) -> 2517.7668 | I39: =SUM(I15:I38) -> 0 | L39: =SUM(L15:L38) -> 0 | O39: =SUM(O15:O38) -> 0
A40: 1, При наличии на предприятии отклонений от нормальных режимов электропотребления (временное изменение схем питания, остановка на ремонт, резкое снижение
A41: эл,потребления и т,д,) последние необходимо перечислить,
A42: Главный инженер АО "Вологдаоблэнерго" А,В, Чурляев
A43: составляется самим предприятием с соблюдением всех пунктов настоящей таблицы,

Sheet 30
B1: АО "Вологдаоблэнерго" | J1: код 900151 | M1: ПС Загородная, ф, Солманское
B2: наименование предприятия | M2: наименование источника питания
M3: ТП-Котельная ПМК-2 В-1
B4: ул, Горького, 99 | I4: Таблица № 1 | M4: ТП-Котельная ПМК-2 В-2
B5: адрес
