Workbook

Sheet Содержание книги
A1: Содержание
A4: № листа | B4: Электросетевой участок | C4: Центр питания
A5: 1, 2 | B5: г. Вологда | C5: ПС "АНАНЬИНО"
A6: 3 | B6: г. Вологда | C6: ПС ЕРМАКОВО
A7: 4 | B7: г. Вологда | C7: ПС "МАЕГА"
A8: 5,6, 7, 8, 9 | B8: г. Вологда | C8: ПС "ЗАПАДНАЯ
A9: 10 | B9: г. Вологда | C9: ПС "СЕВЕРНАЯ 35/6 кВ
A10: 11 | B10: г. Вологда | C10: РТП "ТЕПЛИЧНОГО ХОЗ - ВА"
A11: 12,13, 14 | B11: г. Вологда | C11: ГПП 110/10 кВ "ВОМЗ"
A12: 15,16,17,18,19,20, 21, 21-1, 21-2, 21-3, 21-4 | B12: г. Вологда | C12: ПС ВОЛОГДА-ЮЖНАЯ РУ - 6 -10 кВ
A13: 21-5, | C13: ПС ВОЛОГДА-ЮЖНАЯ РУ 6 кВ ОАО "БМЗ"
A14: 22 | B14: г. Вологда | C14: ГПП ВОЛОГДА - ТЯГОВАЯ 110/27,5/6 кВ
A15: 23 | B15: г. Вологда | C15: ТП 10 РЖД
A16: 24 | B16: г. Вологда | C16: ТП 34 РЖД
A17: 25,26,27,28,29 | B17: г. Вологда | C17: ТГК- 2 ВТЭЦ РП 6 кВ
A18: 30,31,32,33,34,34-1 | B18: г. Вологда | C18: ПС "ЦЕНТРАЛЬНАЯ" 110/6 кВ
A19: 35, 36 | B19: г. Вологда | C19: ПС "ГОРОДСКАЯ" 35/6 кВ
A20: 37, 38, 39, 39-1 | B20: г. Вологда | C20: ПС "ВОСТОЧНАЯ" 110/35/10 кВ
A21: 40, 40-1, 41,41-1 | B21: г. Вологда | C21: ПС "ЛУГОВАЯ"
A22: 42 | B22: г. Вологда | C22: РП "ГОРКА"
A23: 43, 44 | B23: г. Вологда | C23: ГПП 2 ЗАО ВПЗ
A24: 45 | B24: г. Вологда | C24: ГПП 1 ЗАО ВПЗ
A25: 46 | B25: ЭСУ "Кубенское" | C25: ПС "Кубенское"
A26: 47, 48, 48-1,48-2 | B26: ЭСУ п. Молочное | C26: ПС "Молочное" 35/10 кВ
A27: 49, 50, 50-1, 50-2, 50-3 | B27: ЭСУ "Устье-Кубенское" | C27: РТП "КОРНИЛОВО" 35/10 кВ
A28: 51, 52, | B28: ЭСУ "Шуйское" | C28: ПС "ШУЙСКОЕ" 35/ 10 кВ
A29: 53 | B29: ЭСУ г. Сокол | C29: ПС ИП Сокол 110/10/10
A30: 54.55 | B30: ЭСУ г. Сокол | C30: ПС "ГДЗ" 110/6 кВ
A31: 56, 57, 58, | B31: ЭСУ г. Сокол | C31: ОАО "Сокольский" ЦБК" ГПП 35/6 кВ
A32: 59 | B32: ЭСУ г. Сокол | C32: ОАО "Сокольский" ЦБК" ГПП 110/6 кВ
A33: 60, 61, 62, 63 | B33: ЭСУ г. Сокол | C33: ООО "Сухонский ЦБК" ГПП 110/6 кВ
A34: 64-66-1 | B34: ЭСУ "Белозерск" | C34: ПС Белозерск, ПС Вашки
A35: 67-75 | B35: ЭСУ "Вытегра" | C35: ПС 35 кВ Вытегра, ПС 110 кВ Восточная ПС
A36: 76-81_1 | B36: ЭСУ "Харовск" | C36: ПС 110 кВ Харовск (Р), ПС 110 кВ Харовск-Тяговая
A37: 82-86 | B37: ЭТУ "Вожега"
A38: 87-91 | B38: ЭТУ "Тотьма"
A39: 92-95 | B39: ЭСУ "Сямжа"
A40: 96-97 | B40: ЭСУ "Грязовец"
A42: Содержание
A45: № листа | B45: Электросетевой участок | C45: Центр питания
...

Sheet 1
B1: АО "Вологдаоблэнерго" | J1: код 900151 | N1: ПС "АНАНЬИНО"
B2: наименование предприятия | N2: наименование источника питания
N3: _________________________________
B4: ул. Горького, 99 | I4: Таблица № 1 | O4: ВЛ 10 кВ № 31
B5: адрес
A6: почасовых записей показаний электрических счетчиков
A7: в режимный день 18 декабря 2024 г.
A8: 1629
A9: часы суток | B9: Активная энергия | J9: Реактивная энергия
B10: ЯЧ. № 7 - Ф."Город 7" | J10: ЯЧ. № 7 - Ф."Город 7"
B11: Расчет. Коэф. | E11: 3600 | F11: Расчет. Коэф. | J11: Расчет. Коэф. | M11: =E11 -> 3600 | N11: Расчет. Коэф.
B12: показания счетчика | C12: разность | E12: расход эл.энергии за час | F12: показания счетчика | G12: разность | I12: расход эл.энергии за час | J12: показания счетчика | K12: разность | M12: расход эл.энергии за час | N12: показания счетчика | O12: разность | Q12: расход эл.энергии за час
A13: 1 | B13: 2 | C13: 3 | E13: 4 | F13: 5 | G13: 6 | I13: 7 | J13: 8 | K13: 9 | M13: 10 | N13: 11 | O13: 12 | Q13: 13
A14: 0 | E14: 757 | M14: 272
A15: 1 | E15: 745 | M15: 279
A16: 2 | E16: 762 | M16: 279
A17: 3 | E17: 719 | M17: 261
A18: 4 | E18: 739 | M18: 261
A19: 5 | E19: 781 | M19: 258
A20: 6 | E20: 807 | M20: 250
A21: 7 | E21: 878 | M21: 246
A22: 8 | E22: 917 | M22: 251
A23: 9 | E23: 1100 | M23: 397
A24: 10 | E24: 1084 | M24: 350
A25: 11 | E25: 1095 | M25: 388
... A37: 23 | E37: 806 | M37: 280
A38: Итого | E38: =SUM(E14:E37) -> 21518 | I38: =SUM(I14:I37) -> 0 | M38: =SUM(M14:M37) -> 7036 | Q38: =SUM(Q14:Q37) -> 0
A39: 1. При наличии на предприятии отклонений от нормальных режимов электропотребления (временное изменение схем питания, остановка на ремонт, резкое снижение
A40: эл.потребления и т.д.) последние необходимо перечислить.
A41: Главный инженер АО "Вологдаоблэнерго" А.В. Чурляев
A42: составляется самим предприятием с соблюдением всех пунктов настоящей таблицы.

Sheet 2
B1: АО "Вологдаоблэнерго" | J1: код 900151 | N1: ПС "АНАНЬИНО"
B2: наименование предприятия | N2: наименование источника питания
N3: _________________________________
B4: ул. Горького, 99 | I4: Таблица № 1 | O4: РП 36 ф 16; ТП 360
B5: адрес
A6: почасовых записей показаний электрических счетчиков
A7: в режимный день 18 декабря 2024 г.
A8: 1630 | B8: 1628
A9: часы суток | B9: Активная энергия | J9: Реактивная энергия
B10: ЯЧ. № 2 - Ф."Овощехранилище" | F10: ЯЧ. № 8 - Ф."Городской" | J10: ЯЧ. № 2 - Ф."Овощехранилище" | N10: ЯЧ. № 8 - Ф."Городской"
B11: Расчет. Коэф. | E11: 3600 | F11: Расчет. Коэф. | I11: 2400 | J11: Расчет. Коэф. | M11: =E11 -> 3600 | N11: Расчет. Коэф. | Q11: =I11 -> 2400
B12: показания счетчика | C12: разность | E12: расход эл.энергии за час | F12: показания счетчика | G12: разность | I12: расход эл.энергии за час | J12: показания счетчика | K12: разность | M12: расход эл.энергии за час | N12: показания счетчика | O12: разность | Q12: расход эл.энергии за час
A13: 1 | B13: 2 | C13: 3 | E13: 4 | F13: 5 | G13: 6 | I13: 7 | J13: 8 | K13: 9 | M13: 10 | N13: 11 | O13: 12 | Q13: 13
A14: 0 | E14: 460 | I14: 285 | M14: 183 | Q14: 82
A15: 1 | E15: 528 | I15: 290 | M15: 244 | Q15: 83
A16: 2 | E16: 518 | I16: 287 | M16: 242 | Q16: 83
A17: 3 | E17: 524 | I17: 281 | M17: 238 | Q17: 79
A18: 4 | E18: 464 | I18: 288 | M18: 184 | Q18: 80
A19: 5 | E19: 429 | I19: 314 | M19: 149 | Q19: 81
A20: 6 | E20: 431 | I20: 332 | M20: 141 | Q20: 80
A21: 7 | E21: 475 | I21: 336 | M21: 141 | Q21: 83
A22: 8 | E22: 794 | I22: 342 | M22: 412 | Q22: 82
A23: 9 | E23: 871 | I23: 357 | M23: 497 | Q23: 91
A24: 10 | E24: 795 | I24: 374 | M24: 377 | Q24: 90
A25: 11 | E25: 906 | I25: 374 | M25: 525 | Q25: 95
... A37: 23 | E37: 465 | I37: 320 | M37: 222 | Q37: 84
A38: Итого | E38: =SUM(E14:E37) -> 15203 | I38: =SUM(I14:I37) -> 8214 | M38: =SUM(M14:M37) -> 7398 | Q38: =SUM(Q14:Q37) -> 2009
A39: 1. При наличии на предприятии отклонений от нормальных режимов электропотребления (временное изменение схем питания, остановка на ремонт, резкое снижение
A40: эл.потребления и т.д.) последние необходимо перечислить.
A41: Главный инженер АО "Вологдаоблэнерго" А.В. Чурляев
A42: составляется самим предприятием с соблюдением всех пунктов настоящей таблицы.

Sheet 3
B1: АО "Вологдаоблэнерго" | J1: код 900151 | N1: ПС 110 кВ ЕРМАКОВО
B2: наименование предприятия | N2: наименование источника питания
N3: яч. 18 ф."РУБЦОВО"
B4: ул. Горького, 99 | I4: Таблица № 1 | O4: ВЛ-10кВ № 2
B5: адрес
A6: почасовых записей показаний электрических счетчиков
A7: в режимный день 18 декабря 2024 г.
A8: 374
A9: часы суток | B9: Активная энергия | J9: Реактивная энергия
B10: яч. 18 ф."РУБЦОВО"- ПКУ - ВЛ№2 | J10: яч. 18 ф."РУБЦОВО"- ПКУ - ВЛ№2
B11: Расчет. Коэф. | E11: 1000 | F11: Расчет. Коэф. | I11: 0 | J11: Расчет. Коэф. | M11: =E11 -> 1000 | N11: Расчет. Коэф. | Q11: =I11 -> 0
B12: показания счетчика | C12: разность | E12: расход эл.энергии за час | F12: показания счетчика | G12: разность | I12: расход эл.энергии за час | J12: показания счетчика | K12: разность | M12: расход эл.энергии за час | N12: показания счетчика | O12: разность | Q12: расход эл.энергии за час
A13: 1 | B13: 2 | C13: 3 | E13: 4 | F13: 5 | G13: 6 | I13: 7 | J13: 8 | K13: 9 | M13: 10 | N13: 11 | O13: 12 | Q13: 13
A14: 0 | E14: 561.6 | M14: 29
A15: 1 | E15: 528.4 | M15: 27
A16: 2 | E16: 527.6 | M16: 26.8
A17: 3 | E17: 518.6 | M17: 24.8
A18: 4 | E18: 528.8 | M18: 23.8
A19: 5 | E19: 537.8 | M19: 24.2
A20: 6 | E20: 575.8 | M20: 22.8
A21: 7 | E21: 568.2 | M21: 22.4
A22: 8 | E22: 550.2 | M22: 19.8
A23: 9 | E23: 542 | M23: 26.2
A24: 10 | E24: 527 | M24: 30.4
A25: 11 | E25: 538.4 | M25: 31.2
... A37: 23 | E37: 622.2 | M37: 29.6
A38: Итого | E38: =SUM(E14:E37) -> 13679.8 | I38: =SUM(I14:I37) -> 0 | M38: =SUM(M14:M37) -> 666.4 | Q38: =SUM(Q14:Q37) -> 0
A39: 1. При наличии на предприятии отклонений от нормальных режимов электропотребления (временное изменение схем питания, остановка на ремонт, резкое снижение
A40: эл.потребления и т.д.) последние необходимо перечислить.
A41: Главный инженер АО "Вологдаоблэнерго" А.В. Чурляев
A42: составляется самим предприятием с соблюдением всех пунктов настоящей таблицы.

Sheet 4
B1: АО "Вологдаоблэнерго" | J1: код 900151 | N1: ПС "МАЕГА"
B2: наименование предприятия | N2: наименование источника питания
N3: яч. 13 - Ф НИКИТИНО
B4: ул. Горького, 99 | I4: Таблица № 1 | O4: ВЛ 10 кВ №27
B5: адрес
A6: почасовых записей показаний электрических счетчиков
A7: в режимный день 18 декабря 2024 г.
A8: 363
A9: часы суток | B9: Активная энергия | J9: Реактивная энергия
B10: яч. 13 - Ф НИКИТИНО-СВ - ВЛ№27 | J10: яч. 13 - Ф НИКИТИНО-СВ - ВЛ№27
B11: Расчет. Коэф. | E11: 1500 | F11: Расчет. Коэф. | I11: 0 | J11: Расчет. Коэф. | M11: =E11 -> 1500 | N11: Расчет. Коэф. | Q11: =I11 -> 0
B12: показания счетчика | C12: разность | E12: расход эл.энергии за час | F12: показания счетчика | G12: разность | I12: расход эл.энергии за час | J12: показания счетчика | K12: разность | M12: расход эл.энергии за час | N12: показания счетчика | O12: разность | Q12: расход эл.энергии за час
A13: 1 | B13: 2 | C13: 3 | E13: 4 | F13: 5 | G13: 6 | I13: 7 | J13: 8 | K13: 9 | M13: 10 | N13: 11 | O13: 12 | Q13: 13
A14: 0 | E14: 641.55 | M14: 51.15
A15: 1 | E15: 619.95 | M15: 51.6
A16: 2 | E16: 621.45 | M16: 52.95
A17: 3 | E17: 600.9 | M17: 49.35
A18: 4 | E18: 614.7 | M18: 51.75
A19: 5 | E19: 635.25 | M19: 44.7
A20: 6 | E20: 729.6 | M20: 53.85
A21: 7 | E21: 762.9 | M21: 58.5
A22: 8 | E22: 810.6 | M22: 82.65
A23: 9 | E23: 802.35 | M23: 95.25
A24: 10 | E24: 789.45 | M24: 92.85
A25: 11 | E25: 770.25 | M25: 88.95
... A37: 23 | E37: 658.95 | M37: 49.95
A38: Итого | E38: =SUM(E14:E37) -> 17554.65 | I38: =SUM(I14:I37) -> 0 | M38: =SUM(M14:M37) -> 1575 | Q38: =SUM(Q14:Q37) -> 0
A39: 1. При наличии на предприятии отклонений от нормальных режимов электропотребления (временное изменение схем питания, остановка на ремонт, резкое снижение
A40: эл.потребления и т.д.) последние необходимо перечислить.
A41: Главный инженер АО "Вологдаоблэнерго" А.В. Чурляев
A42: составляется самим предприятием с соблюдением всех пунктов настоящей таблицы.

Sheet 5
B1: АО "Вологдаоблэнерго" | J1: код 900151 | N1: ПС "ЗАПАДНАЯ"
B2: наименование предприятия | N2: наименование источника питания
N3: _________________________________
B4: ул. Горького, 99 | I4: Таблица № 1 | O4: РП 16
B5: адрес
A6: почасовых записей показаний электрических счетчиков
A7: в режимный день 18 декабря 2024 г.
A8: 372 | B8: 368
A9: часы суток | B9: Активная энергия | J9: Реактивная энергия
B10: Яч. 21 - "РМЗ-1" | F10: Яч. 28 - "РМЗ-2" | J10: Яч. 21 - "РМЗ-1" | N10: Яч. 28 - "РМЗ-2"
B11: Расчет. Коэф. | E11: 7200 | F11: Расчет. Коэф. | I11: 7200 | J11: Расчет. Коэф. | M11: =E11 -> 7200 | N11: Расчет. Коэф. | Q11: =I11 -> 7200
B12: показания счетчика | C12: разность | E12: расход эл.энергии за час | F12: показания счетчика | G12: разность | I12: расход эл.энергии за час | J12: показания счетчика | K12: разность | M12: расход эл.энергии за час | N12: показания счетчика | O12: разность | Q12: расход эл.энергии за час
A13: 1 | B13: 2 | C13: 3 | E13: 4 | F13: 5 | G13: 6 | I13: 7 | J13: 8 | K13: 9 | M13: 10 | N13: 11 | O13: 12 | Q13: 13
A14: 0 | E14: 201 | I14: 1641 | M14: 45 | Q14: 287
A15: 1 | E15: 197 | I15: 1556 | M15: 39 | Q15: 291
A16: 2 | E16: 196 | I16: 1529 | M16: 40 | Q16: 285
A17: 3 | E17: 197 | I17: 1511 | M17: 40 | Q17: 289
A18: 4 | E18: 235 | I18: 1511 | M18: 43 | Q18: 281
A19: 5 | E19: 234 | I19: 1631 | M19: 42 | Q19: 275
A20: 6 | E20: 263 | I20: 1894 | M20: 46 | Q20: 276
A21: 7 | E21: 428 | I21: 2185 | M21: 152 | Q21: 296
A22: 8 | E22: 640 | I22: 2329 | M22: 274 | Q22: 342
A23: 9 | E23: 728 | I23: 2369 | M23: 327 | Q23: 334
A24: 10 | E24: 703 | I24: 2492 | M24: 296 | Q24: 337
A25: 11 | E25: 727 | I25: 2455 | M25: 268 | Q25: 350
... A37: 23 | E37: 235 | I37: 1841 | M37: 45 | Q37: 296
A38: Итого | E38: =SUM(E14:E37) -> 10649 | I38: =SUM(I14:I37) -> 50923 | M38: =SUM(M14:M37) -> 3377 | Q38: =SUM(Q14:Q37) -> 7396
A39: 1. При наличии на предприятии отклонений от нормальных режимов электропотребления (временное изменение схем питания, остановка на ремонт, резкое снижение
A40: эл.потребления и т.д.) последние необходимо перечислить.
A41: Главный инженер АО "Вологдаоблэнерго" А.В. Чурляев
A42: составляется самим предприятием с соблюдением всех пунктов настоящей таблицы.

Sheet 6
B1: АО "Вологдаоблэнерго" | J1: код 900151 | N1: ПС "ЗАПАДНАЯ"
B2: наименование предприятия | N2: наименование источника питания
N3: _________________________________
B4: ул. Горького, 99 | I4: Таблица № 1 | N4: РП 10 ф7 | Q4: РП 36 ф17
B5: адрес
A6: почасовых записей показаний электрических счетчиков
A7: в режимный день 18 декабря 2024 г.
A8: 370 | B8: 365
A9: часы суток | B9: Активная энергия | J9: Реактивная энергия
B10: яч. 16 - ф."ОЧИСТНЫЕ-1" | F10: яч. 24 - "ГОРОД-1" | J10: яч. 16 - ф."ОЧИСТНЫЕ-1" | N10: яч. 24 - "ГОРОД-1"
B11: Расчет. Коэф. | E11: 4800 | F11: Расчет. Коэф. | I11: 7200 | J11: Расчет. Коэф. | M11: =E11 -> 4800 | N11: Расчет. Коэф. | Q11: =I11 -> 7200
B12: показания счетчика | C12: разность | E12: расход эл.энергии за час | F12: показания счетчика | G12: разность | I12: расход эл.энергии за час | J12: показания счетчика | K12: разность | M12: расход эл.энергии за час | N12: показания счетчика | O12: разность | Q12: расход эл.энергии за час
A13: 1 | B13: 2 | C13: 3 | E13: 4 | F13: 5 | G13: 6 | I13: 7 | J13: 8 | K13: 9 | M13: 10 | N13: 11 | O13: 12 | Q13: 13
A14: 0 | E14: 318 | I14: 1262 | M14: 57 | Q14: 550
A15: 1 | E15: 224 | I15: 1255 | M15: 41 | Q15: 528
A16: 2 | E16: 224 | I16: 1169 | M16: 41 | Q16: 491
A17: 3 | E17: 224 | I17: 1112 | M17: 40 | Q17: 456
A18: 4 | E18: 225 | I18: 1180 | M18: 40 | Q18: 458
A19: 5 | E19: 297 | I19: 1171 | M19: 53 | Q19: 437
A20: 6 | E20: 526 | I20: 1159 | M20: 93 | Q20: 413
A21: 7 | E21: 482 | I21: 1226 | M21: 84 | Q21: 448
A22: 8 | E22: 434 | I22: 1270 | M22: 74 | Q22: 449
A23: 9 | E23: 401 | I23: 1249 | M23: 63 | Q23: 380
A24: 10 | E24: 365 | I24: 1289 | M24: 56 | Q24: 409
A25: 11 | E25: 361 | I25: 1266 | M25: 56 | Q25: 427
... A37: 23 | E37: 533 | I37: 1199 | M37: 96 | Q37: 494
A38: Итого | E38: =SUM(E14:E37) -> 8892 | I38: =SUM(I14:I37) -> 29316 | M38: =SUM(M14:M37) -> 1512 | Q38: =SUM(Q14:Q37) -> 10781
A39: 1. При наличии на предприятии отклонений от нормальных режимов электропотребления (временное изменение схем питания, остановка на ремонт, резкое снижение
A40: эл.потребления и т.д.) последние необходимо перечислить.
A41: Главный инженер АО "Вологдаоблэнерго" А.В. Чурляев
A42: составляется самим предприятием с соблюдением всех пунктов настоящей таблицы.

Sheet 7
B1: АО "Вологдаоблэнерго" | J1: код 900151 | N1: ПС "ЗАПАДНАЯ"
B2: наименование предприятия | N2: наименование источника питания
N3: _________________________________
B4: ул. Горького, 99 | I4: Таблица № 1 | O4: РП 7
B5: адрес
A6: почасовых записей показаний электрических счетчиков
A7: в режимный день 18 декабря 2024 г.
A8: 371 | B8: 367
A9: часы суток | B9: Активная энергия | J9: Реактивная энергия
B10: яч. 3 "П/Я-1" | F10: яч. 10 "П/Я-2" | J10: яч. 3 "П/Я-1" | N10: яч. 10 "П/Я-2"
B11: Расчет. Коэф. | E11: 12000 | F11: Расчет. Коэф. | I11: 7200 | J11: Расчет. Коэф. | M11: =E11 -> 12000 | N11: Расчет. Коэф. | Q11: =I11 -> 7200
B12: показания счетчика | C12: разность | E12: расход эл.энергии за час | F12: показания счетчика | G12: разность | I12: расход эл.энергии за час | J12: показания счетчика | K12: разность | M12: расход эл.энергии за час | N12: показания счетчика | O12: разность | Q12: расход эл.энергии за час
A13: 1 | B13: 2 | C13: 3 | E13: 4 | F13: 5 | G13: 6 | I13: 7 | J13: 8 | K13: 9 | M13: 10 | N13: 11 | O13: 12 | Q13: 13
A14: 0 | E14: 1737 | I14: 1641 | M14: 443 | Q14: 287
A15: 1 | E15: 1676 | I15: 1556 | M15: 402 | Q15: 291
A16: 2 | E16: 1659 | I16: 1529 | M16: 407 | Q16: 285
A17: 3 | E17: 1674 | I17: 1511 | M17: 408 | Q17: 289
A18: 4 | E18: 1718 | I18: 1511 | M18: 405 | Q18: 281
A19: 5 | E19: 1735 | I19: 1631 | M19: 402 | Q19: 275
A20: 6 | E20: 1817 | I20: 1894 | M20: 394 | Q20: 276
A21: 7 | E21: 1922 | I21: 2185 | M21: 419 | Q21: 296
A22: 8 | E22: 2243 | I22: 2329 | M22: 476 | Q22: 342
A23: 9 | E23: 2263 | I23: 2369 | M23: 493 | Q23: 334
A24: 10 | E24: 2226 | I24: 2492 | M24: 523 | Q24: 337
A25: 11 | E25: 2266 | I25: 2455 | M25: 520 | Q25: 350
... A37: 23 | E37: 2221 | I37: 1841 | M37: 572 | Q37: 296
A38: Итого | E38: =SUM(E14:E37) -> 53032 | I38: =SUM(I14:I37) -> 50923 | M38: =SUM(M14:M37) -> 12346 | Q38: =SUM(Q14:Q37) -> 7396
A39: 1. При наличии на предприятии отклонений от нормальных режимов электропотребления (временное изменение схем питания, остановка на ремонт, резкое снижение
A40: эл.потребления и т.д.) последние необходимо перечислить.
A41: Главный инженер АО "Вологдаоблэнерго" А.В. Чурляев
A42: составляется самим предприятием с соблюдением всех пунктов настоящей таблицы.

Sheet 8
B1: АО "Вологдаоблэнерго" | J1: код 900151 | N1: ПС "ЗАПАДНАЯ"
B2: наименование предприятия | I2: _ | N2: наименование источника питания
N3: _________________________________
B4: ул. Горького, 99 | I4: Таблица № 1 | O4: РП 35; РП 37
B5: адрес
A6: почасовых записей показаний электрических счетчиков
A7: в режимный день 18 декабря 2024 г.
A8: 129 | B8: 130
A9: часы суток | B9: Активная энергия | J9: Реактивная энергия
B10: яч. 15 "РП -35" | F10: яч. 35 "РП-37" | J10: яч. 15 "РП -35" | N10: яч. 35 "РП-37"
B11: Расчет. Коэф. | E11: 3600 | F11: Расчет. Коэф. | I11: 4800 | J11: Расчет. Коэф. | M11: =E11 -> 3600 | N11: Расчет. Коэф. | Q11: =I11 -> 4800
B12: показания счетчика | C12: разность | E12: расход эл.энергии за час | F12: показания счетчика | G12: разность | I12: расход эл.энергии за час | J12: показания счетчика | K12: разность | M12: расход эл.энергии за час | N12: показания счетчика | O12: разность | Q12: расход эл.энергии за час
A13: 1 | B13: 2 | C13: 3 | E13: 4 | F13: 5 | G13: 6 | I13: 7 | J13: 8 | K13: 9 | M13: 10 | N13: 11 | O13: 12 | Q13: 13
A14: 0 | E14: 293 | I14: 462 | M14: 121 | Q14: 191
A15: 1 | E15: 293 | I15: 535 | M15: 116 | Q15: 191
A16: 2 | E16: 293 | I16: 451 | M16: 114 | Q16: 179
A17: 3 | E17: 292 | I17: 413 | M17: 112 | Q17: 161
A18: 4 | E18: 293 | I18: 428 | M18: 112 | Q18: 162
A19: 5 | E19: 292 | I19: 517 | M19: 112 | Q19: 166
A20: 6 | E20: 294 | I20: 529 | M20: 111 | Q20: 169
A21: 7 | E21: 293 | I21: 589 | M21: 112 | Q21: 170
A22: 8 | E22: 295 | I22: 641 | M22: 108 | Q22: 222
A23: 9 | E23: 295 | I23: 759 | M23: 109 | Q23: 237
A24: 10 | E24: 294 | I24: 664 | M24: 109 | Q24: 218
A25: 11 | E25: 294 | I25: 635 | M25: 110 | Q25: 215
... A37: 23 | E37: 295 | I37: 459 | M37: 120 | Q37: 188
A38: Итого | E38: =SUM(E14:E37) -> 7050 | I38: =SUM(I14:I37) -> 13944 | M38: =SUM(M14:M37) -> 2726 | Q38: =SUM(Q14:Q37) -> 4803
A39: 1. При наличии на предприятии отклонений от нормальных режимов электропотребления (временное изменение схем питания, остановка на ремонт, резкое снижение
A40: эл.потребления и т.д.) последние необходимо перечислить.
A41: Главный инженер АО "Вологдаоблэнерго" А.В. Чурляев
A42: составляется самим предприятием с соблюдением всех пунктов настоящей таблицы.

Sheet 9
B1: АО "Вологдаоблэнерго" | J1: код 900151 | N1: ПС "ЗАПАДНАЯ"
B2: наименование предприятия | N2: наименование источника питания
N3: _________________________________
B4: ул. Горького, 99 | I4: Таблица № 1 | O4: РП 28
B5: адрес
A6: почасовых записей показаний электрических счетчиков
A7: в режимный день 18 декабря 2024 г.
A8: 366 | B8: 369
A9: часы суток | B9: Активная энергия | J9: Реактивная энергия
B10: яч. 17 "ГОРОД-2" | F10: яч. 22 - "ОЧИСТНЫЕ-2" | J10: ЯЧ. №17 - "ГОРОД-2" | N10: ЯЧ. №22 - "ОЧИСТНЫЕ-2"
B11: Расчет. Коэф. | E11: 7200 | F11: Расчет. Коэф. | I11: 7200 | J11: Расчет. Коэф. | M11: =E11 -> 7200 | N11: Расчет. Коэф. | Q11: =I11 -> 7200
B12: показания счетчика | C12: разность | E12: расход эл.энергии за час | F12: показания счетчика | G12: разность | I12: расход эл.энергии за час | J12: показания счетчика | K12: разность | M12: расход эл.энергии за час | N12: показания счетчика | O12: разность | Q12: расход эл.энергии за час
A13: 1 | B13: 2 | C13: 3 | E13: 4 | F13: 5 | G13: 6 | I13: 7 | J13: 8 | K13: 9 | M13: 10 | N13: 11 | O13: 12 | Q13: 13
A14: 0 | E14: 669 | I14: 854 | M14: 115 | Q14: 377
A15: 1 | E15: 651 | I15: 939 | M15: 107 | Q15: 435
A16: 2 | E16: 634 | I16: 846 | M16: 105 | Q16: 379
A17: 3 | E17: 620 | I17: 835 | M17: 105 | Q17: 366
A18: 4 | E18: 632 | I18: 827 | M18: 106 | Q18: 360
A19: 5 | E19: 688 | I19: 835 | M19: 109 | Q19: 355
A20: 6 | E20: 760 | I20: 983 | M20: 115 | Q20: 352
A21: 7 | E21: 843 | I21: 1124 | M21: 130 | Q21: 344
A22: 8 | E22: 977 | I22: 1324 | M22: 180 | Q22: 424
A23: 9 | E23: 1053 | I23: 1495 | M23: 216 | Q23: 508
A24: 10 | E24: 1078 | I24: 1390 | M24: 210 | Q24: 459
A25: 11 | E25: 1029 | I25: 1376 | M25: 192 | Q25: 463
... A37: 23 | E37: 737 | I37: 856 | M37: 121 | Q37: 381
A38: Итого | E38: =SUM(E14:E37) -> 20940 | I38: =SUM(I14:I37) -> 27401 | M38: =SUM(M14:M37) -> 3535 | Q38: =SUM(Q14:Q37) -> 9988
A39: 1. При наличии на предприятии отклонений от нормальных режимов электропотребления (временное изменение схем питания, остановка на ремонт, резкое снижение
A40: эл.потребления и т.д.) последние необходимо перечислить.
A41: Главный инженер АО "Вологдаоблэнерго" А.В. Чурляев
A42: составляется самим предприятием с соблюдением всех пунктов настоящей таблицы.

Sheet 10
B1: АО "Вологдаоблэнерго" | J1: код 900151 | N1: ПС "СЕВЕРНАЯ 35/6 кВ
B2: наименование предприятия | N2: наименование источника питания
N3: _________________________________
B4: ул. Горького, 99 | I4: Таблица № 1 | N4: Т1, Т2 | O4: РП 5
B5: адрес
A6: почасовых записей показаний электрических счетчиков
A7: в режимный день 18 декабря 2024 г.
A8: 325 | B8: 328
A9: часы суток | B9: Активная энергия | J9: Реактивная энергия
B10: Т 1 -РП 5 Ф 3 ввод № 1 | F10: Т 2 - РП 5 Ф 17 ввод № 2 | J10: Т 1 -РП 5 Ф 3 ввод № 1 | N10: Т 2 - РП 5 Ф 17 ввод № 2
B11: Расчет. Коэф. | E11: 18000 | F11: Расчет. Коэф. | I11: 18000 | J11: Расчет. Коэф. | M11: =E11 -> 18000 | N11: Расчет. Коэф. | Q11: =I11 -> 18000
B12: показания счетчика | C12: разность | E12: расход эл.энергии за час | F12: показания счетчика | G12: разность | I12: расход эл.энергии за час | J12: показания счетчика | K12: разность | M12: расход эл.энергии за час | N12: показания счетчика | O12: разность | Q12: расход эл.энергии за час
A13: 1 | B13: 2 | C13: 3 | E13: 4 | F13: 5 | G13: 6 | I13: 7 | J13: 8 | K13: 9 | M13: 10 | N13: 11 | O13: 12 | Q13: 13
A14: 0 | E14: 1.08 | I14: 7.632 | M14: 10.2 | Q14: 3.924
A15: 1 | E15: 0.96 | I15: 7.308 | M15: 9.6 | Q15: 3.744
A16: 2 | E16: 0.84 | I16: 7.164 | M16: 9.6 | Q16: 3.708
A17: 3 | E17: 0.96 | I17: 7.2 | M17: 9.6 | Q17: 3.708
A18: 4 | E18: 1.08 | I18: 7.272 | M18: 9.6 | Q18: 3.744
A19: 5 | E19: 0.96 | I19: 7.344 | M19: 9.84 | Q19: 3.78
A20: 6 | E20: 0.96 | I20: 7.524 | M20: 10.08 | Q20: 3.888
A21: 7 | E21: 0.96 | I21: 7.524 | M21: 9.96 | Q21: 3.852
A22: 8 | E22: 0.96 | I22: 7.056 | M22: 9.6 | Q22: 3.6
A23: 9 | E23: 0.96 | I23: 6.948 | M23: 9.24 | Q23: 3.528
A24: 10 | E24: 0.96 | I24: 7.092 | M24: 9.6 | Q24: 3.636
A25: 11 | E25: 0.96 | I25: 7.128 | M25: 9.72 | Q25: 3.636
... A37: 23 | E37: 0.96 | I37: 7.452 | M37: 9.84 | Q37: 3.852
A38: Итого | E38: =SUM(E14:E37) -> 23.28 | I38: =SUM(I14:I37) -> 177.192 | M38: =SUM(M14:M37) -> 237.12 | Q38: =SUM(Q14:Q37) -> 91.152
A39: 1. При наличии на предприятии отклонений от нормальных режимов электропотребления (временное изменение схем питания, остановка на ремонт, резкое снижение
A40: эл.потребления и т.д.) последние необходимо перечислить.
A41: Главный инженер АО "Вологдаоблэнерго" А.В. Чурляев
A42: составляется самим предприятием с соблюдением всех пунктов настоящей таблицы.

Sheet 11
B1: АО "Вологдаоблэнерго" | G1: код 900151 | I1: ПС "ВОЛОГДА-ЮЖНАЯ" 110/6 транзит через РТП "ТЕПЛИЧНОГО ХОЗ - ВА"
B2: наименование предприятия | N2: наименование источника питания
N3: _________________________________
B4: ул. Горького, 99 | I4: Таблица № 1 | O4: ТП 438
B5: адрес
A6: почасовых записей показаний электрических счетчиков
A7: в режимный день 18 декабря 2024 г.
A8: 635 | B8: 634
A9: часы суток | B9: Активная энергия | J9: Реактивная энергия
B10: ЯЧ. 3 - ф. "Микрорайон-1" ввод № 1 | F10: яч. 13 - ф. "Микрорайон-2" ввод № 2 | J10: ЯЧ. 3 - ф. "Микрорайон-1" ввод № 1 | N10: яч. 13 - ф. "Микрорайон-2" ввод № 2
B11: Расчет. Коэф. | E11: 3600 | F11: Расчет. Коэф. | I11: 3600 | J11: Расчет. Коэф. | M11: =E11 -> 3600 | N11: Расчет. Коэф. | Q11: =I11 -> 3600
B12: показания счетчика | C12: разность | E12: расход эл.энергии за час | F12: показания счетчика | G12: разность | I12: расход эл.энергии за час | J12: показания счетчика | K12: разность | M12: расход эл.энергии за час | N12: показания счетчика | O12: разность | Q12: расход эл.энергии за час
A13: 1 | B13: 2 | C13: 3 | E13: 4 | F13: 5 | G13: 6 | I13: 7 | J13: 8 | K13: 9 | M13: 10 | N13: 11 | O13: 12 | Q13: 13
A14: 0 | E14: 127.44 | I14: 154.44 | M14: 35.64 | Q14: 47.16
A15: 1 | E15: 119.52 | I15: 140.4 | M15: 35.28 | Q15: 45.36
A16: 2 | E16: 110.88 | I16: 132.84 | M16: 34.2 | Q16: 45
A17: 3 | E17: 108 | I17: 130.68 | M17: 32.76 | Q17: 43.56
A18: 4 | E18: 115.56 | I18: 129.96 | M18: 36.72 | Q18: 41.76
A19: 5 | E19: 125.64 | I19: 173.88 | M19: 34.2 | Q19: 43.92
A20: 6 | E20: 167.76 | I20: 200.16 | M20: 36.36 | Q20: 48.24
A21: 7 | E21: 196.92 | I21: 215.28 | M21: 35.28 | Q21: 48.24
A22: 8 | E22: 230.4 | I22: 225.72 | M22: 37.8 | Q22: 47.88
A23: 9 | E23: 219.6 | I23: 226.44 | M23: 40.68 | Q23: 47.16
A24: 10 | E24: 219.6 | I24: 239.4 | M24: 39.24 | Q24: 48.24
A25: 11 | E25: 223.2 | I25: 236.52 | M25: 38.52 | Q25: 48.6
... A37: 23 | E37: 142.56 | I37: 187.2 | M37: 39.96 | Q37: 49.68
A38: Итого | E38: =SUM(E14:E37) -> 4550.4 | I38: =SUM(I14:I37) -> 5225.76 | M38: =SUM(M14:M37) -> 976.32 | Q38: =SUM(Q14:Q37) -> 1159.92
A39: 1. При наличии на предприятии отклонений от нормальных режимов электропотребления (временное изменение схем питания, остановка на ремонт, резкое снижение
A40: эл.потребления и т.д.) последние необходимо перечислить.
A41: Главный инженер АО "Вологдаоблэнерго" А.В. Чурляев
A42: составляется самим предприятием с соблюдением всех пунктов настоящей таблицы.

Sheet 12
B1: АО "Вологдаоблэнерго" | J1: код 900151 | N1: ГПП 110/10 кВ "ВОМЗ"
B2: наименование предприятия | N2: наименование источника питания
N3: _________________________________
B4: ул. Горького, 99 | I4: Таблица № 1 | O4: РП 29
B5: адрес
A6: почасовых записей показаний электрических счетчиков
A7: в режимный день 18 декабря 2024 г.
A8: 613 | B8: 610
A9: часы суток | B9: Активная энергия | J9: Реактивная энергия
B10: ЯЧ.47 - РП 29 ввод № 1 | F10: ЯЧ.31 - РП 29 ввод № 2 | J10: ЯЧ.47 - РП 29 ввод № 1 | N10: ЯЧ.31 - РП 29 ввод № 2
B11: Расчет. Коэф. | E11: 12000 | F11: Расчет. Коэф. | I11: 20000 | J11: Расчет. Коэф. | M11: =E11 -> 12000 | N11: Расчет. Коэф. | Q11: =I11 -> 20000
B12: показания счетчика | C12: разность | E12: расход эл.энергии за час | F12: показания счетчика | G12: разность | I12: расход эл.энергии за час | J12: показания счетчика | K12: разность | M12: расход эл.энергии за час | N12: показания счетчика | O12: разность | Q12: расход эл.энергии за час
A13: 1 | B13: 2 | C13: 3 | E13: 4 | F13: 5 | G13: 6 | I13: 7 | J13: 8 | K13: 9 | M13: 10 | N13: 11 | O13: 12 | Q13: 13
A14: 0 | E14: 1020 | I14: 818 | M14: 270 | Q14: 100
A15: 1 | E15: 916 | I15: 758 | M15: 273 | Q15: 102
A16: 2 | E16: 857 | I16: 730 | M16: 263 | Q16: 98
A17: 3 | E17: 843 | I17: 718 | M17: 259 | Q17: 96
A18: 4 | E18: 860 | I18: 762 | M18: 249 | Q18: 94
A19: 5 | E19: 992 | I19: 818 | M19: 255 | Q19: 94
A20: 6 | E20: 1254 | I20: 1044 | M20: 259 | Q20: 96
A21: 7 | E21: 1586 | I21: 1324 | M21: 281 | Q21: 114
A22: 8 | E22: 1788 | I22: 1662 | M22: 282 | Q22: 114
A23: 9 | E23: 2034 | I23: 1734 | M23: 282 | Q23: 102
A24: 10 | E24: 2138 | I24: 1800 | M24: 276 | Q24: 100
A25: 11 | E25: 2170 | I25: 1720 | M25: 279 | Q25: 86
... A37: 23 | E37: 1173 | I37: 898 | M37: 273 | Q37: 98
A38: Итого | E38: =SUM(E14:E37) -> 39297 | I38: =SUM(I14:I37) -> 31766 | M38: =SUM(M14:M37) -> 6698 | Q38: =SUM(Q14:Q37) -> 2460
A39: 1. При наличии на предприятии отклонений от нормальных режимов электропотребления (временное изменение схем питания, остановка на ремонт, резкое снижение
A40: эл.потребления и т.д.) последние необходимо перечислить.
A41: Главный инженер АО "Вологдаоблэнерго" А.В. Чурляев
A42: составляется самим предприятием с соблюдением всех пунктов настоящей таблицы.

Sheet 13
B1: АО "Вологдаоблэнерго" | J1: код 900151 | N1: ГПП 110/10 кВ "ВОМЗ"
B2: наименование предприятия | N2: наименование источника питания
N3: _________________________________
B4: ул. Горького, 99 | I4: Таблица № 1 | O4: РП 14
B5: адрес
A6: почасовых записей показаний электрических счетчиков
A7: в режимный день 18 декабря 2024 г.
A8: 614 | B8: 615
A9: часы суток | B9: Активная энергия | J9: Реактивная энергия
B10: ЯЧ.5 - РП 14 ввод № 1 | F10: ЯЧ.22 - РП 14 ввод № 2 | J10: ЯЧ.5 - РП 14 ввод № 1 | N10: ЯЧ.22 - РП 14 ввод № 2
B11: Расчет. Коэф. | E11: 12000 | F11: Расчет. Коэф. | I11: 12000 | J11: Расчет. Коэф. | M11: =E11 -> 12000 | N11: Расчет. Коэф. | Q11: =I11 -> 12000
B12: показания счетчика | C12: разность | E12: расход эл.энергии за час | F12: показания счетчика | G12: разность | I12: расход эл.энергии за час | J12: показания счетчика | K12: разность | M12: расход эл.энергии за час | N12: показания счетчика | O12: разность | Q12: расход эл.энергии за час
A13: 1 | B13: 2 | C13: 3 | E13: 4 | F13: 5 | G13: 6 | I13: 7 | J13: 8 | K13: 9 | M13: 10 | N13: 11 | O13: 12 | Q13: 13
A14: 0 | E14: 1637 | I14: 2540 | M14: 3 | Q14: 49
A15: 1 | E15: 1501 | I15: 2390 | M15: 2 | Q15: 40
A16: 2 | E16: 1417 | I16: 2304 | M16: 1 | Q16: 36
A17: 3 | E17: 1415 | I17: 2308 | M17: 1 | Q17: 19
A18: 4 | E18: 1449 | I18: 2334 | M18: 0 | Q18: 30
A19: 5 | E19: 1540 | I19: 2584 | M19: 0 | Q19: 37
A20: 6 | E20: 1878 | I20: 3219 | M20: 0 | Q20: 46
A21: 7 | E21: 2151 | I21: 3801 | M21: 8 | Q21: 60
A22: 8 | E22: 2406 | I22: 4311 | M22: 10 | Q22: 141
A23: 9 | E23: 2660 | I23: 4590 | M23: 10 | Q23: 185
A24: 10 | E24: 2835 | I24: 4739 | M24: 24 | Q24: 88
A25: 11 | E25: 2854 | I25: 4757 | M25: 32 | Q25: 138
... A37: 23 | E37: 1918 | I37: 2871 | M37: 1 | Q37: 16
A38: Итого | E38: =SUM(E14:E37) -> 56860 | I38: =SUM(I14:I37) -> 91276 | M38: =SUM(M14:M37) -> 288 | Q38: =SUM(Q14:Q37) -> 1916
A39: 1. При наличии на предприятии отклонений от нормальных режимов электропотребления (временное изменение схем питания, остановка на ремонт, резкое снижение
A40: эл.потребления и т.д.) последние необходимо перечислить.
A41: Главный инженер АО "Вологдаоблэнерго" А.В. Чурляев
A42: составляется самим предприятием с соблюдением всех пунктов настоящей таблицы.

Sheet 14
B1: АО "Вологдаоблэнерго" | J1: код 900151 | N1: ГПП 110/10 кВ "ВОМЗ"
B2: наименование предприятия | N2: наименование источника питания
N3: _________________________________
B4: ул. Горького, 99 | I4: Таблица № 1 | O4: РП 2
B5: адрес
A6: почасовых записей показаний электрических счетчиков
A7: в режимный день 18 декабря 2024 г.
A8: 612 | B8: 611
A9: часы суток | B9: Активная энергия | J9: Реактивная энергия
B10: ЯЧ.44 - РП 2 ввод № 1 | F10: ЯЧ.26в - РП 2 ввод № 2 | J10: ЯЧ.44 - РП 2 ввод № 1 | N10: ЯЧ.26в - РП 2 ввод № 2
B11: Расчет. Коэф. | E11: 12000 | F11: Расчет. Коэф. | I11: 12000 | J11: Расчет. Коэф. | M11: =E11 -> 12000 | N11: Расчет. Коэф. | Q11: =I11 -> 12000
B12: показания счетчика | C12: разность | E12: расход эл.энергии за час | F12: показания счетчика | G12: разность | I12: расход эл.энергии за час | J12: показания счетчика | K12: разность | M12: расход эл.энергии за час | N12: показания счетчика | O12: разность | Q12: расход эл.энергии за час
A13: 1 | B13: 2 | C13: 3 | E13: 4 | F13: 5 | G13: 6 | I13: 7 | J13: 8 | K13: 9 | M13: 10 | N13: 11 | O13: 12 | Q13: 13
A14: 0 | E14: 630 | I14: 492 | M14: 19 | Q14: 7
A15: 1 | E15: 586 | I15: 460 | M15: 11 | Q15: 5
A16: 2 | E16: 564 | I16: 443 | M16: 18 | Q16: 6
A17: 3 | E17: 543 | I17: 449 | M17: 10 | Q17: 3
A18: 4 | E18: 539 | I18: 472 | M18: 8 | Q18: 4
A19: 5 | E19: 584 | I19: 497 | M19: 5 | Q19: 5
A20: 6 | E20: 719 | I20: 603 | M20: 7 | Q20: 10
A21: 7 | E21: 799 | I21: 682 | M21: 19 | Q21: 17
A22: 8 | E22: 886 | I22: 815 | M22: 47 | Q22: 9
A23: 9 | E23: 960 | I23: 939 | M23: 65 | Q23: 13
A24: 10 | E24: 986 | I24: 980 | M24: 53 | Q24: 6
A25: 11 | E25: 990 | I25: 960 | M25: 51 | Q25: 3
... A37: 23 | E37: 678 | I37: 559 | M37: 3 | Q37: 1
A38: Итого | E38: =SUM(E14:E37) -> 20279 | I38: =SUM(I14:I37) -> 17628 | M38: =SUM(M14:M37) -> 682 | Q38: =SUM(Q14:Q37) -> 173
A39: 1. При наличии на предприятии отклонений от нормальных режимов электропотребления (временное изменение схем питания, остановка на ремонт, резкое снижение
A40: эл.потребления и т.д.) последние необходимо перечислить.
A41: Главный инженер АО "Вологдаоблэнерго" А.В. Чурляев
A42: составляется самим предприятием с соблюдением всех пунктов настоящей таблицы.

Sheet 15
B1: АО "Вологдаоблэнерго" | J1: код 900151 | N1: ПС ВОЛОГДА-ЮЖНАЯ РУ - 6 кВ
B2: наименование предприятия | N2: наименование источника питания
N3: _________________________________
B4: ул. Горького, 99 | I4: Таблица № 1 | N4: ТП 450 | Q4: ТП 630
B5: адрес
A6: почасовых записей показаний электрических счетчиков
A7: в режимный день 18 декабря 2024 г.
A8: 591 | B8: 595
A9: часы суток | B9: Активная энергия | J9: Реактивная энергия
B10: ЯЧ.№ 206 - "ГОРОД-15" | F10: ЯЧ.№103 - "ТУБДИСПАНСЕР" | J10: =B10 -> ЯЧ.№ 206 - "ГОРОД-15" | N10: =F10 -> ЯЧ.№103 - "ТУБДИСПАНСЕР"
B11: Расчет. Коэф. | E11: 4800 | F11: Расчет. Коэф. | I11: 2400 | J11: Расчет. Коэф. | M11: =E11 -> 4800 | N11: Расчет. Коэф. | Q11: =I11 -> 2400
B12: показания счетчика | C12: разность | E12: расход эл.энергии за час | F12: показания счетчика | G12: разность | I12: расход эл.энергии за час | J12: показания счетчика | K12: разность | M12: расход эл.энергии за час | N12: показания счетчика | O12: разность | Q12: расход эл.энергии за час
A13: 1 | B13: 2 | C13: 3 | E13: 4 | F13: 5 | G13: 6 | I13: 7 | J13: 8 | K13: 9 | M13: 10 | N13: 11 | O13: 12 | Q13: 13
A14: 0 | E14: 408 | I14: 283 | M14: 77 | Q14: 32
A15: 1 | E15: 415 | I15: 274 | M15: 78 | Q15: 33
A16: 2 | E16: 401 | I16: 269 | M16: 76 | Q16: 34
A17: 3 | E17: 302 | I17: 260 | M17: 50 | Q17: 33
A18: 4 | E18: 314 | I18: 258 | M18: 51 | Q18: 26
A19: 5 | E19: 352 | I19: 266 | M19: 57 | Q19: 29
A20: 6 | E20: 406 | I20: 314 | M20: 63 | Q20: 37
A21: 7 | E21: 512 | I21: 363 | M21: 128 | Q21: 54
A22: 8 | E22: 653 | I22: 411 | M22: 196 | Q22: 49
A23: 9 | E23: 735 | I23: 422 | M23: 262 | Q23: 55
A24: 10 | E24: 703 | I24: 441 | M24: 264 | Q24: 66
A25: 11 | E25: 691 | I25: 436 | M25: 266 | Q25: 61
... A37: 23 | E37: 445 | I37: 336 | M37: 87 | Q37: 41
A38: Итого | E38: =SUM(E14:E37) -> 12486 | I38: =SUM(I14:I37) -> 9197 | M38: =SUM(M14:M37) -> 3342 | Q38: =SUM(Q14:Q37) -> 1087
A39: 1. При наличии на предприятии отклонений от нормальных режимов электропотребления (временное изменение схем питания, остановка на ремонт, резкое снижение
A40: эл.потребления и т.д.) последние необходимо перечислить.
A41: Главный инженер АО "Вологдаоблэнерго" А.В. Чурляев
A42: составляется самим предприятием с соблюдением всех пунктов настоящей таблицы.

Sheet 16
B1: АО "Вологдаоблэнерго" | J1: код 900151 | N1: ПС ВОЛОГДА-ЮЖНАЯ РУ-10 кВ
B2: наименование предприятия | I2: _ | N2: наименование источника питания
N3: _________________________________
B4: ул. Горького, 99 | I4: Таблица № 1 | O4: РП 32
B5: адрес
A6: почасовых записей показаний электрических счетчиков
A7: в режимный день 18 декабря 2024 г.
A8: 590 | B8: 593
A9: часы суток | B9: Активная энергия | J9: Реактивная энергия
B10: ЯЧ.№206 - "ГОРОД-10" | F10: ЯЧ.№404- "ГОРОД-14" | J10: =B10 -> ЯЧ.№206 - "ГОРОД-10" | N10: =F10 -> ЯЧ.№404- "ГОРОД-14"
B11: Расчет. Коэф. | E11: 6000 | F11: Расчет. Коэф. | I11: 3000 | J11: Расчет. Коэф. | M11: =E11 -> 6000 | N11: Расчет. Коэф. | Q11: =I11 -> 3000
B12: показания счетчика | C12: разность | E12: расход эл.энергии за час | F12: показания счетчика | G12: разность | I12: расход эл.энергии за час | J12: показания счетчика | K12: разность | M12: расход эл.энергии за час | N12: показания счетчика | O12: разность | Q12: расход эл.энергии за час
A13: 1 | B13: 2 | C13: 3 | E13: 4 | F13: 5 | G13: 6 | I13: 7 | J13: 8 | K13: 9 | M13: 10 | N13: 11 | O13: 12 | Q13: 13
A14: 0 | E14: 851 | I14: 815 | M14: 31 | Q14: 90
A15: 1 | E15: 836 | I15: 783 | M15: 40 | Q15: 83
A16: 2 | E16: 812 | I16: 786 | M16: 30 | Q16: 82
A17: 3 | E17: 853 | I17: 750 | M17: 34 | Q17: 60
A18: 4 | E18: 937 | I18: 765 | M18: 30 | Q18: 64
A19: 5 | E19: 960 | I19: 807 | M19: 30 | Q19: 65
A20: 6 | E20: 1121 | I20: 901 | M20: 33 | Q20: 46
A21: 7 | E21: 1434 | I21: 1096 | M21: 36 | Q21: 50
A22: 8 | E22: 1588 | I22: 1347 | M22: 17 | Q22: 116
A23: 9 | E23: 1650 | I23: 1377 | M23: 19 | Q23: 128
A24: 10 | E24: 1723 | I24: 1386 | M24: 24 | Q24: 152
A25: 11 | E25: 1694 | I25: 1371 | M25: 24 | Q25: 131
... A37: 23 | E37: 902 | I37: 894 | M37: 34 | Q37: 90
A38: Итого | E38: =SUM(E14:E37) -> 29739 | I38: =SUM(I14:I37) -> 26078 | M38: =SUM(M14:M37) -> 551 | Q38: =SUM(Q14:Q37) -> 2115
A39: 1. При наличии на предприятии отклонений от нормальных режимов электропотребления (временное изменение схем питания, остановка на ремонт, резкое снижение
A40: эл.потребления и т.д.) последние необходимо перечислить.
A41: Главный инженер АО "Вологдаоблэнерго" А.В. Чурляев
A42: составляется самим предприятием с соблюдением всех пунктов настоящей таблицы.

Sheet 17
B1: АО "Вологдаоблэнерго" | J1: код 900151 | N1: ПС ВОЛОГДА-ЮЖНАЯ РУ-10 кВ
B2: наименование предприятия | N2: наименование источника питания
N3: РП-44
B4: ул. Горького, 99 | I4: Таблица № 1
B5: адрес
A6: почасовых записей показаний электрических счетчиков
A7: в режимный день 18 декабря 2024 г.
A9: часы суток | B9: Активная энергия | J9: Реактивная энергия
B10: яч. 307 ф "Охмыльцево-1" | F10: яч. 409 ф "Охмыльцево-2" | J10: яч. 307 ф "Охмыльцево-1" | N10: яч. 409 ф "Охмыльцево-2"
B11: Расчет. Коэф. | F11: Расчет. Коэф. | J11: Расчет. Коэф. | N11: Расчет. Коэф.
B12: показания счетчика | C12: разность | E12: расход эл.энергии за час | F12: показания счетчика | G12: разность | I12: расход эл.энергии за час | J12: показания счетчика | K12: разность | M12: расход эл.энергии за час | N12: показания счетчика | O12: разность | Q12: расход эл.энергии за час
A13: 1 | B13: 2 | C13: 3 | E13: 4 | F13: 5 | G13: 6 | I13: 7 | J13: 8 | K13: 9 | M13: 10 | N13: 11 | O13: 12 | Q13: 13
A14: 0 | E14: 698 | I14: 812 | M14: 43 | Q14: 20
A15: 1 | E15: 635 | I15: 710 | M15: 36 | Q15: 18
A16: 2 | E16: 604 | I16: 661 | M16: 40 | Q16: 21
A17: 3 | E17: 606 | I17: 633 | M17: 43 | Q17: 26
A18: 4 | E18: 598 | I18: 650 | M18: 49 | Q18: 31
A19: 5 | E19: 682 | I19: 780 | M19: 54 | Q19: 39
A20: 6 | E20: 876 | I20: 1046 | M20: 67 | Q20: 39
A21: 7 | E21: 1016 | I21: 1160 | M21: 81 | Q21: 26
A22: 8 | E22: 1026 | I22: 1181 | M22: 91 | Q22: 46
A23: 9 | E23: 1011 | I23: 1268 | M23: 94 | Q23: 43
A24: 10 | E24: 1020 | I24: 1334 | M24: 89 | Q24: 45
A25: 11 | E25: 1026 | I25: 1359 | M25: 87 | Q25: 34
... A37: 23 | E37: 835 | I37: 988 | M37: 48 | Q37: 23
A38: Итого | E38: =SUM(E14:E37) -> 23384 | I38: =SUM(I14:I37) -> 29216 | M38: =SUM(M14:M37) -> 1693 | Q38: =SUM(Q14:Q37) -> 779
A39: 1. При наличии на предприятии отклонений от нормальных режимов электропотребления (временное изменение схем питания, остановка на ремонт, резкое снижение
A40: эл.потребления и т.д.) последние необходимо перечислить.
A41: Главный инженер АО "Вологдаоблэнерго" А.В. Чурляев
A42: составляется самим предприятием с соблюдением всех пунктов настоящей таблицы.

Sheet 18
B1: АО "Вологдаоблэнерго" | J1: код 900151 | N1: ПС ВОЛОГДА-ЮЖНАЯ РУ-10 кВ
B2: наименование предприятия | N2: наименование источника питания
N3: _________________________________
B4: ул. Горького, 99 | I4: Таблица № 1 | O4: РП 26
B5: адрес
A6: почасовых записей показаний электрических счетчиков
A7: в режимный день 18 декабря 2024 г.
A8: 589 | B8: 592
A9: часы суток | B9: Активная энергия | J9: Реактивная энергия
B10: ЯЧ. № 107- ф."ГОРОД 7" | F10: ЯЧ. № 204 - ф."ГОРОД 17" | J10: ЯЧ. № 107- ф."ГОРОД 7" | N10: ЯЧ. № 204 - ф."ГОРОД 17"
B11: Расчет. Коэф. | E11: 8000 | F11: Расчет. Коэф. | I11: 8000 | J11: Расчет. Коэф. | M11: =E11 -> 8000 | N11: Расчет. Коэф. | Q11: =I11 -> 8000
B12: показания счетчика | C12: разность | E12: расход эл.энергии за час | F12: показания счетчика | G12: разность | I12: расход эл.энергии за час | J12: показания счетчика | K12: разность | M12: расход эл.энергии за час | N12: показания счетчика | O12: разность | Q12: расход эл.энергии за час
A13: 1 | B13: 2 | C13: 3 | E13: 4 | F13: 5 | G13: 6 | I13: 7 | J13: 8 | K13: 9 | M13: 10 | N13: 11 | O13: 12 | Q13: 13
A14: 0 | E14: 1406 | I14: 1525 | M14: 148 | Q14: 107
A15: 1 | E15: 1267 | I15: 1417 | M15: 144 | Q15: 99
A16: 2 | E16: 1209 | I16: 1361 | M16: 138 | Q16: 101
A17: 3 | E17: 1181 | I17: 1331 | M17: 127 | Q17: 91
A18: 4 | E18: 1209 | I18: 1371 | M18: 117 | Q18: 92
A19: 5 | E19: 1387 | I19: 1519 | M19: 127 | Q19: 97
A20: 6 | E20: 1766 | I20: 2004 | M20: 149 | Q20: 114
A21: 7 | E21: 2006 | I21: 2339 | M21: 242 | Q21: 177
A22: 8 | E22: 2047 | I22: 2567 | M22: 189 | Q22: 175
A23: 9 | E23: 2074 | I23: 2523 | M23: 168 | Q23: 146
A24: 10 | E24: 2114 | I24: 2544 | M24: 167 | Q24: 141
A25: 11 | E25: 2091 | I25: 2523 | M25: 170 | Q25: 126
... A37: 23 | E37: 1689 | I37: 1776 | M37: 152 | Q37: 106
A38: Итого | E38: =SUM(E14:E37) -> 46735 | I38: =SUM(I14:I37) -> 52615 | M38: =SUM(M14:M37) -> 4269 | Q38: =SUM(Q14:Q37) -> 3238
A39: 1. При наличии на предприятии отклонений от нормальных режимов электропотребления (временное изменение схем питания, остановка на ремонт, резкое снижение
A40: эл.потребления и т.д.) последние необходимо перечислить.
A41: Главный инженер АО "Вологдаоблэнерго" А.В. Чурляев
A42: составляется самим предприятием с соблюдением всех пунктов настоящей таблицы.

Sheet 19
B1: АО "Вологдаоблэнерго" | J1: код 900151 | N1: ПС ВОЛОГДА-ЮЖНАЯ РУ - 10 кВ
B2: наименование предприятия | N2: наименование источника питания
N3: _________________________________
B4: ул. Горького, 99 | I4: Таблица № 1 | O4: РП 43
B5: адрес
A6: почасовых записей показаний электрических счетчиков
A7: в режимный день 18 декабря 2024 г.
A8: 597 | B8: 596
A9: часы суток | B9: Активная энергия | J9: Реактивная энергия
B10: ЯЧ.№ 407 - "ГОРОД-3" | F10: ЯЧ.№ 305 - "ГОРОД-5" | J10: ЯЧ.№ 407- "ГОРОД-3" | N10: ЯЧ.№ 305- "ГОРОД-5"
B11: Расчет. Коэф. | E11: 6000 | F11: Расчет. Коэф. | I11: 4000 | J11: Расчет. Коэф. | M11: =E11 -> 6000 | N11: Расчет. Коэф. | Q11: =I11 -> 4000
B12: показания счетчика | C12: разность | E12: расход эл.энергии за час | F12: показания счетчика | G12: разность | I12: расход эл.энергии за час | J12: показания счетчика | K12: разность | M12: расход эл.энергии за час | N12: показания счетчика | O12: разность | Q12: расход эл.энергии за час
A13: 1 | B13: 2 | C13: 3 | E13: 4 | F13: 5 | G13: 6 | I13: 7 | J13: 8 | K13: 9 | M13: 10 | N13: 11 | O13: 12 | Q13: 13
A14: 0 | E14: 2162 | I14: 2219 | M14: 233 | Q14: 298
A15: 1 | E15: 2044 | I15: 2064 | M15: 232 | Q15: 293
A16: 2 | E16: 2000 | I16: 1919 | M16: 231 | Q16: 288
A17: 3 | E17: 1992 | I17: 1858 | M17: 217 | Q17: 270
A18: 4 | E18: 2048 | I18: 1916 | M18: 215 | Q18: 273
A19: 5 | E19: 2214 | I19: 2194 | M19: 222 | Q19: 277
A20: 6 | E20: 2619 | I20: 2712 | M20: 226 | Q20: 298
A21: 7 | E21: 2946 | I21: 3289 | M21: 244 | Q21: 370
A22: 8 | E22: 3302 | I22: 3647 | M22: 338 | Q22: 351
A23: 9 | E23: 3408 | I23: 3931 | M23: 282 | Q23: 316
A24: 10 | E24: 3444 | I24: 4136 | M24: 296 | Q24: 316
A25: 11 | E25: 3478 | I25: 4137 | M25: 288 | Q25: 317
... A37: 23 | E37: 2558 | I37: 2620 | M37: 234 | Q37: 306
A38: Итого | E38: =SUM(E14:E37) -> 73055 | I38: =SUM(I14:I37) -> 81329 | M38: =SUM(M14:M37) -> 6549 | Q38: =SUM(Q14:Q37) -> 7870
A39: 1. При наличии на предприятии отклонений от нормальных режимов электропотребления (временное изменение схем питания, остановка на ремонт, резкое снижение
A40: эл.потребления и т.д.) последние необходимо перечислить.
A41: Главный инженер АО "Вологдаоблэнерго" А.В. Чурляев
A42: составляется самим предприятием с соблюдением всех пунктов настоящей таблицы.

Sheet 20
B1: АО "Вологдаоблэнерго" | J1: код 900151 | N1: ПС ВОЛОГДА-ЮЖНАЯ РУ-10 кВ
B2: наименование предприятия | N2: наименование источника питания
N3: _________________________________
B4: ул. Горького, 99 | I4: Таблица № 1 | O4: РП 27
B5: адрес
A6: почасовых записей показаний электрических счетчиков
A7: в режимный день 18 декабря 2024 г.
A8: 30 | B8: 49
A9: часы суток | B9: Активная энергия | J9: Реактивная энергия
B10: ЯЧ. № 408 - "ГОРОД -1" | F10: ЯЧ.№ 105 - "РП 27" | J10: ЯЧ. № 408 - "ГОРОД -1" | N10: ЯЧ.№ 105 - "РП 27"
B11: Расчет. Коэф. | E11: 12000 | F11: Расчет. Коэф. | I11: 12000 | J11: Расчет. Коэф. | M11: =E11 -> 12000 | N11: Расчет. Коэф. | Q11: =I11 -> 12000
B12: показания счетчика | C12: разность | E12: расход эл.энергии за час | F12: показания счетчика | G12: разность | I12: расход эл.энергии за час | J12: показания счетчика | K12: разность | M12: расход эл.энергии за час | N12: показания счетчика | O12: разность | Q12: расход эл.энергии за час
A13: 1 | B13: 2 | C13: 3 | E13: 4 | F13: 5 | G13: 6 | I13: 7 | J13: 8 | K13: 9 | M13: 10 | N13: 11 | O13: 12 | Q13: 13
A14: 0 | E14: 0 | I14: 0 | M14: 0 | Q14: 0
A15: 1 | E15: 0 | I15: 0 | M15: 0 | Q15: 0
A16: 2 | E16: 0 | I16: 0 | M16: 0 | Q16: 0
A17: 3 | E17: 0 | I17: 0 | M17: 0 | Q17: 0
A18: 4 | E18: 0 | I18: 0 | M18: 0 | Q18: 0
A19: 5 | E19: 0 | I19: 0 | M19: 0 | Q19: 0
A20: 6 | E20: 0 | I20: 0 | M20: 0 | Q20: 0
A21: 7 | E21: 0 | I21: 0 | M21: 0 | Q21: 0
A22: 8 | E22: 0 | I22: 0 | M22: 0 | Q22: 0
A23: 9 | E23: 0 | I23: 0 | M23: 0 | Q23: 0
A24: 10 | E24: 0 | I24: 0 | M24: 0 | Q24: 1
A25: 11 | E25: 0 | I25: 0 | M25: 0 | Q25: 0
... A37: 23 | E37: 0 | I37: 0 | M37: 0 | Q37: 0
A38: Итого | E38: =SUM(E14:E37) -> 0 | I38: =SUM(I14:I37) -> 0 | M38: =SUM(M14:M37) -> 1 | Q38: =SUM(Q14:Q37) -> 1
A39: 1. При наличии на предприятии отклонений от нормальных режимов электропотребления (временное изменение схем питания, остановка на ремонт, резкое снижение
A40: эл.потребления и т.д.) последние необходимо перечислить.
A41: Главный инженер АО "Вологдаоблэнерго" А.В. Чурляев
A42: составляется самим предприятием с соблюдением всех пунктов настоящей таблицы.

Sheet 21
B1: АО "Вологдаоблэнерго" | J1: код 900151 | N1: ПС ВОЛОГДА-ЮЖНАЯ РУ-10 кВ
B2: наименование предприятия | N2: наименование источника питания
N3: яч. 406 ф "РОДИОНЦЕВО",
B4: ул. Горького, 99 | I4: Таблица № 1 | N4: КТП-906, ПКУ- ЛЭП-43
B5: адрес
A6: почасовых записей показаний электрических счетчиков
A7: в режимный день 18 декабря 2024 г.
A8: 362 | B8: 985
A9: часы суток | B9: Активная энергия | J9: Реактивная энергия
B10: яч. 406 ф "РОДИОНЦЕВО" - ПКУ | F10: КТП-906 | J10: яч. 406 ф "РОДИОНЦЕВО" - ПКУ | N10: КТП-906
B11: Расчет. Коэф. | E11: 2000 | F11: Расчет. Коэф. | I11: 80 | J11: Расчет. Коэф. | M11: =E11 -> 2000 | N11: Расчет. Коэф. | Q11: =I11 -> 80
B12: показания счетчика | C12: разность | E12: расход эл.энергии за час | F12: показания счетчика | G12: разность | I12: расход эл.энергии за час | J12: показания счетчика | K12: разность | M12: расход эл.энергии за час | N12: показания счетчика | O12: разность | Q12: расход эл.энергии за час
A13: 1 | B13: 2 | C13: 3 | E13: 4 | F13: 5 | G13: 6 | I13: 7 | J13: 8 | K13: 9 | M13: 10 | N13: 11 | O13: 12 | Q13: 13
A14: 0 | E14: 2746 | I14: 10.72 | M14: 0 | Q14: 2.84
A15: 1 | E15: 2676 | I15: 10.84 | M15: 0 | Q15: 2.84
A16: 2 | E16: 2728 | I16: 10.88 | M16: 0 | Q16: 2.4
A17: 3 | E17: 2708 | I17: 10.04 | M17: 0 | Q17: 2.48
A18: 4 | E18: 2753 | I18: 9.04 | M18: 0 | Q18: 1.76
A19: 5 | E19: 2794 | I19: 9.6 | M19: 0 | Q19: 1.64
A20: 6 | E20: 2921 | I20: 11.12 | M20: 0 | Q20: 2.24
A21: 7 | E21: 2902 | I21: 14.28 | M21: 0 | Q21: 2.36
A22: 8 | E22: 2940 | I22: 13.28 | M22: 0 | Q22: 2.72
A23: 9 | E23: 2947 | I23: 14.52 | M23: 0 | Q23: 2.56
A24: 10 | E24: 2904 | I24: 12.24 | M24: 0 | Q24: 2.32
A25: 11 | E25: 2965 | I25: 12.56 | M25: 0 | Q25: 2.48
... A37: 23 | E37: 3048 | I37: 14.92 | M37: 0 | Q37: 3.16
A38: Итого | E38: =SUM(E14:E37) -> 70589 | I38: =SUM(I14:I37) -> 311.16 | M38: =SUM(M14:M37) -> 0 | Q38: =SUM(Q14:Q37) -> 65.16
A39: 1. При наличии на предприятии отклонений от нормальных режимов электропотребления (временное изменение схем питания, остановка на ремонт, резкое снижение
A40: эл.потребления и т.д.) последние необходимо перечислить.
A41: Главный инженер АО "Вологдаоблэнерго" А.В. Чурляев
A42: составляется самим предприятием с соблюдением всех пунктов настоящей таблицы.

Sheet 21_1
B1: АО "Вологдаоблэнерго" | J1: код 900151 | N1: ПС ВОЛОГДА-ЮЖНАЯ РУ- 6 кВ
B2: наименование предприятия | N2: наименование источника питания
N3: _________________________________
B4: ул. Горького, 99 | I4: Таблица № 1 | O4: ТП 461
B5: адрес
A6: почасовых записей показаний электрических счетчиков
A7: в режимный день 18 декабря 2024 г.
A8: 594
A9: часы суток | B9: Активная энергия | J9: Реактивная энергия
B10: ЯЧ.№203 - "ГОРОД 20" | J10: ЯЧ.№203 - "ГОРОД 20"
B11: Расчет. Коэф. | E11: 7200 | F11: Расчет. Коэф. | I11: 0 | J11: Расчет. Коэф. | M11: =E11 -> 7200 | N11: Расчет. Коэф. | Q11: =I11 -> 0
B12: показания счетчика | C12: разность | E12: расход эл.энергии за час | F12: показания счетчика | G12: разность | I12: расход эл.энергии за час | J12: показания счетчика | K12: разность | M12: расход эл.энергии за час | N12: показания счетчика | O12: разность | Q12: расход эл.энергии за час
A13: 1 | B13: 2 | C13: 3 | E13: 4 | F13: 5 | G13: 6 | I13: 7 | J13: 8 | K13: 9 | M13: 10 | N13: 11 | O13: 12 | Q13: 13
A14: 0 | E14: 281 | M14: 49
A15: 1 | E15: 276 | M15: 43
A16: 2 | E16: 263 | M16: 50
A17: 3 | E17: 255 | M17: 49
A18: 4 | E18: 263 | M18: 44
A19: 5 | E19: 334 | M19: 49
A20: 6 | E20: 405 | M20: 51
A21: 7 | E21: 441 | M21: 60
A22: 8 | E22: 450 | M22: 60
A23: 9 | E23: 480 | M23: 64
A24: 10 | E24: 487 | M24: 68
A25: 11 | E25: 480 | M25: 63
... A37: 23 | E37: 330 | M37: 51
A38: Итого | E38: =SUM(E14:E37) -> 9437 | I38: =SUM(I14:I37) -> 0 | M38: =SUM(M14:M37) -> 1310 | Q38: =SUM(Q14:Q37) -> 0
A39: 1. При наличии на предприятии отклонений от нормальных режимов электропотребления (временное изменение схем питания, остановка на ремонт, резкое снижение
A40: эл.потребления и т.д.) последние необходимо перечислить.
A41: Главный инженер АО "Вологдаоблэнерго" А.В. Чурляев
A42: составляется самим предприятием с соблюдением всех пунктов настоящей таблицы.

Sheet 21_2
B1: АО "Вологдаоблэнерго" | J1: код 900151 | N1: ПС ВОЛОГДА-ЮЖНАЯ РУ-10 кВ
B2: наименование предприятия | N2: наименование источника питания
N3: яч. 104 ф 6 кВ Керамик-1
B4: ул. Горького, 99 | I4: Таблица № 1
B5: адрес
A6: почасовых записей показаний электрических счетчиков
A7: в режимный день 18 декабря 2024 г.
A9: часы суток | B9: Активная энергия | J9: Реактивная энергия
B10: яч. 104 ф 6 кВ Керамик-1 ТП-841Т-1 | F10: яч. 104 ф 6 кВ Керамик-1 ТП-417 | J10: яч. 104 ф 6 кВ Керамик-1 ТП-841Т-1 | N10: яч. 104 ф 6 кВ Керамик-1 ТП-417
B11: Расчет. Коэф. | F11: Расчет. Коэф. | I11: 200 | J11: Расчет. Коэф. | N11: Расчет. Коэф. | Q11: 200
B12: показания счетчика | C12: разность | E12: расход эл.энергии за час | F12: показания счетчика | G12: разность | I12: расход эл.энергии за час | J12: показания счетчика | K12: разность | M12: расход эл.энергии за час | N12: показания счетчика | O12: разность | Q12: расход эл.энергии за час
A13: 1 | B13: 2 | C13: 3 | E13: 4 | F13: 5 | G13: 6 | I13: 7 | J13: 8 | K13: 9 | M13: 10 | N13: 11 | O13: 12 | Q13: 13
A14: 0
A15: 1
A16: 2
A17: 3
A18: 4
A19: 5
A20: 6
A21: 7
A22: 8
A23: 9
A24: 10
A25: 11
... A37: 23
A38: Итого | E38: =SUM(E14:E37) -> 0 | I38: =SUM(I14:I37) -> 0 | M38: =SUM(M14:M37) -> 0 | Q38: =SUM(Q14:Q37) -> 0
A39: 1. При наличии на предприятии отклонений от нормальных режимов электропотребления (временное изменение схем питания, остановка на ремонт, резкое снижение
A40: эл.потребления и т.д.) последние необходимо перечислить.
A41: Главный инженер АО "Вологдаоблэнерго" А.В. Чурляев
A42: составляется самим предприятием с соблюдением всех пунктов настоящей таблицы.

Sheet 21_3
B1: АО "Вологдаоблэнерго" | J1: код 900151 | N1: ПС ВОЛОГДА-ЮЖНАЯ РУ-10 кВ
B2: наименование предприятия | N2: наименование источника питания
N3: яч, 104 ф 6 кВ Керамик-1
B4: ул, Горького, 99 | I4: Таблица № 1
B5: адрес
A6: почасовых записей показаний электрических счетчиков
A7: в режимный день 18 декабря 2024 г.
A9: часы суток | B9: Активная энергия | J9: Реактивная энергия
B10: яч, 104 ф 6 кВ Керамик-1 КТП-1004 | J10: яч, 104 ф 6 кВ Керамик-1 КТП-1004
B11: Расчет, Коэф, | F11: Расчет, Коэф, | J11: Расчет, Коэф, | N11: Расчет, Коэф,
B12: показания счетчика | C12: разность | E12: расход эл,энергии за час | F12: показания счетчика | G12: разность | I12: расход эл,энергии за час | J12: показания счетчика | K12: разность | M12: расход эл,энергии за час | N12: показания счетчика | O12: разность | Q12: расход эл,энергии за час
A13: 1 | B13: 2 | C13: 3 | E13: 4 | F13: 5 | G13: 6 | I13: 7 | J13: 8 | K13: 9 | M13: 10 | N13: 11 | O13: 12 | Q13: 13
A14: 0
A15: 1
A16: 2
A17: 3
A18: 4
A19: 5
A20: 6
A21: 7
A22: 8
A23: 9
A24: 10
A25: 11
... A37: 23
A38: Итого | E38: =SUM(E14:E37) -> 0 | I38: =SUM(I14:I37) -> 0 | M38: =SUM(M14:M37) -> 0 | Q38: =SUM(Q14:Q37) -> 0
A39: 1, При наличии на предприятии отклонений от нормальных режимов электропотребления (временное изменение схем питания, остановка на ремонт, резкое снижение
A40: эл,потребления и т,д,) последние необходимо перечислить,
A41: Главный инженер АО "Вологдаоблэнерго" А,В, Чурляев
A42: составляется самим предприятием с соблюдением всех пунктов настоящей таблицы,

Sheet 21_4
B1: АО "Вологдаоблэнерго" | J1: код 900151 | N1: ПС ВОЛОГДА-ЮЖНАЯ РУ-10 кВ
B2: наименование предприятия | N2: наименование источника питания
N3: яч. 207 ф 10 кВ Керамик 2
B4: ул. Горького, 99 | I4: Таблица № 1
B5: адрес
A6: почасовых записей показаний электрических счетчиков
A7: в режимный день 18 декабря 2024 г.
A9: часы суток | B9: Активная энергия | J9: Реактивная энергия
B10: яч. 207 ф 10 кВ Керамик 2 ТП841 Т-2 | J10: яч. 207 ф 10 кВ Керамик 2 ТП841 Т-2
B11: Расчет. Коэф. | F11: Расчет. Коэф. | J11: Расчет. Коэф. | N11: Расчет. Коэф.
B12: показания счетчика | C12: разность | E12: расход эл.энергии за час | F12: показания счетчика | G12: разность | I12: расход эл.энергии за час | J12: показания счетчика | K12: разность | M12: расход эл.энергии за час | N12: показания счетчика | O12: разность | Q12: расход эл.энергии за час
A13: 1 | B13: 2 | C13: 3 | E13: 4 | F13: 5 | G13: 6 | I13: 7 | J13: 8 | K13: 9 | M13: 10 | N13: 11 | O13: 12 | Q13: 13
A14: 0 | E14: 308 | M14: 0
A15: 1 | E15: 253 | M15: 0
A16: 2 | E16: 182 | M16: 0
A17: 3 | E17: 120 | M17: 0
A18: 4 | E18: 198 | M18: 0
A19: 5 | E19: 252 | M19: 0
A20: 6 | E20: 282 | M20: 0
A21: 7 | E21: 340 | M21: 0
A22: 8 | E22: 457 | M22: 0
A23: 9 | E23: 475 | M23: 0
A24: 10 | E24: 418 | M24: 0
A25: 11 | E25: 514 | M25: 0
... A37: 23 | E37: 547 | M37: 0
A38: Итого | E38: =SUM(E14:E37) -> 11302 | I38: =SUM(I14:I37) -> 0 | M38: =SUM(M14:M37) -> 0 | Q38: =SUM(Q14:Q37) -> 0
A39: 1. При наличии на предприятии отклонений от нормальных режимов электропотребления (временное изменение схем питания, остановка на ремонт, резкое снижение
A40: эл.потребления и т.д.) последние необходимо перечислить.
A41: Главный инженер АО "Вологдаоблэнерго" А.В. Чурляев
A42: составляется самим предприятием с соблюдением всех пунктов настоящей таблицы.

Sheet 21_5
B1: АО "Вологдаоблэнерго" | J1: код 900151 | K1: ПС "Вологда-Южная"РУ 6кВ - транзит через "БМЗ"
B2: наименование предприятия | N2: наименование источника питания
N3: ф 6 кВ БМЗ-1, БМЗ-2
B4: ул. Горького, 99 | I4: Таблица № 1
B5: адрес
A6: почасовых записей показаний электрических счетчиков
A7: в режимный день 18 декабря 2024 г.
A9: часы суток | B9: Активная энергия | J9: Реактивная энергия
B10: яч. 106 ф 6 кВ БМЗ-1 РТП 25 Т1 | F10: яч. 204 ф 6 кВ БМЗ-2 РТП 25 Т2 | J10: яч. 204 ф 6 кВ БМЗ-2 РТП 25 Т1 | N10: яч. 204 ф 6 кВ БМЗ-2 РТП 25 Т2
B11: Расчет. Коэф. | F11: Расчет. Коэф. | J11: Расчет. Коэф. | N11: Расчет. Коэф.
B12: показания счетчика | C12: разность | E12: расход эл.энергии за час | F12: показания счетчика | G12: разность | I12: расход эл.энергии за час | J12: показания счетчика | K12: разность | M12: расход эл.энергии за час | N12: показания счетчика | O12: разность | Q12: расход эл.энергии за час
A13: 1 | B13: 2 | C13: 3 | E13: 4 | F13: 5 | G13: 6 | I13: 7 | J13: 8 | K13: 9 | M13: 10 | N13: 11 | O13: 12 | Q13: 13
A14: 0 | E14: 102.6 | I14: 63.06 | M14: 22.32 | Q14: 35.4
A15: 1 | E15: 95.76 | I15: 54.42 | M15: 22.8 | Q15: 35.4
A16: 2 | E16: 90.72 | I16: 49.92 | M16: 21.48 | Q16: 33.48
A17: 3 | E17: 89.88 | I17: 50.64 | M17: 21.24 | Q17: 34.62
A18: 4 | E18: 89.04 | I18: 55.68 | M18: 21 | Q18: 33.78
A19: 5 | E19: 96.24 | I19: 102.84 | M19: 21.36 | Q19: 35.58
A20: 6 | E20: 118.8 | I20: 106.98 | M20: 25.08 | Q20: 34.62
A21: 7 | E21: 135.6 | I21: 105.54 | M21: 26.16 | Q21: 36.96
A22: 8 | E22: 167.16 | I22: 107.94 | M22: 30.48 | Q22: 36.72
A23: 9 | E23: 185.04 | I23: 105.54 | M23: 33.6 | Q23: 35.82
A24: 10 | E24: 173.16 | I24: 106.08 | M24: 30.84 | Q24: 37.86
A25: 11 | E25: 171.84 | I25: 111.36 | M25: 28.92 | Q25: 36.54
... A37: 23 | E37: 117 | I37: 81.48 | M37: 23.28 | Q37: 36.66
A38: Итого | E38: =SUM(E14:E37) -> 3522.24 | I38: =SUM(I14:I37) -> 2321.88 | M38: =SUM(M14:M37) -> 659.28 | Q38: =SUM(Q14:Q37) -> 876.84
A39: 1. При наличии на предприятии отклонений от нормальных режимов электропотребления (временное изменение схем питания, остановка на ремонт, резкое снижение
A40: эл.потребления и т.д.) последние необходимо перечислить.
A41: Главный инженер АО "Вологдаоблэнерго" А.В. Чурляев
A42: составляется самим предприятием с соблюдением всех пунктов настоящей таблицы.

Sheet 21_5.1
B1: АО "Вологдаоблэнерго" | J1: код 900151 | K1: ПС "Вологда-Южная"РУ 6кВ - транзит через "БМЗ"
B2: наименование предприятия | N2: наименование источника питания
N3: ф 6 кВ БМЗ-1, БМЗ-2
B4: ул. Горького, 99 | I4: Таблица № 1
B5: адрес
A6: почасовых записей показаний электрических счетчиков
A7: в режимный день 18 декабря 2024 г.
A9: часы суток | B9: Активная энергия | J9: Реактивная энергия
B10: яч. 204 ф 6 кВ БМЗ КТП-1038 Т1 | F10: яч. 106 ф 6 кВ БМЗ-1 КТП-1038 Т2 | J10: яч. 204 ф 6 кВ БМЗ КТП-1038 Т1 | N10: яч. 106 ф 6 кВ БМЗ-1 КТП-1038 Т2
B11: Расчет. Коэф. | F11: Расчет. Коэф. | J11: Расчет. Коэф. | N11: Расчет. Коэф.
B12: показания счетчика | C12: разность | E12: расход эл.энергии за час | F12: показания счетчика | G12: разность | I12: расход эл.энергии за час | J12: показания счетчика | K12: разность | M12: расход эл.энергии за час | N12: показания счетчика | O12: разность | Q12: расход эл.энергии за час
A13: 1 | B13: 2 | C13: 3 | E13: 4 | F13: 5 | G13: 6 | I13: 7 | J13: 8 | K13: 9 | M13: 10 | N13: 11 | O13: 12 | Q13: 13
A14: 0 | E14: 66.72 | I14: 91.14 | M14: 20.88 | Q14: 38.16
A15: 1 | E15: 59.4 | I15: 83.16 | M15: 20.28 | Q15: 35.28
A16: 2 | E16: 51.6 | I16: 76.56 | M16: 18.48 | Q16: 34.14
A17: 3 | E17: 48.24 | I17: 73.98 | M17: 16.8 | Q17: 31.68
A18: 4 | E18: 50.76 | I18: 72.9 | M18: 18.36 | Q18: 31.5
A19: 5 | E19: 54 | I19: 102.24 | M19: 18.48 | Q19: 32.52
A20: 6 | E20: 63.36 | I20: 124.44 | M20: 18.6 | Q20: 34.92
A21: 7 | E21: 75.72 | I21: 132.24 | M21: 19.92 | Q21: 39.6
A22: 8 | E22: 92.16 | I22: 135.54 | M22: 22.8 | Q22: 40.56
A23: 9 | E23: 94.8 | I23: 133.32 | M23: 23.52 | Q23: 42.9
A24: 10 | E24: 98.76 | I24: 129.24 | M24: 23.64 | Q24: 42.36
A25: 11 | E25: 101.16 | I25: 117.48 | M25: 23.4 | Q25: 42.6
... A37: 23 | E37: 79.08 | I37: 99.06 | M37: 21.96 | Q37: 37.92
A38: Итого | E38: =SUM(E14:E37) -> 2016.36 | I38: =SUM(I14:I37) -> 2659.62 | M38: =SUM(M14:M37) -> 537.72 | Q38: =SUM(Q14:Q37) -> 928.08
