Workbook

Sheet Содержание книги
A1: Содержание
A4: № листа | B4: Электросетевой участок | C4: Центр питания
A5: 1, 2 | B5: г. Вологда | C5: ПС "АНАНЬИНО"
A6: 3 | B6: г. Вологда | C6: ПС ЕРМАКОВО
A7: 4 | B7: г. Вологда | C7: ПС "МАЕГА"
A8: 5,6, 7, 8, 9 | B8: г. Вологда | C8: ПС "ЗАПАДНАЯ
A9: 10 | B9: г. Вологда | C9: ПС "СЕВЕРНАЯ 35/6 кВ
A10: 11 | B10: г. Вологда | C10: РТП "ТЕПЛИЧНОГО ХОЗ - ВА"
A11: 12,13, 14 | B11: г. Вологда | C11: ГПП 110/10 кВ "ВОМЗ"
A12: 15,16,17,18,19,20, 21, 21-1, 21-2, 21-3, 21-4 | B12: г. Вологда | C12: ПС ВОЛОГДА-ЮЖНАЯ РУ - 6 -10 кВ
A13: 21-5, | C13: ПС ВОЛОГДА-ЮЖНАЯ РУ 6 кВ ОАО "БМЗ"
A14: 22 | B14: г. Вологда | C14: ГПП ВОЛОГДА - ТЯГОВАЯ 110/27,5/6 кВ
A15: 23 | B15: г. Вологда | C15: ТП 10 РЖД
A16: 24 | B16: г. Вологда | C16: ТП 34 РЖД
A17: 25,26,27,28,29 | B17: г. Вологда | C17: ТГК- 2 ВТЭЦ РП 6 кВ
A18: 30,31,32,33,34,34-1 | B18: г. Вологда | C18: ПС "ЦЕНТРАЛЬНАЯ" 110/6 кВ
A19: 35, 36 | B19: г. Вологда | C19: ПС "ГОРОДСКАЯ" 35/6 кВ
A20: 37, 38, 39, 39-1 | B20: г. Вологда | C20: ПС "ВОСТОЧНАЯ" 110/35/10 кВ
A21: 40, 40-1, 41,41-1 | B21: г. Вологда | C21: ПС "ЛУГОВАЯ"
A22: 42 | B22: г. Вологда | C22: РП "ГОРКА"
A23: 43, 44 | B23: г. Вологда | C23: ГПП 2 ЗАО ВПЗ
A24: 45 | B24: г. Вологда | C24: ГПП 1 ЗАО ВПЗ
A25: 46 | B25: ЭСУ "Кубенское" | C25: ПС "Кубенское"
A26: 47, 48, 48-1,48-2 | B26: ЭСУ п. Молочное | C26: ПС "Молочное" 35/10 кВ
A27: 49, 50, 50-1, 50-2, 50-3 | B27: ЭСУ "Устье-Кубенское" | C27: РТП "КОРНИЛОВО" 35/10 кВ
A28: 51, 52, | B28: ЭСУ "Шуйское" | C28: ПС "ШУЙСКОЕ" 35/ 10 кВ
A29: 53 | B29: ЭСУ г. Сокол | C29: ПС ИП Сокол 110/10/10
A30: 54.55 | B30: ЭСУ г. Сокол | C30: ПС "ГДЗ" 110/6 кВ
A31: 56, 57, 58, | B31: ЭСУ г. Сокол | C31: ОАО "Сокольский" ЦБК" ГПП 35/6 кВ
A32: 59 | B32: ЭСУ г. Сокол | C32: ОАО "Сокольский" ЦБК" ГПП 110/6 кВ
A33: 60, 61, 62, 63 | B33: ЭСУ г. Сокол | C33: ООО "Сухонский ЦБК" ГПП 110/6 кВ
A34: 64-66-1 | B34: ЭСУ "Белозерск" | C34: ПС Белозерск, ПС Вашки
A35: 67-75 | B35: ЭСУ "Вытегра" | C35: ПС 35 кВ Вытегра, ПС 110 кВ Восточная ПС
A36: 76-81_1 | B36: ЭСУ "Харовск" | C36: ПС 110 кВ Харовск (Р), ПС 110 кВ Харовск-Тяговая
A37: 82-86 | B37: ЭТУ "Вожега"
A38: 87-91 | B38: ЭТУ "Тотьма"
A39: 92-95 | B39: ЭСУ "Сямжа"
A40: 96-97 | B40: ЭСУ "Грязовец"
A42: Содержание
A45: № листа | B45: Электросетевой участок | C45: Центр питания
A46: 1 а | B46: г. Вологда | C46: ОАО "БМЗ"
A48: 1, 2 | B48: г. Вологда | C48: ПС "АНАНЬИНО"
A51: 3 | B51: г. Вологда | C51: ПС "ИСКРА"
A53: 4 | B53: г. Вологда | C53: ПС "МАЕГА"
A55: 5,6, 7, 8, 9 | B55: г. Вологда | C55: ПС "ЗАПАДНАЯ
A61: 10 | B61: г. Вологда | C61: ПС "СЕВЕРНАЯ 35/6 кВ
A63: 11 | B63: г. Вологда | C63: РТП "ТЕПЛИЧНОГО ХОЗ - ВА"
A65: 12,13, 14 | B65: г. Вологда | C65: ГПП 110/10 кВ "ВОМЗ"
A69: 15,16,17,18,19,20, 21 | B69: г. Вологда | C69: ПС ВОЛОГДА-ЮЖНАЯ РУ - 6 -10 кВ
A78: 22 | B78: г. Вологда | C78: ГПП ВОЛОГДА - ТЯГОВАЯ 110/27,5/6 кВ
A80: 23 | B80: г. Вологда | C80: ТП 10 СЖД ОАО РЖД
A82: 24 | B82: г. Вологда | C82: ТП 34 СЖД ОАО РЖД
A84: 25,26,27,28,29 | B84: г. Вологда | C84: ТГК- 2 ВТЭЦ РП 6 кВ
A90: 30,31,32,33,34,34-1 | B90: г. Вологда | C90: ПС "ЦЕНТРАЛЬНАЯ" 110/6 кВ
A97: 35, 36 | B97: г. Вологда | C97: ПС "ГОРОДСКАЯ" 35/6 кВ
A100: 37, 38, 39 | B100: г. Вологда | C100: ПС "ВОСТОЧНАЯ" 110/35/10 кВ
A104: 40, 41 | B104: г. Вологда | C104: ПС "ЛУГОВАЯ"
A107: 42 | B107: г. Вологда | C107: РП "ГОРКА"
A109: 43, 44 | B109: г. Вологда | C109: ГПП 2 ЗАО ВПЗ
A112: 45 | B112: г. Вологда | C112: ГПП 1 ЗАО ВПЗ
A114: 46 | B114: ЭСУ "Кубенское" | C114: ПС "Кубенское"
A116: 47, 48 | B116: ЭСУ п. Молочное | C116: ПС "Молочное" 35/10 кВ
A119: 49, 50 | B119: ЭСУ "Устье-Кубенское" | C119: РТП "КОРНИЛОВО" 35/10 кВ
A124: 51, 52, 53 | B124: ЭСУ "Шуйское" | C124: ПС "ШУЙСКОЕ" 35/ 10 кВ
A128: 54 | B128: ЭСУ г. Сокол | C128: ПС "ГДЗ" 110/6 кВ
A131: 55 | B131: ЭСУ г. Сокол | C131: ОАО "СОКОЛРЕММАШ"
A133: 56, 57, 58, | B133: ЭСУ г. Сокол | C133: ОАО "Сокольский" ЦБК" ГПП 35/6 кВ
A137: 59 | B137: ЭСУ г. Сокол | C137: ОАО "Сокольский" ЦБК" ГПП 110/6 кВ
A139: 60, 61, 62, 63 | B139: ЭСУ г. Сокол | C139: ООО "Сухонский ЦБК" ГПП 110/6 кВ
A144: 64, 65, 66 | B144: ЭСУ "Белозерск" | C144: ПС "Белозерск"
A148: 67, 68, 69, 70, 71, 72, | B148: ЭСУ "Вытегра" | C148: ПС "Белоусово"
A149: 73, 74, 75
C150: ПС "Ольховская"
C152: ПС "Восточная"
C155: ПС "Мегра"
C157: ПС "Вытегра"
C161: ПС "Анненская"

Sheet 1
B1: АО "Вологдаоблэнерго" | J1: код 900151 | N1: ПС "АНАНЬИНО"
B2: наименование предприятия | N2: наименование источника питания
N3: _________________________________
B4: ул. Горького, 99 | I4: Таблица № 1 | O4: ВЛ 10 кВ № 31
B5: адрес
A6: почасовых записей показаний электрических счетчиков
A7: в режимный день 18 декабря 2024 г.
A8: 1629
A9: часы суток | B9: Активная энергия | J9: Реактивная энергия
B10: ЯЧ. № 7 - Ф."Город 7" | J10: ЯЧ. № 7 - Ф."Город 7"
B11: Расчет. Коэф. | E11: 3600 | F11: Расчет. Коэф. | J11: Расчет. Коэф. | M11: =E11 -> 3600 | N11: Расчет. Коэф.
B12: показания счетчика | C12: разность | E12: расход эл.энергии за час | F12: показания счетчика | G12: разность | I12: расход эл.энергии за час | J12: показания счетчика | K12: разность | M12: расход эл.энергии за час | N12: показания счетчика | O12: разность | Q12: расход эл.энергии за час
A13: 1 | B13: 2 | C13: 3 | E13: 4 | F13: 5 | G13: 6 | I13: 7 | J13: 8 | K13: 9 | M13: 10 | N13: 11 | O13: 12 | Q13: 13
A14: 0 | E14: 757 | M14: 272
A15: 1 | E15: 745 | M15: 279
A16: 2 | E16: 762 | M16: 279
A17: 3 | E17: 719 | M17: 261
A18: 4 | E18: 739 | M18: 261
A19: 5 | E19: 781 | M19: 258
A20: 6 | E20: 807 | M20: 250
A21: 7 | E21: 878 | M21: 246
A22: 8 | E22: 917 | M22: 251
A23: 9 | E23: 1100 | M23: 397
A24: 10 | E24: 1084 | M24: 350
A25: 11 | E25: 1095 | M25: 388
... A37: 23 | E37: 806 | M37: 280
A38: Итого | E38: =SUM(E14:E37) -> 21518 | I38: =SUM(I14:I37) -> 0 | M38: =SUM(M14:M37) -> 7036 | Q38: =SUM(Q14:Q37) -> 0
A39: 1. При наличии на предприятии отклонений от нормальных режимов электропотребления (временное изменение схем питания, остановка на ремонт, резкое снижение
A40: эл.потребления и т.д.) последние необходимо перечислить.
A41: Главный инженер АО "Вологдаоблэнерго" А.В. Чурляев
A42: составляется самим предприятием с соблюдением всех пунктов настоящей таблицы.

Sheet 2
B1: АО "Вологдаоблэнерго" | J1: код 900151 | N1: ПС "АНАНЬИНО"
B2: наименование предприятия | N2: наименование источника питания
N3: _________________________________
B4: ул. Горького, 99 | I4: Таблица № 1 | O4: РП 36 ф 16; ТП 360
B5: адрес
A6: почасовых записей показаний электрических счетчиков
A7: в режимный день 18 декабря 2024 г.
A8: 1630 | B8: 1628
A9: часы суток | B9: Активная энергия | J9: Реактивная энергия
B10: ЯЧ. № 2 - Ф."Овощехранилище" | F10: ЯЧ. № 8 - Ф."Городской" | J10: ЯЧ. № 2 - Ф."Овощехранилище" | N10: ЯЧ. № 8 - Ф."Городской"
B11: Расчет. Коэф. | E11: 3600 | F11: Расчет. Коэф. | I11: 2400 | J11: Расчет. Коэф. | M11: =E11 -> 3600 | N11: Расчет. Коэф. | Q11: =I11 -> 2400
B12: показания счетчика | C12: разность | E12: расход эл.энергии за час | F12: показания счетчика | G12: разность | I12: расход эл.энергии за час | J12: показания счетчика | K12: разность | M12: расход эл.энергии за час | N12: показания счетчика | O12: разность | Q12: расход эл.энергии за час
A13: 1 | B13: 2 | C13: 3 | E13: 4 | F13: 5 | G13: 6 | I13: 7 | J13: 8 | K13: 9 | M13: 10 | N13: 11 | O13: 12 | Q13: 13
A14: 0 | E14: 460 | I14: 285 | M14: 183 | Q14: 82
A15: 1 | E15: 528 | I15: 290 | M15: 244 | Q15: 83
A16: 2 | E16: 518 | I16: 287 | M16: 242 | Q16: 83
A17: 3 | E17: 524 | I17: 281 | M17: 238 | Q17: 79
A18: 4 | E18: 464 | I18: 288 | M18: 184 | Q18: 80
A19: 5 | E19: 429 | I19: 314 | M19: 149 | Q19: 81
A20: 6 | E20: 431 | I20: 332 | M20: 141 | Q20: 80
A21: 7 | E21: 475 | I21: 336 | M21: 141 | Q21: 83
A22: 8 | E22: 794 | I22: 342 | M22: 412 | Q22: 82
A23: 9 | E23: 871 | I23: 357 | M23: 497 | Q23: 91
A24: 10 | E24: 795 | I24: 374 | M24: 377 | Q24: 90
A25: 11 | E25: 906 | I25: 374 | M25: 525 | Q25: 95
... A37: 23 | E37: 465 | I37: 320 | M37: 222 | Q37: 84
A38: Итого | E38: =SUM(E14:E37) -> 15203 | I38: =SUM(I14:I37) -> 8214 | M38: =SUM(M14:M37) -> 7398 | Q38: =SUM(Q14:Q37) -> 2009
A39: 1. При наличии на предприятии отклонений от нормальных режимов электропотребления (временное изменение схем питания, остановка на ремонт, резкое снижение
A40: эл.потребления и т.д.) последние необходимо перечислить.
A41: Главный инженер АО "Вологдаоблэнерго" А.В. Чурляев
A42: составляется самим предприятием с соблюдением всех пунктов настоящей таблицы.

Sheet 3
B1: АО "Вологдаоблэнерго" | J1: код 900151 | N1: ПС 110 кВ ЕРМАКОВО
B2: наименование предприятия | N2: наименование источника питания
N3: яч. 18 ф."РУБЦОВО"
B4: ул. Горького, 99 | I4: Таблица № 1 | O4: ВЛ-10кВ № 2
B5: адрес
A6: почасовых записей показаний электрических счетчиков
A7: в режимный день 18 декабря 2024 г.
A8: 374
A9: часы суток | B9: Активная энергия | J9: Реактивная энергия
B10: яч. 18 ф."РУБЦОВО"- ПКУ - ВЛ№2 | J10: яч. 18 ф."РУБЦОВО"- ПКУ - ВЛ№2
B11: Расчет. Коэф. | E11: 1000 | F11: Расчет. Коэф. | I11: 0 | J11: Расчет. Коэф. | M11: =E11 -> 1000 | N11: Расчет. Коэф. | Q11: =I11 -> 0
B12: показания счетчика | C12: разность | E12: расход эл.энергии за час | F12: показания счетчика | G12: разность | I12: расход эл.энергии за час | J12: показания счетчика | K12: разность | M12: расход эл.энергии за час | N12: показания счетчика | O12: разность | Q12: расход эл.энергии за час
A13: 1 | B13: 2 | C13: 3 | E13: 4 | F13: 5 | G13: 6 | I13: 7 | J13: 8 | K13: 9 | M13: 10 | N13: 11 | O13: 12 | Q13: 13
A14: 0 | E14: 561.6 | M14: 29
A15: 1 | E15: 528.4 | M15: 27
A16: 2 | E16: 527.6 | M16: 26.8
A17: 3 | E17: 518.6 | M17: 24.8
A18: 4 | E18: 528.8 | M18: 23.8
A19: 5 | E19: 537.8 | M19: 24.2
A20: 6 | E20: 575.8 | M20: 22.8
A21: 7 | E21: 568.2 | M21: 22.4
A22: 8 | E22: 550.2 | M22: 19.8
A23: 9 | E23: 542 | M23: 26.2
A24: 10 | E24: 527 | M24: 30.4
A25: 11 | E25: 538.4 | M25: 31.2
... A37: 23 | E37: 622.2 | M37: 29.6
A38: Итого | E38: =SUM(E14:E37) -> 13679.8 | I38: =SUM(I14:I37) -> 0 | M38: =SUM(M14:M37) -> 666.4 | Q38: =SUM(Q14:Q37) -> 0
A39: 1. При наличии на предприятии отклонений от нормальных режимов электропотребления (временное изменение схем питания, остановка на ремонт, резкое снижение
A40: эл.потребления и т.д.) последние необходимо перечислить.
A41: Главный инженер АО "Вологдаоблэнерго" А.В. Чурляев
A42: составляется самим предприятием с соблюдением всех пунктов настоящей таблицы.

Sheet 4
B1: АО "Вологдаоблэнерго" | J1: код 900151 | N1: ПС "МАЕГА"
B2: наименование предприятия | N2: наименование источника питания
N3: яч. 13 - Ф НИКИТИНО
B4: ул. Горького, 99 | I4: Таблица № 1 | O4: ВЛ 10 кВ №27
B5: адрес
A6: почасовых записей показаний электрических счетчиков
A7: в режимный день 18 декабря 2024 г.
A8: 363
A9: часы суток | B9: Активная энергия | J9: Реактивная энергия
B10: яч. 13 - Ф НИКИТИНО-СВ - ВЛ№27 | J10: яч. 13 - Ф НИКИТИНО-СВ - ВЛ№27
B11: Расчет. Коэф. | E11: 1500 | F11: Расчет. Коэф. | I11: 0 | J11: Расчет. Коэф. | M11: =E11 -> 1500 | N11: Расчет. Коэф. | Q11: =I11 -> 0
B12: показания счетчика | C12: разность | E12: расход эл.энергии за час | F12: показания счетчика | G12: разность | I12: расход эл.энергии за час | J12: показания счетчика | K12: разность | M12: расход эл.энергии за час | N12: показания счетчика | O12: разность | Q12: расход эл.энергии за час
A13: 1 | B13: 2 | C13: 3 | E13: 4 | F13: 5 | G13: 6 | I13: 7 | J13: 8 | K13: 9 | M13: 10 | N13: 11 | O13: 12 | Q13: 13
A14: 0 | E14: 641.55 | M14: 51.15
A15: 1 | E15: 619.95 | M15: 51.6
A16: 2 | E16: 621.45 | M16: 52.95
A17: 3 | E17: 600.9 | M17: 49.35
A18: 4 | E18: 614.7 | M18: 51.75
A19: 5 | E19: 635.25 | M19: 44.7
A20: 6 | E20: 729.6 | M20: 53.85
A21: 7 | E21: 762.9 | M21: 58.5
A22: 8 | E22: 810.6 | M22: 82.65
A23: 9 | E23: 802.35 | M23: 95.25
A24: 10 | E24: 789.45 | M24: 92.85
A25: 11 | E25: 770.25 | M25: 88.95
... A37: 23 | E37: 658.95 | M37: 49.95
A38: Итого | E38: =SUM(E14:E37) -> 17554.65 | I38: =SUM(I14:I37) -> 0 | M38: =SUM(M14:M37) -> 1575 | Q38: =SUM(Q14:Q37) -> 0
A39: 1. При наличии на предприятии отклонений от нормальных режимов электропотребления (временное изменение схем питания, остановка на ремонт, резкое снижение
A40: эл.потребления и т.д.) последние необходимо перечислить.
A41: Главный инженер АО "Вологдаоблэнерго" А.В. Чурляев
A42: составляется самим предприятием с соблюдением всех пунктов настоящей таблицы.

Sheet 5
B1: АО "Вологдаоблэнерго" | J1: код 900151 | N1: ПС "ЗАПАДНАЯ"
B2: наименование предприятия | N2: наименование источника питания
N3: _________________________________
B4: ул. Горького, 99 | I4: Таблица № 1 | O4: РП 16
B5: адрес
A6: почасовых записей показаний электрических счетчиков
A7: в режимный день 18 декабря 2024 г.
A8: 372 | B8: 368
A9: часы суток | B9: Активная энергия | J9: Реактивная энергия
B10: Яч. 21 - "РМЗ-1" | F10: Яч. 28 - "РМЗ-2" | J10: Яч. 21 - "РМЗ-1" | N10: Яч. 28 - "РМЗ-2"
B11: Расчет. Коэф. | E11: 7200 | F11: Расчет. Коэф. | I11: 7200 | J11: Расчет. Коэф. | M11: =E11 -> 7200 | N11: Расчет. Коэф. | Q11: =I11 -> 7200
B12: показания счетчика | C12: разность | E12: расход эл.энергии за час | F12: показания счетчика | G12: разность | I12: расход эл.энергии за час | J12: показания счетчика | K12: разность | M12: расход эл.энергии за час | N12: показания счетчика | O12: разность | Q12: расход эл.энергии за час
A13: 1 | B13: 2 | C13: 3 | E13: 4 | F13: 5 | G13: 6 | I13: 7 | J13: 8 | K13: 9 | M13: 10 | N13: 11 | O13: 12 | Q13: 13
A14: 0 | E14: 201 | I14: 1641 | M14: 45 | Q14: 287
A15: 1 | E15: 197 | I15: 1556 | M15: 39 | Q15: 291
A16: 2 | E16: 196 | I16: 1529 | M16: 40 | Q16: 285
A17: 3 | E17: 197 | I17: 1511 | M17: 40 | Q17: 289
A18: 4 | E18: 235 | I18: 1511 | M18: 43 | Q18: 281
A19: 5 | E19: 234 | I19: 1631 | M19: 42 | Q19: 275
A20: 6 | E20: 263 | I20: 1894 | M20: 46 | Q20: 276
A21: 7 | E21: 428 | I21: 2185 | M21: 152 | Q21: 296
A22: 8 | E22: 640 | I22: 2329 | M22: 274 | Q22: 342
A23: 9 | E23: 728 | I23: 2369 | M23: 327 | Q23: 334
A24: 10 | E24: 703 | I24: 2492 | M24: 296 | Q24: 337
A25: 11 | E25: 727 | I25: 2455 | M25: 268 | Q25: 350
... A37: 23 | E37: 235 | I37: 1841 | M37: 45 | Q37: 296
A38: Итого | E38: =SUM(E14:E37) -> 10649 | I38: =SUM(I14:I37) -> 50923 | M38: =SUM(M14:M37) -> 3377 | Q38: =SUM(Q14:Q37) -> 7396
A39: 1. При наличии на предприятии отклонений от нормальных режимов электропотребления (временное изменение схем питания, остановка на ремонт, резкое снижение
A40: эл.потребления и т.д.) последние необходимо перечислить.
A41: Главный инженер АО "Вологдаоблэнерго" А.В. Чурляев
A42: составляется самим предприятием с соблюдением всех пунктов настоящей таблицы.

Sheet 6
B1: АО "Вологдаоблэнерго" | J1: код 900151 | N1: ПС "ЗАПАДНАЯ"
B2: наименование предприятия | N2: наименование источника питания
N3: _________________________________
B4: ул. Горького, 99 | I4: Таблица № 1 | N4: РП 10 ф7 | Q4: РП 36 ф17
B5: адрес
A6: почасовых записей показаний электрических счетчиков
A7: в режимный день 18 декабря 2024 г.
A8: 370 | B8: 365
A9: часы суток | B9: Активная энергия | J9: Реактивная энергия
B10: яч. 16 - ф."ОЧИСТНЫЕ-1" | F10: яч. 24 - "ГОРОД-1" | J10: яч. 16 - ф."ОЧИСТНЫЕ-1" | N10: яч. 24 - "ГОРОД-1"
B11: Расчет. Коэф. | E11: 4800 | F11: Расчет. Коэф. | I11: 7200 | J11: Расчет. Коэф. | M11: =E11 -> 4800 | N11: Расчет. Коэф. | Q11: =I11 -> 7200
B12: показания счетчика | C12: разность | E12: расход эл.энергии за час | F12: показания счетчика | G12: разность | I12: расход эл.энергии за час | J12: показания счетчика | K12: разность | M12: расход эл.энергии за час | N12: показания счетчика | O12: разность | Q12: расход эл.энергии за час
A13: 1 | B13: 2 | C13: 3 | E13: 4 | F13: 5 | G13: 6 | I13: 7 | J13: 8 | K13: 9 | M13: 10 | N13: 11 | O13: 12 | Q13: 13
A14: 0 | E14: 318 | I14: 1262 | M14: 57 | Q14: 550
A15: 1 | E15: 224 | I15: 1255 | M15: 41 | Q15: 528
A16: 2 | E16: 224 | I16: 1169 | M16: 41 | Q16: 491
A17: 3 | E17: 224 | I17: 1112 | M17: 40 | Q17: 456
A18: 4 | E18: 225 | I18: 1180 | M18: 40 | Q18: 458
A19: 5 | E19: 297 | I19: 1171 | M19: 53 | Q19: 437
A20: 6 | E20: 526 | I20: 1159 | M20: 93 | Q20: 413
A21: 7 | E21: 482 | I21: 1226 | M21: 84 | Q21: 448
A22: 8 | E22: 434 | I22: 1270 | M22: 74 | Q22: 449
A23: 9 | E23: 401 | I23: 1249 | M23: 63 | Q23: 380
A24: 10 | E24: 365 | I24: 1289 | M24: 56 | Q24: 409
A25: 11 | E25: 361 | I25: 1266 | M25: 56 | Q25: 427
... A37: 23 | E37: 533 | I37: 1199 | M37: 96 | Q37: 494
A38: Итого | E38: =SUM(E14:E37) -> 8892 | I38: =SUM(I14:I37) -> 29316 | M38: =SUM(M14:M37) -> 1512 | Q38: =SUM(Q14:Q37) -> 10781
A39: 1. При наличии на предприятии отклонений от нормальных режимов электропотребления (временное изменение схем питания, остановка на ремонт, резкое снижение
A40: эл.потребления и т.д.) последние необходимо перечислить.
A41: Главный инженер АО "Вологдаоблэнерго" А.В. Чурляев
A42: составляется самим предприятием с соблюдением всех пунктов настоящей таблицы.

Sheet 7
B1: АО "Вологдаоблэнерго" | J1: код 900151 | N1: ПС "ЗАПАДНАЯ"
B2: наименование предприятия | N2: наименование источника питания
N3: _________________________________
B4: ул. Горького, 99 | I4: Таблица № 1 | O4: РП 7
B5: адрес
A6: почасовых записей показаний электрических счетчиков
A7: в режимный день 18 декабря 2024 г.
A8: 371 | B8: 367
A9: часы суток | B9: Активная энергия | J9: Реактивная энергия
B10: яч. 3 "П/Я-1" | F10: яч. 10 "П/Я-2" | J10: яч. 3 "П/Я-1" | N10: яч. 10 "П/Я-2"
B11: Расчет. Коэф. | E11: 12000 | F11: Расчет. Коэф. | I11: 7200 | J11: Расчет. Коэф. | M11: =E11 -> 12000 | N11: Расчет. Коэф. | Q11: =I11 -> 7200
B12: показания счетчика | C12: разность | E12: расход эл.энергии за час | F12: показания счетчика | G12: разность | I12: расход эл.энергии за час | J12: показания счетчика | K12: разность | M12: расход эл.энергии за час | N12: показания счетчика | O12: разность | Q12: расход эл.энергии за час
A13: 1 | B13: 2 | C13: 3 | E13: 4 | F13: 5 | G13: 6 | I13: 7 | J13: 8 | K13: 9 | M13: 10 | N13: 11 | O13: 12 | Q13: 13
A14: 0 | E14: 1737 | I14: 1641 | M14: 443 | Q14: 287
A15: 1 | E15: 1676 | I15: 1556 | M15: 402 | Q15: 291
A16: 2 | E16: 1659 | I16: 1529 | M16: 407 | Q16: 285
A17: 3 | E17: 1674 | I17: 1511 | M17: 408 | Q17: 289
A18: 4 | E18: 1718 | I18: 1511 | M18: 405 | Q18: 281
A19: 5 | E19: 1735 | I19: 1631 | M19: 402 | Q19: 275
A20: 6 | E20: 1817 | I20: 1894 | M20: 394 | Q20: 276
A21: 7 | E21: 1922 | I21: 2185 | M21: 419 | Q21: 296
A22: 8 | E22: 2243 | I22: 2329 | M22: 476 | Q22: 342
A23: 9 | E23: 2263 | I23: 2369 | M23: 493 | Q23: 334
A24: 10 | E24: 2226 | I24: 2492 | M24: 523 | Q24: 337
A25: 11 | E25: 2266 | I25: 2455 | M25: 520 | Q25: 350
... A37: 23 | E37: 2221 | I37: 1841 | M37: 572 | Q37: 296
A38: Итого | E38: =SUM(E14:E37) -> 53032 | I38: =SUM(I14:I37) -> 50923 | M38: =SUM(M14:M37) -> 12346 | Q38: =SUM(Q14:Q37) -> 7396
A39: 1. При наличии на предприятии отклонений от нормальных режимов электропотребления (временное изменение схем питания, остановка на ремонт, резкое снижение
A40: эл.потребления и т.д.) последние необходимо перечислить.
A41: Главный инженер АО "Вологдаоблэнерго" А.В. Чурляев
A42: составляется самим предприятием с соблюдением всех пунктов настоящей таблицы.

Sheet 8
B1: АО "Вологдаоблэнерго" | J1: код 900151 | N1: ПС "ЗАПАДНАЯ"
B2: наименование предприятия | I2: _ | N2: наименование источника питания
N3: _________________________________
B4: ул. Горького, 99 | I4: Таблица № 1 | O4: РП 35; РП 37
B5: адрес
A6: почасовых записей показаний электрических счетчиков
A7: в режимный день 18 декабря 2024 г.
A8: 129 | B8: 130
A9: часы суток | B9: Активная энергия | J9: Реактивная энергия
B10: яч. 15 "РП -35" | F10: яч. 35 "РП-37" | J10: яч. 15 "РП -35" | N10: яч. 35 "РП-37"
B11: Расчет. Коэф. | E11: 3600 | F11: Расчет. Коэф. | I11: 4800 | J11: Расчет. Коэф. | M11: =E11 -> 3600 | N11: Расчет. Коэф. | Q11: =I11 -> 4800
B12: показания счетчика | C12: разность | E12: расход эл.энергии за час | F12: показания счетчика | G12: разность | I12: расход эл.энергии за час | J12: показания счетчика | K12: разность | M12: расход эл.энергии за час | N12: показания счетчика | O12: разность | Q12: расход эл.энергии за час
A13: 1 | B13: 2 | C13: 3 | E13: 4 | F13: 5 | G13: 6 | I13: 7 | J13: 8 | K13: 9 | M13: 10 | N13: 11 | O13: 12 | Q13: 13
A14: 0 | E14: 293 | I14: 462 | M14: 121 | Q14: 191
A15: 1 | E15: 293 | I15: 535 | M15: 116 | Q15: 191
A16: 2 | E16: 293 | I16: 451 | M16: 114 | Q16: 179
A17: 3 | E17: 292 | I17: 413 | M17: 112 | Q17: 161
A18: 4 | E18: 293 | I18: 428 | M18: 112 | Q18: 162
A19: 5 | E19: 292 | I19: 517 | M19: 112 | Q19: 166
A20: 6 | E20: 294 | I20: 529 | M20: 111 | Q20: 169
A21: 7 | E21: 293 | I21: 589 | M21: 112 | Q21: 170
A22: 8 | E22: 295 | I22: 641 | M22: 108 | Q22: 222
A23: 9 | E23: 295 | I23: 759 | M23: 109 | Q23: 237
A24: 10 | E24: 294 | I24: 664 | M24: 109 | Q24: 218
A25: 11 | E25: 294 | I25: 635 | M25: 110 | Q25: 215
... A37: 23 | E37: 295 | I37: 459 | M37: 120 | Q37: 188
A38: Итого | E38: =SUM(E14:E37) -> 7050 | I38: =SUM(I14:I37) -> 13944 | M38: =SUM(M14:M37) -> 2726 | Q38: =SUM(Q14:Q37) -> 4803
A39: 1. При наличии на предприятии отклонений от нормальных режимов электропотребления (временное изменение схем питания, остановка на ремонт, резкое снижение
A40: эл.потребления и т.д.) последние необходимо перечислить.
A41: Главный инженер АО "Вологдаоблэнерго" А.В. Чурляев
A42: составляется самим предприятием с соблюдением всех пунктов настоящей таблицы.

Sheet 9
B1: АО "Вологдаоблэнерго" | J1: код 900151 | N1: ПС "ЗАПАДНАЯ"
B2: наименование предприятия | N2: наименование источника питания
N3: _________________________________
B4: ул. Горького, 99 | I4: Таблица № 1 | O4: РП 28
B5: адрес
A6: почасовых записей показаний электрических счетчиков
A7: в режимный день 18 декабря 2024 г.
A8: 366 | B8: 369
A9: часы суток | B9: Активная энергия | J9: Реактивная энергия
B10: яч. 17 "ГОРОД-2" | F10: яч. 22 - "ОЧИСТНЫЕ-2" | J10: ЯЧ. №17 - "ГОРОД-2" | N10: ЯЧ. №22 - "ОЧИСТНЫЕ-2"
B11: Расчет. Коэф. | E11: 7200 | F11: Расчет. Коэф. | I11: 7200 | J11: Расчет. Коэф. | M11: =E11 -> 7200 | N11: Расчет. Коэф. | Q11: =I11 -> 7200
B12: показания счетчика | C12: разность | E12: расход эл.энергии за час | F12: показания счетчика | G12: разность | I12: расход эл.энергии за час | J12: показания счетчика | K12: разность | M12: расход эл.энергии за час | N12: показания счетчика | O12: разность | Q12: расход эл.энергии за час
A13: 1 | B13: 2 | C13: 3 | E13: 4 | F13: 5 | G13: 6 | I13: 7 | J13: 8 | K13: 9 | M13: 10 | N13: 11 | O13: 12 | Q13: 13
A14: 0 | E14: 669 | I14: 854 | M14: 115 | Q14: 377
A15: 1 | E15: 651 | I15: 939 | M15: 107 | Q15: 435
A16: 2 | E16: 634 | I16: 846 | M16: 105 | Q16: 379
A17: 3 | E17: 620 | I17: 835 | M17: 105 | Q17: 366
A18: 4 | E18: 632 | I18: 827 | M18: 106 | Q18: 360
A19: 5 | E19: 688 | I19: 835 | M19: 109 | Q19: 355
A20: 6 | E20: 760 | I20: 983 | M20: 115 | Q20: 352
A21: 7 | E21: 843 | I21: 1124 | M21: 130 | Q21: 344
A22: 8 | E22: 977 | I22: 1324 | M22: 180 | Q22: 424
A23: 9 | E23: 1053 | I23: 1495 | M23: 216 | Q23: 508
A24: 10 | E24: 1078 | I24: 1390 | M24: 210 | Q24: 459
A25: 11 | E25: 1029 | I25: 1376 | M25: 192 | Q25: 463
... A37: 23 | E37: 737 | I37: 856 | M37: 121 | Q37: 381
A38: Итого | E38: =SUM(E14:E37) -> 20940 | I38: =SUM(I14:I37) -> 27401 | M38: =SUM(M14:M37) -> 3535 | Q38: =SUM(Q14:Q37) -> 9988
A39: 1. При наличии на предприятии отклонений от нормальных режимов электропотребления (временное изменение схем питания, остановка на ремонт, резкое снижение
A40: эл.потребления и т.д.) последние необходимо перечислить.
A41: Главный инженер АО "Вологдаоблэнерго" А.В. Чурляев
A42: составляется самим предприятием с соблюдением всех пунктов настоящей таблицы.

Sheet 10
B1: АО "Вологдаоблэнерго" | J1: код 900151 | N1: ПС "СЕВЕРНАЯ 35/6 кВ
B2: наименование предприятия | N2: наименование источника питания
N3: _________________________________
B4: ул. Горького, 99 | I4: Таблица № 1 | N4: Т1, Т2 | O4: РП 5
B5: адрес
A6: почасовых записей показаний электрических счетчиков
A7: в режимный день 18 декабря 2024 г.
A8: 325 | B8: 328
A9: часы суток | B9: Активная энергия | J9: Реактивная энергия
B10: Т 1 -РП 5 Ф 3 ввод № 1 | F10: Т 2 - РП 5 Ф 17 ввод № 2 | J10: Т 1 -РП 5 Ф 3 ввод № 1 | N10: Т 2 - РП 5 Ф 17 ввод № 2
B11: Расчет. Коэф. | E11: 18000 | F11: Расчет. Коэф. | I11: 18000 | J11: Расчет. Коэф. | M11: =E11 -> 18000 | N11: Расчет. Коэф. | Q11: =I11 -> 18000
B12: показания счетчика | C12: разность | E12: расход эл.энергии за час | F12: показания счетчика | G12: разность | I12: расход эл.энергии за час | J12: показания счетчика | K12: разность | M12: расход эл.энергии за час | N12: показания счетчика | O12: разность | Q12: расход эл.энергии за час
A13: 1 | B13: 2 | C13: 3 | E13: 4 | F13: 5 | G13: 6 | I13: 7 | J13: 8 | K13: 9 | M13: 10 | N13: 11 | O13: 12 | Q13: 13
A14: 0 | E14: 1.08 | I14: 7.632 | M14: 10.2 | Q14: 3.924
A15: 1 | E15: 0.96 | I15: 7.308 | M15: 9.6 | Q15: 3.744
A16: 2 | E16: 0.84 | I16: 7.164 | M16: 9.6 | Q16: 3.708
A17: 3 | E17: 0.96 | I17: 7.2 | M17: 9.6 | Q17: 3.708
A18: 4 | E18: 1.08 | I18: 7.272 | M18: 9.6 | Q18: 3.744
A19: 5 | E19: 0.96 | I19: 7.344 | M19: 9.84 | Q19: 3.78
A20: 6 | E20: 0.96 | I20: 7.524 | M20: 10.08 | Q20: 3.888
A21: 7 | E21: 0.96 | I21: 7.524 | M21: 9.96 | Q21: 3.852
A22: 8 | E22: 0.96 | I22: 7.056 | M22: 9.6 | Q22: 3.6
A23: 9 | E23: 0.96 | I23: 6.948 | M23: 9.24 | Q23: 3.528
A24: 10 | E24: 0.96 | I24: 7.092 | M24: 9.6 | Q24: 3.636
A25: 11 | E25: 0.96 | I25: 7.128 | M25: 9.72 | Q25: 3.636
... A37: 23 | E37: 0.96 | I37: 7.452 | M37: 9.84 | Q37: 3.852
A38: Итого | E38: =SUM(E14:E37) -> 23.28 | I38: =SUM(I14:I37) -> 177.192 | M38: =SUM(M14:M37) -> 237.12 | Q38: =SUM(Q14:Q37) -> 91.152
A39: 1. При наличии на предприятии отклонений от нормальных режимов электропотребления (временное изменение схем питания, остановка на ремонт, резкое снижение
A40: эл.потребления и т.д.) последние необходимо перечислить.
A41: Главный инженер АО "Вологдаоблэнерго" А.В. Чурляев
A42: составляется самим предприятием с соблюдением всех пунктов настоящей таблицы.

Sheet 11
B1: АО "Вологдаоблэнерго" | G1: код 900151 | I1: ПС "ВОЛОГДА-ЮЖНАЯ" 110/6 транзит через РТП "ТЕПЛИЧНОГО ХОЗ - ВА"
B2: наименование предприятия | N2: наименование источника питания
N3: _________________________________
B4: ул. Горького, 99 | I4: Таблица № 1 | O4: ТП 438
B5: адрес
A6: почасовых записей показаний электрических счетчиков
A7: в режимный день 18 декабря 2024 г.
A8: 635 | B8: 634
A9: часы суток | B9: Активная энергия | J9: Реактивная энергия
B10: ЯЧ. 3 - ф. "Микрорайон-1" ввод № 1 | F10: яч. 13 - ф. "Микрорайон-2" ввод № 2 | J10: ЯЧ. 3 - ф. "Микрорайон-1" ввод № 1 | N10: яч. 13 - ф. "Микрорайон-2" ввод № 2
B11: Расчет. Коэф. | E11: 3600 | F11: Расчет. Коэф. | I11: 3600 | J11: Расчет. Коэф. | M11: =E11 -> 3600 | N11: Расчет. Коэф. | Q11: =I11 -> 3600
B12: показания счетчика | C12: разность | E12: расход эл.энергии за час | F12: показания счетчика | G12: разность | I12: расход эл.энергии за час | J12: показания счетчика | K12: разность | M12: расход эл.энергии за час | N12: показания счетчика | O12: разность | Q12: расход эл.энергии за час
A13: 1 | B13: 2 | C13: 3 | E13: 4 | F13: 5 | G13: 6 | I13: 7 | J13: 8 | K13: 9 | M13: 10 | N13: 11 | O13: 12 | Q13: 13
A14: 0 | E14: 127.44 | I14: 154.44 | M14: 35.64 | Q14: 47.16
A15: 1 | E15: 119.52 | I15: 140.4 | M15: 35.28 | Q15: 45.36
A16: 2 | E16: 110.88 | I16: 132.84 | M16: 34.2 | Q16: 45
A17: 3 | E17: 108 | I17: 130.68 | M17: 32.76 | Q17: 43.56
A18: 4 | E18: 115.56 | I18: 129.96 | M18: 36.72 | Q18: 41.76
A19: 5 | E19: 125.64 | I19: 173.88 | M19: 34.2 | Q19: 43.92
A20: 6 | E20: 167.76 | I20: 200.16 | M20: 36.36 | Q20: 48.24
A21: 7 | E21: 196.92 | I21: 215.28 | M21: 35.28 | Q21: 48.24
A22: 8 | E22: 230.4 | I22: 225.72 | M22: 37.8 | Q22: 47.88
A23: 9 | E23: 219.6 | I23: 226.44 | M23: 40.68 | Q23: 47.16
A24: 10 | E24: 219.6 | I24: 239.4 | M24: 39.24 | Q24: 48.24
A25: 11 | E25: 223.2 | I25: 236.52 | M25: 38.52 | Q25: 48.6
... A37: 23 | E37: 142.56 | I37: 187.2 | M37: 39.96 | Q37: 49.68
A38: Итого | E38: =SUM(E14:E37) -> 4550.4 | I38: =SUM(I14:I37) -> 5225.76 | M38: =SUM(M14:M37) -> 976.32 | Q38: =SUM(Q14:Q37) -> 1159.92
A39: 1. При наличии на предприятии отклонений от нормальных режимов электропотребления (временное изменение схем питания, остановка на ремонт, резкое снижение
A40: эл.потребления и т.д.) последние необходимо перечислить.
A41: Главный инженер АО "Вологдаоблэнерго" А.В. Чурляев
A42: составляется самим предприятием с соблюдением всех пунктов настоящей таблицы.

Sheet 12
B1: АО "Вологдаоблэнерго" | J1: код 900151 | N1: ГПП 110/10 кВ "ВОМЗ"
B2: наименование предприятия | N2: наименование источника питания
N3: _________________________________
B4: ул. Горького, 99 | I4: Таблица № 1 | O4: РП 29
B5: адрес
A6: почасовых записей показаний электрических счетчиков
A7: в режимный день 18 декабря 2024 г.
A8: 613 | B8: 610
A9: часы суток | B9: Активная энергия | J9: Реактивная энергия
B10: ЯЧ.47 - РП 29 ввод № 1 | F10: ЯЧ.31 - РП 29 ввод № 2 | J10: ЯЧ.47 - РП 29 ввод № 1 | N10: ЯЧ.31 - РП 29 ввод № 2
B11: Расчет. Коэф. | E11: 12000 | F11: Расчет. Коэф. | I11: 20000 | J11: Расчет. Коэф. | M11: =E11 -> 12000 | N11: Расчет. Коэф. | Q11: =I11 -> 20000
B12: показания счетчика | C12: разность | E12: расход эл.энергии за час | F12: показания счетчика | G12: разность | I12: расход эл.энергии за час | J12: показания счетчика | K12: разность | M12: расход эл.энергии за час | N12: показания счетчика | O12: разность | Q12: расход эл.энергии за час
A13: 1 | B13: 2 | C13: 3 | E13: 4 | F13: 5 | G13: 6 | I13: 7 | J13: 8 | K13: 9 | M13: 10 | N13: 11 | O13: 12 | Q13: 13
A14: 0 | E14: 1020 | I14: 818 | M14: 270 | Q14: 100
A15: 1 | E15: 916 | I15: 758 | M15: 273 | Q15: 102
A16: 2 | E16: 857 | I16: 730 | M16: 263 | Q16: 98
A17: 3 | E17: 843 | I17: 718 | M17: 259 | Q17: 96
A18: 4 | E18: 860 | I18: 762 | M18: 249 | Q18: 94
A19: 5 | E19: 992 | I19: 818 | M19: 255 | Q19: 94
A20: 6 | E20: 1254 | I20: 1044 | M20: 259 | Q20: 96
A21: 7 | E21: 1586 | I21: 1324 | M21: 281 | Q21: 114
A22: 8 | E22: 1788 | I22: 1662 | M22: 282 | Q22: 114
A23: 9 | E23: 2034 | I23: 1734 | M23: 282 | Q23: 102
A24: 10 | E24: 2138 | I24: 1800 | M24: 276 | Q24: 100
A25: 11 | E25: 2170 | I25: 1720 | M25: 279 | Q25: 86
... A37: 23 | E37: 1173 | I37: 898 | M37: 273 | Q37: 98
A38: Итого | E38: =SUM(E14:E37) -> 39297 | I38: =SUM(I14:I37) -> 31766 | M38: =SUM(M14:M37) -> 6698 | Q38: =SUM(Q14:Q37) -> 2460
A39: 1. При наличии на предприятии отклонений от нормальных режимов электропотребления (временное изменение схем питания, остановка на ремонт, резкое снижение
A40: эл.потребления и т.д.) последние необходимо перечислить.
A41: Главный инженер АО "Вологдаоблэнерго" А.В. Чурляев
A42: составляется самим предприятием с соблюдением всех пунктов настоящей таблицы.

Sheet 13
B1: АО "Вологдаоблэнерго" | J1: код 900151 | N1: ГПП 110/10 кВ "ВОМЗ"
B2: наименование предприятия | N2: наименование источника питания
N3: _________________________________
B4: ул. Горького, 99 | I4: Таблица № 1 | O4: РП 14
B5: адрес
A6: почасовых записей показаний электрических счетчиков
A7: в режимный день 18 декабря 2024 г.
A8: 614 | B8: 615
A9: часы суток | B9: Активная энергия | J9: Реактивная энергия
B10: ЯЧ.5 - РП 14 ввод № 1 | F10: ЯЧ.22 - РП 14 ввод № 2 | J10: ЯЧ.5 - РП 14 ввод № 1 | N10: ЯЧ.22 - РП 14 ввод № 2
B11: Расчет. Коэф. | E11: 12000 | F11: Расчет. Коэф. | I11: 12000 | J11: Расчет. Коэф. | M11: =E11 -> 12000 | N11: Расчет. Коэф. | Q11: =I11 -> 12000
B12: показания счетчика | C12: разность | E12: расход эл.энергии за час | F12: показания счетчика | G12: разность | I12: расход эл.энергии за час | J12: показания счетчика | K12: разность | M12: расход эл.энергии за час | N12: показания счетчика | O12: разность | Q12: расход эл.энергии за час
A13: 1 | B13: 2 | C13: 3 | E13: 4 | F13: 5 | G13: 6 | I13: 7 | J13: 8 | K13: 9 | M13: 10 | N13: 11 | O13: 12 | Q13: 13
A14: 0 | E14: 1637 | I14: 2540 | M14: 3 | Q14: 49
A15: 1 | E15: 1501 | I15: 2390 | M15: 2 | Q15: 40
A16: 2 | E16: 1417 | I16: 2304 | M16: 1 | Q16: 36
A17: 3 | E17: 1415 | I17: 2308 | M17: 1 | Q17: 19
A18: 4 | E18: 1449 | I18: 2334 | M18: 0 | Q18: 30
A19: 5 | E19: 1540 | I19: 2584 | M19: 0 | Q19: 37
A20: 6 | E20: 1878 | I20: 3219 | M20: 0 | Q20: 46
A21: 7 | E21: 2151 | I21: 3801 | M21: 8 | Q21: 60
A22: 8 | E22: 2406 | I22: 4311 | M22: 10 | Q22: 141
A23: 9 | E23: 2660 | I23: 4590 | M23: 10 | Q23: 185
A24: 10 | E24: 2835 | I24: 4739 | M24: 24 | Q24: 88
A25: 11 | E25: 2854 | I25: 4757 | M25: 32 | Q25: 138
... A37: 23 | E37: 1918 | I37: 2871 | M37: 1 | Q37: 16
A38: Итого | E38: =SUM(E14:E37) -> 56860 | I38: =SUM(I14:I37) -> 91276 | M38: =SUM(M14:M37) -> 288 | Q38: =SUM(Q14:Q37) -> 1916
A39: 1. При наличии на предприятии отклонений от нормальных режимов электропотребления (временное изменение схем питания, остановка на ремонт, резкое снижение
A40: эл.потребления и т.д.) последние необходимо перечислить.
A41: Главный инженер АО "Вологдаоблэнерго" А.В. Чурляев
A42: составляется самим предприятием с соблюдением всех пунктов настоящей таблицы.

Sheet 14
B1: АО "Вологдаоблэнерго" | J1: код 900151 | N1: ГПП 110/10 кВ "ВОМЗ"
B2: наименование предприятия | N2: наименование источника питания
N3: _________________________________
B4: ул. Горького, 99 | I4: Таблица № 1 | O4: РП 2
B5: адрес
A6: почасовых записей показаний электрических счетчиков
A7: в режимный день 18 декабря 2024 г.
A8: 612 | B8: 611
A9: часы суток | B9: Активная энергия | J9: Реактивная энергия
B10: ЯЧ.44 - РП 2 ввод № 1 | F10: ЯЧ.26в - РП 2 ввод № 2 | J10: ЯЧ.44 - РП 2 ввод № 1 | N10: ЯЧ.26в - РП 2 ввод № 2
B11: Расчет. Коэф. | E11: 12000 | F11: Расчет. Коэф. | I11: 12000 | J11: Расчет. Коэф. | M11: =E11 -> 12000 | N11: Расчет. Коэф. | Q11: =I11 -> 12000
B12: показания счетчика | C12: разность | E12: расход эл.энергии за час | F12: показания счетчика | G12: разность | I12: расход эл.энергии за час | J12: показания счетчика | K12: разность | M12: расход эл.энергии за час | N12: показания счетчика | O12: разность | Q12: расход эл.энергии за час
A13: 1 | B13: 2 | C13: 3 | E13: 4 | F13: 5 | G13: 6 | I13: 7 | J13: 8 | K13: 9 | M13: 10 | N13: 11 | O13: 12 | Q13: 13
A14: 0 | E14: 630 | I14: 492 | M14: 19 | Q14: 7
A15: 1 | E15: 586 | I15: 460 | M15: 11 | Q15: 5
A16: 2 | E16: 564 | I16: 443 | M16: 18 | Q16: 6
A17: 3 | E17: 543 | I17: 449 | M17: 10 | Q17: 3
A18: 4 | E18: 539 | I18: 472 | M18: 8 | Q18: 4
A19: 5 | E19: 584 | I19: 497 | M19: 5 | Q19: 5
A20: 6 | E20: 719 | I20: 603 | M20: 7 | Q20: 10
A21: 7 | E21: 799 | I21: 682 | M21: 19 | Q21: 17
A22: 8 | E22: 886 | I22: 815 | M22: 47 | Q22: 9
A23: 9 | E23: 960 | I23: 939 | M23: 65 | Q23: 13
A24: 10 | E24: 986 | I24: 980 | M24: 53 | Q24: 6
A25: 11 | E25: 990 | I25: 960 | M25: 51 | Q25: 3
... A37: 23 | E37: 678 | I37: 559 | M37: 3 | Q37: 1
A38: Итого | E38: =SUM(E14:E37) -> 20279 | I38: =SUM(I14:I37) -> 17628 | M38: =SUM(M14:M37) -> 682 | Q38: =SUM(Q14:Q37) -> 173
A39: 1. При наличии на предприятии отклонений от нормальных режимов электропотребления (временное изменение схем питания, остановка на ремонт, резкое снижение
A40: эл.потребления и т.д.) последние необходимо перечислить.
A41: Главный инженер АО "Вологдаоблэнерго" А.В. Чурляев
A42: составляется самим предприятием с соблюдением всех пунктов настоящей таблицы.

Sheet 15
B1: АО "Вологдаоблэнерго" | J1: код 900151 | N1: ПС ВОЛОГДА-ЮЖНАЯ РУ - 6 кВ
B2: наименование предприятия | N2: наименование источника питания
N3: _________________________________
B4: ул. Горького, 99 | I4: Таблица № 1 | N4: ТП 450 | Q4: ТП 630
B5: адрес
A6: почасовых записей показаний электрических счетчиков
A7: в режимный день 18 декабря 2024 г.
A8: 591 | B8: 595
A9: часы суток | B9: Активная энергия | J9: Реактивная энергия
B10: ЯЧ.№ 206 - "ГОРОД-15" | F10: ЯЧ.№103 - "ТУБДИСПАНСЕР" | J10: =B10 -> ЯЧ.№ 206 - "ГОРОД-15" | N10: =F10 -> ЯЧ.№103 - "ТУБДИСПАНСЕР"
B11: Расчет. Коэф. | E11: 4800 | F11: Расчет. Коэф. | I11: 2400 | J11: Расчет. Коэф. | M11: =E11 -> 4800 | N11: Расчет. Коэф. | Q11: =I11 -> 2400
B12: показания счетчика | C12: разность | E12: расход эл.энергии за час | F12: показания счетчика | G12: разность | I12: расход эл.энергии за час | J12: показания счетчика | K12: разность | M12: расход эл.энергии за час | N12: показания счетчика | O12: разность | Q12: расход эл.энергии за час
A13: 1 | B13: 2 | C13: 3 | E13: 4 | F13: 5 | G13: 6 | I13: 7 | J13: 8 | K13: 9 | M13: 10 | N13: 11 | O13: 12 | Q13: 13
A14: 0 | E14: 408 | I14: 283 | M14: 77 | Q14: 32
A15: 1 | E15: 415 | I15: 274 | M15: 78 | Q15: 33
A16: 2 | E16: 401 | I16: 269 | M16: 76 | Q16: 34
A17: 3 | E17: 302 | I17: 260 | M17: 50 | Q17: 33
A18: 4 | E18: 314 | I18: 258 | M18: 51 | Q18: 26
A19: 5 | E19: 352 | I19: 266 | M19: 57 | Q19: 29
A20: 6 | E20: 406 | I20: 314 | M20: 63 | Q20: 37
A21: 7 | E21: 512 | I21: 363 | M21: 128 | Q21: 54
A22: 8 | E22: 653 | I22: 411 | M22: 196 | Q22: 49
A23: 9 | E23: 735 | I23: 422 | M23: 262 | Q23: 55
A24: 10 | E24: 703 | I24: 441 | M24: 264 | Q24: 66
A25: 11 | E25: 691 | I25: 436 | M25: 266 | Q25: 61
... A37: 23 | E37: 445 | I37: 336 | M37: 87 | Q37: 41
A38: Итого | E38: =SUM(E14:E37) -> 12486 | I38: =SUM(I14:I37) -> 9197 | M38: =SUM(M14:M37) -> 3342 | Q38: =SUM(Q14:Q37) -> 1087
A39: 1. При наличии на предприятии отклонений от нормальных режимов электропотребления (временное изменение схем питания, остановка на ремонт, резкое снижение
A40: эл.потребления и т.д.) последние необходимо перечислить.
A41: Главный инженер АО "Вологдаоблэнерго" А.В. Чурляев
A42: составляется самим предприятием с соблюдением всех пунктов настоящей таблицы.

Sheet 16
B1: АО "Вологдаоблэнерго" | J1: код 900151 | N1: ПС ВОЛОГДА-ЮЖНАЯ РУ-10 кВ
B2: наименование предприятия | I2: _ | N2: наименование источника питания
N3: _________________________________
B4: ул. Горького, 99 | I4: Таблица № 1 | O4: РП 32
B5: адрес
A6: почасовых записей показаний электрических счетчиков
A7: в режимный день 18 декабря 2024 г.
A8: 590 | B8: 593
A9: часы суток | B9: Активная энергия | J9: Реактивная энергия
B10: ЯЧ.№206 - "ГОРОД-10" | F10: ЯЧ.№404- "ГОРОД-14" | J10: =B10 -> ЯЧ.№206 - "ГОРОД-10" | N10: =F10 -> ЯЧ.№404- "ГОРОД-14"
B11: Расчет. Коэф. | E11: 6000 | F11: Расчет. Коэф. | I11: 3000 | J11: Расчет. Коэф. | M11: =E11 -> 6000 | N11: Расчет. Коэф. | Q11: =I11 -> 3000
B12: показания счетчика | C12: разность | E12: расход эл.энергии за час | F12: показания счетчика | G12: разность | I12: расход эл.энергии за час | J12: показания счетчика | K12: разность | M12: расход эл.энергии за час | N12: показания счетчика | O12: разность | Q12: расход эл.энергии за час
A13: 1 | B13: 2 | C13: 3 | E13: 4 | F13: 5 | G13: 6 | I13: 7 | J13: 8 | K13: 9 | M13: 10 | N13: 11 | O13: 12 | Q13: 13
A14: 0 | E14: 851 | I14: 815 | M14: 31 | Q14: 90
A15: 1 | E15: 836 | I15: 783 | M15: 40 | Q15: 83
A16: 2 | E16: 812 | I16: 786 | M16: 30 | Q16: 82
A17: 3 | E17: 853 | I17: 750 | M17: 34 | Q17: 60
A18: 4 | E18: 937 | I18: 765 | M18: 30 | Q18: 64
A19: 5 | E19: 960 | I19: 807 | M19: 30 | Q19: 65
A20: 6 | E20: 1121 | I20: 901 | M20: 33 | Q20: 46
A21: 7 | E21: 1434 | I21: 1096 | M21: 36 | Q21: 50
A22: 8 | E22: 1588 | I22: 1347 | M22: 17 | Q22: 116
A23: 9 | E23: 1650 | I23: 1377 | M23: 19 | Q23: 128
A24: 10 | E24: 1723 | I24: 1386 | M24: 24 | Q24: 152
A25: 11 | E25: 1694 | I25: 1371 | M25: 24 | Q25: 131
... A37: 23 | E37: 902 | I37: 894 | M37: 34 | Q37: 90
A38: Итого | E38: =SUM(E14:E37) -> 29739 | I38: =SUM(I14:I37) -> 26078 | M38: =SUM(M14:M37) -> 551 | Q38: =SUM(Q14:Q37) -> 2115
A39: 1. При наличии на предприятии отклонений от нормальных режимов электропотребления (временное изменение схем питания, остановка на ремонт, резкое снижение
A40: эл.потребления и т.д.) последние необходимо перечислить.
A41: Главный инженер АО "Вологдаоблэнерго" А.В. Чурляев
A42: составляется самим предприятием с соблюдением всех пунктов настоящей таблицы.

Sheet 17
B1: АО "Вологдаоблэнерго" | J1: код 900151 | N1: ПС ВОЛОГДА-ЮЖНАЯ РУ-10 кВ
B2: наименование предприятия | N2: наименование источника питания
N3: РП-44
B4: ул. Горького, 99 | I4: Таблица № 1
B5: адрес
A6: почасовых записей показаний электрических счетчиков
A7: в режимный день 18 декабря 2024 г.
A9: часы суток | B9: Активная энергия | J9: Реактивная энергия
B10: яч. 307 ф "Охмыльцево-1" | F10: яч. 409 ф "Охмыльцево-2" | J10: яч. 307 ф "Охмыльцево-1" | N10: яч. 409 ф "Охмыльцево-2"
B11: Расчет. Коэф. | F11: Расчет. Коэф. | J11: Расчет. Коэф. | N11: Расчет. Коэф.
B12: показания счетчика | C12: разность | E12: расход эл.энергии за час | F12: показания счетчика | G12: разность | I12: расход эл.энергии за час | J12: показания счетчика | K12: разность | M12: расход эл.энергии за час | N12: показания счетчика | O12: разность | Q12: расход эл.энергии за час
A13: 1 | B13: 2 | C13: 3 | E13: 4 | F13: 5 | G13: 6 | I13: 7 | J13: 8 | K13: 9 | M13: 10 | N13: 11 | O13: 12 | Q13: 13
A14: 0 | E14: 698 | I14: 812 | M14: 43 | Q14: 20
A15: 1 | E15: 635 | I15: 710 | M15: 36 | Q15: 18
A16: 2 | E16: 604 | I16: 661 | M16: 40 | Q16: 21
A17: 3 | E17: 606 | I17: 633 | M17: 43 | Q17: 26
A18: 4 | E18: 598 | I18: 650 | M18: 49 | Q18: 31
A19: 5 | E19: 682 | I19: 780 | M19: 54 | Q19: 39
A20: 6 | E20: 876 | I20: 1046 | M20: 67 | Q20: 39
A21: 7 | E21: 1016 | I21: 1160 | M21: 81 | Q21: 26
A22: 8 | E22: 1026 | I22: 1181 | M22: 91 | Q22: 46
A23: 9 | E23: 1011 | I23: 1268 | M23: 94 | Q23: 43
A24: 10 | E24: 1020 | I24: 1334 | M24: 89 | Q24: 45
A25: 11 | E25: 1026 | I25: 1359 | M25: 87 | Q25: 34
... A37: 23 | E37: 835 | I37: 988 | M37: 48 | Q37: 23
A38: Итого | E38: =SUM(E14:E37) -> 23384 | I38: =SUM(I14:I37) -> 29216 | M38: =SUM(M14:M37) -> 1693 | Q38: =SUM(Q14:Q37) -> 779
A39: 1. При наличии на предприятии отклонений от нормальных режимов электропотребления (временное изменение схем питания, остановка на ремонт, резкое снижение
A40: эл.потребления и т.д.) последние необходимо перечислить.
A41: Главный инженер АО "Вологдаоблэнерго" А.В. Чурляев
A42: составляется самим предприятием с соблюдением всех пунктов настоящей таблицы.

Sheet 18
B1: АО "Вологдаоблэнерго" | J1: код 900151 | N1: ПС ВОЛОГДА-ЮЖНАЯ РУ-10 кВ
B2: наименование предприятия | N2: наименование источника питания
N3: _________________________________
B4: ул. Горького, 99 | I4: Таблица № 1 | O4: РП 26
B5: адрес
A6: почасовых записей показаний электрических счетчиков
A7: в режимный день 18 декабря 2024 г.
A8: 589 | B8: 592
A9: часы суток | B9: Активная энергия | J9: Реактивная энергия
B10: ЯЧ. № 107- ф."ГОРОД 7" | F10: ЯЧ. № 204 - ф."ГОРОД 17" | J10: ЯЧ. № 107- ф."ГОРОД 7" | N10: ЯЧ. № 204 - ф."ГОРОД 17"
B11: Расчет. Коэф. | E11: 8000 | F11: Расчет. Коэф. | I11: 8000 | J11: Расчет. Коэф. | M11: =E11 -> 8000 | N11: Расчет. Коэф. | Q11: =I11 -> 8000
B12: показания счетчика | C12: разность | E12: расход эл.энергии за час | F12: показания счетчика | G12: разность | I12: расход эл.энергии за час | J12: показания счетчика | K12: разность | M12: расход эл.энергии за час | N12: показания счетчика | O12: разность | Q12: расход эл.энергии за час
A13: 1 | B13: 2 | C13: 3 | E13: 4 | F13: 5 | G13: 6 | I13: 7 | J13: 8 | K13: 9 | M13: 10 | N13: 11 | O13: 12 | Q13: 13
A14: 0 | E14: 1406 | I14: 1525 | M14: 148 | Q14: 107
A15: 1 | E15: 1267 | I15: 1417 | M15: 144 | Q15: 99
A16: 2 | E16: 1209 | I16: 1361 | M16: 138 | Q16: 101
A17: 3 | E17: 1181 | I17: 1331 | M17: 127 | Q17: 91
A18: 4 | E18: 1209 | I18: 1371 | M18: 117 | Q18: 92
A19: 5 | E19: 1387 | I19: 1519 | M19: 127 | Q19: 97
A20: 6 | E20: 1766 | I20: 2004 | M20: 149 | Q20: 114
A21: 7 | E21: 2006 | I21: 2339 | M21: 242 | Q21: 177
A22: 8 | E22: 2047 | I22: 2567 | M22: 189 | Q22: 175
A23: 9 | E23: 2074 | I23: 2523 | M23: 168 | Q23: 146
A24: 10 | E24: 2114 | I24: 2544 | M24: 167 | Q24: 141
A25: 11 | E25: 2091 | I25: 2523 | M25: 170 | Q25: 126
... A37: 23 | E37: 1689 | I37: 1776 | M37: 152 | Q37: 106
A38: Итого | E38: =SUM(E14:E37) -> 46735 | I38: =SUM(I14:I37) -> 52615 | M38: =SUM(M14:M37) -> 4269 | Q38: =SUM(Q14:Q37) -> 3238
A39: 1. При наличии на предприятии отклонений от нормальных режимов электропотребления (временное изменение схем питания, остановка на ремонт, резкое снижение
A40: эл.потребления и т.д.) последние необходимо перечислить.
A41: Главный инженер АО "Вологдаоблэнерго" А.В. Чурляев
A42: составляется самим предприятием с соблюдением всех пунктов настоящей таблицы.

Sheet 19
B1: АО "Вологдаоблэнерго" | J1: код 900151 | N1: ПС ВОЛОГДА-ЮЖНАЯ РУ - 10 кВ
B2: наименование предприятия | N2: наименование источника питания
N3: _________________________________
B4: ул. Горького, 99 | I4: Таблица № 1 | O4: РП 43
B5: адрес
A6: почасовых записей показаний электрических счетчиков
A7: в режимный день 18 декабря 2024 г.
A8: 597 | B8: 596
A9: часы суток | B9: Активная энергия | J9: Реактивная энергия
B10: ЯЧ.№ 407 - "ГОРОД-3" | F10: ЯЧ.№ 305 - "ГОРОД-5" | J10: ЯЧ.№ 407- "ГОРОД-3" | N10: ЯЧ.№ 305- "ГОРОД-5"
B11: Расчет. Коэф. | E11: 6000 | F11: Расчет. Коэф. | I11: 4000 | J11: Расчет. Коэф. | M11: =E11 -> 6000 | N11: Расчет. Коэф. | Q11: =I11 -> 4000
B12: показания счетчика | C12: разность | E12: расход эл.энергии за час | F12: показания счетчика | G12: разность | I12: расход эл.энергии за час | J12: показания счетчика | K12: разность | M12: расход эл.энергии за час | N12: показания счетчика | O12: разность | Q12: расход эл.энергии за час
A13: 1 | B13: 2 | C13: 3 | E13: 4 | F13: 5 | G13: 6 | I13: 7 | J13: 8 | K13: 9 | M13: 10 | N13: 11 | O13: 12 | Q13: 13
A14: 0 | E14: 2162 | I14: 2219 | M14: 233 | Q14: 298
A15: 1 | E15: 2044 | I15: 2064 | M15: 232 | Q15: 293
A16: 2 | E16: 2000 | I16: 1919 | M16: 231 | Q16: 288
A17: 3 | E17: 1992 | I17: 1858 | M17: 217 | Q17: 270
A18: 4 | E18: 2048 | I18: 1916 | M18: 215 | Q18: 273
A19: 5 | E19: 2214 | I19: 2194 | M19: 222 | Q19: 277
A20: 6 | E20: 2619 | I20: 2712 | M20: 226 | Q20: 298
A21: 7 | E21: 2946 | I21: 3289 | M21: 244 | Q21: 370
A22: 8 | E22: 3302 | I22: 3647 | M22: 338 | Q22: 351
A23: 9 | E23: 3408 | I23: 3931 | M23: 282 | Q23: 316
A24: 10 | E24: 3444 | I24: 4136 | M24: 296 | Q24: 316
A25: 11 | E25: 3478 | I25: 4137 | M25: 288 | Q25: 317
... A37: 23 | E37: 2558 | I37: 2620 | M37: 234 | Q37: 306
A38: Итого | E38: =SUM(E14:E37) -> 73055 | I38: =SUM(I14:I37) -> 81329 | M38: =SUM(M14:M37) -> 6549 | Q38: =SUM(Q14:Q37) -> 7870
A39: 1. При наличии на предприятии отклонений от нормальных режимов электропотребления (временное изменение схем питания, остановка на ремонт, резкое снижение
A40: эл.потребления и т.д.) последние необходимо перечислить.
A41: Главный инженер АО "Вологдаоблэнерго" А.В. Чурляев
A42: составляется самим предприятием с соблюдением всех пунктов настоящей таблицы.

Sheet 20
B1: АО "Вологдаоблэнерго" | J1: код 900151 | N1: ПС ВОЛОГДА-ЮЖНАЯ РУ-10 кВ
B2: наименование предприятия | N2: наименование источника питания
N3: _________________________________
B4: ул. Горького, 99 | I4: Таблица № 1 | O4: РП 27
B5: адрес
A6: почасовых записей показаний электрических счетчиков
A7: в режимный день 18 декабря 2024 г.
A8: 30 | B8: 49
A9: часы суток | B9: Активная энергия | J9: Реактивная энергия
B10: ЯЧ. № 408 - "ГОРОД -1" | F10: ЯЧ.№ 105 - "РП 27" | J10: ЯЧ. № 408 - "ГОРОД -1" | N10: ЯЧ.№ 105 - "РП 27"
B11: Расчет. Коэф. | E11: 12000 | F11: Расчет. Коэф. | I11: 12000 | J11: Расчет. Коэф. | M11: =E11 -> 12000 | N11: Расчет. Коэф. | Q11: =I11 -> 12000
B12: показания счетчика | C12: разность | E12: расход эл.энергии за час | F12: показания счетчика | G12: разность | I12: расход эл.энергии за час | J12: показания счетчика | K12: разность | M12: расход эл.энергии за час | N12: показания счетчика | O12: разность | Q12: расход эл.энергии за час
A13: 1 | B13: 2 | C13: 3 | E13: 4 | F13: 5 | G13: 6 | I13: 7 | J13: 8 | K13: 9 | M13: 10 | N13: 11 | O13: 12 | Q13: 13
A14: 0 | E14: 0 | I14: 0 | M14: 0 | Q14: 0
A15: 1 | E15: 0 | I15: 0 | M15: 0 | Q15: 0
A16: 2 | E16: 0 | I16: 0 | M16: 0 | Q16: 0
A17: 3 | E17: 0 | I17: 0 | M17: 0 | Q17: 0
A18: 4 | E18: 0 | I18: 0 | M18: 0 | Q18: 0
A19: 5 | E19: 0 | I19: 0 | M19: 0 | Q19: 0
A20: 6 | E20: 0 | I20: 0 | M20: 0 | Q20: 0
A21: 7 | E21: 0 | I21: 0 | M21: 0 | Q21: 0
A22: 8 | E22: 0 | I22: 0 | M22: 0 | Q22: 0
A23: 9 | E23: 0 | I23: 0 | M23: 0 | Q23: 0
A24: 10 | E24: 0 | I24: 0 | M24: 0 | Q24: 1
A25: 11 | E25: 0 | I25: 0 | M25: 0 | Q25: 0
... A37: 23 | E37: 0 | I37: 0 | M37: 0 | Q37: 0
A38: Итого | E38: =SUM(E14:E37) -> 0 | I38: =SUM(I14:I37) -> 0 | M38: =SUM(M14:M37) -> 1 | Q38: =SUM(Q14:Q37) -> 1
A39: 1. При наличии на предприятии отклонений от нормальных режимов электропотребления (временное изменение схем питания, остановка на ремонт, резкое снижение
A40: эл.потребления и т.д.) последние необходимо перечислить.
A41: Главный инженер АО "Вологдаоблэнерго" А.В. Чурляев
A42: составляется самим предприятием с соблюдением всех пунктов настоящей таблицы.

Sheet 21
B1: АО "Вологдаоблэнерго" | J1: код 900151 | N1: ПС ВОЛОГДА-ЮЖНАЯ РУ-10 кВ
B2: наименование предприятия | N2: наименование источника питания
N3: яч. 406 ф "РОДИОНЦЕВО",
B4: ул. Горького, 99 | I4: Таблица № 1 | N4: КТП-906, ПКУ- ЛЭП-43
B5: адрес
A6: почасовых записей показаний электрических счетчиков
A7: в режимный день 18 декабря 2024 г.
A8: 362 | B8: 985
A9: часы суток | B9: Активная энергия | J9: Реактивная энергия
B10: яч. 406 ф "РОДИОНЦЕВО" - ПКУ | F10: КТП-906 | J10: яч. 406 ф "РОДИОНЦЕВО" - ПКУ | N10: КТП-906
B11: Расчет. Коэф. | E11: 2000 | F11: Расчет. Коэф. | I11: 80 | J11: Расчет. Коэф. | M11: =E11 -> 2000 | N11: Расчет. Коэф. | Q11: =I11 -> 80
B12: показания счетчика | C12: разность | E12: расход эл.энергии за час | F12: показания счетчика | G12: разность | I12: расход эл.энергии за час | J12: показания счетчика | K12: разность | M12: расход эл.энергии за час | N12: показания счетчика | O12: разность | Q12: расход эл.энергии за час
A13: 1 | B13: 2 | C13: 3 | E13: 4 | F13: 5 | G13: 6 | I13: 7 | J13: 8 | K13: 9 | M13: 10 | N13: 11 | O13: 12 | Q13: 13
A14: 0 | E14: 2746 | I14: 10.72 | M14: 0 | Q14: 2.84
A15: 1 | E15: 2676 | I15: 10.84 | M15: 0 | Q15: 2.84
A16: 2 | E16: 2728 | I16: 10.88 | M16: 0 | Q16: 2.4
A17: 3 | E17: 2708 | I17: 10.04 | M17: 0 | Q17: 2.48
A18: 4 | E18: 2753 | I18: 9.04 | M18: 0 | Q18: 1.76
A19: 5 | E19: 2794 | I19: 9.6 | M19: 0 | Q19: 1.64
A20: 6 | E20: 2921 | I20: 11.12 | M20: 0 | Q20: 2.24
A21: 7 | E21: 2902 | I21: 14.28 | M21: 0 | Q21: 2.36
A22: 8 | E22: 2940 | I22: 13.28 | M22: 0 | Q22: 2.72
A23: 9 | E23: 2947 | I23: 14.52 | M23: 0 | Q23: 2.56
A24: 10 | E24: 2904 | I24: 12.24 | M24: 0 | Q24: 2.32
A25: 11 | E25: 2965 | I25: 12.56 | M25: 0 | Q25: 2.48
... A37: 23 | E37: 3048 | I37: 14.92 | M37: 0 | Q37: 3.16
A38: Итого | E38: =SUM(E14:E37) -> 70589 | I38: =SUM(I14:I37) -> 311.16 | M38: =SUM(M14:M37) -> 0 | Q38: =SUM(Q14:Q37) -> 65.16
A39: 1. При наличии на предприятии отклонений от нормальных режимов электропотребления (временное изменение схем питания, остановка на ремонт, резкое снижение
A40: эл.потребления и т.д.) последние необходимо перечислить.
A41: Главный инженер АО "Вологдаоблэнерго" А.В. Чурляев
A42: составляется самим предприятием с соблюдением всех пунктов настоящей таблицы.

Sheet 21_1
B1: АО "Вологдаоблэнерго" | J1: код 900151 | N1: ПС ВОЛОГДА-ЮЖНАЯ РУ- 6 кВ
B2: наименование предприятия | N2: наименование источника питания
N3: _________________________________
B4: ул. Горького, 99 | I4: Таблица № 1 | O4: ТП 461
B5: адрес
A6: почасовых записей показаний электрических счетчиков
A7: в режимный день 18 декабря 2024 г.
A8: 594
A9: часы суток | B9: Активная энергия | J9: Реактивная энергия
B10: ЯЧ.№203 - "ГОРОД 20" | J10: ЯЧ.№203 - "ГОРОД 20"
B11: Расчет. Коэф. | E11: 7200 | F11: Расчет. Коэф. | I11: 0 | J11: Расчет. Коэф. | M11: =E11 -> 7200 | N11: Расчет. Коэф. | Q11: =I11 -> 0
B12: показания счетчика | C12: разность | E12: расход эл.энергии за час | F12: показания счетчика | G12: разность | I12: расход эл.энергии за час | J12: показания счетчика | K12: разность | M12: расход эл.энергии за час | N12: показания счетчика | O12: разность | Q12: расход эл.энергии за час
A13: 1 | B13: 2 | C13: 3 | E13: 4 | F13: 5 | G13: 6 | I13: 7 | J13: 8 | K13: 9 | M13: 10 | N13: 11 | O13: 12 | Q13: 13
A14: 0 | E14: 281 | M14: 49
A15: 1 | E15: 276 | M15: 43
A16: 2 | E16: 263 | M16: 50
A17: 3 | E17: 255 | M17: 49
A18: 4 | E18: 263 | M18: 44
A19: 5 | E19: 334 | M19: 49
A20: 6 | E20: 405 | M20: 51
A21: 7 | E21: 441 | M21: 60
A22: 8 | E22: 450 | M22: 60
A23: 9 | E23: 480 | M23: 64
A24: 10 | E24: 487 | M24: 68
A25: 11 | E25: 480 | M25: 63
... A37: 23 | E37: 330 | M37: 51
A38: Итого | E38: =SUM(E14:E37) -> 9437 | I38: =SUM(I14:I37) -> 0 | M38: =SUM(M14:M37) -> 1310 | Q38: =SUM(Q14:Q37) -> 0
A39: 1. При наличии на предприятии отклонений от нормальных режимов электропотребления (временное изменение схем питания, остановка на ремонт, резкое снижение
A40: эл.потребления и т.д.) последние необходимо перечислить.
A41: Главный инженер АО "Вологдаоблэнерго" А.В. Чурляев
A42: составляется самим предприятием с соблюдением всех пунктов настоящей таблицы.

Sheet 21_2
B1: АО "Вологдаоблэнерго" | J1: код 900151 | N1: ПС ВОЛОГДА-ЮЖНАЯ РУ-10 кВ
B2: наименование предприятия | N2: наименование источника питания
N3: яч. 104 ф 6 кВ Керамик-1
B4: ул. Горького, 99 | I4: Таблица № 1
B5: адрес
A6: почасовых записей показаний электрических счетчиков
A7: в режимный день 18 декабря 2024 г.
A9: часы суток | B9: Активная энергия | J9: Реактивная энергия
B10: яч. 104 ф 6 кВ Керамик-1 ТП-841Т-1 | F10: яч. 104 ф 6 кВ Керамик-1 ТП-417 | J10: яч. 104 ф 6 кВ Керамик-1 ТП-841Т-1 | N10: яч. 104 ф 6 кВ Керамик-1 ТП-417
B11: Расчет. Коэф. | F11: Расчет. Коэф. | I11: 200 | J11: Расчет. Коэф. | N11: Расчет. Коэф. | Q11: 200
B12: показания счетчика | C12: разность | E12: расход эл.энергии за час | F12: показания счетчика | G12: разность | I12: расход эл.энергии за час | J12: показания счетчика | K12: разность | M12: расход эл.энергии за час | N12: показания счетчика | O12: разность | Q12: расход эл.энергии за час
A13: 1 | B13: 2 | C13: 3 | E13: 4 | F13: 5 | G13: 6 | I13: 7 | J13: 8 | K13: 9 | M13: 10 | N13: 11 | O13: 12 | Q13: 13
A14: 0
A15: 1
A16: 2
A17: 3
A18: 4
A19: 5
A20: 6
A21: 7
A22: 8
A23: 9
A24: 10
A25: 11
... A37: 23
A38: Итого | E38: =SUM(E14:E37) -> 0 | I38: =SUM(I14:I37) -> 0 | M38: =SUM(M14:M37) -> 0 | Q38: =SUM(Q14:Q37) -> 0
A39: 1. При наличии на предприятии отклонений от нормальных режимов электропотребления (временное изменение схем питания, остановка на ремонт, резкое снижение
A40: эл.потребления и т.д.) последние необходимо перечислить.
A41: Главный инженер АО "Вологдаоблэнерго" А.В. Чурляев
A42: составляется самим предприятием с соблюдением всех пунктов настоящей таблицы.

Sheet 21_3
B1: АО "Вологдаоблэнерго" | J1: код 900151 | N1: ПС ВОЛОГДА-ЮЖНАЯ РУ-10 кВ
B2: наименование предприятия | N2: наименование источника питания
N3: яч, 104 ф 6 кВ Керамик-1
B4: ул, Горького, 99 | I4: Таблица № 1
B5: адрес
A6: почасовых записей показаний электрических счетчиков
A7: в режимный день 18 декабря 2024 г.
A9: часы суток | B9: Активная энергия | J9: Реактивная энергия
B10: яч, 104 ф 6 кВ Керамик-1 КТП-1004 | J10: яч, 104 ф 6 кВ Керамик-1 КТП-1004
B11: Расчет, Коэф, | F11: Расчет, Коэф, | J11: Расчет, Коэф, | N11: Расчет, Коэф,
B12: показания счетчика | C12: разность | E12: расход эл,энергии за час | F12: показания счетчика | G12: разность | I12: расход эл,энергии за час | J12: показания счетчика | K12: разность | M12: расход эл,энергии за час | N12: показания счетчика | O12: разность | Q12: расход эл,энергии за час
A13: 1 | B13: 2 | C13: 3 | E13: 4 | F13: 5 | G13: 6 | I13: 7 | J13: 8 | K13: 9 | M13: 10 | N13: 11 | O13: 12 | Q13: 13
A14: 0
A15: 1
A16: 2
A17: 3
A18: 4
A19: 5
A20: 6
A21: 7
A22: 8
A23: 9
A24: 10
A25: 11
... A37: 23
A38: Итого | E38: =SUM(E14:E37) -> 0 | I38: =SUM(I14:I37) -> 0 | M38: =SUM(M14:M37) -> 0 | Q38: =SUM(Q14:Q37) -> 0
A39: 1, При наличии на предприятии отклонений от нормальных режимов электропотребления (временное изменение схем питания, остановка на ремонт, резкое снижение
A40: эл,потребления и т,д,) последние необходимо перечислить,
A41: Главный инженер АО "Вологдаоблэнерго" А,В, Чурляев
A42: составляется самим предприятием с соблюдением всех пунктов настоящей таблицы,

Sheet 21_4
B1: АО "Вологдаоблэнерго" | J1: код 900151 | N1: ПС ВОЛОГДА-ЮЖНАЯ РУ-10 кВ
B2: наименование предприятия | N2: наименование источника питания
N3: яч. 207 ф 10 кВ Керамик 2
B4: ул. Горького, 99 | I4: Таблица № 1
B5: адрес
A6: почасовых записей показаний электрических счетчиков
A7: в режимный день 18 декабря 2024 г.
A9: часы суток | B9: Активная энергия | J9: Реактивная энергия
B10: яч. 207 ф 10 кВ Керамик 2 ТП841 Т-2 | J10: яч. 207 ф 10 кВ Керамик 2 ТП841 Т-2
B11: Расчет. Коэф. | F11: Расчет. Коэф. | J11: Расчет. Коэф. | N11: Расчет. Коэф.
B12: показания счетчика | C12: разность | E12: расход эл.энергии за час | F12: показания счетчика | G12: разность | I12: расход эл.энергии за час | J12: показания счетчика | K12: разность | M12: расход эл.энергии за час | N12: показания счетчика | O12: разность | Q12: расход эл.энергии за час
A13: 1 | B13: 2 | C13: 3 | E13: 4 | F13: 5 | G13: 6 | I13: 7 | J13: 8 | K13: 9 | M13: 10 | N13: 11 | O13: 12 | Q13: 13
A14: 0 | E14: 308 | M14: 0
A15: 1 | E15: 253 | M15: 0
A16: 2 | E16: 182 | M16: 0
A17: 3 | E17: 120 | M17: 0
A18: 4 | E18: 198 | M18: 0
A19: 5 | E19: 252 | M19: 0
A20: 6 | E20: 282 | M20: 0
A21: 7 | E21: 340 | M21: 0
A22: 8 | E22: 457 | M22: 0
A23: 9 | E23: 475 | M23: 0
A24: 10 | E24: 418 | M24: 0
A25: 11 | E25: 514 | M25: 0
... A37: 23 | E37: 547 | M37: 0
A38: Итого | E38: =SUM(E14:E37) -> 11302 | I38: =SUM(I14:I37) -> 0 | M38: =SUM(M14:M37) -> 0 | Q38: =SUM(Q14:Q37) -> 0
A39: 1. При наличии на предприятии отклонений от нормальных режимов электропотребления (временное изменение схем питания, остановка на ремонт, резкое снижение
A40: эл.потребления и т.д.) последние необходимо перечислить.
A41: Главный инженер АО "Вологдаоблэнерго" А.В. Чурляев
A42: составляется самим предприятием с соблюдением всех пунктов настоящей таблицы.

Sheet 21_5
B1: АО "Вологдаоблэнерго" | J1: код 900151 | K1: ПС "Вологда-Южная"РУ 6кВ - транзит через "БМЗ"
B2: наименование предприятия | N2: наименование источника питания
N3: ф 6 кВ БМЗ-1, БМЗ-2
B4: ул. Горького, 99 | I4: Таблица № 1
B5: адрес
A6: почасовых записей показаний электрических счетчиков
A7: в режимный день 18 декабря 2024 г.
A9: часы суток | B9: Активная энергия | J9: Реактивная энергия
B10: яч. 106 ф 6 кВ БМЗ-1 РТП 25 Т1 | F10: яч. 204 ф 6 кВ БМЗ-2 РТП 25 Т2 | J10: яч. 204 ф 6 кВ БМЗ-2 РТП 25 Т1 | N10: яч. 204 ф 6 кВ БМЗ-2 РТП 25 Т2
B11: Расчет. Коэф. | F11: Расчет. Коэф. | J11: Расчет. Коэф. | N11: Расчет. Коэф.
B12: показания счетчика | C12: разность | E12: расход эл.энергии за час | F12: показания счетчика | G12: разность | I12: расход эл.энергии за час | J12: показания счетчика | K12: разность | M12: расход эл.энергии за час | N12: показания счетчика | O12: разность | Q12: расход эл.энергии за час
A13: 1 | B13: 2 | C13: 3 | E13: 4 | F13: 5 | G13: 6 | I13: 7 | J13: 8 | K13: 9 | M13: 10 | N13: 11 | O13: 12 | Q13: 13
A14: 0 | E14: 102.6 | I14: 63.06 | M14: 22.32 | Q14: 35.4
A15: 1 | E15: 95.76 | I15: 54.42 | M15: 22.8 | Q15: 35.4
A16: 2 | E16: 90.72 | I16: 49.92 | M16: 21.48 | Q16: 33.48
A17: 3 | E17: 89.88 | I17: 50.64 | M17: 21.24 | Q17: 34.62
A18: 4 | E18: 89.04 | I18: 55.68 | M18: 21 | Q18: 33.78
A19: 5 | E19: 96.24 | I19: 102.84 | M19: 21.36 | Q19: 35.58
A20: 6 | E20: 118.8 | I20: 106.98 | M20: 25.08 | Q20: 34.62
A21: 7 | E21: 135.6 | I21: 105.54 | M21: 26.16 | Q21: 36.96
A22: 8 | E22: 167.16 | I22: 107.94 | M22: 30.48 | Q22: 36.72
A23: 9 | E23: 185.04 | I23: 105.54 | M23: 33.6 | Q23: 35.82
A24: 10 | E24: 173.16 | I24: 106.08 | M24: 30.84 | Q24: 37.86
A25: 11 | E25: 171.84 | I25: 111.36 | M25: 28.92 | Q25: 36.54
... A37: 23 | E37: 117 | I37: 81.48 | M37: 23.28 | Q37: 36.66
A38: Итого | E38: =SUM(E14:E37) -> 3522.24 | I38: =SUM(I14:I37) -> 2321.88 | M38: =SUM(M14:M37) -> 659.28 | Q38: =SUM(Q14:Q37) -> 876.84
A39: 1. При наличии на предприятии отклонений от нормальных режимов электропотребления (временное изменение схем питания, остановка на ремонт, резкое снижение
A40: эл.потребления и т.д.) последние необходимо перечислить.
A41: Главный инженер АО "Вологдаоблэнерго" А.В. Чурляев
A42: составляется самим предприятием с соблюдением всех пунктов настоящей таблицы.

Sheet 21_5.1
B1: АО "Вологдаоблэнерго" | J1: код 900151 | K1: ПС "Вологда-Южная"РУ 6кВ - транзит через "БМЗ"
B2: наименование предприятия | N2: наименование источника питания
N3: ф 6 кВ БМЗ-1, БМЗ-2
B4: ул. Горького, 99 | I4: Таблица № 1
B5: адрес
A6: почасовых записей показаний электрических счетчиков
A7: в режимный день 18 декабря 2024 г.
A9: часы суток | B9: Активная энергия | J9: Реактивная энергия
B10: яч. 204 ф 6 кВ БМЗ КТП-1038 Т1 | F10: яч. 106 ф 6 кВ БМЗ-1 КТП-1038 Т2 | J10: яч. 204 ф 6 кВ БМЗ КТП-1038 Т1 | N10: яч. 106 ф 6 кВ БМЗ-1 КТП-1038 Т2
B11: Расчет. Коэф. | F11: Расчет. Коэф. | J11: Расчет. Коэф. | N11: Расчет. Коэф.
B12: показания счетчика | C12: разность | E12: расход эл.энергии за час | F12: показания счетчика | G12: разность | I12: расход эл.энергии за час | J12: показания счетчика | K12: разность | M12: расход эл.энергии за час | N12: показания счетчика | O12: разность | Q12: расход эл.энергии за час
A13: 1 | B13: 2 | C13: 3 | E13: 4 | F13: 5 | G13: 6 | I13: 7 | J13: 8 | K13: 9 | M13: 10 | N13: 11 | O13: 12 | Q13: 13
A14: 0 | E14: 66.72 | I14: 91.14 | M14: 20.88 | Q14: 38.16
A15: 1 | E15: 59.4 | I15: 83.16 | M15: 20.28 | Q15: 35.28
A16: 2 | E16: 51.6 | I16: 76.56 | M16: 18.48 | Q16: 34.14
A17: 3 | E17: 48.24 | I17: 73.98 | M17: 16.8 | Q17: 31.68
A18: 4 | E18: 50.76 | I18: 72.9 | M18: 18.36 | Q18: 31.5
A19: 5 | E19: 54 | I19: 102.24 | M19: 18.48 | Q19: 32.52
A20: 6 | E20: 63.36 | I20: 124.44 | M20: 18.6 | Q20: 34.92
A21: 7 | E21: 75.72 | I21: 132.24 | M21: 19.92 | Q21: 39.6
A22: 8 | E22: 92.16 | I22: 135.54 | M22: 22.8 | Q22: 40.56
A23: 9 | E23: 94.8 | I23: 133.32 | M23: 23.52 | Q23: 42.9
A24: 10 | E24: 98.76 | I24: 129.24 | M24: 23.64 | Q24: 42.36
A25: 11 | E25: 101.16 | I25: 117.48 | M25: 23.4 | Q25: 42.6
... A37: 23 | E37: 79.08 | I37: 99.06 | M37: 21.96 | Q37: 37.92
A38: Итого | E38: =SUM(E14:E37) -> 2016.36 | I38: =SUM(I14:I37) -> 2659.62 | M38: =SUM(M14:M37) -> 537.72 | Q38: =SUM(Q14:Q37) -> 928.08
A39: 1. При наличии на предприятии отклонений от нормальных режимов электропотребления (временное изменение схем питания, остановка на ремонт, резкое снижение
A40: эл.потребления и т.д.) последние необходимо перечислить.
A41: Главный инженер АО "Вологдаоблэнерго" А.В. Чурляев
A42: составляется самим предприятием с соблюдением всех пунктов настоящей таблицы.

Sheet 22
B1: АО "Вологдаоблэнерго" | J1: код 900151 | M1: ПС ВОЛОГДА - ТЯГОВАЯ 110/27,5/6 кВ
B2: наименование предприятия | N2: наименование источника питания
N3: _________________________________
B4: ул. Горького, 99 | I4: Таблица № 1 | O4: ТП 450
A6: почасовых записей показаний электрических счетчиков
A7: в режимный день 18 декабря 2024 г.
A8: 636
A9: часы суток | B9: Активная энергия | J9: Реактивная энергия
B10: ЯЧ. 1 - ТП 450 | J10: ЯЧ. 1 - ТП 450
B11: Расчет. Коэф. | E11: 7200 | F11: Расчет. Коэф. | I11: =Q11 -> 0 | J11: Расчет. Коэф. | M11: =E11 -> 7200 | N11: Расчет. Коэф. | Q11: 0
B12: показания счетчика | C12: разность | E12: расход эл.энергии за час | F12: показания счетчика | G12: разность | I12: расход эл.энергии за час | J12: показания счетчика | K12: разность | M12: расход эл.энергии за час | N12: показания счетчика | O12: разность | Q12: расход эл.энергии за час
A13: 1 | B13: 2 | C13: 3 | E13: 4 | F13: 5 | G13: 6 | I13: 7 | J13: 8 | K13: 9 | M13: 10 | N13: 11 | O13: 12 | Q13: 13
A14: 0 | E14: 0 | M14: 0
A15: 1 | E15: 0 | M15: 0
A16: 2 | E16: 0 | M16: 0
A17: 3 | E17: 0 | M17: 0
A18: 4 | E18: 0 | M18: 0
A19: 5 | E19: 0 | M19: 0
A20: 6 | E20: 0 | M20: 0
A21: 7 | E21: 0 | M21: 0
A22: 8 | E22: 0 | M22: 0
A23: 9 | E23: 0 | M23: 0
A24: 10 | E24: 0 | M24: 0
A25: 11 | E25: 0 | M25: 0
... A37: 23 | E37: 0 | M37: 0
A38: Итого | E38: =SUM(E14:E37) -> 0 | I38: =SUM(I14:I37) -> 0 | M38: =SUM(M14:M37) -> 0 | Q38: =SUM(Q14:Q37) -> 0
A39: 1. При наличии на предприятии отклонений от нормальных режимов электропотребления (временное изменение схем питания, остановка на ремонт, резкое снижение
A40: эл.потребления и т.д.) последние необходимо перечислить.
A41: Главный инженер АО "Вологдаоблэнерго" А.В. Чурляев
A42: составляется самим предприятием с соблюдением всех пунктов настоящей таблицы.

Sheet 23
B1: АО "Вологдаоблэнерго" | I1: код 900151 | K1: ТГК -2 "ВТЭЦ" РП 6 кВ танзит через ТП 10 СЖД ОАО РЖД
B2: наименование предприятия | N2: наименование источника питания
N3: _________________________________
B4: ул. Горького, 99 | I4: Таблица № 1 | O4: ТП 238; ТП 651
A6: почасовых записей показаний электрических счетчиков
A7: в режимный день 18 декабря 2024 г.
A8: 640 | B8: 641
A9: часы суток | B9: Активная энергия | J9: Реактивная энергия
B10: ЯЧ.5 - ТП 238 | F10: ЯЧ.7 - ТП 651 | J10: ЯЧ.5 - ТП 238 | N10: ЯЧ.7 - ТП 651
B11: Расчет. Коэф. | E11: 1800 | F11: Расчет. Коэф. | I11: 1800 | J11: Расчет. Коэф. | M11: =E11 -> 1800 | N11: Расчет. Коэф. | Q11: =I11 -> 1800
B12: показания счетчика | C12: разность | E12: расход эл.энергии за час | F12: показания счетчика | G12: разность | I12: расход эл.энергии за час | J12: показания счетчика | K12: разность | M12: расход эл.энергии за час | N12: показания счетчика | O12: разность | Q12: расход эл.энергии за час
A13: 1 | B13: 2 | C13: 3 | E13: 4 | F13: 5 | G13: 6 | I13: 7 | J13: 8 | K13: 9 | M13: 10 | N13: 11 | O13: 12 | Q13: 13
A14: 0 | E14: 117.9 | I14: 275.22 | M14: 22.86 | Q14: 79.2
A15: 1 | E15: 108.18 | I15: 257.04 | M15: 21.78 | Q15: 82.98
A16: 2 | E16: 106.2 | I16: 239.58 | M16: 22.68 | Q16: 82.8
A17: 3 | E17: 123.66 | I17: 246.42 | M17: 23.22 | Q17: 79.92
A18: 4 | E18: 141.48 | I18: 246.06 | M18: 21.78 | Q18: 79.74
A19: 5 | E19: 170.46 | I19: 261.9 | M19: 25.2 | Q19: 81.18
A20: 6 | E20: 196.74 | I20: 336.6 | M20: 28.98 | Q20: 78.84
A21: 7 | E21: 293.4 | I21: 372.42 | M21: 60.84 | Q21: 89.46
A22: 8 | E22: 298.98 | I22: 397.98 | M22: 56.34 | Q22: 88.56
A23: 9 | E23: 301.32 | I23: 422.46 | M23: 56.7 | Q23: 98.28
A24: 10 | E24: 300.06 | I24: 418.86 | M24: 57.24 | Q24: 96.66
A25: 11 | E25: 320.76 | I25: 421.74 | M25: 59.04 | Q25: 95.04
... A37: 23 | E37: 133.56 | I37: 333.9 | M37: 23.94 | Q37: 84.78
A38: Итого | E38: =SUM(E14:E37) -> 5088.6 | I38: =SUM(I14:I37) -> 9410.58 | M38: =SUM(M14:M37) -> 966.06 | Q38: =SUM(Q14:Q37) -> 2138.04
A39: 1. При наличии на предприятии отклонений от нормальных режимов электропотребления (временное изменение схем питания, остановка на ремонт, резкое снижение
A40: эл.потребления и т.д.) последние необходимо перечислить.
A41: Главный инженер АО "Вологдаоблэнерго" А.В. Чурляев
A42: составляется самим предприятием с соблюдением всех пунктов настоящей таблицы.

Sheet 24
B1: АО "Вологдаоблэнерго" | G1: код 900151 | I1: ГПП ВОЛОГДА -ТЯГОВАЯ СЖД 110 /27,5/6 кВ транзит через ТП 34 СЖД ОАО РЖД
B2: наименование предприятия | N2: наименование источника питания
N3: _________________________________
B4: ул. Горького, 99 | I4: Таблица № 1 | O4: ТП 660; ТП 662
A6: почасовых записей показаний электрических счетчиков
A7: в режимный день 18 декабря 2024 г.
A8: 637 | B8: 639
A9: часы суток | B9: Активная энергия | J9: Реактивная энергия
B10: ЯЧ.2 - ТП 660 | F10: ЯЧ.6 - ТП 662 | J10: ЯЧ.2 - ТП 660 | N10: ЯЧ.6 - ТП 662
B11: Расчет. Коэф. | E11: 2400 | F11: Расчет. Коэф. | I11: 2400 | J11: Расчет. Коэф. | M11: =E11 -> 2400 | N11: Расчет. Коэф. | Q11: =I11 -> 2400
B12: показания счетчика | C12: разность | E12: расход эл.энергии за час | F12: показания счетчика | G12: разность | I12: расход эл.энергии за час | J12: показания счетчика | K12: разность | M12: расход эл.энергии за час | N12: показания счетчика | O12: разность | Q12: расход эл.энергии за час
A13: 1 | B13: 2 | C13: 3 | E13: 4 | F13: 5 | G13: 6 | I13: 7 | J13: 8 | K13: 9 | M13: 10 | N13: 11 | O13: 12 | Q13: 13
A14: 0 | E14: 376.56 | I14: 440.16 | M14: 143.28 | Q14: 90.24
A15: 1 | E15: 351.12 | I15: 411.6 | M15: 141.84 | Q15: 90.24
A16: 2 | E16: 336.24 | I16: 389.76 | M16: 137.52 | Q16: 86.64
A17: 3 | E17: 326.88 | I17: 377.28 | M17: 135.12 | Q17: 85.68
A18: 4 | E18: 329.28 | I18: 376.08 | M18: 132.96 | Q18: 83.52
A19: 5 | E19: 351.12 | I19: 401.76 | M19: 135.12 | Q19: 85.2
A20: 6 | E20: 429.84 | I20: 499.68 | M20: 133.44 | Q20: 91.44
A21: 7 | E21: 502.32 | I21: 601.2 | M21: 131.52 | Q21: 127.92
A22: 8 | E22: 501.6 | I22: 594.72 | M22: 116.4 | Q22: 124.08
A23: 9 | E23: 509.52 | I23: 595.92 | M23: 109.68 | Q23: 115.44
A24: 10 | E24: 517.2 | I24: 609.36 | M24: 112.32 | Q24: 111.84
A25: 11 | E25: 518.88 | I25: 618.72 | M25: 116.4 | Q25: 99.84
... A37: 23 | E37: 449.04 | I37: 497.28 | M37: 140.4 | Q37: 92.4
A38: Итого | E38: =SUM(E14:E37) -> 12160.08 | I38: =SUM(I14:I37) -> 13801.68 | M38: =SUM(M14:M37) -> 3057.36 | Q38: =SUM(Q14:Q37) -> 2448.24
A39: 1. При наличии на предприятии отклонений от нормальных режимов электропотребления (временное изменение схем питания, остановка на ремонт, резкое снижение
A40: эл.потребления и т.д.) последние необходимо перечислить.
A41: Главный инженер АО "Вологдаоблэнерго" А.В. Чурляев
A42: составляется самим предприятием с соблюдением всех пунктов настоящей таблицы.

Sheet 25
B1: АО "Вологдаоблэнерго" | J1: код 900151 | N1: ТГК-2 ВТЭЦ РП 6 кВ
B2: наименование предприятия | N2: наименование источника питания
N3: _________________________________
B4: ул. Горького, 99 | I4: Таблица № 1 | O4: РТП 3
B5: адрес
A6: почасовых записей показаний электрических счетчиков
A7: в режимный день 18 декабря 2024 г.
A8: 381 | B8: 384
A9: часы суток | B9: Активная энергия | J9: Реактивная энергия
B10: ЯЧ.10 - РП 3 ввод № 1 | F10: ЯЧ. 115 - РП 3 ввод № 2 | J10: ЯЧ.10 - РП 3 ввод № 1 | N10: ЯЧ. 115 - РП 3 ввод № 2
B11: Расчет. Коэф. | E11: 7200 | F11: Расчет. Коэф. | I11: 3600 | J11: Расчет. Коэф. | M11: =E11 -> 7200 | N11: Расчет. Коэф. | Q11: =I11 -> 3600
B12: показания счетчика | C12: разность | E12: расход эл.энергии за час | F12: показания счетчика | G12: разность | I12: расход эл.энергии за час | J12: показания счетчика | K12: разность | M12: расход эл.энергии за час | N12: показания счетчика | O12: разность | Q12: расход эл.энергии за час
A13: 1 | B13: 2 | C13: 3 | E13: 4 | F13: 5 | G13: 6 | I13: 7 | J13: 8 | K13: 9 | M13: 10 | N13: 11 | O13: 12 | Q13: 13
A14: 0 | E14: 909 | I14: 266 | M14: 275 | Q14: 69
A15: 1 | E15: 904 | I15: 247 | M15: 264 | Q15: 61
A16: 2 | E16: 903 | I16: 243 | M16: 264 | Q16: 59
A17: 3 | E17: 916 | I17: 240 | M17: 252 | Q17: 59
A18: 4 | E18: 976 | I18: 241 | M18: 256 | Q18: 59
A19: 5 | E19: 955 | I19: 262 | M19: 257 | Q19: 68
A20: 6 | E20: 1106 | I20: 278 | M20: 279 | Q20: 58
A21: 7 | E21: 1548 | I21: 401 | M21: 404 | Q21: 65
A22: 8 | E22: 1980 | I22: 578 | M22: 534 | Q22: 122
A23: 9 | E23: 2054 | I23: 609 | M23: 562 | Q23: 147
A24: 10 | E24: 2263 | I24: 611 | M24: 699 | Q24: 137
A25: 11 | E25: 1971 | I25: 592 | M25: 514 | Q25: 132
... A37: 23 | E37: 1007 | I37: 305 | M37: 290 | Q37: 75
A38: Итого | E38: =SUM(E14:E37) -> 36486 | I38: =SUM(I14:I37) -> 10097 | M38: =SUM(M14:M37) -> 10606 | Q38: =SUM(Q14:Q37) -> 2335
A39: 1. При наличии на предприятии отклонений от нормальных режимов электропотребления (временное изменение схем питания, остановка на ремонт, резкое снижение
A40: эл.потребления и т.д.) последние необходимо перечислить.
A41: Главный инженер АО "Вологдаоблэнерго" А.В. Чурляев
A42: составляется самим предприятием с соблюдением всех пунктов настоящей таблицы.

Sheet 26
B1: АО "Вологдаоблэнерго" | J1: код 900151 | N1: ТГК-2 ВТЭЦ РП 6 кВ
B2: наименование предприятия | N2: наименование источника питания
N3: _________________________________
B4: ул. Горького, 99 | I4: Таблица № 1 | O4: РП 23
B5: адрес
A6: почасовых записей показаний электрических счетчиков
A7: в режимный день 18 декабря 2024 г.
A8: 385 | B8: 383
A9: часы суток | B9: Активная энергия | J9: Реактивная энергия
B10: ЯЧ. 114 - РП 23 ввод № 1 | F10: ЯЧ. 107 - РП 23 ввод № 2 | J10: ЯЧ. 114 - РП 23 ввод № 1 | N10: ЯЧ. 107 - РП 23 ввод № 2
B11: Расчет. Коэф. | E11: 3600 | F11: Расчет. Коэф. | I11: 3600 | J11: Расчет. Коэф. | M11: =E11 -> 3600 | N11: Расчет. Коэф. | Q11: =I11 -> 3600
B12: показания счетчика | C12: разность | E12: расход эл.энергии за час | F12: показания счетчика | G12: разность | I12: расход эл.энергии за час | J12: показания счетчика | K12: разность | M12: расход эл.энергии за час | N12: показания счетчика | O12: разность | Q12: расход эл.энергии за час
A13: 1 | B13: 2 | C13: 3 | E13: 4 | F13: 5 | G13: 6 | I13: 7 | J13: 8 | K13: 9 | M13: 10 | N13: 11 | O13: 12 | Q13: 13
A14: 0 | E14: 1023 | I14: 760 | M14: 607 | Q14: 285
A15: 1 | E15: 987 | I15: 757 | M15: 585 | Q15: 285
A16: 2 | E16: 1007 | I16: 769 | M16: 602 | Q16: 287
A17: 3 | E17: 985 | I17: 761 | M17: 583 | Q17: 288
A18: 4 | E18: 1001 | I18: 782 | M18: 586 | Q18: 287
A19: 5 | E19: 1016 | I19: 781 | M19: 590 | Q19: 286
A20: 6 | E20: 1038 | I20: 825 | M20: 598 | Q20: 278
A21: 7 | E21: 1205 | I21: 864 | M21: 670 | Q21: 272
A22: 8 | E22: 1513 | I22: 919 | M22: 816 | Q22: 299
A23: 9 | E23: 1523 | I23: 910 | M23: 842 | Q23: 339
A24: 10 | E24: 1431 | I24: 925 | M24: 778 | Q24: 320
A25: 11 | E25: 1601 | I25: 910 | M25: 887 | Q25: 328
... A37: 23 | E37: 994 | I37: 776 | M37: 578 | Q37: 289
A38: Итого | E38: =SUM(E14:E37) -> 29128 | I38: =SUM(I14:I37) -> 19865 | M38: =SUM(M14:M37) -> 16512 | Q38: =SUM(Q14:Q37) -> 7158
A39: 1. При наличии на предприятии отклонений от нормальных режимов электропотребления (временное изменение схем питания, остановка на ремонт, резкое снижение
A40: эл.потребления и т.д.) последние необходимо перечислить.
A41: Главный инженер АО "Вологдаоблэнерго" А.В. Чурляев
A42: составляется самим предприятием с соблюдением всех пунктов настоящей таблицы.

Sheet 27
B1: АО "Вологдаоблэнерго" | J1: код 900151 | N1: ТГК-2 ВТЭЦ РП 6 кВ
B2: наименование предприятия | N2: наименование источника питания
N3: _________________________________
B4: ул. Горького, 99 | I4: Таблица № 1 | O4: ТП 217
B5: адрес
A6: почасовых записей показаний электрических счетчиков
A7: в режимный день 18 декабря 2024 г.
A8: 375
A9: часы суток | B9: Активная энергия | J9: Реактивная энергия
B10: ЯЧ. 3 - ТП 217 | J10: ЯЧ. 3 - ТП 217
B11: Расчет. Коэф. | E11: 3600 | F11: Расчет. Коэф. | I11: 0 | J11: Расчет. Коэф. | M11: =E11 -> 3600 | N11: Расчет. Коэф. | Q11: =I11 -> 0
B12: показания счетчика | C12: разность | E12: расход эл.энергии за час | F12: показания счетчика | G12: разность | I12: расход эл.энергии за час | J12: показания счетчика | K12: разность | M12: расход эл.энергии за час | N12: показания счетчика | O12: разность | Q12: расход эл.энергии за час
A13: 1 | B13: 2 | C13: 3 | E13: 4 | F13: 5 | G13: 6 | I13: 7 | J13: 8 | K13: 9 | M13: 10 | N13: 11 | O13: 12 | Q13: 13
A14: 0 | E14: 340 | M14: 65
A15: 1 | E15: 301 | M15: 55
A16: 2 | E16: 295 | M16: 61
A17: 3 | E17: 281 | M17: 53
A18: 4 | E18: 279 | M18: 51
A19: 5 | E19: 298 | M19: 53
A20: 6 | E20: 386 | M20: 56
A21: 7 | E21: 479 | M21: 64
A22: 8 | E22: 486 | M22: 70
A23: 9 | E23: 493 | M23: 63
A24: 10 | E24: 470 | M24: 74
A25: 11 | E25: 478 | M25: 70
... A37: 23 | E37: 396 | M37: 63
A38: Итого | E38: =SUM(E14:E37) -> 11158 | I38: =SUM(I14:I37) -> 0 | M38: =SUM(M14:M37) -> 1597 | Q38: =SUM(Q14:Q37) -> 0
A39: 1. При наличии на предприятии отклонений от нормальных режимов электропотребления (временное изменение схем питания, остановка на ремонт, резкое снижение
A40: эл.потребления и т.д.) последние необходимо перечислить.
A41: Главный инженер АО "Вологдаоблэнерго" А.В. Чурляев
A42: составляется самим предприятием с соблюдением всех пунктов настоящей таблицы.

Sheet 28
B1: АО "Вологдаоблэнерго" | J1: код 900151 | N1: ТГК-2 ВТЭЦ РП 6 кВ
B2: наименование предприятия | N2: наименование источника питания
N3: _________________________________
B4: ул. Горького, 99 | I4: Таблица № 1 | O4: РП 8
B5: адрес
A6: почасовых записей показаний электрических счетчиков
A7: в режимный день 18 декабря 2024 г.
A8: 378 | B8: 382
A9: часы суток | B9: Активная энергия | J9: Реактивная энергия
B10: ЯЧ. 5 - РП 8 ввод № 1 | F10: ЯЧ. 12 - РП 8 ввод № 2 | J10: ЯЧ. 5 - РП 8 ввод № 1 | N10: ЯЧ. 12 - РП 8 ввод № 2
B11: Расчет. Коэф. | E11: 3600 | F11: Расчет. Коэф. | I11: 3600 | J11: Расчет. Коэф. | M11: =E11 -> 3600 | N11: Расчет. Коэф. | Q11: =I11 -> 3600
B12: показания счетчика | C12: разность | E12: расход эл.энергии за час | F12: показания счетчика | G12: разность | I12: расход эл.энергии за час | J12: показания счетчика | K12: разность | M12: расход эл.энергии за час | N12: показания счетчика | O12: разность | Q12: расход эл.энергии за час
A13: 1 | B13: 2 | C13: 3 | E13: 4 | F13: 5 | G13: 6 | I13: 7 | J13: 8 | K13: 9 | M13: 10 | N13: 11 | O13: 12 | Q13: 13
A14: 0 | E14: 755 | I14: 746 | M14: 151 | Q14: 188
A15: 1 | E15: 687 | I15: 695 | M15: 153 | Q15: 188
A16: 2 | E16: 655 | I16: 668 | M16: 155 | Q16: 182
A17: 3 | E17: 638 | I17: 657 | M17: 153 | Q17: 181
A18: 4 | E18: 665 | I18: 672 | M18: 149 | Q18: 180
A19: 5 | E19: 750 | I19: 727 | M19: 154 | Q19: 181
A20: 6 | E20: 899 | I20: 921 | M20: 155 | Q20: 179
A21: 7 | E21: 1048 | I21: 1139 | M21: 152 | Q21: 192
A22: 8 | E22: 1268 | I22: 1296 | M22: 150 | Q22: 200
A23: 9 | E23: 1323 | I23: 1360 | M23: 158 | Q23: 204
A24: 10 | E24: 1328 | I24: 1435 | M24: 148 | Q24: 203
A25: 11 | E25: 1362 | I25: 1432 | M25: 146 | Q25: 212
... A37: 23 | E37: 886 | I37: 870 | M37: 154 | Q37: 196
A38: Итого | E38: =SUM(E14:E37) -> 26246 | I38: =SUM(I14:I37) -> 27520 | M38: =SUM(M14:M37) -> 3644 | Q38: =SUM(Q14:Q37) -> 4837
A39: 1. При наличии на предприятии отклонений от нормальных режимов электропотребления (временное изменение схем питания, остановка на ремонт, резкое снижение
A40: эл.потребления и т.д.) последние необходимо перечислить.
A41: Главный инженер АО "Вологдаоблэнерго" А.В. Чурляев
A42: составляется самим предприятием с соблюдением всех пунктов настоящей таблицы.

Sheet 29
B1: АО "Вологдаоблэнерго" | J1: код 900151 | N1: ТГК-2 ВТЭЦ РП 6 кВ
B2: наименование предприятия | N2: наименование источника питания
N3: _________________________________
B4: ул. Горького, 99 | I4: Таблица № 1 | O4: РП 20
B5: адрес
A6: почасовых записей показаний электрических счетчиков
A7: в режимный день 18 декабря 2024 г.
A8: 380 | B8: 379
A9: часы суток | B9: Активная энергия | J9: Реактивная энергия
B10: ЯЧ. 4- РП 20 ввод № 1 | F10: ЯЧ. 7 - РП 20 яч.7 | J10: ЯЧ. 4- РП 20 ввод № 1 | N10: ЯЧ. 7 - РП 20 яч.7
B11: Расчет. Коэф. | E11: 3600 | F11: Расчет. Коэф. | I11: 3600 | J11: Расчет. Коэф. | M11: =E11 -> 3600 | N11: Расчет. Коэф. | Q11: =I11 -> 3600
B12: показания счетчика | C12: разность | E12: расход эл.энергии за час | F12: показания счетчика | G12: разность | I12: расход эл.энергии за час | J12: показания счетчика | K12: разность | M12: расход эл.энергии за час | N12: показания счетчика | O12: разность | Q12: расход эл.энергии за час
A13: 1 | B13: 2 | C13: 3 | E13: 4 | F13: 5 | G13: 6 | I13: 7 | J13: 8 | K13: 9 | M13: 10 | N13: 11 | O13: 12 | Q13: 13
A14: 0 | E14: 262 | I14: 41 | M14: 41 | Q14: 16
A15: 1 | E15: 240 | I15: 43 | M15: 39 | Q15: 16
A16: 2 | E16: 219 | I16: 42 | M16: 37 | Q16: 16
A17: 3 | E17: 202 | I17: 38 | M17: 38 | Q17: 16
A18: 4 | E18: 210 | I18: 40 | M18: 39 | Q18: 16
A19: 5 | E19: 276 | I19: 41 | M19: 40 | Q19: 16
A20: 6 | E20: 359 | I20: 48 | M20: 47 | Q20: 15
A21: 7 | E21: 436 | I21: 50 | M21: 64 | Q21: 15
A22: 8 | E22: 505 | I22: 74 | M22: 58 | Q22: 10
A23: 9 | E23: 534 | I23: 110 | M23: 65 | Q23: 6
A24: 10 | E24: 536 | I24: 131 | M24: 66 | Q24: 8
A25: 11 | E25: 516 | I25: 138 | M25: 56 | Q25: 14
... A37: 23 | E37: 293 | I37: 66 | M37: 37 | Q37: 17
A38: Итого | E38: =SUM(E14:E37) -> 9399 | I38: =SUM(I14:I37) -> 2073 | M38: =SUM(M14:M37) -> 1255 | Q38: =SUM(Q14:Q37) -> 351
A39: 1. При наличии на предприятии отклонений от нормальных режимов электропотребления (временное изменение схем питания, остановка на ремонт, резкое снижение
A40: эл.потребления и т.д.) последние необходимо перечислить.
A41: Главный инженер АО "Вологдаоблэнерго" А.В. Чурляев
A42: составляется самим предприятием с соблюдением всех пунктов настоящей таблицы.

Sheet 30
B1: АО "Вологдаоблэнерго" | J1: код 900151 | N1: ПС "ЦЕНТРАЛЬНАЯ" 110/6 кВ
B2: наименование предприятия | N2: наименование источника питания
N3: _________________________________ | O3: РУ-6 кВ
B4: ул. Горького, 99 | I4: Таблица № 1 | O4: ТП 54
B5: адрес
A6: почасовых записей показаний электрических счетчиков
A7: в режимный день 18 декабря 2024 г.
A8: 1520 | B8: 1526
A9: часы суток | B9: Активная энергия | J9: Реактивная энергия
B10: ЯЧ.4 - ТП 54 -Ι ввод № 1 | F10: ЯЧ. 30 - ТП 54 - ΙΙ ввод № 2 | J10: ЯЧ.4 - ТП 54 -Ι ввод № 1 | N10: ЯЧ. 30 - ТП 54 - ΙΙ ввод № 2
B11: Расчет. Коэф. | E11: 2400 | F11: Расчет. Коэф. | I11: 4800 | J11: Расчет. Коэф. | M11: =E11 -> 2400 | N11: Расчет. Коэф. | Q11: =I11 -> 4800
B12: показания счетчика | C12: разность | E12: расход эл.энергии за час | F12: показания счетчика | G12: разность | I12: расход эл.энергии за час | J12: показания счетчика | K12: разность | M12: расход эл.энергии за час | N12: показания счетчика | O12: разность | Q12: расход эл.энергии за час
A13: 1 | B13: 2 | C13: 3 | E13: 4 | F13: 5 | G13: 6 | I13: 7 | J13: 8 | K13: 9 | M13: 10 | N13: 11 | O13: 12 | Q13: 13
A14: 0 | E14: 216 | I14: 362 | M14: 52 | Q14: 119
A15: 1 | E15: 215 | I15: 349 | M15: 53 | Q15: 120
A16: 2 | E16: 213 | I16: 348 | M16: 53 | Q16: 121
A17: 3 | E17: 218 | I17: 343 | M17: 56 | Q17: 117
A18: 4 | E18: 245 | I18: 337 | M18: 58 | Q18: 116
A19: 5 | E19: 305 | I19: 386 | M19: 58 | Q19: 117
A20: 6 | E20: 340 | I20: 425 | M20: 59 | Q20: 115
A21: 7 | E21: 436 | I21: 505 | M21: 67 | Q21: 119
A22: 8 | E22: 587 | I22: 606 | M22: 65 | Q22: 124
A23: 9 | E23: 609 | I23: 681 | M23: 55 | Q23: 131
A24: 10 | E24: 587 | I24: 685 | M24: 52 | Q24: 136
A25: 11 | E25: 573 | I25: 699 | M25: 55 | Q25: 140
... A37: 23 | E37: 233 | I37: 433 | M37: 56 | Q37: 125
A38: Итого | E38: =SUM(E14:E37) -> 9454 | I38: =SUM(I14:I37) -> 13032 | M38: =SUM(M14:M37) -> 1378 | Q38: =SUM(Q14:Q37) -> 3051
A39: 1. При наличии на предприятии отклонений от нормальных режимов электропотребления (временное изменение схем питания, остановка на ремонт, резкое снижение
A40: эл.потребления и т.д.) последние необходимо перечислить.
A41: Главный инженер АО "Вологдаоблэнерго" А.В. Чурляев
A42: составляется самим предприятием с соблюдением всех пунктов настоящей таблицы.

Sheet 31
B1: АО "Вологдаоблэнерго" | J1: код 900151 | N1: ПС "ЦЕНТРАЛЬНАЯ" 110/6 кВ
B2: наименование предприятия | N2: наименование источника питания
N3: _________________________________ | O3: РУ-6 кВ
B4: ул. Горького, 99 | I4: Таблица № 1 | O4: РП 13
B5: адрес
A6: почасовых записей показаний электрических счетчиков
A7: в режимный день 18 декабря 2024 г.
A8: 1522 | B8: 1523
A9: часы суток | B9: Активная энергия | J9: Реактивная энергия
B10: ЯЧ. 14 - РП 13- Ι | F10: ЯЧ. 22 - РП 13- ΙΙ | J10: ЯЧ. 14 - РП 13- Ι | N10: ЯЧ. 22 - РП 13- ΙΙ
B11: Расчет. Коэф. | E11: 7200 | F11: Расчет. Коэф. | I11: 7200 | J11: Расчет. Коэф. | M11: =E11 -> 7200 | N11: Расчет. Коэф. | Q11: =I11 -> 7200
B12: показания счетчика | C12: разность | E12: расход эл.энергии за час | F12: показания счетчика | G12: разность | I12: расход эл.энергии за час | J12: показания счетчика | K12: разность | M12: расход эл.энергии за час | N12: показания счетчика | O12: разность | Q12: расход эл.энергии за час
A13: 1 | B13: 2 | C13: 3 | E13: 4 | F13: 5 | G13: 6 | I13: 7 | J13: 8 | K13: 9 | M13: 10 | N13: 11 | O13: 12 | Q13: 13
A14: 0 | E14: 1145 | I14: 1025 | M14: 201 | Q14: 127
A15: 1 | E15: 1086 | I15: 1007 | M15: 202 | Q15: 144
A16: 2 | E16: 1038 | I16: 963 | M16: 198 | Q16: 125
A17: 3 | E17: 1023 | I17: 989 | M17: 194 | Q17: 142
A18: 4 | E18: 1030 | I18: 958 | M18: 191 | Q18: 113
A19: 5 | E19: 1094 | I19: 1056 | M19: 202 | Q19: 128
A20: 6 | E20: 1339 | I20: 1206 | M20: 201 | Q20: 121
A21: 7 | E21: 1705 | I21: 1461 | M21: 199 | Q21: 128
A22: 8 | E22: 2180 | I22: 1888 | M22: 172 | Q22: 92
A23: 9 | E23: 2428 | I23: 2102 | M23: 179 | Q23: 91
A24: 10 | E24: 2529 | I24: 2271 | M24: 186 | Q24: 119
A25: 11 | E25: 2568 | I25: 2403 | M25: 195 | Q25: 168
... A37: 23 | E37: 1284 | I37: 1145 | M37: 184 | Q37: 164
A38: Итого | E38: =SUM(E14:E37) -> 44193 | I38: =SUM(I14:I37) -> 39758 | M38: =SUM(M14:M37) -> 4494 | Q38: =SUM(Q14:Q37) -> 3047
A39: 1. При наличии на предприятии отклонений от нормальных режимов электропотребления (временное изменение схем питания, остановка на ремонт, резкое снижение
A40: эл.потребления и т.д.) последние необходимо перечислить.
A41: Главный инженер АО "Вологдаоблэнерго" А.В. Чурляев
A42: составляется самим предприятием с соблюдением всех пунктов настоящей таблицы.

Sheet 32
B1: АО "Вологдаоблэнерго" | J1: код 900151 | N1: ПС "ЦЕНТРАЛЬНАЯ" 110/6 кВ
B2: наименование предприятия | N2: наименование источника питания
N3: _________________________________ | O3: РУ-6 кВ
B4: ул. Горького, 99 | I4: Таблица № 1 | O4: РП 4
B5: адрес
A6: почасовых записей показаний электрических счетчиков
A7: в режимный день 18 декабря 2024 г.
A8: 1521 | B8: 1524
A9: часы суток | B9: Активная энергия | J9: Реактивная энергия
B10: ЯЧ.12 - РП 4 -Ι | F10: ЯЧ. 24 - РП 4 -ΙΙ | J10: ЯЧ.12 - РП 4 -Ι | N10: ЯЧ. 24 - РП 4 -ΙΙ
B11: Расчет. Коэф. | E11: 4800 | F11: Расчет. Коэф. | I11: 4800 | J11: Расчет. Коэф. | M11: =E11 -> 4800 | N11: Расчет. Коэф. | Q11: =I11 -> 4800
B12: показания счетчика | C12: разность | E12: расход эл.энергии за час | F12: показания счетчика | G12: разность | I12: расход эл.энергии за час | J12: показания счетчика | K12: разность | M12: расход эл.энергии за час | N12: показания счетчика | O12: разность | Q12: расход эл.энергии за час
A13: 1 | B13: 2 | C13: 3 | E13: 4 | F13: 5 | G13: 6 | I13: 7 | J13: 8 | K13: 9 | M13: 10 | N13: 11 | O13: 12 | Q13: 13
A14: 0 | E14: 631 | I14: 575 | M14: 86 | Q14: 117
A15: 1 | E15: 605 | I15: 538 | M15: 88 | Q15: 115
A16: 2 | E16: 590 | I16: 529 | M16: 82 | Q16: 122
A17: 3 | E17: 583 | I17: 532 | M17: 80 | Q17: 116
A18: 4 | E18: 580 | I18: 551 | M18: 74 | Q18: 109
A19: 5 | E19: 683 | I19: 597 | M19: 79 | Q19: 108
A20: 6 | E20: 803 | I20: 681 | M20: 95 | Q20: 70
A21: 7 | E21: 1019 | I21: 857 | M21: 109 | Q21: 68
A22: 8 | E22: 1360 | I22: 1151 | M22: 116 | Q22: 64
A23: 9 | E23: 1508 | I23: 1288 | M23: 119 | Q23: 67
A24: 10 | E24: 1535 | I24: 1451 | M24: 119 | Q24: 72
A25: 11 | E25: 1559 | I25: 1499 | M25: 118 | Q25: 72
... A37: 23 | E37: 705 | I37: 604 | M37: 98 | Q37: 66
A38: Итого | E38: =SUM(E14:E37) -> 25648 | I38: =SUM(I14:I37) -> 24523 | M38: =SUM(M14:M37) -> 2417 | Q38: =SUM(Q14:Q37) -> 1894
A39: 1. При наличии на предприятии отклонений от нормальных режимов электропотребления (временное изменение схем питания, остановка на ремонт, резкое снижение
A40: эл.потребления и т.д.) последние необходимо перечислить.
A41: Главный инженер АО "Вологдаоблэнерго" А.В. Чурляев
A42: составляется самим предприятием с соблюдением всех пунктов настоящей таблицы.

Sheet 33
B1: АО "Вологдаоблэнерго" | J1: код 900151 | N1: ПС "ЦЕНТРАЛЬНАЯ" 110/6 кВ
B2: наименование предприятия | N2: наименование источника питания
N3: _________________________________ | O3: РУ-6 кВ
B4: ул. Горького, 99 | I4: Таблица № 1 | O4: РП 33
B5: адрес
A6: почасовых записей показаний электрических счетчиков
A7: в режимный день 18 декабря 2024 г.
A8: 1518 | B8: 1519
A9: часы суток | B9: Активная энергия | J9: Реактивная энергия
B10: ЯЧ. 2 - РП 33 ф.10 | F10: ЯЧ. 3 - РП-33 ф.9 | J10: ЯЧ. 2- РП 33 ф.10 | N10: ЯЧ. 3 - РП-33 ф.9
B11: Расчет. Коэф. | E11: 7200 | F11: Расчет. Коэф. | J11: Расчет. Коэф. | M11: =E11 -> 7200 | N11: Расчет. Коэф.
B12: показания счетчика | C12: разность | E12: расход эл.энергии за час | F12: показания счетчика | G12: разность | I12: расход эл.энергии за час | J12: показания счетчика | K12: разность | M12: расход эл.энергии за час | N12: показания счетчика | O12: разность | Q12: расход эл.энергии за час
A13: 1 | B13: 2 | C13: 3 | E13: 4 | F13: 5 | G13: 6 | I13: 7 | J13: 8 | K13: 9 | M13: 10 | N13: 11 | O13: 12 | Q13: 13
A14: 0 | E14: 29 | I14: 344 | M14: 0 | Q14: 4
A15: 1 | E15: 26 | I15: 322 | M15: 0 | Q15: 5
A16: 2 | E16: 24 | I16: 307 | M16: 0 | Q16: 4
A17: 3 | E17: 23 | I17: 299 | M17: 0 | Q17: 5
A18: 4 | E18: 24 | I18: 310 | M18: 0 | Q18: 3
A19: 5 | E19: 28 | I19: 319 | M19: 0 | Q19: 3
A20: 6 | E20: 37 | I20: 355 | M20: 0 | Q20: 4
A21: 7 | E21: 48 | I21: 504 | M21: 0 | Q21: 10
A22: 8 | E22: 42 | I22: 634 | M22: 0 | Q22: 29
A23: 9 | E23: 44 | I23: 674 | M23: 0 | Q23: 31
A24: 10 | E24: 48 | I24: 701 | M24: 0 | Q24: 29
A25: 11 | E25: 51 | I25: 726 | M25: 0 | Q25: 37
... A37: 23 | E37: 43 | I37: 389 | M37: 0 | Q37: 3
A38: Итого | E38: =SUM(E14:E37) -> 1162 | I38: =SUM(I14:I37) -> 12760 | M38: =SUM(M14:M37) -> 0 | Q38: =SUM(Q14:Q37) -> 417
A39: 1. При наличии на предприятии отклонений от нормальных режимов электропотребления (временное изменение схем питания, остановка на ремонт, резкое снижение
A40: эл.потребления и т.д.) последние необходимо перечислить.
A41: Главный инженер АО "Вологдаоблэнерго" А.В. Чурляев
A42: составляется самим предприятием с соблюдением всех пунктов настоящей таблицы.

Sheet 34
B1: АО "Вологдаоблэнерго" | J1: код 900151 | N1: ПС "ЦЕНТРАЛЬНАЯ" 110/10/6 кВ
B2: наименование предприятия | N2: наименование источника питания
N3: _________________________________ | O3: РУ-6 кВ
B4: ул. Горького, 99 | I4: Таблица № 1 | O4: ТП 11 | Q4: РП-8
B5: адрес
A6: почасовых записей показаний электрических счетчиков
A7: в режимный день 18 декабря 2024 г.
A8: 1525
A9: часы суток | B9: Активная энергия | J9: Реактивная энергия
B10: ЯЧ.28 - ТП 11 -ΙΙ | F10: ЯЧ.20 - РП-8 ф11 | J10: ЯЧ.28 - ТП 11 -ΙΙ | N10: ЯЧ.20 - РП-8 ф11
B11: Расчет. Коэф. | E11: 7200 | F11: Расчет. Коэф. | I11: 0 | J11: Расчет. Коэф. | M11: =E11 -> 7200 | N11: Расчет. Коэф. | Q11: =I11 -> 0
B12: показания счетчика | C12: разность | E12: расход эл.энергии за час | F12: показания счетчика | G12: разность | I12: расход эл.энергии за час | J12: показания счетчика | K12: разность | M12: расход эл.энергии за час | N12: показания счетчика | O12: разность | Q12: расход эл.энергии за час
A13: 1 | B13: 2 | C13: 3 | E13: 4 | F13: 5 | G13: 6 | I13: 7 | J13: 8 | K13: 9 | M13: 10 | N13: 11 | O13: 12 | Q13: 13
A14: 0 | E14: 99.36 | I14: 980.64 | M14: 0 | Q14: 306.72
A15: 1 | E15: 100.8 | I15: 897.12 | M15: 1.44 | Q15: 283.68
A16: 2 | E16: 102.24 | I16: 803.52 | M16: 0 | Q16: 241.92
A17: 3 | E17: 99.36 | I17: 790.56 | M17: 0 | Q17: 240.48
A18: 4 | E18: 102.24 | I18: 738.72 | M18: 1.44 | Q18: 197.28
A19: 5 | E19: 110.88 | I19: 797.76 | M19: 1.44 | Q19: 198.72
A20: 6 | E20: 125.28 | I20: 1041.12 | M20: 1.44 | Q20: 253.44
A21: 7 | E21: 177.12 | I21: 1327.68 | M21: 1.44 | Q21: 295.2
A22: 8 | E22: 270.72 | I22: 1585.44 | M22: 2.88 | Q22: 313.92
A23: 9 | E23: 298.08 | I23: 1617.12 | M23: 4.32 | Q23: 300.96
A24: 10 | E24: 282.24 | I24: 1543.68 | M24: 4.32 | Q24: 231.84
A25: 11 | E25: 298.08 | I25: 1713.6 | M25: 11.52 | Q25: 349.92
... A37: 23 | E37: 97.92 | I37: 1123.2 | M37: 1.44 | Q37: 334.08
A38: Итого | E38: =SUM(E14:E37) -> 4567.68 | I38: =SUM(I14:I37) -> 30853.44 | M38: =SUM(M14:M37) -> 112.32 | Q38: =SUM(Q14:Q37) -> 6229.44
A39: 1. При наличии на предприятии отклонений от нормальных режимов электропотребления (временное изменение схем питания, остановка на ремонт, резкое снижение
A40: эл.потребления и т.д.) последние необходимо перечислить.
A41: Главный инженер АО "Вологдаоблэнерго" А.В. Чурляев
A42: составляется самим предприятием с соблюдением всех пунктов настоящей таблицы.

Sheet 34_1
B1: АО "Вологдаоблэнерго" | J1: код 900151 | N1: ПС "ЦЕНТРАЛЬНАЯ" 110/10 кВ
B2: наименование предприятия | N2: наименование источника питания
N3: _________________________________ | O3: РУ-10 кВ
B4: ул. Горького, 99 | I4: Таблица № 1 | O4: РП-21
B5: адрес
A6: почасовых записей показаний электрических счетчиков
A7: в режимный день 18 декабря 2024 г.
A8: 911 | B8: 910
A9: часы суток | B9: Активная энергия | J9: Реактивная энергия
B10: ЯЧ.22 - РП 21- Ι | F10: ЯЧ.7 - РП 21- ΙI | J10: ЯЧ.22 - РП 21- Ι | N10: ЯЧ.7 - РП 21- ΙI
B11: Расчет. Коэф. | E11: 7200 | F11: Расчет. Коэф. | I11: 0 | J11: Расчет. Коэф. | M11: =E11 -> 7200 | N11: Расчет. Коэф. | Q11: =I11 -> 0
B12: показания счетчика | C12: разность | E12: расход эл.энергии за час | F12: показания счетчика | G12: разность | I12: расход эл.энергии за час | J12: показания счетчика | K12: разность | M12: расход эл.энергии за час | N12: показания счетчика | O12: разность | Q12: расход эл.энергии за час
A13: 1 | B13: 2 | C13: 3 | E13: 4 | F13: 5 | G13: 6 | I13: 7 | J13: 8 | K13: 9 | M13: 10 | N13: 11 | O13: 12 | Q13: 13
A14: 0 | E14: 366 | I14: 530 | M14: 3 | Q14: 0
A15: 1 | E15: 353 | I15: 501 | M15: 4 | Q15: 0
A16: 2 | E16: 338 | I16: 460 | M16: 4 | Q16: 0
A17: 3 | E17: 338 | I17: 453 | M17: 1 | Q17: 0
A18: 4 | E18: 333 | I18: 450 | M18: 1 | Q18: 0
A19: 5 | E19: 340 | I19: 502 | M19: 1 | Q19: 0
A20: 6 | E20: 380 | I20: 577 | M20: 2 | Q20: 0
A21: 7 | E21: 528 | I21: 764 | M21: 12 | Q21: 1
A22: 8 | E22: 708 | I22: 1065 | M22: 16 | Q22: 4
A23: 9 | E23: 859 | I23: 1234 | M23: 16 | Q23: 0
A24: 10 | E24: 967 | I24: 1368 | M24: 41 | Q24: 0
A25: 11 | E25: 998 | I25: 1435 | M25: 19 | Q25: 2
... A37: 23 | E37: 427 | I37: 570 | M37: 13 | Q37: 1
A38: Итого | E38: =SUM(E14:E37) -> 16076 | I38: =SUM(I14:I37) -> 22770 | M38: =SUM(M14:M37) -> 706 | Q38: =SUM(Q14:Q37) -> 30
A39: 1. При наличии на предприятии отклонений от нормальных режимов электропотребления (временное изменение схем питания, остановка на ремонт, резкое снижение
A40: эл.потребления и т.д.) последние необходимо перечислить.
A41: Главный инженер АО "Вологдаоблэнерго" А.В. Чурляев
A42: составляется самим предприятием с соблюдением всех пунктов настоящей таблицы.

Sheet 35
B1: АО "Вологдаоблэнерго" | J1: код 900151 | N1: ПС "ГОРОДСКАЯ" 35/6 кВ
B2: наименование предприятия | N2: наименование источника питания
N3: _________________________________
B4: ул. Горького, 99 | I4: Таблица № 1 | O4: Т-1, Т-3 (ЗРУ 6 кВ)
B5: адрес
A6: почасовых записей показаний электрических счетчиков
A7: в режимный день 18 декабря 2024 г.
A8: 300 | B8: 304
A9: часы суток | B9: Активная энергия | J9: Реактивная энергия
B10: Т-1 - ЗРУ Ф.1 ввод № 1 | F10: Т-3 - ЗРУ Ф.20 ввод № 2 . | J10: Т-1 - ЗРУ Ф.1 ввод № 1 | N10: Т-3 - ЗРУ Ф.20 ввод № 2 .
B11: Расчет. Коэф. | E11: 18000 | F11: Расчет. Коэф. | I11: 18000 | J11: Расчет. Коэф. | M11: =E11 -> 18000 | N11: Расчет. Коэф. | Q11: =I11 -> 18000
B12: показания счетчика | C12: разность | E12: расход эл.энергии за час | F12: показания счетчика | G12: разность | I12: расход эл.энергии за час | J12: показания счетчика | K12: разность | M12: расход эл.энергии за час | N12: показания счетчика | O12: разность | Q12: расход эл.энергии за час
A13: 1 | B13: 2 | C13: 3 | E13: 4 | F13: 5 | G13: 6 | I13: 7 | J13: 8 | K13: 9 | M13: 10 | N13: 11 | O13: 12 | Q13: 13
A14: 0 | E14: 1895.4 | I14: 2872.8 | M14: 532.8 | Q14: 833.4
A15: 1 | E15: 1798.2 | I15: 2755.8 | M15: 513 | Q15: 847.8
A16: 2 | E16: 1760.4 | I16: 2700 | M16: 527.4 | Q16: 840.6
A17: 3 | E17: 1755 | I17: 2638.8 | M17: 502.2 | Q17: 831.6
A18: 4 | E18: 1773 | I18: 2644.2 | M18: 484.2 | Q18: 802.8
A19: 5 | E19: 1927.8 | I19: 2899.8 | M19: 504 | Q19: 790.2
A20: 6 | E20: 2215.8 | I20: 3290.4 | M20: 475.2 | Q20: 774
A21: 7 | E21: 2660.4 | I21: 3754.8 | M21: 475.2 | Q21: 770.4
A22: 8 | E22: 3243.6 | I22: 4336.2 | M22: 543.6 | Q22: 774
A23: 9 | E23: 3472.2 | I23: 4537.8 | M23: 545.4 | Q23: 738
A24: 10 | E24: 3538.8 | I24: 4665.6 | M24: 556.2 | Q24: 768.6
A25: 11 | E25: 3475.8 | I25: 4712.4 | M25: 588.6 | Q25: 761.4
... A37: 23 | E37: 2088 | I37: 3258 | M37: 531 | Q37: 847.8
A38: Итого | E38: =SUM(E14:E37) -> 66186 | I38: =SUM(I14:I37) -> 93976.2 | M38: =SUM(M14:M37) -> 12918.6 | Q38: =SUM(Q14:Q37) -> 18991.8
A39: 1. При наличии на предприятии отклонений от нормальных режимов электропотребления (временное изменение схем питания, остановка на ремонт, резкое снижение
A40: эл.потребления и т.д.) последние необходимо перечислить.
A41: Главный инженер АО "Вологдаоблэнерго" А.В. Чурляев
A42: составляется самим предприятием с соблюдением всех пунктов настоящей таблицы.

Sheet 36
B1: АО "Вологдаоблэнерго" | J1: код 900151 | N1: ПС "ГОРОДСКАЯ" 35/6 кВ
B2: наименование предприятия | N2: наименование источника питания
N3: _________________________________
B4: ул. Горького, 99 | I4: Таблица № 1 | O4: Т-2 (РП 9)
B5: адрес
A6: почасовых записей показаний электрических счетчиков
A7: в режимный день 18 декабря 2024 г.
A8: 297
A9: часы суток | B9: Активная энергия | J9: Реактивная энергия
B10: Т-2 - РП 9 ф. 11 | J10: Т-2 - РП 9 ф. 11
B11: Расчет. Коэф. | E11: 7200 | F11: Расчет. Коэф. | I11: 0 | J11: Расчет. Коэф. | M11: =E11 -> 7200 | N11: Расчет. Коэф. | Q11: 0
B12: показания счетчика | C12: разность | E12: расход эл.энергии за час | F12: показания счетчика | G12: разность | I12: расход эл.энергии за час | J12: показания счетчика | K12: разность | M12: расход эл.энергии за час | N12: показания счетчика | O12: разность | Q12: расход эл.энергии за час
A13: 1 | B13: 2 | C13: 3 | E13: 4 | F13: 5 | G13: 6 | I13: 7 | J13: 8 | K13: 9 | M13: 10 | N13: 11 | O13: 12 | Q13: 13
A14: 0 | E14: 1549.44 | M14: 401.76
A15: 1 | E15: 1429.92 | M15: 393.84
A16: 2 | E16: 1368.72 | M16: 388.08
A17: 3 | E17: 1338.48 | M17: 375.84
A18: 4 | E18: 1352.16 | M18: 365.76
A19: 5 | E19: 1455.84 | M19: 366.48
A20: 6 | E20: 1733.04 | M20: 354.96
A21: 7 | E21: 2033.28 | M21: 377.28
A22: 8 | E22: 2281.68 | M22: 370.08
A23: 9 | E23: 2406.96 | M23: 381.6
A24: 10 | E24: 2437.92 | M24: 378
A25: 11 | E25: 2494.8 | M25: 382.32
... A37: 23 | E37: 1805.76 | M37: 416.88
A38: Итого | E38: =SUM(E14:E37) -> 50642.64 | I38: =SUM(I14:I37) -> 0 | M38: =SUM(M14:M37) -> 9270.72 | Q38: =SUM(Q14:Q37) -> 0
A39: 1. При наличии на предприятии отклонений от нормальных режимов электропотребления (временное изменение схем питания, остановка на ремонт, резкое снижение
A40: эл.потребления и т.д.) последние необходимо перечислить.
A41: Главный инженер АО "Вологдаоблэнерго" А.В. Чурляев
A42: составляется самим предприятием с соблюдением всех пунктов настоящей таблицы.

Sheet 37
B1: АО "Вологдаоблэнерго" | J1: код 900151 | N1: ПС "ВОСТОЧНАЯ" 110/35/10 кВ
B2: наименование предприятия | N2: наименование источника питания
N3: _________________________________
B4: ул. Горького, 99 | I4: Таблица № 1 | O4: РП 39
B5: адрес
A6: почасовых записей показаний электрических счетчиков
A7: в режимный день 18 декабря 2024 г.
A8: 1633 | B8: 1634
A9: часы суток | B9: Активная энергия | J9: Реактивная энергия
B10: ЯЧ.№2 - "РП 39-1" | F10: ЯЧ.№ 21 - "РП 39-2" | J10: ЯЧ.№2 - "РП 39-1" | N10: ЯЧ.№ 21 - "РП 39-2"
B11: Расчет. Коэф. | E11: 8000 | F11: Расчет. Коэф. | I11: 6000 | J11: Расчет. Коэф. | M11: =E11 -> 8000 | N11: Расчет. Коэф. | Q11: =I11 -> 6000
B12: показания счетчика | C12: разность | E12: расход эл.энергии за час | F12: показания счетчика | G12: разность | I12: расход эл.энергии за час | J12: показания счетчика | K12: разность | M12: расход эл.энергии за час | N12: показания счетчика | O12: разность | Q12: расход эл.энергии за час
A13: 1 | B13: 2 | C13: 3 | E13: 4 | F13: 5 | G13: 6 | I13: 7 | J13: 8 | K13: 9 | M13: 10 | N13: 11 | O13: 12 | Q13: 13
A14: 0 | E14: 1004 | I14: 447 | M14: 116 | Q14: 45
A15: 1 | E15: 1149 | I15: 398 | M15: 191 | Q15: 47
A16: 2 | E16: 1047 | I16: 373 | M16: 149 | Q16: 44
A17: 3 | E17: 751 | I17: 362 | M17: 7 | Q17: 43
A18: 4 | E18: 826 | I18: 367 | M18: 6 | Q18: 42
A19: 5 | E19: 1000 | I19: 416 | M19: 66 | Q19: 40
A20: 6 | E20: 1020 | I20: 574 | M20: 21 | Q20: 38
A21: 7 | E21: 1235 | I21: 608 | M21: 79 | Q21: 47
A22: 8 | E22: 1155 | I22: 583 | M22: 37 | Q22: 25
A23: 9 | E23: 1311 | I23: 612 | M23: 104 | Q23: 26
A24: 10 | E24: 1269 | I24: 635 | M24: 94 | Q24: 25
A25: 11 | E25: 1190 | I25: 646 | M25: 66 | Q25: 29
... A37: 23 | E37: 1284 | I37: 546 | M37: 170 | Q37: 46
A38: Итого | E38: =SUM(E14:E37) -> 28244 | I38: =SUM(I14:I37) -> 14486 | M38: =SUM(M14:M37) -> 2197 | Q38: =SUM(Q14:Q37) -> 1013
A39: 1. При наличии на предприятии отклонений от нормальных режимов электропотребления (временное изменение схем питания, остановка на ремонт, резкое снижение
A40: эл.потребления и т.д.) последние необходимо перечислить.
A41: Главный инженер АО "Вологдаоблэнерго" А.В. Чурляев
A42: составляется самим предприятием с соблюдением всех пунктов настоящей таблицы.

Sheet 38
B1: АО "Вологдаоблэнерго" | J1: код 900151 | N1: ПС "ВОСТОЧНАЯ" 110/35/10 кВ
B2: наименование предприятия | N2: наименование источника питания
N3: _________________________________
B4: ул. Горького, 99 | I4: Таблица № 1 | O4: РП 30
B5: адрес
A6: почасовых записей показаний электрических счетчиков
A7: в режимный день 18 декабря 2024 г.
A8: 1637 | B8: 1638
A9: часы суток | B9: Активная энергия | J9: Реактивная энергия
B10: ЯЧ.№15 - "РМЗ-1" | F10: ЯЧ.№32 - "РМЗ-2" | J10: ЯЧ.№15 - "РМЗ-1" | N10: ЯЧ.№32 - "РМЗ-2"
B11: Расчет. Коэф. | E11: 8000 | F11: Расчет. Коэф. | I11: 8000 | J11: Расчет. Коэф. | M11: =E11 -> 8000 | N11: Расчет. Коэф. | Q11: =I11 -> 8000
B12: показания счетчика | C12: разность | E12: расход эл.энергии за час | F12: показания счетчика | G12: разность | I12: расход эл.энергии за час | J12: показания счетчика | K12: разность | M12: расход эл.энергии за час | N12: показания счетчика | O12: разность | Q12: расход эл.энергии за час
A13: 1 | B13: 2 | C13: 3 | E13: 4 | F13: 5 | G13: 6 | I13: 7 | J13: 8 | K13: 9 | M13: 10 | N13: 11 | O13: 12 | Q13: 13
A14: 0 | E14: 170 | I14: 1940 | M14: 0 | Q14: 470
A15: 1 | E15: 164 | I15: 1945 | M15: 0 | Q15: 495
A16: 2 | E16: 152 | I16: 1941 | M16: 0 | Q16: 479
A17: 3 | E17: 145 | I17: 1927 | M17: 0 | Q17: 468
A18: 4 | E18: 139 | I18: 1931 | M18: 0 | Q18: 465
A19: 5 | E19: 145 | I19: 1950 | M19: 0 | Q19: 416
A20: 6 | E20: 175 | I20: 2206 | M20: 0 | Q20: 445
A21: 7 | E21: 244 | I21: 2423 | M21: 1 | Q21: 504
A22: 8 | E22: 294 | I22: 2908 | M22: 9 | Q22: 759
A23: 9 | E23: 301 | I23: 3020 | M23: 11 | Q23: 794
A24: 10 | E24: 309 | I24: 2936 | M24: 8 | Q24: 729
A25: 11 | E25: 332 | I25: 2984 | M25: 40 | Q25: 789
... A37: 23 | E37: 143 | I37: 2077 | M37: 0 | Q37: 427
A38: Итого | E38: =SUM(E14:E37) -> 5458 | I38: =SUM(I14:I37) -> 59647 | M38: =SUM(M14:M37) -> 185 | Q38: =SUM(Q14:Q37) -> 13765
A39: 1. При наличии на предприятии отклонений от нормальных режимов электропотребления (временное изменение схем питания, остановка на ремонт, резкое снижение
A40: эл.потребления и т.д.) последние необходимо перечислить.
A41: Главный инженер АО "Вологдаоблэнерго" А.В. Чурляев
A42: составляется самим предприятием с соблюдением всех пунктов настоящей таблицы.

Sheet 39
B1: АО "Вологдаоблэнерго" | J1: код 900151 | N1: ПС "ВОСТОЧНАЯ" 110/35/10 кВ
B2: наименование предприятия | N2: наименование источника питания
N3: _________________________________
B4: ул. Горького, 99 | I4: Таблица № 1 | O4: РП 31
B5: адрес
A6: почасовых записей показаний электрических счетчиков
A7: в режимный день 18 декабря 2024 г.
A8: 1635 | B8: 1636
A9: часы суток | B9: Активная энергия | J9: Реактивная энергия
B10: ЯЧ. № 11- "ГОРОД-1" | F10: ЯЧ. № 28- "ГОРОД-2" | J10: ЯЧ. № 11- "ГОРОД-1" | N10: ЯЧ. № 28- "ГОРОД-2"
B11: Расчет. Коэф. | E11: 12000 | F11: Расчет. Коэф. | I11: 12000 | J11: Расчет. Коэф. | M11: =E11 -> 12000 | N11: Расчет. Коэф. | Q11: =I11 -> 12000
B12: показания счетчика | C12: разность | E12: расход эл.энергии за час | F12: показания счетчика | G12: разность | I12: расход эл.энергии за час | J12: показания счетчика | K12: разность | M12: расход эл.энергии за час | N12: показания счетчика | O12: разность | Q12: расход эл.энергии за час
A13: 1 | B13: 2 | C13: 3 | E13: 4 | F13: 5 | G13: 6 | I13: 7 | J13: 8 | K13: 9 | M13: 10 | N13: 11 | O13: 12 | Q13: 13
A14: 0 | E14: 2908 | I14: 2218 | M14: 751 | Q14: 308
A15: 1 | E15: 2708 | I15: 2038 | M15: 719 | Q15: 301
A16: 2 | E16: 2613 | I16: 1964 | M16: 694 | Q16: 300
A17: 3 | E17: 2616 | I17: 1939 | M17: 690 | Q17: 282
A18: 4 | E18: 2665 | I18: 2040 | M18: 664 | Q18: 276
A19: 5 | E19: 2881 | I19: 2371 | M19: 653 | Q19: 283
A20: 6 | E20: 3278 | I20: 2830 | M20: 667 | Q20: 306
A21: 7 | E21: 3788 | I21: 3108 | M21: 792 | Q21: 366
A22: 8 | E22: 4182 | I22: 3393 | M22: 816 | Q22: 371
A23: 9 | E23: 4339 | I23: 3550 | M23: 815 | Q23: 408
A24: 10 | E24: 4496 | I24: 3560 | M24: 894 | Q24: 388
A25: 11 | E25: 4554 | I25: 3615 | M25: 827 | Q25: 407
... A37: 23 | E37: 3165 | I37: 2551 | M37: 727 | Q37: 307
A38: Итого | E38: =SUM(E14:E37) -> 92814 | I38: =SUM(I14:I37) -> 74862 | M38: =SUM(M14:M37) -> 18134 | Q38: =SUM(Q14:Q37) -> 8247
A39: 1. При наличии на предприятии отклонений от нормальных режимов электропотребления (временное изменение схем питания, остановка на ремонт, резкое снижение
A40: эл.потребления и т.д.) последние необходимо перечислить.
A41: Главный инженер АО "Вологдаоблэнерго" А.В. Чурляев
A42: составляется самим предприятием с соблюдением всех пунктов настоящей таблицы.

Sheet 39_1
B1: АО "Вологдаоблэнерго" | J1: код 900151 | N1: ПС "ВОСТОЧНАЯ" 110/35/10 кВ
B2: наименование предприятия | N2: наименование источника питания
N3: _________________________________
B4: ул. Горького, 99 | I4: Таблица № 1 | O4: ТП-561-2
B5: адрес
A6: почасовых записей показаний электрических счетчиков
A7: в режимный день 18 декабря 2024 г.
A8: 1737
A9: часы суток | B9: Активная энергия | J9: Реактивная энергия
B10: ЯЧ. № 5- "ГОРОД-3" | J10: ЯЧ. № 5- "ГОРОД-3"
B11: Расчет. Коэф. | F11: Расчет. Коэф. | J11: Расчет. Коэф. | N11: Расчет. Коэф.
B12: показания счетчика | C12: разность | E12: расход эл.энергии за час | F12: показания счетчика | G12: разность | I12: расход эл.энергии за час | J12: показания счетчика | K12: разность | M12: расход эл.энергии за час | N12: показания счетчика | O12: разность | Q12: расход эл.энергии за час
A13: 1 | B13: 2 | C13: 3 | E13: 4 | F13: 5 | G13: 6 | I13: 7 | J13: 8 | K13: 9 | M13: 10 | N13: 11 | O13: 12 | Q13: 13
A14: 0 | E14: 326.4
A15: 1 | E15: 291
A16: 2 | E16: 259.2
A17: 3 | E17: 243.6
A18: 4 | E18: 240.6
A19: 5 | E19: 268.2
A20: 6 | E20: 366.6
A21: 7 | E21: 388.2
A22: 8 | E22: 393
A23: 9 | E23: 388.8
A24: 10 | E24: 404.4
A25: 11 | E25: 384.6
... A37: 23 | E37: 385.8
A38: Итого | E38: =SUM(E14:E37) -> 9461.4 | I38: =SUM(I14:I37) -> 0 | M38: =SUM(M14:M37) -> 0 | Q38: =SUM(Q14:Q37) -> 0
A39: 1. При наличии на предприятии отклонений от нормальных режимов электропотребления (временное изменение схем питания, остановка на ремонт, резкое снижение
A40: эл.потребления и т.д.) последние необходимо перечислить.
A41: Главный инженер АО "Вологдаоблэнерго" А.В. Чурляев
A42: составляется самим предприятием с соблюдением всех пунктов настоящей таблицы.

Sheet 40
B1: АО "Вологдаоблэнерго" | J1: код 900151 | N1: ПС "ЛУГОВАЯ"
B2: наименование предприятия | N2: наименование источника питания
N3: _________________________________
B4: ул. Горького, 99 | I4: Таблица № 1 | O4: РП 19
B5: адрес
A6: почасовых записей показаний электрических счетчиков
A7: в режимный день 18 декабря 2024 г.
A8: 1516 | B8: 1514
A9: часы суток | B9: Активная энергия | J9: Реактивная энергия
B10: ЯЧ. 23 - ф "ГОРОД-2 | F10: ЯЧ. 2 - ф "ГОРОД-3" | J10: ЯЧ. 23 - ф "ГОРОД-2 | N10: ЯЧ. 2 - ф "ГОРОД-3"
B11: Расчет. Коэф. | E11: 12000 | F11: Расчет. Коэф. | I11: 12000 | J11: Расчет. Коэф. | M11: =E11 -> 12000 | N11: Расчет. Коэф. | Q11: =I11 -> 12000
B12: показания счетчика | C12: разность | E12: расход эл.энергии за час | F12: показания счетчика | G12: разность | I12: расход эл.энергии за час | J12: показания счетчика | K12: разность | M12: расход эл.энергии за час | N12: показания счетчика | O12: разность | Q12: расход эл.энергии за час
A13: 1 | B13: 2 | C13: 3 | E13: 4 | F13: 5 | G13: 6 | I13: 7 | J13: 8 | K13: 9 | M13: 10 | N13: 11 | O13: 12 | Q13: 13
A14: 0 | E14: 2540 | I14: 2326 | M14: 398 | Q14: 199
A15: 1 | E15: 2306 | I15: 2180 | M15: 393 | Q15: 216
A16: 2 | E16: 2218 | I16: 2112 | M16: 391 | Q16: 212
A17: 3 | E17: 2166 | I17: 2116 | M17: 370 | Q17: 198
A18: 4 | E18: 2226 | I18: 2172 | M18: 360 | Q18: 174
A19: 5 | E19: 2492 | I19: 2457 | M19: 362 | Q19: 178
A20: 6 | E20: 3065 | I20: 2769 | M20: 365 | Q20: 161
A21: 7 | E21: 3426 | I21: 3006 | M21: 376 | Q21: 152
A22: 8 | E22: 3743 | I22: 3326 | M22: 384 | Q22: 166
A23: 9 | E23: 3828 | I23: 3354 | M23: 435 | Q23: 250
A24: 10 | E24: 4007 | I24: 3380 | M24: 506 | Q24: 254
A25: 11 | E25: 3932 | I25: 3361 | M25: 456 | Q25: 231
... A37: 23 | E37: 2912 | I37: 2718 | M37: 406 | Q37: 198
A38: Итого | E38: =SUM(E14:E37) -> 84986 | I38: =SUM(I14:I37) -> 74150 | M38: =SUM(M14:M37) -> 9864 | Q38: =SUM(Q14:Q37) -> 4812
A39: 1. При наличии на предприятии отклонений от нормальных режимов электропотребления (временное изменение схем питания, остановка на ремонт, резкое снижение
A40: эл.потребления и т.д.) последние необходимо перечислить.
A41: Главный инженер АО "Вологдаоблэнерго" А.В. Чурляев
A42: составляется самим предприятием с соблюдением всех пунктов настоящей таблицы.

Sheet 40 _1
B1: АО "Вологдаоблэнерго" | J1: код 900151 | N1: ПС "ЛУГОВАЯ"
B2: наименование предприятия | N2: наименование источника питания
N3: _________________________________
B4: ул. Горького, 99 | I4: Таблица № 1 | O4: ТП-1080
B5: адрес
A6: почасовых записей показаний электрических счетчиков
A7: в режимный день 18 декабря 2024 г.
A8: 1516 | B8: 1514
A9: часы суток | B9: Активная энергия | J9: Реактивная энергия
B10: ЯЧ. 0 - ф "ГОРОД-5 | F10: ЯЧ. 27 - ф ГОРОД-6 | J10: ЯЧ. 0 - ф "ГОРОД-5 | N10: ЯЧ. 27 - ф ГОРОД-6
B11: Расчет. Коэф. | E11: 12000 | F11: Расчет. Коэф. | I11: 12000 | J11: Расчет. Коэф. | M11: =E11 -> 12000 | N11: Расчет. Коэф. | Q11: =I11 -> 12000
B12: показания счетчика | C12: разность | E12: расход эл.энергии за час | F12: показания счетчика | G12: разность | I12: расход эл.энергии за час | J12: показания счетчика | K12: разность | M12: расход эл.энергии за час | N12: показания счетчика | O12: разность | Q12: расход эл.энергии за час
A13: 1 | B13: 2 | C13: 3 | E13: 4 | F13: 5 | G13: 6 | I13: 7 | J13: 8 | K13: 9 | M13: 10 | N13: 11 | O13: 12 | Q13: 13
A14: 0 | E14: 34.4 | I14: 0
A15: 1 | E15: 30.4 | I15: 0
A16: 2 | E16: 30 | I16: 0
A17: 3 | E17: 28 | I17: 0
A18: 4 | E18: 27.6 | I18: 0
A19: 5 | E19: 29.6 | I19: 0
A20: 6 | E20: 37.2 | I20: 0
A21: 7 | E21: 40.8 | I21: 0
A22: 8 | E22: 40.8 | I22: 0
A23: 9 | E23: 40 | I23: 0
A24: 10 | E24: 38.8 | I24: 0
A25: 11 | E25: 38 | I25: 0
... A37: 23 | E37: 45.2 | I37: 0
A38: Итого | E38: =SUM(E14:E37) -> 994.4 | I38: =SUM(I14:I37) -> 0 | M38: =SUM(M14:M37) -> 0 | Q38: =SUM(Q14:Q37) -> 0
A39: 1. При наличии на предприятии отклонений от нормальных режимов электропотребления (временное изменение схем питания, остановка на ремонт, резкое снижение
A40: эл.потребления и т.д.) последние необходимо перечислить.
A41: Главный инженер АО "Вологдаоблэнерго" А.В. Чурляев
A42: составляется самим предприятием с соблюдением всех пунктов настоящей таблицы.

Sheet 41
B1: АО "Вологдаоблэнерго" | J1: код 900151 | N1: ПС "ЛУГОВАЯ"
B2: наименование предприятия | N2: наименование источника питания
N3: _________________________________
B4: ул. Горького, 99 | I4: Таблица № 1 | O4: РП 38
B5: адрес
A6: почасовых записей показаний электрических счетчиков
A7: в режимный день 18 декабря 2024 г.
A8: 1515 | B8: 1517
A9: часы суток | B9: Активная энергия | J9: Реактивная энергия
B10: ЯЧ.10 - ф "ГОРОД-1" | F10: ЯЧ.25 - ф "ГОРОД-4" | J10: ЯЧ.10 - ф "ГОРОД-1" | N10: ЯЧ.25 - ф "ГОРОД-4"
B11: Расчет. Коэф. | E11: 12000 | F11: Расчет. Коэф. | I11: 12000 | J11: Расчет. Коэф. | M11: =E11 -> 12000 | N11: Расчет. Коэф. | Q11: =I11 -> 12000
B12: показания счетчика | C12: разность | E12: расход эл.энергии за час | F12: показания счетчика | G12: разность | I12: расход эл.энергии за час | J12: показания счетчика | K12: разность | M12: расход эл.энергии за час | N12: показания счетчика | O12: разность | Q12: расход эл.энергии за час
A13: 1 | B13: 2 | C13: 3 | E13: 4 | F13: 5 | G13: 6 | I13: 7 | J13: 8 | K13: 9 | M13: 10 | N13: 11 | O13: 12 | Q13: 13
A14: 0 | E14: 1483 | I14: 611 | M14: 86 | Q14: 62
A15: 1 | E15: 1392 | I15: 551 | M15: 102 | Q15: 65
A16: 2 | E16: 1343 | I16: 512 | M16: 107 | Q16: 62
A17: 3 | E17: 1308 | I17: 508 | M17: 89 | Q17: 59
A18: 4 | E18: 1299 | I18: 497 | M18: 68 | Q18: 46
A19: 5 | E19: 1420 | I19: 530 | M19: 66 | Q19: 48
A20: 6 | E20: 1661 | I20: 703 | M20: 61 | Q20: 31
A21: 7 | E21: 1791 | I21: 807 | M21: 59 | Q21: 49
A22: 8 | E22: 1932 | I22: 817 | M22: 46 | Q22: 19
A23: 9 | E23: 2057 | I23: 854 | M23: 104 | Q23: 26
A24: 10 | E24: 2118 | I24: 897 | M24: 106 | Q24: 49
A25: 11 | E25: 2182 | I25: 904 | M25: 105 | Q25: 65
... A37: 23 | E37: 1653 | I37: 717 | M37: 108 | Q37: 72
A38: Итого | E38: =SUM(E14:E37) -> 46387 | I38: =SUM(I14:I37) -> 19938 | M38: =SUM(M14:M37) -> 2326 | Q38: =SUM(Q14:Q37) -> 1202
A39: 1. При наличии на предприятии отклонений от нормальных режимов электропотребления (временное изменение схем питания, остановка на ремонт, резкое снижение
A40: эл.потребления и т.д.) последние необходимо перечислить.
A41: Главный инженер АО "Вологдаоблэнерго" А.В. Чурляев
A42: составляется самим предприятием с соблюдением всех пунктов настоящей таблицы.

Sheet 41_1
B1: АО "Вологдаоблэнерго" | J1: код 900151 | N1: ПС "ЛУГОВАЯ"
B2: наименование предприятия | N2: наименование источника питания
N3: _________________________________ | O3: ВЛ 10 кВ ф Родина
B4: ул. Горького, 99 | I4: Таблица № 1 | O4: КТП-663
B5: адрес
A6: почасовых записей показаний электрических счетчиков
A7: в режимный день 18 декабря 2024 г.
A8: 336
A9: часы суток | B9: Активная энергия | J9: Реактивная энергия
B10: ф.Родина - КТП-663 | J10: ф.Родина - КТП-663
B11: Расчет. Коэф. | E11: 40 | F11: Расчет. Коэф. | J11: Расчет. Коэф. | M11: 40 | N11: Расчет. Коэф.
B12: показания счетчика | C12: разность | E12: расход эл.энергии за час | F12: показания счетчика | G12: разность | I12: расход эл.энергии за час | J12: показания счетчика | K12: разность | M12: расход эл.энергии за час | N12: показания счетчика | O12: разность | Q12: расход эл.энергии за час
A13: 1 | B13: 2 | C13: 3 | E13: 4 | F13: 5 | G13: 6 | I13: 7 | J13: 8 | K13: 9 | M13: 10 | N13: 11 | O13: 12 | Q13: 13
A14: 0 | E14: 31.24 | M14: 3.74
A15: 1 | E15: 34.14 | M15: 3.08
A16: 2 | E16: 31.7 | M16: 3.52
A17: 3 | E17: 33.24 | M17: 3.32
A18: 4 | E18: 33.8 | M18: 2.94
A19: 5 | E19: 32.86 | M19: 3.34
A20: 6 | E20: 35.7 | M20: 3.68
A21: 7 | E21: 40.4 | M21: 3.82
A22: 8 | E22: 66.5 | M22: 5.52
A23: 9 | E23: 70.48 | M23: 8.2
A24: 10 | E24: 70.78 | M24: 7.98
A25: 11 | E25: 71.78 | M25: 6.94
... A37: 23 | E37: 40.76 | M37: 4
A38: Итого | E38: =SUM(E14:E37) -> 1224.26 | I38: =SUM(I14:I37) -> 0 | M38: =SUM(M14:M37) -> 119.4 | Q38: =SUM(Q14:Q37) -> 0
A39: 1. При наличии на предприятии отклонений от нормальных режимов электропотребления (временное изменение схем питания, остановка на ремонт, резкое снижение
A40: эл.потребления и т.д.) последние необходимо перечислить.
A41: Главный инженер АО "Вологдаоблэнерго" А.В. Чурляев
A42: составляется самим предприятием с соблюдением всех пунктов настоящей таблицы.

Sheet 42
B1: АО "Вологдаоблэнерго" | J1: код 900151 | N1: РП "ГОРКА"
B2: наименование предприятия | N2: наименование источника питания
N3: _________________________________
B4: ул. Горького, 99 | I4: Таблица № 1 | O4: ВЛ - 10кВ № 37
B5: адрес
A6: почасовых записей показаний электрических счетчиков
A7: в режимный день 18 декабря 2024 г.
A8: 1528 | B8: 1527
A9: часы суток | B9: Активная энергия | J9: Реактивная энергия
B10: ЯЧ. 4 - ф,"ЛОСТА-1" | F10: ЯЧ. 8 - ф."ЛОСТА-2" | J10: ЯЧ. 4 - ф,"ЛОСТА-1" | N10: ЯЧ. 8 - ф."ЛОСТА-2"
B11: Расчет. Коэф. | E11: 2000 | F11: Расчет. Коэф. | I11: 2000 | J11: Расчет. Коэф. | M11: =E11 -> 2000 | N11: Расчет. Коэф. | Q11: =I11 -> 2000
B12: показания счетчика | C12: разность | E12: расход эл.энергии за час | F12: показания счетчика | G12: разность | I12: расход эл.энергии за час | J12: показания счетчика | K12: разность | M12: расход эл.энергии за час | N12: показания счетчика | O12: разность | Q12: расход эл.энергии за час
A13: 1 | B13: 2 | C13: 3 | E13: 4 | F13: 5 | G13: 6 | I13: 7 | J13: 8 | K13: 9 | M13: 10 | N13: 11 | O13: 12 | Q13: 13
A14: 0 | E14: 422 | I14: 139 | M14: 196 | Q14: 46
A15: 1 | E15: 413 | I15: 129 | M15: 198 | Q15: 48
A16: 2 | E16: 409 | I16: 121 | M16: 196 | Q16: 46
A17: 3 | E17: 402 | I17: 121 | M17: 192 | Q17: 46
A18: 4 | E18: 403 | I18: 118 | M18: 189 | Q18: 44
A19: 5 | E19: 280 | I19: 133 | M19: 120 | Q19: 44
A20: 6 | E20: 496 | I20: 164 | M20: 188 | Q20: 43
A21: 7 | E21: 550 | I21: 168 | M21: 197 | Q21: 42
A22: 8 | E22: 591 | I22: 166 | M22: 228 | Q22: 42
A23: 9 | E23: 604 | I23: 171 | M23: 242 | Q23: 41
A24: 10 | E24: 639 | I24: 184 | M24: 249 | Q24: 47
A25: 11 | E25: 624 | I25: 179 | M25: 259 | Q25: 45
... A37: 23 | E37: 477 | I37: 160 | M37: 197 | Q37: 49
A38: Итого | E38: =SUM(E14:E37) -> 12501 | I38: =SUM(I14:I37) -> 4338 | M38: =SUM(M14:M37) -> 4938 | Q38: =SUM(Q14:Q37) -> 1108
A39: 1. При наличии на предприятии отклонений от нормальных режимов электропотребления (временное изменение схем питания, остановка на ремонт, резкое снижение
A40: эл.потребления и т.д.) последние необходимо перечислить.
A41: Главный инженер АО "Вологдаоблэнерго" А.В. Чурляев
A42: составляется самим предприятием с соблюдением всех пунктов настоящей таблицы.

Sheet 43
B1: АО "Вологдаоблэнерго" | J1: код 900151 | N1: ГПП 2 ЗАО ВПЗ
B2: наименование предприятия | N2: наименование источника питания
N3: _________________________________
B4: ул. Горького, 99 | I4: Таблица № 1 | N4: ПКУ | O4: ВЛ 10 кВ № 8
B5: адрес
A6: почасовых записей показаний электрических счетчиков
A7: в режимный день 18 декабря 2024 г.
A8: 618
A9: часы суток | B9: Активная энергия | J9: Реактивная энергия
B10: ЯЧ. 53 - ВЛ № 8 | J10: ЯЧ. 53 - ВЛ № 8
B11: Расчет. Коэф. | E11: 3000 | F11: Расчет. Коэф. | I11: 0 | J11: Расчет. Коэф. | M11: =E11 -> 3000 | N11: Расчет. Коэф. | Q11: =I11 -> 0
B12: показания счетчика | C12: разность | E12: расход эл.энергии за час | F12: показания счетчика | G12: разность | I12: расход эл.энергии за час | J12: показания счетчика | K12: разность | M12: расход эл.энергии за час | N12: показания счетчика | O12: разность | Q12: расход эл.энергии за час
A13: 1 | B13: 2 | C13: 3 | E13: 4 | F13: 5 | G13: 6 | I13: 7 | J13: 8 | K13: 9 | M13: 10 | N13: 11 | O13: 12 | Q13: 13
A14: 0 | E14: 313 | M14: 140
A15: 1 | E15: 317 | M15: 142
A16: 2 | E16: 309 | M16: 140
A17: 3 | E17: 301 | M17: 140
A18: 4 | E18: 309 | M18: 134
A19: 5 | E19: 310 | M19: 134
A20: 6 | E20: 315 | M20: 132
A21: 7 | E21: 344 | M21: 143
A22: 8 | E22: 454 | M22: 222
A23: 9 | E23: 544 | M23: 275
A24: 10 | E24: 519 | M24: 286
A25: 11 | E25: 471 | M25: 246
... A37: 23 | E37: 330 | M37: 131
A38: Итого | E38: =SUM(E14:E37) -> 9317 | I38: =SUM(I14:I37) -> 0 | M38: =SUM(M14:M37) -> 4317 | Q38: =SUM(Q14:Q37) -> 0
A39: 1. При наличии на предприятии отклонений от нормальных режимов электропотребления (временное изменение схем питания, остановка на ремонт, резкое снижение
A40: эл.потребления и т.д.) последние необходимо перечислить.
A41: Главный инженер АО "Вологдаоблэнерго" А.В. Чурляев
A42: составляется самим предприятием с соблюдением всех пунктов настоящей таблицы.

Sheet 44
B1: АО "Вологдаоблэнерго" | J1: код 900151 | N1: ГПП 2 220/10 кВ "ЗАО ВПЗ"
B2: наименование предприятия | N2: наименование источника питания
N3: _________________________________
B4: ул. Горького, 99 | I4: Таблица № 1 | O4: ТП 535; ТП 536
B5: адрес
A6: почасовых записей показаний электрических счетчиков
A7: в режимный день 18 декабря 2024 г.
A8: 616 | B8: 617
A9: часы суток | B9: Активная энергия | J9: Реактивная энергия
B10: ЯЧ. 6 - ТП 535 | F10: ЯЧ. 24 - ТП 536 | J10: ЯЧ. 6 - ТП 535 | N10: ЯЧ. 24 - ТП 536
B11: Расчет. Коэф. | E11: 6000 | F11: Расчет. Коэф. | I11: 6000 | J11: Расчет. Коэф. | M11: =E11 -> 6000 | N11: Расчет. Коэф. | Q11: =I11 -> 6000
B12: показания счетчика | C12: разность | E12: расход эл.энергии за час | F12: показания счетчика | G12: разность | I12: расход эл.энергии за час | J12: показания счетчика | K12: разность | M12: расход эл.энергии за час | N12: показания счетчика | O12: разность | Q12: расход эл.энергии за час
A13: 1 | B13: 2 | C13: 3 | E13: 4 | F13: 5 | G13: 6 | I13: 7 | J13: 8 | K13: 9 | M13: 10 | N13: 11 | O13: 12 | Q13: 13
A14: 0 | E14: 1000 | I14: 827 | M14: 179 | Q14: 116
A15: 1 | E15: 943 | I15: 766 | M15: 181 | Q15: 110
A16: 2 | E16: 915 | I16: 736 | M16: 179 | Q16: 108
A17: 3 | E17: 933 | I17: 770 | M17: 172 | Q17: 107
A18: 4 | E18: 984 | I18: 766 | M18: 177 | Q18: 104
A19: 5 | E19: 1103 | I19: 843 | M19: 186 | Q19: 110
A20: 6 | E20: 1231 | I20: 999 | M20: 188 | Q20: 112
A21: 7 | E21: 1437 | I21: 1220 | M21: 206 | Q21: 171
A22: 8 | E22: 1662 | I22: 1411 | M22: 259 | Q22: 219
A23: 9 | E23: 1745 | I23: 1501 | M23: 297 | Q23: 228
A24: 10 | E24: 1690 | I24: 1515 | M24: 282 | Q24: 236
A25: 11 | E25: 1662 | I25: 1531 | M25: 283 | Q25: 231
... A37: 23 | E37: 1136 | I37: 956 | M37: 174 | Q37: 118
A38: Итого | E38: =SUM(E14:E37) -> 34548 | I38: =SUM(I14:I37) -> 29858 | M38: =SUM(M14:M37) -> 5627 | Q38: =SUM(Q14:Q37) -> 4208
A39: 1. При наличии на предприятии отклонений от нормальных режимов электропотребления (временное изменение схем питания, остановка на ремонт, резкое снижение
A40: эл.потребления и т.д.) последние необходимо перечислить.
A41: Главный инженер АО "Вологдаоблэнерго" А.В. Чурляев
A42: составляется самим предприятием с соблюдением всех пунктов настоящей таблицы.

Sheet 45
B1: АО "Вологдаоблэнерго" | J1: код 900151 | N1: ГПП 1 110/10 кВ "ЗАО ВПЗ"
B2: наименование предприятия | N2: наименование источника питания
N3: _________________________________
B4: ул. Горького, 99 | I4: Таблица № 1 | O4: РП42
B5: адрес
A6: почасовых записей показаний электрических счетчиков
A7: в режимный день 18 декабря 2024 г.
A8: 606 | B8: 607
A9: часы суток | B9: Активная энергия | J9: Реактивная энергия
B10: ЯЧ. 10 - РП42 ф.1 | F10: ЯЧ. 34 - РП42 ф.6 | J10: ЯЧ. 10 - РП42 ф.1 | N10: ЯЧ. 34 - РП42 ф.6
B11: Расчет. Коэф. | E11: 8000 | F11: Расчет. Коэф. | I11: 8000 | J11: Расчет. Коэф. | M11: =E11 -> 8000 | N11: Расчет. Коэф. | Q11: =I11 -> 8000
B12: показания счетчика | C12: разность | E12: расход эл.энергии за час | F12: показания счетчика | G12: разность | I12: расход эл.энергии за час | J12: показания счетчика | K12: разность | M12: расход эл.энергии за час | N12: показания счетчика | O12: разность | Q12: расход эл.энергии за час
A13: 1 | B13: 2 | C13: 3 | E13: 4 | F13: 5 | G13: 6 | I13: 7 | J13: 8 | K13: 9 | M13: 10 | N13: 11 | O13: 12 | Q13: 13
A14: 0 | E14: 911 | I14: 981 | M14: 30 | Q14: 51
A15: 1 | E15: 841 | I15: 907 | M15: 36 | Q15: 46
A16: 2 | E16: 809 | I16: 855 | M16: 32 | Q16: 37
A17: 3 | E17: 791 | I17: 836 | M17: 12 | Q17: 14
A18: 4 | E18: 808 | I18: 845 | M18: 14 | Q18: 14
A19: 5 | E19: 932 | I19: 908 | M19: 15 | Q19: 17
A20: 6 | E20: 1139 | I20: 1088 | M20: 22 | Q20: 27
A21: 7 | E21: 1332 | I21: 1243 | M21: 26 | Q21: 65
A22: 8 | E22: 1550 | I22: 1453 | M22: 55 | Q22: 64
A23: 9 | E23: 1631 | I23: 1604 | M23: 47 | Q23: 48
A24: 10 | E24: 1673 | I24: 1665 | M24: 58 | Q24: 41
A25: 11 | E25: 1716 | I25: 1675 | M25: 33 | Q25: 52
... A37: 23 | E37: 1080 | I37: 1120 | M37: 38 | Q37: 20
A38: Итого | E38: =SUM(E14:E37) -> 33904 | I38: =SUM(I14:I37) -> 33621 | M38: =SUM(M14:M37) -> 601 | Q38: =SUM(Q14:Q37) -> 1008
A39: 1. При наличии на предприятии отклонений от нормальных режимов электропотребления (временное изменение схем питания, остановка на ремонт, резкое снижение
A40: эл.потребления и т.д.) последние необходимо перечислить.
A41: Главный инженер АО "Вологдаоблэнерго" А.В. Чурляев
A42: составляется самим предприятием с соблюдением всех пунктов настоящей таблицы.

Sheet свод.табл.3 г.Вологда
G1: код 900151
B2: Таблица № 3
A4: сводных данных режимного дня 18 декабря 2024 г.
A6: о потреблении электрической энергии по АО "Вологдаоблэнерго"
A7: в режимный день 18 декабря 2024 г.
A8: г. ВОЛОГДА
A10: часы суток | B10: Активная энергия | E10: Реактивная энергия
B11: Суммарный расход эл.энергии по всем вводам | C11: Суммарный расход эл.энергии всеми сторонними потребителями | D11: Расход эл.энергии предприятием (2-3) | E11: Суммарный расход эл.энергии по всем вводам | F11: Суммарный расход эл.энергии всеми сторонними потребителями | G11: Расход эл.энергии предприятием (5-6)
A12: 1 | B12: 2 | C12: 3 | D12: 4 | E12: 5 | F12: 6 | G12: 7
A13: 0 | B13: =SUM('1:45'!E14,'1:45'!I14) -> 73623.502 | D13: =B13 -> 73623.502 | E13: =SUM('1:45'!M14,'1:45'!Q14) -> 12895.674 | G13: =E13 -> 12895.674
A14: 1 | B14: =SUM('1:45'!E15,'1:45'!I15) -> 69901.438 | D14: =B14 -> 69901.438 | E14: =SUM('1:45'!M15,'1:45'!Q15) -> 12914.864 | G14: =E14 -> 12914.864
A15: 2 | B15: =SUM('1:45'!E16,'1:45'!I16) -> 67455.014 | D15: =B15 -> 67455.014 | E15: =SUM('1:45'!M16,'1:45'!Q16) -> 12604.398 | G15: =E15 -> 12604.398
A16: 3 | B16: =SUM('1:45'!E17,'1:45'!I17) -> 66189.4 | D16: =B16 -> 66189.4 | E16: =SUM('1:45'!M17,'1:45'!Q17) -> 12002.978 | G16: =E16 -> 12002.978
A17: 4 | B17: =SUM('1:45'!E18,'1:45'!I18) -> 67506.012 | D17: =B17 -> 67506.012 | E17: =SUM('1:45'!M18,'1:45'!Q18) -> 11661.194 | G17: =E17 -> 11661.194
A18: 5 | B18: =SUM('1:45'!E19,'1:45'!I19) -> 73251.774 | D18: =B18 -> 73251.774 | E18: =SUM('1:45'!M19,'1:45'!Q19) -> 11696.1 | G18: =E18 -> 11696.1
A19: 6 | B19: =SUM('1:45'!E20,'1:45'!I20) -> 85909.504 | D19: =B19 -> 85909.504 | E19: =SUM('1:45'!M20,'1:45'!Q20) -> 11882.098 | G19: =E19 -> 11882.098
A20: 7 | B20: =SUM('1:45'!E21,'1:45'!I21) -> 99287.184 | D20: =B20 -> 99287.184 | E20: =SUM('1:45'!M21,'1:45'!Q21) -> 13410.312 | G20: =E20 -> 13410.312
A21: 8 | B21: =SUM('1:45'!E22,'1:45'!I22) -> 112831.24 | D21: =B21 -> 112831.24 | E21: =SUM('1:45'!M22,'1:45'!Q22) -> 15258.99 | G21: =E21 -> 15258.99
A22: 9 | B22: =SUM('1:45'!E23,'1:45'!I23) -> 118888.18 | D22: =B22 -> 118888.18 | E22: =SUM('1:45'!M23,'1:45'!Q23) -> 16165.038 | G22: =E22 -> 16165.038
A23: 10 | B23: =SUM('1:45'!E24,J11) -> 63130.13 | D23: =B23 -> 63130.13 | E23: =SUM('1:45'!M24,'1:45'!Q24) -> 16071.986 | G23: =E23 -> 16071.986
A24: 11 | B24: =SUM('1:45'!E25,'1:45'!I25) -> 121884.02 | D24: =B24 -> 121884.02 | E24: =SUM('1:45'!M25,'1:45'!Q25) -> 16269.586 | G24: =E24 -> 16269.586
A25: 12 | B25: =SUM('1:45'!E26,'1:45'!I26) -> 120718.01 | D25: =B25 -> 120718.01 | E25: =SUM('1:45'!M26,'1:45'!Q26) -> 15887.298 | G25: =E25 -> 15887.298
A26: 13 | B26: =SUM('1:45'!E27,'1:45'!I27) -> 120882.59 | D26: =B26 -> 120882.59 | E26: =SUM('1:45'!M27,'1:45'!Q27) -> 16049.766 | G26: =E26 -> 16049.766
A27: 14 | B27: =SUM('1:45'!E28,'1:45'!I28) -> 120465.28 | D27: =B27 -> 120465.28 | E27: =SUM('1:45'!M28,'1:45'!Q28) -> 15904.114 | G27: =E27 -> 15904.114
A28: 15 | B28: =SUM('1:45'!E29,'1:45'!I29) -> 121951.24 | D28: =B28 -> 121951.24 | E28: =SUM('1:45'!M29,'1:45'!Q29) -> 15631.616 | G28: =E28 -> 15631.616
A29: 16 | B29: =SUM('1:45'!E30,'1:45'!I30) -> 123605.74 | D29: =B29 -> 123605.74 | E29: =SUM('1:45'!M30,'1:45'!Q30) -> 15217.644 | G29: =E29 -> 15217.644
A30: 17 | B30: =SUM('1:45'!E31,'1:45'!I31) -> 121519.12 | D30: =B30 -> 121519.12 | E30: =SUM('1:45'!M31,'1:45'!Q31) -> 14739.392 | G30: =E30 -> 14739.392
A31: 18 | B31: =SUM('1:45'!E32,'1:45'!I32) -> 120989.28 | D31: =B31 -> 120989.28 | E31: =SUM('1:45'!M32,'1:45'!Q32) -> 14427.828 | G31: =E31 -> 14427.828
A32: 19 | B32: =SUM('1:45'!E33,'1:45'!I33) -> 117534.18 | D32: =B32 -> 117534.18 | E32: =SUM('1:45'!M33,'1:45'!Q33) -> 13894.546 | G32: =E32 -> 13894.546
A33: 20 | B33: =SUM('1:45'!E34,'1:45'!I34) -> 112000.16 | D33: =B33 -> 112000.16 | E33: =SUM('1:45'!M34,'1:45'!Q34) -> 13566.338 | G33: =E33 -> 13566.338
A34: 21 | B34: =SUM('1:45'!E35,'1:45'!I35) -> 104991.5 | D34: =B34 -> 104991.5 | E34: =SUM('1:45'!M35,'1:45'!Q35) -> 13561.274 | G34: =E34 -> 13561.274
A35: 22 | B35: =SUM('1:45'!E36,'1:45'!I36) -> 94838.954 | D35: =B35 -> 94838.954 | E35: =SUM('1:45'!M36,'1:45'!Q36) -> 13779.356 | G35: =E35 -> 13779.356
A36: 23 | B36: =SUM(B13:B35) -> 2299353.5 | D36: =B36 -> 2299353.5 | E36: =SUM('1:45'!M37,'1:45'!Q37) -> 13138.582 | G36: =E36 -> 13138.582
A37: Итого | D37: =SUM(D13:D36) -> 4598706.9 | G37: =SUM(G13:G36) -> 338630.97
A41: И.о.главного инженера АО "Вологдаоблэнерго" О.В.Уткин
A42: Главный инженер АО "Вологдаоблэнерго" А.В. Чурляев
D48: =MAX(D14:D37) -> 4598706.9 | G48: =MAX(G14:G37) -> 338630.97

Sheet 46
B1: АО "Вологдаоблэнерго" | J1: код 900151 | N1: ПС 110 кВ "Кубенское"
B2: наименование предприятия | N2: наименование источника питания
B3: уч-к "Кубенское" | N3: _________________________________
B4: ул. Горького, 99 | I4: Таблица № 1 | O4: ф.СПТУ, ф. Кубенское ПКУ
B5: адрес
A6: почасовых записей показаний электрических счетчиков
A7: в режимный день 18 декабря 2024 г.
A8: 1640 | B8: 411
A9: часы суток | B9: Активная энергия | J9: Реактивная энергия
B10: яч..8 - ф.СПТУ | F10: яч.9 - ф.Кубенское ПКУ | J10: яч..8 - ф.СПТУ | N10: яч.9 - ф.Кубенское ПКУ
B11: Расчет. Коэф. | E11: 3000 | F11: Расчет. Коэф. | I11: 1500 | J11: Расчет. Коэф. | M11: 3000 | N11: Расчет. Коэф. | Q11: 1500
B12: показания счетчика | C12: разность | E12: расход эл.энергии за час | F12: показания счетчика | G12: разность | I12: расход эл.энергии за час | J12: показания счетчика | K12: разность | M12: расход эл.энергии за час | N12: показания счетчика | O12: разность | Q12: расход эл.энергии за час
A13: 1 | B13: 2 | C13: 3 | E13: 4 | F13: 5 | G13: 6 | I13: 7 | J13: 8 | K13: 9 | M13: 10 | N13: 11 | O13: 12 | Q13: 13
A14: 0 | E14: 252 | I14: 286.2 | M14: 106 | Q14: 86.25
A15: 1 | E15: 239 | I15: 290.25 | M15: 106 | Q15: 86.7
A16: 2 | E16: 235 | I16: 270 | M16: 105 | Q16: 85.8
A17: 3 | E17: 236 | I17: 273.3 | M17: 104 | Q17: 83.25
A18: 4 | E18: 239 | I18: 278.85 | M18: 105 | Q18: 82.35
A19: 5 | E19: 250 | I19: 283.95 | M19: 103 | Q19: 80.25
A20: 6 | E20: 347 | I20: 319.65 | M20: 106 | Q20: 82.5
A21: 7 | E21: 389 | I21: 347.25 | M21: 111 | Q21: 84.75
A22: 8 | E22: 430 | I22: 367.2 | M22: 104 | Q22: 106.2
A23: 9 | E23: 452 | I23: 409.35 | M23: 109 | Q23: 126.6
A24: 10 | E24: 437 | I24: 398.7 | M24: 110 | Q24: 124.5
A25: 11 | E25: 437 | I25: 381.75 | M25: 107 | Q25: 120.6
... A37: 23 | E37: 277 | I37: 326.85 | M37: 110 | Q37: 93.9
A38: Итого | E38: =SUM(E14:E37) -> 8357 | I38: =SUM(I14:I37) -> 8551.8 | M38: =SUM(M14:M37) -> 2660 | Q38: =SUM(Q14:Q37) -> 2487.15
A39: 1. При наличии на предприятии отклонений от нормальных режимов электропотребления (временное изменение схем питания, остановка на ремонт, резкое снижение
A40: эл.потребления и т.д.) последние необходимо перечислить.
A41: Главный инженер АО "Вологдаоблэнерго" А.В. Чурляев
A42: составляется самим предприятием с соблюдением всех пунктов настоящей таблицы.

Sheet 47
B1: АО "Вологдаоблэнерго" | J1: код 900151 | N1: ПС "Молочное" 35/10 кВ
B2: наименование предприятия | N2: наименование источника питания
B3: уч-к п. Молочное | N3: _________________________________
B4: ул. Горького, 99 | I4: Таблица № 1
B5: адрес
A6: почасовых записей показаний электрических счетчиков
A7: в режимный день 18 декабря 2024 г.
A8: 1450 | B8: 1449
A9: часы суток | B9: Активная энергия | J9: Реактивная энергия
B10: яч.17 - ф.Молочное-1 | F10: яч.12 - ф.Молочное-2 | J10: яч.17 - ф.Молочное-1 | N10: яч.12 - ф.Молочное-2
B11: Расчет. Коэф. | E11: 3000 | F11: Расчет. Коэф. | I11: 3000 | J11: Расчет. Коэф. | M11: 3000 | N11: Расчет. Коэф. | Q11: 3000
B12: показания счетчика | C12: разность | E12: расход эл.энергии за час | F12: показания счетчика | G12: разность | I12: расход эл.энергии за час | J12: показания счетчика | K12: разность | M12: расход эл.энергии за час | N12: показания счетчика | O12: разность | Q12: расход эл.энергии за час
A13: 1 | B13: 2 | C13: 3 | E13: 4 | F13: 5 | G13: 6 | I13: 7 | J13: 8 | K13: 9 | M13: 10 | N13: 11 | O13: 12 | Q13: 13
A14: 0 | E14: 209 | I14: 87 | M14: 40 | Q14: 37
A15: 1 | E15: 205 | I15: 74 | M15: 40 | Q15: 45
A16: 2 | E16: 201 | I16: 62 | M16: 40 | Q16: 39
A17: 3 | E17: 203 | I17: 67 | M17: 39 | Q17: 34
A18: 4 | E18: 203 | I18: 81 | M18: 37 | Q18: 11
A19: 5 | E19: 250 | I19: 78 | M19: 35 | Q19: 36
A20: 6 | E20: 289 | I20: 68 | M20: 39 | Q20: 25
A21: 7 | E21: 394 | I21: 66 | M21: 46 | Q21: 17
A22: 8 | E22: 432 | I22: 56 | M22: 51 | Q22: 2
A23: 9 | E23: 454 | I23: 51 | M23: 55 | Q23: 2
A24: 10 | E24: 416 | I24: 57 | M24: 53 | Q24: 0
A25: 11 | E25: 386 | I25: 51 | M25: 55 | Q25: 2
... A37: 23 | E37: 233 | I37: 78 | M37: 44 | Q37: 24
A38: Итого | E38: =SUM(E14:E37) -> 7450 | I38: =SUM(I14:I37) -> 1679 | M38: =SUM(M14:M37) -> 1112 | Q38: =SUM(Q14:Q37) -> 553
A39: 1. При наличии на предприятии отклонений от нормальных режимов электропотребления (временное изменение схем питания, остановка на ремонт, резкое снижение
A40: эл.потребления и т.д.) последние необходимо перечислить.
A41: Главный инженер АО "Вологдаоблэнерго" А.В. Чурляев
A42: составляется самим предприятием с соблюдением всех пунктов настоящей таблицы.

Sheet 48
B1: АО "Вологдаоблэнерго" | J1: код 900151 | N1: ПС "Молочное" 35/10 кВ
B2: наименование предприятия | N2: наименование источника питания
B3: уч-к п. Молочное | N3: _________________________________
B4: ул. Горького, 99 | I4: Таблица № 1
B5: адрес
A6: почасовых записей показаний электрических счетчиков
A7: в режимный день 18 декабря 2024 г.
A8: 1451 | B8: 1448
A9: часы суток | B9: Активная энергия | J9: Реактивная энергия
B10: яч 18 - ф.Молочное-3 | F10: яч 10. - ф.Очистные | J10: яч. 18 - ф.Молочное-3 | N10: яч 10 - ф.Очистные
B11: Расчет. Коэф. | E11: 3000 | F11: Расчет. Коэф. | I11: 2000 | J11: Расчет. Коэф. | M11: 3000 | N11: Расчет. Коэф. | Q11: 2000
B12: показания счетчика | C12: разность | E12: расход эл.энергии за час | F12: показания счетчика | G12: разность | I12: расход эл.энергии за час | J12: показания счетчика | K12: разность | M12: расход эл.энергии за час | N12: показания счетчика | O12: разность | Q12: расход эл.энергии за час
A13: 1 | B13: 2 | C13: 3 | E13: 4 | F13: 5 | G13: 6 | I13: 7 | J13: 8 | K13: 9 | M13: 10 | N13: 11 | O13: 12 | Q13: 13
A14: 0 | E14: 735 | I14: 454 | M14: 178 | Q14: 86
A15: 1 | E15: 691 | I15: 433 | M15: 178 | Q15: 66
A16: 2 | E16: 660 | I16: 436 | M16: 174 | Q16: 70
A17: 3 | E17: 652 | I17: 469 | M17: 176 | Q17: 103
A18: 4 | E18: 658 | I18: 476 | M18: 168 | Q18: 93
A19: 5 | E19: 774 | I19: 472 | M19: 173 | Q19: 64
A20: 6 | E20: 884 | I20: 522 | M20: 173 | Q20: 70
A21: 7 | E21: 1010 | I21: 562 | M21: 180 | Q21: 80
A22: 8 | E22: 1180 | I22: 618 | M22: 212 | Q22: 114
A23: 9 | E23: 1209 | I23: 632 | M23: 238 | Q23: 116
A24: 10 | E24: 1181 | I24: 663 | M24: 230 | Q24: 119
A25: 11 | E25: 1198 | I25: 654 | M25: 234 | Q25: 143
... A37: 23 | E37: 829 | I37: 513 | M37: 174 | Q37: 68
A38: Итого | E38: =SUM(E14:E37) -> 23887 | I38: =SUM(I14:I37) -> 13812 | M38: =SUM(M14:M37) -> 4783 | Q38: =SUM(Q14:Q37) -> 2391
A39: 1. При наличии на предприятии отклонений от нормальных режимов электропотребления (временное изменение схем питания, остановка на ремонт, резкое снижение
A40: эл.потребления и т.д.) последние необходимо перечислить.
A41: Главный инженер АО "Вологдаоблэнерго" А.В. Чурляев
A42: составляется самим предприятием с соблюдением всех пунктов настоящей таблицы.

Sheet 48_1
B1: АО "Вологдаоблэнерго" | J1: код 900151 | N1: ПС "Молочное" 35/10 кВ
B2: наименование предприятия | N2: наименование источника питания
B3: уч-к п. Молочное | N3: _________________ф. Ивлево, ф. Майский ________________
B4: ул. Горького, 99 | I4: Таблица № 1
B5: адрес
A6: почасовых записей показаний электрических счетчиков
A7: в режимный день 18 декабря 2024 г.
A8: 624 | B8: 633
A9: часы суток | B9: Активная энергия | J9: Реактивная энергия
B10: ф. Ивлево, ф. Майский - ТП-28 Т1 | F10: ф. Ивлево, ф. Майский - ТП28 Т2 | J10: ф. Ивлево, ф. Майский - ТП-28 Т1 | N10: ф. Ивлево, ф. Майский - ТП28 Т2
B11: Расчет. Коэф. | E11: 120 | F11: Расчет. Коэф. | I11: 120 | J11: Расчет. Коэф. | M11: 120 | N11: Расчет. Коэф. | Q11: 120
B12: показания счетчика | C12: разность | E12: расход эл.энергии за час | F12: показания счетчика | G12: разность | I12: расход эл.энергии за час | J12: показания счетчика | K12: разность | M12: расход эл.энергии за час | N12: показания счетчика | O12: разность | Q12: расход эл.энергии за час
A13: 1 | B13: 2 | C13: 3 | E13: 4 | F13: 5 | G13: 6 | I13: 7 | J13: 8 | K13: 9 | M13: 10 | N13: 11 | O13: 12 | Q13: 13
A14: 0 | E14: 0 | I14: 50.22 | M14: 0 | Q14: 6.6
A15: 1 | E15: 0 | I15: 45.54 | M15: 0 | Q15: 3.24
A16: 2 | E16: 0 | I16: 41.16 | M16: 0 | Q16: 3.24
A17: 3 | E17: 0 | I17: 37.08 | M17: 0 | Q17: 3.6
A18: 4 | E18: 0 | I18: 38.58 | M18: 0 | Q18: 4.32
A19: 5 | E19: 0 | I19: 40.32 | M19: 0 | Q19: 4.5
A20: 6 | E20: 0 | I20: 51.6 | M20: 0 | Q20: 5.34
A21: 7 | E21: 0 | I21: 60.24 | M21: 0 | Q21: 9.24
A22: 8 | E22: 0 | I22: 57.66 | M22: 0 | Q22: 9.6
A23: 9 | E23: 0 | I23: 59.94 | M23: 0 | Q23: 9.36
A24: 10 | E24: 0 | I24: 57.78 | M24: 0 | Q24: 9
A25: 11 | E25: 0 | I25: 54.12 | M25: 0 | Q25: 12.06
... A37: 23 | E37: 0 | I37: 68.04 | M37: 0 | Q37: 6.6
A38: Итого | E38: =SUM(E14:E37) -> 0 | I38: =SUM(I14:I37) -> 1385.22 | M38: =SUM(M14:M37) -> 0 | Q38: =SUM(Q14:Q37) -> 220.92
A39: 1. При наличии на предприятии отклонений от нормальных режимов электропотребления (временное изменение схем питания, остановка на ремонт, резкое снижение
A40: эл.потребления и т.д.) последние необходимо перечислить.
A41: Главный инженер АО "Вологдаоблэнерго" А.В. Чурляев
A42: составляется самим предприятием с соблюдением всех пунктов настоящей таблицы.

Sheet 48_2
B1: АО "Вологдаоблэнерго" | J1: код 900151 | N1: ПС "Молочное" 35/10 кВ
B2: наименование предприятия | N2: наименование источника питания
B3: уч-к п. Молочное | N3: __ф. Ивлево, ф. Майский, ф. Искра
B4: ул. Горького, 99 | I4: Таблица № 1
B5: адрес
A6: почасовых записей показаний электрических счетчиков
A7: в режимный день 18 декабря 2024 г.
A8: 621
A9: часы суток | B9: Активная энергия | J9: Реактивная энергия
B10: ф. Ивлево, ф. Майский - ТП27 Т1 | F10: ф.Искра - КТП-22 | J10: ф. Ивлево, ф. Майский - ТП27 Т1 | N10: ф.Искра - КТП-22
B11: Расчет. Коэф. | F11: Расчет. Коэф. | J11: Расчет. Коэф. | N11: Расчет. Коэф.
B12: показания счетчика | C12: разность | E12: расход эл.энергии за час | F12: показания счетчика | G12: разность | I12: расход эл.энергии за час | J12: показания счетчика | K12: разность | M12: расход эл.энергии за час | N12: показания счетчика | O12: разность | Q12: расход эл.энергии за час
A13: 1 | B13: 2 | C13: 3 | E13: 4 | F13: 5 | G13: 6 | I13: 7 | J13: 8 | K13: 9 | M13: 10 | N13: 11 | O13: 12 | Q13: 13
A14: 0 | E14: 42.36 | I14: 536.6 | M14: 10.68 | Q14: 47.6
A15: 1 | E15: 39.78 | I15: 542.2 | M15: 10.5 | Q15: 47.2
A16: 2 | E16: 36.78 | I16: 531.6 | M16: 9.48 | Q16: 47.8
A17: 3 | E17: 35.4 | I17: 545 | M17: 8.88 | Q17: 46.4
A18: 4 | E18: 35.28 | I18: 536.6 | M18: 8.58 | Q18: 44.8
A19: 5 | E19: 36.54 | I19: 537.6 | M19: 9 | Q19: 43
A20: 6 | E20: 40.32 | I20: 560.2 | M20: 10.26 | Q20: 47.2
A21: 7 | E21: 51.66 | I21: 551.4 | M21: 10.92 | Q21: 43
A22: 8 | E22: 53.22 | I22: 564.4 | M22: 10.8 | Q22: 47.2
A23: 9 | E23: 55.92 | I23: 564 | M23: 12.66 | Q23: 51
A24: 10 | E24: 57.96 | I24: 564.6 | M24: 13.44 | Q24: 49.6
A25: 11 | E25: 57.96 | I25: 563.6 | M25: 14.4 | Q25: 50.6
... A37: 23 | E37: 47.4 | I37: 580.8 | M37: 10.8 | Q37: 48.6
A38: Итого | E38: =SUM(E14:E37) -> 1256.64 | I38: =SUM(I14:I37) -> 13639.6 | M38: =SUM(M14:M37) -> 301.38 | Q38: =SUM(Q14:Q37) -> 1177.6
A39: 1. При наличии на предприятии отклонений от нормальных режимов электропотребления (временное изменение схем питания, остановка на ремонт, резкое снижение
A40: эл.потребления и т.д.) последние необходимо перечислить.
A41: Главный инженер АО "Вологдаоблэнерго" А.В. Чурляев
A42: составляется самим предприятием с соблюдением всех пунктов настоящей таблицы.

Sheet 48_3
B1: АО "Вологдаоблэнерго" | J1: код 900151 | N1: ПС "Молочное" 35/10 кВ
B2: наименование предприятия | N2: наименование источника питания
B3: уч-к п. Молочное | N3: ______ВЛ 10 кВ ф. Красная Звезда ______
B4: ул. Горького, 99 | I4: Таблица № 1
B5: адрес
A6: почасовых записей показаний электрических счетчиков
A7: в режимный день 18 декабря 2024 г.
A8: 621
A9: часы суток | B9: Активная энергия | J9: Реактивная энергия
B10: ф. Красная Звезда - КТП-297 | J10: ф. Красная Звезда - КТП-297
B11: Расчет. Коэф. | F11: Расчет. Коэф. | J11: Расчет. Коэф. | N11: Расчет. Коэф.
B12: показания счетчика | C12: разность | E12: расход эл.энергии за час | F12: показания счетчика | G12: разность | I12: расход эл.энергии за час | J12: показания счетчика | K12: разность | M12: расход эл.энергии за час | N12: показания счетчика | O12: разность | Q12: расход эл.энергии за час
A13: 1 | B13: 2 | C13: 3 | E13: 4 | F13: 5 | G13: 6 | I13: 7 | J13: 8 | K13: 9 | M13: 10 | N13: 11 | O13: 12 | Q13: 13
A14: 0 | E14: 707.4 | M14: 120.8
A15: 1 | E15: 683.4 | M15: 100.8
A16: 2 | E16: 660.8 | M16: 98.2
A17: 3 | E17: 676 | M17: 99.2
A18: 4 | E18: 700.6 | M18: 108.2
A19: 5 | E19: 719.4 | M19: 117.2
A20: 6 | E20: 755 | M20: 119.2
A21: 7 | E21: 754 | M21: 117.4
A22: 8 | E22: 750 | M22: 124.4
A23: 9 | E23: 773.8 | M23: 152.2
A24: 10 | E24: 763.6 | M24: 148.2
A25: 11 | E25: 760.6 | M25: 132.4
... A37: 23 | E37: 725.8 | M37: 96.6
A38: Итого | E38: =SUM(E14:E37) -> 17845.8 | I38: =SUM(I14:I37) -> 0 | M38: =SUM(M14:M37) -> 2806.4 | Q38: =SUM(Q14:Q37) -> 0
A39: 1. При наличии на предприятии отклонений от нормальных режимов электропотребления (временное изменение схем питания, остановка на ремонт, резкое снижение
A40: эл.потребления и т.д.) последние необходимо перечислить.
A41: Главный инженер АО "Вологдаоблэнерго" А.В. Чурляев
A42: составляется самим предприятием с соблюдением всех пунктов настоящей таблицы.

Sheet 49
B1: АО "Вологдаоблэнерго" | J1: код 900151 | N1: РТП "КОРНИЛОВО" 35/10 кВ
B2: наименование предприятия | N2: наименование источника питания
B3: уч-к "Устье-Кубенское" | N3: _________________________________
B4: ул. Горького, 99 | I4: Таблица № 1
B5: адрес
A6: почасовых записей показаний электрических счетчиков
A7: в режимный день 18 декабря 2024 г.
A8: 1639
A9: часы суток | B9: Активная энергия | J9: Реактивная энергия
B10: ф. "КОММУНАЛЬНЫЙ" | J10: ф. "КОММУНАЛЬНЫЙ"
B11: Расчет. Коэф. | E11: 2000 | F11: Расчет. Коэф. | I11: 0 | J11: Расчет. Коэф. | M11: 2000 | N11: Расчет. Коэф. | Q11: 0
B12: показания счетчика | C12: разность | E12: расход эл.энергии за час | F12: показания счетчика | G12: разность | I12: расход эл.энергии за час | J12: показания счетчика | K12: разность | M12: расход эл.энергии за час | N12: показания счетчика | O12: разность | Q12: расход эл.энергии за час
A13: 1 | B13: 2 | C13: 3 | E13: 4 | F13: 5 | G13: 6 | I13: 7 | J13: 8 | K13: 9 | M13: 10 | N13: 11 | O13: 12 | Q13: 13
A14: 0 | E14: 388 | M14: 115
A15: 1 | E15: 373 | M15: 109
A16: 2 | E16: 375 | M16: 111
A17: 3 | E17: 375 | M17: 111
A18: 4 | E18: 371 | M18: 110
A19: 5 | E19: 382 | M19: 107
A20: 6 | E20: 427 | M20: 110
A21: 7 | E21: 474 | M21: 113
A22: 8 | E22: 573 | M22: 186
A23: 9 | E23: 560 | M23: 157
A24: 10 | E24: 534 | M24: 144
A25: 11 | E25: 544 | M25: 158
... A37: 23 | E37: 443 | M37: 138
A38: Итого | E38: =SUM(E14:E37) -> 11844 | I38: =SUM(I14:I37) -> 0 | M38: =SUM(M14:M37) -> 3298 | Q38: =SUM(Q14:Q37) -> 0
A41: Главный инженер АО "Вологдаоблэнерго" А.В. Чурляев

Sheet 50
B1: АО "Вологдаоблэнерго" | J1: код 900151 | N1: РТП "КОРНИЛОВО" 35/10 кВ
B2: наименование предприятия | N2: наименование источника питания
B3: уч-к "Устье-Кубенское" | N3: _________________________________
B4: ул. Горького, 99 | I4: Таблица № 1
B5: адрес
A6: почасовых записей показаний электрических счетчиков
A7: в режимный день 18 декабря 2024 г.
A8: 393 | B8: 392
A9: часы суток | B9: Активная энергия | J9: Реактивная энергия
B10: ф. "УСТЬЕ" ПКУ | F10: ф. "СХТ" | J10: ф. "УСТЬЕ" ПКУ | N10: ф. "СХТ"
B11: Расчет. Коэф. | E11: 3000 | F11: Расчет. Коэф. | I11: 2000 | J11: Расчет. Коэф. | M11: =E11 -> 3000 | N11: Расчет. Коэф. | Q11: 2000
B12: показания счетчика | C12: разность | E12: расход эл.энергии за час | F12: показания счетчика | G12: разность | I12: расход эл.энергии за час | J12: показания счетчика | K12: разность | M12: расход эл.энергии за час | N12: показания счетчика | O12: разность | Q12: расход эл.энергии за час
A13: 1 | B13: 2 | C13: 3 | E13: 4 | F13: 5 | G13: 6 | I13: 7 | J13: 8 | K13: 9 | M13: 10 | N13: 11 | O13: 12 | Q13: 13
A14: 0 | E14: 323.4 | I14: 167.4 | M14: 129 | Q14: 65.8
A15: 1 | E15: 319.2 | I15: 161 | M15: 121.5 | Q15: 64.4
A16: 2 | E16: 332.7 | I16: 155.6 | M16: 122.4 | Q16: 61.8
A17: 3 | E17: 351.3 | I17: 158.2 | M17: 121.5 | Q17: 64
A18: 4 | E18: 379.8 | I18: 160 | M18: 118.8 | Q18: 62.6
A19: 5 | E19: 429.3 | I19: 183 | M19: 122.4 | Q19: 63.2
A20: 6 | E20: 441 | I20: 221.2 | M20: 126.3 | Q20: 62.8
A21: 7 | E21: 484.5 | I21: 241.2 | M21: 128.7 | Q21: 62.4
A22: 8 | E22: 583.5 | I22: 231.2 | M22: 144 | Q22: 66
A23: 9 | E23: 605.1 | I23: 230.6 | M23: 144.6 | Q23: 65.4
A24: 10 | E24: 595.8 | I24: 227.4 | M24: 146.7 | Q24: 65.8
A25: 11 | E25: 601.8 | I25: 227.4 | M25: 145.8 | Q25: 68
... A37: 23 | E37: 385.8 | I37: 203 | M37: 171.6 | Q37: 78.6
A38: Итого | E38: =SUM(E14:E37) -> 11621.1 | I38: =SUM(I14:I37) -> 5316.2 | M38: =SUM(M14:M37) -> 3421.8 | Q38: =SUM(Q14:Q37) -> 1652
A39: 1. При наличии на предприятии отклонений от нормальных режимов электропотребления (временное изменение схем питания, остановка на ремонт, резкое снижение
A40: эл.потребления и т.д.) последние необходимо перечислить.
A41: Главный инженер АО "Вологдаоблэнерго" А.В. Чурляев
A42: составляется самим предприятием с соблюдением всех пунктов настоящей таблицы.

Sheet 50-1
B1: АО "Вологдаоблэнерго" | J1: код 900151 | N1: РТП "КОРНИЛОВО" 35/10 кВ
B2: наименование предприятия | N2: наименование источника питания
B3: уч-к "Устье-Кубенское" | N3: _________________________________
B4: ул. Горького, 99 | I4: Таблица № 1
B5: адрес
A6: почасовых записей показаний электрических счетчиков
A7: в режимный день 18 декабря 2024 г.
A8: 389 | B8: 388
A9: часы суток | B9: Активная энергия | J9: Реактивная энергия
B10: ф.7 - КТП-21 | F10: ф.7 - КТП-16 | J10: ф.7 - КТП-21 | N10: ф.7 - КТП-16
B11: Расчет. Коэф. | E11: 30 | F11: Расчет. Коэф. | I11: 40 | J11: Расчет. Коэф. | M11: =E11 -> 30 | N11: Расчет. Коэф. | Q11: 40
B12: показания счетчика | C12: разность | E12: расход эл.энергии за час | F12: показания счетчика | G12: разность | I12: расход эл.энергии за час | J12: показания счетчика | K12: разность | M12: расход эл.энергии за час | N12: показания счетчика | O12: разность | Q12: расход эл.энергии за час
A13: 1 | B13: 2 | C13: 3 | E13: 4 | F13: 5 | G13: 6 | I13: 7 | J13: 8 | K13: 9 | M13: 10 | N13: 11 | O13: 12 | Q13: 13
A14: 0 | E14: 28.26 | I14: 8.32 | M14: 9.18 | Q14: 3.42
A15: 1 | E15: 25.965 | I15: 6.8 | M15: 8.265 | Q15: 3.34
A16: 2 | E16: 25.83 | I16: 7.58 | M16: 8.85 | Q16: 3.66
A17: 3 | E17: 30.405 | I17: 7.56 | M17: 9.33 | Q17: 3.16
A18: 4 | E18: 30.27 | I18: 7.6 | M18: 8.925 | Q18: 3.4
A19: 5 | E19: 30.165 | I19: 7.34 | M19: 8.34 | Q19: 3.2
A20: 6 | E20: 36.195 | I20: 8.9 | M20: 8.49 | Q20: 3.36
A21: 7 | E21: 39.405 | I21: 9.44 | M21: 8.25 | Q21: 3.1
A22: 8 | E22: 37.14 | I22: 9.52 | M22: 8.775 | Q22: 3.34
A23: 9 | E23: 39.105 | I23: 8.42 | M23: 8.925 | Q23: 3.14
A24: 10 | E24: 38.355 | I24: 8.62 | M24: 9.42 | Q24: 3.36
A25: 11 | E25: 39.915 | I25: 8.28 | M25: 9.63 | Q25: 3.74
... A37: 23 | E37: 30.51 | I37: 9.38 | M37: 10.11 | Q37: 3.5
A38: Итого | E38: =SUM(E14:E37) -> 874.74 | I38: =SUM(I14:I37) -> 214.04 | M38: =SUM(M14:M37) -> 232.035 | Q38: =SUM(Q14:Q37) -> 82.4
A39: 1. При наличии на предприятии отклонений от нормальных режимов электропотребления (временное изменение схем питания, остановка на ремонт, резкое снижение
A40: эл.потребления и т.д.) последние необходимо перечислить.
A41: Главный инженер АО "Вологдаоблэнерго" А.В. Чурляев
A42: составляется самим предприятием с соблюдением всех пунктов настоящей таблицы.

Sheet 50-2
B1: АО "Вологдаоблэнерго" | J1: код 900151 | N1: РТП "КОРНИЛОВО" 35/10 кВ
B2: наименование предприятия | N2: наименование источника питания
B3: уч-к "Устье-Кубенское" | N3: _________________________________
B4: ул. Горького, 99 | I4: Таблица № 1
B5: адрес
A6: почасовых записей показаний электрических счетчиков
A7: в режимный день 18 декабря 2024 г.
A8: 390 | B8: 391
A9: часы суток | B9: Активная энергия | J9: Реактивная энергия
B10: ф.7 - КТП-4 | F10: ф.14 - ТП-24 | J10: ф.7 - КТП-4 | N10: ф.14 - ТП-24
B11: Расчет. Коэф. | E11: 60 | F11: Расчет. Коэф. | I11: 40 | J11: Расчет. Коэф. | M11: =E11 -> 60 | N11: Расчет. Коэф. | Q11: 40
B12: показания счетчика | C12: разность | E12: расход эл.энергии за час | F12: показания счетчика | G12: разность | I12: расход эл.энергии за час | J12: показания счетчика | K12: разность | M12: расход эл.энергии за час | N12: показания счетчика | O12: разность | Q12: расход эл.энергии за час
A13: 1 | B13: 2 | C13: 3 | E13: 4 | F13: 5 | G13: 6 | I13: 7 | J13: 8 | K13: 9 | M13: 10 | N13: 11 | O13: 12 | Q13: 13
A14: 0 | E14: 8.32 | I14: 167.4 | M14: 3.42 | Q14: 65.8
A15: 1 | E15: 6.8 | I15: 161 | M15: 3.34 | Q15: 64.4
A16: 2 | E16: 7.58 | I16: 155.6 | M16: 3.66 | Q16: 61.8
A17: 3 | E17: 7.56 | I17: 158.2 | M17: 3.16 | Q17: 64
A18: 4 | E18: 7.6 | I18: 160 | M18: 3.4 | Q18: 62.6
A19: 5 | E19: 7.34 | I19: 183 | M19: 3.2 | Q19: 63.2
A20: 6 | E20: 8.9 | I20: 221.2 | M20: 3.36 | Q20: 62.8
A21: 7 | E21: 9.44 | I21: 241.2 | M21: 3.1 | Q21: 62.4
A22: 8 | E22: 9.52 | I22: 231.2 | M22: 3.34 | Q22: 66
A23: 9 | E23: 8.42 | I23: 230.6 | M23: 3.14 | Q23: 65.4
A24: 10 | E24: 8.62 | I24: 227.4 | M24: 3.36 | Q24: 65.8
A25: 11 | E25: 8.28 | I25: 227.4 | M25: 3.74 | Q25: 68
... A37: 23 | E37: 9.38 | I37: 203 | M37: 3.5 | Q37: 78.6
A38: Итого | E38: =SUM(E14:E37) -> 214.04 | I38: =SUM(I14:I37) -> 5316.2 | M38: =SUM(M14:M37) -> 82.4 | Q38: =SUM(Q14:Q37) -> 1652
A39: 1. При наличии на предприятии отклонений от нормальных режимов электропотребления (временное изменение схем питания, остановка на ремонт, резкое снижение
A40: эл.потребления и т.д.) последние необходимо перечислить.
A41: Главный инженер АО "Вологдаоблэнерго" А.В. Чурляев
A42: составляется самим предприятием с соблюдением всех пунктов настоящей таблицы.

Sheet 50-3
B1: АО "Вологдаоблэнерго" | J1: код 900151 | N1: РТП "КОРНИЛОВО" 35/10 кВ
B2: наименование предприятия | N2: наименование источника питания
B3: уч-к "Устье-Кубенское" | N3: _________________________________
B4: ул. Горького, 99 | I4: Таблица № 1
B5: адрес
A6: почасовых записей показаний электрических счетчиков
A7: в режимный день 18 декабря 2024 г.
A8: 816 | B8: 907
A9: часы суток | B9: Активная энергия | J9: Реактивная энергия
B10: ф.1 - КТП-36 | F10: ф.7 - КТП25 | J10: ф.1 - КТП-36 | N10: ф.7 - ТП-25
B11: Расчет. Коэф. | E11: 60 | F11: Расчет. Коэф. | I11: 40 | J11: Расчет. Коэф. | M11: =E11 -> 60 | N11: Расчет. Коэф. | Q11: 40
B12: показания счетчика | C12: разность | E12: расход эл.энергии за час | F12: показания счетчика | G12: разность | I12: расход эл.энергии за час | J12: показания счетчика | K12: разность | M12: расход эл.энергии за час | N12: показания счетчика | O12: разность | Q12: расход эл.энергии за час
A13: 1 | B13: 2 | C13: 3 | E13: 4 | F13: 5 | G13: 6 | I13: 7 | J13: 8 | K13: 9 | M13: 10 | N13: 11 | O13: 12 | Q13: 13
A14: 0
A15: 1
A16: 2
A17: 3
A18: 4
A19: 5
A20: 6
A21: 7
A22: 8
A23: 9
A24: 10
A25: 11
... A37: 23
A38: Итого | E38: =SUM(E14:E37) -> 0 | I38: =SUM(I14:I37) -> 0 | M38: =SUM(M14:M37) -> 0 | Q38: =SUM(Q14:Q37) -> 0
A39: 1. При наличии на предприятии отклонений от нормальных режимов электропотребления (временное изменение схем питания, остановка на ремонт, резкое снижение
A40: эл.потребления и т.д.) последние необходимо перечислить.
A41: Главный инженер АО "Вологдаоблэнерго" А.В. Чурляев
A42: составляется самим предприятием с соблюдением всех пунктов настоящей таблицы.

Sheet 51
B1: АО "Вологдаоблэнерго" | J1: код 900151 | N1: ПС "ШУЙСКОЕ" 35/ 10 кВ
B2: наименование предприятия | N2: наименование источника питания
B3: уч-к "Шуйское" | N3: _________________________________
B4: ул. Горького, 99 | I4: Таблица № 1
B5: адрес
A6: почасовых записей показаний электрических счетчиков
A7: в режимный день 18 декабря 2024 г.
A8: 1643
A9: часы суток | B9: Активная энергия | J9: Реактивная энергия
B10: яч.№ 16 - ф. "Биокомплекс" | J10: яч.№ 16 - ф. "Биокомплекс"
B11: Расчет. Коэф. | E11: 1000 | F11: Расчет. Коэф. | I11: 10 | J11: Расчет. Коэф. | M11: =E11 -> 1000 | N11: Расчет. Коэф. | Q11: 10
B12: показания счетчика | C12: разность | E12: расход эл.энергии за час | F12: показания счетчика | G12: разность | I12: расход эл.энергии за час | J12: показания счетчика | K12: разность | M12: расход эл.энергии за час | N12: показания счетчика | O12: разность | Q12: расход эл.энергии за час
A13: 1 | B13: 2 | C13: 3 | E13: 4 | F13: 5 | G13: 6 | I13: 7 | J13: 8 | K13: 9 | M13: 10 | N13: 11 | O13: 12 | Q13: 13
A14: 0 | E14: 3 | M14: 3
A15: 1 | E15: 3 | M15: 3
A16: 2 | E16: 2 | M16: 3
A17: 3 | E17: 3 | M17: 3
A18: 4 | E18: 2 | M18: 2
A19: 5 | E19: 3 | M19: 3
A20: 6 | E20: 3 | M20: 3
A21: 7 | E21: 2 | M21: 2
A22: 8 | E22: 3 | M22: 2
A23: 9 | E23: 4 | M23: 3
A24: 10 | E24: 3 | M24: 2
A25: 11 | E25: 4 | M25: 2
... A37: 23 | E37: 3 | M37: 3
A38: Итого | E38: =SUM(E14:E37) -> 66 | I38: =SUM(I14:I37) -> 0 | M38: =SUM(M14:M37) -> 64 | Q38: =SUM(Q14:Q37) -> 0
A39: 1. При наличии на предприятии отклонений от нормальных режимов электропотребления (временное изменение схем питания, остановка на ремонт, резкое снижение
A40: эл.потребления и т.д.) последние необходимо перечислить.
A41: Главный инженер АО "Вологдаоблэнерго" А.В. Чурляев
A42: составляется самим предприятием с соблюдением всех пунктов настоящей таблицы.

Sheet 52
B1: АО "Вологдаоблэнерго" | J1: код 900151 | N1: ПС "ШУЙСКОЕ" 35/ 10 кВ
B2: наименование предприятия | N2: наименование источника питания
B3: уч-к "Шуйское" | N3: _________________________________
B4: ул. Горького, 99 | I4: Таблица № 1
B5: адрес
A6: почасовых записей показаний электрических счетчиков
A7: в режимный день 18 декабря 2024 г.
A8: 1641 | B8: 1642
A9: часы суток | B9: Активная энергия | J9: Реактивная энергия
B10: яч. №7 - ф."Райцентр" | F10: яч. 14 - ф. "Школа" | J10: яч. №7 - ф."Райцентр" | N10: =F10 -> яч. 14 - ф. "Школа"
B11: Расчет. Коэф. | E11: 1500 | F11: Расчет. Коэф. | I11: 2000 | J11: Расчет. Коэф. | M11: =E11 -> 1500 | N11: Расчет. Коэф. | Q11: 2000
B12: показания счетчика | C12: разность | E12: расход эл.энергии за час | F12: показания счетчика | G12: разность | I12: расход эл.энергии за час | J12: показания счетчика | K12: разность | M12: расход эл.энергии за час | N12: показания счетчика | O12: разность | Q12: расход эл.энергии за час
A13: 1 | B13: 2 | C13: 3 | E13: 4 | F13: 5 | G13: 6 | I13: 7 | J13: 8 | K13: 9 | M13: 10 | N13: 11 | O13: 12 | Q13: 13
A14: 0 | E14: 196 | I14: 287 | M14: 72 | Q14: 102
A15: 1 | E15: 186 | I15: 257 | M15: 73 | Q15: 98
A16: 2 | E16: 180 | I16: 264 | M16: 73 | Q16: 102
A17: 3 | E17: 188 | I17: 287 | M17: 72 | Q17: 103
A18: 4 | E18: 192 | I18: 313 | M18: 71 | Q18: 100
A19: 5 | E19: 204 | I19: 345 | M19: 69 | Q19: 97
A20: 6 | E20: 233 | I20: 388 | M20: 65 | Q20: 96
A21: 7 | E21: 289 | I21: 466 | M21: 66 | Q21: 91
A22: 8 | E22: 260 | I22: 502 | M22: 63 | Q22: 92
A23: 9 | E23: 261 | I23: 486 | M23: 75 | Q23: 91
A24: 10 | E24: 274 | I24: 468 | M24: 79 | Q24: 92
A25: 11 | E25: 281 | I25: 454 | M25: 77 | Q25: 93
... A37: 23 | E37: 225 | I37: 330 | M37: 84 | Q37: 119
A38: Итого | E38: =SUM(E14:E37) -> 6086 | I38: =SUM(I14:I37) -> 9811 | M38: =SUM(M14:M37) -> 1789 | Q38: =SUM(Q14:Q37) -> 2406
A39: 1. При наличии на предприятии отклонений от нормальных режимов электропотребления (временное изменение схем питания, остановка на ремонт, резкое снижение
A40: эл.потребления и т.д.) последние необходимо перечислить.
A41: Главный инженер АО "Вологдаоблэнерго" А.В. Чурляев
A42: составляется самим предприятием с соблюдением всех пунктов настоящей таблицы.

Sheet 53
B1: АО "Вологдаоблэнерго" | J1: код 900151 | N1: ПС 110/10/10кВ ИП Сокол
B2: наименование предприятия | N2: наименование источника питания
B3: уч -к г. Сокол | N3: _________________________________
B4: ул. Горького, 99 | I4: Таблица № 1
B5: адрес
A6: почасовых записей показаний электрических счетчиков
A7: в режимный день 18 декабря 2024 г.
A8: 359
A9: часы суток | B9: Активная энергия | J9: Реактивная энергия
B10: Ввод 1 Очистные 1 | F10: Ввод 2 Очистные 2 | J10: Ввод 1 Очистные 1 | N10: Ввод 2 Очистные 2
B11: Расчет. Коэф. | E11: 66000 | F11: Расчет. Коэф. | I11: 66000 | J11: Расчет. Коэф. | M11: 66000 | N11: Расчет. Коэф. | Q11: 66000
B12: показания счетчика | C12: разность | E12: расход эл.энергии за час | F12: показания счетчика | G12: разность | I12: расход эл.энергии за час | J12: показания счетчика | K12: разность | M12: расход эл.энергии за час | N12: показания счетчика | O12: разность | Q12: расход эл.энергии за час
A13: 1 | B13: 2 | C13: 3 | E13: 4 | F13: 5 | G13: 6 | I13: 7 | J13: 8 | K13: 9 | M13: 10 | N13: 11 | O13: 12 | Q13: 13
A14: 0 | E14: 379,5649 | I14: 291,8089 | M14: 323,1694 | Q14: 224,1723
A15: 1 | E15: 350,6431 | I15: 217,1229 | M15: 231,1836 | Q15: 184,3525
A16: 2 | E16: 390,4249 | I16: 261,9726 | M16: 293,0663 | Q16: 197,9560
A17: 3 | E17: 377,3929 | I17: 284,9118 | M17: 289,5226 | Q17: 184,4287
A18: 4 | E18: 360,9315 | I18: 282,5112 | M18: 284,1497 | Q18: 178,2938
A19: 5 | E19: 358,7214 | I19: 224,1342 | M19: 201,0044 | Q19: 157,9075
A20: 6 | E20: 384,3280 | I20: 289,4845 | M20: 276,3382 | Q20: 177,4555
A21: 7 | E21: 392,0634 | I21: 280,8727 | M21: 282,0921 | Q21: 186,6007
A22: 8 | E22: 372,8203 | I22: 232,0220 | M22: 238,7284 | Q22: 176,2742
A23: 9 | E23: 435,8843 | I23: 189,2680 | M23: 297,2579 | Q23: 163,3566
A24: 10 | E24: 515,9050 | I24: 265,5926 | M24: 406,3147 | Q24: 193,7263
A25: 11 | E25: 483,4013 | I25: 323,8934 | M25: 385,2807 | Q25: 221,3906
... A37: 23 | E37: 378,1931 | I37: 341,9171 | M37: 288,2270 | Q37: 242,1960
A38: Итого | E38: =SUM(E14:E37) -> 0 | I38: =SUM(I14:I37) -> 0 | M38: =SUM(M14:M37) -> 0 | Q38: =SUM(Q14:Q37) -> 0
A39: 1. При наличии на предприятии отклонений от нормальных режимов электропотребления (временное изменение схем питания, остановка на ремонт, резкое снижение
A40: эл.потребления и т.д.) последние необходимо перечислить.
A41: Главный инженер АО "Вологдаоблэнерго" А.В. Чурляев
A42: составляется самим предприятием с соблюдением всех пунктов настоящей таблицы.

Sheet 54
B1: АО "Вологдаоблэнерго" | J1: код 900151 | N1: ПС "ГДЗ" 110/6 кВ
B2: наименование предприятия | N2: наименование источника питания
B3: уч -к г. Сокол | N3: _________________________________
B4: ул. Горького, 99 | I4: Таблица № 1 | O4: РТП 6
B5: адрес
A6: почасовых записей показаний электрических счетчиков
A7: в режимный день 18 декабря 2024 г.
A8: 358 | B8: 360
A9: часы суток | B9: Активная энергия | J9: Реактивная энергия
B10: яч. 7 - ГДЗ-1 -РТП 6 | F10: яч. 18 - ГДЗ-2 - РТП 6 | J10: яч. 7 - ГДЗ-1 -РТП 6 | N10: яч. 18 - ГДЗ-2 - РТП 6
B11: Расчет. Коэф. | E11: 4800 | F11: Расчет. Коэф. | I11: 4800 | J11: Расчет. Коэф. | M11: 4800 | N11: Расчет. Коэф. | Q11: =I11 -> 4800
B12: показания счетчика | C12: разность | E12: расход эл.энергии за час | F12: показания счетчика | G12: разность | I12: расход эл.энергии за час | J12: показания счетчика | K12: разность | M12: расход эл.энергии за час | N12: показания счетчика | O12: разность | Q12: расход эл.энергии за час
A13: 1 | B13: 2 | C13: 3 | E13: 4 | F13: 5 | G13: 6 | I13: 7 | J13: 8 | K13: 9 | M13: 10 | N13: 11 | O13: 12 | Q13: 13
A14: 0 | E14: 564.96 | I14: 518.4 | M14: 236.16 | Q14: 116.64
A15: 1 | E15: 551.04 | I15: 493.44 | M15: 229.92 | Q15: 114.24
A16: 2 | E16: 563.04 | I16: 479.52 | M16: 231.36 | Q16: 111.84
A17: 3 | E17: 578.4 | I17: 478.56 | M17: 225.12 | Q17: 112.32
A18: 4 | E18: 609.6 | I18: 481.44 | M18: 227.52 | Q18: 108.96
A19: 5 | E19: 630.24 | I19: 504.48 | M19: 228 | Q19: 107.04
A20: 6 | E20: 730.56 | I20: 567.84 | M20: 247.2 | Q20: 105.12
A21: 7 | E21: 758.88 | I21: 627.84 | M21: 251.52 | Q21: 117.12
A22: 8 | E22: 1001.28 | I22: 700.8 | M22: 394.56 | Q22: 180
A23: 9 | E23: 973.92 | I23: 739.2 | M23: 460.8 | Q23: 192.48
A24: 10 | E24: 925.92 | I24: 761.76 | M24: 443.52 | Q24: 192
A25: 11 | E25: 929.28 | I25: 765.12 | M25: 440.64 | Q25: 192.48
... A37: 23 | E37: 624.96 | I37: 577.92 | M37: 273.6 | Q37: 133.44
A38: Итого | E38: =SUM(E14:E37) -> 19011.36 | I38: =SUM(I14:I37) -> 16278.24 | M38: =SUM(M14:M37) -> 7591.68 | Q38: =SUM(Q14:Q37) -> 3511.2
A39: 1. При наличии на предприятии отклонений от нормальных режимов электропотребления (временное изменение схем питания, остановка на ремонт, резкое снижение
A40: эл.потребления и т.д.) последние необходимо перечислить.
A41: Главный инженер АО "Вологдаоблэнерго" А.В. Чурляев
A42: составляется самим предприятием с соблюдением всех пунктов настоящей таблицы.

Sheet 55
B1: АО "Вологдаоблэнерго" | J1: код 900151 | N1: ПС "ГДЗ" 110/6 кВ
B2: наименование предприятия | N2: наименование источника питания
B3: уч -к г. Сокол | N3: _________________________________
B4: ул. Горького, 99 | I4: Таблица № 1 | O4: ЛПК-1
B5: адрес
A6: почасовых записей показаний электрических счетчиков
A7: в режимный день 18 декабря 2024 г.
A8: 359
A9: часы суток | B9: Активная энергия | J9: Реактивная энергия
B10: яч. 15 - ГДЗ - ЛПК-1 | J10: яч. 15 - ГДЗ - ЛПК-1
B11: Расчет. Коэф. | E11: 7200 | F11: Расчет. Коэф. | J11: Расчет. Коэф. | M11: =E11 -> 7200 | N11: Расчет. Коэф.
B12: показания счетчика | C12: разность | E12: расход эл.энергии за час | F12: показания счетчика | G12: разность | I12: расход эл.энергии за час | J12: показания счетчика | K12: разность | M12: расход эл.энергии за час | N12: показания счетчика | O12: разность | Q12: расход эл.энергии за час
A13: 1 | B13: 2 | C13: 3 | E13: 4 | F13: 5 | G13: 6 | I13: 7 | J13: 8 | K13: 9 | M13: 10 | N13: 11 | O13: 12 | Q13: 13
A14: 0 | E14: 345.6 | M14: 92.16
A15: 1 | E15: 338.4 | M15: 92.88
A16: 2 | E16: 336.96 | M16: 90.72
A17: 3 | E17: 333.36 | M17: 91.44
A18: 4 | E18: 343.44 | M18: 87.84
A19: 5 | E19: 396.72 | M19: 84.96
A20: 6 | E20: 457.92 | M20: 85.68
A21: 7 | E21: 511.2 | M21: 97.92
A22: 8 | E22: 552.96 | M22: 99.36
A23: 9 | E23: 577.44 | M23: 115.92
A24: 10 | E24: 601.2 | M24: 113.76
A25: 11 | E25: 612.72 | M25: 108.72
... A37: 23 | E37: 379.44 | M37: 116.64
A38: Итого | E38: =SUM(E14:E37) -> 11975.04 | I38: =SUM(I14:I37) -> 0 | M38: =SUM(M14:M37) -> 2574 | Q38: =SUM(Q14:Q37) -> 0
A39: 1. При наличии на предприятии отклонений от нормальных режимов электропотребления (временное изменение схем питания, остановка на ремонт, резкое снижение
A40: эл.потребления и т.д.) последние необходимо перечислить.
A41: Главный инженер АО "Вологдаоблэнерго" А.В. Чурляев
A42: составляется самим предприятием с соблюдением всех пунктов настоящей таблицы.

Sheet 56
B1: АО "Вологдаоблэнерго" | J1: код 900151 | M1: ОАО "Сокольский" ЦБК" ТП 35/6 кВ
B2: наименование предприятия | M2: наименование источника питания
B3: уч -к г. Сокол | N3: _________________________________
B4: ул. Горького, 99 | I4: Таблица № 1 | O4: РП 5
B5: адрес
A6: почасовых записей показаний электрических счетчиков
A7: в режимный день 18 декабря 2024 г.
A8: 400 | B8: 397
A9: часы суток | B9: Активная энергия | J9: Реактивная энергия
B10: яч.4 - РП 5 яч.1 | F10: яч. 6 - ТП-40 | J10: яч.4 - РП 5 яч.1 | N10: яч. 6 - ТП-40
B11: Расчет. Коэф. | E11: 2400 | F11: Расчет. Коэф. | I11: 7200 | J11: Расчет. Коэф. | M11: =E11 -> 2400 | N11: Расчет. Коэф. | Q11: =I11 -> 7200
B12: показания счетчика | C12: разность | E12: расход эл.энергии за час | F12: показания счетчика | G12: разность | I12: расход эл.энергии за час | J12: показания счетчика | K12: разность | M12: расход эл.энергии за час | N12: показания счетчика | O12: разность | Q12: расход эл.энергии за час
A13: 1 | B13: 2 | C13: 3 | E13: 4 | F13: 5 | G13: 6 | I13: 7 | J13: 8 | K13: 9 | M13: 10 | N13: 11 | O13: 12 | Q13: 13
A14: 0 | E14: 0 | I14: 300.24 | M14: 0 | Q14: 149.04
A15: 1 | E15: 0 | I15: 276.48 | M15: 0 | Q15: 135.36
A16: 2 | E16: 0 | I16: 254.88 | M16: 0 | Q16: 120.24
A17: 3 | E17: 0 | I17: 267.12 | M17: 0 | Q17: 126
A18: 4 | E18: 0 | I18: 294.48 | M18: 0 | Q18: 144.72
A19: 5 | E19: 0 | I19: 318.24 | M19: 0 | Q19: 144.72
A20: 6 | E20: 0 | I20: 348.48 | M20: 0 | Q20: 133.2
A21: 7 | E21: 0 | I21: 424.08 | M21: 0 | Q21: 151.2
A22: 8 | E22: 0 | I22: 642.96 | M22: 0 | Q22: 331.2
A23: 9 | E23: 0 | I23: 673.2 | M23: 0 | Q23: 357.84
A24: 10 | E24: 0 | I24: 679.68 | M24: 0 | Q24: 330.48
A25: 11 | E25: 0 | I25: 671.76 | M25: 0 | Q25: 368.64
... A37: 23 | E37: 0 | I37: 330.48 | M37: 0 | Q37: 151.2
A38: Итого | E38: =SUM(E14:E37) -> 0 | I38: =SUM(I14:I37) -> 11350.8 | M38: =SUM(M14:M37) -> 0 | Q38: =SUM(Q14:Q37) -> 5373.36
A39: 1. При наличии на предприятии отклонений от нормальных режимов электропотребления (временное изменение схем питания, остановка на ремонт, резкое снижение
A40: эл.потребления и т.д.) последние необходимо перечислить.
A41: Главный инженер АО "Вологдаоблэнерго" А.В. Чурляев
A42: составляется самим предприятием с соблюдением всех пунктов настоящей таблицы.

Sheet 57
B1: АО "Вологдаоблэнерго" | J1: код 900151 | M1: ОАО "Сокольский" ЦБК" ГПП 35/6 кВ
B2: наименование предприятия | M2: наименование источника питания
B3: уч -к г. Сокол | N3: _________________________________
B4: ул. Горького, 99 | I4: Таблица № 1
B5: адрес
A6: почасовых записей показаний электрических счетчиков
A7: в режимный день 18 декабря 2024 г.
A8: 398 | B8: 399
A9: часы суток | B9: Активная энергия | J9: Реактивная энергия
B10: яч.2 - РТП 2 яч. 15 | F10: яч. 3 - РТП 2 яч. 2 | J10: яч.2 - РТП 2 яч. 15 | N10: яч. 3 - РТП 2 яч. 2
B11: Расчет. Коэф. | E11: 7200 | F11: Расчет. Коэф. | I11: =Q11 -> 7200 | J11: Расчет. Коэф. | M11: =E11 -> 7200 | N11: Расчет. Коэф. | Q11: 7200
B12: показания счетчика | C12: разность | E12: расход эл.энергии за час | F12: показания счетчика | G12: разность | I12: расход эл.энергии за час | J12: показания счетчика | K12: разность | M12: расход эл.энергии за час | N12: показания счетчика | O12: разность | Q12: расход эл.энергии за час
B13: 2 | C13: 3 | E13: 4 | F13: 5 | G13: 6 | I13: 7 | J13: 8 | K13: 9 | M13: 10 | N13: 11 | O13: 12 | Q13: 13
A14: 0 | E14: 970.56 | I14: 1060.56 | M14: 411.84 | Q14: 324
A15: 1 | E15: 952.56 | I15: 1043.28 | M15: 414.72 | Q15: 339.12
A16: 2 | E16: 943.92 | I16: 988.56 | M16: 411.84 | Q16: 324
A17: 3 | E17: 923.04 | I17: 977.04 | M17: 412.56 | Q17: 323.28
A18: 4 | E18: 956.16 | I18: 1003.68 | M18: 408.96 | Q18: 306.72
A19: 5 | E19: 992.88 | I19: 1095.12 | M19: 403.92 | Q19: 308.16
A20: 6 | E20: 1072.08 | I20: 1305.36 | M20: 402.48 | Q20: 311.04
A21: 7 | E21: 1167.84 | I21: 1422 | M21: 407.52 | Q21: 310.32
A22: 8 | E22: 1278 | I22: 1686.24 | M22: 419.04 | Q22: 310.32
A23: 9 | E23: 1314 | I23: 1764.72 | M23: 424.8 | Q23: 329.76
A24: 10 | E24: 1331.28 | I24: 1832.4 | M24: 428.4 | Q24: 333.36
A25: 11 | E25: 1341.36 | I25: 1812.24 | M25: 424.08 | Q25: 339.12
... A37: 23 | E37: 1078.56 | I37: 1258.56 | M37: 448.56 | Q37: 391.68
A38: Итого | E38: =SUM(E14:E37) -> 28843.92 | I38: =SUM(I14:I37) -> 37146.24 | M38: =SUM(M14:M37) -> 10192.32 | Q38: =SUM(Q14:Q37) -> 8256.96
A39: 1. При наличии на предприятии отклонений от нормальных режимов электропотребления (временное изменение схем питания, остановка на ремонт, резкое снижение
A40: эл.потребления и т.д.) последние необходимо перечислить.
A41: Главный инженер АО "Вологдаоблэнерго" А.В. Чурляев
A42: составляется самим предприятием с соблюдением всех пунктов настоящей таблицы.

Sheet 58
B1: АО "Вологдаоблэнерго" | J1: код 900151 | M1: ПС "Сокол" 220/110/35/10 кВ
B2: наименование предприятия | M2: наименование источника питания
B3: уч -к г. Сокол | N3: ф. Обросово | O3: КТП-90, КТП-91
B4: ул. Горького, 99 | I4: Таблица № 1
B5: адрес
A6: почасовых записей показаний электрических счетчиков
A7: в режимный день 18 декабря 2024 г.
A8: 396 | B8: 395
A9: часы суток | B9: Активная энергия | J9: Реактивная энергия
B10: ф. 4 (Обросово) - КТП-90 (дачн. общ.) | F10: ф. 4 (Обросово) - КТП-91 (д. Бережок) | J10: =B10 -> ф. 4 (Обросово) - КТП-90 (дачн. общ.) | N10: =F10 -> ф. 4 (Обросово) - КТП-91 (д. Бережок)
B11: Расчет. Коэф. | E11: 1800 | F11: Расчет. Коэф. | I11: =Q11 -> 900 | J11: Расчет. Коэф. | M11: =E11 -> 1800 | N11: Расчет. Коэф. | Q11: 900
B12: показания счетчика | C12: разность | E12: расход эл.энергии за час | F12: показания счетчика | G12: разность | I12: расход эл.энергии за час | J12: показания счетчика | K12: разность | M12: расход эл.энергии за час | N12: показания счетчика | O12: разность | Q12: расход эл.энергии за час
A13: 1 | B13: 2 | C13: 3 | E13: 4 | F13: 5 | G13: 6 | I13: 7 | J13: 8 | K13: 9 | M13: 10 | N13: 11 | O13: 12 | Q13: 13
A14: 0 | E14: 4.3 | I14: 12.25 | M14: 0 | Q14: 1.21
A15: 1 | E15: 4.48 | I15: 12.68 | M15: 0 | Q15: 1.41
A16: 2 | E16: 4.46 | I16: 11.78 | M16: 0 | Q16: 0.96
A17: 3 | E17: 4.58 | I17: 10.97 | M17: 0 | Q17: 0.21
A18: 4 | E18: 4.56 | I18: 11.47 | M18: 0 | Q18: 0.27
A19: 5 | E19: 4.8 | I19: 11.67 | M19: 0 | Q19: 0.6
A20: 6 | E20: 4.92 | I20: 13.46 | M20: 0 | Q20: 1.44
A21: 7 | E21: 4.56 | I21: 13.14 | M21: 0 | Q21: 1.15
A22: 8 | E22: 2.08 | I22: 12.92 | M22: 0 | Q22: 1.21
A23: 9 | E23: 1.88 | I23: 12.36 | M23: 0 | Q23: 0.4
A24: 10 | E24: 2.5 | I24: 11.23 | M24: 0 | Q24: 0.19
A25: 11 | E25: 2.52 | I25: 11.48 | M25: 0 | Q25: 0.22
... A37: 23 | E37: 3.26 | I37: 13.6 | M37: 0 | Q37: 1.39
A38: Итого | E38: =SUM(E14:E37) -> 87.9 | I38: =SUM(I14:I37) -> 307.58 | M38: =SUM(M14:M37) -> 0 | Q38: =SUM(Q14:Q37) -> 20.72
A39: 1. При наличии на предприятии отклонений от нормальных режимов электропотребления (временное изменение схем питания, остановка на ремонт, резкое снижение
A40: эл.потребления и т.д.) последние необходимо перечислить.
A41: Главный инженер АО "Вологдаоблэнерго" А.В. Чурляев
A42: составляется самим предприятием с соблюдением всех пунктов настоящей таблицы.

Sheet 58-1
B1: АО "Вологдаоблэнерго" | J1: код 900151 | M1: ПС "Сокол" 220/110/35/10 кВ
B2: наименование предприятия | M2: наименование источника питания
B3: уч -к г. Сокол | N3: ф. Новое | O3: ТП-121
B4: ул. Горького, 99 | I4: Таблица № 1
B5: адрес
A6: почасовых записей показаний электрических счетчиков
A7: в режимный день 18 декабря 2024 г.
A8: 396 | B8: 395
A9: часы суток | B9: Активная энергия | J9: Реактивная энергия
B10: ф. Новое - ТП-121 | J10: =B10 -> ф. Новое - ТП-121 | N10: =F10 -> 0
B11: Расчет. Коэф. | F11: Расчет. Коэф. | J11: Расчет. Коэф. | M11: =E11 -> 0 | N11: Расчет. Коэф.
B12: показания счетчика | C12: разность | E12: расход эл.энергии за час | F12: показания счетчика | G12: разность | I12: расход эл.энергии за час | J12: показания счетчика | K12: разность | M12: расход эл.энергии за час | N12: показания счетчика | O12: разность | Q12: расход эл.энергии за час
A13: 1 | B13: 2 | C13: 3 | E13: 4 | F13: 5 | G13: 6 | I13: 7 | J13: 8 | K13: 9 | M13: 10 | N13: 11 | O13: 12 | Q13: 13
A14: 0 | E14: 501 | M14: 274
A15: 1 | E15: 476 | M15: 271
A16: 2 | E16: 482 | M16: 277
A17: 3 | E17: 473 | M17: 276
A18: 4 | E18: 498 | M18: 282
A19: 5 | E19: 531 | M19: 273
A20: 6 | E20: 570 | M20: 250
A21: 7 | E21: 624 | M21: 258
A22: 8 | E22: 872 | M22: 484
A23: 9 | E23: 903 | M23: 559
A24: 10 | E24: 918 | M24: 593
A25: 11 | E25: 961 | M25: 680
... A37: 23 | E37: 530 | M37: 282
A38: Итого | E38: =SUM(E14:E37) -> 17029 | I38: =SUM(I14:I37) -> 0 | M38: =SUM(M14:M37) -> 9706 | Q38: =SUM(Q14:Q37) -> 0
A39: 1. При наличии на предприятии отклонений от нормальных режимов электропотребления (временное изменение схем питания, остановка на ремонт, резкое снижение
A40: эл.потребления и т.д.) последние необходимо перечислить.
A41: Главный инженер АО "Вологдаоблэнерго" А.В. Чурляев
A42: составляется самим предприятием с соблюдением всех пунктов настоящей таблицы.

Sheet 59
B1: АО "Вологдаоблэнерго" | J1: код 900151 | K1: ООО "Сокольский ЦБК" ГПП 110/6 кВ
B2: наименование предприятия | N2: наименование источника питания
B3: уч -к г. Сокол | N3: _________________________________
B4: ул. Горького, 99 | I4: Таблица № 1 | N4: ТП 77
B5: адрес
A6: почасовых записей показаний электрических счетчиков
A7: в режимный день 18 декабря 2024 г.
A8: 487
A9: часы суток | B9: Активная энергия | J9: Реактивная энергия
B10: яч. 14 - ТП-77 (Михайлево) | J10: яч. 14 - ТП-77 (Михайлево)
B11: Расчет. Коэф. | E11: 2400 | F11: Расчет. Коэф. | I11: 0 | J11: Расчет. Коэф. | M11: 2400 | N11: Расчет. Коэф. | Q11: 0
B12: показания счетчика | C12: разность | E12: расход эл.энергии за час | F12: показания счетчика | G12: разность | I12: расход эл.энергии за час | J12: показания счетчика | K12: разность | M12: расход эл.энергии за час | N12: показания счетчика | O12: разность | Q12: расход эл.энергии за час
A13: 1 | B13: 2 | C13: 3 | E13: 4 | F13: 5 | G13: 6 | I13: 7 | J13: 8 | K13: 9 | M13: 10 | N13: 11 | O13: 12 | Q13: 13
A14: 0 | E14: 5.4 | M14: 3.6
A15: 1 | E15: 5.4 | M15: 3.6
A16: 2 | E16: 5.76 | M16: 3.96
A17: 3 | E17: 5.76 | M17: 3.6
A18: 4 | E18: 6.12 | M18: 3.24
A19: 5 | E19: 5.76 | M19: 3.6
A20: 6 | E20: 6.84 | M20: 3.24
A21: 7 | E21: 6.12 | M21: 2.88
A22: 8 | E22: 7.56 | M22: 3.24
A23: 9 | E23: 7.2 | M23: 3.24
A24: 10 | E24: 9.36 | M24: 4.68
A25: 11 | E25: 9.72 | M25: 3.24
... A37: 23 | E37: 8.64 | M37: 6.48
A38: Итого | E38: =SUM(E14:E37) -> 195.84 | I38: =SUM(I14:I37) -> 0 | M38: =SUM(M14:M37) -> 100.8 | Q38: =SUM(Q14:Q37) -> 0
A39: 1. При наличии на предприятии отклонений от нормальных режимов электропотребления (временное изменение схем питания, остановка на ремонт, резкое снижение
A40: эл.потребления и т.д.) последние необходимо перечислить.
A41: Главный инженер АО "Вологдаоблэнерго" А.В. Чурляев
A42: составляется самим предприятием с соблюдением всех пунктов настоящей таблицы.

Sheet 60
B1: АО "Вологдаоблэнерго" | J1: код 900151 | K1: ООО "Сухонский КБК" ГПП 110/6 кВ
B2: наименование предприятия | N2: наименование источника питания
B3: уч -к г. Сокол | N3: _________________________________
B4: ул. Горького, 99 | I4: Таблица № 1 | O4: РУ-1
B5: адрес
A6: почасовых записей показаний электрических счетчиков
A7: в режимный день 18 декабря 2024 г.
A8: 1198 | B8: 1199
A9: часы суток | B9: Активная энергия | J9: Реактивная энергия
B10: РУ-1 яч 1 - ТП 3 | F10: РУ-1 яч 14 - ЛЭП 3 | J10: РУ-1 яч 1 - ТП 3 | N10: РУ-1 яч 14 - ЛЭП 3
B11: Расчет. Коэф. | E11: 4800 | F11: Расчет. Коэф. | I11: 2400 | J11: Расчет. Коэф. | M11: 4800 | N11: Расчет. Коэф. | Q11: 2400
B12: показания счетчика | C12: разность | E12: расход эл.энергии за час | F12: показания счетчика | G12: разность | I12: расход эл.энергии за час | J12: показания счетчика | K12: разность | M12: расход эл.энергии за час | N12: показания счетчика | O12: разность | Q12: расход эл.энергии за час
A13: 1 | B13: 2 | C13: 3 | E13: 4 | F13: 5 | G13: 6 | I13: 7 | J13: 8 | K13: 9 | M13: 10 | N13: 11 | O13: 12 | Q13: 13
A14: 0 | E14: 133.92 | I14: 540.96 | M14: 73.44 | Q14: 214.56
A15: 1 | E15: 124.32 | I15: 459.36 | M15: 72.96 | Q15: 191.04
A16: 2 | E16: 116.64 | I16: 424.8 | M16: 71.52 | Q16: 165.6
A17: 3 | E17: 113.28 | I17: 411.36 | M17: 72 | Q17: 162.72
A18: 4 | E18: 117.12 | I18: 447.84 | M18: 71.04 | Q18: 160.32
A19: 5 | E19: 120.96 | I19: 542.88 | M19: 70.56 | Q19: 162.24
A20: 6 | E20: 150.24 | I20: 613.44 | M20: 74.4 | Q20: 160.32
A21: 7 | E21: 159.84 | I21: 700.32 | M21: 81.12 | Q21: 189.6
A22: 8 | E22: 190.56 | I22: 951.84 | M22: 87.36 | Q22: 349.92
A23: 9 | E23: 192.96 | I23: 979.68 | M23: 87.84 | Q23: 314.88
A24: 10 | E24: 189.6 | I24: 972.96 | M24: 89.76 | Q24: 296.64
A25: 11 | E25: 185.76 | I25: 961.44 | M25: 88.8 | Q25: 315.36
... A37: 23 | E37: 402.72 | I37: 595.68 | M37: 193.92 | Q37: 248.64
A38: Итого | E38: =SUM(E14:E37) -> 6042.24 | I38: =SUM(I14:I37) -> 18122.4 | M38: =SUM(M14:M37) -> 2930.88 | Q38: =SUM(Q14:Q37) -> 6038.4
A39: 1. При наличии на предприятии отклонений от нормальных режимов электропотребления (временное изменение схем питания, остановка на ремонт, резкое снижение
A40: эл.потребления и т.д.) последние необходимо перечислить.
A41: Главный инженер АО "Вологдаоблэнерго" А.В. Чурляев
A42: составляется самим предприятием с соблюдением всех пунктов настоящей таблицы.

Sheet 61
B1: АО "Вологдаоблэнерго" | J1: код 900151 | K1: ООО "Сухонский КБК" ГПП 110/6 кВ
B2: наименование предприятия | N2: наименование источника питания
B3: уч -к г. Сокол | N3: _________________________________
B4: ул. Горького, 99 | I4: Таблица № 1
B5: адрес
A6: почасовых записей показаний электрических счетчиков
A7: в режимный день 18 декабря 2024 г.
A8: 1200 | B8: 1197
A9: часы суток | B9: Активная энергия | J9: Реактивная энергия
B10: РУ-3 яч 4 - ТП 7 | J10: РУ-3 яч 4 - ТП 7
B11: Расчет. Коэф. | E11: 2400 | F11: Расчет. Коэф. | J11: Расчет. Коэф. | M11: 2400 | N11: Расчет. Коэф.
B12: показания счетчика | C12: разность | E12: расход эл.энергии за час | F12: показания счетчика | G12: разность | I12: расход эл.энергии за час | J12: показания счетчика | K12: разность | M12: расход эл.энергии за час | N12: показания счетчика | O12: разность | Q12: расход эл.энергии за час
A13: 1 | B13: 2 | C13: 3 | E13: 4 | F13: 5 | G13: 6 | I13: 7 | J13: 8 | K13: 9 | M13: 10 | N13: 11 | O13: 12 | Q13: 13
A14: 0 | E14: 497.28 | M14: 216.72
A15: 1 | E15: 415.44 | M15: 169.68
A16: 2 | E16: 358.32 | M16: 150.24
A17: 3 | E17: 353.76 | M17: 147.6
A18: 4 | E18: 371.52 | M18: 161.04
A19: 5 | E19: 406.56 | M19: 148.32
A20: 6 | E20: 491.76 | M20: 155.52
A21: 7 | E21: 547.44 | M21: 185.28
A22: 8 | E22: 744.72 | M22: 394.32
A23: 9 | E23: 807.84 | M23: 460.8
A24: 10 | E24: 766.56 | M24: 405.6
A25: 11 | E25: 798.24 | M25: 434.4
... A37: 23 | E37: 325.68 | M37: 152.88
A38: Итого | E38: =SUM(E14:E37) -> 12869.76 | I38: =SUM(I14:I37) -> 0 | M38: =SUM(M14:M37) -> 6198 | Q38: =SUM(Q14:Q37) -> 0
A39: 1. При наличии на предприятии отклонений от нормальных режимов электропотребления (временное изменение схем питания, остановка на ремонт, резкое снижение
A40: эл.потребления и т.д.) последние необходимо перечислить.
A41: Главный инженер АО "Вологдаоблэнерго" А.В. Чурляев
A42: составляется самим предприятием с соблюдением всех пунктов настоящей таблицы.

Sheet 62
B1: АО "Вологдаоблэнерго" | J1: код 900151 | K1: ООО "Сухонский КБК" ГПП 110/6 кВ
B2: наименование предприятия | N2: наименование источника питания
B3: уч -к г. Сокол | N3: _________________________________
B4: ул. Горького, 99 | I4: Таблица № 1 | O4: РП-10
B5: адрес
A6: почасовых записей показаний электрических счетчиков
A7: в режимный день 18 декабря 2024 г.
A8: 1196
A9: часы суток | B9: Активная энергия | J9: Реактивная энергия
B10: ЗРУ яч. 2 - РП-10 яч.2 | F10: ЗРУ яч. 59 - РП-10 яч.15 | J10: ЗРУ яч. 2 - РП-10 яч.2 | N10: ЗРУ яч. 59 - РП-10 яч.15
B11: Расчет. Коэф. | E11: 2400 | F11: Расчет. Коэф. | I11: 3600 | J11: Расчет. Коэф. | M11: 2400 | N11: Расчет. Коэф. | Q11: 3600
B12: показания счетчика | C12: разность | E12: расход эл.энергии за час | F12: показания счетчика | G12: разность | I12: расход эл.энергии за час | J12: показания счетчика | K12: разность | M12: расход эл.энергии за час | N12: показания счетчика | O12: разность | Q12: расход эл.энергии за час
A13: 1 | B13: 2 | C13: 3 | E13: 4 | F13: 5 | G13: 6 | I13: 7 | J13: 8 | K13: 9 | M13: 10 | N13: 11 | O13: 12 | Q13: 13
A14: 0 | E14: 321.48 | I14: 391.32 | M14: 128.52 | Q14: 124.56
A15: 1 | E15: 315 | I15: 386.64 | M15: 129.96 | Q15: 122.4
A16: 2 | E16: 306 | I16: 376.92 | M16: 128.52 | Q16: 119.88
A17: 3 | E17: 307.08 | I17: 372.24 | M17: 127.8 | Q17: 120.96
A18: 4 | E18: 299.52 | I18: 379.08 | M18: 126.72 | Q18: 120.24
A19: 5 | E19: 315 | I19: 400.32 | M19: 128.16 | Q19: 120.24
A20: 6 | E20: 374.76 | I20: 443.16 | M20: 126 | Q20: 120.96
A21: 7 | E21: 412.2 | I21: 453.6 | M21: 131.04 | Q21: 124.92
A22: 8 | E22: 587.16 | I22: 507.6 | M22: 306.72 | Q22: 231.84
A23: 9 | E23: 578.88 | I23: 483.48 | M23: 315.72 | Q23: 222.48
A24: 10 | E24: 527.4 | I24: 462.24 | M24: 279.36 | Q24: 182.16
A25: 11 | E25: 601.56 | I25: 470.52 | M25: 317.88 | Q25: 185.76
... A37: 23 | E37: 397.44 | I37: 402.12 | M37: 153 | Q37: 116.28
A38: Итого | E38: =SUM(E14:E37) -> 11098.44 | I38: =SUM(I14:I37) -> 10894.32 | M38: =SUM(M14:M37) -> 4717.44 | Q38: =SUM(Q14:Q37) -> 3689.28
A39: 1. При наличии на предприятии отклонений от нормальных режимов электропотребления (временное изменение схем питания, остановка на ремонт, резкое снижение
A40: эл.потребления и т.д.) последние необходимо перечислить.
A41: Главный инженер АО "Вологдаоблэнерго" А.В. Чурляев
A42: составляется самим предприятием с соблюдением всех пунктов настоящей таблицы.

Sheet 63
B1: АО "Вологдаоблэнерго" | J1: код 900151 | K1: ООО "Сухонский ЦБК" ГПП 110/6 кВ
B2: наименование предприятия | N2: наименование источника питания
B3: уч -к г. Сокол | N3: РУ - 6 кВ "Механического завода"
B4: ул. Горького, 99 | I4: Таблица № 1
B5: адрес
A6: почасовых записей показаний электрических счетчиков
A7: в режимный день 18 декабря 2024 г.
A8: 1201 | B8: 1202
A9: часы суток | B9: Активная энергия | J9: Реактивная энергия
B10: яч 7 - ТП 1 | F10: яч. 4 - ТП 2 | J10: яч 7 - ТП 1 | N10: яч. 4 - ТП 2
B11: Расчет. Коэф. | E11: 600 | F11: Расчет. Коэф. | I11: 600 | J11: Расчет. Коэф. | M11: 600 | N11: Расчет. Коэф. | Q11: 600
B12: показания счетчика | C12: разность | E12: расход эл.энергии за час | F12: показания счетчика | G12: разность | I12: расход эл.энергии за час | J12: показания счетчика | K12: разность | M12: расход эл.энергии за час | N12: показания счетчика | O12: разность | Q12: расход эл.энергии за час
A13: 1 | B13: 2 | C13: 3 | E13: 4 | F13: 5 | G13: 6 | I13: 7 | J13: 8 | K13: 9 | M13: 10 | N13: 11 | O13: 12 | Q13: 13
A14: 0 | E14: 28.62 | I14: 27.54 | M14: 2.76 | Q14: 4.74
A15: 1 | E15: 26.7 | I15: 20.46 | M15: 3.06 | Q15: 5.1
A16: 2 | E16: 14.4 | I16: 23.28 | M16: 3.42 | Q16: 3.72
A17: 3 | E17: 18.72 | I17: 29.46 | M17: 3.6 | Q17: 3.24
A18: 4 | E18: 20.58 | I18: 10.02 | M18: 3.06 | Q18: 3.6
A19: 5 | E19: 12.84 | I19: 10.2 | M19: 2.82 | Q19: 3.78
A20: 6 | E20: 12.84 | I20: 10.56 | M20: 2.7 | Q20: 4.14
A21: 7 | E21: 22.2 | I21: 34.86 | M21: 3.48 | Q21: 7.44
A22: 8 | E22: 39.78 | I22: 34.5 | M22: 8.64 | Q22: 10.2
A23: 9 | E23: 24.9 | I23: 28.8 | M23: 6.96 | Q23: 6.36
A24: 10 | E24: 37.26 | I24: 41.16 | M24: 5.34 | Q24: 11.46
A25: 11 | E25: 42.42 | I25: 37.2 | M25: 7.2 | Q25: 12.42
... A37: 23 | E37: 37.92 | I37: 30.54 | M37: 5.16 | Q37: 5.1
A38: Итого | E38: =SUM(E14:E37) -> 632.16 | I38: =SUM(I14:I37) -> 547.08 | M38: =SUM(M14:M37) -> 120.84 | Q38: =SUM(Q14:Q37) -> 162.12
A39: 1. При наличии на предприятии отклонений от нормальных режимов электропотребления (временное изменение схем питания, остановка на ремонт, резкое снижение
A40: эл.потребления и т.д.) последние необходимо перечислить.
A41: Главный инженер АО "Вологдаоблэнерго" А.В. Чурляев
A42: составляется самим предприятием с соблюдением всех пунктов настоящей таблицы.

Sheet 64
B1: АО "Вологдаоблэнерго" | J1: код 900151 | K1: ПС "Белозерск" 110/10 кВ
B2: наименование предприятия | N2: наименование источника питания
B3: уч -к г. Белозерск
B4: ул. Горького, 99 | I4: Таблица № 1 | N4: РП 1
B5: адрес
A6: почасовых записей показаний электрических счетчиков
A7: в режимный день 18 декабря 2024 г.
A8: 737 | B8: 738
A9: часы суток | B9: Активная энергия | J9: Реактивная энергия
B10: яч. 2 - ВЛ-10кВ.ф Горсеть1 | F10: яч. 3 - ВЛ-10кВ.ф Горсеть2 | J10: =B10 -> яч. 2 - ВЛ-10кВ.ф Горсеть1 | N10: яч. 3 - ВЛ-10кВ.фид. Горсеть2
B11: Расчет. Коэф. | E11: 4000 | F11: Расчет. Коэф. | I11: 2000 | J11: Расчет. Коэф. | M11: =E11 -> 4000 | N11: Расчет. Коэф. | Q11: =I11 -> 2000
B12: показания счетчика | C12: разность | E12: расход эл.энергии за час | F12: показания счетчика | G12: разность | I12: расход эл.энергии за час | J12: показания счетчика | K12: разность | M12: расход эл.энергии за час | N12: показания счетчика | O12: разность | Q12: расход эл.энергии за час
A13: 1 | B13: 2 | C13: 3 | E13: 4 | F13: 5 | G13: 6 | I13: 7 | J13: 8 | K13: 9 | M13: 10 | N13: 11 | O13: 12 | Q13: 13
A14: 0 | E14: 1558 | I14: 1095 | M14: 219 | Q14: 187
A15: 1 | E15: 1497 | I15: 1048 | M15: 219 | Q15: 189
A16: 2 | E16: 1466 | I16: 1046 | M16: 211 | Q16: 181
A17: 3 | E17: 1454 | I17: 1032 | M17: 211 | Q17: 181
A18: 4 | E18: 1472 | I18: 1033 | M18: 204 | Q18: 174
A19: 5 | E19: 1603 | I19: 1083 | M19: 210 | Q19: 177
A20: 6 | E20: 1862 | I20: 1264 | M20: 207 | Q20: 172
A21: 7 | E21: 2155 | I21: 1452 | M21: 214 | Q21: 192
A22: 8 | E22: 2238 | I22: 1558 | M22: 207 | Q22: 205
A23: 9 | E23: 2182 | I23: 1540 | M23: 221 | Q23: 207
A24: 10 | E24: 2198 | I24: 1505 | M24: 236 | Q24: 207
A25: 11 | E25: 2157 | I25: 1455 | M25: 241 | Q25: 203
... A37: 23 | E37: 1792 | I37: 1216 | M37: 228 | Q37: 201
A38: Итого | E38: =SUM(E14:E37) -> 48656 | I38: =SUM(I14:I37) -> 32732 | M38: =SUM(M14:M37) -> 5468 | Q38: =SUM(Q14:Q37) -> 4720
A39: 1. При наличии на предприятии отклонений от нормальных режимов электропотребления (временное изменение схем питания, остановка на ремонт, резкое снижение
A40: эл.потребления и т.д.) последние необходимо перечислить.
A41: Главный инженер АО "Вологдаоблэнерго" А.В. Чурляев
A42: составляется самим предприятием с соблюдением всех пунктов настоящей таблицы.

Sheet 65
B1: АО "Вологдаоблэнерго" | J1: код 900151 | K1: ПС "Белозерск" 110/10 кВ
B2: наименование предприятия | N2: наименование источника питания
B3: уч -к г. Белозерск
B4: ул. Горького, 99 | I4: Таблица № 1
B5: адрес
A6: почасовых записей показаний электрических счетчиков
A7: в режимный день 18 декабря 2024 г.
A8: 739 | B8: 736
A9: часы суток | B9: Активная энергия | J9: Реактивная энергия
B10: яч. 4 - ВЛ-10кВ.ф Оптика | F10: яч. 1 - ф. Горсеть-3 | J10: яч. 4 - ВЛ-10кВ.ф Оптика | N10: яч. 1 - ф. Горсеть-3
B11: Расчет. Коэф. | E11: 4000 | F11: Расчет. Коэф. | J11: Расчет. Коэф. | M11: =E11 -> 4000 | N11: Расчет. Коэф.
B12: показания счетчика | C12: разность | E12: расход эл.энергии за час | F12: показания счетчика | G12: разность | I12: расход эл.энергии за час | J12: показания счетчика | K12: разность | M12: расход эл.энергии за час | N12: показания счетчика | O12: разность | Q12: расход эл.энергии за час
A13: 1 | B13: 2 | C13: 3 | E13: 4 | F13: 5 | G13: 6 | I13: 7 | J13: 8 | K13: 9 | M13: 10 | N13: 11 | O13: 12 | Q13: 13
A14: 0 | E14: 358 | I14: 202 | M14: 92 | Q14: 100
A15: 1 | E15: 350 | I15: 197 | M15: 94 | Q15: 101
A16: 2 | E16: 345 | I16: 194 | M16: 92 | Q16: 99
A17: 3 | E17: 341 | I17: 194 | M17: 92 | Q17: 99
A18: 4 | E18: 359 | I18: 198 | M18: 90 | Q18: 99
A19: 5 | E19: 394 | I19: 204 | M19: 90 | Q19: 99
A20: 6 | E20: 404 | I20: 249 | M20: 87 | Q20: 97
A21: 7 | E21: 442 | I21: 270 | M21: 85 | Q21: 99
A22: 8 | E22: 469 | I22: 239 | M22: 83 | Q22: 98
A23: 9 | E23: 500 | I23: 238 | M23: 79 | Q23: 100
A24: 10 | E24: 464 | I24: 227 | M24: 80 | Q24: 101
A25: 11 | E25: 454 | I25: 219 | M25: 79 | Q25: 95
... A37: 23 | E37: 400 | I37: 230 | M37: 95 | Q37: 101
A38: Итого | E38: =SUM(E14:E37) -> 10141 | I38: =SUM(I14:I37) -> 5571 | M38: =SUM(M14:M37) -> 2073 | Q38: =SUM(Q14:Q37) -> 2368
A39: 1. При наличии на предприятии отклонений от нормальных режимов электропотребления (временное изменение схем питания, остановка на ремонт, резкое снижение
A40: эл.потребления и т.д.) последние необходимо перечислить.
A41: Главный инженер АО "Вологдаоблэнерго" А.В. Чурляев
A42: составляется самим предприятием с соблюдением всех пунктов настоящей таблицы.

Sheet 66
B1: АО "Вологдаоблэнерго" | J1: код 900151 | K1: ПС "Белозерск" 110/10 кВ
B2: наименование предприятия | N2: наименование источника питания
B3: уч -к г. Белозерск
B4: ул. Горького, 99 | I4: Таблица № 1
B5: адрес
A6: почасовых записей показаний электрических счетчиков
A7: в режимный день 18 декабря 2024 г.
A8: 1192 | B8: 1193
A9: часы суток | B9: Активная энергия | J9: Реактивная энергия
B10: ВЛ-10кВ.фид. Аэропорт КТП-46 | F10: ВЛ-10кВ.фид. Аэропорт КТП-47 | J10: =B10 -> ВЛ-10кВ.фид. Аэропорт КТП-46 | N10: =F10 -> ВЛ-10кВ.фид. Аэропорт КТП-47
B11: Расчет. Коэф. | E11: 60 | F11: Расчет. Коэф. | I11: 60 | J11: Расчет. Коэф. | M11: =E11 -> 60 | N11: Расчет. Коэф. | Q11: =I11 -> 60
B12: показания счетчика | C12: разность | E12: расход эл.энергии за час | F12: показания счетчика | G12: разность | I12: расход эл.энергии за час | J12: показания счетчика | K12: разность | M12: расход эл.энергии за час | N12: показания счетчика | O12: разность | Q12: расход эл.энергии за час
A13: 1 | B13: 2 | C13: 3 | E13: 4 | F13: 5 | G13: 6 | I13: 7 | J13: 8 | K13: 9 | M13: 10 | N13: 11 | O13: 12 | Q13: 13
A14: 0 | I14: 202.2 | Q14: 99.9
A15: 1 | I15: 197.7 | Q15: 101.4
A16: 2 | I16: 193.2 | Q16: 98.7
A17: 3 | I17: 194.7 | Q17: 98.7
A18: 4 | I18: 197.7 | Q18: 99
A19: 5 | I19: 204 | Q19: 99
A20: 6 | I20: 249.3 | Q20: 97.2
A21: 7 | I21: 269.7 | Q21: 99.3
A22: 8 | I22: 238.5 | Q22: 98.1
A23: 9 | I23: 238.8 | Q23: 99.3
A24: 10 | I24: 227.1 | Q24: 101.4
A25: 11 | I25: 218.1 | Q25: 95.4
... A37: 23 | I37: 229.5 | Q37: 101.4
A38: Итого | E38: =SUM(E14:E37) -> 0 | I38: =SUM(I14:I37) -> 5571.3 | M38: =SUM(M14:M37) -> 0 | Q38: =SUM(Q14:Q37) -> 2367.9
A39: 1. При наличии на предприятии отклонений от нормальных режимов электропотребления (временное изменение схем питания, остановка на ремонт, резкое снижение
A40: эл.потребления и т.д.) последние необходимо перечислить.
A41: Главный инженер АО "Вологдаоблэнерго" А.В. Чурляев
A42: составляется самим предприятием с соблюдением всех пунктов настоящей таблицы.

Sheet 66_1
B1: АО "Вологдаоблэнерго" | J1: код 900151 | K1: ПС "Вашки" 110/10 кВ
B2: наименование предприятия | N2: наименование источника питания
B3: уч -к г. Белозерск с. Липин Бор
B4: ул. Горького, 99 | I4: Таблица № 1
B5: адрес
A6: почасовых записей показаний электрических счетчиков
A7: в режимный день 18 декабря 2024 г.
A8: 1704 | B8: 1705
A9: часы суток | B9: Активная энергия | J9: Реактивная энергия
B10: яч. 1 - ВЛ-10кВ.фид. Липин Бор | F10: яч.2 - ВЛ-10кВ.фид. Коммунальный | J10: =B10 -> яч. 1 - ВЛ-10кВ.фид. Липин Бор | N10: =F10 -> яч.2 - ВЛ-10кВ.фид. Коммунальный
B11: Расчет. Коэф. | E11: 60 | F11: Расчет. Коэф. | I11: 60 | J11: Расчет. Коэф. | M11: =E11 -> 60 | N11: Расчет. Коэф. | Q11: =I11 -> 60
B12: показания счетчика | C12: разность | E12: расход эл.энергии за час | F12: показания счетчика | G12: разность | I12: расход эл.энергии за час | J12: показания счетчика | K12: разность | M12: расход эл.энергии за час | N12: показания счетчика | O12: разность | Q12: расход эл.энергии за час
A13: 1 | B13: 2 | C13: 3 | E13: 4 | F13: 5 | G13: 6 | I13: 7 | J13: 8 | K13: 9 | M13: 10 | N13: 11 | O13: 12 | Q13: 13
A14: 0 | E14: 711 | I14: 540 | M14: 92 | Q14: 131
A15: 1 | E15: 679 | I15: 526 | M15: 90 | Q15: 132
A16: 2 | E16: 681 | I16: 509 | M16: 88 | Q16: 130
A17: 3 | E17: 673 | I17: 509 | M17: 84 | Q17: 128
A18: 4 | E18: 677 | I18: 524 | M18: 84 | Q18: 130
A19: 5 | E19: 711 | I19: 553 | M19: 83 | Q19: 127
A20: 6 | E20: 782 | I20: 644 | M20: 86 | Q20: 112
A21: 7 | E21: 899 | I21: 838 | M21: 94 | Q21: 121
A22: 8 | E22: 867 | I22: 932 | M22: 95 | Q22: 147
A23: 9 | E23: 801 | I23: 989 | M23: 100 | Q23: 171
A24: 10 | E24: 750 | I24: 967 | M24: 100 | Q24: 155
A25: 11 | E25: 751 | I25: 925 | M25: 105 | Q25: 158
... A37: 23 | E37: 807 | I37: 633 | M37: 95 | Q37: 126
A38: Итого | E38: =SUM(E14:E37) -> 19270 | I38: =SUM(I14:I37) -> 18225 | M38: =SUM(M14:M37) -> 2387 | Q38: =SUM(Q14:Q37) -> 3514
A39: 1. При наличии на предприятии отклонений от нормальных режимов электропотребления (временное изменение схем питания, остановка на ремонт, резкое снижение
A40: эл.потребления и т.д.) последние необходимо перечислить.
A41: Главный инженер АО "Вологдаоблэнерго" А.В. Чурляев
A42: составляется самим предприятием с соблюдением всех пунктов настоящей таблицы.

Sheet 67
B1: АО "Вологдаоблэнерго" | J1: код 900151 | K1: ПС "Белоусово"
B2: наименование предприятия | N2: наименование источника питания
B3: уч -к г. Вытегра
B4: ул. Горького, 99 | I4: Таблица № 1
B5: адрес
A6: почасовых записей показаний электрических счетчиков
A7: в режимный день 18 декабря 2024 г.
A8: 852 | B8: 851
A9: часы суток | B9: Активная энергия | J9: Реактивная энергия
B10: ВЛ-6кВ Ф-9 Погрузка | F10: ВЛ-6 кВ Ф-7 ЛПХ | J10: =B10 -> ВЛ-6кВ Ф-9 Погрузка | N10: =F10 -> ВЛ-6 кВ Ф-7 ЛПХ
B11: Расчет. Коэф. | E11: 1800 | F11: Расчет. Коэф. | I11: 2400 | J11: Расчет. Коэф. | M11: =E11 -> 1800 | N11: Расчет. Коэф. | Q11: =I11 -> 2400
B12: показания счетчика | C12: разность | E12: расход эл.энергии за час | F12: показания счетчика | G12: разность | I12: расход эл.энергии за час | J12: показания счетчика | K12: разность | M12: расход эл.энергии за час | N12: показания счетчика | O12: разность | Q12: расход эл.энергии за час
A13: 1 | B13: 2 | C13: 3 | E13: 4 | F13: 5 | G13: 6 | I13: 7 | J13: 8 | K13: 9 | M13: 10 | N13: 11 | O13: 12 | Q13: 13
A14: 0 | E14: 7 | I14: 0 | M14: 28 | Q14: 0
A15: 1 | E15: 7 | I15: 0 | M15: 28 | Q15: 0
A16: 2 | E16: 6 | I16: 0 | M16: 27 | Q16: 0
A17: 3 | E17: 7 | I17: 0 | M17: 28 | Q17: 0
A18: 4 | E18: 7 | I18: 0 | M18: 28 | Q18: 0
A19: 5 | E19: 7 | I19: 0 | M19: 27 | Q19: 0
A20: 6 | E20: 7 | I20: 0 | M20: 27 | Q20: 0
A21: 7 | E21: 6 | I21: 0 | M21: 26 | Q21: 0
A22: 8 | E22: 7 | I22: 0 | M22: 26 | Q22: 0
A23: 9 | E23: 6 | I23: 0 | M23: 24 | Q23: 0
A24: 10 | E24: 6 | I24: 0 | M24: 25 | Q24: 0
A25: 11 | E25: 6 | I25: 0 | M25: 25 | Q25: 0
... A37: 23 | E37: 7 | I37: 0 | M37: 28 | Q37: 0
A38: Итого | E38: =SUM(E14:E37) -> 156 | I38: =SUM(I14:I37) -> 0 | M38: =SUM(M14:M37) -> 625 | Q38: =SUM(Q14:Q37) -> 0
A39: 1. При наличии на предприятии отклонений от нормальных режимов электропотребления (временное изменение схем питания, остановка на ремонт, резкое снижение
A40: эл.потребления и т.д.) последние необходимо перечислить.
A41: Главный инженер АО "Вологдаоблэнерго" А.В. Чурляев
A42: составляется самим предприятием с соблюдением всех пунктов настоящей таблицы.

Sheet 68
B1: АО "Вологдаоблэнерго" | J1: код 900151 | K1: ПС "Ольховская"
B2: наименование предприятия | N2: наименование источника питания
B3: уч -к г. Вытегра
B4: ул. Горького, 99 | I4: Таблица № 1
B5: адрес
A6: почасовых записей показаний электрических счетчиков
A7: в режимный день 18 декабря 2024 г.
A8: 2138 | B8: 2139
A9: часы суток | B9: Активная энергия | J9: Реактивная энергия
B10: яч. 1 - ВЛ-10 кВ Ф-2 ЛПХ | F10: ВЛ-10 кВ Ф-3 Мирный | J10: яч. 1 - ВЛ-10 кВ Ф-2 ЛПХ | N10: =F10 -> ВЛ-10 кВ Ф-3 Мирный
B11: Расчет. Коэф. | E11: 1000 | F11: Расчет. Коэф. | I11: 1000 | J11: Расчет. Коэф. | M11: =E11 -> 1000 | N11: Расчет. Коэф. | Q11: =I11 -> 1000
B12: показания счетчика | C12: разность | E12: расход эл.энергии за час | F12: показания счетчика | G12: разность | I12: расход эл.энергии за час | J12: показания счетчика | K12: разность | M12: расход эл.энергии за час | N12: показания счетчика | O12: разность | Q12: расход эл.энергии за час
A13: 1 | B13: 2 | C13: 3 | E13: 4 | F13: 5 | G13: 6 | I13: 7 | J13: 8 | K13: 9 | M13: 10 | N13: 11 | O13: 12 | Q13: 13
A14: 0 | E14: 68 | I14: 110 | M14: 27 | Q14: 15
A15: 1 | E15: 68 | I15: 110 | M15: 28 | Q15: 15
A16: 2 | E16: 65 | I16: 108 | M16: 27 | Q16: 14
A17: 3 | E17: 65 | I17: 109 | M17: 27 | Q17: 15
A18: 4 | E18: 66 | I18: 108 | M18: 27 | Q18: 14
A19: 5 | E19: 67 | I19: 110 | M19: 27 | Q19: 14
A20: 6 | E20: 73 | I20: 114 | M20: 26 | Q20: 15
A21: 7 | E21: 89 | I21: 122 | M21: 26 | Q21: 14
A22: 8 | E22: 90 | I22: 141 | M22: 26 | Q22: 16
A23: 9 | E23: 90 | I23: 138 | M23: 26 | Q23: 17
A24: 10 | E24: 80 | I24: 138 | M24: 24 | Q24: 16
A25: 11 | E25: 79 | I25: 138 | M25: 26 | Q25: 17
... A37: 23 | E37: 70 | I37: 110 | M37: 27 | Q37: 15
A38: Итого | E38: =SUM(E14:E37) -> 1806 | I38: =SUM(I14:I37) -> 2920 | M38: =SUM(M14:M37) -> 621 | Q38: =SUM(Q14:Q37) -> 361
A39: 1. При наличии на предприятии отклонений от нормальных режимов электропотребления (временное изменение схем питания, остановка на ремонт, резкое снижение
A40: эл.потребления и т.д.) последние необходимо перечислить.
A41: Главный инженер АО "Вологдаоблэнерго" А.В. Чурляев
A42: составляется самим предприятием с соблюдением всех пунктов настоящей таблицы.

Sheet 69
B1: АО "Вологдаоблэнерго" | J1: код 900151 | K1: ПС "Восточная"
B2: наименование предприятия | N2: наименование источника питания
B3: уч -к г. Вытегра
B4: ул. Горького, 99 | I4: Таблица № 1
B5: адрес
A6: почасовых записей показаний электрических счетчиков
A7: в режимный день 18 декабря 2024 г.
A8: 855 | B8: 854
A9: часы суток | B9: Активная энергия | J9: Реактивная энергия
B10: ВЛ-10 кВ Центр | F10: ВЛ-10 кВ Воинская часть | J10: =B10 -> ВЛ-10 кВ Центр | N10: =F10 -> ВЛ-10 кВ Воинская часть
B11: Расчет. Коэф. | E11: 6000 | F11: Расчет. Коэф. | I11: 4000 | J11: Расчет. Коэф. | M11: =E11 -> 6000 | N11: Расчет. Коэф. | Q11: =I11 -> 4000
B12: показания счетчика | C12: разность | E12: расход эл.энергии за час | F12: показания счетчика | G12: разность | I12: расход эл.энергии за час | J12: показания счетчика | K12: разность | M12: расход эл.энергии за час | N12: показания счетчика | O12: разность | Q12: расход эл.энергии за час
A13: 1 | B13: 2 | C13: 3 | E13: 4 | F13: 5 | G13: 6 | I13: 7 | J13: 8 | K13: 9 | M13: 10 | N13: 11 | O13: 12 | Q13: 13
A14: 0 | E14: 1022 | I14: 1544 | M14: 82 | Q14: 208
A15: 1 | E15: 984 | I15: 1493 | M15: 83 | Q15: 226
A16: 2 | E16: 981 | I16: 1464 | M16: 79 | Q16: 205
A17: 3 | E17: 992 | I17: 1461 | M17: 83 | Q17: 205
A18: 4 | E18: 1029 | I18: 1466 | M18: 82 | Q18: 200
A19: 5 | E19: 1055 | I19: 1536 | M19: 80 | Q19: 201
A20: 6 | E20: 1191 | I20: 1732 | M20: 88 | Q20: 205
A21: 7 | E21: 1308 | I21: 1835 | M21: 92 | Q21: 207
A22: 8 | E22: 1398 | I22: 1758 | M22: 99 | Q22: 203
A23: 9 | E23: 1406 | I23: 1756 | M23: 103 | Q23: 207
A24: 10 | E24: 1407 | I24: 1684 | M24: 107 | Q24: 208
A25: 11 | E25: 1378 | I25: 1666 | M25: 103 | Q25: 210
... A37: 23 | E37: 1132 | I37: 1661 | M37: 85 | Q37: 211
A38: Итого | E38: =SUM(E14:E37) -> 30229 | I38: =SUM(I14:I37) -> 40978 | M38: =SUM(M14:M37) -> 2233 | Q38: =SUM(Q14:Q37) -> 5073
A39: 1. При наличии на предприятии отклонений от нормальных режимов электропотребления (временное изменение схем питания, остановка на ремонт, резкое снижение
A40: эл.потребления и т.д.) последние необходимо перечислить.
A41: Главный инженер АО "Вологдаоблэнерго" А.В. Чурляев
A42: составляется самим предприятием с соблюдением всех пунктов настоящей таблицы.

Sheet 70
B1: АО "Вологдаоблэнерго" | J1: код 900151 | K1: ПС "Восточная"
B2: наименование предприятия | N2: наименование источника питания
B3: уч -к г. Вытегра
B4: ул. Горького, 99 | I4: Таблица № 1
B5: адрес
A6: почасовых записей показаний электрических счетчиков
A7: в режимный день 18 декабря 2024 г.
A8: 856 | B8: 951
A9: часы суток | B9: Активная энергия | J9: Реактивная энергия
B10: ВЛ-10 кВ Шестово | F10: ф.1 Город | J10: =B10 -> ВЛ-10 кВ Шестово | N10: =F10 -> ф.1 Город
B11: Расчет. Коэф. | E11: 4000 | F11: Расчет. Коэф. | J11: Расчет. Коэф. | M11: =E11 -> 4000 | N11: Расчет. Коэф.
B12: показания счетчика | C12: разность | E12: расход эл.энергии за час | F12: показания счетчика | G12: разность | I12: расход эл.энергии за час | J12: показания счетчика | K12: разность | M12: расход эл.энергии за час | N12: показания счетчика | O12: разность | Q12: расход эл.энергии за час
A13: 1 | B13: 2 | C13: 3 | E13: 4 | F13: 5 | G13: 6 | I13: 7 | J13: 8 | K13: 9 | M13: 10 | N13: 11 | O13: 12 | Q13: 13
A14: 0 | E14: 593 | I14: 917 | M14: 109 | Q14: 109
A15: 1 | E15: 534 | I15: 887 | M15: 111 | Q15: 111
A16: 2 | E16: 522 | I16: 864 | M16: 108 | Q16: 108
A17: 3 | E17: 528 | I17: 872 | M17: 108 | Q17: 108
A18: 4 | E18: 536 | I18: 855 | M18: 108 | Q18: 108
A19: 5 | E19: 559 | I19: 904 | M19: 105 | Q19: 105
A20: 6 | E20: 653 | I20: 1061 | M20: 109 | Q20: 109
A21: 7 | E21: 747 | I21: 1174 | M21: 106 | Q21: 106
A22: 8 | E22: 711 | I22: 1279 | M22: 107 | Q22: 107
A23: 9 | E23: 749 | I23: 1351 | M23: 117 | Q23: 117
A24: 10 | E24: 749 | I24: 1364 | M24: 117 | Q24: 117
A25: 11 | E25: 696 | I25: 1363 | M25: 116 | Q25: 116
... A37: 23 | E37: 619 | I37: 985 | M37: 110 | Q37: 110
A38: Итого | E38: =SUM(E14:E37) -> 16232 | I38: =SUM(I14:I37) -> 27946 | M38: =SUM(M14:M37) -> 2600 | Q38: =SUM(Q14:Q37) -> 2600
A39: 1. При наличии на предприятии отклонений от нормальных режимов электропотребления (временное изменение схем питания, остановка на ремонт, резкое снижение
A40: эл.потребления и т.д.) последние необходимо перечислить.
A41: Главный инженер АО "Вологдаоблэнерго" А.В. Чурляев
A42: составляется самим предприятием с соблюдением всех пунктов настоящей таблицы.

Sheet 70_1
B1: АО "Вологдаоблэнерго" | J1: код 900151 | K1: ПС "Восточная"
B2: наименование предприятия | N2: наименование источника питания
B3: уч -к г. Вытегра | N3: яч.25 ф Стадион
B4: ул. Горького, 99 | I4: Таблица № 1
B5: адрес
A6: почасовых записей показаний электрических счетчиков
A7: в режимный день 18 декабря 2024 г.
A8: 856 | B8: 951
A9: часы суток | B9: Активная энергия | J9: Реактивная энергия
B10: ВЛ-10 кВ ф Стадион | J10: =B10 -> ВЛ-10 кВ ф Стадион | N10: =F10 -> 0
B11: Расчет. Коэф. | E11: 4000 | F11: Расчет. Коэф. | J11: Расчет. Коэф. | M11: =E11 -> 4000 | N11: Расчет. Коэф.
