Workbook

Sheet Содержание книги
A1: Содержание
A4: № листа | B4: Электросетевой участок | C4: Центр питания
A5: 1 а | B5: г. Вологда | C5: ОАО "БМЗ"
A6: 1, 2 | B6: г. Вологда | C6: ПС "АНАНЬИНО"
A7: 3 | B7: г. Вологда | C7: ПС "Рубцово"
A8: 4 | B8: г. Вологда | C8: ПС "МАЕГА"
A9: 5,6, 7, 8, 9 | B9: г. Вологда | C9: ПС "ЗАПАДНАЯ
A10: 10 | B10: г. Вологда | C10: ПС "СЕВЕРНАЯ 35/6 кВ
A11: 11 | B11: г. Вологда | C11: РТП "ТЕПЛИЧНОГО ХОЗ - ВА"
A12: 12,13, 14 | B12: г. Вологда | C12: ГПП 110/10 кВ "ВОМЗ"
A13: 15,16,17,18,19,20, 21 | B13: г. Вологда | C13: ПС ВОЛОГДА-ЮЖНАЯ РУ - 6 -10 кВ
A14: 22 | B14: г. Вологда | C14: ГПП ВОЛОГДА - ТЯГОВАЯ 110/27,5/6 кВ
A15: 23 | B15: г. Вологда | C15: ТП 10 РЖД
A16: 24 | B16: г. Вологда | C16: ТП 34 РЖД
A17: 25,26,27,28,29 | B17: г. Вологда | C17: ТГК- 2 ВТЭЦ РП 6 кВ
A18: 30,31,32,33,34 | B18: г. Вологда | C18: ПС "ЦЕНТРАЛЬНАЯ" 110/6 кВ
A19: 35, 36 | B19: г. Вологда | C19: ПС "ГОРОДСКАЯ" 35/6 кВ
A20: 37, 38, 39 | B20: г. Вологда | C20: ПС "ВОСТОЧНАЯ" 110/35/10 кВ
A21: 40, 41 | B21: г. Вологда | C21: ПС "ЛУГОВАЯ"
A22: 42 | B22: г. Вологда | C22: РП "ГОРКА"
A23: 43, 44 | B23: г. Вологда | C23: ГПП 2 ЗАО ВПЗ
A24: 45 | B24: г. Вологда | C24: ГПП 1 ЗАО ВПЗ
A25: 46 | B25: ЭСУ "Кубенское" | C25: ПС "Кубенское"
A26: 47, 48 | B26: ЭСУ п. Молочное | C26: ПС "Молочное" 35/10 кВ
A27: 49, 50, 50-1, 50-2, 50-3 | B27: ЭСУ "Устье-Кубенское" | C27: РТП "КОРНИЛОВО" 35/10 кВ
A28: 51, 52, 53 | B28: ЭСУ "Шуйское" | C28: ПС "ШУЙСКОЕ" 35/ 10 кВ
A29: 54.55 | B29: ЭСУ г. Сокол | C29: ПС "ГДЗ" 110/6 кВ
B30: ЭСУ г. Сокол
A31: 56, 57, 58, | B31: ЭСУ г. Сокол | C31: ОАО "Сокольский" ЦБК" ГПП 35/6 кВ
A32: 59 | B32: ЭСУ г. Сокол | C32: ОАО "Сокольский" ЦБК" ГПП 110/6 кВ
A33: 60, 61, 62, 63 | B33: ЭСУ г. Сокол | C33: ООО "Сухонский ЦБК" ГПП 110/6 кВ
A34: 64-66 | B34: ЭСУ "Белозерск"
A35: 67-75 | B35: ЭСУ "Вытегра"
A36: 76-81_1 | B36: ЭСУ "Харовск"
A37: 82-86 | B37: ЭТУ "Вожега"
A38: 87-91 | B38: ЭТУ "Тотьма"
A39: 92-95 | B39: ЭСУ "Сямжа"
A40: 96-97 | B40: ЭСУ "Грязовец"
A42: Содержание
A45: № листа | B45: Электросетевой участок | C45: Центр питания
A46: 1 а | B46: г. Вологда | C46: ОАО "БМЗ"
D47: яч. Т1, яч. Т2
A48: 1, 2 | B48: г. Вологда | C48: ПС "АНАНЬИНО"
D49: яч.7 - ф."Город-7"
D50: яч.8 - ф."Городской", яч.2 - ф."Овощехранилище"
A51: 3 | B51: г. Вологда | C51: ПС "ИСКРА"
D52: яч.18 - ф."РУБЦОВО"- СВ - ВЛ№2
A53: 4 | B53: г. Вологда | C53: ПС "МАЕГА"
D54: яч.13 - ф."НИКИТИНО"-СВ - ВЛ№27
A55: 5,6, 7, 8, 9 | B55: г. Вологда | C55: ПС "ЗАПАДНАЯ
D56: яч.19 - "РМЗ-1", яч.24 - "РМЗ-2"
D57: яч.15 -"ОЧИСТНЫЕ-1", яч.9 -"ГОРОД-1"
D58: яч.21- "П/я-1", яч.20 - "П/я-2"
D59: яч.33 - "РП-35", яч.35 - "РП-37"
D60: яч.11 - "ГОРОД-2", яч.18 - "ОЧИСТНЫЕ-2"
A61: 10 | B61: г. Вологда | C61: ПС "СЕВЕРНАЯ 35/6 кВ
D62: Т1 - РП5ф3 ввод №1, Т2 - РП5ф17 ввод №2
A63: 11 | B63: г. Вологда | C63: РТП "ТЕПЛИЧНОГО ХОЗ - ВА"
D64: яч. 3 - ф."Микрорайон-1" ввод № 1, яч.13 - ф."Микрорайон-2" ввод № 2
A65: 12,13, 14 | B65: г. Вологда | C65: ГПП 110/10 кВ "ВОМЗ"
D66: яч.47 - РП 29 ввод № 1, яч.31 - РП 29 ввод № 2
D67: яч.5 - РП 14 ввод № 1, яч.22 - РП 14 ввод № 2
D68: яч.44 - РП 2 ввод № 1, яч.26в - РП 2 ввод № 2
A69: 15,16,17,18,19,20, 21 | B69: г. Вологда | C69: ПС ВОЛОГДА-ЮЖНАЯ РУ - 6 -10 кВ
D70: яч.15 - "ГОРОД-15", яч.24 - "ТУБДИСПАНСЕР"
D71: яч.10 - "ГОРОД-10", яч.14 - "ГОРОД-14"
D72: яч.20 - "ГОРОД 20"
D73: яч. 7- ф."ГОРОД 7", яч.17 - ф."ГОРОД 17"
D74: яч.3 - "ГОРОД-3", яч.5 - "ГОРОД-5"
D75: яч. 1 - "ГОРОД -1", яч. 20 - "РП 27"
D76: яч. 4 ф."РОДИОНЦЕВО" - ПКУ
D77: яч. 307, 409 ф."Охмыльцево"
A78: 22 | B78: г. Вологда | C78: ГПП ВОЛОГДА - ТЯГОВАЯ 110/27,5/6 кВ
D79: яч. 1 - ТП 450
A80: 23 | B80: г. Вологда | C80: ТП 10 СЖД ОАО РЖД
D81: яч.5 - ТП 238, яч.7 - ТП 651
A82: 24 | B82: г. Вологда | C82: ТП 34 СЖД ОАО РЖД
D83: яч.2 - ТП 660, яч.6 - ТП 662
A84: 25,26,27,28,29 | B84: г. Вологда | C84: ТГК- 2 ВТЭЦ РП 6 кВ
D85: яч.10 - РП 3 ввод № 1, яч. 115 - РП 3 ввод № 2
D86: яч. 114 - РП 23 ввод № 1, яч. 107 - РП 23 ввод № 2
D87: яч. 3 - ТП 217
D88: яч. 5 - РП 1 ввод № 1, яч. 12 - РП 1 ввод № 2
D89: яч. 4 - РП 20 ввод № 1, яч. 7 - РП 20 ввод № 2
A90: 30,31,32,33,34,34-1 | B90: г. Вологда | C90: ПС "ЦЕНТРАЛЬНАЯ" 110/6 кВ
D91: яч.4 - ТП 54 -Ι ввод № 1, яч. 30 - ТП 54 - ΙΙ ввод № 2
D92: яч. 14 - РП 13- Ι , яч. 22 - РП 13- ΙΙ
D93: яч.12 - РП 4 -Ι , яч. 24 - РП 4 -ΙΙ
D94: яч. 2 - РП 8 яч. 11
D95: яч.28 - ТП 11 -ΙΙ
D96: яч.22 - РП 21-I, яч.7 - РП 21-II
A97: 35, 36 | B97: г. Вологда | C97: ПС "ГОРОДСКАЯ" 35/6 кВ
D98: Т-1 - ЗРУ ф.1 ввод № 1, Т-3 - ЗРУ ф.20 ввод № 2 .
D99: Т-2 - РП 9 ф. 11
A100: 37, 38, 39 | B100: г. Вологда | C100: ПС "ВОСТОЧНАЯ" 110/35/10 кВ
D101: яч.2 - "РП 39-1", яч. 21 - "РП 39-2"
D102: яч.15 - "РМЗ-1", яч.32 - "РМЗ-2"
D103: яч. 11- "ГОРОД-1", яч. 28- "ГОРОД-2"
A104: 40, 41 | B104: г. Вологда | C104: ПС "ЛУГОВАЯ"
D105: яч. 23 - ф."ГОРОД-2 , яч. 2 - ф."ГОРОД-3"
...

Sheet 1а
B1: АО "Вологдаоблэнерго" | J1: код 900151 | K1: ПС "Вологда-Южная"РУ 6кВ - транзит через "БМЗ"
A2: наименование предприятия | N2: наименование источника питания
N3: _________________________________
B4: ул. Горького, 99 | I4: Таблица № 1 | O4: РТП 25 Т1, Т2
A5: адрес
A6: почасовых записей показаний электрических счетчиков
A7: в режимный день 17 ИЮНЯ 2020 г.
A8: 143 | B8: 144
A9: часы суток | B9: Активная энергия | J9: Реактивная энергия
B10: яч. Т1 | F10: яч. Т2 | J10: яч. Т1 | N10: яч. Т2
B11: Расчет. Коэф. | E11: 600 | F11: расчетный коэф. | I11: 600 | J11: расчетный коэф. | M11: =E11 -> 600 | N11: расчетный коэф. | Q11: =I11 -> 600
B12: показания счетчика | C12: разность | E12: расход эл.энергии за час | F12: показания счетчика | G12: разность | I12: расход эл.энергии за час | J12: показания счетчика | K12: разность | M12: расход эл.энергии за час | N12: показания счетчика | O12: разность | Q12: расход эл.энергии за час
A13: 1 | B13: 2 | C13: 3 | E13: 4 | F13: 5 | G13: 6 | I13: 7 | J13: 8 | K13: 9 | M13: 10 | N13: 11 | O13: 12 | Q13: 13
A14: 0
A15: 1 | E15: 142.68 | I15: 2.7 | M15: 40.44 | Q15: 19.08
A16: 2 | E16: 127.32 | I16: 2.64 | M16: 38.52 | Q16: 18.9
A17: 3 | E17: 114 | I17: 2.64 | M17: 37.92 | Q17: 19.14
A18: 4 | E18: 106.08 | I18: 2.64 | M18: 37.56 | Q18: 18.72
A19: 5 | E19: 104.64 | I19: 2.58 | M19: 34.44 | Q19: 18.24
A20: 6 | E20: 112.2 | I20: 2.58 | M20: 35.28 | Q20: 18.18
A21: 7 | E21: 138.72 | I21: 2.58 | M21: 34.8 | Q21: 17.88
A22: 8 | E22: 145.56 | I22: 2.52 | M22: 35.76 | Q22: 17.34
A23: 9 | E23: 172.32 | I23: 2.4 | M23: 45.6 | Q23: 16.44
A24: 10 | E24: 188.76 | I24: 2.64 | M24: 48.84 | Q24: 18.54
A25: 11 | E25: 192.84 | I25: 2.64 | M25: 53.04 | Q25: 18.72
A26: 12 | E26: 202.8 | I26: 2.64 | M26: 53.76 | Q26: 18.66
... A38: 24 | E38: 171.72 | I38: 2.64 | M38: 43.56 | Q38: 18.9
A39: Итого | E39: =SUM(E15:E38) -> 4143.84 | I39: =SUM(I15:I38) -> 63.48 | M39: =SUM(M15:M38) -> 1101.24 | Q39: =SUM(Q15:Q38) -> 453.72
A40: 1. При наличии на предприятии отклонений от нормальных режимов электропотребления (временное изменение схем питания, остановка на ремонт, резкое снижение
A41: эл.потребления и т.д.) последние необходимо перечислить.
A42: 2. При наличии нескольких источников питания и большого количества вводов таблица
A43: составляется самим предприятием с соблюдением всех пунктов настоящей таблицы. | K43: Главный инженер _____________________________ | Q43: А.А. Михалин
A48: 1 | B48: 2 | C48: 3 | D48: 4 | E48: 5 | F48: 6 | G48: 7 | H48: 8 | I48: 9 | J48: 10 | K48: 11 | L48: 12 | M48: 13 | N48: 14 | O48: 15 | P48: 16 | Q48: 17

Sheet 1
B1: АО "Вологдаоблэнерго" | J1: код 900151 | N1: ПС "АНАНЬИНО"
B2: наименование предприятия | N2: наименование источника питания
N3: _________________________________
B4: ул. Горького, 99 | I4: Таблица № 1 | O4: ВЛ № 31
B5: адрес
A6: почасовых записей показаний электрических счетчиков
A7: в режимный день 17 ИЮНЯ 2020 г.
A8: 1629
A9: часы суток | B9: Активная энергия | J9: Реактивная энергия
B10: ЯЧ. № 7 - Ф."Город 7" | J10: ЯЧ. № 7 - Ф."Город 7"
B11: Расчет. Коэф. | E11: 3600 | F11: Расчет. Коэф. | J11: Расчет. Коэф. | M11: =E11 -> 3600 | N11: Расчет. Коэф.
B12: показания счетчика | C12: разность | E12: расход эл.энергии за час | F12: показания счетчика | G12: разность | I12: расход эл.энергии за час | J12: показания счетчика | K12: разность | M12: расход эл.энергии за час | N12: показания счетчика | O12: разность | Q12: расход эл.энергии за час
A13: 1 | B13: 2 | C13: 3 | E13: 4 | F13: 5 | G13: 6 | I13: 7 | J13: 8 | K13: 9 | M13: 10 | N13: 11 | O13: 12 | Q13: 13
A14: 0
A15: 1 | E15: 312 | M15: 208
A16: 2 | E16: 272 | M16: 199
A17: 3 | E17: 221 | M17: 196
A18: 4 | E18: 197 | M18: 180
A19: 5 | E19: 196 | M19: 174
A20: 6 | E20: 227 | M20: 172
A21: 7 | E21: 286 | M21: 175
A22: 8 | E22: 356 | M22: 187
A23: 9 | E23: 436 | M23: 204
A24: 10 | E24: 439 | M24: 223
A25: 11 | E25: 467 | M25: 245
A26: 12 | E26: 465 | M26: 240
... A38: 24 | E38: 384 | M38: 210
A39: Итого | E39: =SUM(E15:E38) -> 8756 | M39: =SUM(M15:M38) -> 5211
A40: 1. При наличии на предприятии отклонений от нормальных режимов электропотребления (временное изменение схем питания, остановка на ремонт, резкое снижение
A41: эл.потребления и т.д.) последние необходимо перечислить.
A42: 2. При наличии нескольких источников питания и большого количества вводов таблица
A43: составляется самим предприятием с соблюдением всех пунктов настоящей таблицы. | K43: Главный инженер ___________________ А.А. Михалин

Sheet 2
B1: АО "Вологдаоблэнерго" | J1: код 900151 | N1: ПС "АНАНЬИНО"
B2: наименование предприятия | N2: наименование источника питания
N3: _________________________________
B4: ул. Горького, 99 | I4: Таблица № 1 | O4: РП 36 ф 16; ТП 360
B5: адрес
A6: почасовых записей показаний электрических счетчиков
A7: в режимный день 17 ИЮНЯ 2020 г.
A8: 1630 | B8: 1628
A9: часы суток | B9: Активная энергия | J9: Реактивная энергия
B10: ЯЧ. № 2 - Ф."Овощехранилище" | F10: ЯЧ. № 8 - Ф."Городской" | J10: ЯЧ. № 2 - Ф."Овощехранилище" | N10: ЯЧ. № 8 - Ф."Городской"
B11: Расчет. Коэф. | E11: 3600 | F11: Расчет. Коэф. | I11: 2400 | J11: Расчет. Коэф. | M11: =E11 -> 3600 | N11: Расчет. Коэф. | Q11: =I11 -> 2400
B12: показания счетчика | C12: разность | E12: расход эл.энергии за час | F12: показания счетчика | G12: разность | I12: расход эл.энергии за час | J12: показания счетчика | K12: разность | M12: расход эл.энергии за час | N12: показания счетчика | O12: разность | Q12: расход эл.энергии за час
A13: 1 | B13: 2 | C13: 3 | E13: 4 | F13: 5 | G13: 6 | I13: 7 | J13: 8 | K13: 9 | M13: 10 | N13: 11 | O13: 12 | Q13: 13
A14: 0
A15: 1 | E15: 95 | I15: 67 | M15: 67 | Q15: 28
A16: 2 | E16: 97 | I16: 62 | M16: 79 | Q16: 28
A17: 3 | E17: 73 | I17: 58 | M17: 54 | Q17: 29
A18: 4 | E18: 60 | I18: 56 | M18: 44 | Q18: 30
A19: 5 | E19: 56 | I19: 58 | M19: 39 | Q19: 28
A20: 6 | E20: 60 | I20: 57 | M20: 40 | Q20: 25
A21: 7 | E21: 65 | I21: 66 | M21: 40 | Q21: 24
A22: 8 | E22: 132 | I22: 73 | M22: 98 | Q22: 24
A23: 9 | E23: 282 | I23: 82 | M23: 191 | Q23: 25
A24: 10 | E24: 337 | I24: 92 | M24: 283 | Q24: 31
A25: 11 | E25: 313 | I25: 99 | M25: 229 | Q25: 35
A26: 12 | E26: 360 | I26: 92 | M26: 257 | Q26: 29
... A38: 24 | E38: 163 | I38: 79 | M38: 112 | Q38: 29
A39: Итого | E39: =SUM(E15:E38) -> 4920 | M39: =SUM(M15:M38) -> 3706 | Q39: =SUM(Q15:Q38) -> 720
A40: 1. При наличии на предприятии отклонений от нормальных режимов электропотребления (временное изменение схем питания, остановка на ремонт, резкое снижение
A41: эл.потребления и т.д.) последние необходимо перечислить.
A42: 2. При наличии нескольких источников питания и большого количества вводов таблица
A43: составляется самим предприятием с соблюдением всех пунктов настоящей таблицы. | K43: Главный инженер ___________________ А.А. Михалин

Sheet 3
B1: АО "Вологдаоблэнерго" | J1: код 900151 | N1: ПС "РУБЦОВО"
B2: наименование предприятия | N2: наименование источника питания
N3: яч. 18 ф."РУБЦОВО"
B4: ул. Горького, 99 | I4: Таблица № 1 | O4: ВЛ-10кВ № 2
B5: адрес
A6: почасовых записей показаний электрических счетчиков
A7: в режимный день 17 ИЮНЯ 2020 г.
A8: 374
A9: часы суток | B9: Активная энергия | J9: Реактивная энергия
B10: яч. 18 ф."РУБЦОВО"- СВ - ВЛ№2 | J10: яч. 18 ф."РУБЦОВО"- СВ - ВЛ№2
B11: Расчет. Коэф. | E11: 1000 | F11: Расчет. Коэф. | I11: 0 | J11: Расчет. Коэф. | M11: =E11 -> 1000 | N11: Расчет. Коэф. | Q11: =I11 -> 0
B12: показания счетчика | C12: разность | E12: расход эл.энергии за час | F12: показания счетчика | G12: разность | I12: расход эл.энергии за час | J12: показания счетчика | K12: разность | M12: расход эл.энергии за час | N12: показания счетчика | O12: разность | Q12: расход эл.энергии за час
A13: 1 | B13: 2 | C13: 3 | E13: 4 | F13: 5 | G13: 6 | I13: 7 | J13: 8 | K13: 9 | M13: 10 | N13: 11 | O13: 12 | Q13: 13
A14: 0
A15: 1 | E15: 171 | M15: 16.4
A16: 2 | E16: 150.6 | M16: 12.6
A17: 3 | E17: 122 | M17: 19
A18: 4 | E18: 96 | M18: 20.6
A19: 5 | E19: 91.8 | M19: 16.6
A20: 6 | E20: 112.6 | M20: 17
A21: 7 | E21: 139 | M21: 13.6
A22: 8 | E22: 164 | M22: 16.6
A23: 9 | E23: 156.4 | M23: 12.8
A24: 10 | E24: 15.2 | M24: 1.2
A25: 11 | E25: 188.4 | M25: 28.4
A26: 12 | E26: 180 | M26: 25
... A38: 24 | E38: 214 | M38: 11.4
A39: Итого | E39: =SUM(E15:E38) -> 3926 | M39: =SUM(M15:M38) -> 510.2
A40: 1. При наличии на предприятии отклонений от нормальных режимов электропотребления (временное изменение схем питания, остановка на ремонт, резкое снижение
A41: эл.потребления и т.д.) последние необходимо перечислить.
A42: 2. При наличии нескольких источников питания и большого количества вводов таблица
A43: составляется самим предприятием с соблюдением всех пунктов настоящей таблицы. | K43: Главный инженер ___________________ А.А. Михалин

Sheet 4
B1: АО "Вологдаоблэнерго" | J1: код 900151 | N1: ПС "МАЕГА"
B2: наименование предприятия | N2: наименование источника питания
N3: яч. 13 - Ф НИКИТИНО
B4: ул. Горького, 99 | I4: Таблица № 1 | O4: ВЛ №27
B5: адрес
A6: почасовых записей показаний электрических счетчиков
A7: в режимный день 17 ИЮНЯ 2020 г.
A8: 363
A9: часы суток | B9: Активная энергия | J9: Реактивная энергия
B10: яч. 13 - Ф НИКИТИНО-СВ - ВЛ№27 | J10: яч. 13 - Ф НИКИТИНО-СВ - ВЛ№27
B11: Расчет. Коэф. | E11: 1500 | F11: Расчет. Коэф. | I11: 0 | J11: Расчет. Коэф. | M11: =E11 -> 1500 | N11: Расчет. Коэф. | Q11: =I11 -> 0
B12: показания счетчика | C12: разность | E12: расход эл.энергии за час | F12: показания счетчика | G12: разность | I12: расход эл.энергии за час | J12: показания счетчика | K12: разность | M12: расход эл.энергии за час | N12: показания счетчика | O12: разность | Q12: расход эл.энергии за час
A13: 1 | B13: 2 | C13: 3 | E13: 4 | F13: 5 | G13: 6 | I13: 7 | J13: 8 | K13: 9 | M13: 10 | N13: 11 | O13: 12 | Q13: 13
A14: 0
A15: 1 | E15: 219 | M15: 43.35
A16: 2 | E16: 188.25 | M16: 45.3
A17: 3 | E17: 151.05 | M17: 47.25
A18: 4 | E18: 141.3 | M18: 45.9
A19: 5 | E19: 137.7 | M19: 39.3
A20: 6 | E20: 153.15 | M20: 40.05
A21: 7 | E21: 216.75 | M21: 36
A22: 8 | E22: 232.2 | M22: 43.65
A23: 9 | E23: 256.2 | M23: 43.2
A24: 10 | E24: 269.25 | M24: 46.65
A25: 11 | E25: 273.9 | M25: 52.5
A26: 12 | E26: 268.2 | M26: 47.4
... A38: 24 | E38: 282.75 | M38: 50.1
A39: Итого | E39: =SUM(E15:E38) -> 6021.75 | M39: =SUM(M15:M38) -> 1167.15
A40: 1. При наличии на предприятии отклонений от нормальных режимов электропотребления (временное изменение схем питания, остановка на ремонт, резкое снижение
A41: эл.потребления и т.д.) последние необходимо перечислить.
A42: 2. При наличии нескольких источников питания и большого количества вводов таблица
A43: составляется самим предприятием с соблюдением всех пунктов настоящей таблицы. | K43: Главный инженер ___________________ А.А. Михалин

Sheet 5
B1: АО "Вологдаоблэнерго" | J1: код 900151 | N1: ПС "ЗАПАДНАЯ"
B2: наименование предприятия | N2: наименование источника питания
N3: _________________________________
B4: ул. Горького, 99 | I4: Таблица № 1 | O4: РП 16
B5: адрес
A6: почасовых записей показаний электрических счетчиков
A7: в режимный день 17 ИЮНЯ 2020 г.
A8: 372 | B8: 368
A9: часы суток | B9: Активная энергия | J9: Реактивная энергия
B10: Яч. 21 - "РМЗ-1" | F10: Яч. 28 - "РМЗ-2" | J10: Яч. 21 - "РМЗ-1" | N10: Яч. 28 - "РМЗ-2"
B11: Расчет. Коэф. | E11: 7200 | F11: Расчет. Коэф. | I11: 7200 | J11: Расчет. Коэф. | M11: =E11 -> 7200 | N11: Расчет. Коэф. | Q11: =I11 -> 7200
B12: показания счетчика | C12: разность | E12: расход эл.энергии за час | F12: показания счетчика | G12: разность | I12: расход эл.энергии за час | J12: показания счетчика | K12: разность | M12: расход эл.энергии за час | N12: показания счетчика | O12: разность | Q12: расход эл.энергии за час
A13: 1 | B13: 2 | C13: 3 | E13: 4 | F13: 5 | G13: 6 | I13: 7 | J13: 8 | K13: 9 | M13: 10 | N13: 11 | O13: 12 | Q13: 13
A14: 0
A15: 1 | E15: 233.97917 | I15: 727.03839 | M15: 78.510365 | Q15: 174.07796
A16: 2 | E16: 209.86211 | I16: 653.90433 | M16: 67.227791 | Q16: 161.86701
A17: 3 | E17: 195.33714 | I17: 542.95956 | M17: 69.406712 | Q17: 162.93741
A18: 4 | E18: 186.86395 | I18: 518.09775 | M18: 71.225365 | Q18: 162.17532
A19: 5 | E19: 183.39986 | I19: 506.7043 | M19: 71.260002 | Q19: 152.16406
A20: 6 | E20: 202.80573 | I20: 534.39633 | M20: 72.503613 | Q20: 149.15375
A21: 7 | E21: 247.79747 | I21: 697.37186 | M21: 74.762211 | Q21: 164.09443
A22: 8 | E22: 326.61961 | I22: 930.50922 | M22: 103.06391 | Q22: 232.98845
A23: 9 | E23: 388.06929 | I23: 1066.2778 | M23: 156.16164 | Q23: 285.99957
A24: 10 | E24: 462.68945 | I24: 1190.2025 | M24: 186.96442 | Q24: 330.99132
A25: 11 | E25: 498.8512 | I25: 1202.6282 | M25: 203.57825 | Q25: 316.22729
A26: 12 | E26: 465.2148 | I26: 1229.4091 | M26: 187.44246 | Q26: 304.50826
... A38: 24 | E38: 270.61551 | I38: 825.88654 | M38: 75.358032 | Q38: 169.94182
A39: Итого | E39: =SUM(E15:E38) -> 8214.5592 | I39: =SUM(I15:I38) -> 22147.09 | M39: =SUM(M15:M38) -> 3003.7282 | Q39: =SUM(Q15:Q38) -> 5510.8014
A40: 1. При наличии на предприятии отклонений от нормальных режимов электропотребления (временное изменение схем питания, остановка на ремонт, резкое снижение
A41: эл.потребления и т.д.) последние необходимо перечислить.
A42: 2. При наличии нескольких источников питания и большого количества вводов таблица
A43: составляется самим предприятием с соблюдением всех пунктов настоящей таблицы. | K43: Главный инженер ___________________ А.А. Михалин

Sheet 6
B1: АО "Вологдаоблэнерго" | J1: код 900151 | N1: ПС "ЗАПАДНАЯ"
B2: наименование предприятия | N2: наименование источника питания
N3: _________________________________
B4: ул. Горького, 99 | I4: Таблица № 1 | N4: РП 10 ф7 | Q4: РП 36 ф17
B5: адрес
A6: почасовых записей показаний электрических счетчиков
A7: в режимный день 17 ИЮНЯ 2020 г.
A8: 370 | B8: 365
A9: часы суток | B9: Активная энергия | J9: Реактивная энергия
B10: яч. 16 - ф."ОЧИСТНЫЕ-1" | F10: яч. 24 - "ГОРОД-1" | J10: яч. 16 - ф."ОЧИСТНЫЕ-1" | N10: яч. 24 - "ГОРОД-1"
B11: Расчет. Коэф. | E11: 4800 | F11: Расчет. Коэф. | I11: 7200 | J11: Расчет. Коэф. | M11: =E11 -> 4800 | N11: Расчет. Коэф. | Q11: =I11 -> 7200
B12: показания счетчика | C12: разность | E12: расход эл.энергии за час | F12: показания счетчика | G12: разность | I12: расход эл.энергии за час | J12: показания счетчика | K12: разность | M12: расход эл.энергии за час | N12: показания счетчика | O12: разность | Q12: расход эл.энергии за час
A13: 1 | B13: 2 | C13: 3 | E13: 4 | F13: 5 | G13: 6 | I13: 7 | J13: 8 | K13: 9 | M13: 10 | N13: 11 | O13: 12 | Q13: 13
A14: 0
A15: 1 | E15: 260.69778 | I15: 1439.8865 | M15: 48.379623 | Q15: 60.794958
A16: 2 | E16: 230.95502 | I16: 1535.1049 | M16: 44.084137 | Q16: 71.537132
A17: 3 | E17: 226.93666 | I17: 1465.9504 | M17: 45.407425 | Q17: 67.653873
A18: 4 | E18: 214.62525 | I18: 1382.0181 | M18: 39.708981 | Q18: 60.916197
A19: 5 | E19: 209.93487 | I19: 1477.1533 | M19: 35.586702 | Q19: 67.643486
A20: 6 | E20: 242.54243 | I20: 1430.9698 | M20: 41.253969 | Q20: 72.922771
A21: 7 | E21: 382.2773 | I21: 1487.4998 | M21: 61.612484 | Q21: 66.219738
A22: 8 | E22: 559.59766 | I22: 1629.6582 | M22: 97.140297 | Q22: 140.37573
A23: 9 | E23: 527.62402 | I23: 1578.154 | M23: 88.410763 | Q23: 333.19101
A24: 10 | E24: 447.13219 | I24: 1573.0742 | M24: 72.212631 | Q24: 292.8862
A25: 11 | E25: 444.7558 | I25: 1556.2428 | M25: 71.689552 | Q25: 378.79242
A26: 12 | E26: 451.86415 | I26: 1567.3418 | M26: 70.823528 | Q26: 368.3343
... A38: 24 | E38: 307.26568 | I38: 1587.241 | M38: 55.432528 | Q38: 70.695354
A39: Итого | E39: =SUM(E15:E38) -> 9497.7311 | I39: =SUM(I15:I38) -> 37624.276 | M39: =SUM(M15:M38) -> 1576.8896 | Q39: =SUM(Q15:Q38) -> 3934.0884
A40: 1. При наличии на предприятии отклонений от нормальных режимов электропотребления (временное изменение схем питания, остановка на ремонт, резкое снижение
A41: эл.потребления и т.д.) последние необходимо перечислить.
A42: 2. При наличии нескольких источников питания и большого количества вводов таблица
A43: составляется самим предприятием с соблюдением всех пунктов настоящей таблицы. | K43: Главный инженер ___________________ А.А. Михалин

Sheet 7
B1: АО "Вологдаоблэнерго" | J1: код 900151 | N1: ПС "ЗАПАДНАЯ"
B2: наименование предприятия | N2: наименование источника питания
N3: _________________________________
B4: ул. Горького, 99 | I4: Таблица № 1 | O4: РП 7
B5: адрес
A6: почасовых записей показаний электрических счетчиков
A7: в режимный день 17 ИЮНЯ 2020 г.
A8: 371 | B8: 367
A9: часы суток | B9: Активная энергия | J9: Реактивная энергия
B10: яч. 3 "П/Я-1" | F10: яч. 10 "П/Я-2" | J10: яч. 3 "П/Я-1" | N10: яч. 10 "П/Я-2"
B11: Расчет. Коэф. | E11: 12000 | F11: Расчет. Коэф. | I11: 7200 | J11: Расчет. Коэф. | M11: =E11 -> 12000 | N11: Расчет. Коэф. | Q11: =I11 -> 7200
B12: показания счетчика | C12: разность | E12: расход эл.энергии за час | F12: показания счетчика | G12: разность | I12: расход эл.энергии за час | J12: показания счетчика | K12: разность | M12: расход эл.энергии за час | N12: показания счетчика | O12: разность | Q12: расход эл.энергии за час
A13: 1 | B13: 2 | C13: 3 | E13: 4 | F13: 5 | G13: 6 | I13: 7 | J13: 8 | K13: 9 | M13: 10 | N13: 11 | O13: 12 | Q13: 13
A14: 0
A15: 1 | E15: 808.56949 | I15: 1599.233 | M15: 348.37761 | Q15: 673.79172
A16: 2 | E16: 748.15555 | I16: 1461.5974 | M16: 313.6812 | Q16: 636.44873
A17: 3 | E17: 713.25128 | I17: 1331.7941 | M17: 314.95598 | Q17: 624.51144
A18: 4 | E18: 703.17767 | I18: 1292.2409 | M18: 330.91162 | Q18: 617.12598
A19: 5 | E19: 716.51447 | I19: 1291.8737 | M19: 338.26245 | Q19: 591.83804
A20: 6 | E20: 746.28494 | I20: 1387.3825 | M20: 318.94662 | Q20: 609.20706
A21: 7 | E21: 769.68842 | I21: 1503.2428 | M21: 287.23627 | Q21: 592.09091
A22: 8 | E22: 879.34796 | I22: 1624.6387 | M22: 291.80193 | Q22: 626.00101
A23: 9 | E23: 1195.0938 | I23: 1826.9179 | M23: 419.34317 | Q23: 726.83057
A24: 10 | E24: 1174.7733 | I24: 2028.8956 | M24: 452.70938 | Q24: 813.87646
A25: 11 | E25: 1056.2457 | I25: 2022.3242 | M25: 441.52727 | Q25: 813.89377
A26: 12 | E26: 1029.101 | I26: 2047.9311 | M26: 416.65504 | Q26: 789.91183
... A38: 24 | E38: 859.61646 | I38: 1738.4033 | M38: 321.84262 | Q38: 663.04608
A39: Итого | E39: =SUM(E15:E38) -> 22292.232 | I39: =SUM(I15:I38) -> 43037.166 | M39: =SUM(M15:M38) -> 8903.6935 | Q39: =SUM(Q15:Q38) -> 17015.857
A40: 1. При наличии на предприятии отклонений от нормальных режимов электропотребления (временное изменение схем питания, остановка на ремонт, резкое снижение
A41: эл.потребления и т.д.) последние необходимо перечислить.
A42: 2. При наличии нескольких источников питания и большого количества вводов таблица
A43: составляется самим предприятием с соблюдением всех пунктов настоящей таблицы. | K43: Главный инженер ___________________ А.А. Михалин

Sheet 8
B1: АО "Вологдаоблэнерго" | J1: код 900151 | N1: ПС "ЗАПАДНАЯ"
B2: наименование предприятия | I2: _ | N2: наименование источника питания
N3: _________________________________
B4: ул. Горького, 99 | I4: Таблица № 1 | O4: РП 35; РП 37
B5: адрес
A6: почасовых записей показаний электрических счетчиков
A7: в режимный день 17 ИЮНЯ 2020 г.
A8: 129 | B8: 130
A9: часы суток | B9: Активная энергия | J9: Реактивная энергия
B10: яч. 15 "РП -35" | F10: яч. 35 "РП-37" | J10: яч. 15 "РП -35" | N10: яч. 35 "РП-37"
B11: Расчет. Коэф. | E11: 3600 | F11: Расчет. Коэф. | I11: 4800 | J11: Расчет. Коэф. | M11: =E11 -> 3600 | N11: Расчет. Коэф. | Q11: =I11 -> 4800
B12: показания счетчика | C12: разность | E12: расход эл.энергии за час | F12: показания счетчика | G12: разность | I12: расход эл.энергии за час | J12: показания счетчика | K12: разность | M12: расход эл.энергии за час | N12: показания счетчика | O12: разность | Q12: расход эл.энергии за час
A13: 1 | B13: 2 | C13: 3 | E13: 4 | F13: 5 | G13: 6 | I13: 7 | J13: 8 | K13: 9 | M13: 10 | N13: 11 | O13: 12 | Q13: 13
A14: 0
A15: 1 | E15: 254.14371 | I15: 405.93712 | M15: 159.50449 | Q15: 197.4537
A16: 2 | E16: 253.99129 | I16: 381.6122 | M16: 155.67666 | Q16: 170.84595
A17: 3 | E17: 253.88735 | I17: 406.99367 | M17: 155.83254 | Q17: 215.20376
A18: 4 | E18: 253.90467 | I18: 310.74364 | M18: 161.10836 | Q18: 155.8464
A19: 5 | E19: 253.5375 | I19: 292.78922 | M19: 161.59334 | Q19: 147.96904
A20: 6 | E20: 253.20493 | I20: 367.25003 | M20: 159.97214 | Q20: 151.24607
A21: 7 | E21: 253.76266 | I21: 411.59744 | M21: 158.35788 | Q21: 154.32912
A22: 8 | E22: 253.71762 | I22: 403.99374 | M22: 154.35337 | Q22: 133.41635
A23: 9 | E23: 254.9266 | I23: 509.16728 | M23: 154.48501 | Q23: 186.99213
A24: 10 | E24: 255.06169 | I24: 635.57233 | M24: 155.52077 | Q24: 255.43928
A25: 11 | E25: 255.3804 | I25: 554.38074 | M25: 157.62002 | Q25: 220.95416
A26: 12 | E26: 254.86425 | I26: 515.07706 | M26: 157.75858 | Q26: 210.10807
... A38: 24 | E38: 244.99156 | I38: 395.84271 | M38: 150.38351 | Q38: 157.46068
A39: Итого | E39: =SUM(E15:E38) -> 6072.6611 | I39: =SUM(I15:I38) -> 11224.54 | M39: =SUM(M15:M38) -> 3775.0204 | Q39: =SUM(Q15:Q38) -> 4784.7779
A40: 1. При наличии на предприятии отклонений от нормальных режимов электропотребления (временное изменение схем питания, остановка на ремонт, резкое снижение
A41: эл.потребления и т.д.) последние необходимо перечислить.
A42: 2. При наличии нескольких источников питания и большого количества вводов таблица
A43: составляется самим предприятием с соблюдением всех пунктов настоящей таблицы. | K43: Главный инженер ___________________ А.А. Михалин

Sheet 9
B1: АО "Вологдаоблэнерго" | J1: код 900151 | N1: ПС "ЗАПАДНАЯ"
B2: наименование предприятия | N2: наименование источника питания
N3: _________________________________
B4: ул. Горького, 99 | I4: Таблица № 1 | O4: РП 28
B5: адрес
A6: почасовых записей показаний электрических счетчиков
A7: в режимный день 17 ИЮНЯ 2020 г.
A8: 366 | B8: 369
A9: часы суток | B9: Активная энергия | J9: Реактивная энергия
B10: яч. 17 "ГОРОД-2" | F10: яч. 22 - "ОЧИСТНЫЕ-2" | J10: ЯЧ. №11 - "ГОРОД-2" | N10: ЯЧ. №18 - "ОЧИСТНЫЕ-2"
B11: Расчет. Коэф. | E11: 7200 | F11: Расчет. Коэф. | I11: 7200 | J11: Расчет. Коэф. | M11: =E11 -> 7200 | N11: Расчет. Коэф. | Q11: =I11 -> 7200
B12: показания счетчика | C12: разность | E12: расход эл.энергии за час | F12: показания счетчика | G12: разность | I12: расход эл.энергии за час | J12: показания счетчика | K12: разность | M12: расход эл.энергии за час | N12: показания счетчика | O12: разность | Q12: расход эл.энергии за час
A13: 1 | B13: 2 | C13: 3 | E13: 4 | F13: 5 | G13: 6 | I13: 7 | J13: 8 | K13: 9 | M13: 10 | N13: 11 | O13: 12 | Q13: 13
A14: 0
A15: 1 | E15: 179.95308 | I15: 553.70868 | M15: 86.23877 | Q15: 318.84962
A16: 2 | E16: 164.85653 | I16: 571.56613 | M16: 80.72739 | Q16: 319.1129
A17: 3 | E17: 127.50314 | I17: 635.01459 | M17: 63.878008 | Q17: 368.67378
A18: 4 | E18: 109.11222 | I18: 529.14478 | M18: 66.174707 | Q18: 291.13684
A19: 5 | E19: 105.88368 | I19: 527.77643 | M19: 68.18042 | Q19: 284.41302
A20: 6 | E20: 125.92696 | I20: 534.88132 | M20: 68.454082 | Q20: 290.94632
A21: 7 | E21: 147.38014 | I21: 549.55869 | M21: 81.091118 | Q21: 292.02711
A22: 8 | E22: 224.20002 | I22: 584.43875 | M22: 102.92881 | Q22: 302.70345
A23: 9 | E23: 320.79646 | I23: 710.94418 | M23: 166.59204 | Q23: 400.18324
A24: 10 | E24: 411.15056 | I24: 854.71127 | M24: 216.48895 | Q24: 502.05548
A25: 11 | E25: 434.56097 | I25: 819.20767 | M25: 231.91457 | Q25: 449.67831
A26: 12 | E26: 443.12422 | I26: 810.14914 | M26: 234.85213 | Q26: 485.26848
... A38: 24 | E38: 196.27245 | I38: 531.13663 | M38: 88.071281 | Q38: 282.56319
A39: Итого | E39: =SUM(E15:E38) -> 6309.1101 | I39: =SUM(I15:I38) -> 15730.333 | M39: =SUM(M15:M38) -> 3199.72 | Q39: =SUM(Q15:Q38) -> 8667.9233
A40: 1. При наличии на предприятии отклонений от нормальных режимов электропотребления (временное изменение схем питания, остановка на ремонт, резкое снижение
A41: эл.потребления и т.д.) последние необходимо перечислить.
A42: 2. При наличии нескольких источников питания и большого количества вводов таблица
A43: составляется самим предприятием с соблюдением всех пунктов настоящей таблицы. | K43: Главный инженер ___________________ А.А. Михалин

Sheet 10
B1: АО "Вологдаоблэнерго" | J1: код 900151 | N1: ПС "СЕВЕРНАЯ 35/6 кВ
B2: наименование предприятия | N2: наименование источника питания
N3: _________________________________
B4: ул. Горького, 99 | I4: Таблица № 1 | N4: Т1, Т2 | O4: РП 5
B5: адрес
A6: почасовых записей показаний электрических счетчиков
A7: в режимный день 17 ИЮНЯ 2020 г.
A8: 325 | B8: 328
A9: часы суток | B9: Активная энергия | J9: Реактивная энергия
B10: Т 1 -РП 5 Ф 3 ввод № 1 | F10: Т 2 - РП 5 Ф 17 ввод № 2 | J10: Т 1 -РП 5 Ф 3 ввод № 1 | N10: Т 2 - РП 5 Ф 17 ввод № 2
B11: Расчет. Коэф. | E11: 18000 | F11: Расчет. Коэф. | I11: 18000 | J11: Расчет. Коэф. | M11: =E11 -> 18000 | N11: Расчет. Коэф. | Q11: =I11 -> 18000
B12: показания счетчика | C12: разность | E12: расход эл.энергии за час | F12: показания счетчика | G12: разность | I12: расход эл.энергии за час | J12: показания счетчика | K12: разность | M12: расход эл.энергии за час | N12: показания счетчика | O12: разность | Q12: расход эл.энергии за час
A13: 1 | B13: 2 | C13: 3 | E13: 4 | F13: 5 | G13: 6 | I13: 7 | J13: 8 | K13: 9 | M13: 10 | N13: 11 | O13: 12 | Q13: 13
A14: 0
A15: 1 | E15: 887.4 | I15: 1477.8 | M15: 451.8 | Q15: 471.6
A16: 2 | E16: 768.6 | I16: 1326.6 | M16: 365.4 | Q16: 433.8
A17: 3 | E17: 689.4 | I17: 1186.2 | M17: 347.4 | Q17: 408.6
A18: 4 | E18: 711 | I18: 1081.8 | M18: 423 | Q18: 372.6
A19: 5 | E19: 687.6 | I19: 1062 | M19: 394.2 | Q19: 349.2
A20: 6 | E20: 608.4 | I20: 1134 | M20: 306 | Q20: 354.6
A21: 7 | E21: 649.8 | I21: 1414.8 | M21: 250.2 | Q21: 360
A22: 8 | E22: 835.2 | I22: 1670.4 | M22: 432 | Q22: 446.4
A23: 9 | E23: 1015.2 | I23: 2062.8 | M23: 568.8 | Q23: 594
A24: 10 | E24: 973.8 | I24: 2291.4 | M24: 471.6 | Q24: 685.8
A25: 11 | E25: 993.6 | I25: 2354.4 | M25: 482.4 | Q25: 682.2
A26: 12 | E26: 1040.4 | I26: 2410.2 | M26: 453.6 | Q26: 694.8
... A38: 24 | E38: 986.4 | I38: 1603.8 | M38: 468 | Q38: 396
A39: Итого | E39: =SUM(E15:E38) -> 22186.8 | I39: =SUM(I15:I38) -> 44465.4 | M39: =SUM(M15:M38) -> 10762.2 | Q39: =SUM(Q15:Q38) -> 12317.4
A40: 1. При наличии на предприятии отклонений от нормальных режимов электропотребления (временное изменение схем питания, остановка на ремонт, резкое снижение
A41: эл.потребления и т.д.) последние необходимо перечислить.
A42: 2. При наличии нескольких источников питания и большого количества вводов таблица
A43: составляется самим предприятием с соблюдением всех пунктов настоящей таблицы. | K43: Главный инженер ___________________ А.А. Михалин

Sheet 11
B1: АО "Вологдаоблэнерго" | G1: код 900151 | I1: ПС "ВОЛОГДА-ЮЖНАЯ" 110/6 транзит через РТП "ТЕПЛИЧНОГО ХОЗ - ВА"
B2: наименование предприятия | N2: наименование источника питания
N3: _________________________________
B4: ул. Горького, 99 | I4: Таблица № 1 | O4: ТП 438
B5: адрес
A6: почасовых записей показаний электрических счетчиков
A7: в режимный день 17 ИЮНЯ 2020 г.
A8: 635 | B8: 634
A9: часы суток | B9: Активная энергия | J9: Реактивная энергия
B10: ЯЧ. 3 - ф. "Микрорайон-1" ввод № 1 | F10: яч. 13 - ф. "Микрорайон-2" ввод № 2 | J10: ЯЧ. 3 - ф. "Микрорайон-1" ввод № 1 | N10: яч. 13 - ф. "Микрорайон-2" ввод № 2
B11: Расчет. Коэф. | E11: 3600 | F11: Расчет. Коэф. | I11: 3600 | J11: Расчет. Коэф. | M11: =E11 -> 3600 | N11: Расчет. Коэф. | Q11: =I11 -> 3600
B12: показания счетчика | C12: разность | E12: расход эл.энергии за час | F12: показания счетчика | G12: разность | I12: расход эл.энергии за час | J12: показания счетчика | K12: разность | M12: расход эл.энергии за час | N12: показания счетчика | O12: разность | Q12: расход эл.энергии за час
A13: 1 | B13: 2 | C13: 3 | E13: 4 | F13: 5 | G13: 6 | I13: 7 | J13: 8 | K13: 9 | M13: 10 | N13: 11 | O13: 12 | Q13: 13
A14: 0
A15: 1 | E15: 115.56 | I15: 135.72 | M15: 46.08 | Q15: 54.72
A16: 2 | E16: 99.36 | I16: 122.04 | M16: 40.68 | Q16: 54.72
A17: 3 | E17: 80.28 | I17: 114.84 | M17: 39.6 | Q17: 56.52
A18: 4 | E18: 74.88 | I18: 108.36 | M18: 38.16 | Q18: 55.08
A19: 5 | E19: 74.52 | I19: 105.84 | M19: 37.08 | Q19: 52.2
A20: 6 | E20: 79.2 | I20: 126.72 | M20: 37.08 | Q20: 53.28
A21: 7 | E21: 97.92 | I21: 154.44 | M21: 37.08 | Q21: 52.92
A22: 8 | E22: 110.88 | I22: 169.92 | M22: 42.84 | Q22: 53.64
A23: 9 | E23: 132.12 | I23: 207.72 | M23: 41.04 | Q23: 54.36
A24: 10 | E24: 138.6 | I24: 208.44 | M24: 41.04 | Q24: 60.12
A25: 11 | E25: 143.64 | I25: 219.6 | M25: 43.2 | Q25: 56.88
A26: 12 | E26: 153.36 | I26: 207.72 | M26: 46.08 | Q26: 58.32
... A38: 24 | E38: 129.6 | I38: 171 | M38: 45.36 | Q38: 52.56
A39: Итого | E39: =SUM(E15:E38) -> 3054.24 | I39: =SUM(I15:I38) -> 4280.04 | M39: =SUM(M15:M38) -> 1095.12 | Q39: =SUM(Q15:Q38) -> 1381.68
A40: 1. При наличии на предприятии отклонений от нормальных режимов электропотребления (временное изменение схем питания, остановка на ремонт, резкое снижение
A41: эл.потребления и т.д.) последние необходимо перечислить.
A42: 2. При наличии нескольких источников питания и большого количества вводов таблица
A43: составляется самим предприятием с соблюдением всех пунктов настоящей таблицы. | K43: Главный инженер _____________________________ | Q43: А.А. Михалин

Sheet 12
B1: АО "Вологдаоблэнерго" | J1: код 900151 | N1: ГПП 110/10 кВ "ВОМЗ"
B2: наименование предприятия | N2: наименование источника питания
N3: _________________________________
B4: ул. Горького, 99 | I4: Таблица № 1 | O4: РП 29
B5: адрес
A6: почасовых записей показаний электрических счетчиков
A7: в режимный день 17 ИЮНЯ 2020 г.
A8: 613 | B8: 610
A9: часы суток | B9: Активная энергия | J9: Реактивная энергия
B10: ЯЧ.47 - РП 29 ввод № 1 | F10: ЯЧ.31 - РП 29 ввод № 2 | J10: ЯЧ.47 - РП 29 ввод № 1 | N10: ЯЧ.31 - РП 29 ввод № 2
B11: Расчет. Коэф. | E11: 12000 | F11: Расчет. Коэф. | I11: 20000 | J11: Расчет. Коэф. | M11: =E11 -> 12000 | N11: Расчет. Коэф. | Q11: =I11 -> 20000
B12: показания счетчика | C12: разность | E12: расход эл.энергии за час | F12: показания счетчика | G12: разность | I12: расход эл.энергии за час | J12: показания счетчика | K12: разность | M12: расход эл.энергии за час | N12: показания счетчика | O12: разность | Q12: расход эл.энергии за час
A13: 1 | B13: 2 | C13: 3 | E13: 4 | F13: 5 | G13: 6 | I13: 7 | J13: 8 | K13: 9 | M13: 10 | N13: 11 | O13: 12 | Q13: 13
A14: 0
A15: 1 | E15: 884 | I15: 622 | M15: 308 | Q15: 118
A16: 2 | E16: 796 | I16: 578 | M16: 298 | Q16: 114
A17: 3 | E17: 731 | I17: 502 | M17: 288 | Q17: 98
A18: 4 | E18: 698 | I18: 474 | M18: 276 | Q18: 90
A19: 5 | E19: 686 | I19: 472 | M19: 263 | Q19: 82
A20: 6 | E20: 728 | I20: 520 | M20: 266 | Q20: 82
A21: 7 | E21: 901 | I21: 602 | M21: 268 | Q21: 86
A22: 8 | E22: 1065 | I22: 728 | M22: 288 | Q22: 104
A23: 9 | E23: 1240 | I23: 978 | M23: 326 | Q23: 150
A24: 10 | E24: 1463 | I24: 1136 | M24: 359 | Q24: 180
A25: 11 | E25: 1527 | I25: 1206 | M25: 374 | Q25: 204
A26: 12 | E26: 1571 | I26: 1170 | M26: 386 | Q26: 204
... A38: 24 | E38: 992 | I38: 700 | M38: 271 | Q38: 104
A39: Итого | E39: =SUM(E15:E38) -> 29183 | I39: =SUM(I15:I38) -> 20794 | M39: =SUM(M15:M38) -> 7999 | Q39: =SUM(Q15:Q38) -> 3444
A40: 1. При наличии на предприятии отклонений от нормальных режимов электропотребления (временное изменение схем питания, остановка на ремонт, резкое снижение
A41: эл.потребления и т.д.) последние необходимо перечислить.
A42: 2. При наличии нескольких источников питания и большого количества вводов таблица
A43: составляется самим предприятием с соблюдением всех пунктов настоящей таблицы. | K43: Главный инженер ___________________ А.А. Михалин

Sheet 13
B1: АО "Вологдаоблэнерго" | J1: код 900151 | N1: ГПП 110/10 кВ "ВОМЗ"
B2: наименование предприятия | N2: наименование источника питания
N3: _________________________________
B4: ул. Горького, 99 | I4: Таблица № 1 | O4: РП 14
B5: адрес
A6: почасовых записей показаний электрических счетчиков
A7: в режимный день 17 ИЮНЯ 2020 г.
A8: 614 | B8: 615
A9: часы суток | B9: Активная энергия | J9: Реактивная энергия
B10: ЯЧ.5 - РП 14 ввод № 1 | F10: ЯЧ.22 - РП 14 ввод № 2 | J10: ЯЧ.5 - РП 14 ввод № 1 | N10: ЯЧ.22 - РП 14 ввод № 2
B11: Расчет. Коэф. | E11: 12000 | F11: Расчет. Коэф. | I11: 12000 | J11: Расчет. Коэф. | M11: =E11 -> 12000 | N11: Расчет. Коэф. | Q11: =I11 -> 12000
B12: показания счетчика | C12: разность | E12: расход эл.энергии за час | F12: показания счетчика | G12: разность | I12: расход эл.энергии за час | J12: показания счетчика | K12: разность | M12: расход эл.энергии за час | N12: показания счетчика | O12: разность | Q12: расход эл.энергии за час
A13: 1 | B13: 2 | C13: 3 | E13: 4 | F13: 5 | G13: 6 | I13: 7 | J13: 8 | K13: 9 | M13: 10 | N13: 11 | O13: 12 | Q13: 13
A14: 0
A15: 1 | E15: 1834 | I15: 1540 | M15: 285 | Q15: 235
A16: 2 | E16: 1667 | I16: 1434 | M16: 278 | Q16: 234
A17: 3 | E17: 1485 | I17: 1292 | M17: 270 | Q17: 217
A18: 4 | E18: 1380 | I18: 1243 | M18: 234 | Q18: 197
A19: 5 | E19: 1377 | I19: 1146 | M19: 222 | Q19: 165
A20: 6 | E20: 1465 | I20: 1203 | M20: 226 | Q20: 162
A21: 7 | E21: 1783 | I21: 1567 | M21: 227 | Q21: 183
A22: 8 | E22: 2036 | I22: 1872 | M22: 292 | Q22: 255
A23: 9 | E23: 2382 | I23: 2255 | M23: 383 | Q23: 362
A24: 10 | E24: 2712 | I24: 2451 | M24: 430 | Q24: 391
A25: 11 | E25: 2986 | I25: 2580 | M25: 468 | Q25: 435
A26: 12 | E26: 3028 | I26: 2662 | M26: 477 | Q26: 448
... A38: 24 | E38: 2188 | I38: 1770 | M38: 243 | Q38: 205
A39: Итого | E39: =SUM(E15:E38) -> 58719 | I39: =SUM(I15:I38) -> 49332 | M39: =SUM(M15:M38) -> 8783 | Q39: =SUM(Q15:Q38) -> 7813
A40: 1. При наличии на предприятии отклонений от нормальных режимов электропотребления (временное изменение схем питания, остановка на ремонт, резкое снижение
A41: эл.потребления и т.д.) последние необходимо перечислить.
A42: 2. При наличии нескольких источников питания и большого количества вводов таблица
A43: составляется самим предприятием с соблюдением всех пунктов настоящей таблицы. | K43: Главный инженер ___________________ А.А. Михалин

Sheet 14
B1: АО "Вологдаоблэнерго" | J1: код 900151 | N1: ГПП 110/10 кВ "ВОМЗ"
B2: наименование предприятия | N2: наименование источника питания
N3: _________________________________
B4: ул. Горького, 99 | I4: Таблица № 1 | O4: РП 2
B5: адрес
A6: почасовых записей показаний электрических счетчиков
A7: в режимный день 17 ИЮНЯ 2020 г.
A8: 612 | B8: 611
A9: часы суток | B9: Активная энергия | J9: Реактивная энергия
B10: ЯЧ.44 - РП 2 ввод № 1 | F10: ЯЧ.26в - РП 2 ввод № 2 | J10: ЯЧ.44 - РП 2 ввод № 1 | N10: ЯЧ.26в - РП 2 ввод № 2
B11: Расчет. Коэф. | E11: 12000 | F11: Расчет. Коэф. | I11: 12000 | J11: Расчет. Коэф. | M11: =E11 -> 12000 | N11: Расчет. Коэф. | Q11: =I11 -> 12000
B12: показания счетчика | C12: разность | E12: расход эл.энергии за час | F12: показания счетчика | G12: разность | I12: расход эл.энергии за час | J12: показания счетчика | K12: разность | M12: расход эл.энергии за час | N12: показания счетчика | O12: разность | Q12: расход эл.энергии за час
A13: 1 | B13: 2 | C13: 3 | E13: 4 | F13: 5 | G13: 6 | I13: 7 | J13: 8 | K13: 9 | M13: 10 | N13: 11 | O13: 12 | Q13: 13
A14: 0
A15: 1 | E15: 438 | I15: 387 | M15: 62 | Q15: 12
A16: 2 | E16: 380 | I16: 355 | M16: 58 | Q16: 13
A17: 3 | E17: 346 | I17: 306 | M17: 56 | Q17: 10
A18: 4 | E18: 340 | I18: 294 | M18: 58 | Q18: 5
A19: 5 | E19: 346 | I19: 296 | M19: 55 | Q19: 9
A20: 6 | E20: 356 | I20: 309 | M20: 52 | Q20: 16
A21: 7 | E21: 418 | I21: 393 | M21: 49 | Q21: 13
A22: 8 | E22: 466 | I22: 483 | M22: 64 | Q22: 30
A23: 9 | E23: 565 | I23: 568 | M23: 97 | Q23: 55
A24: 10 | E24: 648 | I24: 649 | M24: 111 | Q24: 86
A25: 11 | E25: 692 | I25: 664 | M25: 117 | Q25: 87
A26: 12 | E26: 705 | I26: 675 | M26: 116 | Q26: 89
... A38: 24 | E38: 515 | I38: 387 | M38: 54 | Q38: 2
A39: Итого | E39: =SUM(E15:E38) -> 13557 | I39: =SUM(I15:I38) -> 12027 | M39: =SUM(M15:M38) -> 2100 | Q39: =SUM(Q15:Q38) -> 978
A40: 1. При наличии на предприятии отклонений от нормальных режимов электропотребления (временное изменение схем питания, остановка на ремонт, резкое снижение
A41: эл.потребления и т.д.) последние необходимо перечислить.
A42: 2. При наличии нескольких источников питания и большого количества вводов таблица
A43: составляется самим предприятием с соблюдением всех пунктов настоящей таблицы. | K43: Главный инженер ___________________ А.А. Михалин

Sheet 15
B1: АО "Вологдаоблэнерго" | J1: код 900151 | N1: ПС ВОЛОГДА-ЮЖНАЯ РУ - 6 кВ
B2: наименование предприятия | N2: наименование источника питания
N3: _________________________________
B4: ул. Горького, 99 | I4: Таблица № 1 | N4: ТП 450 | Q4: ТП 630
B5: адрес
A6: почасовых записей показаний электрических счетчиков
A7: в режимный день 18 ДЕКАБРЯ 2019 г..
A8: 591 | B8: 595
A9: часы суток | B9: Активная энергия | J9: Реактивная энергия
B10: ЯЧ.№ 206 - "ГОРОД-15" | F10: ЯЧ.№103 - "ТУБДИСПАНСЕР" | J10: =B10 -> ЯЧ.№ 206 - "ГОРОД-15" | N10: =F10 -> ЯЧ.№103 - "ТУБДИСПАНСЕР"
B11: Расчет. Коэф. | E11: 4800 | F11: Расчет. Коэф. | I11: 2400 | J11: Расчет. Коэф. | M11: =E11 -> 4800 | N11: Расчет. Коэф. | Q11: =I11 -> 2400
B12: показания счетчика | C12: разность | E12: расход эл.энергии за час | F12: показания счетчика | G12: разность | I12: расход эл.энергии за час | J12: показания счетчика | K12: разность | M12: расход эл.энергии за час | N12: показания счетчика | O12: разность | Q12: расход эл.энергии за час
A13: 1 | B13: 2 | C13: 3 | E13: 4 | F13: 5 | G13: 6 | I13: 7 | J13: 8 | K13: 9 | M13: 10 | N13: 11 | O13: 12 | Q13: 13
A14: 0
A15: 1 | E15: 109 | I15: 373 | M15: 47 | Q15: 90
A16: 2 | E16: 73 | I16: 339 | M16: 24 | Q16: 91
A17: 3 | E17: 55 | I17: 272 | M17: 19 | Q17: 83
A18: 4 | E18: 52 | I18: 268 | M18: 18 | Q18: 80
A19: 5 | E19: 47 | I19: 292 | M19: 16 | Q19: 80
A20: 6 | E20: 55 | I20: 306 | M20: 17 | Q20: 80
A21: 7 | E21: 70 | I21: 369 | M21: 17 | Q21: 81
A22: 8 | E22: 114 | I22: 409 | M22: 44 | Q22: 92
A23: 9 | E23: 169 | I23: 515 | M23: 111 | Q23: 111
A24: 10 | E24: 242 | I24: 562 | M24: 173 | Q24: 134
A25: 11 | E25: 231 | I25: 605 | M25: 153 | Q25: 137
A26: 12 | E26: 234 | I26: 553 | M26: 163 | Q26: 137
... A38: 24 | E38: 118 | I38: 445 | M38: 50 | Q38: 102
A39: Итого | E39: =SUM(E15:E38) -> 3633 | I39: =SUM(I15:I38) -> 10764 | M39: =SUM(M15:M38) -> 2122 | Q39: =SUM(Q15:Q38) -> 2663
A40: 1. При наличии на предприятии отклонений от нормальных режимов электропотребления (временное изменение схем питания, остановка на ремонт, резкое снижение
A41: эл.потребления и т.д.) последние необходимо перечислить.
A42: 2. При наличии нескольких источников питания и большого количества вводов таблица
A43: составляется самим предприятием с соблюдением всех пунктов настоящей таблицы. | K43: Главный инженер ___________________ А.А. Михалин

Sheet 16
B1: АО "Вологдаоблэнерго" | J1: код 900151 | N1: ПС ВОЛОГДА-ЮЖНАЯ РУ-10 кВ
B2: наименование предприятия | I2: _ | N2: наименование источника питания
N3: _________________________________
B4: ул. Горького, 99 | I4: Таблица № 1 | O4: РП 32
B5: адрес
A6: почасовых записей показаний электрических счетчиков
A7: в режимный день 17 ИЮНЯ 2020 г.
A8: 590 | B8: 593
A9: часы суток | B9: Активная энергия | J9: Реактивная энергия
B10: ЯЧ.№206 - "ГОРОД-10" | F10: ЯЧ.№404- "ГОРОД-14" | J10: =B10 -> ЯЧ.№206 - "ГОРОД-10" | N10: =F10 -> ЯЧ.№404- "ГОРОД-14"
B11: Расчет. Коэф. | E11: 6000 | F11: Расчет. Коэф. | I11: 3000 | J11: Расчет. Коэф. | M11: =E11 -> 6000 | N11: Расчет. Коэф. | Q11: =I11 -> 3000
B12: показания счетчика | C12: разность | E12: расход эл.энергии за час | F12: показания счетчика | G12: разность | I12: расход эл.энергии за час | J12: показания счетчика | K12: разность | M12: расход эл.энергии за час | N12: показания счетчика | O12: разность | Q12: расход эл.энергии за час
A13: 1 | B13: 2 | C13: 3 | E13: 4 | F13: 5 | G13: 6 | I13: 7 | J13: 8 | K13: 9 | M13: 10 | N13: 11 | O13: 12 | Q13: 13
A14: 0
A15: 1 | E15: 483 | I15: 213 | M15: 64 | Q15: 44
A16: 2 | E16: 464 | I16: 210 | M16: 60 | Q16: 42
A17: 3 | E17: 455 | I17: 196 | M17: 55 | Q17: 42
A18: 4 | E18: 447 | I18: 181 | M18: 52 | Q18: 30
A19: 5 | E19: 430 | I19: 275 | M19: 45 | Q19: 29
A20: 6 | E20: 432 | I20: 264 | M20: 48 | Q20: 32
A21: 7 | E21: 484 | I21: 266 | M21: 51 | Q21: 39
A22: 8 | E22: 687 | I22: 324 | M22: 102 | Q22: 58
A23: 9 | E23: 986 | I23: 401 | M23: 159 | Q23: 75
A24: 10 | E24: 1101 | I24: 442 | M24: 211 | Q24: 92
A25: 11 | E25: 1084 | I25: 443 | M25: 220 | Q25: 82
A26: 12 | E26: 1024 | I26: 386 | M26: 191 | Q26: 83
... A38: 24 | E38: 348 | I38: 317 | M38: 103 | Q38: 0
A39: Итого | E39: =SUM(E15:E38) -> 14175 | I39: =SUM(I15:I38) -> 7369 | M39: =SUM(M15:M38) -> 2947 | Q39: =SUM(Q15:Q38) -> 1027
A40: 1. При наличии на предприятии отклонений от нормальных режимов электропотребления (временное изменение схем питания, остановка на ремонт, резкое снижение
A41: эл.потребления и т.д.) последние необходимо перечислить.
A42: 2. При наличии нескольких источников питания и большого количества вводов таблица
A43: составляется самим предприятием с соблюдением всех пунктов настоящей таблицы. | K43: Главный инженер ___________________ А.А. Михалин

Sheet 17
B1: АО "Вологдаоблэнерго" | J1: код 900151 | N1: ПС ВОЛОГДА-ЮЖНАЯ РУ- 6 кВ
B2: наименование предприятия | N2: наименование источника питания
N3: _________________________________
B4: ул. Горького, 99 | I4: Таблица № 1 | O4: ТП 461
B5: адрес
A6: почасовых записей показаний электрических счетчиков
A7: в режимный день 17 ИЮНЯ 2020 г.
A8: 594
A9: часы суток | B9: Активная энергия | J9: Реактивная энергия
B10: ЯЧ.№203 - "ГОРОД 20" | J10: ЯЧ.№203 - "ГОРОД 20"
B11: Расчет. Коэф. | E11: 7200 | F11: Расчет. Коэф. | I11: 0 | J11: Расчет. Коэф. | M11: =E11 -> 7200 | N11: Расчет. Коэф. | Q11: =I11 -> 0
B12: показания счетчика | C12: разность | E12: расход эл.энергии за час | F12: показания счетчика | G12: разность | I12: расход эл.энергии за час | J12: показания счетчика | K12: разность | M12: расход эл.энергии за час | N12: показания счетчика | O12: разность | Q12: расход эл.энергии за час
A13: 1 | B13: 2 | C13: 3 | E13: 4 | F13: 5 | G13: 6 | I13: 7 | J13: 8 | K13: 9 | M13: 10 | N13: 11 | O13: 12 | Q13: 13
A14: 0
A15: 1 | E15: 25 | M15: 3
A16: 2 | E16: 22 | M16: 2
A17: 3 | E17: 20 | M17: 2
A18: 4 | E18: 19 | M18: 1
A19: 5 | E19: 18 | M19: 2
A20: 6 | E20: 49 | M20: 4
A21: 7 | E21: 47 | M21: 4
A22: 8 | E22: 45 | M22: 3
A23: 9 | E23: 66 | M23: 4
A24: 10 | E24: 59 | M24: 5
A25: 11 | E25: 52 | M25: 6
A26: 12 | E26: 42 | M26: 5
... A38: 24 | E38: 27 | M38: 2
A39: Итого | E39: =SUM(E15:E38) -> 898 | M39: =SUM(M15:M38) -> 85
A40: 1. При наличии на предприятии отклонений от нормальных режимов электропотребления (временное изменение схем питания, остановка на ремонт, резкое снижение
A41: эл.потребления и т.д.) последние необходимо перечислить.
A42: 2. При наличии нескольких источников питания и большого количества вводов таблица
A43: составляется самим предприятием с соблюдением всех пунктов настоящей таблицы. | K43: Главный инженер ___________________ А.А. Михалин

Sheet 18
B1: АО "Вологдаоблэнерго" | J1: код 900151 | N1: ПС ВОЛОГДА-ЮЖНАЯ РУ-10 кВ
B2: наименование предприятия | N2: наименование источника питания
N3: _________________________________
B4: ул. Горького, 99 | I4: Таблица № 1 | O4: РП 26
B5: адрес
A6: почасовых записей показаний электрических счетчиков
A7: в режимный день 16 ДЕКАБРЯ 2015 __ г.
A8: 589 | B8: 592
A9: часы суток | B9: Активная энергия | J9: Реактивная энергия
B10: ЯЧ. № 107- ф."ГОРОД 7" | F10: ЯЧ. № 204 - ф."ГОРОД 17" | J10: ЯЧ. № 107- ф."ГОРОД 7" | N10: ЯЧ. № 204 - ф."ГОРОД 17"
B11: Расчет. Коэф. | E11: 8000 | F11: Расчет. Коэф. | I11: 8000 | J11: Расчет. Коэф. | M11: =E11 -> 8000 | N11: Расчет. Коэф. | Q11: =I11 -> 8000
B12: показания счетчика | C12: разность | E12: расход эл.энергии за час | F12: показания счетчика | G12: разность | I12: расход эл.энергии за час | J12: показания счетчика | K12: разность | M12: расход эл.энергии за час | N12: показания счетчика | O12: разность | Q12: расход эл.энергии за час
A13: 1 | B13: 2 | C13: 3 | E13: 4 | F13: 5 | G13: 6 | I13: 7 | J13: 8 | K13: 9 | M13: 10 | N13: 11 | O13: 12 | Q13: 13
A14: 0
A15: 1 | E15: 1210 | I15: 1035 | M15: 203 | Q15: 150
A16: 2 | E16: 1054 | I16: 911 | M16: 186 | Q16: 130
A17: 3 | E17: 951 | I17: 825 | M17: 182 | Q17: 129
A18: 4 | E18: 877 | I18: 784 | M18: 161 | Q18: 117
A19: 5 | E19: 870 | I19: 780 | M19: 152 | Q19: 106
A20: 6 | E20: 925 | I20: 850 | M20: 153 | Q20: 108
A21: 7 | E21: 1156 | I21: 1088 | M21: 168 | Q21: 121
A22: 8 | E22: 1312 | I22: 1213 | M22: 226 | Q22: 164
A23: 9 | E23: 1452 | I23: 1341 | M23: 235 | Q23: 284
A24: 10 | E24: 1567 | I24: 1455 | M24: 280 | Q24: 320
A25: 11 | E25: 1650 | I25: 1468 | M25: 298 | Q25: 272
A26: 12 | E26: 1683 | I26: 1490 | M26: 309 | Q26: 298
... A38: 24 | E38: 1470 | I38: 1215 | M38: 206 | Q38: 146
A39: Итого | E39: =SUM(E15:E38) -> 35428 | I39: =SUM(I15:I38) -> 31887 | M39: =SUM(M15:M38) -> 6385 | Q39: =SUM(Q15:Q38) -> 5509
A40: 1. При наличии на предприятии отклонений от нормальных режимов электропотребления (временное изменение схем питания, остановка на ремонт, резкое снижение
A41: эл.потребления и т.д.) последние необходимо перечислить.
A42: 2. При наличии нескольких источников питания и большого количества вводов таблица
A43: составляется самим предприятием с соблюдением всех пунктов настоящей таблицы. | K43: Главный инженер ___________________ А.А. Михалин

Sheet 19
B1: АО "Вологдаоблэнерго" | J1: код 900151 | N1: ПС ВОЛОГДА-ЮЖНАЯ РУ - 10 кВ
B2: наименование предприятия | N2: наименование источника питания
N3: _________________________________
B4: ул. Горького, 99 | I4: Таблица № 1 | O4: РП 43
B5: адрес
A6: почасовых записей показаний электрических счетчиков
A7: в режимный день 17 ИЮНЯ 2020 г.
A8: 597 | B8: 596
A9: часы суток | B9: Активная энергия | J9: Реактивная энергия
B10: ЯЧ.№ 407 - "ГОРОД-3" | F10: ЯЧ.№ 305 - "ГОРОД-5" | J10: ЯЧ.№ 407- "ГОРОД-3" | N10: ЯЧ.№ 305- "ГОРОД-5"
B11: Расчет. Коэф. | E11: 6000 | F11: Расчет. Коэф. | I11: 4000 | J11: Расчет. Коэф. | M11: =E11 -> 6000 | N11: Расчет. Коэф. | Q11: =I11 -> 4000
B12: показания счетчика | C12: разность | E12: расход эл.энергии за час | F12: показания счетчика | G12: разность | I12: расход эл.энергии за час | J12: показания счетчика | K12: разность | M12: расход эл.энергии за час | N12: показания счетчика | O12: разность | Q12: расход эл.энергии за час
A13: 1 | B13: 2 | C13: 3 | E13: 4 | F13: 5 | G13: 6 | I13: 7 | J13: 8 | K13: 9 | M13: 10 | N13: 11 | O13: 12 | Q13: 13
A14: 0
A15: 1 | E15: 1334 | I15: 1858 | M15: 217 | Q15: 440
A16: 2 | E16: 1210 | I16: 1672 | M16: 197 | Q16: 419
A17: 3 | E17: 1101 | I17: 1546 | M17: 189 | Q17: 402
A18: 4 | E18: 1042 | I18: 1471 | M18: 167 | Q18: 386
A19: 5 | E19: 1027 | I19: 1455 | M19: 155 | Q19: 363
A20: 6 | E20: 1076 | I20: 1549 | M20: 153 | Q20: 361
A21: 7 | E21: 1067 | I21: 1901 | M21: 125 | Q21: 400
A22: 8 | E22: 1625 | I22: 2029 | M22: 243 | Q22: 439
A23: 9 | E23: 2018 | I23: 2280 | M23: 319 | Q23: 462
A24: 10 | E24: 2217 | I24: 2557 | M24: 366 | Q24: 540
A25: 11 | E25: 2358 | I25: 2685 | M25: 399 | Q25: 586
A26: 12 | E26: 2396 | I26: 2706 | M26: 397 | Q26: 571
... A38: 24 | E38: 1531 | I38: 2136 | M38: 196 | Q38: 440
A39: Итого | E39: =SUM(E15:E38) -> 44615 | I39: =SUM(I15:I38) -> 55579 | M39: =SUM(M15:M38) -> 7231 | Q39: =SUM(Q15:Q38) -> 12502
A40: 1. При наличии на предприятии отклонений от нормальных режимов электропотребления (временное изменение схем питания, остановка на ремонт, резкое снижение
A41: эл.потребления и т.д.) последние необходимо перечислить.
A42: 2. При наличии нескольких источников питания и большого количества вводов таблица
A43: составляется самим предприятием с соблюдением всех пунктов настоящей таблицы. | K43: Главный инженер ___________________ А.А. Михалин

Sheet 20
B1: АО "Вологдаоблэнерго" | J1: код 900151 | N1: ПС ВОЛОГДА-ЮЖНАЯ РУ-10 кВ
B2: наименование предприятия | N2: наименование источника питания
N3: _________________________________
B4: ул. Горького, 99 | I4: Таблица № 1 | O4: РП 27
B5: адрес
A6: почасовых записей показаний электрических счетчиков
A7: в режимный день 16 ДЕКАБРЯ 2015 __ г.
A8: 30 | B8: 49
A9: часы суток | B9: Активная энергия | J9: Реактивная энергия
B10: ЯЧ. № 408 - "ГОРОД -1" | F10: ЯЧ.№ 105 - "РП 27" | J10: ЯЧ. № 408 - "ГОРОД -1" | N10: ЯЧ.№ 105 - "РП 27"
B11: Расчет. Коэф. | E11: 12000 | F11: Расчет. Коэф. | I11: 12000 | J11: Расчет. Коэф. | M11: =E11 -> 12000 | N11: Расчет. Коэф. | Q11: =I11 -> 12000
B12: показания счетчика | C12: разность | E12: расход эл.энергии за час | F12: показания счетчика | G12: разность | I12: расход эл.энергии за час | J12: показания счетчика | K12: разность | M12: расход эл.энергии за час | N12: показания счетчика | O12: разность | Q12: расход эл.энергии за час
A13: 1 | B13: 2 | C13: 3 | E13: 4 | F13: 5 | G13: 6 | I13: 7 | J13: 8 | K13: 9 | M13: 10 | N13: 11 | O13: 12 | Q13: 13
A14: 0
A15: 1 | E15: 0 | I15: 0 | M15: 0 | Q15: 0
A16: 2 | E16: 0 | I16: 0 | M16: 0 | Q16: 0
A17: 3 | E17: 0 | I17: 0 | M17: 0 | Q17: 0
A18: 4 | E18: 0 | I18: 0 | M18: 0 | Q18: 0
A19: 5 | E19: 0 | I19: 0 | M19: 0 | Q19: 0
A20: 6 | E20: 0 | I20: 0 | M20: 0 | Q20: 0
A21: 7 | E21: 0 | I21: 0 | M21: 0 | Q21: 0
A22: 8 | E22: 0 | I22: 0 | M22: 0 | Q22: 0
A23: 9 | E23: 0 | I23: 0 | M23: 0 | Q23: 0
A24: 10 | E24: 0 | I24: 0 | M24: 0 | Q24: 0
A25: 11 | E25: 0 | I25: 0 | M25: 0 | Q25: 0
A26: 12 | E26: 0 | I26: 0 | M26: 0 | Q26: 0
... A38: 24 | E38: 0 | I38: 0 | M38: 0 | Q38: 0
A39: Итого | E39: =SUM(E15:E38) -> 0 | I39: =SUM(I15:I38) -> 0 | M39: =SUM(M15:M38) -> 0 | Q39: =SUM(Q15:Q38) -> 0
A40: 1. При наличии на предприятии отклонений от нормальных режимов электропотребления (временное изменение схем питания, остановка на ремонт, резкое снижение
A41: эл.потребления и т.д.) последние необходимо перечислить.
A42: 2. При наличии нескольких источников питания и большого количества вводов таблица
A43: составляется самим предприятием с соблюдением всех пунктов настоящей таблицы. | K43: Главный инженер ___________________ А.А. Михалин

Sheet 21
B1: АО "Вологдаоблэнерго" | J1: код 900151 | N1: ПС ВОЛОГДА-ЮЖНАЯ РУ-10 кВ
B2: наименование предприятия | N2: наименование источника питания
N3: яч. 406 ф "РОДИОНЦЕВО", КТП-906
B4: ул. Горького, 99 | I4: Таблица № 1
B5: адрес
A6: почасовых записей показаний электрических счетчиков
A7: в режимный день 17 ИЮНЯ 2020 г.
A8: 362 | B8: 985
A9: часы суток | B9: Активная энергия | J9: Реактивная энергия
B10: яч. 406 ф "РОДИОНЦЕВО" - ПКУ | F10: КТП-906 | J10: яч. 406 ф "РОДИОНЦЕВО" - ПКУ | N10: КТП-906
B11: Расчет. Коэф. | E11: 2000 | F11: Расчет. Коэф. | I11: 80 | J11: Расчет. Коэф. | M11: =E11 -> 2000 | N11: Расчет. Коэф. | Q11: =I11 -> 80
B12: показания счетчика | C12: разность | E12: расход эл.энергии за час | F12: показания счетчика | G12: разность | I12: расход эл.энергии за час | J12: показания счетчика | K12: разность | M12: расход эл.энергии за час | N12: показания счетчика | O12: разность | Q12: расход эл.энергии за час
A13: 1 | B13: 2 | C13: 3 | E13: 4 | F13: 5 | G13: 6 | I13: 7 | J13: 8 | K13: 9 | M13: 10 | N13: 11 | O13: 12 | Q13: 13
A14: 0
A15: 1 | E15: 8 | I15: 10.76 | M15: 0 | Q15: 3
A16: 2 | E16: 7.4 | I16: 9.36 | M16: 0 | Q16: 2.88
A17: 3 | E17: 2.4 | I17: 9.2 | M17: 0 | Q17: 2.8
A18: 4 | E18: 2 | I18: 9 | M18: 0 | Q18: 2.88
A19: 5 | E19: 2.2 | I19: 8.12 | M19: 0 | Q19: 2.76
A20: 6 | E20: 2.2 | I20: 8.16 | M20: 0 | Q20: 2.36
A21: 7 | E21: 3.6 | I21: 9.36 | M21: 0 | Q21: 2.2
A22: 8 | E22: 9.4 | I22: 12.24 | M22: 0 | Q22: 2.8
A23: 9 | E23: 11.8 | I23: 15.52 | M23: 0 | Q23: 2.96
A24: 10 | E24: 9.4 | I24: 14.84 | M24: 0 | Q24: 3.24
A25: 11 | E25: 10.2 | I25: 13.44 | M25: 0 | Q25: 3
A26: 12 | E26: 10.4 | I26: 17.48 | M26: 0 | Q26: 2.84
... A38: 24 | E38: 8 | I38: 32.32 | M38: 0 | Q38: 3.76
A39: Итого | E39: =SUM(E15:E38) -> 174.4 | I39: =SUM(I15:I38) -> 372 | M39: =SUM(M15:M38) -> 0 | Q39: =SUM(Q15:Q38) -> 75.12
A40: 1. При наличии на предприятии отклонений от нормальных режимов электропотребления (временное изменение схем питания, остановка на ремонт, резкое снижение
A41: эл.потребления и т.д.) последние необходимо перечислить.
A42: 2. При наличии нескольких источников питания и большого количества вводов таблица
A43: составляется самим предприятием с соблюдением всех пунктов настоящей таблицы. | K43: Главный инженер ___________________ А.А. Михалин

Sheet 21_1
B1: АО "Вологдаоблэнерго" | J1: код 900151 | N1: ПС ВОЛОГДА-ЮЖНАЯ РУ-10 кВ
B2: наименование предприятия | N2: наименование источника питания
N3: РП-44
B4: ул. Горького, 99 | I4: Таблица № 1
B5: адрес
A6: почасовых записей показаний электрических счетчиков
A7: в режимный день 17 ИЮНЯ 2020 г.
A9: часы суток | B9: Активная энергия | J9: Реактивная энергия
B10: яч. 307 ф "Охмыльцево-1" | F10: яч. 409 ф "Охмыльцево-2" | J10: яч. 307 ф "Охмыльцево-1" | N10: яч. 409 ф "Охмыльцево-2"
B11: Расчет. Коэф. | F11: Расчет. Коэф. | J11: Расчет. Коэф. | N11: Расчет. Коэф.
B12: показания счетчика | C12: разность | E12: расход эл.энергии за час | F12: показания счетчика | G12: разность | I12: расход эл.энергии за час | J12: показания счетчика | K12: разность | M12: расход эл.энергии за час | N12: показания счетчика | O12: разность | Q12: расход эл.энергии за час
A13: 1 | B13: 2 | C13: 3 | E13: 4 | F13: 5 | G13: 6 | I13: 7 | J13: 8 | K13: 9 | M13: 10 | N13: 11 | O13: 12 | Q13: 13
A14: 0
A15: 1 | E15: 1 | I15: 757 | M15: 0 | Q15: 20
A16: 2 | E16: 1 | I16: 654 | M16: 0 | Q16: 11
A17: 3 | E17: 0 | I17: 588 | M17: 0 | Q17: 9
A18: 4 | E18: 1 | I18: 558 | M18: 0 | Q18: 0
A19: 5 | E19: 1 | I19: 546 | M19: 0 | Q19: 0
A20: 6 | E20: 1 | I20: 601 | M20: 0 | Q20: 1
A21: 7 | E21: 0 | I21: 795 | M21: 0 | Q21: 0
A22: 8 | E22: 1 | I22: 965 | M22: 0 | Q22: 15
A23: 9 | E23: 1 | I23: 1017 | M23: 0 | Q23: 61
A24: 10 | E24: 0 | I24: 1112 | M24: 0 | Q24: 90
A25: 11 | E25: 0 | I25: 1202 | M25: 0 | Q25: 119
A26: 12 | E26: 143 | I26: 1063 | M26: 9 | Q26: 106
... A38: 24 | E38: 918 | I38: 1 | M38: 4 | Q38: 0
A39: Итого | I39: =SUM(I15:I38) -> 9862 | M39: =SUM(M15:M38) -> 844 | Q39: =SUM(Q15:Q38) -> 432
A40: 1. При наличии на предприятии отклонений от нормальных режимов электропотребления (временное изменение схем питания, остановка на ремонт, резкое снижение
A41: эл.потребления и т.д.) последние необходимо перечислить.
A42: 2. При наличии нескольких источников питания и большого количества вводов таблица
A43: составляется самим предприятием с соблюдением всех пунктов настоящей таблицы. | K43: Главный инженер ___________________ А.А. Михалин

Sheet 22
B1: АО "Вологдаоблэнерго" | J1: код 900151 | M1: ПС ВОЛОГДА - ТЯГОВАЯ 110/27,5/6 кВ
B2: наименование предприятия | N2: наименование источника питания
N3: _________________________________
B4: ул. Горького, 99 | I4: Таблица № 1 | O4: ТП 450
A6: почасовых записей показаний электрических счетчиков
A7: в режимный день 17 ИЮНЯ 2020 г.
A8: 636
A9: часы суток | B9: Активная энергия | J9: Реактивная энергия
B10: ЯЧ. 1 - ТП 450 | J10: ЯЧ. 1 - ТП 450
B11: Расчет. Коэф. | E11: 7200 | F11: Расчет. Коэф. | I11: =Q11 -> 0 | J11: Расчет. Коэф. | M11: =E11 -> 7200 | N11: Расчет. Коэф. | Q11: 0
B12: показания счетчика | C12: разность | E12: расход эл.энергии за час | F12: показания счетчика | G12: разность | I12: расход эл.энергии за час | J12: показания счетчика | K12: разность | M12: расход эл.энергии за час | N12: показания счетчика | O12: разность | Q12: расход эл.энергии за час
A13: 1 | B13: 2 | C13: 3 | E13: 4 | F13: 5 | G13: 6 | I13: 7 | J13: 8 | K13: 9 | M13: 10 | N13: 11 | O13: 12 | Q13: 13
A14: 0
A15: 1 | E15: 0 | M15: 0
A16: 2 | E16: 0 | M16: 0
A17: 3 | E17: 0 | M17: 0
A18: 4 | E18: 0 | M18: 0
A19: 5 | E19: 0 | M19: 0
A20: 6 | E20: 0 | M20: 0
A21: 7 | E21: 0 | M21: 0
A22: 8 | E22: 0 | M22: 0
A23: 9 | E23: 0 | M23: 0
A24: 10 | E24: 0 | M24: 0
A25: 11 | E25: 0 | M25: 0
A26: 12 | E26: 0 | M26: 0
... A38: 24 | E38: 0 | M38: 0
A39: Итого | E39: =SUM(E15:E38) -> 0 | M39: =SUM(M15:M38) -> 0
A40: 1. При наличии на предприятии отклонений от нормальных режимов электропотребления (временное изменение схем питания, остановка на ремонт, резкое снижение
A41: эл.потребления и т.д.) последние необходимо перечислить.
A42: 2. При наличии нескольких источников питания и большого количества вводов таблица
A43: составляется самим предприятием с соблюдением всех пунктов настоящей таблицы. | K43: Главный инженер ___________________ А.А. Михалин

Sheet 23
B1: АО "Вологдаоблэнерго" | I1: код 900151 | K1: ТГК -2 "ВТЭЦ" РП 6 кВ танзит через ТП 10 СЖД ОАО РЖД
B2: наименование предприятия | N2: наименование источника питания
N3: _________________________________
B4: ул. Горького, 99 | I4: Таблица № 1 | O4: ТП 238; ТП 651
A6: почасовых записей показаний электрических счетчиков
A7: в режимный день 17 ИЮНЯ 2020 г.
A8: 640 | B8: 641
A9: часы суток | B9: Активная энергия | J9: Реактивная энергия
B10: ЯЧ.5 - ТП 238 | F10: ЯЧ.7 - ТП 651 | J10: ЯЧ.5 - ТП 238 | N10: ЯЧ.7 - ТП 651
B11: Расчет. Коэф. | E11: 1800 | F11: Расчет. Коэф. | I11: 1800 | J11: Расчет. Коэф. | M11: =E11 -> 1800 | N11: Расчет. Коэф. | Q11: =I11 -> 1800
B12: показания счетчика | C12: разность | E12: расход эл.энергии за час | F12: показания счетчика | G12: разность | I12: расход эл.энергии за час | J12: показания счетчика | K12: разность | M12: расход эл.энергии за час | N12: показания счетчика | O12: разность | Q12: расход эл.энергии за час
A13: 1 | B13: 2 | C13: 3 | E13: 4 | F13: 5 | G13: 6 | I13: 7 | J13: 8 | K13: 9 | M13: 10 | N13: 11 | O13: 12 | Q13: 13
A14: 0
A15: 1 | E15: 106.74 | I15: 244.98 | M15: 27.72 | Q15: 90
A16: 2 | E16: 95.94 | I16: 219.24 | M16: 25.74 | Q16: 89.1
A17: 3 | E17: 76.86 | I17: 187.92 | M17: 23.94 | Q17: 89.1
A18: 4 | E18: 72.9 | I18: 177.84 | M18: 22.68 | Q18: 87.12
A19: 5 | E19: 69.12 | I19: 177.48 | M19: 21.6 | Q19: 84.96
A20: 6 | E20: 73.62 | I20: 187.56 | M20: 22.5 | Q20: 83.16
A21: 7 | E21: 93.6 | I21: 235.08 | M21: 27.36 | Q21: 84.24
A22: 8 | E22: 138.24 | I22: 271.44 | M22: 49.68 | Q22: 95.76
A23: 9 | E23: 141.48 | I23: 293.4 | M23: 48.78 | Q23: 99
A24: 10 | E24: 150.66 | I24: 313.38 | M24: 46.26 | Q24: 93.06
A25: 11 | E25: 154.26 | I25: 319.5 | M25: 50.04 | Q25: 95.22
A26: 12 | E26: 169.2 | I26: 331.38 | M26: 60.3 | Q26: 116.64
... A38: 24 | E38: 147.06 | I38: 285.12 | M38: 41.4 | Q38: 89.28
A39: Итого | E39: =SUM(E15:E38) -> 3707.28 | I39: =SUM(I15:I38) -> 7024.68 | M39: =SUM(M15:M38) -> 1204.2 | Q39: =SUM(Q15:Q38) -> 2452.68
A40: 1. При наличии на предприятии отклонений от нормальных режимов электропотребления (временное изменение схем питания, остановка на ремонт, резкое снижение
A41: эл.потребления и т.д.) последние необходимо перечислить.
A42: 2. При наличии нескольких источников питания и большого количества вводов таблица
A43: составляется самим предприятием с соблюдением всех пунктов настоящей таблицы. | K43: Главный инженер ___________________ А.А. Михалин

Sheet 24
B1: АО "Вологдаоблэнерго" | G1: код 900151 | I1: ГПП ВОЛОГДА -ТЯГОВАЯ СЖД 110 /27,5/6 кВ транзит через ТП 34 СЖД ОАО РЖД
B2: наименование предприятия | N2: наименование источника питания
N3: _________________________________
B4: ул. Горького, 99 | I4: Таблица № 1 | O4: ТП 660; ТП 662
A6: почасовых записей показаний электрических счетчиков
A7: в режимный день 17 ИЮНЯ 2020 г.
A8: 637 | B8: 639
A9: часы суток | B9: Активная энергия | J9: Реактивная энергия
B10: ЯЧ.2 - ТП 660 | F10: ЯЧ.6 - ТП 662 | J10: ЯЧ.2 - ТП 660 | N10: ЯЧ.6 - ТП 662
B11: Расчет. Коэф. | E11: 2400 | F11: Расчет. Коэф. | I11: 2400 | J11: Расчет. Коэф. | M11: =E11 -> 2400 | N11: Расчет. Коэф. | Q11: =I11 -> 2400
B12: показания счетчика | C12: разность | E12: расход эл.энергии за час | F12: показания счетчика | G12: разность | I12: расход эл.энергии за час | J12: показания счетчика | K12: разность | M12: расход эл.энергии за час | N12: показания счетчика | O12: разность | Q12: расход эл.энергии за час
A13: 1 | B13: 2 | C13: 3 | E13: 4 | F13: 5 | G13: 6 | I13: 7 | J13: 8 | K13: 9 | M13: 10 | N13: 11 | O13: 12 | Q13: 13
A14: 0
A15: 1 | E15: 341.76 | I15: 263.52 | M15: 149.28 | Q15: 75.12
A16: 2 | E16: 311.76 | I16: 230.64 | M16: 146.16 | Q16: 70.32
A17: 3 | E17: 264 | I17: 208.8 | M17: 140.88 | Q17: 68.4
A18: 4 | E18: 256.08 | I18: 196.56 | M18: 137.04 | Q18: 65.76
A19: 5 | E19: 251.76 | I19: 196.32 | M19: 132.96 | Q19: 62.16
A20: 6 | E20: 263.04 | I20: 212.16 | M20: 134.16 | Q20: 61.68
A21: 7 | E21: 311.28 | I21: 273.12 | M21: 130.08 | Q21: 65.52
A22: 8 | E22: 339.6 | I22: 363.84 | M22: 132.24 | Q22: 90.72
A23: 9 | E23: 348.48 | I23: 361.92 | M23: 125.52 | Q23: 93.36
A24: 10 | E24: 390.96 | I24: 380.16 | M24: 147.12 | Q24: 112.56
A25: 11 | E25: 425.76 | I25: 420.24 | M25: 155.52 | Q25: 121.44
A26: 12 | E26: 426.72 | I26: 420 | M26: 157.44 | Q26: 122.4
... A38: 24 | E38: 396.72 | I38: 288.48 | M38: 148.56 | Q38: 67.68
A39: Итого | E39: =SUM(E15:E38) -> 9451.44 | I39: =SUM(I15:I38) -> 8632.08 | M39: =SUM(M15:M38) -> 3657.84 | Q39: =SUM(Q15:Q38) -> 2488.56
A40: 1. При наличии на предприятии отклонений от нормальных режимов электропотребления (временное изменение схем питания, остановка на ремонт, резкое снижение
A41: эл.потребления и т.д.) последние необходимо перечислить.
A42: 2. При наличии нескольких источников питания и большого количества вводов таблица
A43: составляется самим предприятием с соблюдением всех пунктов настоящей таблицы. | K43: Главный инженер ___________________ А.А. Михалин

Sheet 25
B1: АО "Вологдаоблэнерго" | J1: код 900151 | N1: ТГК-2 ВТЭЦ РП 6 кВ
B2: наименование предприятия | N2: наименование источника питания
N3: _________________________________
B4: ул. Горького, 99 | I4: Таблица № 1 | O4: РП 3
B5: адрес
A6: почасовых записей показаний электрических счетчиков
A7: в режимный день 17 ИЮНЯ 2020 г.
A8: 381 | B8: 384
A9: часы суток | B9: Активная энергия | J9: Реактивная энергия
B10: ЯЧ.10 - РП 3 ввод № 1 | F10: ЯЧ. 115 - РП 3 ввод № 2 | J10: ЯЧ.10 - РП 3 ввод № 1 | N10: ЯЧ. 115 - РП 3 ввод № 2
B11: Расчет. Коэф. | E11: 7200 | F11: Расчет. Коэф. | I11: 3600 | J11: Расчет. Коэф. | M11: =E11 -> 7200 | N11: Расчет. Коэф. | Q11: =I11 -> 3600
B12: показания счетчика | C12: разность | E12: расход эл.энергии за час | F12: показания счетчика | G12: разность | I12: расход эл.энергии за час | J12: показания счетчика | K12: разность | M12: расход эл.энергии за час | N12: показания счетчика | O12: разность | Q12: расход эл.энергии за час
A13: 1 | B13: 2 | C13: 3 | E13: 4 | F13: 5 | G13: 6 | I13: 7 | J13: 8 | K13: 9 | M13: 10 | N13: 11 | O13: 12 | Q13: 13
A14: 0
A15: 1 | E15: 904 | I15: 232 | M15: 493 | Q15: 88
A16: 2 | E16: 661 | I16: 226 | M16: 309 | Q16: 85
A17: 3 | E17: 645 | I17: 204 | M17: 310 | Q17: 85
A18: 4 | E18: 561 | I18: 198 | M18: 272 | Q18: 81
A19: 5 | E19: 516 | I19: 187 | M19: 261 | Q19: 76
A20: 6 | E20: 547 | I20: 191 | M20: 259 | Q20: 75
A21: 7 | E21: 634 | I21: 217 | M21: 273 | Q21: 76
A22: 8 | E22: 912 | I22: 299 | M22: 399 | Q22: 101
A23: 9 | E23: 1453 | I23: 385 | M23: 673 | Q23: 138
A24: 10 | E24: 1599 | I24: 412 | M24: 664 | Q24: 140
A25: 11 | E25: 1664 | I25: 431 | M25: 731 | Q25: 148
A26: 12 | E26: 1590 | I26: 396 | M26: 746 | Q26: 157
... A38: 24 | E38: 1023 | I38: 61 | M38: 576 | Q38: 22
A39: Итого | E39: =SUM(E15:E38) -> 26461 | I39: =SUM(I15:I38) -> 7101 | M39: =SUM(M15:M38) -> 13131 | Q39: =SUM(Q15:Q38) -> 2886
A40: 1. При наличии на предприятии отклонений от нормальных режимов электропотребления (временное изменение схем питания, остановка на ремонт, резкое снижение
A41: эл.потребления и т.д.) последние необходимо перечислить.
A42: 2. При наличии нескольких источников питания и большого количества вводов таблица
A43: составляется самим предприятием с соблюдением всех пунктов настоящей таблицы. | K43: Главный инженер ___________________ А.А. Михалин

Sheet 26
B1: АО "Вологдаоблэнерго" | J1: код 900151 | N1: ТГК-2 ВТЭЦ РП 6 кВ
B2: наименование предприятия | N2: наименование источника питания
N3: _________________________________
B4: ул. Горького, 99 | I4: Таблица № 1 | O4: РП 23
B5: адрес
A6: почасовых записей показаний электрических счетчиков
A7: в режимный день 17 ИЮНЯ 2020 г.
A8: 385 | B8: 383
A9: часы суток | B9: Активная энергия | J9: Реактивная энергия
B10: ЯЧ. 114 - РП 23 ввод № 1 | F10: ЯЧ. 107 - РП 23 ввод № 2 | J10: ЯЧ. 114 - РП 23 ввод № 1 | N10: ЯЧ. 107 - РП 23 ввод № 2
B11: Расчет. Коэф. | E11: 3600 | F11: Расчет. Коэф. | I11: 3600 | J11: Расчет. Коэф. | M11: =E11 -> 3600 | N11: Расчет. Коэф. | Q11: =I11 -> 3600
B12: показания счетчика | C12: разность | E12: расход эл.энергии за час | F12: показания счетчика | G12: разность | I12: расход эл.энергии за час | J12: показания счетчика | K12: разность | M12: расход эл.энергии за час | N12: показания счетчика | O12: разность | Q12: расход эл.энергии за час
A13: 1 | B13: 2 | C13: 3 | E13: 4 | F13: 5 | G13: 6 | I13: 7 | J13: 8 | K13: 9 | M13: 10 | N13: 11 | O13: 12 | Q13: 13
A14: 0
A15: 1 | E15: 701 | I15: 846 | M15: 640 | Q15: 448
A16: 2 | E16: 667 | I16: 851 | M16: 617 | Q16: 450
A17: 3 | E17: 687 | I17: 840 | M17: 639 | Q17: 451
A18: 4 | E18: 620 | I18: 847 | M18: 604 | Q18: 454
A19: 5 | E19: 531 | I19: 839 | M19: 523 | Q19: 444
A20: 6 | E20: 529 | I20: 858 | M20: 527 | Q20: 455
A21: 7 | E21: 498 | I21: 854 | M21: 481 | Q21: 448
A22: 8 | E22: 572 | I22: 888 | M22: 549 | Q22: 446
A23: 9 | E23: 830 | I23: 919 | M23: 728 | Q23: 476
A24: 10 | E24: 838 | I24: 933 | M24: 687 | Q24: 478
A25: 11 | E25: 753 | I25: 739 | M25: 633 | Q25: 402
A26: 12 | E26: 882 | I26: 937 | M26: 799 | Q26: 507
... A38: 24 | E38: 667 | I38: 909 | M38: 636 | Q38: 474
A39: Итого | E39: =SUM(E15:E38) -> 16366 | I39: =SUM(I15:I38) -> 21443 | M39: =SUM(M15:M38) -> 15227 | Q39: =SUM(Q15:Q38) -> 11390
A40: 1. При наличии на предприятии отклонений от нормальных режимов электропотребления (временное изменение схем питания, остановка на ремонт, резкое снижение
A41: эл.потребления и т.д.) последние необходимо перечислить.
A42: 2. При наличии нескольких источников питания и большого количества вводов таблица
A43: составляется самим предприятием с соблюдением всех пунктов настоящей таблицы. | K43: Главный инженер ___________________ А.А. Михалин

Sheet 27
B1: АО "Вологдаоблэнерго" | J1: код 900151 | N1: ТГК-2 ВТЭЦ РП 6 кВ
B2: наименование предприятия | N2: наименование источника питания
N3: _________________________________
B4: ул. Горького, 99 | I4: Таблица № 1 | O4: ТП 217 ^ ТП 595
B5: адрес
A6: почасовых записей показаний электрических счетчиков
A7: в режимный день 17 ИЮНЯ 2020 г.
A8: 375
A9: часы суток | B9: Активная энергия | J9: Реактивная энергия
B10: ЯЧ. 3 - ТП 217 ^ ТП 595 | J10: ЯЧ. 3 - ТП 217 ^ ТП 595
B11: Расчет. Коэф. | E11: 3600 | F11: Расчет. Коэф. | I11: 0 | J11: Расчет. Коэф. | M11: =E11 -> 3600 | N11: Расчет. Коэф. | Q11: =I11 -> 0
B12: показания счетчика | C12: разность | E12: расход эл.энергии за час | F12: показания счетчика | G12: разность | I12: расход эл.энергии за час | J12: показания счетчика | K12: разность | M12: расход эл.энергии за час | N12: показания счетчика | O12: разность | Q12: расход эл.энергии за час
A13: 1 | B13: 2 | C13: 3 | E13: 4 | F13: 5 | G13: 6 | I13: 7 | J13: 8 | K13: 9 | M13: 10 | N13: 11 | O13: 12 | Q13: 13
A14: 0
A15: 1 | E15: 296 | M15: 69
A16: 2 | E16: 263 | M16: 63
A17: 3 | E17: 231 | M17: 62
A18: 4 | E18: 217 | M18: 59
A19: 5 | E19: 211 | M19: 56
A20: 6 | E20: 221 | M20: 55
A21: 7 | E21: 273 | M21: 53
A22: 8 | E22: 343 | M22: 71
A23: 9 | E23: 374 | M23: 84
A24: 10 | E24: 408 | M24: 70
A25: 11 | E25: 421 | M25: 76
A26: 12 | E26: 440 | M26: 90
... A38: 24 | E38: 338 | M38: 74
A39: Итого | E39: =SUM(E15:E38) -> 8747 | M39: =SUM(M15:M38) -> 1869
A40: 1. При наличии на предприятии отклонений от нормальных режимов электропотребления (временное изменение схем питания, остановка на ремонт, резкое снижение
A41: эл.потребления и т.д.) последние необходимо перечислить.
A42: 2. При наличии нескольких источников питания и большого количества вводов таблица
A43: составляется самим предприятием с соблюдением всех пунктов настоящей таблицы. | K43: Главный инженер ___________________ А.А. Михалин

Sheet 28
B1: АО "Вологдаоблэнерго" | J1: код 900151 | N1: ТГК-2 ВТЭЦ РП 6 кВ
B2: наименование предприятия | N2: наименование источника питания
N3: _________________________________
B4: ул. Горького, 99 | I4: Таблица № 1 | O4: РП 8
B5: адрес
A6: почасовых записей показаний электрических счетчиков
A7: в режимный день 17 ИЮНЯ 2020 г.
A8: 378 | B8: 382
A9: часы суток | B9: Активная энергия | J9: Реактивная энергия
B10: ЯЧ. 5 - РП 8 ввод № 1 | F10: ЯЧ. 12 - РП 8 ввод № 2 | J10: ЯЧ. 5 - РП 8 ввод № 1 | N10: ЯЧ. 12 - РП 8 ввод № 2
B11: Расчет. Коэф. | E11: 3600 | F11: Расчет. Коэф. | I11: 3600 | J11: Расчет. Коэф. | M11: =E11 -> 3600 | N11: Расчет. Коэф. | Q11: =I11 -> 3600
B12: показания счетчика | C12: разность | E12: расход эл.энергии за час | F12: показания счетчика | G12: разность | I12: расход эл.энергии за час | J12: показания счетчика | K12: разность | M12: расход эл.энергии за час | N12: показания счетчика | O12: разность | Q12: расход эл.энергии за час
A13: 1 | B13: 2 | C13: 3 | E13: 4 | F13: 5 | G13: 6 | I13: 7 | J13: 8 | K13: 9 | M13: 10 | N13: 11 | O13: 12 | Q13: 13
A14: 0
A15: 1 | E15: 1171 | I15: 872 | M15: 298 | Q15: 316
A16: 2 | E16: 1256 | I16: 804 | M16: 419 | Q16: 315
A17: 3 | E17: 1174 | I17: 747 | M17: 433 | Q17: 308
A18: 4 | E18: 997 | I18: 720 | M18: 330 | Q18: 295
A19: 5 | E19: 954 | I19: 711 | M19: 307 | Q19: 292
A20: 6 | E20: 1116 | I20: 739 | M20: 353 | Q20: 284
A21: 7 | E21: 1248 | I21: 898 | M21: 353 | Q21: 284
A22: 8 | E22: 1476 | I22: 1112 | M22: 388 | Q22: 326
A23: 9 | E23: 1576 | I23: 1353 | M23: 326 | Q23: 341
A24: 10 | E24: 1675 | I24: 1488 | M24: 280 | Q24: 320
A25: 11 | E25: 1754 | I25: 1513 | M25: 299 | Q25: 328
A26: 12 | E26: 1820 | I26: 1584 | M26: 381 | Q26: 408
... A38: 24 | E38: 1008 | I38: 975 | M38: 265 | Q38: 318
A39: Итого | E39: =SUM(E15:E38) -> 35161 | I39: =SUM(I15:I38) -> 28959 | M39: =SUM(M15:M38) -> 8479 | Q39: =SUM(Q15:Q38) -> 8300
A40: 1. При наличии на предприятии отклонений от нормальных режимов электропотребления (временное изменение схем питания, остановка на ремонт, резкое снижение
A41: эл.потребления и т.д.) последние необходимо перечислить.
A42: 2. При наличии нескольких источников питания и большого количества вводов таблица
A43: составляется самим предприятием с соблюдением всех пунктов настоящей таблицы. | K43: Главный инженер ___________________ А.А. Михалин

Sheet 29
B1: АО "Вологдаоблэнерго" | J1: код 900151 | N1: ТГК-2 ВТЭЦ РП 6 кВ
B2: наименование предприятия | N2: наименование источника питания
N3: _________________________________
B4: ул. Горького, 99 | I4: Таблица № 1 | O4: РП 20
B5: адрес
A6: почасовых записей показаний электрических счетчиков
A7: в режимный день 17 ИЮНЯ 2020 г.
A8: 380 | B8: 379
A9: часы суток | B9: Активная энергия | J9: Реактивная энергия
B10: ЯЧ. 4- РП 20 ввод № 1 | F10: ЯЧ. 7 - РП 20 ввод № 2 | J10: ЯЧ. 4- РП 20 ввод № 1 | N10: ЯЧ. 7 - РП 20 ввод № 2
B11: Расчет. Коэф. | E11: 3600 | F11: Расчет. Коэф. | I11: 3600 | J11: Расчет. Коэф. | M11: =E11 -> 3600 | N11: Расчет. Коэф. | Q11: =I11 -> 3600
B12: показания счетчика | C12: разность | E12: расход эл.энергии за час | F12: показания счетчика | G12: разность | I12: расход эл.энергии за час | J12: показания счетчика | K12: разность | M12: расход эл.энергии за час | N12: показания счетчика | O12: разность | Q12: расход эл.энергии за час
A13: 1 | B13: 2 | C13: 3 | E13: 4 | F13: 5 | G13: 6 | I13: 7 | J13: 8 | K13: 9 | M13: 10 | N13: 11 | O13: 12 | Q13: 13
A14: 0
A15: 1 | E15: 155 | I15: 21 | M15: 45 | Q15: 6
A16: 2 | E16: 144 | I16: 20 | M16: 46 | Q16: 5
A17: 3 | E17: 137 | I17: 20 | M17: 46 | Q17: 6
A18: 4 | E18: 128 | I18: 19 | M18: 45 | Q18: 5
A19: 5 | E19: 123 | I19: 20 | M19: 44 | Q19: 5
A20: 6 | E20: 140 | I20: 20 | M20: 42 | Q20: 5
A21: 7 | E21: 192 | I21: 23 | M21: 45 | Q21: 5
A22: 8 | E22: 207 | I22: 28 | M22: 56 | Q22: 6
A23: 9 | E23: 259 | I23: 42 | M23: 58 | Q23: 5
A24: 10 | E24: 301 | I24: 54 | M24: 54 | Q24: 3
A25: 11 | E25: 293 | I25: 60 | M25: 57 | Q25: 2
A26: 12 | E26: 291 | I26: 62 | M26: 73 | Q26: 5
... A38: 24 | E38: 176 | I38: 184 | M38: 52 | Q38: 83
A39: Итого | E39: =SUM(E15:E38) -> 5369 | I39: =SUM(I15:I38) -> 1071 | M39: =SUM(M15:M38) -> 1461 | Q39: =SUM(Q15:Q38) -> 202
A40: 1. При наличии на предприятии отклонений от нормальных режимов электропотребления (временное изменение схем питания, остановка на ремонт, резкое снижение
A41: эл.потребления и т.д.) последние необходимо перечислить.
A42: 2. При наличии нескольких источников питания и большого количества вводов таблица
A43: составляется самим предприятием с соблюдением всех пунктов настоящей таблицы. | K43: Главный инженер ___________________ А.А. Михалин

Sheet 30
B1: АО "Вологдаоблэнерго" | J1: код 900151 | N1: ПС "ЦЕНТРАЛЬНАЯ" 110/6 кВ
B2: наименование предприятия | N2: наименование источника питания
N3: _________________________________
B4: ул. Горького, 99 | I4: Таблица № 1 | O4: ТП 54
B5: адрес
A6: почасовых записей показаний электрических счетчиков
A7: в режимный день 17 ИЮНЯ 2020 г.
A8: 1520 | B8: 1526
A9: часы суток | B9: Активная энергия | J9: Реактивная энергия
B10: ЯЧ.4 - ТП 54 -Ι ввод № 1 | F10: ЯЧ. 30 - ТП 54 - ΙΙ ввод № 2 | J10: ЯЧ.4 - ТП 54 -Ι ввод № 1 | N10: ЯЧ. 30 - ТП 54 - ΙΙ ввод № 2
B11: Расчет. Коэф. | E11: 2400 | F11: Расчет. Коэф. | I11: 4800 | J11: Расчет. Коэф. | M11: =E11 -> 2400 | N11: Расчет. Коэф. | Q11: =I11 -> 4800
B12: показания счетчика | C12: разность | E12: расход эл.энергии за час | F12: показания счетчика | G12: разность | I12: расход эл.энергии за час | J12: показания счетчика | K12: разность | M12: расход эл.энергии за час | N12: показания счетчика | O12: разность | Q12: расход эл.энергии за час
A13: 1 | B13: 2 | C13: 3 | E13: 4 | F13: 5 | G13: 6 | I13: 7 | J13: 8 | K13: 9 | M13: 10 | N13: 11 | O13: 12 | Q13: 13
A14: 0
A15: 1 | E15: 167 | I15: 180 | M15: 54 | Q15: 104
A16: 2 | E16: 163 | I16: 185 | M16: 52 | Q16: 103
A17: 3 | E17: 163 | I17: 170 | M17: 56 | Q17: 98
A18: 4 | E18: 144 | I18: 162 | M18: 45 | Q18: 95
A19: 5 | E19: 146 | I19: 151 | M19: 42 | Q19: 94
A20: 6 | E20: 153 | I20: 148 | M20: 41 | Q20: 92
A21: 7 | E21: 206 | I21: 173 | M21: 48 | Q21: 96
A22: 8 | E22: 266 | I22: 202 | M22: 51 | Q22: 100
A23: 9 | E23: 366 | I23: 263 | M23: 61 | Q23: 116
A24: 10 | E24: 431 | I24: 284 | M24: 74 | Q24: 136
A25: 11 | E25: 417 | I25: 314 | M25: 76 | Q25: 145
A26: 12 | E26: 419 | I26: 328 | M26: 75 | Q26: 156
... A38: 24 | E38: 168 | I38: 217 | M38: 54 | Q38: 103
A39: Итого | E39: =SUM(E15:E38) -> 6574 | I39: =SUM(I15:I38) -> 5724 | M39: =SUM(M15:M38) -> 1436 | Q39: =SUM(Q15:Q38) -> 2887
A40: 1. При наличии на предприятии отклонений от нормальных режимов электропотребления (временное изменение схем питания, остановка на ремонт, резкое снижение
A41: эл.потребления и т.д.) последние необходимо перечислить.
A42: 2. При наличии нескольких источников питания и большого количества вводов таблица
A43: составляется самим предприятием с соблюдением всех пунктов настоящей таблицы. | K43: Главный инженер ___________________ А.А. Михалин

Sheet 31
B1: АО "Вологдаоблэнерго" | J1: код 900151 | N1: ПС "ЦЕНТРАЛЬНАЯ" 110/6 кВ
B2: наименование предприятия | N2: наименование источника питания
N3: _________________________________
B4: ул. Горького, 99 | I4: Таблица № 1 | O4: РП 13
B5: адрес
A6: почасовых записей показаний электрических счетчиков
A7: в режимный день 17 ИЮНЯ 2020 г.
A8: 1522 | B8: 1523
A9: часы суток | B9: Активная энергия | J9: Реактивная энергия
B10: ЯЧ. 14 - РП 13- Ι | F10: ЯЧ. 22 - РП 13- ΙΙ | J10: ЯЧ. 14 - РП 13- Ι | N10: ЯЧ. 22 - РП 13- ΙΙ
B11: Расчет. Коэф. | E11: 7200 | F11: Расчет. Коэф. | I11: 7200 | J11: Расчет. Коэф. | M11: =E11 -> 7200 | N11: Расчет. Коэф. | Q11: =I11 -> 7200
B12: показания счетчика | C12: разность | E12: расход эл.энергии за час | F12: показания счетчика | G12: разность | I12: расход эл.энергии за час | J12: показания счетчика | K12: разность | M12: расход эл.энергии за час | N12: показания счетчика | O12: разность | Q12: расход эл.энергии за час
A13: 1 | B13: 2 | C13: 3 | E13: 4 | F13: 5 | G13: 6 | I13: 7 | J13: 8 | K13: 9 | M13: 10 | N13: 11 | O13: 12 | Q13: 13
A14: 0
A15: 1 | E15: 857 | I15: 877 | M15: 197 | Q15: 199
A16: 2 | E16: 787 | I16: 803 | M16: 189 | Q16: 157
A17: 3 | E17: 714 | I17: 753 | M17: 179 | Q17: 177
A18: 4 | E18: 686 | I18: 688 | M18: 170 | Q18: 132
A19: 5 | E19: 690 | I19: 685 | M19: 159 | Q19: 123
A20: 6 | E20: 730 | I20: 756 | M20: 160 | Q20: 154
A21: 7 | E21: 840 | I21: 775 | M21: 172 | Q21: 119
A22: 8 | E22: 1098 | I22: 1032 | M22: 197 | Q22: 152
A23: 9 | E23: 1547 | I23: 1338 | M23: 248 | Q23: 165
A24: 10 | E24: 1766 | I24: 1566 | M24: 305 | Q24: 232
A25: 11 | E25: 1813 | I25: 1701 | M25: 311 | Q25: 240
A26: 12 | E26: 1817 | I26: 1702 | M26: 315 | Q26: 224
... A38: 24 | E38: 913 | I38: 881 | M38: 196 | Q38: 166
A39: Итого | E39: =SUM(E15:E38) -> 30279 | I39: =SUM(I15:I38) -> 28367 | M39: =SUM(M15:M38) -> 5839 | Q39: =SUM(Q15:Q38) -> 4793
A40: 1. При наличии на предприятии отклонений от нормальных режимов электропотребления (временное изменение схем питания, остановка на ремонт, резкое снижение
A41: эл.потребления и т.д.) последние необходимо перечислить.
A42: 2. При наличии нескольких источников питания и большого количества вводов таблица
A43: составляется самим предприятием с соблюдением всех пунктов настоящей таблицы. | K43: Главный инженер ___________________ А.А. Михалин

Sheet 32
B1: АО "Вологдаоблэнерго" | J1: код 900151 | N1: ПС "ЦЕНТРАЛЬНАЯ" 110/6 кВ
B2: наименование предприятия | N2: наименование источника питания
N3: _________________________________
B4: ул. Горького, 99 | I4: Таблица № 1 | O4: РП 4
B5: адрес
A6: почасовых записей показаний электрических счетчиков
A7: в режимный день 17 ИЮНЯ 2020 г.
A8: 1521 | B8: 1524
A9: часы суток | B9: Активная энергия | J9: Реактивная энергия
B10: ЯЧ.12 - РП 4 -Ι | F10: ЯЧ. 24 - РП 4 -ΙΙ | J10: ЯЧ.12 - РП 4 -Ι | N10: ЯЧ. 24 - РП 4 -ΙΙ
B11: Расчет. Коэф. | E11: 4800 | F11: Расчет. Коэф. | I11: 4800 | J11: Расчет. Коэф. | M11: =E11 -> 4800 | N11: Расчет. Коэф. | Q11: =I11 -> 4800
B12: показания счетчика | C12: разность | E12: расход эл.энергии за час | F12: показания счетчика | G12: разность | I12: расход эл.энергии за час | J12: показания счетчика | K12: разность | M12: расход эл.энергии за час | N12: показания счетчика | O12: разность | Q12: расход эл.энергии за час
A13: 1 | B13: 2 | C13: 3 | E13: 4 | F13: 5 | G13: 6 | I13: 7 | J13: 8 | K13: 9 | M13: 10 | N13: 11 | O13: 12 | Q13: 13
A14: 0
A15: 1 | E15: 410 | I15: 344 | M15: 102 | Q15: 49
A16: 2 | E16: 378 | I16: 319 | M16: 98 | Q16: 47
A17: 3 | E17: 332 | I17: 292 | M17: 84 | Q17: 44
A18: 4 | E18: 309 | I18: 286 | M18: 78 | Q18: 42
A19: 5 | E19: 304 | I19: 290 | M19: 74 | Q19: 38
A20: 6 | E20: 315 | I20: 324 | M20: 71 | Q20: 37
A21: 7 | E21: 361 | I21: 364 | M21: 72 | Q21: 41
A22: 8 | E22: 474 | I22: 533 | M22: 76 | Q22: 65
A23: 9 | E23: 686 | I23: 743 | M23: 93 | Q23: 75
A24: 10 | E24: 828 | I24: 905 | M24: 127 | Q24: 98
A25: 11 | E25: 879 | I25: 950 | M25: 142 | Q25: 104
A26: 12 | E26: 911 | I26: 938 | M26: 150 | Q26: 108
... A38: 24 | E38: 441 | I38: 339 | M38: 96 | Q38: 49
A39: Итого | I39: =SUM(I15:I38) -> 14252 | M39: =SUM(M15:M38) -> 2709 | Q39: =SUM(Q15:Q38) -> 1764
A40: 1. При наличии на предприятии отклонений от нормальных режимов электропотребления (временное изменение схем питания, остановка на ремонт, резкое снижение
A41: эл.потребления и т.д.) последние необходимо перечислить.
A42: 2. При наличии нескольких источников питания и большого количества вводов таблица
A43: составляется самим предприятием с соблюдением всех пунктов настоящей таблицы. | K43: Главный инженер ___________________ А.А. Михалин

Sheet 33
B1: АО "Вологдаоблэнерго" | J1: код 900151 | N1: ПС "ЦЕНТРАЛЬНАЯ" 110/6 кВ
B2: наименование предприятия | N2: наименование источника питания
N3: _________________________________
B4: ул. Горького, 99 | I4: Таблица № 1 | O4: РП 8; РП 33
B5: адрес
A6: почасовых записей показаний электрических счетчиков
A7: в режимный день 17 ИЮНЯ 2020 г.
A8: 1518 | B8: 1519
A9: часы суток | B9: Активная энергия | J9: Реактивная энергия
B10: ЯЧ. 2 - РП 33 ф.10 | F10: ЯЧ. 3 - РП-33 | J10: ЯЧ. 2- РП 33 ф.10 | N10: ЯЧ. 3 - РП-33
B11: Расчет. Коэф. | E11: 7200 | F11: Расчет. Коэф. | J11: Расчет. Коэф. | M11: =E11 -> 7200 | N11: Расчет. Коэф.
B12: показания счетчика | C12: разность | E12: расход эл.энергии за час | F12: показания счетчика | G12: разность | I12: расход эл.энергии за час | J12: показания счетчика | K12: разность | M12: расход эл.энергии за час | N12: показания счетчика | O12: разность | Q12: расход эл.энергии за час
A13: 1 | B13: 2 | C13: 3 | E13: 4 | F13: 5 | G13: 6 | I13: 7 | J13: 8 | K13: 9 | M13: 10 | N13: 11 | O13: 12 | Q13: 13
A14: 0
A15: 1 | E15: 32 | I15: 160 | M15: 0 | Q15: 15
A16: 2 | E16: 27 | I16: 149 | M16: 0 | Q16: 15
A17: 3 | E17: 23 | I17: 141 | M17: 0 | Q17: 15
A18: 4 | E18: 22 | I18: 140 | M18: 0 | Q18: 15
A19: 5 | E19: 19 | I19: 140 | M19: 0 | Q19: 11
A20: 6 | E20: 22 | I20: 148 | M20: 0 | Q20: 14
A21: 7 | E21: 26 | I21: 170 | M21: 0 | Q21: 12
A22: 8 | E22: 31 | I22: 196 | M22: 0 | Q22: 8
A23: 9 | E23: 32 | I23: 231 | M23: 0 | Q23: 6
A24: 10 | E24: 35 | I24: 270 | M24: 0 | Q24: 21
A25: 11 | E25: 52 | I25: 294 | M25: 0 | Q25: 23
A26: 12 | E26: 51 | I26: 287 | M26: 0 | Q26: 26
... A38: 24 | E38: 44 | I38: 182 | M38: 0 | Q38: 14
A39: Итого | E39: =SUM(E15:E38) -> 1020 | I39: =SUM(I15:I38) -> 5171 | M39: =SUM(M15:M38) -> 2 | Q39: =SUM(Q15:Q38) -> 470
A40: 1. При наличии на предприятии отклонений от нормальных режимов электропотребления (временное изменение схем питания, остановка на ремонт, резкое снижение
A41: эл.потребления и т.д.) последние необходимо перечислить.
A42: 2. При наличии нескольких источников питания и большого количества вводов таблица
A43: составляется самим предприятием с соблюдением всех пунктов настоящей таблицы. | K43: Главный инженер ___________________ А.А. Михалин

Sheet 34
B1: АО "Вологдаоблэнерго" | J1: код 900151 | N1: ПС "ЦЕНТРАЛЬНАЯ" 110/6 кВ
B2: наименование предприятия | N2: наименование источника питания
N3: _________________________________
B4: ул. Горького, 99 | I4: Таблица № 1 | O4: ТП 11
B5: адрес
A6: почасовых записей показаний электрических счетчиков
A7: в режимный день 17 ИЮНЯ 2020 г.
A8: 1525
A9: часы суток | B9: Активная энергия | J9: Реактивная энергия
B10: ЯЧ.28 - ТП 11 -ΙΙ | J10: ЯЧ.28 - ТП 11 -ΙΙ
B11: Расчет. Коэф. | E11: 7200 | F11: Расчет. Коэф. | I11: 0 | J11: Расчет. Коэф. | M11: =E11 -> 7200 | N11: Расчет. Коэф. | Q11: =I11 -> 0
B12: показания счетчика | C12: разность | E12: расход эл.энергии за час | F12: показания счетчика | G12: разность | I12: расход эл.энергии за час | J12: показания счетчика | K12: разность | M12: расход эл.энергии за час | N12: показания счетчика | O12: разность | Q12: расход эл.энергии за час
A13: 1 | B13: 2 | C13: 3 | E13: 4 | F13: 5 | G13: 6 | I13: 7 | J13: 8 | K13: 9 | M13: 10 | N13: 11 | O13: 12 | Q13: 13
A14: 0
A15: 1 | E15: 93 | M15: 0
A16: 2 | E16: 127 | M16: 0
A17: 3 | E17: 120 | M17: 0
A18: 4 | E18: 118 | M18: 0
A19: 5 | E19: 119 | M19: 0
A20: 6 | E20: 125 | M20: 0
A21: 7 | E21: 150 | M21: 1
A22: 8 | E22: 221 | M22: 3
A23: 9 | E23: 345 | M23: 20
A24: 10 | E24: 376 | M24: 37
A25: 11 | E25: 386 | M25: 42
A26: 12 | E26: 383 | M26: 42
... A38: 24 | E38: 128 | M38: 0
A39: Итого | E39: =SUM(E15:E38) -> 5570 | M39: =SUM(M15:M38) -> 334
A40: 1. При наличии на предприятии отклонений от нормальных режимов электропотребления (временное изменение схем питания, остановка на ремонт, резкое снижение
A41: эл.потребления и т.д.) последние необходимо перечислить.
A42: 2. При наличии нескольких источников питания и большого количества вводов таблица
A43: составляется самим предприятием с соблюдением всех пунктов настоящей таблицы. | K43: Главный инженер ___________________ А.А. Михалин

Sheet 34_1
B1: АО "Вологдаоблэнерго" | J1: код 900151 | N1: ПС "ЦЕНТРАЛЬНАЯ" 110/10 кВ
B2: наименование предприятия | N2: наименование источника питания
N3: _________________________________
B4: ул. Горького, 99 | I4: Таблица № 1 | O4: РП-21
B5: адрес
A6: почасовых записей показаний электрических счетчиков
A7: в режимный день 17 ИЮНЯ 2020 г.
A8: 911 | B8: 910
A9: часы суток | B9: Активная энергия | J9: Реактивная энергия
B10: ЯЧ.22 - РП 21- Ι | F10: ЯЧ.7 - РП 21- ΙI | J10: ЯЧ.22 - РП 21- Ι | N10: ЯЧ.7 - РП 21- ΙI
B11: Расчет. Коэф. | E11: 7200 | F11: Расчет. Коэф. | I11: 0 | J11: Расчет. Коэф. | M11: =E11 -> 7200 | N11: Расчет. Коэф. | Q11: =I11 -> 0
B12: показания счетчика | C12: разность | E12: расход эл.энергии за час | F12: показания счетчика | G12: разность | I12: расход эл.энергии за час | J12: показания счетчика | K12: разность | M12: расход эл.энергии за час | N12: показания счетчика | O12: разность | Q12: расход эл.энергии за час
A13: 1 | B13: 2 | C13: 3 | E13: 4 | F13: 5 | G13: 6 | I13: 7 | J13: 8 | K13: 9 | M13: 10 | N13: 11 | O13: 12 | Q13: 13
A14: 0
A15: 1 | E15: 266 | I15: 382 | M15: 0 | Q15: 3
A16: 2 | E16: 255 | I16: 362 | M16: 0 | Q16: 1
A17: 3 | E17: 239 | I17: 331 | M17: 0 | Q17: 1
A18: 4 | E18: 232 | I18: 331 | M18: 0 | Q18: 0
A19: 5 | E19: 226 | I19: 323 | M19: 0 | Q19: 0
A20: 6 | E20: 233 | I20: 332 | M20: 0 | Q20: 0
A21: 7 | E21: 263 | I21: 380 | M21: 0 | Q21: 1
A22: 8 | E22: 361 | I22: 524 | M22: 7 | Q22: 6
A23: 9 | E23: 517 | I23: 755 | M23: 16 | Q23: 43
A24: 10 | E24: 677 | I24: 940 | M24: 53 | Q24: 129
A25: 11 | E25: 703 | I25: 1062 | M25: 48 | Q25: 182
A26: 12 | E26: 698 | I26: 1069 | M26: 24 | Q26: 183
... A38: 24 | E38: 266 | I38: 378 | M38: 0 | Q38: 9
A39: Итого | E39: =SUM(E15:E38) -> 11153 | I39: =SUM(I15:I38) -> 16201 | M39: =SUM(M15:M38) -> 619 | Q39: =SUM(Q15:Q38) -> 1749
A40: 1. При наличии на предприятии отклонений от нормальных режимов электропотребления (временное изменение схем питания, остановка на ремонт, резкое снижение
A41: эл.потребления и т.д.) последние необходимо перечислить.
A42: 2. При наличии нескольких источников питания и большого количества вводов таблица
A43: составляется самим предприятием с соблюдением всех пунктов настоящей таблицы. | K43: Главный инженер ___________________ А.А. Михалин

Sheet 35
B1: АО "Вологдаоблэнерго" | J1: код 900151 | N1: ПС "ГОРОДСКАЯ" 35/6 кВ
B2: наименование предприятия | N2: наименование источника питания
N3: _________________________________
B4: ул. Горького, 99 | I4: Таблица № 1 | O4: Т-1, Т-3 (ЗРУ 6 кВ)
B5: адрес
A6: почасовых записей показаний электрических счетчиков
A7: в режимный день 17 ИЮНЯ 2020 г.
A8: 300 | B8: 304
A9: часы суток | B9: Активная энергия | J9: Реактивная энергия
B10: Т-1 - ЗРУ Ф.1 ввод № 1 | F10: Т-3 - ЗРУ Ф.20 ввод № 2 . | J10: Т-1 - ЗРУ Ф.1 ввод № 1 | N10: Т-3 - ЗРУ Ф.20 ввод № 2 .
B11: Расчет. Коэф. | E11: 18000 | F11: Расчет. Коэф. | I11: 18000 | J11: Расчет. Коэф. | M11: =E11 -> 18000 | N11: Расчет. Коэф. | Q11: =I11 -> 18000
B12: показания счетчика | C12: разность | E12: расход эл.энергии за час | F12: показания счетчика | G12: разность | I12: расход эл.энергии за час | J12: показания счетчика | K12: разность | M12: расход эл.энергии за час | N12: показания счетчика | O12: разность | Q12: расход эл.энергии за час
A13: 1 | B13: 2 | C13: 3 | E13: 4 | F13: 5 | G13: 6 | I13: 7 | J13: 8 | K13: 9 | M13: 10 | N13: 11 | O13: 12 | Q13: 13
A14: 0
A15: 1 | E15: 2932.2 | I15: 0 | M15: 1231.2 | Q15: 0
A16: 2 | E16: 2700 | I16: 0 | M16: 1222.2 | Q16: 0
A17: 3 | E17: 2421 | I17: 0 | M17: 1222.2 | Q17: 0
A18: 4 | E18: 2336.4 | I18: 0 | M18: 1195.2 | Q18: 0
A19: 5 | E19: 2311.2 | I19: 0 | M19: 1150.2 | Q19: 0
A20: 6 | E20: 2399.4 | I20: 0 | M20: 1125 | Q20: 0
A21: 7 | E21: 2840.4 | I21: 0 | M21: 1135.8 | Q21: 0
A22: 8 | E22: 3438 | I22: 0 | M22: 1249.2 | Q22: 0
A23: 9 | E23: 4275 | I23: 0 | M23: 1449 | Q23: 0
A24: 10 | E24: 4631.4 | I24: 0 | M24: 1551.6 | Q24: 0
A25: 11 | E25: 4804.2 | I25: 0 | M25: 1605.6 | Q25: 0
A26: 12 | E26: 4793.4 | I26: 0 | M26: 1553.4 | Q26: 0
... A38: 24 | E38: 3279.6 | I38: 0 | M38: 1218.6 | Q38: 0
A39: Итого | E39: =SUM(E15:E38) -> 89128.8 | I39: =SUM(I15:I38) -> 0 | M39: =SUM(M15:M38) -> 32779.8 | Q39: =SUM(Q15:Q38) -> 0
A40: 1. При наличии на предприятии отклонений от нормальных режимов электропотребления (временное изменение схем питания, остановка на ремонт, резкое снижение
A41: эл.потребления и т.д.) последние необходимо перечислить.
A42: 2. При наличии нескольких источников питания и большого количества вводов таблица
A43: составляется самим предприятием с соблюдением всех пунктов настоящей таблицы. | K43: Главный инженер ___________________ А.А. Михалин

Sheet 36
B1: АО "Вологдаоблэнерго" | J1: код 900151 | N1: ПС "ГОРОДСКАЯ" 35/6 кВ
B2: наименование предприятия | N2: наименование источника питания
N3: _________________________________
B4: ул. Горького, 99 | I4: Таблица № 1 | O4: Т-2 (РП 9)
B5: адрес
A6: почасовых записей показаний электрических счетчиков
A7: в режимный день 17 ИЮНЯ 2020 г.
A8: 297
A9: часы суток | B9: Активная энергия | J9: Реактивная энергия
B10: Т-2 - РП 9 ф. 11 | J10: Т-2 - РП 9 ф. 11
B11: Расчет. Коэф. | E11: 7200 | F11: Расчет. Коэф. | I11: 0 | J11: Расчет. Коэф. | M11: =E11 -> 7200 | N11: Расчет. Коэф. | Q11: 0
B12: показания счетчика | C12: разность | E12: расход эл.энергии за час | F12: показания счетчика | G12: разность | I12: расход эл.энергии за час | J12: показания счетчика | K12: разность | M12: расход эл.энергии за час | N12: показания счетчика | O12: разность | Q12: расход эл.энергии за час
A13: 1 | B13: 2 | C13: 3 | E13: 4 | F13: 5 | G13: 6 | I13: 7 | J13: 8 | K13: 9 | M13: 10 | N13: 11 | O13: 12 | Q13: 13
A14: 0
A15: 1 | I15: 1497.6 | Q15: 596.88
A16: 2 | I16: 1370.88 | Q16: 583.92
A17: 3 | I17: 1204.56 | Q17: 563.76
A18: 4 | I18: 1157.04 | Q18: 555.84
A19: 5 | I19: 1146.96 | Q19: 530.64
A20: 6 | I20: 1210.32 | Q20: 531.36
A21: 7 | I21: 1498.32 | Q21: 534.96
A22: 8 | I22: 1736.64 | Q22: 609.12
A23: 9 | I23: 2210.4 | Q23: 785.52
A24: 10 | I24: 2466.72 | Q24: 806.4
A25: 11 | I25: 2662.56 | Q25: 871.2
A26: 12 | I26: 2568.24 | Q26: 761.76
... A38: 24 | I38: 1683.36 | Q38: 583.2
A39: Итого | I39: =SUM(I15:I38) -> 47417.04 | Q39: =SUM(Q15:Q38) -> 16088.4
A40: 1. При наличии на предприятии отклонений от нормальных режимов электропотребления (временное изменение схем питания, остановка на ремонт, резкое снижение
A41: эл.потребления и т.д.) последние необходимо перечислить.
A42: 2. При наличии нескольких источников питания и большого количества вводов таблица
A43: составляется самим предприятием с соблюдением всех пунктов настоящей таблицы. | K43: Главный инженер ___________________ А.А. Михалин

Sheet 37
B1: АО "Вологдаоблэнерго" | J1: код 900151 | N1: ПС "ВОСТОЧНАЯ" 110/35/10 кВ
B2: наименование предприятия | N2: наименование источника питания
N3: _________________________________
B4: ул. Горького, 99 | I4: Таблица № 1 | O4: РП 39
B5: адрес
A6: почасовых записей показаний электрических счетчиков
A7: в режимный день 17 ИЮНЯ 2020 г.
A8: 1633 | B8: 1634
A9: часы суток | B9: Активная энергия | J9: Реактивная энергия
B10: ЯЧ.№2 - "РП 39-1" | F10: ЯЧ.№ 21 - "РП 39-2" | J10: ЯЧ.№2 - "РП 39-1" | N10: ЯЧ.№ 21 - "РП 39-2"
B11: Расчет. Коэф. | E11: 8000 | F11: Расчет. Коэф. | I11: 6000 | J11: Расчет. Коэф. | M11: =E11 -> 8000 | N11: Расчет. Коэф. | Q11: =I11 -> 6000
B12: показания счетчика | C12: разность | E12: расход эл.энергии за час | F12: показания счетчика | G12: разность | I12: расход эл.энергии за час | J12: показания счетчика | K12: разность | M12: расход эл.энергии за час | N12: показания счетчика | O12: разность | Q12: расход эл.энергии за час
A13: 1 | B13: 2 | C13: 3 | E13: 4 | F13: 5 | G13: 6 | I13: 7 | J13: 8 | K13: 9 | M13: 10 | N13: 11 | O13: 12 | Q13: 13
A14: 0
A15: 1 | E15: 409 | I15: 612 | M15: 0 | Q15: 142
A16: 2 | E16: 327 | I16: 501 | M16: 0 | Q16: 117
A17: 3 | E17: 304 | I17: 463 | M17: 0 | Q17: 110
A18: 4 | E18: 298 | I18: 461 | M18: 0 | Q18: 102
A19: 5 | E19: 294 | I19: 494 | M19: 0 | Q19: 104
A20: 6 | E20: 342 | I20: 487 | M20: 0 | Q20: 85
A21: 7 | E21: 441 | I21: 613 | M21: 0 | Q21: 86
A22: 8 | E22: 501 | I22: 682 | M22: 0 | Q22: 111
A23: 9 | E23: 528 | I23: 685 | M23: 1 | Q23: 112
A24: 10 | E24: 601 | I24: 831 | M24: 3 | Q24: 180
A25: 11 | E25: 725 | I25: 939 | M25: 45 | Q25: 229
A26: 12 | E26: 634 | I26: 795 | M26: 11 | Q26: 156
... A38: 24 | E38: 481 | I38: 696 | M38: 0 | Q38: 131
A39: Итого | E39: =SUM(E15:E38) -> 12413 | I39: =SUM(I15:I38) -> 18188 | M39: =SUM(M15:M38) -> 146 | Q39: =SUM(Q15:Q38) -> 3859
A40: 1. При наличии на предприятии отклонений от нормальных режимов электропотребления (временное изменение схем питания, остановка на ремонт, резкое снижение
A41: эл.потребления и т.д.) последние необходимо перечислить.
A42: 2. При наличии нескольких источников питания и большого количества вводов таблица
A43: составляется самим предприятием с соблюдением всех пунктов настоящей таблицы. | K43: Главный инженер ___________________ А.А. Михалин

Sheet 38
B1: АО "Вологдаоблэнерго" | J1: код 900151 | N1: ПС "ВОСТОЧНАЯ" 110/35/10 кВ
B2: наименование предприятия | N2: наименование источника питания
N3: _________________________________
B4: ул. Горького, 99 | I4: Таблица № 1 | O4: РП 30
B5: адрес
A6: почасовых записей показаний электрических счетчиков
A7: в режимный день 17 ИЮНЯ 2020 г.
A8: 1637 | B8: 1638
A9: часы суток | B9: Активная энергия | J9: Реактивная энергия
B10: ЯЧ.№15 - "РМЗ-1" | F10: ЯЧ.№32 - "РМЗ-2" | J10: ЯЧ.№15 - "РМЗ-1" | N10: ЯЧ.№32 - "РМЗ-2"
B11: Расчет. Коэф. | E11: 8000 | F11: Расчет. Коэф. | I11: 8000 | J11: Расчет. Коэф. | M11: =E11 -> 8000 | N11: Расчет. Коэф. | Q11: =I11 -> 8000
B12: показания счетчика | C12: разность | E12: расход эл.энергии за час | F12: показания счетчика | G12: разность | I12: расход эл.энергии за час | J12: показания счетчика | K12: разность | M12: расход эл.энергии за час | N12: показания счетчика | O12: разность | Q12: расход эл.энергии за час
A13: 1 | B13: 2 | C13: 3 | E13: 4 | F13: 5 | G13: 6 | I13: 7 | J13: 8 | K13: 9 | M13: 10 | N13: 11 | O13: 12 | Q13: 13
A14: 0
A15: 1 | E15: 14 | I15: 788 | M15: 0 | Q15: 472
A16: 2 | E16: 16 | I16: 696 | M16: 0 | Q16: 436
A17: 3 | E17: 15 | I17: 649 | M17: 0 | Q17: 452
A18: 4 | E18: 13 | I18: 631 | M18: 0 | Q18: 429
A19: 5 | E19: 13 | I19: 609 | M19: 0 | Q19: 402
A20: 6 | E20: 13 | I20: 651 | M20: 0 | Q20: 404
A21: 7 | E21: 16 | I21: 785 | M21: 0 | Q21: 403
A22: 8 | E22: 34 | I22: 849 | M22: 0 | Q22: 413
A23: 9 | E23: 51 | I23: 1245 | M23: 0 | Q23: 694
A24: 10 | E24: 52 | I24: 1404 | M24: 1 | Q24: 857
A25: 11 | E25: 67 | I25: 1374 | M25: 0 | Q25: 768
A26: 12 | E26: 76 | I26: 1488 | M26: 2 | Q26: 907
... A38: 24 | E38: 15 | I38: 904 | M38: 0 | Q38: 444
A39: Итого | E39: =SUM(E15:E38) -> 773 | I39: =SUM(I15:I38) -> 26059 | M39: =SUM(M15:M38) -> 5 | Q39: =SUM(Q15:Q38) -> 14765
A40: 1. При наличии на предприятии отклонений от нормальных режимов электропотребления (временное изменение схем питания, остановка на ремонт, резкое снижение
A41: эл.потребления и т.д.) последние необходимо перечислить.
A42: 2. При наличии нескольких источников питания и большого количества вводов таблица
A43: составляется самим предприятием с соблюдением всех пунктов настоящей таблицы. | K43: Главный инженер ___________________ А.А. Михалин

Sheet 39
B1: АО "Вологдаоблэнерго" | J1: код 900151 | N1: ПС "ВОСТОЧНАЯ" 110/35/10 кВ
B2: наименование предприятия | N2: наименование источника питания
N3: _________________________________
B4: ул. Горького, 99 | I4: Таблица № 1 | O4: РП 31
B5: адрес
A6: почасовых записей показаний электрических счетчиков
A7: в режимный день 17 ИЮНЯ 2020 г.
A8: 1635 | B8: 1636
A9: часы суток | B9: Активная энергия | J9: Реактивная энергия
B10: ЯЧ. № 11- "ГОРОД-1" | F10: ЯЧ. № 28- "ГОРОД-2" | J10: ЯЧ. № 11- "ГОРОД-1" | N10: ЯЧ. № 28- "ГОРОД-2"
B11: Расчет. Коэф. | E11: 12000 | F11: Расчет. Коэф. | I11: 12000 | J11: Расчет. Коэф. | M11: =E11 -> 12000 | N11: Расчет. Коэф. | Q11: =I11 -> 12000
B12: показания счетчика | C12: разность | E12: расход эл.энергии за час | F12: показания счетчика | G12: разность | I12: расход эл.энергии за час | J12: показания счетчика | K12: разность | M12: расход эл.энергии за час | N12: показания счетчика | O12: разность | Q12: расход эл.энергии за час
A13: 1 | B13: 2 | C13: 3 | E13: 4 | F13: 5 | G13: 6 | I13: 7 | J13: 8 | K13: 9 | M13: 10 | N13: 11 | O13: 12 | Q13: 13
A14: 0
A15: 1 | E15: 1455 | I15: 2342 | M15: 366 | Q15: 772
A16: 2 | E16: 1320 | I16: 2100 | M16: 351 | Q16: 727
A17: 3 | E17: 1243 | I17: 1822 | M17: 350 | Q17: 676
A18: 4 | E18: 1196 | I18: 1705 | M18: 335 | Q18: 630
A19: 5 | E19: 1202 | I19: 1673 | M19: 328 | Q19: 584
A20: 6 | E20: 1262 | I20: 1821 | M20: 325 | Q20: 622
A21: 7 | E21: 1594 | I21: 2213 | M21: 333 | Q21: 663
A22: 8 | E22: 1794 | I22: 2604 | M22: 340 | Q22: 814
A23: 9 | E23: 1921 | I23: 2999 | M23: 419 | Q23: 995
A24: 10 | E24: 2165 | I24: 3263 | M24: 504 | Q24: 1163
A25: 11 | E25: 2303 | I25: 3417 | M25: 545 | Q25: 1177
A26: 12 | E26: 2306 | I26: 3374 | M26: 559 | Q26: 1147
... A38: 24 | E38: 1611 | I38: 2654 | M38: 351 | Q38: 775
A39: Итого | E39: =SUM(E15:E38) -> 45264 | I39: =SUM(I15:I38) -> 68282 | M39: =SUM(M15:M38) -> 10697 | Q39: =SUM(Q15:Q38) -> 22152
A40: 1. При наличии на предприятии отклонений от нормальных режимов электропотребления (временное изменение схем питания, остановка на ремонт, резкое снижение
A41: эл.потребления и т.д.) последние необходимо перечислить.
A42: 2. При наличии нескольких источников питания и большого количества вводов таблица
A43: составляется самим предприятием с соблюдением всех пунктов настоящей таблицы. | K43: Главный инженер ___________________ А.А. Михалин

Sheet 39_1
B1: АО "Вологдаоблэнерго" | J1: код 900151 | N1: ПС "ВОСТОЧНАЯ" 110/35/10 кВ
B2: наименование предприятия | N2: наименование источника питания
N3: _________________________________ | O3: ТП-561-1
B4: ул. Горького, 99 | I4: Таблица № 1
B5: адрес
A6: почасовых записей показаний электрических счетчиков
A7: в режимный день 17 ИЮНЯ 2020 г.
A8: 1737
A9: часы суток | B9: Активная энергия | J9: Реактивная энергия
B10: ЯЧ. № 5- "ГОРОД-3" | J10: ЯЧ. № 5- "ГОРОД-3"
B11: Расчет. Коэф. | F11: Расчет. Коэф. | J11: Расчет. Коэф. | N11: Расчет. Коэф.
B12: показания счетчика | C12: разность | E12: расход эл.энергии за час | F12: показания счетчика | G12: разность | I12: расход эл.энергии за час | J12: показания счетчика | K12: разность | M12: расход эл.энергии за час | N12: показания счетчика | O12: разность | Q12: расход эл.энергии за час
A13: 1 | B13: 2 | C13: 3 | E13: 4 | F13: 5 | G13: 6 | I13: 7 | J13: 8 | K13: 9 | M13: 10 | N13: 11 | O13: 12 | Q13: 13
A14: 0
A15: 1 | E15: 239 | M15: 74
A16: 2 | E16: 210 | M16: 77
A17: 3 | E17: 172 | M17: 70
A18: 4 | E18: 163 | M18: 68
A19: 5 | E19: 160 | M19: 64
A20: 6 | E20: 174 | M20: 63
A21: 7 | E21: 235 | M21: 70
A22: 8 | E22: 260 | M22: 80
A23: 9 | E23: 271 | M23: 80
A24: 10 | E24: 284 | M24: 85
A25: 11 | E25: 293 | M25: 89
A26: 12 | E26: 295 | M26: 94
... A38: 24 | E38: 296 | M38: 82
A39: Итого | E39: =SUM(E15:E38) -> 6717 | M39: =SUM(M15:M38) -> 2139
A40: 1. При наличии на предприятии отклонений от нормальных режимов электропотребления (временное изменение схем питания, остановка на ремонт, резкое снижение
A41: эл.потребления и т.д.) последние необходимо перечислить.
A42: 2. При наличии нескольких источников питания и большого количества вводов таблица
A43: составляется самим предприятием с соблюдением всех пунктов настоящей таблицы. | K43: Главный инженер ___________________ А.А. Михалин

Sheet 40
B1: АО "Вологдаоблэнерго" | J1: код 900151 | N1: ПС "ЛУГОВАЯ"
B2: наименование предприятия | N2: наименование источника питания
N3: _________________________________
B4: ул. Горького, 99 | I4: Таблица № 1 | O4: РП 19
B5: адрес
A6: почасовых записей показаний электрических счетчиков
A7: в режимный день 17 ИЮНЯ 2020 г.
A8: 1516 | B8: 1514
A9: часы суток | B9: Активная энергия | J9: Реактивная энергия
B10: ЯЧ. 23 - ф "ГОРОД-2 | F10: ЯЧ. 2 - ф "ГОРОД-3" | J10: ЯЧ. 23 - ф "ГОРОД-2 | N10: ЯЧ. 2 - ф "ГОРОД-3"
B11: Расчет. Коэф. | E11: 12000 | F11: Расчет. Коэф. | I11: 12000 | J11: Расчет. Коэф. | M11: =E11 -> 12000 | N11: Расчет. Коэф. | Q11: =I11 -> 12000
B12: показания счетчика | C12: разность | E12: расход эл.энергии за час | F12: показания счетчика | G12: разность | I12: расход эл.энергии за час | J12: показания счетчика | K12: разность | M12: расход эл.энергии за час | N12: показания счетчика | O12: разность | Q12: расход эл.энергии за час
A13: 1 | B13: 2 | C13: 3 | E13: 4 | F13: 5 | G13: 6 | I13: 7 | J13: 8 | K13: 9 | M13: 10 | N13: 11 | O13: 12 | Q13: 13
A14: 0
A15: 1 | E15: 1613 | I15: 1675 | M15: 376 | Q15: 241
A16: 2 | E16: 1453 | I16: 1392 | M16: 372 | Q16: 204
A17: 3 | E17: 1219 | I17: 1185 | M17: 338 | Q17: 180
A18: 4 | E18: 1146 | I18: 1078 | M18: 318 | Q18: 150
A19: 5 | E19: 1153 | I19: 1049 | M19: 294 | Q19: 136
A20: 6 | E20: 1335 | I20: 1217 | M20: 307 | Q20: 140
A21: 7 | E21: 1701 | I21: 1726 | M21: 297 | Q21: 142
A22: 8 | E22: 1970 | I22: 1889 | M22: 323 | Q22: 168
A23: 9 | E23: 2212 | I23: 2034 | M23: 414 | Q23: 227
A24: 10 | E24: 2402 | I24: 2139 | M24: 502 | Q24: 284
A25: 11 | E25: 2472 | I25: 2124 | M25: 524 | Q25: 269
A26: 12 | E26: 2463 | I26: 2133 | M26: 494 | Q26: 283
... A38: 24 | E38: 2006 | I38: 2068 | M38: 365 | Q38: 223
A39: Итого | E39: =SUM(E15:E38) -> 50056 | I39: =SUM(I15:I38) -> 47404 | M39: =SUM(M15:M38) -> 10077 | Q39: =SUM(Q15:Q38) -> 5909
A40: 1. При наличии на предприятии отклонений от нормальных режимов электропотребления (временное изменение схем питания, остановка на ремонт, резкое снижение
A41: эл.потребления и т.д.) последние необходимо перечислить.
A42: 2. При наличии нескольких источников питания и большого количества вводов таблица
A43: составляется самим предприятием с соблюдением всех пунктов настоящей таблицы. | K43: Главный инженер ___________________ А.А. Михалин

Sheet 41
B1: АО "Вологдаоблэнерго" | J1: код 900151 | N1: ПС "ЛУГОВАЯ"
B2: наименование предприятия | N2: наименование источника питания
N3: _________________________________
B4: ул. Горького, 99 | I4: Таблица № 1 | O4: РП 38
B5: адрес
A6: почасовых записей показаний электрических счетчиков
A7: в режимный день 17 ИЮНЯ 2020 г.
A8: 1515 | B8: 1517
A9: часы суток | B9: Активная энергия | J9: Реактивная энергия
B10: ЯЧ.10 - ф "ГОРОД-1" | F10: ЯЧ.25 - ф "ГОРОД-4" | J10: ЯЧ.10 - ф "ГОРОД-1" | N10: ЯЧ.25 - ф "ГОРОД-4"
B11: Расчет. Коэф. | E11: 12000 | F11: Расчет. Коэф. | I11: 12000 | J11: Расчет. Коэф. | M11: =E11 -> 12000 | N11: Расчет. Коэф. | Q11: =I11 -> 12000
B12: показания счетчика | C12: разность | E12: расход эл.энергии за час | F12: показания счетчика | G12: разность | I12: расход эл.энергии за час | J12: показания счетчика | K12: разность | M12: расход эл.энергии за час | N12: показания счетчика | O12: разность | Q12: расход эл.энергии за час
A13: 1 | B13: 2 | C13: 3 | E13: 4 | F13: 5 | G13: 6 | I13: 7 | J13: 8 | K13: 9 | M13: 10 | N13: 11 | O13: 12 | Q13: 13
A14: 0
A15: 1 | E15: 993 | I15: 707 | M15: 136 | Q15: 102
A16: 2 | E16: 880 | I16: 605 | M16: 141 | Q16: 99
A17: 3 | E17: 780 | I17: 535 | M17: 123 | Q17: 91
A18: 4 | E18: 749 | I18: 503 | M18: 119 | Q18: 85
A19: 5 | E19: 753 | I19: 517 | M19: 113 | Q19: 88
A20: 6 | E20: 826 | I20: 580 | M20: 119 | Q20: 87
A21: 7 | E21: 1076 | I21: 771 | M21: 120 | Q21: 94
A22: 8 | E22: 1275 | I22: 906 | M22: 149 | Q22: 98
A23: 9 | E23: 1375 | I23: 942 | M23: 198 | Q23: 82
A24: 10 | E24: 1476 | I24: 1024 | M24: 254 | Q24: 108
A25: 11 | E25: 1484 | I25: 1071 | M25: 256 | Q25: 104
A26: 12 | E26: 1470 | I26: 1080 | M26: 250 | Q26: 131
... A38: 24 | E38: 2135 | I38: 745 | M38: 298 | Q38: 56
A39: Итого | E39: =SUM(E15:E38) -> 32160 | I39: =SUM(I15:I38) -> 21865 | M39: =SUM(M15:M38) -> 4786 | Q39: =SUM(Q15:Q38) -> 2703
A40: 1. При наличии на предприятии отклонений от нормальных режимов электропотребления (временное изменение схем питания, остановка на ремонт, резкое снижение
A41: эл.потребления и т.д.) последние необходимо перечислить.
A42: 2. При наличии нескольких источников питания и большого количества вводов таблица
A43: составляется самим предприятием с соблюдением всех пунктов настоящей таблицы. | K43: Главный инженер ___________________ А.А. Михалин

Sheet 41_1
B1: АО "Вологдаоблэнерго" | J1: код 900151 | N1: ПС "ЛУГОВАЯ"
B2: наименование предприятия | N2: наименование источника питания
N3: _________________________________
B4: ул. Горького, 99 | I4: Таблица № 1 | O4: КТП-663
B5: адрес
A6: почасовых записей показаний электрических счетчиков
A7: в режимный день 17 ИЮНЯ 2020 г.
A8: 336
A9: часы суток | B9: Активная энергия | J9: Реактивная энергия
B10: ф.Родина - КТП-663 | J10: ф.Родина - КТП-663
B11: Расчет. Коэф. | E11: 40 | F11: Расчет. Коэф. | J11: Расчет. Коэф. | M11: 40 | N11: Расчет. Коэф.
B12: показания счетчика | C12: разность | E12: расход эл.энергии за час | F12: показания счетчика | G12: разность | I12: расход эл.энергии за час | J12: показания счетчика | K12: разность | M12: расход эл.энергии за час | N12: показания счетчика | O12: разность | Q12: расход эл.энергии за час
A13: 1 | B13: 2 | C13: 3 | E13: 4 | F13: 5 | G13: 6 | I13: 7 | J13: 8 | K13: 9 | M13: 10 | N13: 11 | O13: 12 | Q13: 13
A14: 0
A15: 1 | E15: 11 | M15: 2.56
A16: 2 | E16: 11.2 | M16: 2.8
A17: 3 | E17: 10.62 | M17: 2.28
A18: 4 | E18: 9.96 | M18: 2.6
A19: 5 | E19: 9.56 | M19: 2.44
A20: 6 | E20: 10.76 | M20: 2.58
A21: 7 | E21: 10.74 | M21: 2.32
A22: 8 | E22: 19.1 | M22: 5.96
A23: 9 | E23: 17.86 | M23: 4
A24: 10 | E24: 16.26 | M24: 3.74
A25: 11 | E25: 17.4 | M25: 4.12
A26: 12 | E26: 16.94 | M26: 4.06
... A38: 24 | E38: 11.52 | M38: 2.7
A39: Итого | E39: =SUM(E15:E38) -> 347.34 | M39: =SUM(M15:M38) -> 92.26
A40: 1. При наличии на предприятии отклонений от нормальных режимов электропотребления (временное изменение схем питания, остановка на ремонт, резкое снижение
A41: эл.потребления и т.д.) последние необходимо перечислить.
A42: 2. При наличии нескольких источников питания и большого количества вводов таблица
A43: составляется самим предприятием с соблюдением всех пунктов настоящей таблицы. | K43: Главный инженер ___________________ А.А. Михалин

Sheet 42
B1: АО "Вологдаоблэнерго" | J1: код 900151 | N1: РП "ГОРКА"
B2: наименование предприятия | N2: наименование источника питания
N3: _________________________________
B4: ул. Горького, 99 | I4: Таблица № 1 | O4: ВЛ - 10кВ № 37
B5: адрес
A6: почасовых записей показаний электрических счетчиков
A7: в режимный день 17 ИЮНЯ 2020 г.
A8: 1528 | B8: 1527
A9: часы суток | B9: Активная энергия | J9: Реактивная энергия
B10: ЯЧ. 4 - ф,"ЛОСТА-1" | F10: ЯЧ. 8 - ф."ЛОСТА-2" | J10: ЯЧ. 4 - ф,"ЛОСТА-1" | N10: ЯЧ. 8 - ф."ЛОСТА-2"
B11: Расчет. Коэф. | E11: 2000 | F11: Расчет. Коэф. | I11: 2000 | J11: Расчет. Коэф. | M11: =E11 -> 2000 | N11: Расчет. Коэф. | Q11: =I11 -> 2000
B12: показания счетчика | C12: разность | E12: расход эл.энергии за час | F12: показания счетчика | G12: разность | I12: расход эл.энергии за час | J12: показания счетчика | K12: разность | M12: расход эл.энергии за час | N12: показания счетчика | O12: разность | Q12: расход эл.энергии за час
A13: 1 | B13: 2 | C13: 3 | E13: 4 | F13: 5 | G13: 6 | I13: 7 | J13: 8 | K13: 9 | M13: 10 | N13: 11 | O13: 12 | Q13: 13
A14: 0
A15: 1 | E15: 33 | I15: 300 | M15: 24 | Q15: 133
A16: 2 | E16: 28 | I16: 263 | M16: 24 | Q16: 130
A17: 3 | E17: 25 | I17: 223 | M17: 24 | Q17: 130
A18: 4 | E18: 25 | I18: 214 | M18: 25 | Q18: 124
A19: 5 | E19: 26 | I19: 211 | M19: 22 | Q19: 122
A20: 6 | E20: 28 | I20: 225 | M20: 21 | Q20: 116
A21: 7 | E21: 30 | I21: 288 | M21: 21 | Q21: 116
A22: 8 | E22: 31 | I22: 329 | M22: 20 | Q22: 122
A23: 9 | E23: 46 | I23: 352 | M23: 23 | Q23: 123
A24: 10 | E24: 42 | I24: 377 | M24: 26 | Q24: 141
A25: 11 | E25: 44 | I25: 387 | M25: 29 | Q25: 146
A26: 12 | E26: 39 | I26: 378 | M26: 31 | Q26: 144
... A38: 24 | E38: 36 | I38: 336 | M38: 24 | Q38: 135
A39: Итого | E39: =SUM(E15:E38) -> 987 | I39: =SUM(I15:I38) -> 8202 | M39: =SUM(M15:M38) -> 651 | Q39: =SUM(Q15:Q38) -> 3352
A40: 1. При наличии на предприятии отклонений от нормальных режимов электропотребления (временное изменение схем питания, остановка на ремонт, резкое снижение
A41: эл.потребления и т.д.) последние необходимо перечислить.
A42: 2. При наличии нескольких источников питания и большого количества вводов таблица
A43: составляется самим предприятием с соблюдением всех пунктов настоящей таблицы. | K43: Главный инженер ___________________ А.А. Михалин

Sheet 43
B1: АО "Вологдаоблэнерго" | J1: код 900151 | N1: ГПП 2 ЗАО ВПЗ
B2: наименование предприятия | N2: наименование источника питания
N3: _________________________________
B4: ул. Горького, 99 | I4: Таблица № 1 | N4: ПКУ | O4: ВЛ 10 кВ № 8
B5: адрес
A6: почасовых записей показаний электрических счетчиков
A7: в режимный день 17 ИЮНЯ 2020 г.
A8: 618
A9: часы суток | B9: Активная энергия | J9: Реактивная энергия
B10: ЯЧ. 53 - ВЛ № 8 | J10: ЯЧ. 53 - ВЛ № 8
B11: Расчет. Коэф. | E11: 3000 | F11: Расчет. Коэф. | I11: 0 | J11: Расчет. Коэф. | M11: =E11 -> 3000 | N11: Расчет. Коэф. | Q11: =I11 -> 0
B12: показания счетчика | C12: разность | E12: расход эл.энергии за час | F12: показания счетчика | G12: разность | I12: расход эл.энергии за час | J12: показания счетчика | K12: разность | M12: расход эл.энергии за час | N12: показания счетчика | O12: разность | Q12: расход эл.энергии за час
A13: 1 | B13: 2 | C13: 3 | E13: 4 | F13: 5 | G13: 6 | I13: 7 | J13: 8 | K13: 9 | M13: 10 | N13: 11 | O13: 12 | Q13: 13
A14: 0
A15: 1 | E15: 422.7 | M15: 273.3
A16: 2 | E16: 417 | M16: 284.1
A17: 3 | E17: 354.9 | M17: 248.7
A18: 4 | E18: 377.1 | M18: 256.5
A19: 5 | E19: 341.1 | M19: 235.2
A20: 6 | E20: 373.5 | M20: 260.7
A21: 7 | E21: 337.5 | M21: 249.9
A22: 8 | E22: 538.5 | M22: 461.4
A23: 9 | E23: 1012.2 | M23: 860.1
A24: 10 | E24: 907.8 | M24: 737.4
A25: 11 | E25: 949.8 | M25: 758.4
A26: 12 | E26: 778.5 | M26: 622.2
... A38: 24 | E38: 321 | M38: 225.6
A39: Итого | E39: =SUM(E15:E38) -> 14508 | M39: =SUM(M15:M38) -> 11468.4
A40: 1. При наличии на предприятии отклонений от нормальных режимов электропотребления (временное изменение схем питания, остановка на ремонт, резкое снижение
A41: эл.потребления и т.д.) последние необходимо перечислить.
A42: 2. При наличии нескольких источников питания и большого количества вводов таблица
A43: составляется самим предприятием с соблюдением всех пунктов настоящей таблицы. | K43: Главный инженер ___________________ А.А. Михалин

Sheet 44
B1: АО "Вологдаоблэнерго" | J1: код 900151 | N1: ГПП 2 220/10 кВ "ЗАО ВПЗ"
B2: наименование предприятия | N2: наименование источника питания
N3: _________________________________
B4: ул. Горького, 99 | I4: Таблица № 1 | O4: ТП 535; ТП 536
B5: адрес
A6: почасовых записей показаний электрических счетчиков
A7: в режимный день 17 ИЮНЯ 2020 г.
A8: 616 | B8: 617
A9: часы суток | B9: Активная энергия | J9: Реактивная энергия
B10: ЯЧ. 6 - ТП 535 | F10: ЯЧ. 24 - ТП 536 | J10: ЯЧ. 6 - ТП 535 | N10: ЯЧ. 24 - ТП 536
B11: Расчет. Коэф. | E11: 6000 | F11: Расчет. Коэф. | I11: 6000 | J11: Расчет. Коэф. | M11: =E11 -> 6000 | N11: Расчет. Коэф. | Q11: =I11 -> 6000
B12: показания счетчика | C12: разность | E12: расход эл.энергии за час | F12: показания счетчика | G12: разность | I12: расход эл.энергии за час | J12: показания счетчика | K12: разность | M12: расход эл.энергии за час | N12: показания счетчика | O12: разность | Q12: расход эл.энергии за час
A13: 1 | B13: 2 | C13: 3 | E13: 4 | F13: 5 | G13: 6 | I13: 7 | J13: 8 | K13: 9 | M13: 10 | N13: 11 | O13: 12 | Q13: 13
A14: 0
A15: 1 | E15: 759 | I15: 636.8 | M15: 248.4 | Q15: 138.8
A16: 2 | E16: 688.2 | I16: 573.6 | M16: 235.2 | Q16: 130
A17: 3 | E17: 609.6 | I17: 511.2 | M17: 223.8 | Q17: 127.6
A18: 4 | E18: 554.4 | I18: 480 | M18: 208.8 | Q18: 116
A19: 5 | E19: 562.8 | I19: 469.6 | M19: 203.4 | Q19: 105.2
A20: 6 | E20: 627 | I20: 507.6 | M20: 206.4 | Q20: 106
A21: 7 | E21: 716.4 | I21: 603.6 | M21: 217.8 | Q21: 116
A22: 8 | E22: 792.6 | I22: 680.8 | M22: 244.8 | Q22: 155.6
A23: 9 | E23: 919.2 | I23: 807.2 | M23: 301.8 | Q23: 204.4
A24: 10 | E24: 1064.4 | I24: 906.8 | M24: 338.4 | Q24: 226.4
A25: 11 | E25: 1108.2 | I25: 956.8 | M25: 366 | Q25: 255.6
A26: 12 | E26: 1108.2 | I26: 1001.2 | M26: 363.6 | Q26: 245.2
... A38: 24 | E38: 855.6 | I38: 749.6 | M38: 249.6 | Q38: 128.8
A39: Итого | E39: =SUM(E15:E38) -> 22056.6 | I39: =SUM(I15:I38) -> 19000 | M39: =SUM(M15:M38) -> 7045.2 | Q39: =SUM(Q15:Q38) -> 4257.2
A40: 1. При наличии на предприятии отклонений от нормальных режимов электропотребления (временное изменение схем питания, остановка на ремонт, резкое снижение
A41: эл.потребления и т.д.) последние необходимо перечислить.
A42: 2. При наличии нескольких источников питания и большого количества вводов таблица
A43: составляется самим предприятием с соблюдением всех пунктов настоящей таблицы. | K43: Главный инженер ___________________ А.А. Михалин

Sheet 45
B1: АО "Вологдаоблэнерго" | J1: код 900151 | N1: ГПП 1 110/10 кВ "ЗАО ВПЗ"
B2: наименование предприятия | N2: наименование источника питания
N3: _________________________________
B4: ул. Горького, 99 | I4: Таблица № 1 | O4: РП42
B5: адрес
A6: почасовых записей показаний электрических счетчиков
A7: в режимный день 17 ИЮНЯ 2020 г.
A8: 606 | B8: 607
A9: часы суток | B9: Активная энергия | J9: Реактивная энергия
B10: ЯЧ. 10 - РП42 ф.1 | F10: ЯЧ. 34 - РП42 ф.6 | J10: ЯЧ. 10 - РП42 ф.1 | N10: ЯЧ. 34 - РП42 ф.6
B11: Расчет. Коэф. | E11: 8000 | F11: Расчет. Коэф. | I11: 8000 | J11: Расчет. Коэф. | M11: =E11 -> 8000 | N11: Расчет. Коэф. | Q11: =I11 -> 8000
B12: показания счетчика | C12: разность | E12: расход эл.энергии за час | F12: показания счетчика | G12: разность | I12: расход эл.энергии за час | J12: показания счетчика | K12: разность | M12: расход эл.энергии за час | N12: показания счетчика | O12: разность | Q12: расход эл.энергии за час
A13: 1 | B13: 2 | C13: 3 | E13: 4 | F13: 5 | G13: 6 | I13: 7 | J13: 8 | K13: 9 | M13: 10 | N13: 11 | O13: 12 | Q13: 13
A14: 0
A15: 1 | E15: 692.4 | I15: 758.4 | M15: 136.8 | Q15: 139.2
A16: 2 | E16: 619.2 | I16: 692.4 | M16: 124.8 | Q16: 130.8
A17: 3 | E17: 552 | I17: 624 | M17: 115.2 | Q17: 129.6
A18: 4 | E18: 511.2 | I18: 582 | M18: 104.4 | Q18: 117.6
A19: 5 | E19: 508.8 | I19: 580.8 | M19: 100.8 | Q19: 114
A20: 6 | E20: 561.6 | I20: 603.6 | M20: 102 | Q20: 114
A21: 7 | E21: 687.6 | I21: 705.6 | M21: 102 | Q21: 114
A22: 8 | E22: 798 | I22: 793.2 | M22: 104.4 | Q22: 124.8
A23: 9 | E23: 966 | I23: 926.4 | M23: 106.8 | Q23: 123.6
A24: 10 | E24: 1131.6 | I24: 1065.6 | M24: 139.2 | Q24: 151.2
A25: 11 | E25: 1143.6 | I25: 1116 | M25: 140.4 | Q25: 148.8
A26: 12 | E26: 1137.6 | I26: 1135.2 | M26: 138 | Q26: 150
... A38: 24 | E38: 998.4 | I38: 604.8 | M38: 174 | Q38: 87.6
A39: Итого | E39: =SUM(E15:E38) -> 22268.4 | I39: =SUM(I15:I38) -> 21922.8 | M39: =SUM(M15:M38) -> 3118.8 | Q39: =SUM(Q15:Q38) -> 3384
A40: 1. При наличии на предприятии отклонений от нормальных режимов электропотребления (временное изменение схем питания, остановка на ремонт, резкое снижение
A41: эл.потребления и т.д.) последние необходимо перечислить.
A42: 2. При наличии нескольких источников питания и большого количества вводов таблица
A43: составляется самим предприятием с соблюдением всех пунктов настоящей таблицы. | K43: Главный инженер ___________________ А.А. Михалин

Sheet 45_1
B1: АО "Вологдаоблэнерго" | J1: код 900151 | N1: ПС "Молочное" 35/10 кВ
B2: наименование предприятия | N2: наименование источника питания
O3: КТП-297
B4: ул. Горького, 99 | I4: Таблица № 1
B5: адрес
A6: почасовых записей показаний электрических счетчиков
A7: в режимный день 17 ИЮНЯ 2020 г.
A8: 943
A9: часы суток | B9: Активная энергия | J9: Реактивная энергия
B10: ф. Красная Звезда - КТП-297 | J10: ф. Красная Звезда - КТП-297
B11: Расчет. Коэф. | F11: Расчет. Коэф. | J11: Расчет. Коэф. | N11: Расчет. Коэф.
B12: показания счетчика | C12: разность | E12: расход эл.энергии за час | F12: показания счетчика | G12: разность | I12: расход эл.энергии за час | J12: показания счетчика | K12: разность | M12: расход эл.энергии за час | N12: показания счетчика | O12: разность | Q12: расход эл.энергии за час
A13: 1 | B13: 2 | C13: 3 | E13: 4 | F13: 5 | G13: 6 | I13: 7 | J13: 8 | K13: 9 | M13: 10 | N13: 11 | O13: 12 | Q13: 13
A14: 0
A15: 1 | E15: 14.68 | M15: 2.12
A16: 2 | E16: 13.44 | M16: 1.84
A17: 3 | E17: 13.8 | M17: 1.96
A18: 4 | E18: 11.84 | M18: 1.92
A19: 5 | E19: 10.68 | M19: 1.84
A20: 6 | E20: 14.52 | M20: 1.88
A21: 7 | E21: 15.96 | M21: 2.36
A22: 8 | E22: 14.84 | M22: 2
A23: 9 | E23: 19.68 | M23: 2.04
A24: 10 | E24: 19.16 | M24: 1.72
A25: 11 | E25: 15.2 | M25: 2.2
A26: 12 | E26: 17.16 | M26: 1.76
... A38: 24 | E38: 23.28 | M38: 2
A39: Итого | E39: =SUM(E15:E38) -> 403.48 | M39: =SUM(M15:M38) -> 50.2
A40: 1. При наличии на предприятии отклонений от нормальных режимов электропотребления (временное изменение схем питания, остановка на ремонт, резкое снижение
A41: эл.потребления и т.д.) последние необходимо перечислить.
A42: 2. При наличии нескольких источников питания и большого количества вводов таблица
A43: составляется самим предприятием с соблюдением всех пунктов настоящей таблицы. | K43: Главный инженер ___________________ А.А. Михалин

Sheet свод.табл.г.Вологда
G1: код 900151
B2: Таблица № 3
A4: сводных данных режимного дня 17 ИЮНЯ 2020 г.
A6: о потреблении электрической энергии по АО "Вологдаоблэнерго"
A8: г. ВОЛОГДА
A10: часы суток | B10: Активная энергия | E10: Реактивная энергия
B11: Суммарный расход эл.энергии по всем вводам | C11: Суммарный расход эл.энергии всеми сторонними потребителями | D11: Расход эл.энергии предприятием (2-3) | E11: Суммарный расход эл.энергии по всем вводам | F11: Суммарный расход эл.энергии всеми сторонними потребителями | G11: Расход эл.энергии предприятием (5-6)
A12: 1 | B12: 2 | C12: 3 | D12: 4 | E12: 5 | F12: 6 | G12: 7
A13: 1 | B13: =SUM('1а:45_1'!E15,'1а:45_1'!I15) -> 52038.547 | D13: =B13 -> 52038.547 | E13: 14968.829 | G13: =E13 -> 14968.829
A14: 2 | B14: =SUM('1а:45_1'!E16,'1а:45_1'!I16) -> 47446.275 | D14: =B14 -> 47446.275 | E14: 14192.989 | G14: =E14 -> 14192.989
A15: 3 | B15: =SUM('1а:45_1'!E17,'1а:45_1'!I17) -> 43031.898 | D15: =B15 -> 43031.898 | E15: 13892.111 | G15: =E15 -> 13892.111
A16: 4 | B16: =SUM('1а:45_1'!E18,'1а:45_1'!I18) -> 40605.309 | D16: =B16 -> 40605.309 | E16: 13075.29 | G16: =E16 -> 13075.29
A17: 5 | B17: =SUM('1а:45_1'!E19,'1а:45_1'!I19) -> 40191.747 | D17: =B17 -> 40191.747 | E17: 12399.331 | G17: =E17 -> 12399.331
A18: 6 | B18: =SUM('1а:45_1'!E20,'1а:45_1'!I20) -> 42850.535 | D18: =B18 -> 42850.535 | E18: 12460.856 | G18: =E18 -> 12460.856
A19: 7 | B19: =SUM('1а:45_1'!E21,'1а:45_1'!I21) -> 50964.347 | D19: =B19 -> 50964.347 | E19: 12514.841 | G19: =E19 -> 12514.841
A20: 8 | B20: =SUM('1а:45_1'!E22,'1а:45_1'!I22) -> 60527.841 | D20: =B20 -> 60527.841 | E20: 14974.483 | G20: =E20 -> 14974.483
A21: 9 | B21: =SUM('1а:45_1'!E23,'1а:45_1'!I23) -> 72418.671 | D21: =B21 -> 72418.671 | E21: 19155.309 | G21: =E21 -> 19155.309
A22: 10 | B22: =SUM('1а:45_1'!E24,'1а:45_1'!I24) -> 79677.493 | D22: =B22 -> 79677.493 | E22: 21332.235 | G22: =E22 -> 21332.235
A23: 11 | B23: =SUM('1а:45_1'!E25,'1а:45_1'!I25) -> 82541.758 | D23: =B23 -> 82541.758 | E23: 21916.756 | G23: =E23 -> 21916.756
A24: 12 | B24: =SUM('1а:45_1'!E26,'1а:45_1'!I26) -> 82795.017 | D24: =B24 -> 82795.017 | E24: 22115.883 | G24: =E24 -> 22115.883
... A36: 24 | B36: =SUM('1а:45_1'!E38,'1а:45_1'!I38) -> 59189.042 | D36: =B36 -> 59189.042 | E36: 411919.41 | G36: =E36 -> 411919.41
A37: Итого | B37: =SUM(B13:B36) -> 1592533.6 | D37: =B37 -> 1592533.6 | E37: =SUM(E13:E36) -> 823838.83 | G37: =SUM(G13:G36) -> 823838.83
A41: И.о.главного инженера АО "Вологдаоблэнерго" О.В.Уткин
D48: =MAX(D13:D36) -> 83061.618 | G48: =MAX(G13:G37) -> 823838.83

Sheet 46
B1: АО "Вологдаоблэнерго" | J1: код 900151 | N1: РТП "Кубенское"
B2: наименование предприятия | N2: наименование источника питания
B3: уч-к "Кубенское" | N3: _________________________________
B4: ул. Горького, 99 | I4: Таблица № 1 | O4: СПТУ, ПКУ
B5: адрес
A6: почасовых записей показаний электрических счетчиков
A7: в режимный день 17 ИЮНЯ 2020 г.
A8: 1640 | B8: 411
A9: часы суток | B9: Активная энергия | J9: Реактивная энергия
B10: ф.8 - СПТУ | F10: ф.9 - ПКУ | J10: ф.8 - СПТУ | N10: ф.9 - ПКУ
B11: Расчет. Коэф. | E11: 3000 | F11: Расчет. Коэф. | I11: 1500 | J11: Расчет. Коэф. | M11: 3000 | N11: Расчет. Коэф. | Q11: 1500
B12: показания счетчика | C12: разность | E12: расход эл.энергии за час | F12: показания счетчика | G12: разность | I12: расход эл.энергии за час | J12: показания счетчика | K12: разность | M12: расход эл.энергии за час | N12: показания счетчика | O12: разность | Q12: расход эл.энергии за час
A13: 1 | B13: 2 | C13: 3 | E13: 4 | F13: 5 | G13: 6 | I13: 7 | J13: 8 | K13: 9 | M13: 10 | N13: 11 | O13: 12 | Q13: 13
A14: 0
A15: 1 | E15: 138 | I15: 184.95 | M15: 89 | Q15: 146.55
A16: 2 | E16: 127 | I16: 163.8 | M16: 89 | Q16: 134.4
A17: 3 | E17: 119 | I17: 158.1 | M17: 89 | Q17: 136.8
A18: 4 | E18: 120 | I18: 160.5 | M18: 82 | Q18: 129.9
A19: 5 | E19: 117 | I19: 154.05 | M19: 81 | Q19: 125.55
A20: 6 | E20: 122 | I20: 165.75 | M20: 83 | Q20: 123.15
A21: 7 | E21: 143 | I21: 180.15 | M21: 80 | Q21: 125.4
A22: 8 | E22: 171 | I22: 210.75 | M22: 79 | Q22: 128.4
A23: 9 | E23: 205 | I23: 252.3 | M23: 83 | Q23: 147.45
A24: 10 | E24: 226 | I24: 323.1 | M24: 97 | Q24: 198.75
A25: 11 | E25: 224 | I25: 279.75 | M25: 97 | Q25: 182.4
A26: 12 | E26: 217 | I26: 330.6 | M26: 94 | Q26: 193.5
... A38: 24 | E38: 156 | I38: 211.05 | M38: 87 | Q38: 136.35
A39: Итого | E39: =SUM(E15:E38) -> 4258 | I39: =SUM(I15:I38) -> 5706 | M39: =SUM(M15:M38) -> 2155 | Q39: =SUM(Q15:Q38) -> 3691.5
A40: 1. При наличии на предприятии отклонений от нормальных режимов электропотребления (временное изменение схем питания, остановка на ремонт, резкое снижение
A41: эл.потребления и т.д.) последние необходимо перечислить.
A42: 2. При наличии нескольких источников питания и большого количества вводов таблица
A43: составляется самим предприятием с соблюдением всех пунктов настоящей таблицы. | K43: Главный инженер ___________________ А.А. Михалин

Sheet 47
B1: АО "Вологдаоблэнерго" | J1: код 900151 | N1: ПС "Молочное" 35/10 кВ
B2: наименование предприятия | N2: наименование источника питания
B3: уч-к п. Молочное | N3: _________________________________
B4: ул. Горького, 99 | I4: Таблица № 1
B5: адрес
A6: почасовых записей показаний электрических счетчиков
A7: в режимный деннь 17 ИЮНЯ 2020 г.
A8: 1450 | B8: 1449
A9: часы суток | B9: Активная энергия | J9: Реактивная энергия
B10: яч.17 - ф.Молочное-1 | F10: яч.12 - ф.Молочное-2 | J10: яч.17 - ф.Молочное-1 | N10: яч.12 - ф.Молочное-2
B11: Расчет. Коэф. | E11: 3000 | F11: Расчет. Коэф. | I11: 3000 | J11: Расчет. Коэф. | M11: 3000 | N11: Расчет. Коэф. | Q11: 3000
B12: показания счетчика | C12: разность | E12: расход эл.энергии за час | F12: показания счетчика | G12: разность | I12: расход эл.энергии за час | J12: показания счетчика | K12: разность | M12: расход эл.энергии за час | N12: показания счетчика | O12: разность | Q12: расход эл.энергии за час
A13: 1 | B13: 2 | C13: 3 | E13: 4 | F13: 5 | G13: 6 | I13: 7 | J13: 8 | K13: 9 | M13: 10 | N13: 11 | O13: 12 | Q13: 13
A14: 0
A15: 1 | E15: 528 | I15: 53 | M15: 221 | Q15: 37
A16: 2 | E16: 487 | I16: 48 | M16: 220 | Q16: 34
A17: 3 | E17: 433 | I17: 30 | M17: 219 | Q17: 24
A18: 4 | E18: 426 | I18: 32 | M18: 214 | Q18: 31
A19: 5 | E19: 435 | I19: 30 | M19: 209 | Q19: 28
A20: 6 | E20: 513 | I20: 31 | M20: 211 | Q20: 22
A21: 7 | E21: 607 | I21: 33 | M21: 209 | Q21: 27
A22: 8 | E22: 741 | I22: 28 | M22: 217 | Q22: 19
A23: 9 | E23: 824 | I23: 45 | M23: 223 | Q23: 25
A24: 10 | E24: 941 | I24: 51 | M24: 264 | Q24: 32
A25: 11 | E25: 951 | I25: 48 | M25: 264 | Q25: 29
A26: 12 | E26: 876 | I26: 57 | M26: 247 | Q26: 26
... A38: 24 | E38: 645 | I38: 64 | M38: 250 | Q38: 36
A39: Итого | E39: =SUM(E15:E38) -> 17111 | I39: =SUM(I15:I38) -> 1111 | M39: =SUM(M15:M38) -> 5827 | Q39: =SUM(Q15:Q38) -> 695
A40: 1. При наличии на предприятии отклонений от нормальных режимов электропотребления (временное изменение схем питания, остановка на ремонт, резкое снижение
A41: эл.потребления и т.д.) последние необходимо перечислить.
A42: 2. При наличии нескольких источников питания и большого количества вводов таблица
A43: составляется самим предприятием с соблюдением всех пунктов настоящей таблицы. | K43: Главный инженер ___________________ А.А. Михалин

Sheet 48
B1: АО "Вологдаоблэнерго" | J1: код 900151 | N1: ПС "Молочное" 35/10 кВ
B2: наименование предприятия | N2: наименование источника питания
B3: уч-к п. Молочное | N3: _________________________________
B4: ул. Горького, 99 | I4: Таблица № 1
B5: адрес
A6: почасовых записей показаний электрических счетчиков
A7: в режимный день 17 ИЮНЯ 2020 г.
A8: 1451 | B8: 1448
A9: часы суток | B9: Активная энергия | J9: Реактивная энергия
B10: яч 18 - ф.Молочное-3 | F10: яч 10. - ф.Очистные | J10: яч. 18 - ф.Молочное-3 | N10: яч 10 - ф.Очистные
B11: Расчет. Коэф. | E11: 3000 | F11: Расчет. Коэф. | I11: 2000 | J11: Расчет. Коэф. | M11: 3000 | N11: Расчет. Коэф. | Q11: 2000
B12: показания счетчика | C12: разность | E12: расход эл.энергии за час | F12: показания счетчика | G12: разность | I12: расход эл.энергии за час | J12: показания счетчика | K12: разность | M12: расход эл.энергии за час | N12: показания счетчика | O12: разность | Q12: расход эл.энергии за час
A13: 1 | B13: 2 | C13: 3 | E13: 4 | F13: 5 | G13: 6 | I13: 7 | J13: 8 | K13: 9 | M13: 10 | N13: 11 | O13: 12 | Q13: 13
A14: 0
A15: 1 | E15: 141 | I15: 91 | M15: 38 | Q15: 40
A16: 2 | E16: 123 | I16: 83 | M16: 37 | Q16: 38
A17: 3 | E17: 110 | I17: 60 | M17: 37 | Q17: 29
A18: 4 | E18: 106 | I18: 60 | M18: 36 | Q18: 25
A19: 5 | E19: 106 | I19: 60 | M19: 35 | Q19: 24
A20: 6 | E20: 112 | I20: 58 | M20: 33 | Q20: 20
A21: 7 | E21: 142 | I21: 73 | M21: 36 | Q21: 18
A22: 8 | E22: 159 | I22: 85 | M22: 40 | Q22: 26
A23: 9 | E23: 207 | I23: 108 | M23: 43 | Q23: 30
A24: 10 | E24: 206 | I24: 115 | M24: 52 | Q24: 38
A25: 11 | E25: 203 | I25: 116 | M25: 50 | Q25: 40
A26: 12 | E26: 218 | I26: 119 | M26: 51 | Q26: 33
... A38: 24 | E38: 170 | I38: 104 | M38: 42 | Q38: 43
A39: Итого | E39: =SUM(E15:E38) -> 4248 | I39: =SUM(I15:I38) -> 2420 | M39: =SUM(M15:M38) -> 1083 | Q39: =SUM(Q15:Q38) -> 794
A40: 1. При наличии на предприятии отклонений от нормальных режимов электропотребления (временное изменение схем питания, остановка на ремонт, резкое снижение
A41: эл.потребления и т.д.) последние необходимо перечислить.
A42: 2. При наличии нескольких источников питания и большого количества вводов таблица
A43: составляется самим предприятием с соблюдением всех пунктов настоящей таблицы. | K43: Главный инженер ___________________ А.А. Михалин

Sheet 48_1
B1: АО "Вологдаоблэнерго" | J1: код 900151 | N1: ПС "Молочное" 35/10 кВ
B2: наименование предприятия | N2: наименование источника питания
B3: уч-к п. Молочное | N3: _________________________________
B4: ул. Горького, 99 | I4: Таблица № 1
B5: адрес
A6: почасовых записей показаний электрических счетчиков
A7: в режимный день 17 ИЮНЯ 2020 г.
A8: 624 | B8: 633
A9: часы суток | B9: Активная энергия | J9: Реактивная энергия
B10: ф. Ивлево, ф. Майский - ТП28 Т1 | F10: ф. Ивлево, ф. Майский - ТП28 Т2 | J10: ф. Ивлево, ф. Майский - ТП28 Т1 | N10: ф. Ивлево, ф. Майский - ТП28 Т2
B11: Расчет. Коэф. | E11: 120 | F11: Расчет. Коэф. | I11: 120 | J11: Расчет. Коэф. | M11: 120 | N11: Расчет. Коэф. | Q11: 120
B12: показания счетчика | C12: разность | E12: расход эл.энергии за час | F12: показания счетчика | G12: разность | I12: расход эл.энергии за час | J12: показания счетчика | K12: разность | M12: расход эл.энергии за час | N12: показания счетчика | O12: разность | Q12: расход эл.энергии за час
A13: 1 | B13: 2 | C13: 3 | E13: 4 | F13: 5 | G13: 6 | I13: 7 | J13: 8 | K13: 9 | M13: 10 | N13: 11 | O13: 12 | Q13: 13
A14: 0
A15: 1 | E15: 0 | I15: 56.46 | M15: 0 | Q15: 14.4
A16: 2 | E16: 0 | I16: 47.64 | M16: 0 | Q16: 9.06
A17: 3 | E17: 0 | I17: 41.46 | M17: 0 | Q17: 11.7
A18: 4 | E18: 0 | I18: 38.64 | M18: 0 | Q18: 11.58
A19: 5 | E19: 0 | I19: 39.78 | M19: 0 | Q19: 10.02
A20: 6 | E20: 0 | I20: 43.56 | M20: 0 | Q20: 11.52
A21: 7 | E21: 0 | I21: 50.04 | M21: 0 | Q21: 12
A22: 8 | E22: 0 | I22: 52.38 | M22: 0 | Q22: 12.78
A23: 9 | E23: 0 | I23: 57.24 | M23: 0 | Q23: 12.96
A24: 10 | E24: 0 | I24: 65.34 | M24: 0 | Q24: 14.88
A25: 11 | E25: 0 | I25: 68.7 | M25: 0 | Q25: 15.54
A26: 12 | E26: 0 | I26: 67.56 | M26: 0 | Q26: 16.26
... A38: 24 | E38: 0 | I38: 71.4 | M38: 0 | Q38: 16.92
A39: Итого | E39: =SUM(E15:E38) -> 0 | I39: =SUM(I15:I38) -> 1498.14 | M39: =SUM(M15:M38) -> 0 | Q39: =SUM(Q15:Q38) -> 371.52
A40: 1. При наличии на предприятии отклонений от нормальных режимов электропотребления (временное изменение схем питания, остановка на ремонт, резкое снижение
A41: эл.потребления и т.д.) последние необходимо перечислить.
A42: 2. При наличии нескольких источников питания и большого количества вводов таблица
A43: составляется самим предприятием с соблюдением всех пунктов настоящей таблицы. | K43: Главный инженер ___________________ А.А. Михалин

Sheet 48_2
B1: АО "Вологдаоблэнерго" | J1: код 900151 | N1: ПС "Молочное" 35/10 кВ
B2: наименование предприятия | N2: наименование источника питания
B3: уч-к п. Молочное | N3: _________________________________
B4: ул. Горького, 99 | I4: Таблица № 1
B5: адрес
A6: почасовых записей показаний электрических счетчиков
A7: в режимный день 17 ИЮНЯ 2020 г.
A8: 621
A9: часы суток | B9: Активная энергия | J9: Реактивная энергия
B10: ф. Ивлево, ф. Майский - ТП27 Т1 | J10: ф. Ивлево, ф. Майский - ТП27 Т1
B11: Расчет. Коэф. | F11: Расчет. Коэф. | J11: Расчет. Коэф. | N11: Расчет. Коэф.
B12: показания счетчика | C12: разность | E12: расход эл.энергии за час | F12: показания счетчика | G12: разность | I12: расход эл.энергии за час | J12: показания счетчика | K12: разность | M12: расход эл.энергии за час | N12: показания счетчика | O12: разность | Q12: расход эл.энергии за час
A13: 1 | B13: 2 | C13: 3 | E13: 4 | F13: 5 | G13: 6 | I13: 7 | J13: 8 | K13: 9 | M13: 10 | N13: 11 | O13: 12 | Q13: 13
A14: 0
A15: 1 | E15: 33 | M15: 7.02
A16: 2 | E16: 28.98 | M16: 6.6
A17: 3 | E17: 26.82 | M17: 6.78
A18: 4 | E18: 25.5 | M18: 5.88
A19: 5 | E19: 25.8 | M19: 6.84
A20: 6 | E20: 26.16 | M20: 6.36
A21: 7 | E21: 31.14 | M21: 5.94
A22: 8 | E22: 36.96 | M22: 6.6
A23: 9 | E23: 36.78 | M23: 6.66
A24: 10 | E24: 42.12 | M24: 7.56
A25: 11 | E25: 49.26 | M25: 8.34
A26: 12 | E26: 49.62 | M26: 9.24
... A38: 24 | E38: 40.56 | M38: 6.66
A39: Итого | E39: =SUM(E15:E38) -> 992.28 | M39: =SUM(M15:M38) -> 188.76
A40: 1. При наличии на предприятии отклонений от нормальных режимов электропотребления (временное изменение схем питания, остановка на ремонт, резкое снижение
A41: эл.потребления и т.д.) последние необходимо перечислить.
A42: 2. При наличии нескольких источников питания и большого количества вводов таблица
A43: составляется самим предприятием с соблюдением всех пунктов настоящей таблицы. | K43: Главный инженер ___________________ А.А. Михалин

Sheet 49
B1: АО "Вологдаоблэнерго" | J1: код 900151 | N1: РТП "КОРНИЛОВО" 35/10 кВ
B2: наименование предприятия | N2: наименование источника питания
B3: уч-к "Устье-Кубенское" | N3: _________________________________
B4: ул. Горького, 99 | I4: Таблица № 1
B5: адрес
A6: почасовых записей показаний электрических счетчиков
A7: в режимный день 17 ИЮНЯ 2020 г.
A8: 1639
A9: часы суток | B9: Активная энергия | J9: Реактивная энергия
B10: ф. "КОММУНАЛЬНЫЙ" | J10: ф. "КОММУНАЛЬНЫЙ"
B11: Расчет. Коэф. | E11: 2000 | F11: Расчет. Коэф. | I11: 0 | J11: Расчет. Коэф. | M11: 2000 | N11: Расчет. Коэф. | Q11: 0
B12: показания счетчика | C12: разность | E12: расход эл.энергии за час | F12: показания счетчика | G12: разность | I12: расход эл.энергии за час | J12: показания счетчика | K12: разность | M12: расход эл.энергии за час | N12: показания счетчика | O12: разность | Q12: расход эл.энергии за час
A13: 1 | B13: 2 | C13: 3 | E13: 4 | F13: 5 | G13: 6 | I13: 7 | J13: 8 | K13: 9 | M13: 10 | N13: 11 | O13: 12 | Q13: 13
A14: 0
A15: 1 | E15: 140 | M15: 104
A16: 2 | E16: 127 | M16: 101
A17: 3 | E17: 122 | M17: 103
A18: 4 | E18: 119 | M18: 97
A19: 5 | E19: 116 | M19: 94
A20: 6 | E20: 122 | M20: 90
A21: 7 | E21: 152 | M21: 91
A22: 8 | E22: 190 | M22: 97
A23: 9 | E23: 274 | M23: 168
A24: 10 | E24: 332 | M24: 231
A25: 11 | E25: 307 | M25: 205
A26: 12 | E26: 309 | M26: 213
... A38: 24 | E38: 174 | M38: 106
A39: Итого | E39: =SUM(E15:E38) -> 5383 | M39: =SUM(M15:M38) -> 3239
B41: Питание потребителей ф."Коммунальный" переведено на ф."Устье"
K43: Главный инженер ___________________ А.А. Михалин

Sheet 50
B1: АО "Вологдаоблэнерго" | J1: код 900151 | N1: РТП "КОРНИЛОВО" 35/10 кВ
B2: наименование предприятия | N2: наименование источника питания
B3: уч-к "Устье-Кубенское" | N3: _________________________________
B4: ул. Горького, 99 | I4: Таблица № 1
B5: адрес
A6: почасовых записей показаний электрических счетчиков
A7: в режимный день 17 ИЮНЯ 2020 г.
A8: 393 | B8: 392
A9: часы суток | B9: Активная энергия | J9: Реактивная энергия
B10: ф. "УСТЬЕ" | F10: ф. "СХТ" | J10: ф. "УСТЬЕ" | N10: ф. "СХТ"
B11: Расчет. Коэф. | E11: 3000 | F11: Расчет. Коэф. | I11: 2000 | J11: Расчет. Коэф. | M11: =E11 -> 3000 | N11: Расчет. Коэф. | Q11: 2000
B12: показания счетчика | C12: разность | E12: расход эл.энергии за час | F12: показания счетчика | G12: разность | I12: расход эл.энергии за час | J12: показания счетчика | K12: разность | M12: расход эл.энергии за час | N12: показания счетчика | O12: разность | Q12: расход эл.энергии за час
A13: 1 | B13: 2 | C13: 3 | E13: 4 | F13: 5 | G13: 6 | I13: 7 | J13: 8 | K13: 9 | M13: 10 | N13: 11 | O13: 12 | Q13: 13
A14: 0
A15: 1 | E15: 183.9 | I15: 88.4 | M15: 131.7 | Q15: 51.8
A16: 2 | E16: 172.8 | I16: 78.2 | M16: 128.7 | Q16: 51.8
A17: 3 | E17: 177.6 | I17: 71.8 | M17: 131.4 | Q17: 50.8
A18: 4 | E18: 170.1 | I18: 69 | M18: 126.3 | Q18: 47.6
A19: 5 | E19: 166.5 | I19: 68.6 | M19: 120.9 | Q19: 47
A20: 6 | E20: 177.3 | I20: 74.6 | M20: 117.3 | Q20: 45.6
A21: 7 | E21: 221.4 | I21: 94 | M21: 117.6 | Q21: 46.2
A22: 8 | E22: 286.8 | I22: 112.6 | M22: 130.8 | Q22: 48.6
A23: 9 | E23: 330.9 | I23: 116.4 | M23: 152.4 | Q23: 49
A24: 10 | E24: 390 | I24: 90 | M24: 209.4 | Q24: 1.2
A25: 11 | E25: 409.8 | I25: 0 | M25: 175.8 | Q25: 0
A26: 12 | E26: 407.1 | I26: 0 | M26: 188.7 | Q26: 0
... A38: 24 | E38: 212.4 | I38: 116.2 | M38: 123.9 | Q38: 54.8
A39: Итого | E39: =SUM(E15:E38) -> 6815.7 | I39: =SUM(I15:I38) -> 2319.2 | M39: =SUM(M15:M38) -> 3640.5 | Q39: =SUM(Q15:Q38) -> 1042
A40: 1. При наличии на предприятии отклонений от нормальных режимов электропотребления (временное изменение схем питания, остановка на ремонт, резкое снижение
A41: эл.потребления и т.д.) последние необходимо перечислить.
A42: 2. При наличии нескольких источников питания и большого количества вводов таблица
A43: составляется самим предприятием с соблюдением всех пунктов настоящей таблицы. | K43: Главный инженер ___________________ А.А. Михалин

Sheet 50-1
B1: АО "Вологдаоблэнерго" | J1: код 900151 | N1: РТП "КОРНИЛОВО" 35/10 кВ
B2: наименование предприятия | N2: наименование источника питания
B3: уч-к "Устье-Кубенское" | N3: _________________________________
B4: ул. Горького, 99 | I4: Таблица № 1
B5: адрес
A6: почасовых записей показаний электрических счетчиков
A7: в режимный день 17 ИЮНЯ 2020 г.
A8: 389 | B8: 388
A9: часы суток | B9: Активная энергия | J9: Реактивная энергия
B10: ф.7 - КТП-21 | F10: ф.7 - КТП-16 | J10: ф.7 - КТП-21 | N10: ф.7 - КТП-16
B11: Расчет. Коэф. | E11: 30 | F11: Расчет. Коэф. | I11: 40 | J11: Расчет. Коэф. | M11: =E11 -> 30 | N11: Расчет. Коэф. | Q11: 40
B12: показания счетчика | C12: разность | E12: расход эл.энергии за час | F12: показания счетчика | G12: разность | I12: расход эл.энергии за час | J12: показания счетчика | K12: разность | M12: расход эл.энергии за час | N12: показания счетчика | O12: разность | Q12: расход эл.энергии за час
A13: 1 | B13: 2 | C13: 3 | E13: 4 | F13: 5 | G13: 6 | I13: 7 | J13: 8 | K13: 9 | M13: 10 | N13: 11 | O13: 12 | Q13: 13
A14: 0
A15: 1 | E15: 13.005 | I15: 5.04 | M15: 8.685 | Q15: 2.7
A16: 2 | E16: 11.7 | I16: 4.28 | M16: 8.16 | Q16: 3.22
A17: 3 | E17: 10.68 | I17: 4.16 | M17: 8.295 | Q17: 3.12
A18: 4 | E18: 10.485 | I18: 3.9 | M18: 8.115 | Q18: 2.8
A19: 5 | E19: 10.485 | I19: 3.76 | M19: 7.62 | Q19: 2.52
A20: 6 | E20: 11.61 | I20: 3.86 | M20: 7.665 | Q20: 2.64
A21: 7 | E21: 17.625 | I21: 4.7 | M21: 8.37 | Q21: 2.88
A22: 8 | E22: 20.325 | I22: 6 | M22: 8.085 | Q22: 2.84
A23: 9 | E23: 19.395 | I23: 4.7 | M23: 7.92 | Q23: 3.14
A24: 10 | E24: 22.155 | I24: 5.28 | M24: 9.945 | Q24: 3.16
A25: 11 | E25: 20.07 | I25: 6.1 | M25: 9.9 | Q25: 3.3
A26: 12 | E26: 22.65 | I26: 6.16 | M26: 10.47 | Q26: 3
... A38: 24 | E38: 15.48 | I38: 5.48 | M38: 8.1 | Q38: 3.3
A39: Итого | E39: =SUM(E15:E38) -> 459.03 | I39: =SUM(I15:I38) -> 142.7 | Q39: =SUM(Q15:Q38) -> 79.34
A40: 1. При наличии на предприятии отклонений от нормальных режимов электропотребления (временное изменение схем питания, остановка на ремонт, резкое снижение
A41: эл.потребления и т.д.) последние необходимо перечислить.
A42: 2. При наличии нескольких источников питания и большого количества вводов таблица
A43: составляется самим предприятием с соблюдением всех пунктов настоящей таблицы. | K43: Главный инженер ___________________ А.А. Михалин

Sheet 50-2
B1: АО "Вологдаоблэнерго" | J1: код 900151 | N1: РТП "КОРНИЛОВО" 35/10 кВ
B2: наименование предприятия | N2: наименование источника питания
B3: уч-к "Устье-Кубенское" | N3: _________________________________
B4: ул. Горького, 99 | I4: Таблица № 1
B5: адрес
A6: почасовых записей показаний электрических счетчиков
A7: в режимный день 17 ИЮНЯ 2020 г.
A8: 390 | B8: 391
A9: часы суток | B9: Активная энергия | J9: Реактивная энергия
B10: ф.7 - КТП-4 | F10: ф.14 - ТП-24 | J10: ф.7 - КТП-4 | N10: ф.14 - ТП-24
B11: Расчет. Коэф. | E11: 60 | F11: Расчет. Коэф. | I11: 40 | J11: Расчет. Коэф. | M11: =E11 -> 60 | N11: Расчет. Коэф. | Q11: 40
B12: показания счетчика | C12: разность | E12: расход эл.энергии за час | F12: показания счетчика | G12: разность | I12: расход эл.энергии за час | J12: показания счетчика | K12: разность | M12: расход эл.энергии за час | N12: показания счетчика | O12: разность | Q12: расход эл.энергии за час
A13: 1 | B13: 2 | C13: 3 | E13: 4 | F13: 5 | G13: 6 | I13: 7 | J13: 8 | K13: 9 | M13: 10 | N13: 11 | O13: 12 | Q13: 13
A14: 0
A15: 1 | E15: 10.08 | I15: 30.3 | M15: 7.38 | Q15: 20.32
A16: 2 | E16: 9.63 | I16: 26.68 | M16: 6.96 | Q16: 16.46
A17: 3 | E17: 9.78 | I17: 26.78 | M17: 6.81 | Q17: 15.54
A18: 4 | E18: 8.76 | I18: 23.84 | M18: 6.96 | Q18: 14.56
A19: 5 | E19: 9.15 | I19: 20.66 | M19: 6.48 | Q19: 12.96
A20: 6 | E20: 10.38 | I20: 13.72 | M20: 6.48 | Q20: 9.34
A21: 7 | E21: 13.02 | I21: 16.38 | M21: 6.39 | Q21: 6.78
A22: 8 | E22: 12.72 | I22: 19.28 | M22: 7.08 | Q22: 8.78
A23: 9 | E23: 16.71 | I23: 21.56 | M23: 8.55 | Q23: 8
A24: 10 | E24: 18.15 | I24: 17.3 | M24: 9.51 | Q24: 7.38
A25: 11 | E25: 17.85 | I25: 16.36 | M25: 9.57 | Q25: 6.78
A26: 12 | E26: 21.63 | I26: 17.06 | M26: 9.87 | Q26: 7.02
... A38: 24 | E38: 12.6 | I38: 31.58 | M38: 7.5 | Q38: 17.26
A39: Итого | E39: =SUM(E15:E38) -> 381.45 | I39: =SUM(I15:I38) -> 530.94 | M39: =SUM(M15:M38) -> 198.39 | Q39: =SUM(Q15:Q38) -> 264.28
A40: 1. При наличии на предприятии отклонений от нормальных режимов электропотребления (временное изменение схем питания, остановка на ремонт, резкое снижение
A41: эл.потребления и т.д.) последние необходимо перечислить.
A42: 2. При наличии нескольких источников питания и большого количества вводов таблица
A43: составляется самим предприятием с соблюдением всех пунктов настоящей таблицы. | K43: Главный инженер ___________________ А.А. Михалин

Sheet 50-3
B1: АО "Вологдаоблэнерго" | J1: код 900151 | N1: РТП "КОРНИЛОВО" 35/10 кВ
B2: наименование предприятия | N2: наименование источника питания
B3: уч-к "Устье-Кубенское" | N3: _________________________________
B4: ул. Горького, 99 | I4: Таблица № 1
B5: адрес
A6: почасовых записей показаний электрических счетчиков
A7: в режимный день 17 ИЮНЯ 2020 г.
A8: 816 | B8: 907
A9: часы суток | B9: Активная энергия | J9: Реактивная энергия
B10: ф.1 - КТП-36 | F10: ф.7 - КТП25 | J10: ф.1 - КТП-36 | N10: ф.7 - ТП-25
B11: Расчет. Коэф. | E11: 60 | F11: Расчет. Коэф. | I11: 40 | J11: Расчет. Коэф. | M11: =E11 -> 60 | N11: Расчет. Коэф. | Q11: 40
B12: показания счетчика | C12: разность | E12: расход эл.энергии за час | F12: показания счетчика | G12: разность | I12: расход эл.энергии за час | J12: показания счетчика | K12: разность | M12: расход эл.энергии за час | N12: показания счетчика | O12: разность | Q12: расход эл.энергии за час
A13: 1 | B13: 2 | C13: 3 | E13: 4 | F13: 5 | G13: 6 | I13: 7 | J13: 8 | K13: 9 | M13: 10 | N13: 11 | O13: 12 | Q13: 13
A14: 0
A15: 1 | E15: 0 | I15: 7.86 | M15: 0 | Q15: 3.64
A16: 2 | E16: 0 | I16: 7.42 | M16: 0 | Q16: 3.52
A17: 3 | E17: 0 | I17: 6.84 | M17: 0 | Q17: 3.2
A18: 4 | E18: 0 | I18: 7.2 | M18: 0 | Q18: 3.96
A19: 5 | E19: 0 | I19: 7.2 | M19: 0 | Q19: 3.68
A20: 6 | E20: 0 | I20: 7.26 | M20: 0 | Q20: 3.32
A21: 7 | E21: 0 | I21: 6.86 | M21: 0 | Q21: 3.3
A22: 8 | E22: 0 | I22: 7.5 | M22: 0 | Q22: 3.44
A23: 9 | E23: 0 | I23: 8.72 | M23: 0 | Q23: 4.1
A24: 10 | E24: 0 | I24: 9.56 | M24: 0 | Q24: 4.08
A25: 11 | E25: 0 | I25: 12.12 | M25: 0 | Q25: 4.24
A26: 12 | E26: 0 | I26: 10.84 | M26: 0 | Q26: 5.2
... A38: 24 | E38: 0 | I38: 9.38 | M38: 0 | Q38: 3.94
A39: Итого | E39: =SUM(E15:E38) -> 0 | I39: =SUM(I15:I38) -> 241.28 | M39: =SUM(M15:M38) -> 0 | Q39: =SUM(Q15:Q38) -> 98.34
A40: 1. При наличии на предприятии отклонений от нормальных режимов электропотребления (временное изменение схем питания, остановка на ремонт, резкое снижение
A41: эл.потребления и т.д.) последние необходимо перечислить.
A42: 2. При наличии нескольких источников питания и большого количества вводов таблица
A43: составляется самим предприятием с соблюдением всех пунктов настоящей таблицы. | K43: Главный инженер ___________________ А.А. Михалин

Sheet 51
B1: АО "Вологдаоблэнерго" | J1: код 900151 | N1: ПС "ШУЙСКОЕ" 35/ 10 кВ
B2: наименование предприятия | N2: наименование источника питания
B3: уч-к "Шуйское" | N3: _________________________________
B4: ул. Горького, 99 | I4: Таблица № 1
B5: адрес
A6: почасовых записей показаний электрических счетчиков
A7: в режимный день 17 ИЮНЯ 2020 г.
A8: 1643
A9: часы суток | B9: Активная энергия | J9: Реактивная энергия
B10: яч.№ 16 - ф. "Биокомплекс" | J10: яч.№ 16 - ф. "Биокомплекс"
B11: Расчет. Коэф. | E11: 1000 | F11: Расчет. Коэф. | I11: 10 | J11: Расчет. Коэф. | M11: =E11 -> 1000 | N11: Расчет. Коэф. | Q11: 10
B12: показания счетчика | C12: разность | E12: расход эл.энергии за час | F12: показания счетчика | G12: разность | I12: расход эл.энергии за час | J12: показания счетчика | K12: разность | M12: расход эл.энергии за час | N12: показания счетчика | O12: разность | Q12: расход эл.энергии за час
A13: 1 | B13: 2 | C13: 3 | E13: 4 | F13: 5 | G13: 6 | I13: 7 | J13: 8 | K13: 9 | M13: 10 | N13: 11 | O13: 12 | Q13: 13
A14: 0
A15: 1 | E15: 1 | I15: 3
A16: 2 | E16: 1 | I16: 2
A17: 3 | E17: 0 | I17: 3
A18: 4 | E18: 1 | I18: 3
A19: 5 | E19: 1 | I19: 3
A20: 6 | E20: 0 | I20: 2
A21: 7 | E21: 1 | I21: 3
A22: 8 | E22: 1 | I22: 2
A23: 9 | E23: 0 | I23: 2
A24: 10 | E24: 1 | I24: 3
A25: 11 | E25: 0 | I25: 3
A26: 12 | E26: 1 | I26: 3
... A38: 24 | E38: 0 | I38: 3
A39: Итого | E39: =SUM(E15:E38) -> 16 | I39: =SUM(I15:I38) -> 62
A40: 1. При наличии на предприятии отклонений от нормальных режимов электропотребления (временное изменение схем питания, остановка на ремонт, резкое снижение
A41: эл.потребления и т.д.) последние необходимо перечислить.
A42: 2. При наличии нескольких источников питания и большого количества вводов таблица
A43: составляется самим предприятием с соблюдением всех пунктов настоящей таблицы. | K43: Главный инженер ___________________ А.А. Михалин

Sheet 52
B1: АО "Вологдаоблэнерго" | J1: код 900151 | N1: ПС "ШУЙСКОЕ" 35/ 10 кВ
B2: наименование предприятия | N2: наименование источника питания
B3: уч-к "Шуйское" | N3: _________________________________
B4: ул. Горького, 99 | I4: Таблица № 1
B5: адрес
A6: почасовых записей показаний электрических счетчиков
A7: в режимный день 17 ИЮНЯ 2020 г.
A8: 1641 | B8: 1642
A9: часы суток | B9: Активная энергия | J9: Реактивная энергия
B10: яч. №7 - ф."Райцентр" | F10: яч. 14 - ф. "Школа" | J10: яч. №7 - ф."Райцентр" | N10: =F10 -> яч. 14 - ф. "Школа"
B11: Расчет. Коэф. | E11: 1500 | F11: Расчет. Коэф. | I11: 2000 | J11: Расчет. Коэф. | M11: =E11 -> 1500 | N11: Расчет. Коэф. | Q11: 2000
B12: показания счетчика | C12: разность | E12: расход эл.энергии за час | F12: показания счетчика | G12: разность | I12: расход эл.энергии за час | J12: показания счетчика | K12: разность | M12: расход эл.энергии за час | N12: показания счетчика | O12: разность | Q12: расход эл.энергии за час
A13: 1 | B13: 2 | C13: 3 | E13: 4 | F13: 5 | G13: 6 | I13: 7 | J13: 8 | K13: 9 | M13: 10 | N13: 11 | O13: 12 | Q13: 13
A14: 0
A15: 1 | E15: 107 | I15: 190 | M15: 69 | Q15: 104
A16: 2 | E16: 94 | I16: 171 | M16: 68 | Q16: 97
A17: 3 | E17: 81 | I17: 137 | M17: 65 | Q17: 87
A18: 4 | E18: 80 | I18: 137 | M18: 63 | Q18: 83
A19: 5 | E19: 81 | I19: 150 | M19: 61 | Q19: 84
A20: 6 | E20: 89 | I20: 155 | M20: 58 | Q20: 79
A21: 7 | E21: 120 | I21: 192 | M21: 57 | Q21: 77
A22: 8 | E22: 153 | I22: 244 | M22: 58 | Q22: 80
A23: 9 | E23: 180 | I23: 267 | M23: 56 | Q23: 83
A24: 10 | E24: 181 | I24: 282 | M24: 98 | Q24: 97
A25: 11 | E25: 186 | I25: 268 | M25: 104 | Q25: 103
A26: 12 | E26: 174 | I26: 278 | M26: 81 | Q26: 111
... A38: 24 | E38: 125 | I38: 184 | M38: 66 | Q38: 91
A39: Итого | E39: =SUM(E15:E38) -> 3554 | I39: =SUM(I15:I38) -> 5398 | M39: =SUM(M15:M38) -> 1707 | Q39: =SUM(Q15:Q38) -> 2165
A40: 1. При наличии на предприятии отклонений от нормальных режимов электропотребления (временное изменение схем питания, остановка на ремонт, резкое снижение
A41: эл.потребления и т.д.) последние необходимо перечислить.
A42: 2. При наличии нескольких источников питания и большого количества вводов таблица
A43: составляется самим предприятием с соблюдением всех пунктов настоящей таблицы. | K43: Главный инженер ___________________ А.А. Михалин

Sheet 54
B1: АО "Вологдаоблэнерго" | J1: код 900151 | N1: ПС "ГДЗ" 110/6 кВ
B2: наименование предприятия | N2: наименование источника питания
B3: уч -к г. Сокол | N3: _________________________________
B4: ул. Горького, 99 | I4: Таблица № 1 | O4: РТП 6
B5: адрес
A6: почасовых записей показаний электрических счетчиков
A7: в режимный день 17 ИЮНЯ 2020 г.
A8: 358 | B8: 360
A9: часы суток | B9: Активная энергия | J9: Реактивная энергия
B10: яч. 7 - ГДЗ-1 -РТП 6 | F10: яч. 17 - ГДЗ-2 - РТП 6 | J10: яч. 7 - ГДЗ-1 -РТП 6 | N10: яч. 17 - ГДЗ-2 - РТП 6
B11: Расчет. Коэф. | E11: 4800 | F11: Расчет. Коэф. | I11: 4800 | J11: Расчет. Коэф. | M11: 4800 | N11: Расчет. Коэф. | Q11: =I11 -> 4800
B12: показания счетчика | C12: разность | E12: расход эл.энергии за час | F12: показания счетчика | G12: разность | I12: расход эл.энергии за час | J12: показания счетчика | K12: разность | M12: расход эл.энергии за час | N12: показания счетчика | O12: разность | Q12: расход эл.энергии за час
A13: 1 | B13: 2 | C13: 3 | E13: 4 | F13: 5 | G13: 6 | I13: 7 | J13: 8 | K13: 9 | M13: 10 | N13: 11 | O13: 12 | Q13: 13
A14: 0
A15: 1 | E15: 372.48 | M15: 249.12
A16: 2 | E16: 335.52 | M16: 224.64
A17: 3 | E17: 244.32 | M17: 208.32
A18: 4 | E18: 228 | M18: 185.28
A19: 5 | E19: 294.24 | M19: 189.12
A20: 6 | E20: 335.04 | M20: 199.68
A21: 7 | E21: 382.08 | M21: 190.08
A22: 8 | E22: 413.76 | M22: 200.16
A23: 9 | E23: 674.4 | M23: 395.04
A24: 10 | E24: 726.24 | M24: 476.64
A25: 11 | E25: 615.36 | M25: 421.92
A26: 12 | E26: 643.68 | M26: 471.36
... A38: 24 | E38: 392.16 | M38: 233.28
A39: Итого | E39: =SUM(E15:E38) -> 11208 | M39: =SUM(M15:M38) -> 6814.08
A40: 1. При наличии на предприятии отклонений от нормальных режимов электропотребления (временное изменение схем питания, остановка на ремонт, резкое снижение
A41: эл.потребления и т.д.) последние необходимо перечислить.
A42: 2. При наличии нескольких источников питания и большого количества вводов таблица
A43: составляется самим предприятием с соблюдением всех пунктов настоящей таблицы. | K43: Главный инженер ___________________ А.А. Михалин

Sheet 55
B1: АО "Вологдаоблэнерго" | J1: код 900151 | N1: ПС "ГДЗ" 110/6 кВ
B2: наименование предприятия | N2: наименование источника питания
B3: уч -к г. Сокол | N3: _________________________________
B4: ул. Горького, 99 | I4: Таблица № 1 | O4: ЛПК-1
B5: адрес
A6: почасовых записей показаний электрических счетчиков
A7: в режимный день 17 ИЮНЯ 2020 г.
A8: 359
A9: часы суток | B9: Активная энергия | J9: Реактивная энергия
B10: яч. 14 - ГДЗ - ЛПК-1 | J10: яч. 14 - ГДЗ - ЛПК-1
B11: Расчет. Коэф. | E11: 7200 | F11: Расчет. Коэф. | J11: Расчет. Коэф. | M11: =E11 -> 7200 | N11: Расчет. Коэф.
B12: показания счетчика | C12: разность | E12: расход эл.энергии за час | F12: показания счетчика | G12: разность | I12: расход эл.энергии за час | J12: показания счетчика | K12: разность | M12: расход эл.энергии за час | N12: показания счетчика | O12: разность | Q12: расход эл.энергии за час
A13: 1 | B13: 2 | C13: 3 | E13: 4 | F13: 5 | G13: 6 | I13: 7 | J13: 8 | K13: 9 | M13: 10 | N13: 11 | O13: 12 | Q13: 13
A14: 0
A15: 1 | E15: 212.4 | M15: 107.28
A16: 2 | E16: 192.24 | M16: 107.28
A17: 3 | E17: 174.24 | M17: 105.84
A18: 4 | E18: 169.2 | M18: 102.96
A19: 5 | E19: 172.8 | M19: 99.36
A20: 6 | E20: 191.52 | M20: 101.52
A21: 7 | E21: 234 | M21: 96.48
A22: 8 | E22: 285.12 | M22: 103.68
A23: 9 | E23: 398.88 | M23: 164.16
A24: 10 | E24: 409.68 | M24: 194.4
A25: 11 | E25: 410.4 | M25: 187.2
A26: 12 | E26: 436.32 | M26: 213.84
... A38: 24 | E38: 289.44 | M38: 123.84
A39: Итого | E39: =SUM(E15:E38) -> 7655.04 | M39: =SUM(M15:M38) -> 3286.08
A40: 1. При наличии на предприятии отклонений от нормальных режимов электропотребления (временное изменение схем питания, остановка на ремонт, резкое снижение
A41: эл.потребления и т.д.) последние необходимо перечислить.
A42: 2. При наличии нескольких источников питания и большого количества вводов таблица
A43: составляется самим предприятием с соблюдением всех пунктов настоящей таблицы. | K43: Главный инженер ___________________ А.А. Михалин

Sheet 56
B1: АО "Вологдаоблэнерго" | J1: код 900151 | M1: ОАО "Сокольский" ЦБК" ГПП 35/6 кВ
B2: наименование предприятия | M2: наименование источника питания
B3: уч -к г. Сокол | N3: _________________________________
B4: ул. Горького, 99 | I4: Таблица № 1 | O4: РП 5
B5: адрес
A6: почасовых записей показаний электрических счетчиков
A7: в режимный день 17 ИЮНЯ 2020 г.
A8: 400 | B8: 397
A9: часы суток | B9: Активная энергия | J9: Реактивная энергия
B10: яч.4 - РП 5 | F10: яч. 6 - ТП-40 | J10: яч.4 - РП 5 | N10: яч. 6 - ТП-40
B11: Расчет. Коэф. | E11: 2400 | F11: Расчет. Коэф. | I11: 7200 | J11: Расчет. Коэф. | M11: =E11 -> 2400 | N11: Расчет. Коэф. | Q11: =I11 -> 7200
B12: показания счетчика | C12: разность | E12: расход эл.энергии за час | F12: показания счетчика | G12: разность | I12: расход эл.энергии за час | J12: показания счетчика | K12: разность | M12: расход эл.энергии за час | N12: показания счетчика | O12: разность | Q12: расход эл.энергии за час
A13: 1 | B13: 2 | C13: 3 | E13: 4 | F13: 5 | G13: 6 | I13: 7 | J13: 8 | K13: 9 | M13: 10 | N13: 11 | O13: 12 | Q13: 13
A14: 0
A15: 1 | E15: 175.44 | I15: 431.28 | M15: 78.48 | Q15: 161.28
A16: 2 | E16: 166.56 | I16: 372.96 | M16: 77.52 | Q16: 160.56
A17: 3 | E17: 158.4 | I17: 324.72 | M17: 78 | Q17: 155.52
A18: 4 | E18: 156 | I18: 317.52 | M18: 76.32 | Q18: 161.28
A19: 5 | E19: 146.88 | I19: 310.32 | M19: 72.24 | Q19: 144.72
A20: 6 | E20: 154.08 | I20: 342.72 | M20: 73.44 | Q20: 145.44
A21: 7 | E21: 195.12 | I21: 470.16 | M21: 72.24 | Q21: 145.44
A22: 8 | E22: 201.6 | I22: 524.88 | M22: 74.4 | Q22: 163.44
A23: 9 | E23: 221.28 | I23: 773.28 | M23: 74.4 | Q23: 324
A24: 10 | E24: 259.68 | I24: 797.76 | M24: 87.36 | Q24: 382.32
A25: 11 | E25: 234.96 | I25: 762.48 | M25: 88.32 | Q25: 344.16
A26: 12 | E26: 239.76 | I26: 774.72 | M26: 90.48 | Q26: 396
... A38: 24 | E38: 220.32 | I38: 458.64 | M38: 80.4 | Q38: 149.04
A39: Итого | E39: =SUM(E15:E38) -> 5147.28 | I39: =SUM(I15:I38) -> 13236.48 | M39: =SUM(M15:M38) -> 1894.56 | Q39: =SUM(Q15:Q38) -> 5207.04
A40: 1. При наличии на предприятии отклонений от нормальных режимов электропотребления (временное изменение схем питания, остановка на ремонт, резкое снижение
A41: эл.потребления и т.д.) последние необходимо перечислить.
A42: 2. При наличии нескольких источников питания и большого количества вводов таблица
A43: составляется самим предприятием с соблюдением всех пунктов настоящей таблицы. | K43: Главный инженер ___________________ А.А. Михалин

Sheet 57
B1: АО "Вологдаоблэнерго" | J1: код 900151 | M1: ОАО "Сокольский" ЦБК" ГПП 35/6 кВ
B2: наименование предприятия | M2: наименование источника питания
B3: уч -к г. Сокол | N3: _________________________________
B4: ул. Горького, 99 | I4: Таблица № 1
B5: адрес
A6: почасовых записей показаний электрических счетчиков
A7: в режимный день 17 ИЮНЯ 2020 г.
A8: 398 | B8: 399
A9: часы суток | B9: Активная энергия | J9: Реактивная энергия
B10: яч.2 - РТП 2 яч. 15 | F10: яч. 3 - РТП 2 яч. 2 | J10: яч.2 - РТП 2 яч. 15 | N10: яч. 3 - РТП 2 яч. 2
B11: Расчет. Коэф. | E11: 7200 | F11: Расчет. Коэф. | I11: =Q11 -> 7200 | J11: Расчет. Коэф. | M11: =E11 -> 7200 | N11: Расчет. Коэф. | Q11: 7200
B12: показания счетчика | C12: разность | E12: расход эл.энергии за час | F12: показания счетчика | G12: разность | I12: расход эл.энергии за час | J12: показания счетчика | K12: разность | M12: расход эл.энергии за час | N12: показания счетчика | O12: разность | Q12: расход эл.энергии за час
B13: 2 | C13: 3 | E13: 4 | F13: 5 | G13: 6 | I13: 7 | J13: 8 | K13: 9 | M13: 10 | N13: 11 | O13: 12 | Q13: 13
A14: 0
A15: 1 | E15: 436.32 | I15: 552.96 | M15: 204.48 | Q15: 190.8
A16: 2 | E16: 416.16 | I16: 514.8 | M16: 200.88 | Q16: 185.76
A17: 3 | E17: 381.6 | I17: 460.08 | M17: 192.24 | Q17: 186.48
A18: 4 | E18: 365.04 | I18: 446.4 | M18: 185.76 | Q18: 173.52
A19: 5 | E19: 374.4 | I19: 442.08 | M19: 180.72 | Q19: 169.92
A20: 6 | E20: 380.16 | I20: 461.52 | M20: 179.28 | Q20: 170.64
A21: 7 | E21: 429.12 | I21: 535.68 | M21: 173.52 | Q21: 168.48
A22: 8 | E22: 479.52 | I22: 601.2 | M22: 192.24 | Q22: 185.76
A23: 9 | E23: 552.96 | I23: 743.04 | M23: 203.04 | Q23: 210.24
A24: 10 | E24: 614.16 | I24: 846.72 | M24: 239.04 | Q24: 266.4
A25: 11 | E25: 659.52 | I25: 879.84 | M25: 250.56 | Q25: 271.44
A26: 12 | E26: 656.64 | I26: 903.6 | M26: 264.24 | Q26: 288.72
... A38: 24 | E38: 481.68 | I38: 619.2 | M38: 199.44 | Q38: 184.32
A39: Итого | E39: =SUM(E15:E38) -> 12835.44 | I39: =SUM(I15:I38) -> 16641.36 | M39: =SUM(M15:M38) -> 4965.12 | Q39: =SUM(Q15:Q38) -> 5024.88
A40: 1. При наличии на предприятии отклонений от нормальных режимов электропотребления (временное изменение схем питания, остановка на ремонт, резкое снижение
A41: эл.потребления и т.д.) последние необходимо перечислить.
A42: 2. При наличии нескольких источников питания и большого количества вводов таблица
A43: составляется самим предприятием с соблюдением всех пунктов настоящей таблицы. | K43: Главный инженер ___________________ А.А. Михалин

Sheet 58
B1: АО "Вологдаоблэнерго" | J1: код 900151 | M1: ПС "Сокол" 220/110/35/10 кВ
B2: наименование предприятия | M2: наименование источника питания
B3: уч -к г. Сокол | O3: КТП-90, КТП-91
B4: ул. Горького, 99 | I4: Таблица № 1
B5: адрес
A6: почасовых записей показаний электрических счетчиков
A7: в режимный день 17 ИЮНЯ 2020 г.
A8: 396 | B8: 395
A9: часы суток | B9: Активная энергия | J9: Реактивная энергия
B10: ф. 4 (Обросово) - КТП-90 (дачн. общ.) | F10: ф. 4 (Обросово) - КТП-91 (д. Бережок) | J10: =B10 -> ф. 4 (Обросово) - КТП-90 (дачн. общ.) | N10: =F10 -> ф. 4 (Обросово) - КТП-91 (д. Бережок)
B11: Расчет. Коэф. | E11: 1800 | F11: Расчет. Коэф. | I11: =Q11 -> 900 | J11: Расчет. Коэф. | M11: =E11 -> 1800 | N11: Расчет. Коэф. | Q11: 900
B12: показания счетчика | C12: разность | E12: расход эл.энергии за час | F12: показания счетчика | G12: разность | I12: расход эл.энергии за час | J12: показания счетчика | K12: разность | M12: расход эл.энергии за час | N12: показания счетчика | O12: разность | Q12: расход эл.энергии за час
A13: 1 | B13: 2 | C13: 3 | E13: 4 | F13: 5 | G13: 6 | I13: 7 | J13: 8 | K13: 9 | M13: 10 | N13: 11 | O13: 12 | Q13: 13
A14: 0
A15: 1 | E15: 2.02 | I15: 3.72 | M15: 0 | Q15: 2.13
A16: 2 | E16: 1.6 | I16: 3.01 | M16: 0 | Q16: 1.78
A17: 3 | E17: 1.58 | I17: 2.13 | M17: 0 | Q17: 1.51
A18: 4 | E18: 1.68 | I18: 1.72 | M18: 0 | Q18: 1.03
A19: 5 | E19: 1.72 | I19: 1.92 | M19: 0 | Q19: 1.31
A20: 6 | E20: 2.4 | I20: 2.55 | M20: 0 | Q20: 1.11
A21: 7 | E21: 2.2 | I21: 3.22 | M21: 0 | Q21: 1.21
A22: 8 | E22: 2.4 | I22: 2.81 | M22: 0 | Q22: 1.22
A23: 9 | E23: 3 | I23: 3.32 | M23: 0 | Q23: 1.24
A24: 10 | E24: 13.12 | I24: 5.4 | M24: 0.04 | Q24: 1.34
A25: 11 | E25: 16.2 | I25: 4.02 | M25: 0 | Q25: 1.38
A26: 12 | E26: 10.08 | I26: 6.31 | M26: 0.02 | Q26: 1.59
... A38: 24 | E38: 1.52 | I38: 4.57 | M38: 0 | Q38: 2.25
A39: Итого | E39: =SUM(E15:E38) -> 122.14 | I39: =SUM(I15:I38) -> 104.42 | M39: =SUM(M15:M38) -> 0.08 | Q39: =SUM(Q15:Q38) -> 39.69
A40: 1. При наличии на предприятии отклонений от нормальных режимов электропотребления (временное изменение схем питания, остановка на ремонт, резкое снижение
A41: эл.потребления и т.д.) последние необходимо перечислить.
A42: 2. При наличии нескольких источников питания и большого количества вводов таблица
A43: составляется самим предприятием с соблюдением всех пунктов настоящей таблицы. | K43: Главный инженер ___________________ А.А. Михалин

Sheet 59
B1: АО "Вологдаоблэнерго" | J1: код 900151 | K1: ООО "Сокольский ЦБК" ГПП 110/6 кВ
B2: наименование предприятия | N2: наименование источника питания
B3: уч -к г. Сокол | N3: _________________________________
B4: ул. Горького, 99 | I4: Таблица № 1 | N4: ТП 77
B5: адрес
A6: почасовых записей показаний электрических счетчиков
A7: в режимный день 17 ИЮНЯ 2020 г.
A8: 487
A9: часы суток | B9: Активная энергия | J9: Реактивная энергия
B10: яч. 14 - ТП-77 (Михайлево) | J10: яч. 14 - ТП-77 (Михайлево)
B11: Расчет. Коэф. | E11: 2400 | F11: Расчет. Коэф. | I11: 0 | J11: Расчет. Коэф. | M11: 2400 | N11: Расчет. Коэф. | Q11: 0
B12: показания счетчика | C12: разность | E12: расход эл.энергии за час | F12: показания счетчика | G12: разность | I12: расход эл.энергии за час | J12: показания счетчика | K12: разность | M12: расход эл.энергии за час | N12: показания счетчика | O12: разность | Q12: расход эл.энергии за час
A13: 1 | B13: 2 | C13: 3 | E13: 4 | F13: 5 | G13: 6 | I13: 7 | J13: 8 | K13: 9 | M13: 10 | N13: 11 | O13: 12 | Q13: 13
A14: 0
A15: 1 | E15: 4.98 | M15: 5.88
A16: 2 | E16: 4.44 | M16: 5.52
A17: 3 | E17: 3.84 | M17: 5.64
A18: 4 | E18: 3.72 | M18: 5.28
A19: 5 | E19: 3.66 | M19: 4.92
A20: 6 | E20: 4.5 | M20: 4.8
A21: 7 | E21: 5.1 | M21: 4.68
A22: 8 | E22: 3.78 | M22: 4.14
A23: 9 | E23: 2.82 | M23: 3.84
A24: 10 | E24: 5.52 | M24: 7.2
A25: 11 | E25: 4.68 | M25: 7.98
A26: 12 | E26: 4.56 | M26: 8.64
... A38: 24 | E38: 2.94 | M38: 4.98
A39: Итого | E39: =SUM(E15:E38) -> 106.08 | M39: =SUM(M15:M38) -> 130.38
A40: 1. При наличии на предприятии отклонений от нормальных режимов электропотребления (временное изменение схем питания, остановка на ремонт, резкое снижение
A41: эл.потребления и т.д.) последние необходимо перечислить.
A42: 2. При наличии нескольких источников питания и большого количества вводов таблица
A43: составляется самим предприятием с соблюдением всех пунктов настоящей таблицы. | K43: Главный инженер ___________________ А.А. Михалин

Sheet 60
B1: АО "Вологдаоблэнерго" | J1: код 900151 | K1: ООО "Сухонский ЦБК" ГПП 110/6 кВ
B2: наименование предприятия | N2: наименование источника питания
B3: уч -к г. Сокол | N3: _________________________________
B4: ул. Горького, 99 | I4: Таблица № 1
B5: адрес
A6: почасовых записей показаний электрических счетчиков
A7: в режимный день 17 ИЮНЯ 2020 г.
A8: 1198 | B8: 1199
A9: часы суток | B9: Активная энергия | J9: Реактивная энергия
B10: РУ-1 яч 1 - ТП 3 | F10: РУ-1 яч 14 - ЛЭП 3 | J10: РУ-1 яч 1 - ТП 3 | N10: РУ-1 яч 14 - ЛЭП 3
B11: Расчет. Коэф. | E11: 4800 | F11: Расчет. Коэф. | I11: 2400 | J11: Расчет. Коэф. | M11: 4800 | N11: Расчет. Коэф. | Q11: 2400
B12: показания счетчика | C12: разность | E12: расход эл.энергии за час | F12: показания счетчика | G12: разность | I12: расход эл.энергии за час | J12: показания счетчика | K12: разность | M12: расход эл.энергии за час | N12: показания счетчика | O12: разность | Q12: расход эл.энергии за час
A13: 1 | B13: 2 | C13: 3 | E13: 4 | F13: 5 | G13: 6 | I13: 7 | J13: 8 | K13: 9 | M13: 10 | N13: 11 | O13: 12 | Q13: 13
A14: 0
A15: 1 | E15: 320.16 | I15: 432.96 | M15: 165.12 | Q15: 388.08
A16: 2 | E16: 290.4 | I16: 372 | M16: 164.64 | Q16: 353.76
A17: 3 | E17: 252.96 | I17: 335.52 | M17: 158.88 | Q17: 329.76
A18: 4 | E18: 246.24 | I18: 270.24 | M18: 169.44 | Q18: 263.76
A19: 5 | E19: 248.16 | I19: 249.6 | M19: 165.6 | Q19: 242.88
A20: 6 | E20: 260.16 | I20: 246.72 | M20: 159.36 | Q20: 223.68
A21: 7 | E21: 318.24 | I21: 283.68 | M21: 149.28 | Q21: 255.84
A22: 8 | E22: 383.52 | I22: 345.36 | M22: 182.88 | Q22: 259.68
A23: 9 | E23: 480.48 | I23: 1038.48 | M23: 227.04 | Q23: 780.96
A24: 10 | E24: 531.36 | I24: 1317.36 | M24: 290.88 | Q24: 1013.52
A25: 11 | E25: 500.16 | I25: 1049.04 | M25: 279.84 | Q25: 804
A26: 12 | E26: 529.44 | I26: 1254.24 | M26: 305.76 | Q26: 898.32
... A38: 24 | E38: 384.96 | I38: 547.68 | M38: 190.56 | Q38: 508.08
A39: Итого | E39: =SUM(E15:E38) -> 10108.32 | I39: =SUM(I15:I38) -> 17253.6 | M39: =SUM(M15:M38) -> 5246.88 | Q39: =SUM(Q15:Q38) -> 13765.68
A40: 1. При наличии на предприятии отклонений от нормальных режимов электропотребления (временное изменение схем питания, остановка на ремонт, резкое снижение
A41: эл.потребления и т.д.) последние необходимо перечислить.
A42: 2. При наличии нескольких источников питания и большого количества вводов таблица
A43: составляется самим предприятием с соблюдением всех пунктов настоящей таблицы. | K43: Главный инженер ___________________ А.А. Михалин

Sheet 61
B1: АО "Вологдаоблэнерго" | J1: код 900151 | K1: ООО "Сухонский ЦБК" ГПП 110/6 кВ
B2: наименование предприятия | N2: наименование источника питания
B3: уч -к г. Сокол | N3: _________________________________
B4: ул. Горького, 99 | I4: Таблица № 1
B5: адрес
A6: почасовых записей показаний электрических счетчиков
A7: в режимный день 17 ИЮНЯ 2020 г.
A8: 1200 | B8: 1197
A9: часы суток | B9: Активная энергия | J9: Реактивная энергия
B10: РУ-3 яч 4 - ТП 7 | F10: ЗРУ яч. 59 - КТП 35 | J10: РУ-3 яч 4 - ТП 7 | N10: ЗРУ яч. 59 - КТП 35
B11: Расчет. Коэф. | E11: 2400 | F11: Расчет. Коэф. | I11: 1200 | J11: Расчет. Коэф. | M11: 2400 | N11: Расчет. Коэф. | Q11: 1200
B12: показания счетчика | C12: разность | E12: расход эл.энергии за час | F12: показания счетчика | G12: разность | I12: расход эл.энергии за час | J12: показания счетчика | K12: разность | M12: расход эл.энергии за час | N12: показания счетчика | O12: разность | Q12: расход эл.энергии за час
A13: 1 | B13: 2 | C13: 3 | E13: 4 | F13: 5 | G13: 6 | I13: 7 | J13: 8 | K13: 9 | M13: 10 | N13: 11 | O13: 12 | Q13: 13
A14: 0
A15: 1 | E15: 330.48 | I15: 279.72 | M15: 181.2 | Q15: 172.8
A16: 2 | E16: 289.44 | I16: 226.44 | M16: 161.04 | Q16: 145.44
A17: 3 | E17: 232.08 | I17: 186.12 | M17: 127.2 | Q17: 132.48
A18: 4 | E18: 243.12 | I18: 173.16 | M18: 162.72 | Q18: 126.36
A19: 5 | E19: 226.32 | I19: 183.24 | M19: 134.88 | Q19: 125.28
A20: 6 | E20: 246.24 | I20: 198.36 | M20: 112.08 | Q20: 122.04
A21: 7 | E21: 311.04 | I21: 240.84 | M21: 158.16 | Q21: 125.64
A22: 8 | E22: 379.92 | I22: 278.28 | M22: 148.08 | Q22: 146.88
A23: 9 | E23: 446.64 | I23: 667.8 | M23: 206.4 | Q23: 516.6
A24: 10 | E24: 475.92 | I24: 761.4 | M24: 237.6 | Q24: 646.92
A25: 11 | E25: 475.44 | I25: 650.16 | M25: 250.56 | Q25: 528.84
A26: 12 | E26: 491.52 | I26: 733.32 | M26: 250.56 | Q26: 604.44
... A38: 24 | E38: 388.56 | I38: 307.44 | M38: 228.48 | Q38: 227.52
A39: Итого | E39: =SUM(E15:E38) -> 9208.8 | I39: =SUM(I15:I38) -> 10192.32 | M39: =SUM(M15:M38) -> 4837.2
A40: 1. При наличии на предприятии отклонений от нормальных режимов электропотребления (временное изменение схем питания, остановка на ремонт, резкое снижение
A41: эл.потребления и т.д.) последние необходимо перечислить.
A42: 2. При наличии нескольких источников питания и большого количества вводов таблица
A43: составляется самим предприятием с соблюдением всех пунктов настоящей таблицы. | K43: Главный инженер ___________________ А.А. Михалин

Sheet 62
B1: АО "Вологдаоблэнерго" | J1: код 900151 | K1: ООО "Сухонский ЦБК" ГПП 110/6 кВ
B2: наименование предприятия | N2: наименование источника питания
B3: уч -к г. Сокол | N3: _________________________________
B4: ул. Горького, 99 | I4: Таблица № 1
B5: адрес
A6: почасовых записей показаний электрических счетчиков
A7: в режимный день 17 ИЮНЯ 2020 г.
A8: 1196
A9: часы суток | B9: Активная энергия | J9: Реактивная энергия
B10: ЗРУ яч. 2- КТП 34 | J10: ЗРУ яч. 2- КТП 34
B11: Расчет. Коэф. | E11: 2400 | F11: Расчет. Коэф. | I11: 0 | J11: Расчет. Коэф. | M11: 2400 | N11: Расчет. Коэф. | Q11: 0
B12: показания счетчика | C12: разность | E12: расход эл.энергии за час | F12: показания счетчика | G12: разность | I12: расход эл.энергии за час | J12: показания счетчика | K12: разность | M12: расход эл.энергии за час | N12: показания счетчика | O12: разность | Q12: расход эл.энергии за час
A13: 1 | B13: 2 | C13: 3 | E13: 4 | F13: 5 | G13: 6 | I13: 7 | J13: 8 | K13: 9 | M13: 10 | N13: 11 | O13: 12 | Q13: 13
A14: 0
A15: 1 | E15: 269.04 | M15: 156.72
A16: 2 | E16: 243.6 | M16: 154.32
A17: 3 | E17: 208.08 | M17: 145.68
A18: 4 | E18: 202.8 | M18: 138.72
A19: 5 | E19: 205.68 | M19: 135.84
A20: 6 | E20: 222.72 | M20: 133.92
A21: 7 | E21: 261.12 | M21: 132.72
A22: 8 | E22: 294.24 | M22: 136.8
A23: 9 | E23: 395.28 | M23: 248.88
A24: 10 | E24: 421.44 | M24: 320.88
A25: 11 | E25: 357.6 | M25: 230.4
A26: 12 | E26: 411.6 | M26: 297.84
... A38: 24 | E38: 291.36 | M38: 153.12
A39: Итого | E39: =SUM(E15:E38) -> 7571.52 | M39: =SUM(M15:M38) -> 4631.28
A40: 1. При наличии на предприятии отклонений от нормальных режимов электропотребления (временное изменение схем питания, остановка на ремонт, резкое снижение
A41: эл.потребления и т.д.) последние необходимо перечислить.
A42: 2. При наличии нескольких источников питания и большого количества вводов таблица
A43: составляется самим предприятием с соблюдением всех пунктов настоящей таблицы. | K43: Главный инженер ___________________ А.А. Михалин

Sheet 63
B1: АО "Вологдаоблэнерго" | J1: код 900151 | K1: ООО "Сухонский ЦБК" ГПП 110/6 кВ
B2: наименование предприятия | N2: наименование источника питания
B3: уч -к г. Сокол | N3: РУ - 6 кВ "Механического завода"
B4: ул. Горького, 99 | I4: Таблица № 1
B5: адрес
A6: почасовых записей показаний электрических счетчиков
A7: в режимный день 17 ИЮНЯ 2020 г.
A8: 1201 | B8: 1202
A9: часы суток | B9: Активная энергия | J9: Реактивная энергия
B10: яч 7 - ТП 1 | F10: яч. 4 - ТП 2 | J10: яч 7 - ТП 1 | N10: яч. 4 - ТП 2
B11: Расчет. Коэф. | E11: 600 | F11: Расчет. Коэф. | I11: 600 | J11: Расчет. Коэф. | M11: 600 | N11: Расчет. Коэф. | Q11: 600
B12: показания счетчика | C12: разность | E12: расход эл.энергии за час | F12: показания счетчика | G12: разность | I12: расход эл.энергии за час | J12: показания счетчика | K12: разность | M12: расход эл.энергии за час | N12: показания счетчика | O12: разность | Q12: расход эл.энергии за час
A13: 1 | B13: 2 | C13: 3 | E13: 4 | F13: 5 | G13: 6 | I13: 7 | J13: 8 | K13: 9 | M13: 10 | N13: 11 | O13: 12 | Q13: 13
A14: 0
A15: 1 | E15: 17.16 | I15: 37.26 | M15: 0.12 | Q15: 6.18
A16: 2 | E16: 13.32 | I16: 34.68 | M16: 0.18 | Q16: 4.74
A17: 3 | E17: 8.82 | I17: 10.86 | M17: 1.26 | Q17: 5.4
A18: 4 | E18: 8.1 | I18: 21.48 | M18: 1.56 | Q18: 6.36
A19: 5 | E19: 7.14 | I19: 34.56 | M19: 0.9 | Q19: 4.32
A20: 6 | E20: 12.36 | I20: 21.6 | M20: 0.96 | Q20: 4.08
A21: 7 | E21: 17.52 | I21: 11.64 | M21: 1.2 | Q21: 5.64
A22: 8 | E22: 16.26 | I22: 31.74 | M22: 0.9 | Q22: 7.26
A23: 9 | E23: 18.42 | I23: 29.4 | M23: 0.96 | Q23: 11.46
A24: 10 | E24: 18.42 | I24: 40.26 | M24: 1.2 | Q24: 15.84
A25: 11 | E25: 24.36 | I25: 45.66 | M25: 1.62 | Q25: 13.2
A26: 12 | E26: 26.58 | I26: 43.08 | M26: 1.38 | Q26: 12.72
... A38: 24 | E38: 22.44 | I38: 44.82 | M38: 0.12 | Q38: 6.72
A39: Итого | E39: =SUM(E15:E38) -> 496.14 | I39: =SUM(I15:I38) -> 727.98 | M39: =SUM(M15:M38) -> 36.84 | Q39: =SUM(Q15:Q38) -> 229.86
A40: 1. При наличии на предприятии отклонений от нормальных режимов электропотребления (временное изменение схем питания, остановка на ремонт, резкое снижение
A41: эл.потребления и т.д.) последние необходимо перечислить.
A42: 2. При наличии нескольких источников питания и большого количества вводов таблица
A43: составляется самим предприятием с соблюдением всех пунктов настоящей таблицы. | K43: Главный инженер ___________________ А.А. Михалин

Sheet 64
B1: АО "Вологдаоблэнерго" | J1: код 900151 | K1: ПС "Белозерск" 110/10 кВ
B2: наименование предприятия | N2: наименование источника питания
B3: уч -к г. Белозерск | M3: РП 1
B4: ул. Горького, 99 | I4: Таблица № 1
B5: адрес
A6: почасовых записей показаний электрических счетчиков
A7: в режимный день 17 ИЮНЯ 2020 г.
A8: 737 | B8: 738
A9: часы суток | B9: Активная энергия | J9: Реактивная энергия
B10: ВЛ-10кВ.фид. Горсеть1 | F10: ВЛ-10кВ.фид. Горсеть2 | J10: =B10 -> ВЛ-10кВ.фид. Горсеть1 | N10: =F10 -> ВЛ-10кВ.фид. Горсеть2
B11: Расчет. Коэф. | E11: 4000 | F11: Расчет. Коэф. | I11: 2000 | J11: Расчет. Коэф. | M11: =E11 -> 4000 | N11: Расчет. Коэф. | Q11: =I11 -> 2000
B12: показания счетчика | C12: разность | E12: расход эл.энергии за час | F12: показания счетчика | G12: разность | I12: расход эл.энергии за час | J12: показания счетчика | K12: разность | M12: расход эл.энергии за час | N12: показания счетчика | O12: разность | Q12: расход эл.энергии за час
A13: 1 | B13: 2 | C13: 3 | E13: 4 | F13: 5 | G13: 6 | I13: 7 | J13: 8 | K13: 9 | M13: 10 | N13: 11 | O13: 12 | Q13: 13
A14: 0
A15: 1 | E15: 785 | I15: 660 | M15: 319 | Q15: 357
A16: 2 | E16: 633 | I16: 547 | M16: 275 | Q16: 321
A17: 3 | E17: 528 | I17: 474 | M17: 247 | Q17: 300
A18: 4 | E18: 504 | I18: 463 | M18: 237 | Q18: 286
A19: 5 | E19: 506 | I19: 449 | M19: 228 | Q19: 277
A20: 6 | E20: 558 | I20: 482 | M20: 228 | Q20: 277
A21: 7 | E21: 743 | I21: 592 | M21: 235 | Q21: 272
A22: 8 | E22: 979 | I22: 721 | M22: 246 | Q22: 298
A23: 9 | E23: 1129 | I23: 867 | M23: 284 | Q23: 370
A24: 10 | E24: 1136 | I24: 927 | M24: 305 | Q24: 411
A25: 11 | E25: 1124 | I25: 926 | M25: 302 | Q25: 411
A26: 12 | E26: 1108 | I26: 897 | M26: 291 | Q26: 382
... A38: 24 | E38: 995 | I38: 739 | M38: 310 | Q38: 340
A39: Итого | E39: =SUM(E15:E38) -> 23201 | I39: =SUM(I15:I38) -> 17823 | M39: =SUM(M15:M38) -> 6830 | Q39: =SUM(Q15:Q38) -> 8191
A40: 1. При наличии на предприятии отклонений от нормальных режимов электропотребления (временное изменение схем питания, остановка на ремонт, резкое снижение
A41: эл.потребления и т.д.) последние необходимо перечислить.
A42: 2. При наличии нескольких источников питания и большого количества вводов таблица
A43: составляется самим предприятием с соблюдением всех пунктов настоящей таблицы. | K43: Главный инженер ___________________ А.А. Михалин

Sheet 65
B1: АО "Вологдаоблэнерго" | J1: код 900151 | K1: ПС "Белозерск" 110/10 кВ
B2: наименование предприятия | N2: наименование источника питания
B3: уч -к г. Белозерск
B4: ул. Горького, 99 | I4: Таблица № 1
B5: адрес
A6: почасовых записей показаний электрических счетчиков
A7: в режимный день 17 ИЮНЯ 2020 г.
A8: 739 | B8: 736
A9: часы суток | B9: Активная энергия | J9: Реактивная энергия
B10: ВЛ-10кВ.фид.Оптика | F10: ф. Горсеть-3 | J10: =B10 -> ВЛ-10кВ.фид.Оптика | N10: ф. Горсеть-3
B11: Расчет. Коэф. | E11: 4000 | F11: Расчет. Коэф. | J11: Расчет. Коэф. | M11: =E11 -> 4000 | N11: Расчет. Коэф.
B12: показания счетчика | C12: разность | E12: расход эл.энергии за час | F12: показания счетчика | G12: разность | I12: расход эл.энергии за час | J12: показания счетчика | K12: разность | M12: расход эл.энергии за час | N12: показания счетчика | O12: разность | Q12: расход эл.энергии за час
A13: 1 | B13: 2 | C13: 3 | E13: 4 | F13: 5 | G13: 6 | I13: 7 | J13: 8 | K13: 9 | M13: 10 | N13: 11 | O13: 12 | Q13: 13
A14: 0
A15: 1 | E15: 103 | I15: 70 | M15: 25 | Q15: 48
A16: 2 | E16: 83 | I16: 56 | M16: 26 | Q16: 47
A17: 3 | E17: 75 | I17: 43 | M17: 26 | Q17: 41
A18: 4 | E18: 74 | I18: 43 | M18: 25 | Q18: 38
A19: 5 | E19: 70 | I19: 42 | M19: 24 | Q19: 37
A20: 6 | E20: 95 | I20: 51 | M20: 24 | Q20: 38
A21: 7 | E21: 122 | I21: 75 | M21: 23 | Q21: 37
A22: 8 | E22: 161 | I22: 91 | M22: 21 | Q22: 38
A23: 9 | E23: 194 | I23: 96 | M23: 32 | Q23: 38
A24: 10 | E24: 180 | I24: 105 | M24: 34 | Q24: 41
A25: 11 | E25: 162 | I25: 96 | M25: 36 | Q25: 41
A26: 12 | E26: 139 | I26: 92 | M26: 29 | Q26: 37
... A38: 24 | E38: 130 | I38: 96 | M38: 27 | Q38: 48
A39: Итого | E39: =SUM(E15:E38) -> 3203 | I39: =SUM(I15:I38) -> 2060 | M39: =SUM(M15:M38) -> 710 | Q39: =SUM(Q15:Q38) -> 993
A40: 1. При наличии на предприятии отклонений от нормальных режимов электропотребления (временное изменение схем питания, остановка на ремонт, резкое снижение
A41: эл.потребления и т.д.) последние необходимо перечислить.
A42: 2. При наличии нескольких источников питания и большого количества вводов таблица
A43: составляется самим предприятием с соблюдением всех пунктов настоящей таблицы. | K43: Главный инженер ___________________ А.А. Михалин

Sheet 66
B1: АО "Вологдаоблэнерго" | J1: код 900151 | K1: ПС "Белозерск" 110/10 кВ
B2: наименование предприятия | N2: наименование источника питания
B3: уч -к г. Белозерск
B4: ул. Горького, 99 | I4: Таблица № 1
B5: адрес
A6: почасовых записей показаний электрических счетчиков
A7: в режимный день 17 ИЮНЯ 2020 г.
A8: 1192 | B8: 1193
A9: часы суток | B9: Активная энергия | J9: Реактивная энергия
B10: ВЛ-10кВ.фид. Аэропорт КТП-46 | F10: ВЛ-10кВ.фид. Аэропорт КТП-47 | J10: =B10 -> ВЛ-10кВ.фид. Аэропорт КТП-46 | N10: =F10 -> ВЛ-10кВ.фид. Аэропорт КТП-47
B11: Расчет. Коэф. | E11: 60 | F11: Расчет. Коэф. | I11: 60 | J11: Расчет. Коэф. | M11: =E11 -> 60 | N11: Расчет. Коэф. | Q11: =I11 -> 60
B12: показания счетчика | C12: разность | E12: расход эл.энергии за час | F12: показания счетчика | G12: разность | I12: расход эл.энергии за час | J12: показания счетчика | K12: разность | M12: расход эл.энергии за час | N12: показания счетчика | O12: разность | Q12: расход эл.энергии за час
A13: 1 | B13: 2 | C13: 3 | E13: 4 | F13: 5 | G13: 6 | I13: 7 | J13: 8 | K13: 9 | M13: 10 | N13: 11 | O13: 12 | Q13: 13
A14: 0
A15: 1 | E15: 8.46 | I15: 14.64 | M15: 2.88 | Q15: 2.52
A16: 2 | E16: 6.27 | I16: 10.14 | M16: 2.88 | Q16: 2.04
A17: 3 | E17: 5.01 | I17: 7.98 | M17: 2.64 | Q17: 2.82
A18: 4 | E18: 5.43 | I18: 7.89 | M18: 2.79 | Q18: 2.19
A19: 5 | E19: 5.76 | I19: 7.26 | M19: 3.06 | Q19: 2.19
A20: 6 | E20: 6.78 | I20: 9.33 | M20: 2.37 | Q20: 2.7
A21: 7 | E21: 9.6 | I21: 15.63 | M21: 2.73 | Q21: 2.73
A22: 8 | E22: 14.91 | I22: 23.31 | M22: 3.36 | Q22: 2.37
A23: 9 | E23: 12.66 | I23: 26.79 | M23: 2.49 | Q23: 2.97
A24: 10 | E24: 13.77 | I24: 18.99 | M24: 3.12 | Q24: 2.79
A25: 11 | E25: 13.32 | I25: 20.76 | M25: 3.75 | Q25: 2.61
A26: 12 | E26: 14.43 | I26: 21.27 | M26: 2.67 | Q26: 2.46
... A38: 24 | E38: 15.9 | I38: 22.11 | M38: 3.54 | Q38: 2.25
A39: Итого | E39: =SUM(E15:E38) -> 329.79 | I39: =SUM(I15:I38) -> 458.22 | M39: =SUM(M15:M38) -> 76.32 | Q39: =SUM(Q15:Q38) -> 70.14
A40: 1. При наличии на предприятии отклонений от нормальных режимов электропотребления (временное изменение схем питания, остановка на ремонт, резкое снижение
A41: эл.потребления и т.д.) последние необходимо перечислить.
A42: 2. При наличии нескольких источников питания и большого количества вводов таблица
A43: составляется самим предприятием с соблюдением всех пунктов настоящей таблицы. | K43: Главный инженер ___________________ А.А. Михалин

Sheet 66_1
B1: АО "Вологдаоблэнерго" | J1: код 900151 | K1: ПС "Вашки" 110/10 кВ
B2: наименование предприятия | N2: наименование источника питания
B3: уч -к г. Белозерск | N3: с. Липин Бор
B4: ул. Горького, 99 | I4: Таблица № 1
B5: адрес
A6: почасовых записей показаний электрических счетчиков
A7: в режимный день 17 ИЮНЯ 2020 г.
A8: 1704 | B8: 1705
A9: часы суток | B9: Активная энергия | J9: Реактивная энергия
B10: ВЛ-10кВ.фид. Липин Бор | F10: ВЛ-10кВ.фид. Коммунальный | J10: =B10 -> ВЛ-10кВ.фид. Липин Бор | N10: =F10 -> ВЛ-10кВ.фид. Коммунальный
B11: Расчет. Коэф. | E11: 60 | F11: Расчет. Коэф. | I11: 60 | J11: Расчет. Коэф. | M11: =E11 -> 60 | N11: Расчет. Коэф. | Q11: =I11 -> 60
B12: показания счетчика | C12: разность | E12: расход эл.энергии за час | F12: показания счетчика | G12: разность | I12: расход эл.энергии за час | J12: показания счетчика | K12: разность | M12: расход эл.энергии за час | N12: показания счетчика | O12: разность | Q12: расход эл.энергии за час
A13: 1 | B13: 2 | C13: 3 | E13: 4 | F13: 5 | G13: 6 | I13: 7 | J13: 8 | K13: 9 | M13: 10 | N13: 11 | O13: 12 | Q13: 13
A14: 0
A15: 1 | E15: 281 | I15: 354 | M15: 222 | Q15: 192
A16: 2 | E16: 222 | I16: 305 | M16: 205 | Q16: 175
A17: 3 | E17: 194 | I17: 269 | M17: 207 | Q17: 168
A18: 4 | E18: 193 | I18: 262 | M18: 201 | Q18: 169
A19: 5 | E19: 194 | I19: 238 | M19: 189 | Q19: 162
A20: 6 | E20: 217 | I20: 249 | M20: 195 | Q20: 162
A21: 7 | E21: 288 | I21: 383 | M21: 190 | Q21: 166
A22: 8 | E22: 380 | I22: 478 | M22: 184 | Q22: 157
A23: 9 | E23: 514 | I23: 530 | M23: 301 | Q23: 168
A24: 10 | E24: 478 | I24: 600 | M24: 315 | Q24: 198
A25: 11 | E25: 466 | I25: 600 | M25: 331 | Q25: 202
A26: 12 | E26: 445 | I26: 570 | M26: 276 | Q26: 189
... A38: 24 | E38: 379 | I38: 397 | M38: 218 | Q38: 184
A39: Итого | E39: =SUM(E15:E38) -> 9392 | I39: =SUM(I15:I38) -> 10750 | M39: =SUM(M15:M38) -> 5925 | Q39: =SUM(Q15:Q38) -> 4309
A40: 1. При наличии на предприятии отклонений от нормальных режимов электропотребления (временное изменение схем питания, остановка на ремонт, резкое снижение
A41: эл.потребления и т.д.) последние необходимо перечислить.
A42: 2. При наличии нескольких источников питания и большого количества вводов таблица
A43: составляется самим предприятием с соблюдением всех пунктов настоящей таблицы. | K43: Главный инженер ___________________ А.А. Михалин

Sheet 67
B1: АО "Вологдаоблэнерго" | J1: код 900151 | K1: ПС "Белоусово"
B2: наименование предприятия | N2: наименование источника питания
B3: уч -к г. Вытегра
B4: ул. Горького, 99 | I4: Таблица № 1
B5: адрес
A6: почасовых записей показаний электрических счетчиков
A7: в режимный день 17 ИЮНЯ 2020 г.
A8: 852 | B8: 851
A9: часы суток | B9: Активная энергия | J9: Реактивная энергия
B10: ВЛ-6кВ Ф-9 Погрузка | F10: ВЛ-6 кВ Ф-7 ЛПХ | J10: =B10 -> ВЛ-6кВ Ф-9 Погрузка | N10: =F10 -> ВЛ-6 кВ Ф-7 ЛПХ
B11: Расчет. Коэф. | E11: 1800 | F11: Расчет. Коэф. | I11: 2400 | J11: Расчет. Коэф. | M11: =E11 -> 1800 | N11: Расчет. Коэф. | Q11: =I11 -> 2400
B12: показания счетчика | C12: разность | E12: расход эл.энергии за час | F12: показания счетчика | G12: разность | I12: расход эл.энергии за час | J12: показания счетчика | K12: разность | M12: расход эл.энергии за час | N12: показания счетчика | O12: разность | Q12: расход эл.энергии за час
A13: 1 | B13: 2 | C13: 3 | E13: 4 | F13: 5 | G13: 6 | I13: 7 | J13: 8 | K13: 9 | M13: 10 | N13: 11 | O13: 12 | Q13: 13
A14: 0
A15: 1 | E15: 0 | I15: 8 | M15: 0 | Q15: 35
A16: 2 | E16: 0 | I16: 9 | M16: 0 | Q16: 34
A17: 3 | E17: 0 | I17: 8 | M17: 0 | Q17: 34
A18: 4 | E18: 0 | I18: 9 | M18: 0 | Q18: 35
A19: 5 | E19: 0 | I19: 9 | M19: 0 | Q19: 35
A20: 6 | E20: 0 | I20: 8 | M20: 0 | Q20: 33
A21: 7 | E21: 0 | I21: 9 | M21: 0 | Q21: 33
A22: 8 | E22: 0 | I22: 9 | M22: 0 | Q22: 33
A23: 9 | E23: 0 | I23: 9 | M23: 0 | Q23: 31
A24: 10 | E24: 0 | I24: 7 | M24: 0 | Q24: 30
A25: 11 | E25: 0 | I25: 9 | M25: 0 | Q25: 32
A26: 12 | E26: 0 | I26: 9 | M26: 0 | Q26: 33
... A38: 24 | E38: 0 | I38: 8 | M38: 0 | Q38: 33
A39: Итого | E39: =SUM(E15:E38) -> 0 | I39: =SUM(I15:I38) -> 205 | M39: =SUM(M15:M38) -> 0 | Q39: =SUM(Q15:Q38) -> 778
A40: 1. При наличии на предприятии отклонений от нормальных режимов электропотребления (временное изменение схем питания, остановка на ремонт, резкое снижение
A41: эл.потребления и т.д.) последние необходимо перечислить.
A42: 2. При наличии нескольких источников питания и большого количества вводов таблица
A43: составляется самим предприятием с соблюдением всех пунктов настоящей таблицы. | K43: Главный инженер ___________________ А.А. Михалин

Sheet 68
B1: АО "Вологдаоблэнерго" | J1: код 900151 | K1: ПС "Ольховская"
B2: наименование предприятия | N2: наименование источника питания
B3: уч -к г. Вытегра
B4: ул. Горького, 99 | I4: Таблица № 1
B5: адрес
A6: почасовых записей показаний электрических счетчиков
A7: в режимный день 17 ИЮНЯ 2020 г.
A8: 2138 | B8: 2139
A9: часы суток | B9: Активная энергия | J9: Реактивная энергия
B10: ВЛ-10 кВ Ф-2 ЛПХ | F10: ВЛ-10 кВ Ф-3 Мирный | J10: ВЛ-10 кВ Ф-2 ЛПХ | N10: =F10 -> ВЛ-10 кВ Ф-3 Мирный
B11: Расчет. Коэф. | E11: 1000 | F11: Расчет. Коэф. | I11: 1000 | J11: Расчет. Коэф. | M11: =E11 -> 1000 | N11: Расчет. Коэф. | Q11: =I11 -> 1000
B12: показания счетчика | C12: разность | E12: расход эл.энергии за час | F12: показания счетчика | G12: разность | I12: расход эл.энергии за час | J12: показания счетчика | K12: разность | M12: расход эл.энергии за час | N12: показания счетчика | O12: разность | Q12: расход эл.энергии за час
A13: 1 | B13: 2 | C13: 3 | E13: 4 | F13: 5 | G13: 6 | I13: 7 | J13: 8 | K13: 9 | M13: 10 | N13: 11 | O13: 12 | Q13: 13
A14: 0
A15: 1 | E15: 25 | I15: 14 | M15: 33 | Q15: 12
A16: 2 | E16: 24 | I16: 13 | M16: 34 | Q16: 12
A17: 3 | E17: 23 | I17: 13 | M17: 36 | Q17: 14
A18: 4 | E18: 23 | I18: 13 | M18: 34 | Q18: 12
A19: 5 | E19: 23 | I19: 14 | M19: 32 | Q19: 12
A20: 6 | E20: 26 | I20: 14 | M20: 32 | Q20: 12
A21: 7 | E21: 31 | I21: 16 | M21: 32 | Q21: 11
A22: 8 | E22: 31 | I22: 18 | M22: 31 | Q22: 12
A23: 9 | E23: 38 | I23: 19 | M23: 32 | Q23: 11
A24: 10 | E24: 37 | I24: 20 | M24: 31 | Q24: 12
A25: 11 | E25: 41 | I25: 25 | M25: 33 | Q25: 12
A26: 12 | E26: 38 | I26: 23 | M26: 36 | Q26: 13
... A38: 24 | E38: 27 | I38: 16 | M38: 32 | Q38: 12
A39: Итого | E39: =SUM(E15:E38) -> 818 | I39: =SUM(I15:I38) -> 452 | M39: =SUM(M15:M38) -> 823 | Q39: =SUM(Q15:Q38) -> 294
A40: 1. При наличии на предприятии отклонений от нормальных режимов электропотребления (временное изменение схем питания, остановка на ремонт, резкое снижение
A41: эл.потребления и т.д.) последние необходимо перечислить.
A42: 2. При наличии нескольких источников питания и большого количества вводов таблица
A43: составляется самим предприятием с соблюдением всех пунктов настоящей таблицы. | K43: Главный инженер ___________________ А.А. Михалин

Sheet 69
B1: АО "Вологдаоблэнерго" | J1: код 900151 | K1: ПС "Восточная"
B2: наименование предприятия | N2: наименование источника питания
B3: уч -к г. Вытегра
B4: ул. Горького, 99 | I4: Таблица № 1
B5: адрес
A6: почасовых записей показаний электрических счетчиков
A7: в режимный день 17 ИЮНЯ 2020 г.
A8: 855 | B8: 854
A9: часы суток | B9: Активная энергия | J9: Реактивная энергия
B10: ВЛ-10 кВ Центр | F10: ВЛ-10 кВ Воинская часть | J10: =B10 -> ВЛ-10 кВ Центр | N10: =F10 -> ВЛ-10 кВ Воинская часть
B11: Расчет. Коэф. | E11: 6000 | F11: Расчет. Коэф. | I11: 4000 | J11: Расчет. Коэф. | M11: =E11 -> 6000 | N11: Расчет. Коэф. | Q11: =I11 -> 4000
B12: показания счетчика | C12: разность | E12: расход эл.энергии за час | F12: показания счетчика | G12: разность | I12: расход эл.энергии за час | J12: показания счетчика | K12: разность | M12: расход эл.энергии за час | N12: показания счетчика | O12: разность | Q12: расход эл.энергии за час
A13: 1 | B13: 2 | C13: 3 | E13: 4 | F13: 5 | G13: 6 | I13: 7 | J13: 8 | K13: 9 | M13: 10 | N13: 11 | O13: 12 | Q13: 13
A14: 0
A15: 1 | E15: 262 | I15: 406 | M15: 99 | Q15: 236
A16: 2 | E16: 223 | I16: 339 | M16: 102 | Q16: 241
A17: 3 | E17: 201 | I17: 306 | M17: 101 | Q17: 237
A18: 4 | E18: 193 | I18: 290 | M18: 103 | Q18: 250
A19: 5 | E19: 194 | I19: 291 | M19: 99 | Q19: 234
A20: 6 | E20: 208 | I20: 329 | M20: 98 | Q20: 235
A21: 7 | E21: 276 | I21: 443 | M21: 96 | Q21: 227
A22: 8 | E22: 366 | I22: 542 | M22: 100 | Q22: 210
A23: 9 | E23: 397 | I23: 589 | M23: 95 | Q23: 246
A24: 10 | E24: 336 | I24: 640 | M24: 92 | Q24: 264
A25: 11 | E25: 325 | I25: 633 | M25: 97 | Q25: 268
A26: 12 | E26: 334 | I26: 661 | M26: 108 | Q26: 308
... A38: 24 | E38: 333 | I38: 523 | M38: 94 | Q38: 219
A39: Итого | E39: =SUM(E15:E38) -> 8012 | I39: =SUM(I15:I38) -> 13028 | M39: =SUM(M15:M38) -> 2403 | Q39: =SUM(Q15:Q38) -> 5956
A40: 1. При наличии на предприятии отклонений от нормальных режимов электропотребления (временное изменение схем питания, остановка на ремонт, резкое снижение
A41: эл.потребления и т.д.) последние необходимо перечислить.
A42: 2. При наличии нескольких источников питания и большого количества вводов таблица
A43: составляется самим предприятием с соблюдением всех пунктов настоящей таблицы. | K43: Главный инженер ___________________ А.А. Михалин

Sheet 70
B1: АО "Вологдаоблэнерго" | J1: код 900151 | K1: ПС "Восточная"
B2: наименование предприятия | N2: наименование источника питания
B3: уч -к г. Вытегра
B4: ул. Горького, 99 | I4: Таблица № 1
B5: адрес
A6: почасовых записей показаний электрических счетчиков
A7: в режимный день 17 ИЮНЯ 2020 г.
A8: 856 | B8: 951
A9: часы суток | B9: Активная энергия | J9: Реактивная энергия
B10: ВЛ-10 кВ Шестово | F10: ф.1 Город | J10: =B10 -> ВЛ-10 кВ Шестово | N10: =F10 -> ф.1 Город
B11: Расчет. Коэф. | E11: 4000 | F11: Расчет. Коэф. | J11: Расчет. Коэф. | M11: =E11 -> 4000 | N11: Расчет. Коэф.
B12: показания счетчика | C12: разность | E12: расход эл.энергии за час | F12: показания счетчика | G12: разность | I12: расход эл.энергии за час | J12: показания счетчика | K12: разность | M12: расход эл.энергии за час | N12: показания счетчика | O12: разность | Q12: расход эл.энергии за час
A13: 1 | B13: 2 | C13: 3 | E13: 4 | F13: 5 | G13: 6 | I13: 7 | J13: 8 | K13: 9 | M13: 10 | N13: 11 | O13: 12 | Q13: 13
A14: 0
A15: 1 | E15: 211 | I15: 289 | M15: 120 | Q15: 171
A16: 2 | E16: 186 | I16: 237 | M16: 122 | Q16: 169
A17: 3 | E17: 146 | I17: 226 | M17: 118 | Q17: 168
A18: 4 | E18: 135 | I18: 220 | M18: 121 | Q18: 178
A19: 5 | E19: 164 | I19: 218 | M19: 115 | Q19: 168
A20: 6 | E20: 151 | I20: 237 | M20: 114 | Q20: 160
A21: 7 | E21: 182 | I21: 293 | M21: 109 | Q21: 159
A22: 8 | E22: 227 | I22: 397 | M22: 114 | Q22: 159
A23: 9 | E23: 232 | I23: 469 | M23: 109 | Q23: 161
A24: 10 | E24: 277 | I24: 475 | M24: 110 | Q24: 162
A25: 11 | E25: 253 | I25: 523 | M25: 116 | Q25: 178
A26: 12 | E26: 285 | I26: 536 | M26: 123 | Q26: 189
... A38: 24 | E38: 248 | I38: 367 | M38: 110 | Q38: 159
A39: Итого | E39: =SUM(E15:E38) -> 5697 | I39: =SUM(I15:I38) -> 9912 | M39: =SUM(M15:M38) -> 2787 | Q39: =SUM(Q15:Q38) -> 4055
A40: 1. При наличии на предприятии отклонений от нормальных режимов электропотребления (временное изменение схем питания, остановка на ремонт, резкое снижение
A41: эл.потребления и т.д.) последние необходимо перечислить.
A42: 2. При наличии нескольких источников питания и большого количества вводов таблица
A43: составляется самим предприятием с соблюдением всех пунктов настоящей таблицы. | K43: Главный инженер ___________________ А.А. Михалин

Sheet 70_1
B1: АО "Вологдаоблэнерго" | J1: код 900151 | K1: ПС "Восточная"
B2: наименование предприятия | N2: наименование источника питания
B3: уч -к г. Вытегра | N3: яч.25
B4: ул. Горького, 99 | I4: Таблица № 1
B5: адрес
A6: почасовых записей показаний электрических счетчиков
A7: в режимный день 17 ИЮНЯ 2020 г.
A8: 856 | B8: 951
A9: часы суток | B9: Активная энергия | J9: Реактивная энергия
B10: ВЛ-10 кВ ф Стадион | J10: =B10 -> ВЛ-10 кВ ф Стадион | N10: =F10 -> 0
B11: Расчет. Коэф. | E11: 4000 | F11: Расчет. Коэф. | J11: Расчет. Коэф. | M11: =E11 -> 4000 | N11: Расчет. Коэф.
B12: показания счетчика | C12: разность | E12: расход эл.энергии за час | F12: показания счетчика | G12: разность | I12: расход эл.энергии за час | J12: показания счетчика | K12: разность | M12: расход эл.энергии за час | N12: показания счетчика | O12: разность | Q12: расход эл.энергии за час
A13: 1 | B13: 2 | C13: 3 | E13: 4 | F13: 5 | G13: 6 | I13: 7 | J13: 8 | K13: 9 | M13: 10 | N13: 11 | O13: 12 | Q13: 13
A14: 0
A15: 1 | E15: 13 | M15: 5
A16: 2 | E16: 11 | M16: 6
A17: 3 | E17: 8 | M17: 6
A18: 4 | E18: 7 | M18: 5
A19: 5 | E19: 6 | M19: 5
A20: 6 | E20: 8 | M20: 6
A21: 7 | E21: 12 | M21: 4
A22: 8 | E22: 14 | M22: 4
A23: 9 | E23: 13 | M23: 4
A24: 10 | E24: 15 | M24: 3
A25: 11 | E25: 13 | M25: 4
A26: 12 | E26: 11 | M26: 4
... A38: 24 | E38: 17 | M38: 4
A39: Итого | E39: =SUM(E15:E38) -> 378 | M39: =SUM(M15:M38) -> 110
A40: 1. При наличии на предприятии отклонений от нормальных режимов электропотребления (временное изменение схем питания, остановка на ремонт, резкое снижение
A41: эл.потребления и т.д.) последние необходимо перечислить.
A42: 2. При наличии нескольких источников питания и большого количества вводов таблица
A43: составляется самим предприятием с соблюдением всех пунктов настоящей таблицы. | K43: Главный инженер ___________________ А.А. Михалин

Sheet 71
B1: АО "Вологдаоблэнерго" | J1: код 900151 | K1: ПС "Мегра"
B2: наименование предприятия | N2: наименование источника питания
B3: уч -к г. Вытегра
B4: ул. Горького, 99 | I4: Таблица № 1
B5: адрес
A6: почасовых записей показаний электрических счетчиков
A7: в режимный день 17 ИЮНЯ 2020 г.
A8: 853
A9: часы суток | B9: Активная энергия | J9: Реактивная энергия
B10: ВЛ-10 кВ Н. Склад | J10: =B10 -> ВЛ-10 кВ Н. Склад
B11: Расчет. Коэф. | E11: 3000 | F11: Расчет. Коэф. | J11: Расчет. Коэф. | M11: =E11 -> 3000 | N11: Расчет. Коэф.
B12: показания счетчика | C12: разность | E12: расход эл.энергии за час | F12: показания счетчика | G12: разность | I12: расход эл.энергии за час | J12: показания счетчика | K12: разность | M12: расход эл.энергии за час | N12: показания счетчика | O12: разность | Q12: расход эл.энергии за час
A13: 1 | B13: 2 | C13: 3 | E13: 4 | F13: 5 | G13: 6 | I13: 7 | J13: 8 | K13: 9 | M13: 10 | N13: 11 | O13: 12 | Q13: 13
A14: 0
A15: 1 | E15: 44 | M15: 25
A16: 2 | E16: 36 | M16: 22
A17: 3 | E17: 21 | M17: 20
A18: 4 | E18: 19 | M18: 20
A19: 5 | E19: 19 | M19: 19
A20: 6 | E20: 20 | M20: 19
A21: 7 | E21: 23 | M21: 18
A22: 8 | E22: 27 | M22: 20
A23: 9 | E23: 31 | M23: 20
A24: 10 | E24: 28 | M24: 18
A25: 11 | E25: 37 | M25: 22
A26: 12 | E26: 44 | M26: 23
... A38: 24 | E38: 48 | M38: 26
A39: Итого | E39: =SUM(E15:E38) -> 910 | M39: =SUM(M15:M38) -> 538
A40: 1. При наличии на предприятии отклонений от нормальных режимов электропотребления (временное изменение схем питания, остановка на ремонт, резкое снижение
A41: эл.потребления и т.д.) последние необходимо перечислить.
A42: 2. При наличии нескольких источников питания и большого количества вводов таблица
A43: составляется самим предприятием с соблюдением всех пунктов настоящей таблицы. | K43: Главный инженер ___________________ А.А. Михалин

Sheet 72
B1: АО "Вологдаоблэнерго" | J1: код 900151 | K1: ПС "Вытегра"
B2: наименование предприятия | N2: наименование источника питания
B3: уч -к г. Вытегра
B4: ул. Горького, 99 | I4: Таблица № 1
B5: адрес
A6: почасовых записей показаний электрических счетчиков
A7: в режимный день 17 ИЮНЯ 2020 г.
A8: 849 | B8: 846
A9: часы суток | B9: Активная энергия | J9: Реактивная энергия
B10: ВЛ-6 кВ Ф-8 пр. Победы | F10: ВЛ-6 кВ Ф-1 Военкомат | J10: =B10 -> ВЛ-6 кВ Ф-8 пр. Победы | N10: =F10 -> ВЛ-6 кВ Ф-1 Военкомат
B11: Расчет. Коэф. | E11: 1800 | F11: Расчет. Коэф. | I11: 900 | J11: Расчет. Коэф. | M11: =E11 -> 1800 | N11: Расчет. Коэф. | Q11: 900
B12: показания счетчика | C12: разность | E12: расход эл.энергии за час | F12: показания счетчика | G12: разность | I12: расход эл.энергии за час | J12: показания счетчика | K12: разность | M12: расход эл.энергии за час | N12: показания счетчика | O12: разность | Q12: расход эл.энергии за час
A13: 1 | B13: 2 | C13: 3 | E13: 4 | F13: 5 | G13: 6 | I13: 7 | J13: 8 | K13: 9 | M13: 10 | N13: 11 | O13: 12 | Q13: 13
A14: 0
A15: 1 | E15: 91 | I15: 69 | M15: 39 | Q15: 22
A16: 2 | E16: 80 | I16: 56 | M16: 38 | Q16: 24
A17: 3 | E17: 73 | I17: 48 | M17: 39 | Q17: 21
A18: 4 | E18: 71 | I18: 51 | M18: 38 | Q18: 22
A19: 5 | E19: 79 | I19: 47 | M19: 37 | Q19: 22
A20: 6 | E20: 84 | I20: 51 | M20: 39 | Q20: 21
A21: 7 | E21: 129 | I21: 78 | M21: 36 | Q21: 20
A22: 8 | E22: 157 | I22: 95 | M22: 38 | Q22: 22
A23: 9 | E23: 152 | I23: 100 | M23: 41 | Q23: 21
A24: 10 | E24: 107 | I24: 91 | M24: 34 | Q24: 21
A25: 11 | E25: 135 | I25: 87 | M25: 40 | Q25: 20
A26: 12 | E26: 176 | I26: 108 | M26: 50 | Q26: 25
... A38: 24 | E38: 124 | I38: 85 | M38: 40 | Q38: 19
A39: Итого | E39: =SUM(E15:E38) -> 3136 | I39: =SUM(I15:I38) -> 2205 | M39: =SUM(M15:M38) -> 992 | Q39: =SUM(Q15:Q38) -> 538
A40: 1. При наличии на предприятии отклонений от нормальных режимов электропотребления (временное изменение схем питания, остановка на ремонт, резкое снижение
A41: эл.потребления и т.д.) последние необходимо перечислить.
A42: 2. При наличии нескольких источников питания и большого количества вводов таблица
A43: составляется самим предприятием с соблюдением всех пунктов настоящей таблицы. | K43: Главный инженер ___________________ А.А. Михалин

Sheet 73
B1: АО "Вологдаоблэнерго" | J1: код 900151 | K1: ПС "Вытегра"
B2: наименование предприятия | N2: наименование источника питания
B3: уч -к г. Вытегра
B4: ул. Горького, 99 | I4: Таблица № 1
B5: адрес
A6: почасовых записей показаний электрических счетчиков
A7: в режимный день 17 ИЮНЯ 2020 г.
A8: 847 | B8: 848
A9: часы суток | B9: Активная энергия | J9: Реактивная энергия
B10: ВЛ-6 кВ Ф-2 пр. Больница | F10: ВЛ-6 кВ Город | J10: =B10 -> ВЛ-6 кВ Ф-2 пр. Больница | N10: =F10 -> ВЛ-6 кВ Город
B11: Расчет. Коэф. | E11: 1800 | F11: Расчет. Коэф. | I11: 2400 | J11: Расчет. Коэф. | M11: =E11 -> 1800 | N11: Расчет. Коэф. | Q11: 2400
B12: показания счетчика | C12: разность | E12: расход эл.энергии за час | F12: показания счетчика | G12: разность | I12: расход эл.энергии за час | J12: показания счетчика | K12: разность | M12: расход эл.энергии за час | N12: показания счетчика | O12: разность | Q12: расход эл.энергии за час
A13: 1 | B13: 2 | C13: 3 | E13: 4 | F13: 5 | G13: 6 | I13: 7 | J13: 8 | K13: 9 | M13: 10 | N13: 11 | O13: 12 | Q13: 13
A14: 0
A15: 1 | E15: 113 | I15: 0 | M15: 90 | Q15: 0
A16: 2 | E16: 89 | I16: 0 | M16: 84 | Q16: 0
A17: 3 | E17: 78 | I17: 0 | M17: 82 | Q17: 0
A18: 4 | E18: 77 | I18: 0 | M18: 84 | Q18: 0
A19: 5 | E19: 90 | I19: 0 | M19: 93 | Q19: 0
A20: 6 | E20: 122 | I20: 0 | M20: 94 | Q20: 0
A21: 7 | E21: 162 | I21: 0 | M21: 85 | Q21: 0
A22: 8 | E22: 222 | I22: 0 | M22: 98 | Q22: 0
A23: 9 | E23: 232 | I23: 0 | M23: 104 | Q23: 0
A24: 10 | E24: 242 | I24: 0 | M24: 100 | Q24: 0
A25: 11 | E25: 219 | I25: 0 | M25: 105 | Q25: 0
A26: 12 | E26: 178 | I26: 0 | M26: 94 | Q26: 0
... A38: 24 | E38: 116 | I38: 0 | M38: 78 | Q38: 0
A39: Итого | E39: =SUM(E15:E38) -> 3672 | I39: =SUM(I15:I38) -> 0 | M39: =SUM(M15:M38) -> 2184 | Q39: =SUM(Q15:Q38) -> 0
A41: ПС "Вытегра" ф. "ВЛ-6кВ Город" - в ремонте
K43: Главный инженер ___________________ А.А. Михалин

Sheet 74
B1: АО "Вологдаоблэнерго" | J1: код 900151 | K1: ПС "Вытегра"
B2: наименование предприятия | N2: наименование источника питания
B3: уч -к г. Вытегра
B4: ул. Горького, 99 | I4: Таблица № 1
B5: адрес
A6: почасовых записей показаний электрических счетчиков
A7: в режимный день 17 ИЮНЯ 2020 г.
A8: 850
A9: часы суток | B9: Активная энергия | J9: Реактивная энергия
B10: ВЛ-6 кВ Ф-13 Заречье | J10: =B10 -> ВЛ-6 кВ Ф-13 Заречье
B11: Расчет. Коэф. | E11: 1200 | F11: Расчет. Коэф. | J11: Расчет. Коэф. | M11: =E11 -> 1200 | N11: Расчет. Коэф.
