Workbook

Sheet Содержание книги
A1: Содержание
A4: № листа | B4: Электросетевой участок | C4: Центр питания
A5: 1 а | B5: г. Вологда | C5: ОАО "БМЗ"
A6: 1, 2 | B6: г. Вологда | C6: ПС "АНАНЬИНО"
A7: 3 | B7: г. Вологда | C7: ПС "Рубцово"
A8: 4 | B8: г. Вологда | C8: ПС "МАЕГА"
A9: 5,6, 7, 8, 9 | B9: г. Вологда | C9: ПС "ЗАПАДНАЯ
A10: 10 | B10: г. Вологда | C10: ПС "СЕВЕРНАЯ 35/6 кВ
A11: 11 | B11: г. Вологда | C11: РТП "ТЕПЛИЧНОГО ХОЗ - ВА"
A12: 12,13, 14 | B12: г. Вологда | C12: ГПП 110/10 кВ "ВОМЗ"
A13: 15,16,17,18,19,20, 21 | B13: г. Вологда | C13: ПС ВОЛОГДА-ЮЖНАЯ РУ - 6 -10 кВ
A14: 22 | B14: г. Вологда | C14: ГПП ВОЛОГДА - ТЯГОВАЯ 110/27,5/6 кВ
A15: 23 | B15: г. Вологда | C15: ТП 10 РЖД
A16: 24 | B16: г. Вологда | C16: ТП 34 РЖД
A17: 25,26,27,28,29 | B17: г. Вологда | C17: ТГК- 2 ВТЭЦ РП 6 кВ
A18: 30,31,32,33,34 | B18: г. Вологда | C18: ПС "ЦЕНТРАЛЬНАЯ" 110/6 кВ
A19: 35, 36 | B19: г. Вологда | C19: ПС "ГОРОДСКАЯ" 35/6 кВ
A20: 37, 38, 39 | B20: г. Вологда | C20: ПС "ВОСТОЧНАЯ" 110/35/10 кВ
A21: 40, 41 | B21: г. Вологда | C21: ПС "ЛУГОВАЯ"
A22: 42 | B22: г. Вологда | C22: РП "ГОРКА"
A23: 43, 44 | B23: г. Вологда | C23: ГПП 2 ЗАО ВПЗ
A24: 45 | B24: г. Вологда | C24: ГПП 1 ЗАО ВПЗ
A25: 46 | B25: ЭСУ "Кубенское" | C25: ПС "Кубенское"
A26: 47, 48 | B26: ЭСУ п. Молочное | C26: ПС "Молочное" 35/10 кВ
A27: 49, 50, 50-1, 50-2, 50-3 | B27: ЭСУ "Устье-Кубенское" | C27: РТП "КОРНИЛОВО" 35/10 кВ
A28: 51, 52, 53 | B28: ЭСУ "Шуйское" | C28: ПС "ШУЙСКОЕ" 35/ 10 кВ
A29: 54.55 | B29: ЭСУ г. Сокол | C29: ПС "ГДЗ" 110/6 кВ
B30: ЭСУ г. Сокол
A31: 56, 57, 58, | B31: ЭСУ г. Сокол | C31: ОАО "Сокольский" ЦБК" ГПП 35/6 кВ
A32: 59 | B32: ЭСУ г. Сокол | C32: ОАО "Сокольский" ЦБК" ГПП 110/6 кВ
A33: 60, 61, 62, 63 | B33: ЭСУ г. Сокол | C33: ООО "Сухонский ЦБК" ГПП 110/6 кВ
A34: 64-66 | B34: ЭСУ "Белозерск"
A35: 67-75 | B35: ЭСУ "Вытегра"
A36: 76-81_1 | B36: ЭСУ "Харовск"
A37: 82-86 | B37: ЭТУ "Вожега"
A38: 87-91 | B38: ЭТУ "Тотьма"
A39: 92-95 | B39: ЭСУ "Сямжа"
A40: 96-97 | B40: ЭСУ "Грязовец"
A42: Содержание
A45: № листа | B45: Электросетевой участок | C45: Центр питания
...

Sheet 1а
B1: АО "Вологдаоблэнерго" | J1: код 900151 | K1: ПС "Вологда-Южная"РУ 6кВ - транзит через "БМЗ"
A2: наименование предприятия | N2: наименование источника питания
N3: _________________________________
B4: ул. Горького, 99 | I4: Таблица № 1 | O4: РТП 25 Т1, Т2
A5: адрес
A6: почасовых записей показаний электрических счетчиков
A7: в режимный день 17 ИЮНЯ 2020 г.
A8: 143 | B8: 144
A9: часы суток | B9: Активная энергия | J9: Реактивная энергия
B10: яч. Т1 | F10: яч. Т2 | J10: яч. Т1 | N10: яч. Т2
B11: Расчет. Коэф. | E11: 600 | F11: расчетный коэф. | I11: 600 | J11: расчетный коэф. | M11: =E11 -> 600 | N11: расчетный коэф. | Q11: =I11 -> 600
B12: показания счетчика | C12: разность | E12: расход эл.энергии за час | F12: показания счетчика | G12: разность | I12: расход эл.энергии за час | J12: показания счетчика | K12: разность | M12: расход эл.энергии за час | N12: показания счетчика | O12: разность | Q12: расход эл.энергии за час
A13: 1 | B13: 2 | C13: 3 | E13: 4 | F13: 5 | G13: 6 | I13: 7 | J13: 8 | K13: 9 | M13: 10 | N13: 11 | O13: 12 | Q13: 13
A14: 0
A15: 1 | E15: 142.68 | I15: 2.7 | M15: 40.44 | Q15: 19.08
A16: 2 | E16: 127.32 | I16: 2.64 | M16: 38.52 | Q16: 18.9
A17: 3 | E17: 114 | I17: 2.64 | M17: 37.92 | Q17: 19.14
A18: 4 | E18: 106.08 | I18: 2.64 | M18: 37.56 | Q18: 18.72
A19: 5 | E19: 104.64 | I19: 2.58 | M19: 34.44 | Q19: 18.24
A20: 6 | E20: 112.2 | I20: 2.58 | M20: 35.28 | Q20: 18.18
A21: 7 | E21: 138.72 | I21: 2.58 | M21: 34.8 | Q21: 17.88
A22: 8 | E22: 145.56 | I22: 2.52 | M22: 35.76 | Q22: 17.34
A23: 9 | E23: 172.32 | I23: 2.4 | M23: 45.6 | Q23: 16.44
A24: 10 | E24: 188.76 | I24: 2.64 | M24: 48.84 | Q24: 18.54
A25: 11 | E25: 192.84 | I25: 2.64 | M25: 53.04 | Q25: 18.72
A26: 12 | E26: 202.8 | I26: 2.64 | M26: 53.76 | Q26: 18.66
... A38: 24 | E38: 171.72 | I38: 2.64 | M38: 43.56 | Q38: 18.9
A39: Итого | E39: =SUM(E15:E38) -> 4143.84 | I39: =SUM(I15:I38) -> 63.48 | M39: =SUM(M15:M38) -> 1101.24 | Q39: =SUM(Q15:Q38) -> 453.72
A40: 1. При наличии на предприятии отклонений от нормальных режимов электропотребления (временное изменение схем питания, остановка на ремонт, резкое снижение
A41: эл.потребления и т.д.) последние необходимо перечислить.
A42: 2. При наличии нескольких источников питания и большого количества вводов таблица
A43: составляется самим предприятием с соблюдением всех пунктов настоящей таблицы. | K43: Главный инженер _____________________________ | Q43: А.А. Михалин
A48: 1 | B48: 2 | C48: 3 | D48: 4 | E48: 5 | F48: 6 | G48: 7 | H48: 8 | I48: 9 | J48: 10 | K48: 11 | L48: 12 | M48: 13 | N48: 14 | O48: 15 | P48: 16 | Q48: 17

Sheet 1
B1: АО "Вологдаоблэнерго" | J1: код 900151 | N1: ПС "АНАНЬИНО"
B2: наименование предприятия | N2: наименование источника питания
N3: _________________________________
B4: ул. Горького, 99 | I4: Таблица № 1 | O4: ВЛ № 31
B5: адрес
A6: почасовых записей показаний электрических счетчиков
A7: в режимный день 17 ИЮНЯ 2020 г.
A8: 1629
A9: часы суток | B9: Активная энергия | J9: Реактивная энергия
B10: ЯЧ. № 7 - Ф."Город 7" | J10: ЯЧ. № 7 - Ф."Город 7"
B11: Расчет. Коэф. | E11: 3600 | F11: Расчет. Коэф. | J11: Расчет. Коэф. | M11: =E11 -> 3600 | N11: Расчет. Коэф.
B12: показания счетчика | C12: разность | E12: расход эл.энергии за час | F12: показания счетчика | G12: разность | I12: расход эл.энергии за час | J12: показания счетчика | K12: разность | M12: расход эл.энергии за час | N12: показания счетчика | O12: разность | Q12: расход эл.энергии за час
A13: 1 | B13: 2 | C13: 3 | E13: 4 | F13: 5 | G13: 6 | I13: 7 | J13: 8 | K13: 9 | M13: 10 | N13: 11 | O13: 12 | Q13: 13
A14: 0
A15: 1 | E15: 312 | M15: 208
A16: 2 | E16: 272 | M16: 199
A17: 3 | E17: 221 | M17: 196
A18: 4 | E18: 197 | M18: 180
A19: 5 | E19: 196 | M19: 174
A20: 6 | E20: 227 | M20: 172
A21: 7 | E21: 286 | M21: 175
A22: 8 | E22: 356 | M22: 187
A23: 9 | E23: 436 | M23: 204
A24: 10 | E24: 439 | M24: 223
A25: 11 | E25: 467 | M25: 245
A26: 12 | E26: 465 | M26: 240
... A38: 24 | E38: 384 | M38: 210
A39: Итого | E39: =SUM(E15:E38) -> 8756 | M39: =SUM(M15:M38) -> 5211
A40: 1. При наличии на предприятии отклонений от нормальных режимов электропотребления (временное изменение схем питания, остановка на ремонт, резкое снижение
A41: эл.потребления и т.д.) последние необходимо перечислить.
A42: 2. При наличии нескольких источников питания и большого количества вводов таблица
A43: составляется самим предприятием с соблюдением всех пунктов настоящей таблицы. | K43: Главный инженер ___________________ А.А. Михалин

Sheet 2
B1: АО "Вологдаоблэнерго" | J1: код 900151 | N1: ПС "АНАНЬИНО"
B2: наименование предприятия | N2: наименование источника питания
N3: _________________________________
B4: ул. Горького, 99 | I4: Таблица № 1 | O4: РП 36 ф 16; ТП 360
B5: адрес
A6: почасовых записей показаний электрических счетчиков
A7: в режимный день 17 ИЮНЯ 2020 г.
A8: 1630 | B8: 1628
A9: часы суток | B9: Активная энергия | J9: Реактивная энергия
B10: ЯЧ. № 2 - Ф."Овощехранилище" | F10: ЯЧ. № 8 - Ф."Городской" | J10: ЯЧ. № 2 - Ф."Овощехранилище" | N10: ЯЧ. № 8 - Ф."Городской"
B11: Расчет. Коэф. | E11: 3600 | F11: Расчет. Коэф. | I11: 2400 | J11: Расчет. Коэф. | M11: =E11 -> 3600 | N11: Расчет. Коэф. | Q11: =I11 -> 2400
B12: показания счетчика | C12: разность | E12: расход эл.энергии за час | F12: показания счетчика | G12: разность | I12: расход эл.энергии за час | J12: показания счетчика | K12: разность | M12: расход эл.энергии за час | N12: показания счетчика | O12: разность | Q12: расход эл.энергии за час
A13: 1 | B13: 2 | C13: 3 | E13: 4 | F13: 5 | G13: 6 | I13: 7 | J13: 8 | K13: 9 | M13: 10 | N13: 11 | O13: 12 | Q13: 13
A14: 0
A15: 1 | E15: 95 | I15: 67 | M15: 67 | Q15: 28
A16: 2 | E16: 97 | I16: 62 | M16: 79 | Q16: 28
A17: 3 | E17: 73 | I17: 58 | M17: 54 | Q17: 29
A18: 4 | E18: 60 | I18: 56 | M18: 44 | Q18: 30
A19: 5 | E19: 56 | I19: 58 | M19: 39 | Q19: 28
A20: 6 | E20: 60 | I20: 57 | M20: 40 | Q20: 25
A21: 7 | E21: 65 | I21: 66 | M21: 40 | Q21: 24
A22: 8 | E22: 132 | I22: 73 | M22: 98 | Q22: 24
A23: 9 | E23: 282 | I23: 82 | M23: 191 | Q23: 25
A24: 10 | E24: 337 | I24: 92 | M24: 283 | Q24: 31
A25: 11 | E25: 313 | I25: 99 | M25: 229 | Q25: 35
A26: 12 | E26: 360 | I26: 92 | M26: 257 | Q26: 29
... A38: 24 | E38: 163 | I38: 79 | M38: 112 | Q38: 29
A39: Итого | E39: =SUM(E15:E38) -> 4920 | M39: =SUM(M15:M38) -> 3706 | Q39: =SUM(Q15:Q38) -> 720
A40: 1. При наличии на предприятии отклонений от нормальных режимов электропотребления (временное изменение схем питания, остановка на ремонт, резкое снижение
A41: эл.потребления и т.д.) последние необходимо перечислить.
A42: 2. При наличии нескольких источников питания и большого количества вводов таблица
A43: составляется самим предприятием с соблюдением всех пунктов настоящей таблицы. | K43: Главный инженер ___________________ А.А. Михалин

Sheet 3
B1: АО "Вологдаоблэнерго" | J1: код 900151 | N1: ПС "РУБЦОВО"
B2: наименование предприятия | N2: наименование источника питания
N3: яч. 18 ф."РУБЦОВО"
B4: ул. Горького, 99 | I4: Таблица № 1 | O4: ВЛ-10кВ № 2
B5: адрес
A6: почасовых записей показаний электрических счетчиков
A7: в режимный день 17 ИЮНЯ 2020 г.
A8: 374
A9: часы суток | B9: Активная энергия | J9: Реактивная энергия
B10: яч. 18 ф."РУБЦОВО"- СВ - ВЛ№2 | J10: яч. 18 ф."РУБЦОВО"- СВ - ВЛ№2
B11: Расчет. Коэф. | E11: 1000 | F11: Расчет. Коэф. | I11: 0 | J11: Расчет. Коэф. | M11: =E11 -> 1000 | N11: Расчет. Коэф. | Q11: =I11 -> 0
B12: показания счетчика | C12: разность | E12: расход эл.энергии за час | F12: показания счетчика | G12: разность | I12: расход эл.энергии за час | J12: показания счетчика | K12: разность | M12: расход эл.энергии за час | N12: показания счетчика | O12: разность | Q12: расход эл.энергии за час
A13: 1 | B13: 2 | C13: 3 | E13: 4 | F13: 5 | G13: 6 | I13: 7 | J13: 8 | K13: 9 | M13: 10 | N13: 11 | O13: 12 | Q13: 13
A14: 0
A15: 1 | E15: 171 | M15: 16.4
A16: 2 | E16: 150.6 | M16: 12.6
A17: 3 | E17: 122 | M17: 19
A18: 4 | E18: 96 | M18: 20.6
A19: 5 | E19: 91.8 | M19: 16.6
A20: 6 | E20: 112.6 | M20: 17
A21: 7 | E21: 139 | M21: 13.6
A22: 8 | E22: 164 | M22: 16.6
A23: 9 | E23: 156.4 | M23: 12.8
A24: 10 | E24: 15.2 | M24: 1.2
A25: 11 | E25: 188.4 | M25: 28.4
A26: 12 | E26: 180 | M26: 25
... A38: 24 | E38: 214 | M38: 11.4
A39: Итого | E39: =SUM(E15:E38) -> 3926 | M39: =SUM(M15:M38) -> 510.2
A40: 1. При наличии на предприятии отклонений от нормальных режимов электропотребления (временное изменение схем питания, остановка на ремонт, резкое снижение
A41: эл.потребления и т.д.) последние необходимо перечислить.
A42: 2. При наличии нескольких источников питания и большого количества вводов таблица
A43: составляется самим предприятием с соблюдением всех пунктов настоящей таблицы. | K43: Главный инженер ___________________ А.А. Михалин

Sheet 4
B1: АО "Вологдаоблэнерго" | J1: код 900151 | N1: ПС "МАЕГА"
B2: наименование предприятия | N2: наименование источника питания
N3: яч. 13 - Ф НИКИТИНО
B4: ул. Горького, 99 | I4: Таблица № 1 | O4: ВЛ №27
B5: адрес
A6: почасовых записей показаний электрических счетчиков
A7: в режимный день 17 ИЮНЯ 2020 г.
A8: 363
A9: часы суток | B9: Активная энергия | J9: Реактивная энергия
B10: яч. 13 - Ф НИКИТИНО-СВ - ВЛ№27 | J10: яч. 13 - Ф НИКИТИНО-СВ - ВЛ№27
B11: Расчет. Коэф. | E11: 1500 | F11: Расчет. Коэф. | I11: 0 | J11: Расчет. Коэф. | M11: =E11 -> 1500 | N11: Расчет. Коэф. | Q11: =I11 -> 0
B12: показания счетчика | C12: разность | E12: расход эл.энергии за час | F12: показания счетчика | G12: разность | I12: расход эл.энергии за час | J12: показания счетчика | K12: разность | M12: расход эл.энергии за час | N12: показания счетчика | O12: разность | Q12: расход эл.энергии за час
A13: 1 | B13: 2 | C13: 3 | E13: 4 | F13: 5 | G13: 6 | I13: 7 | J13: 8 | K13: 9 | M13: 10 | N13: 11 | O13: 12 | Q13: 13
A14: 0
A15: 1 | E15: 219 | M15: 43.35
A16: 2 | E16: 188.25 | M16: 45.3
A17: 3 | E17: 151.05 | M17: 47.25
A18: 4 | E18: 141.3 | M18: 45.9
A19: 5 | E19: 137.7 | M19: 39.3
A20: 6 | E20: 153.15 | M20: 40.05
A21: 7 | E21: 216.75 | M21: 36
A22: 8 | E22: 232.2 | M22: 43.65
A23: 9 | E23: 256.2 | M23: 43.2
A24: 10 | E24: 269.25 | M24: 46.65
A25: 11 | E25: 273.9 | M25: 52.5
A26: 12 | E26: 268.2 | M26: 47.4
... A38: 24 | E38: 282.75 | M38: 50.1
A39: Итого | E39: =SUM(E15:E38) -> 6021.75 | M39: =SUM(M15:M38) -> 1167.15
A40: 1. При наличии на предприятии отклонений от нормальных режимов электропотребления (временное изменение схем питания, остановка на ремонт, резкое снижение
A41: эл.потребления и т.д.) последние необходимо перечислить.
A42: 2. При наличии нескольких источников питания и большого количества вводов таблица
A43: составляется самим предприятием с соблюдением всех пунктов настоящей таблицы. | K43: Главный инженер ___________________ А.А. Михалин

Sheet 5
B1: АО "Вологдаоблэнерго" | J1: код 900151 | N1: ПС "ЗАПАДНАЯ"
B2: наименование предприятия | N2: наименование источника питания
N3: _________________________________
B4: ул. Горького, 99 | I4: Таблица № 1 | O4: РП 16
B5: адрес
A6: почасовых записей показаний электрических счетчиков
A7: в режимный день 17 ИЮНЯ 2020 г.
A8: 372 | B8: 368
A9: часы суток | B9: Активная энергия | J9: Реактивная энергия
B10: Яч. 21 - "РМЗ-1" | F10: Яч. 28 - "РМЗ-2" | J10: Яч. 21 - "РМЗ-1" | N10: Яч. 28 - "РМЗ-2"
B11: Расчет. Коэф. | E11: 7200 | F11: Расчет. Коэф. | I11: 7200 | J11: Расчет. Коэф. | M11: =E11 -> 7200 | N11: Расчет. Коэф. | Q11: =I11 -> 7200
B12: показания счетчика | C12: разность | E12: расход эл.энергии за час | F12: показания счетчика | G12: разность | I12: расход эл.энергии за час | J12: показания счетчика | K12: разность | M12: расход эл.энергии за час | N12: показания счетчика | O12: разность | Q12: расход эл.энергии за час
A13: 1 | B13: 2 | C13: 3 | E13: 4 | F13: 5 | G13: 6 | I13: 7 | J13: 8 | K13: 9 | M13: 10 | N13: 11 | O13: 12 | Q13: 13
A14: 0
A15: 1 | E15: 233.97917 | I15: 727.03839 | M15: 78.510365 | Q15: 174.07796
A16: 2 | E16: 209.86211 | I16: 653.90433 | M16: 67.227791 | Q16: 161.86701
A17: 3 | E17: 195.33714 | I17: 542.95956 | M17: 69.406712 | Q17: 162.93741
A18: 4 | E18: 186.86395 | I18: 518.09775 | M18: 71.225365 | Q18: 162.17532
A19: 5 | E19: 183.39986 | I19: 506.7043 | M19: 71.260002 | Q19: 152.16406
A20: 6 | E20: 202.80573 | I20: 534.39633 | M20: 72.503613 | Q20: 149.15375
A21: 7 | E21: 247.79747 | I21: 697.37186 | M21: 74.762211 | Q21: 164.09443
A22: 8 | E22: 326.61961 | I22: 930.50922 | M22: 103.06391 | Q22: 232.98845
A23: 9 | E23: 388.06929 | I23: 1066.2778 | M23: 156.16164 | Q23: 285.99957
A24: 10 | E24: 462.68945 | I24: 1190.2025 | M24: 186.96442 | Q24: 330.99132
A25: 11 | E25: 498.8512 | I25: 1202.6282 | M25: 203.57825 | Q25: 316.22729
A26: 12 | E26: 465.2148 | I26: 1229.4091 | M26: 187.44246 | Q26: 304.50826
... A38: 24 | E38: 270.61551 | I38: 825.88654 | M38: 75.358032 | Q38: 169.94182
A39: Итого | E39: =SUM(E15:E38) -> 8214.5592 | I39: =SUM(I15:I38) -> 22147.09 | M39: =SUM(M15:M38) -> 3003.7282 | Q39: =SUM(Q15:Q38) -> 5510.8014
A40: 1. При наличии на предприятии отклонений от нормальных режимов электропотребления (временное изменение схем питания, остановка на ремонт, резкое снижение
A41: эл.потребления и т.д.) последние необходимо перечислить.
A42: 2. При наличии нескольких источников питания и большого количества вводов таблица
A43: составляется самим предприятием с соблюдением всех пунктов настоящей таблицы. | K43: Главный инженер ___________________ А.А. Михалин

Sheet 6
B1: АО "Вологдаоблэнерго" | J1: код 900151 | N1: ПС "ЗАПАДНАЯ"
B2: наименование предприятия | N2: наименование источника питания
N3: _________________________________
B4: ул. Горького, 99 | I4: Таблица № 1 | N4: РП 10 ф7 | Q4: РП 36 ф17
B5: адрес
A6: почасовых записей показаний электрических счетчиков
A7: в режимный день 17 ИЮНЯ 2020 г.
A8: 370 | B8: 365
A9: часы суток | B9: Активная энергия | J9: Реактивная энергия
B10: яч. 16 - ф."ОЧИСТНЫЕ-1" | F10: яч. 24 - "ГОРОД-1" | J10: яч. 16 - ф."ОЧИСТНЫЕ-1" | N10: яч. 24 - "ГОРОД-1"
B11: Расчет. Коэф. | E11: 4800 | F11: Расчет. Коэф. | I11: 7200 | J11: Расчет. Коэф. | M11: =E11 -> 4800 | N11: Расчет. Коэф. | Q11: =I11 -> 7200
B12: показания счетчика | C12: разность | E12: расход эл.энергии за час | F12: показания счетчика | G12: разность | I12: расход эл.энергии за час | J12: показания счетчика | K12: разность | M12: расход эл.энергии за час | N12: показания счетчика | O12: разность | Q12: расход эл.энергии за час
A13: 1 | B13: 2 | C13: 3 | E13: 4 | F13: 5 | G13: 6 | I13: 7 | J13: 8 | K13: 9 | M13: 10 | N13: 11 | O13: 12 | Q13: 13
A14: 0
A15: 1 | E15: 260.69778 | I15: 1439.8865 | M15: 48.379623 | Q15: 60.794958
A16: 2 | E16: 230.95502 | I16: 1535.1049 | M16: 44.084137 | Q16: 71.537132
A17: 3 | E17: 226.93666 | I17: 1465.9504 | M17: 45.407425 | Q17: 67.653873
A18: 4 | E18: 214.62525 | I18: 1382.0181 | M18: 39.708981 | Q18: 60.916197
A19: 5 | E19: 209.93487 | I19: 1477.1533 | M19: 35.586702 | Q19: 67.643486
A20: 6 | E20: 242.54243 | I20: 1430.9698 | M20: 41.253969 | Q20: 72.922771
A21: 7 | E21: 382.2773 | I21: 1487.4998 | M21: 61.612484 | Q21: 66.219738
A22: 8 | E22: 559.59766 | I22: 1629.6582 | M22: 97.140297 | Q22: 140.37573
A23: 9 | E23: 527.62402 | I23: 1578.154 | M23: 88.410763 | Q23: 333.19101
A24: 10 | E24: 447.13219 | I24: 1573.0742 | M24: 72.212631 | Q24: 292.8862
A25: 11 | E25: 444.7558 | I25: 1556.2428 | M25: 71.689552 | Q25: 378.79242
A26: 12 | E26: 451.86415 | I26: 1567.3418 | M26: 70.823528 | Q26: 368.3343
... A38: 24 | E38: 307.26568 | I38: 1587.241 | M38: 55.432528 | Q38: 70.695354
A39: Итого | E39: =SUM(E15:E38) -> 9497.7311 | I39: =SUM(I15:I38) -> 37624.276 | M39: =SUM(M15:M38) -> 1576.8896 | Q39: =SUM(Q15:Q38) -> 3934.0884
A40: 1. При наличии на предприятии отклонений от нормальных режимов электропотребления (временное изменение схем питания, остановка на ремонт, резкое снижение
A41: эл.потребления и т.д.) последние необходимо перечислить.
A42: 2. При наличии нескольких источников питания и большого количества вводов таблица
A43: составляется самим предприятием с соблюдением всех пунктов настоящей таблицы. | K43: Главный инженер ___________________ А.А. Михалин

Sheet 7
B1: АО "Вологдаоблэнерго" | J1: код 900151 | N1: ПС "ЗАПАДНАЯ"
B2: наименование предприятия | N2: наименование источника питания
N3: _________________________________
B4: ул. Горького, 99 | I4: Таблица № 1 | O4: РП 7
B5: адрес
A6: почасовых записей показаний электрических счетчиков
A7: в режимный день 17 ИЮНЯ 2020 г.
A8: 371 | B8: 367
A9: часы суток | B9: Активная энергия | J9: Реактивная энергия
B10: яч. 3 "П/Я-1" | F10: яч. 10 "П/Я-2" | J10: яч. 3 "П/Я-1" | N10: яч. 10 "П/Я-2"
B11: Расчет. Коэф. | E11: 12000 | F11: Расчет. Коэф. | I11: 7200 | J11: Расчет. Коэф. | M11: =E11 -> 12000 | N11: Расчет. Коэф. | Q11: =I11 -> 7200
B12: показания счетчика | C12: разность | E12: расход эл.энергии за час | F12: показания счетчика | G12: разность | I12: расход эл.энергии за час | J12: показания счетчика | K12: разность | M12: расход эл.энергии за час | N12: показания счетчика | O12: разность | Q12: расход эл.энергии за час
A13: 1 | B13: 2 | C13: 3 | E13: 4 | F13: 5 | G13: 6 | I13: 7 | J13: 8 | K13: 9 | M13: 10 | N13: 11 | O13: 12 | Q13: 13
A14: 0
A15: 1 | E15: 808.56949 | I15: 1599.233 | M15: 348.37761 | Q15: 673.79172
A16: 2 | E16: 748.15555 | I16: 1461.5974 | M16: 313.6812 | Q16: 636.44873
A17: 3 | E17: 713.25128 | I17: 1331.7941 | M17: 314.95598 | Q17: 624.51144
A18: 4 | E18: 703.17767 | I18: 1292.2409 | M18: 330.91162 | Q18: 617.12598
A19: 5 | E19: 716.51447 | I19: 1291.8737 | M19: 338.26245 | Q19: 591.83804
A20: 6 | E20: 746.28494 | I20: 1387.3825 | M20: 318.94662 | Q20: 609.20706
A21: 7 | E21: 769.68842 | I21: 1503.2428 | M21: 287.23627 | Q21: 592.09091
A22: 8 | E22: 879.34796 | I22: 1624.6387 | M22: 291.80193 | Q22: 626.00101
A23: 9 | E23: 1195.0938 | I23: 1826.9179 | M23: 419.34317 | Q23: 726.83057
A24: 10 | E24: 1174.7733 | I24: 2028.8956 | M24: 452.70938 | Q24: 813.87646
A25: 11 | E25: 1056.2457 | I25: 2022.3242 | M25: 441.52727 | Q25: 813.89377
A26: 12 | E26: 1029.101 | I26: 2047.9311 | M26: 416.65504 | Q26: 789.91183
... A38: 24 | E38: 859.61646 | I38: 1738.4033 | M38: 321.84262 | Q38: 663.04608
A39: Итого | E39: =SUM(E15:E38) -> 22292.232 | I39: =SUM(I15:I38) -> 43037.166 | M39: =SUM(M15:M38) -> 8903.6935 | Q39: =SUM(Q15:Q38) -> 17015.857
A40: 1. При наличии на предприятии отклонений от нормальных режимов электропотребления (временное изменение схем питания, остановка на ремонт, резкое снижение
A41: эл.потребления и т.д.) последние необходимо перечислить.
A42: 2. При наличии нескольких источников питания и большого количества вводов таблица
A43: составляется самим предприятием с соблюдением всех пунктов настоящей таблицы. | K43: Главный инженер ___________________ А.А. Михалин

Sheet 8
B1: АО "Вологдаоблэнерго" | J1: код 900151 | N1: ПС "ЗАПАДНАЯ"
B2: наименование предприятия | I2: _ | N2: наименование источника питания
N3: _________________________________
B4: ул. Горького, 99 | I4: Таблица № 1 | O4: РП 35; РП 37
B5: адрес
A6: почасовых записей показаний электрических счетчиков
A7: в режимный день 17 ИЮНЯ 2020 г.
A8: 129 | B8: 130
A9: часы суток | B9: Активная энергия | J9: Реактивная энергия
B10: яч. 15 "РП -35" | F10: яч. 35 "РП-37" | J10: яч. 15 "РП -35" | N10: яч. 35 "РП-37"
B11: Расчет. Коэф. | E11: 3600 | F11: Расчет. Коэф. | I11: 4800 | J11: Расчет. Коэф. | M11: =E11 -> 3600 | N11: Расчет. Коэф. | Q11: =I11 -> 4800
B12: показания счетчика | C12: разность | E12: расход эл.энергии за час | F12: показания счетчика | G12: разность | I12: расход эл.энергии за час | J12: показания счетчика | K12: разность | M12: расход эл.энергии за час | N12: показания счетчика | O12: разность | Q12: расход эл.энергии за час
A13: 1 | B13: 2 | C13: 3 | E13: 4 | F13: 5 | G13: 6 | I13: 7 | J13: 8 | K13: 9 | M13: 10 | N13: 11 | O13: 12 | Q13: 13
A14: 0
A15: 1 | E15: 254.14371 | I15: 405.93712 | M15: 159.50449 | Q15: 197.4537
A16: 2 | E16: 253.99129 | I16: 381.6122 | M16: 155.67666 | Q16: 170.84595
A17: 3 | E17: 253.88735 | I17: 406.99367 | M17: 155.83254 | Q17: 215.20376
A18: 4 | E18: 253.90467 | I18: 310.74364 | M18: 161.10836 | Q18: 155.8464
A19: 5 | E19: 253.5375 | I19: 292.78922 | M19: 161.59334 | Q19: 147.96904
A20: 6 | E20: 253.20493 | I20: 367.25003 | M20: 159.97214 | Q20: 151.24607
A21: 7 | E21: 253.76266 | I21: 411.59744 | M21: 158.35788 | Q21: 154.32912
A22: 8 | E22: 253.71762 | I22: 403.99374 | M22: 154.35337 | Q22: 133.41635
A23: 9 | E23: 254.9266 | I23: 509.16728 | M23: 154.48501 | Q23: 186.99213
A24: 10 | E24: 255.06169 | I24: 635.57233 | M24: 155.52077 | Q24: 255.43928
A25: 11 | E25: 255.3804 | I25: 554.38074 | M25: 157.62002 | Q25: 220.95416
A26: 12 | E26: 254.86425 | I26: 515.07706 | M26: 157.75858 | Q26: 210.10807
... A38: 24 | E38: 244.99156 | I38: 395.84271 | M38: 150.38351 | Q38: 157.46068
A39: Итого | E39: =SUM(E15:E38) -> 6072.6611 | I39: =SUM(I15:I38) -> 11224.54 | M39: =SUM(M15:M38) -> 3775.0204 | Q39: =SUM(Q15:Q38) -> 4784.7779
A40: 1. При наличии на предприятии отклонений от нормальных режимов электропотребления (временное изменение схем питания, остановка на ремонт, резкое снижение
A41: эл.потребления и т.д.) последние необходимо перечислить.
A42: 2. При наличии нескольких источников питания и большого количества вводов таблица
A43: составляется самим предприятием с соблюдением всех пунктов настоящей таблицы. | K43: Главный инженер ___________________ А.А. Михалин

Sheet 9
B1: АО "Вологдаоблэнерго" | J1: код 900151 | N1: ПС "ЗАПАДНАЯ"
B2: наименование предприятия | N2: наименование источника питания
N3: _________________________________
B4: ул. Горького, 99 | I4: Таблица № 1 | O4: РП 28
B5: адрес
A6: почасовых записей показаний электрических счетчиков
A7: в режимный день 17 ИЮНЯ 2020 г.
A8: 366 | B8: 369
A9: часы суток | B9: Активная энергия | J9: Реактивная энергия
B10: яч. 17 "ГОРОД-2" | F10: яч. 22 - "ОЧИСТНЫЕ-2" | J10: ЯЧ. №11 - "ГОРОД-2" | N10: ЯЧ. №18 - "ОЧИСТНЫЕ-2"
B11: Расчет. Коэф. | E11: 7200 | F11: Расчет. Коэф. | I11: 7200 | J11: Расчет. Коэф. | M11: =E11 -> 7200 | N11: Расчет. Коэф. | Q11: =I11 -> 7200
B12: показания счетчика | C12: разность | E12: расход эл.энергии за час | F12: показания счетчика | G12: разность | I12: расход эл.энергии за час | J12: показания счетчика | K12: разность | M12: расход эл.энергии за час | N12: показания счетчика | O12: разность | Q12: расход эл.энергии за час
A13: 1 | B13: 2 | C13: 3 | E13: 4 | F13: 5 | G13: 6 | I13: 7 | J13: 8 | K13: 9 | M13: 10 | N13: 11 | O13: 12 | Q13: 13
A14: 0
A15: 1 | E15: 179.95308 | I15: 553.70868 | M15: 86.23877 | Q15: 318.84962
A16: 2 | E16: 164.85653 | I16: 571.56613 | M16: 80.72739 | Q16: 319.1129
A17: 3 | E17: 127.50314 | I17: 635.01459 | M17: 63.878008 | Q17: 368.67378
A18: 4 | E18: 109.11222 | I18: 529.14478 | M18: 66.174707 | Q18: 291.13684
A19: 5 | E19: 105.88368 | I19: 527.77643 | M19: 68.18042 | Q19: 284.41302
A20: 6 | E20: 125.92696 | I20: 534.88132 | M20: 68.454082 | Q20: 290.94632
A21: 7 | E21: 147.38014 | I21: 549.55869 | M21: 81.091118 | Q21: 292.02711
A22: 8 | E22: 224.20002 | I22: 584.43875 | M22: 102.92881 | Q22: 302.70345
A23: 9 | E23: 320.79646 | I23: 710.94418 | M23: 166.59204 | Q23: 400.18324
A24: 10 | E24: 411.15056 | I24: 854.71127 | M24: 216.48895 | Q24: 502.05548
A25: 11 | E25: 434.56097 | I25: 819.20767 | M25: 231.91457 | Q25: 449.67831
A26: 12 | E26: 443.12422 | I26: 810.14914 | M26: 234.85213 | Q26: 485.26848
... A38: 24 | E38: 196.27245 | I38: 531.13663 | M38: 88.071281 | Q38: 282.56319
A39: Итого | E39: =SUM(E15:E38) -> 6309.1101 | I39: =SUM(I15:I38) -> 15730.333 | M39: =SUM(M15:M38) -> 3199.72 | Q39: =SUM(Q15:Q38) -> 8667.9233
A40: 1. При наличии на предприятии отклонений от нормальных режимов электропотребления (временное изменение схем питания, остановка на ремонт, резкое снижение
A41: эл.потребления и т.д.) последние необходимо перечислить.
A42: 2. При наличии нескольких источников питания и большого количества вводов таблица
A43: составляется самим предприятием с соблюдением всех пунктов настоящей таблицы. | K43: Главный инженер ___________________ А.А. Михалин

Sheet 10
B1: АО "Вологдаоблэнерго" | J1: код 900151 | N1: ПС "СЕВЕРНАЯ 35/6 кВ
B2: наименование предприятия | N2: наименование источника питания
N3: _________________________________
B4: ул. Горького, 99 | I4: Таблица № 1 | N4: Т1, Т2 | O4: РП 5
B5: адрес
A6: почасовых записей показаний электрических счетчиков
A7: в режимный день 17 ИЮНЯ 2020 г.
A8: 325 | B8: 328
A9: часы суток | B9: Активная энергия | J9: Реактивная энергия
B10: Т 1 -РП 5 Ф 3 ввод № 1 | F10: Т 2 - РП 5 Ф 17 ввод № 2 | J10: Т 1 -РП 5 Ф 3 ввод № 1 | N10: Т 2 - РП 5 Ф 17 ввод № 2
B11: Расчет. Коэф. | E11: 18000 | F11: Расчет. Коэф. | I11: 18000 | J11: Расчет. Коэф. | M11: =E11 -> 18000 | N11: Расчет. Коэф. | Q11: =I11 -> 18000
B12: показания счетчика | C12: разность | E12: расход эл.энергии за час | F12: показания счетчика | G12: разность | I12: расход эл.энергии за час | J12: показания счетчика | K12: разность | M12: расход эл.энергии за час | N12: показания счетчика | O12: разность | Q12: расход эл.энергии за час
A13: 1 | B13: 2 | C13: 3 | E13: 4 | F13: 5 | G13: 6 | I13: 7 | J13: 8 | K13: 9 | M13: 10 | N13: 11 | O13: 12 | Q13: 13
A14: 0
A15: 1 | E15: 887.4 | I15: 1477.8 | M15: 451.8 | Q15: 471.6
A16: 2 | E16: 768.6 | I16: 1326.6 | M16: 365.4 | Q16: 433.8
A17: 3 | E17: 689.4 | I17: 1186.2 | M17: 347.4 | Q17: 408.6
A18: 4 | E18: 711 | I18: 1081.8 | M18: 423 | Q18: 372.6
A19: 5 | E19: 687.6 | I19: 1062 | M19: 394.2 | Q19: 349.2
A20: 6 | E20: 608.4 | I20: 1134 | M20: 306 | Q20: 354.6
A21: 7 | E21: 649.8 | I21: 1414.8 | M21: 250.2 | Q21: 360
A22: 8 | E22: 835.2 | I22: 1670.4 | M22: 432 | Q22: 446.4
A23: 9 | E23: 1015.2 | I23: 2062.8 | M23: 568.8 | Q23: 594
A24: 10 | E24: 973.8 | I24: 2291.4 | M24: 471.6 | Q24: 685.8
A25: 11 | E25: 993.6 | I25: 2354.4 | M25: 482.4 | Q25: 682.2
A26: 12 | E26: 1040.4 | I26: 2410.2 | M26: 453.6 | Q26: 694.8
... A38: 24 | E38: 986.4 | I38: 1603.8 | M38: 468 | Q38: 396
A39: Итого | E39: =SUM(E15:E38) -> 22186.8 | I39: =SUM(I15:I38) -> 44465.4 | M39: =SUM(M15:M38) -> 10762.2 | Q39: =SUM(Q15:Q38) -> 12317.4
A40: 1. При наличии на предприятии отклонений от нормальных режимов электропотребления (временное изменение схем питания, остановка на ремонт, резкое снижение
A41: эл.потребления и т.д.) последние необходимо перечислить.
A42: 2. При наличии нескольких источников питания и большого количества вводов таблица
A43: составляется самим предприятием с соблюдением всех пунктов настоящей таблицы. | K43: Главный инженер ___________________ А.А. Михалин

Sheet 11
B1: АО "Вологдаоблэнерго" | G1: код 900151 | I1: ПС "ВОЛОГДА-ЮЖНАЯ" 110/6 транзит через РТП "ТЕПЛИЧНОГО ХОЗ - ВА"
B2: наименование предприятия | N2: наименование источника питания
N3: _________________________________
B4: ул. Горького, 99 | I4: Таблица № 1 | O4: ТП 438
B5: адрес
A6: почасовых записей показаний электрических счетчиков
A7: в режимный день 17 ИЮНЯ 2020 г.
A8: 635 | B8: 634
A9: часы суток | B9: Активная энергия | J9: Реактивная энергия
B10: ЯЧ. 3 - ф. "Микрорайон-1" ввод № 1 | F10: яч. 13 - ф. "Микрорайон-2" ввод № 2 | J10: ЯЧ. 3 - ф. "Микрорайон-1" ввод № 1 | N10: яч. 13 - ф. "Микрорайон-2" ввод № 2
B11: Расчет. Коэф. | E11: 3600 | F11: Расчет. Коэф. | I11: 3600 | J11: Расчет. Коэф. | M11: =E11 -> 3600 | N11: Расчет. Коэф. | Q11: =I11 -> 3600
B12: показания счетчика | C12: разность | E12: расход эл.энергии за час | F12: показания счетчика | G12: разность | I12: расход эл.энергии за час | J12: показания счетчика | K12: разность | M12: расход эл.энергии за час | N12: показания счетчика | O12: разность | Q12: расход эл.энергии за час
A13: 1 | B13: 2 | C13: 3 | E13: 4 | F13: 5 | G13: 6 | I13: 7 | J13: 8 | K13: 9 | M13: 10 | N13: 11 | O13: 12 | Q13: 13
A14: 0
A15: 1 | E15: 115.56 | I15: 135.72 | M15: 46.08 | Q15: 54.72
A16: 2 | E16: 99.36 | I16: 122.04 | M16: 40.68 | Q16: 54.72
A17: 3 | E17: 80.28 | I17: 114.84 | M17: 39.6 | Q17: 56.52
A18: 4 | E18: 74.88 | I18: 108.36 | M18: 38.16 | Q18: 55.08
A19: 5 | E19: 74.52 | I19: 105.84 | M19: 37.08 | Q19: 52.2
A20: 6 | E20: 79.2 | I20: 126.72 | M20: 37.08 | Q20: 53.28
A21: 7 | E21: 97.92 | I21: 154.44 | M21: 37.08 | Q21: 52.92
A22: 8 | E22: 110.88 | I22: 169.92 | M22: 42.84 | Q22: 53.64
A23: 9 | E23: 132.12 | I23: 207.72 | M23: 41.04 | Q23: 54.36
A24: 10 | E24: 138.6 | I24: 208.44 | M24: 41.04 | Q24: 60.12
A25: 11 | E25: 143.64 | I25: 219.6 | M25: 43.2 | Q25: 56.88
A26: 12 | E26: 153.36 | I26: 207.72 | M26: 46.08 | Q26: 58.32
... A38: 24 | E38: 129.6 | I38: 171 | M38: 45.36 | Q38: 52.56
A39: Итого | E39: =SUM(E15:E38) -> 3054.24 | I39: =SUM(I15:I38) -> 4280.04 | M39: =SUM(M15:M38) -> 1095.12 | Q39: =SUM(Q15:Q38) -> 1381.68
A40: 1. При наличии на предприятии отклонений от нормальных режимов электропотребления (временное изменение схем питания, остановка на ремонт, резкое снижение
A41: эл.потребления и т.д.) последние необходимо перечислить.
A42: 2. При наличии нескольких источников питания и большого количества вводов таблица
A43: составляется самим предприятием с соблюдением всех пунктов настоящей таблицы. | K43: Главный инженер _____________________________ | Q43: А.А. Михалин

Sheet 12
B1: АО "Вологдаоблэнерго" | J1: код 900151 | N1: ГПП 110/10 кВ "ВОМЗ"
B2: наименование предприятия | N2: наименование источника питания
N3: _________________________________
B4: ул. Горького, 99 | I4: Таблица № 1 | O4: РП 29
B5: адрес
A6: почасовых записей показаний электрических счетчиков
A7: в режимный день 17 ИЮНЯ 2020 г.
A8: 613 | B8: 610
A9: часы суток | B9: Активная энергия | J9: Реактивная энергия
B10: ЯЧ.47 - РП 29 ввод № 1 | F10: ЯЧ.31 - РП 29 ввод № 2 | J10: ЯЧ.47 - РП 29 ввод № 1 | N10: ЯЧ.31 - РП 29 ввод № 2
B11: Расчет. Коэф. | E11: 12000 | F11: Расчет. Коэф. | I11: 20000 | J11: Расчет. Коэф. | M11: =E11 -> 12000 | N11: Расчет. Коэф. | Q11: =I11 -> 20000
B12: показания счетчика | C12: разность | E12: расход эл.энергии за час | F12: показания счетчика | G12: разность | I12: расход эл.энергии за час | J12: показания счетчика | K12: разность | M12: расход эл.энергии за час | N12: показания счетчика | O12: разность | Q12: расход эл.энергии за час
A13: 1 | B13: 2 | C13: 3 | E13: 4 | F13: 5 | G13: 6 | I13: 7 | J13: 8 | K13: 9 | M13: 10 | N13: 11 | O13: 12 | Q13: 13
A14: 0
A15: 1 | E15: 884 | I15: 622 | M15: 308 | Q15: 118
A16: 2 | E16: 796 | I16: 578 | M16: 298 | Q16: 114
A17: 3 | E17: 731 | I17: 502 | M17: 288 | Q17: 98
A18: 4 | E18: 698 | I18: 474 | M18: 276 | Q18: 90
A19: 5 | E19: 686 | I19: 472 | M19: 263 | Q19: 82
A20: 6 | E20: 728 | I20: 520 | M20: 266 | Q20: 82
A21: 7 | E21: 901 | I21: 602 | M21: 268 | Q21: 86
A22: 8 | E22: 1065 | I22: 728 | M22: 288 | Q22: 104
A23: 9 | E23: 1240 | I23: 978 | M23: 326 | Q23: 150
A24: 10 | E24: 1463 | I24: 1136 | M24: 359 | Q24: 180
A25: 11 | E25: 1527 | I25: 1206 | M25: 374 | Q25: 204
A26: 12 | E26: 1571 | I26: 1170 | M26: 386 | Q26: 204
... A38: 24 | E38: 992 | I38: 700 | M38: 271 | Q38: 104
A39: Итого | E39: =SUM(E15:E38) -> 29183 | I39: =SUM(I15:I38) -> 20794 | M39: =SUM(M15:M38) -> 7999 | Q39: =SUM(Q15:Q38) -> 3444
A40: 1. При наличии на предприятии отклонений от нормальных режимов электропотребления (временное изменение схем питания, остановка на ремонт, резкое снижение
A41: эл.потребления и т.д.) последние необходимо перечислить.
A42: 2. При наличии нескольких источников питания и большого количества вводов таблица
A43: составляется самим предприятием с соблюдением всех пунктов настоящей таблицы. | K43: Главный инженер ___________________ А.А. Михалин

Sheet 13
B1: АО "Вологдаоблэнерго" | J1: код 900151 | N1: ГПП 110/10 кВ "ВОМЗ"
B2: наименование предприятия | N2: наименование источника питания
N3: _________________________________
B4: ул. Горького, 99 | I4: Таблица № 1 | O4: РП 14
B5: адрес
A6: почасовых записей показаний электрических счетчиков
A7: в режимный день 17 ИЮНЯ 2020 г.
A8: 614 | B8: 615
A9: часы суток | B9: Активная энергия | J9: Реактивная энергия
B10: ЯЧ.5 - РП 14 ввод № 1 | F10: ЯЧ.22 - РП 14 ввод № 2 | J10: ЯЧ.5 - РП 14 ввод № 1 | N10: ЯЧ.22 - РП 14 ввод № 2
B11: Расчет. Коэф. | E11: 12000 | F11: Расчет. Коэф. | I11: 12000 | J11: Расчет. Коэф. | M11: =E11 -> 12000 | N11: Расчет. Коэф. | Q11: =I11 -> 12000
B12: показания счетчика | C12: разность | E12: расход эл.энергии за час | F12: показания счетчика | G12: разность | I12: расход эл.энергии за час | J12: показания счетчика | K12: разность | M12: расход эл.энергии за час | N12: показания счетчика | O12: разность | Q12: расход эл.энергии за час
A13: 1 | B13: 2 | C13: 3 | E13: 4 | F13: 5 | G13: 6 | I13: 7 | J13: 8 | K13: 9 | M13: 10 | N13: 11 | O13: 12 | Q13: 13
A14: 0
A15: 1 | E15: 1834 | I15: 1540 | M15: 285 | Q15: 235
A16: 2 | E16: 1667 | I16: 1434 | M16: 278 | Q16: 234
A17: 3 | E17: 1485 | I17: 1292 | M17: 270 | Q17: 217
A18: 4 | E18: 1380 | I18: 1243 | M18: 234 | Q18: 197
A19: 5 | E19: 1377 | I19: 1146 | M19: 222 | Q19: 165
A20: 6 | E20: 1465 | I20: 1203 | M20: 226 | Q20: 162
A21: 7 | E21: 1783 | I21: 1567 | M21: 227 | Q21: 183
A22: 8 | E22: 2036 | I22: 1872 | M22: 292 | Q22: 255
A23: 9 | E23: 2382 | I23: 2255 | M23: 383 | Q23: 362
A24: 10 | E24: 2712 | I24: 2451 | M24: 430 | Q24: 391
A25: 11 | E25: 2986 | I25: 2580 | M25: 468 | Q25: 435
A26: 12 | E26: 3028 | I26: 2662 | M26: 477 | Q26: 448
... A38: 24 | E38: 2188 | I38: 1770 | M38: 243 | Q38: 205
A39: Итого | E39: =SUM(E15:E38) -> 58719 | I39: =SUM(I15:I38) -> 49332 | M39: =SUM(M15:M38) -> 8783 | Q39: =SUM(Q15:Q38) -> 7813
A40: 1. При наличии на предприятии отклонений от нормальных режимов электропотребления (временное изменение схем питания, остановка на ремонт, резкое снижение
A41: эл.потребления и т.д.) последние необходимо перечислить.
A42: 2. При наличии нескольких источников питания и большого количества вводов таблица
A43: составляется самим предприятием с соблюдением всех пунктов настоящей таблицы. | K43: Главный инженер ___________________ А.А. Михалин

Sheet 14
B1: АО "Вологдаоблэнерго" | J1: код 900151 | N1: ГПП 110/10 кВ "ВОМЗ"
B2: наименование предприятия | N2: наименование источника питания
N3: _________________________________
B4: ул. Горького, 99 | I4: Таблица № 1 | O4: РП 2
B5: адрес
A6: почасовых записей показаний электрических счетчиков
A7: в режимный день 17 ИЮНЯ 2020 г.
A8: 612 | B8: 611
A9: часы суток | B9: Активная энергия | J9: Реактивная энергия
B10: ЯЧ.44 - РП 2 ввод № 1 | F10: ЯЧ.26в - РП 2 ввод № 2 | J10: ЯЧ.44 - РП 2 ввод № 1 | N10: ЯЧ.26в - РП 2 ввод № 2
B11: Расчет. Коэф. | E11: 12000 | F11: Расчет. Коэф. | I11: 12000 | J11: Расчет. Коэф. | M11: =E11 -> 12000 | N11: Расчет. Коэф. | Q11: =I11 -> 12000
B12: показания счетчика | C12: разность | E12: расход эл.энергии за час | F12: показания счетчика | G12: разность | I12: расход эл.энергии за час | J12: показания счетчика | K12: разность | M12: расход эл.энергии за час | N12: показания счетчика | O12: разность | Q12: расход эл.энергии за час
A13: 1 | B13: 2 | C13: 3 | E13: 4 | F13: 5 | G13: 6 | I13: 7 | J13: 8 | K13: 9 | M13: 10 | N13: 11 | O13: 12 | Q13: 13
A14: 0
A15: 1 | E15: 438 | I15: 387 | M15: 62 | Q15: 12
A16: 2 | E16: 380 | I16: 355 | M16: 58 | Q16: 13
A17: 3 | E17: 346 | I17: 306 | M17: 56 | Q17: 10
A18: 4 | E18: 340 | I18: 294 | M18: 58 | Q18: 5
A19: 5 | E19: 346 | I19: 296 | M19: 55 | Q19: 9
A20: 6 | E20: 356 | I20: 309 | M20: 52 | Q20: 16
A21: 7 | E21: 418 | I21: 393 | M21: 49 | Q21: 13
A22: 8 | E22: 466 | I22: 483 | M22: 64 | Q22: 30
A23: 9 | E23: 565 | I23: 568 | M23: 97 | Q23: 55
A24: 10 | E24: 648 | I24: 649 | M24: 111 | Q24: 86
A25: 11 | E25: 692 | I25: 664 | M25: 117 | Q25: 87
A26: 12 | E26: 705 | I26: 675 | M26: 116 | Q26: 89
... A38: 24 | E38: 515 | I38: 387 | M38: 54 | Q38: 2
A39: Итого | E39: =SUM(E15:E38) -> 13557 | I39: =SUM(I15:I38) -> 12027 | M39: =SUM(M15:M38) -> 2100 | Q39: =SUM(Q15:Q38) -> 978
A40: 1. При наличии на предприятии отклонений от нормальных режимов электропотребления (временное изменение схем питания, остановка на ремонт, резкое снижение
A41: эл.потребления и т.д.) последние необходимо перечислить.
A42: 2. При наличии нескольких источников питания и большого количества вводов таблица
A43: составляется самим предприятием с соблюдением всех пунктов настоящей таблицы. | K43: Главный инженер ___________________ А.А. Михалин

Sheet 15
B1: АО "Вологдаоблэнерго" | J1: код 900151 | N1: ПС ВОЛОГДА-ЮЖНАЯ РУ - 6 кВ
B2: наименование предприятия | N2: наименование источника питания
N3: _________________________________
B4: ул. Горького, 99 | I4: Таблица № 1 | N4: ТП 450 | Q4: ТП 630
B5: адрес
A6: почасовых записей показаний электрических счетчиков
A7: в режимный день 18 ДЕКАБРЯ 2019 г..
A8: 591 | B8: 595
A9: часы суток | B9: Активная энергия | J9: Реактивная энергия
B10: ЯЧ.№ 206 - "ГОРОД-15" | F10: ЯЧ.№103 - "ТУБДИСПАНСЕР" | J10: =B10 -> ЯЧ.№ 206 - "ГОРОД-15" | N10: =F10 -> ЯЧ.№103 - "ТУБДИСПАНСЕР"
B11: Расчет. Коэф. | E11: 4800 | F11: Расчет. Коэф. | I11: 2400 | J11: Расчет. Коэф. | M11: =E11 -> 4800 | N11: Расчет. Коэф. | Q11: =I11 -> 2400
B12: показания счетчика | C12: разность | E12: расход эл.энергии за час | F12: показания счетчика | G12: разность | I12: расход эл.энергии за час | J12: показания счетчика | K12: разность | M12: расход эл.энергии за час | N12: показания счетчика | O12: разность | Q12: расход эл.энергии за час
A13: 1 | B13: 2 | C13: 3 | E13: 4 | F13: 5 | G13: 6 | I13: 7 | J13: 8 | K13: 9 | M13: 10 | N13: 11 | O13: 12 | Q13: 13
A14: 0
A15: 1 | E15: 109 | I15: 373 | M15: 47 | Q15: 90
A16: 2 | E16: 73 | I16: 339 | M16: 24 | Q16: 91
A17: 3 | E17: 55 | I17: 272 | M17: 19 | Q17: 83
A18: 4 | E18: 52 | I18: 268 | M18: 18 | Q18: 80
A19: 5 | E19: 47 | I19: 292 | M19: 16 | Q19: 80
A20: 6 | E20: 55 | I20: 306 | M20: 17 | Q20: 80
A21: 7 | E21: 70 | I21: 369 | M21: 17 | Q21: 81
A22: 8 | E22: 114 | I22: 409 | M22: 44 | Q22: 92
A23: 9 | E23: 169 | I23: 515 | M23: 111 | Q23: 111
A24: 10 | E24: 242 | I24: 562 | M24: 173 | Q24: 134
A25: 11 | E25: 231 | I25: 605 | M25: 153 | Q25: 137
A26: 12 | E26: 234 | I26: 553 | M26: 163 | Q26: 137
... A38: 24 | E38: 118 | I38: 445 | M38: 50 | Q38: 102
A39: Итого | E39: =SUM(E15:E38) -> 3633 | I39: =SUM(I15:I38) -> 10764 | M39: =SUM(M15:M38) -> 2122 | Q39: =SUM(Q15:Q38) -> 2663
A40: 1. При наличии на предприятии отклонений от нормальных режимов электропотребления (временное изменение схем питания, остановка на ремонт, резкое снижение
A41: эл.потребления и т.д.) последние необходимо перечислить.
A42: 2. При наличии нескольких источников питания и большого количества вводов таблица
A43: составляется самим предприятием с соблюдением всех пунктов настоящей таблицы. | K43: Главный инженер ___________________ А.А. Михалин

Sheet 16
B1: АО "Вологдаоблэнерго" | J1: код 900151 | N1: ПС ВОЛОГДА-ЮЖНАЯ РУ-10 кВ
B2: наименование предприятия | I2: _ | N2: наименование источника питания
N3: _________________________________
B4: ул. Горького, 99 | I4: Таблица № 1 | O4: РП 32
B5: адрес
A6: почасовых записей показаний электрических счетчиков
A7: в режимный день 17 ИЮНЯ 2020 г.
A8: 590 | B8: 593
A9: часы суток | B9: Активная энергия | J9: Реактивная энергия
B10: ЯЧ.№206 - "ГОРОД-10" | F10: ЯЧ.№404- "ГОРОД-14" | J10: =B10 -> ЯЧ.№206 - "ГОРОД-10" | N10: =F10 -> ЯЧ.№404- "ГОРОД-14"
B11: Расчет. Коэф. | E11: 6000 | F11: Расчет. Коэф. | I11: 3000 | J11: Расчет. Коэф. | M11: =E11 -> 6000 | N11: Расчет. Коэф. | Q11: =I11 -> 3000
B12: показания счетчика | C12: разность | E12: расход эл.энергии за час | F12: показания счетчика | G12: разность | I12: расход эл.энергии за час | J12: показания счетчика | K12: разность | M12: расход эл.энергии за час | N12: показания счетчика | O12: разность | Q12: расход эл.энергии за час
A13: 1 | B13: 2 | C13: 3 | E13: 4 | F13: 5 | G13: 6 | I13: 7 | J13: 8 | K13: 9 | M13: 10 | N13: 11 | O13: 12 | Q13: 13
A14: 0
A15: 1 | E15: 483 | I15: 213 | M15: 64 | Q15: 44
A16: 2 | E16: 464 | I16: 210 | M16: 60 | Q16: 42
A17: 3 | E17: 455 | I17: 196 | M17: 55 | Q17: 42
A18: 4 | E18: 447 | I18: 181 | M18: 52 | Q18: 30
A19: 5 | E19: 430 | I19: 275 | M19: 45 | Q19: 29
A20: 6 | E20: 432 | I20: 264 | M20: 48 | Q20: 32
A21: 7 | E21: 484 | I21: 266 | M21: 51 | Q21: 39
A22: 8 | E22: 687 | I22: 324 | M22: 102 | Q22: 58
A23: 9 | E23: 986 | I23: 401 | M23: 159 | Q23: 75
A24: 10 | E24: 1101 | I24: 442 | M24: 211 | Q24: 92
A25: 11 | E25: 1084 | I25: 443 | M25: 220 | Q25: 82
A26: 12 | E26: 1024 | I26: 386 | M26: 191 | Q26: 83
... A38: 24 | E38: 348 | I38: 317 | M38: 103 | Q38: 0
A39: Итого | E39: =SUM(E15:E38) -> 14175 | I39: =SUM(I15:I38) -> 7369 | M39: =SUM(M15:M38) -> 2947 | Q39: =SUM(Q15:Q38) -> 1027
A40: 1. При наличии на предприятии отклонений от нормальных режимов электропотребления (временное изменение схем питания, остановка на ремонт, резкое снижение
A41: эл.потребления и т.д.) последние необходимо перечислить.
A42: 2. При наличии нескольких источников питания и большого количества вводов таблица
A43: составляется самим предприятием с соблюдением всех пунктов настоящей таблицы. | K43: Главный инженер ___________________ А.А. Михалин

Sheet 17
B1: АО "Вологдаоблэнерго" | J1: код 900151 | N1: ПС ВОЛОГДА-ЮЖНАЯ РУ- 6 кВ
B2: наименование предприятия | N2: наименование источника питания
N3: _________________________________
B4: ул. Горького, 99 | I4: Таблица № 1 | O4: ТП 461
B5: адрес
A6: почасовых записей показаний электрических счетчиков
A7: в режимный день 17 ИЮНЯ 2020 г.
A8: 594
A9: часы суток | B9: Активная энергия | J9: Реактивная энергия
B10: ЯЧ.№203 - "ГОРОД 20" | J10: ЯЧ.№203 - "ГОРОД 20"
B11: Расчет. Коэф. | E11: 7200 | F11: Расчет. Коэф. | I11: 0 | J11: Расчет. Коэф. | M11: =E11 -> 7200 | N11: Расчет. Коэф. | Q11: =I11 -> 0
B12: показания счетчика | C12: разность | E12: расход эл.энергии за час | F12: показания счетчика | G12: разность | I12: расход эл.энергии за час | J12: показания счетчика | K12: разность | M12: расход эл.энергии за час | N12: показания счетчика | O12: разность | Q12: расход эл.энергии за час
A13: 1 | B13: 2 | C13: 3 | E13: 4 | F13: 5 | G13: 6 | I13: 7 | J13: 8 | K13: 9 | M13: 10 | N13: 11 | O13: 12 | Q13: 13
A14: 0
A15: 1 | E15: 25 | M15: 3
A16: 2 | E16: 22 | M16: 2
A17: 3 | E17: 20 | M17: 2
A18: 4 | E18: 19 | M18: 1
A19: 5 | E19: 18 | M19: 2
A20: 6 | E20: 49 | M20: 4
A21: 7 | E21: 47 | M21: 4
A22: 8 | E22: 45 | M22: 3
A23: 9 | E23: 66 | M23: 4
A24: 10 | E24: 59 | M24: 5
A25: 11 | E25: 52 | M25: 6
A26: 12 | E26: 42 | M26: 5
... A38: 24 | E38: 27 | M38: 2
A39: Итого | E39: =SUM(E15:E38) -> 898 | M39: =SUM(M15:M38) -> 85
A40: 1. При наличии на предприятии отклонений от нормальных режимов электропотребления (временное изменение схем питания, остановка на ремонт, резкое снижение
A41: эл.потребления и т.д.) последние необходимо перечислить.
A42: 2. При наличии нескольких источников питания и большого количества вводов таблица
A43: составляется самим предприятием с соблюдением всех пунктов настоящей таблицы. | K43: Главный инженер ___________________ А.А. Михалин

Sheet 18
B1: АО "Вологдаоблэнерго" | J1: код 900151 | N1: ПС ВОЛОГДА-ЮЖНАЯ РУ-10 кВ
B2: наименование предприятия | N2: наименование источника питания
N3: _________________________________
B4: ул. Горького, 99 | I4: Таблица № 1 | O4: РП 26
B5: адрес
A6: почасовых записей показаний электрических счетчиков
A7: в режимный день 16 ДЕКАБРЯ 2015 __ г.
A8: 589 | B8: 592
A9: часы суток | B9: Активная энергия | J9: Реактивная энергия
B10: ЯЧ. № 107- ф."ГОРОД 7" | F10: ЯЧ. № 204 - ф."ГОРОД 17" | J10: ЯЧ. № 107- ф."ГОРОД 7" | N10: ЯЧ. № 204 - ф."ГОРОД 17"
B11: Расчет. Коэф. | E11: 8000 | F11: Расчет. Коэф. | I11: 8000 | J11: Расчет. Коэф. | M11: =E11 -> 8000 | N11: Расчет. Коэф. | Q11: =I11 -> 8000
B12: показания счетчика | C12: разность | E12: расход эл.энергии за час | F12: показания счетчика | G12: разность | I12: расход эл.энергии за час | J12: показания счетчика | K12: разность | M12: расход эл.энергии за час | N12: показания счетчика | O12: разность | Q12: расход эл.энергии за час
A13: 1 | B13: 2 | C13: 3 | E13: 4 | F13: 5 | G13: 6 | I13: 7 | J13: 8 | K13: 9 | M13: 10 | N13: 11 | O13: 12 | Q13: 13
A14: 0
A15: 1 | E15: 1210 | I15: 1035 | M15: 203 | Q15: 150
A16: 2 | E16: 1054 | I16: 911 | M16: 186 | Q16: 130
A17: 3 | E17: 951 | I17: 825 | M17: 182 | Q17: 129
A18: 4 | E18: 877 | I18: 784 | M18: 161 | Q18: 117
A19: 5 | E19: 870 | I19: 780 | M19: 152 | Q19: 106
A20: 6 | E20: 925 | I20: 850 | M20: 153 | Q20: 108
A21: 7 | E21: 1156 | I21: 1088 | M21: 168 | Q21: 121
A22: 8 | E22: 1312 | I22: 1213 | M22: 226 | Q22: 164
A23: 9 | E23: 1452 | I23: 1341 | M23: 235 | Q23: 284
A24: 10 | E24: 1567 | I24: 1455 | M24: 280 | Q24: 320
A25: 11 | E25: 1650 | I25: 1468 | M25: 298 | Q25: 272
A26: 12 | E26: 1683 | I26: 1490 | M26: 309 | Q26: 298
... A38: 24 | E38: 1470 | I38: 1215 | M38: 206 | Q38: 146
A39: Итого | E39: =SUM(E15:E38) -> 35428 | I39: =SUM(I15:I38) -> 31887 | M39: =SUM(M15:M38) -> 6385 | Q39: =SUM(Q15:Q38) -> 5509
A40: 1. При наличии на предприятии отклонений от нормальных режимов электропотребления (временное изменение схем питания, остановка на ремонт, резкое снижение
A41: эл.потребления и т.д.) последние необходимо перечислить.
A42: 2. При наличии нескольких источников питания и большого количества вводов таблица
A43: составляется самим предприятием с соблюдением всех пунктов настоящей таблицы. | K43: Главный инженер ___________________ А.А. Михалин

Sheet 19
B1: АО "Вологдаоблэнерго" | J1: код 900151 | N1: ПС ВОЛОГДА-ЮЖНАЯ РУ - 10 кВ
B2: наименование предприятия | N2: наименование источника питания
N3: _________________________________
B4: ул. Горького, 99 | I4: Таблица № 1 | O4: РП 43
B5: адрес
A6: почасовых записей показаний электрических счетчиков
A7: в режимный день 17 ИЮНЯ 2020 г.
A8: 597 | B8: 596
A9: часы суток | B9: Активная энергия | J9: Реактивная энергия
B10: ЯЧ.№ 407 - "ГОРОД-3" | F10: ЯЧ.№ 305 - "ГОРОД-5" | J10: ЯЧ.№ 407- "ГОРОД-3" | N10: ЯЧ.№ 305- "ГОРОД-5"
B11: Расчет. Коэф. | E11: 6000 | F11: Расчет. Коэф. | I11: 4000 | J11: Расчет. Коэф. | M11: =E11 -> 6000 | N11: Расчет. Коэф. | Q11: =I11 -> 4000
B12: показания счетчика | C12: разность | E12: расход эл.энергии за час | F12: показания счетчика | G12: разность | I12: расход эл.энергии за час | J12: показания счетчика | K12: разность | M12: расход эл.энергии за час | N12: показания счетчика | O12: разность | Q12: расход эл.энергии за час
A13: 1 | B13: 2 | C13: 3 | E13: 4 | F13: 5 | G13: 6 | I13: 7 | J13: 8 | K13: 9 | M13: 10 | N13: 11 | O13: 12 | Q13: 13
A14: 0
A15: 1 | E15: 1334 | I15: 1858 | M15: 217 | Q15: 440
A16: 2 | E16: 1210 | I16: 1672 | M16: 197 | Q16: 419
A17: 3 | E17: 1101 | I17: 1546 | M17: 189 | Q17: 402
A18: 4 | E18: 1042 | I18: 1471 | M18: 167 | Q18: 386
A19: 5 | E19: 1027 | I19: 1455 | M19: 155 | Q19: 363
A20: 6 | E20: 1076 | I20: 1549 | M20: 153 | Q20: 361
A21: 7 | E21: 1067 | I21: 1901 | M21: 125 | Q21: 400
A22: 8 | E22: 1625 | I22: 2029 | M22: 243 | Q22: 439
A23: 9 | E23: 2018 | I23: 2280 | M23: 319 | Q23: 462
A24: 10 | E24: 2217 | I24: 2557 | M24: 366 | Q24: 540
A25: 11 | E25: 2358 | I25: 2685 | M25: 399 | Q25: 586
A26: 12 | E26: 2396 | I26: 2706 | M26: 397 | Q26: 571
... A38: 24 | E38: 1531 | I38: 2136 | M38: 196 | Q38: 440
A39: Итого | E39: =SUM(E15:E38) -> 44615 | I39: =SUM(I15:I38) -> 55579 | M39: =SUM(M15:M38) -> 7231 | Q39: =SUM(Q15:Q38) -> 12502
A40: 1. При наличии на предприятии отклонений от нормальных режимов электропотребления (временное изменение схем питания, остановка на ремонт, резкое снижение
A41: эл.потребления и т.д.) последние необходимо перечислить.
A42: 2. При наличии нескольких источников питания и большого количества вводов таблица
A43: составляется самим предприятием с соблюдением всех пунктов настоящей таблицы. | K43: Главный инженер ___________________ А.А. Михалин

Sheet 20
B1: АО "Вологдаоблэнерго" | J1: код 900151 | N1: ПС ВОЛОГДА-ЮЖНАЯ РУ-10 кВ
B2: наименование предприятия | N2: наименование источника питания
N3: _________________________________
B4: ул. Горького, 99 | I4: Таблица № 1 | O4: РП 27
B5: адрес
A6: почасовых записей показаний электрических счетчиков
A7: в режимный день 16 ДЕКАБРЯ 2015 __ г.
A8: 30 | B8: 49
A9: часы суток | B9: Активная энергия | J9: Реактивная энергия
B10: ЯЧ. № 408 - "ГОРОД -1" | F10: ЯЧ.№ 105 - "РП 27" | J10: ЯЧ. № 408 - "ГОРОД -1" | N10: ЯЧ.№ 105 - "РП 27"
B11: Расчет. Коэф. | E11: 12000 | F11: Расчет. Коэф. | I11: 12000 | J11: Расчет. Коэф. | M11: =E11 -> 12000 | N11: Расчет. Коэф. | Q11: =I11 -> 12000
B12: показания счетчика | C12: разность | E12: расход эл.энергии за час | F12: показания счетчика | G12: разность | I12: расход эл.энергии за час | J12: показания счетчика | K12: разность | M12: расход эл.энергии за час | N12: показания счетчика | O12: разность | Q12: расход эл.энергии за час
A13: 1 | B13: 2 | C13: 3 | E13: 4 | F13: 5 | G13: 6 | I13: 7 | J13: 8 | K13: 9 | M13: 10 | N13: 11 | O13: 12 | Q13: 13
A14: 0
A15: 1 | E15: 0 | I15: 0 | M15: 0 | Q15: 0
A16: 2 | E16: 0 | I16: 0 | M16: 0 | Q16: 0
A17: 3 | E17: 0 | I17: 0 | M17: 0 | Q17: 0
A18: 4 | E18: 0 | I18: 0 | M18: 0 | Q18: 0
A19: 5 | E19: 0 | I19: 0 | M19: 0 | Q19: 0
A20: 6 | E20: 0 | I20: 0 | M20: 0 | Q20: 0
A21: 7 | E21: 0 | I21: 0 | M21: 0 | Q21: 0
A22: 8 | E22: 0 | I22: 0 | M22: 0 | Q22: 0
A23: 9 | E23: 0 | I23: 0 | M23: 0 | Q23: 0
A24: 10 | E24: 0 | I24: 0 | M24: 0 | Q24: 0
A25: 11 | E25: 0 | I25: 0 | M25: 0 | Q25: 0
A26: 12 | E26: 0 | I26: 0 | M26: 0 | Q26: 0
... A38: 24 | E38: 0 | I38: 0 | M38: 0 | Q38: 0
A39: Итого | E39: =SUM(E15:E38) -> 0 | I39: =SUM(I15:I38) -> 0 | M39: =SUM(M15:M38) -> 0 | Q39: =SUM(Q15:Q38) -> 0
A40: 1. При наличии на предприятии отклонений от нормальных режимов электропотребления (временное изменение схем питания, остановка на ремонт, резкое снижение
A41: эл.потребления и т.д.) последние необходимо перечислить.
A42: 2. При наличии нескольких источников питания и большого количества вводов таблица
A43: составляется самим предприятием с соблюдением всех пунктов настоящей таблицы. | K43: Главный инженер ___________________ А.А. Михалин

Sheet 21
B1: АО "Вологдаоблэнерго" | J1: код 900151 | N1: ПС ВОЛОГДА-ЮЖНАЯ РУ-10 кВ
B2: наименование предприятия | N2: наименование источника питания
N3: яч. 406 ф "РОДИОНЦЕВО", КТП-906
B4: ул. Горького, 99 | I4: Таблица № 1
B5: адрес
A6: почасовых записей показаний электрических счетчиков
A7: в режимный день 17 ИЮНЯ 2020 г.
A8: 362 | B8: 985
A9: часы суток | B9: Активная энергия | J9: Реактивная энергия
B10: яч. 406 ф "РОДИОНЦЕВО" - ПКУ | F10: КТП-906 | J10: яч. 406 ф "РОДИОНЦЕВО" - ПКУ | N10: КТП-906
B11: Расчет. Коэф. | E11: 2000 | F11: Расчет. Коэф. | I11: 80 | J11: Расчет. Коэф. | M11: =E11 -> 2000 | N11: Расчет. Коэф. | Q11: =I11 -> 80
B12: показания счетчика | C12: разность | E12: расход эл.энергии за час | F12: показания счетчика | G12: разность | I12: расход эл.энергии за час | J12: показания счетчика | K12: разность | M12: расход эл.энергии за час | N12: показания счетчика | O12: разность | Q12: расход эл.энергии за час
A13: 1 | B13: 2 | C13: 3 | E13: 4 | F13: 5 | G13: 6 | I13: 7 | J13: 8 | K13: 9 | M13: 10 | N13: 11 | O13: 12 | Q13: 13
A14: 0
A15: 1 | E15: 8 | I15: 10.76 | M15: 0 | Q15: 3
A16: 2 | E16: 7.4 | I16: 9.36 | M16: 0 | Q16: 2.88
A17: 3 | E17: 2.4 | I17: 9.2 | M17: 0 | Q17: 2.8
A18: 4 | E18: 2 | I18: 9 | M18: 0 | Q18: 2.88
A19: 5 | E19: 2.2 | I19: 8.12 | M19: 0 | Q19: 2.76
A20: 6 | E20: 2.2 | I20: 8.16 | M20: 0 | Q20: 2.36
A21: 7 | E21: 3.6 | I21: 9.36 | M21: 0 | Q21: 2.2
A22: 8 | E22: 9.4 | I22: 12.24 | M22: 0 | Q22: 2.8
A23: 9 | E23: 11.8 | I23: 15.52 | M23: 0 | Q23: 2.96
A24: 10 | E24: 9.4 | I24: 14.84 | M24: 0 | Q24: 3.24
A25: 11 | E25: 10.2 | I25: 13.44 | M25: 0 | Q25: 3
A26: 12 | E26: 10.4 | I26: 17.48 | M26: 0 | Q26: 2.84
... A38: 24 | E38: 8 | I38: 32.32 | M38: 0 | Q38: 3.76
A39: Итого | E39: =SUM(E15:E38) -> 174.4 | I39: =SUM(I15:I38) -> 372 | M39: =SUM(M15:M38) -> 0 | Q39: =SUM(Q15:Q38) -> 75.12
A40: 1. При наличии на предприятии отклонений от нормальных режимов электропотребления (временное изменение схем питания, остановка на ремонт, резкое снижение
A41: эл.потребления и т.д.) последние необходимо перечислить.
A42: 2. При наличии нескольких источников питания и большого количества вводов таблица
A43: составляется самим предприятием с соблюдением всех пунктов настоящей таблицы. | K43: Главный инженер ___________________ А.А. Михалин

Sheet 21_1
B1: АО "Вологдаоблэнерго" | J1: код 900151 | N1: ПС ВОЛОГДА-ЮЖНАЯ РУ-10 кВ
B2: наименование предприятия | N2: наименование источника питания
N3: РП-44
B4: ул. Горького, 99 | I4: Таблица № 1
B5: адрес
A6: почасовых записей показаний электрических счетчиков
A7: в режимный день 17 ИЮНЯ 2020 г.
A9: часы суток | B9: Активная энергия | J9: Реактивная энергия
B10: яч. 307 ф "Охмыльцево-1" | F10: яч. 409 ф "Охмыльцево-2" | J10: яч. 307 ф "Охмыльцево-1" | N10: яч. 409 ф "Охмыльцево-2"
B11: Расчет. Коэф. | F11: Расчет. Коэф. | J11: Расчет. Коэф. | N11: Расчет. Коэф.
B12: показания счетчика | C12: разность | E12: расход эл.энергии за час | F12: показания счетчика | G12: разность | I12: расход эл.энергии за час | J12: показания счетчика | K12: разность | M12: расход эл.энергии за час | N12: показания счетчика | O12: разность | Q12: расход эл.энергии за час
A13: 1 | B13: 2 | C13: 3 | E13: 4 | F13: 5 | G13: 6 | I13: 7 | J13: 8 | K13: 9 | M13: 10 | N13: 11 | O13: 12 | Q13: 13
A14: 0
A15: 1 | E15: 1 | I15: 757 | M15: 0 | Q15: 20
A16: 2 | E16: 1 | I16: 654 | M16: 0 | Q16: 11
A17: 3 | E17: 0 | I17: 588 | M17: 0 | Q17: 9
A18: 4 | E18: 1 | I18: 558 | M18: 0 | Q18: 0
A19: 5 | E19: 1 | I19: 546 | M19: 0 | Q19: 0
A20: 6 | E20: 1 | I20: 601 | M20: 0 | Q20: 1
A21: 7 | E21: 0 | I21: 795 | M21: 0 | Q21: 0
A22: 8 | E22: 1 | I22: 965 | M22: 0 | Q22: 15
A23: 9 | E23: 1 | I23: 1017 | M23: 0 | Q23: 61
A24: 10 | E24: 0 | I24: 1112 | M24: 0 | Q24: 90
A25: 11 | E25: 0 | I25: 1202 | M25: 0 | Q25: 119
A26: 12 | E26: 143 | I26: 1063 | M26: 9 | Q26: 106
... A38: 24 | E38: 918 | I38: 1 | M38: 4 | Q38: 0
A39: Итого | I39: =SUM(I15:I38) -> 9862 | M39: =SUM(M15:M38) -> 844 | Q39: =SUM(Q15:Q38) -> 432
A40: 1. При наличии на предприятии отклонений от нормальных режимов электропотребления (временное изменение схем питания, остановка на ремонт, резкое снижение
A41: эл.потребления и т.д.) последние необходимо перечислить.
A42: 2. При наличии нескольких источников питания и большого количества вводов таблица
A43: составляется самим предприятием с соблюдением всех пунктов настоящей таблицы. | K43: Главный инженер ___________________ А.А. Михалин

Sheet 22
B1: АО "Вологдаоблэнерго" | J1: код 900151 | M1: ПС ВОЛОГДА - ТЯГОВАЯ 110/27,5/6 кВ
B2: наименование предприятия | N2: наименование источника питания
N3: _________________________________
B4: ул. Горького, 99 | I4: Таблица № 1 | O4: ТП 450
A6: почасовых записей показаний электрических счетчиков
A7: в режимный день 17 ИЮНЯ 2020 г.
A8: 636
A9: часы суток | B9: Активная энергия | J9: Реактивная энергия
B10: ЯЧ. 1 - ТП 450 | J10: ЯЧ. 1 - ТП 450
B11: Расчет. Коэф. | E11: 7200 | F11: Расчет. Коэф. | I11: =Q11 -> 0 | J11: Расчет. Коэф. | M11: =E11 -> 7200 | N11: Расчет. Коэф. | Q11: 0
B12: показания счетчика | C12: разность | E12: расход эл.энергии за час | F12: показания счетчика | G12: разность | I12: расход эл.энергии за час | J12: показания счетчика | K12: разность | M12: расход эл.энергии за час | N12: показания счетчика | O12: разность | Q12: расход эл.энергии за час
A13: 1 | B13: 2 | C13: 3 | E13: 4 | F13: 5 | G13: 6 | I13: 7 | J13: 8 | K13: 9 | M13: 10 | N13: 11 | O13: 12 | Q13: 13
A14: 0
A15: 1 | E15: 0 | M15: 0
A16: 2 | E16: 0 | M16: 0
A17: 3 | E17: 0 | M17: 0
A18: 4 | E18: 0 | M18: 0
A19: 5 | E19: 0 | M19: 0
A20: 6 | E20: 0 | M20: 0
A21: 7 | E21: 0 | M21: 0
A22: 8 | E22: 0 | M22: 0
A23: 9 | E23: 0 | M23: 0
A24: 10 | E24: 0 | M24: 0
A25: 11 | E25: 0 | M25: 0
A26: 12 | E26: 0 | M26: 0
... A38: 24 | E38: 0 | M38: 0
A39: Итого | E39: =SUM(E15:E38) -> 0 | M39: =SUM(M15:M38) -> 0
A40: 1. При наличии на предприятии отклонений от нормальных режимов электропотребления (временное изменение схем питания, остановка на ремонт, резкое снижение
A41: эл.потребления и т.д.) последние необходимо перечислить.
A42: 2. При наличии нескольких источников питания и большого количества вводов таблица
A43: составляется самим предприятием с соблюдением всех пунктов настоящей таблицы. | K43: Главный инженер ___________________ А.А. Михалин

Sheet 23
B1: АО "Вологдаоблэнерго" | I1: код 900151 | K1: ТГК -2 "ВТЭЦ" РП 6 кВ танзит через ТП 10 СЖД ОАО РЖД
B2: наименование предприятия | N2: наименование источника питания
N3: _________________________________
B4: ул. Горького, 99 | I4: Таблица № 1 | O4: ТП 238; ТП 651
A6: почасовых записей показаний электрических счетчиков
A7: в режимный день 17 ИЮНЯ 2020 г.
A8: 640 | B8: 641
A9: часы суток | B9: Активная энергия | J9: Реактивная энергия
B10: ЯЧ.5 - ТП 238 | F10: ЯЧ.7 - ТП 651 | J10: ЯЧ.5 - ТП 238 | N10: ЯЧ.7 - ТП 651
B11: Расчет. Коэф. | E11: 1800 | F11: Расчет. Коэф. | I11: 1800 | J11: Расчет. Коэф. | M11: =E11 -> 1800 | N11: Расчет. Коэф. | Q11: =I11 -> 1800
B12: показания счетчика | C12: разность | E12: расход эл.энергии за час | F12: показания счетчика | G12: разность | I12: расход эл.энергии за час | J12: показания счетчика | K12: разность | M12: расход эл.энергии за час | N12: показания счетчика | O12: разность | Q12: расход эл.энергии за час
A13: 1 | B13: 2 | C13: 3 | E13: 4 | F13: 5 | G13: 6 | I13: 7 | J13: 8 | K13: 9 | M13: 10 | N13: 11 | O13: 12 | Q13: 13
A14: 0
A15: 1 | E15: 106.74 | I15: 244.98 | M15: 27.72 | Q15: 90
A16: 2 | E16: 95.94 | I16: 219.24 | M16: 25.74 | Q16: 89.1
A17: 3 | E17: 76.86 | I17: 187.92 | M17: 23.94 | Q17: 89.1
A18: 4 | E18: 72.9 | I18: 177.84 | M18: 22.68 | Q18: 87.12
A19: 5 | E19: 69.12 | I19: 177.48 | M19: 21.6 | Q19: 84.96
A20: 6 | E20: 73.62 | I20: 187.56 | M20: 22.5 | Q20: 83.16
A21: 7 | E21: 93.6 | I21: 235.08 | M21: 27.36 | Q21: 84.24
A22: 8 | E22: 138.24 | I22: 271.44 | M22: 49.68 | Q22: 95.76
A23: 9 | E23: 141.48 | I23: 293.4 | M23: 48.78 | Q23: 99
A24: 10 | E24: 150.66 | I24: 313.38 | M24: 46.26 | Q24: 93.06
A25: 11 | E25: 154.26 | I25: 319.5 | M25: 50.04 | Q25: 95.22
A26: 12 | E26: 169.2 | I26: 331.38 | M26: 60.3 | Q26: 116.64
... A38: 24 | E38: 147.06 | I38: 285.12 | M38: 41.4 | Q38: 89.28
