Workbook

Sheet Содержание книги
A1: Содержание
A4: № листа | B4: Электросетевой участок | C4: Центр питания
A5: 1-109 | B5: ЭСУ "Череповец"
A6: 110-118 | B6: ЭСУ "Бабаево"
A7: 119-153 | B7: ЭСУ "Кадуй"
A8: 154-166 | B8: ЭСУ "Чагода"
A9: 167-207 | B9: ЭСУ "Шексна"
A10: 208-211 | B10: ЭСУ "Белозерск"
A11: Содержание
A14: № листа | B14: Электросетевой участок | C14: Центр питания
A15: 1 а | B15: г, Вологда | C15: ОАО "БМЗ"
D16: яч, Т1, яч, Т2
A17: 1, 2 | B17: г, Вологда | C17: ПС "АНАНЬИНО"
D18: яч,7 - ф,"Город-7"
D19: яч,8 - ф,"Городской", яч,2 - ф,"Овощехранилище"
A20: 3 | B20: г, Вологда | C20: ПС "ИСКРА"
D21: яч,18 - ф,"РУБЦОВО"- СВ - ВЛ№2
A22: 4 | B22: г, Вологда | C22: ПС "МАЕГА"
D23: яч,13 - ф,"НИКИТИНО"-СВ - ВЛ№27
A24: 5,6, 7, 8, 9 | B24: г, Вологда | C24: ПС "ЗАПАДНАЯ
D25: яч,19 - "РМЗ-1", яч,24 - "РМЗ-2"
D26: яч,15 -"ОЧИСТНЫЕ-1", яч,9 -"ГОРОД-1"
D27: яч,21- "П/я-1", яч,20 - "П/я-2"
D28: яч,33 - "РП-35", яч,35 - "РП-37"
D29: яч,11 - "ГОРОД-2", яч,18 - "ОЧИСТНЫЕ-2"
A30: 10 | B30: г, Вологда | C30: ПС "СЕВЕРНАЯ 35/6 кВ
D31: Т1 - РП5ф3 ввод №1, Т2 - РП5ф17 ввод №2
A32: 11 | B32: г, Вологда | C32: РТП "ТЕПЛИЧНОГО ХОЗ - ВА"
D33: яч, 3 - ф,"Микрорайон-1" ввод № 1, яч,13 - ф,"Микрорайон-2" ввод № 2
A34: 12,13, 14 | B34: г, Вологда | C34: ГПП 110/10 кВ "ВОМЗ"
D35: яч,47 - РП 29 ввод № 1, яч,31 - РП 29 ввод № 2
D36: яч,5 - РП 14 ввод № 1, яч,22 - РП 14 ввод № 2
D37: яч,44 - РП 2 ввод № 1, яч,26в - РП 2 ввод № 2
A38: 15,16,17,18,19,20, 21 | B38: г, Вологда | C38: ПС ВОЛОГДА-ЮЖНАЯ РУ - 6 -10 кВ
D39: яч,15 - "ГОРОД-15", яч,24 - "ТУБДИСПАНСЕР"
D40: яч,10 - "ГОРОД-10", яч,14 - "ГОРОД-14"
D41: яч,20 - "ГОРОД 20"
D42: яч, 7- ф,"ГОРОД 7", яч,17 - ф,"ГОРОД 17"
D43: яч,3 - "ГОРОД-3", яч,5 - "ГОРОД-5"
D44: яч, 1 - "ГОРОД -1", яч, 20 - "РП 27"
D45: яч, 4 ф,"РОДИОНЦЕВО" - ПКУ
D46: яч, 307, 409 ф,"Охмыльцево"
A47: 22 | B47: г, Вологда | C47: ГПП ВОЛОГДА - ТЯГОВАЯ 110/27,5/6 кВ
D48: яч, 1 - ТП 450
A49: 23 | B49: г, Вологда | C49: ТП 10 СЖД ОАО РЖД
D50: яч,5 - ТП 238, яч,7 - ТП 651
A51: 24 | B51: г, Вологда | C51: ТП 34 СЖД ОАО РЖД
D52: яч,2 - ТП 660, яч,6 - ТП 662
A53: 25,26,27,28,29 | B53: г, Вологда | C53: ТГК- 2 ВТЭЦ РП 6 кВ
D54: яч,10 - РП 3 ввод № 1, яч, 115 - РП 3 ввод № 2
D55: яч, 114 - РП 23 ввод № 1, яч, 107 - РП 23 ввод № 2
D56: яч, 3 - ТП 217
D57: яч, 5 - РП 1 ввод № 1, яч, 12 - РП 1 ввод № 2
D58: яч, 4 - РП 20 ввод № 1, яч, 7 - РП 20 ввод № 2
A59: 30,31,32,33,34,34-1 | B59: г, Вологда | C59: ПС "ЦЕНТРАЛЬНАЯ" 110/6 кВ
D60: яч,4 - ТП 54 -Ι ввод № 1, яч, 30 - ТП 54 - ΙΙ ввод № 2
D61: яч, 14 - РП 13- Ι , яч, 22 - РП 13- ΙΙ
D62: яч,12 - РП 4 -Ι , яч, 24 - РП 4 -ΙΙ
D63: яч, 2 - РП 8 яч, 11
D64: яч,28 - ТП 11 -ΙΙ
D65: яч,22 - РП 21-I, яч,7 - РП 21-II
A66: 35, 36 | B66: г, Вологда | C66: ПС "ГОРОДСКАЯ" 35/6 кВ
D67: Т-1 - ЗРУ ф,1 ввод № 1, Т-3 - ЗРУ ф,20 ввод № 2 ,
D68: Т-2 - РП 9 ф, 11
A69: 37, 38, 39 | B69: г, Вологда | C69: ПС "ВОСТОЧНАЯ" 110/35/10 кВ
D70: яч,2 - "РП 39-1", яч, 21 - "РП 39-2"
D71: яч,15 - "РМЗ-1", яч,32 - "РМЗ-2"
D72: яч, 11- "ГОРОД-1", яч, 28- "ГОРОД-2"
A73: 40, 41 | B73: г, Вологда | C73: ПС "ЛУГОВАЯ"
D74: яч, 23 - ф,"ГОРОД-2 , яч, 2 - ф,"ГОРОД-3"
D75: яч,10 - ф,"ГОРОД-1" , яч,25 - ф,"ГОРОД-4"
A76: 42 | B76: г, Вологда | C76: РП "ГОРКА"
D77: яч, 4 - ф,"ЛОСТА-1", яч, 8 - ф,"ЛОСТА-2"
A78: 43, 44 | B78: г, Вологда | C78: ГПП 2 ЗАО ВПЗ
D79: яч, 53 - ВЛ № 8
D80: яч, 6 - ТП 535, яч, 24 - ТП 536
A81: 45 | B81: г, Вологда | C81: ГПП 1 ЗАО ВПЗ
D82: яч, 10 - ТП 463, яч, 34 - ТП 463
A83: 46 | B83: ЭСУ "Кубенское" | C83: ПС "Кубенское"
D84: ф, СПТУ
A85: 47, 48 | B85: ЭСУ п, Молочное | C85: ПС "Молочное" 35/10 кВ
D86: яч,,17 - ф,Молочное-1, яч 12 - ф,Молочное-2
D87: яч 18 - ф,Молочное-3 , яч 10, - ф,Очистные
A88: 49, 50 | B88: ЭСУ "Устье-Кубенское" | C88: РТП "КОРНИЛОВО" 35/10 кВ
D89: ф, "КОММУНАЛЬНЫЙ"
D90: ф, "УСТЬЕ", ф, "СХТ"
D91: ф,7 - КТП-21, ф,7 - КТП-16
D92: ф,7 - КТП-4, ф,14 - КТП-24
A93: 51, 52, 53 | B93: ЭСУ "Шуйское" | C93: ПС "ШУЙСКОЕ" 35/ 10 кВ
D94: яч, 16 - ф, "Биокомплекс"
D95: яч, 14 - ф,"Райцентр"
D96: яч, 14 - ф, "Школа"
A97: 54 | B97: ЭСУ г, Сокол | C97: ПС "ГДЗ" 110/6 кВ
D98: яч, 7 - ГДЗ-1 -РТП 6, яч, 17 - ГДЗ-2 - РТП 6
D99: яч, 14 - ГДЗ - ЛПК-1
A100: 55 | B100: ЭСУ г, Сокол | C100: ОАО "СОКОЛРЕММАШ"
D101: ЗРУ 6 кВ ф,3 - ТП 27, РУ -0,4 кВ ф,17
A102: 56, 57, 58, | B102: ЭСУ г, Сокол | C102: ОАО "Сокольский" ЦБК" ГПП 35/6 кВ
D103: яч,4 - РП 5, яч, 6 - РУ 3
D104: яч,2 - РТП 2, яч, 3 - РТП 2
...

Sheet 1
B1: АО "Вологдаоблэнерго" | J1: код 900151 | N1: ПС "Малечкино" ф,Птицефабрика
B2: наименование предприятия | N2: наименование источника питания
N3: _________________________________
B4: ул, Горького, 99 | I4: Таблица № 1 | N4: ТП-1 ЦРП Малечкино; ТП-5 АВМ
B5: адрес
A6: почасовых записей показаний электрических счетчиков
A7: в режимный день 19 июня 2024 г.
A8: 1630 | B8: 1628
A9: часы суток | B9: Активная энергия | J9: Реактивная энергия
B10: ТП-1 ЦРП Малечкино | F10: ТП-5 АВМ | J10: ТП-1 ЦРП Малечкино | N10: ТП-5 АВМ
B11: Расчет, Коэф, | E11: 30 | F11: Расчет, Коэф, | I11: 120 | J11: Расчет, Коэф, | M11: =E11 -> 30 | N11: Расчет, Коэф, | Q11: =I11 -> 120
B12: показания счетчика | C12: разность | E12: расход эл,энергии за час | F12: показания счетчика | G12: разность | I12: расход эл,энергии за час | J12: показания счетчика | K12: разность | M12: расход эл,энергии за час | N12: показания счетчика | O12: разность | Q12: расход эл,энергии за час
A13: 1 | B13: 2 | C13: 3 | E13: 4 | F13: 5 | G13: 6 | I13: 7 | J13: 8 | K13: 9 | M13: 10 | N13: 11 | O13: 12 | Q13: 13
A14: 00 - 01 | E14: 96.928 | I14: 8.9856 | M14: 0 | Q14: 0
A15: 01 - 02 | E15: 97.864 | I15: 8.8608 | M15: 0 | Q15: 0
A16: 02 - 03 | E16: 97.344 | I16: 8.5488 | M16: 0 | Q16: 0
A17: 03 - 04 | E17: 97.136 | I17: 8.2056 | M17: 0 | Q17: 0
A18: 04 - 05 | E18: 96.304 | I18: 7.9872 | M18: 0 | Q18: 0
A19: 05 - 06 | E19: 101.296 | I19: 7.9872 | M19: 0 | Q19: 0
A20: 06 - 07 | E20: 145.184 | I20: 8.2368 | M20: 0 | Q20: 0
A21: 07 - 08 | E21: 217.048 | I21: 8.7984 | M21: 0 | Q21: 0
A22: 08 - 09 | E22: 247.208 | I22: 8.4552 | M22: 0 | Q22: 0
A23: 09 - 10 | E23: 203.112 | I23: 6.8016 | M23: 0 | Q23: 0
A24: 10 - 11 | E24: 229.216 | I24: 10.14 | M24: 0 | Q24: 0
A25: 11 - 12 | E25: 185.224 | I25: 12.1056 | M25: 0 | Q25: 0
... A37: 23 - 00 | E37: 103.57 | I37: 6.9888 | M37: 0 | Q37: 0
A38: Итого | E38: =SUM(E14:E37) -> 3506.554 | I38: =SUM(I14:I37) -> 236.1528 | M38: =SUM(M14:M37) -> 0 | Q38: =SUM(Q14:Q37) -> 0
A39: 1, При наличии на предприятии отклонений от нормальных режимов электропотребления (временное изменение схем питания, остановка на ремонт, резкое снижение
A40: эл,потребления и т,д,) последние необходимо перечислить,
A41: Главный инженер АО "Вологдаоблэнерго" А,В, Чурляев
A42: составляется самим предприятием с соблюдением всех пунктов настоящей таблицы,

Sheet 2
B1: АО "Вологдаоблэнерго" | J1: код 900151 | N1: ПС Малечкино, ф, Поселок
B2: наименование предприятия | N2: наименование источника питания
N3: ТП-8 ПС Малечкино В-1; В-2
B4: ул, Горького, 99 | I4: Таблица № 1
B5: адрес
A6: почасовых записей показаний электрических счетчиков
A7: ='1'!A7:Q7 -> в режимный день 19 июня 2024 г.
A8: 1630 | B8: 1628
A9: часы суток | B9: Активная энергия | J9: Реактивная энергия
B10: ТП-8 ПС Малечкино В-1 | F10: ТП-8 ПС Малечкино В-2 | J10: ТП-8 ПС Малечкино В-1 | N10: ТП-8 ПС Малечкино В-2
B11: Расчет, Коэф, | E11: 80 | F11: Расчет, Коэф, | I11: 80 | J11: Расчет, Коэф, | M11: =E11 -> 80 | N11: Расчет, Коэф, | Q11: =I11 -> 80
B12: показания счетчика | C12: разность | E12: расход эл,энергии за час | F12: показания счетчика | G12: разность | I12: расход эл,энергии за час | J12: показания счетчика | K12: разность | M12: расход эл,энергии за час | N12: показания счетчика | O12: разность | Q12: расход эл,энергии за час
A13: 1 | B13: 2 | C13: 3 | E13: 4 | F13: 5 | G13: 6 | I13: 7 | J13: 8 | K13: 9 | M13: 10 | N13: 11 | O13: 12 | Q13: 13
A14: 00 - 01 | E14: 20.8472 | I14: 11.684 | M14: 0 | Q14: 0
A15: 01 - 02 | E15: 16.8728 | I15: 10.4512 | M15: 0 | Q15: 0
A16: 02 - 03 | E16: 15.6032 | I16: 8.188 | M16: 0 | Q16: 0
A17: 03 - 04 | E17: 25.3552 | I17: 8.2248 | M17: 0 | Q17: 0
A18: 04 - 05 | E18: 34.7208 | I18: 7.636 | M18: 0 | Q18: 0
A19: 05 - 06 | E19: 34.6288 | I19: 11.1504 | M19: 0 | Q19: 0
A20: 06 - 07 | E20: 37.1496 | I20: 27.4344 | M20: 0 | Q20: 0
A21: 07 - 08 | E21: 37.7936 | I21: 26.0912 | M21: 0 | Q21: 0
A22: 08 - 09 | E22: 37.0024 | I22: 22.0248 | M22: 0 | Q22: 0
A23: 09 - 10 | E23: 36.5056 | I23: 27.0112 | M23: 0 | Q23: 0
A24: 10 - 11 | E24: 33.5064 | I24: 19.32 | M24: 0 | Q24: 0
A25: 11 - 12 | E25: 36.8736 | I25: 24.288 | M25: 0 | Q25: 0
... A37: 23 - 00 | E37: 23.2208 | I37: 17.8664 | M37: 0 | Q37: 0
A38: Итого | E38: =SUM(E14:E37) -> 702.0888 | I38: =SUM(I14:I37) -> 428.168 | M38: =SUM(M14:M37) -> 0 | Q38: =SUM(Q14:Q37) -> 0
A39: 1, При наличии на предприятии отклонений от нормальных режимов электропотребления (временное изменение схем питания, остановка на ремонт, резкое снижение
A40: эл,потребления и т,д,) последние необходимо перечислить,
A41: Главный инженер АО "Вологдаоблэнерго" А,В, Чурляев
A42: составляется самим предприятием с соблюдением всех пунктов настоящей таблицы,

Sheet 3
B1: АО "Вологдаоблэнерго" | J1: код 900151 | N1: ПС Малечкино, ф, Поселок
B2: наименование предприятия | N2: наименование источника питания
N3: ТП-105; КТП-Дачи п,Малечкино
B4: ул, Горького, 99 | I4: Таблица № 1
B5: адрес
A6: почасовых записей показаний электрических счетчиков
A7: ='1'!A7:Q7 -> в режимный день 19 июня 2024 г.
A8: 1630 | B8: 1628
A9: часы суток | B9: Активная энергия | J9: Реактивная энергия
B10: ТП-105 | F10: КТП-Дачи п,Малечкино | J10: ТП-105 | N10: КТП-Дачи п,Малечкино
B11: Расчет, Коэф, | E11: 80 | F11: Расчет, Коэф, | I11: 60 | J11: Расчет, Коэф, | M11: =E11 -> 80 | N11: Расчет, Коэф, | Q11: =I11 -> 60
B12: показания счетчика | C12: разность | E12: расход эл,энергии за час | F12: показания счетчика | G12: разность | I12: расход эл,энергии за час | J12: показания счетчика | K12: разность | M12: расход эл,энергии за час | N12: показания счетчика | O12: разность | Q12: расход эл,энергии за час
A13: 1 | B13: 2 | C13: 3 | E13: 4 | F13: 5 | G13: 6 | I13: 7 | J13: 8 | K13: 9 | M13: 10 | N13: 11 | O13: 12 | Q13: 13
A14: 00 - 01 | E14: 25.438 | I14: 1.794 | M14: 0 | Q14: 0
A15: 01 - 02 | E15: 23.736 | I15: 1.748 | M15: 0 | Q15: 0
A16: 02 - 03 | E16: 20.838 | I16: 1.794 | M16: 0 | Q16: 0
A17: 03 - 04 | E17: 21.298 | I17: 1.748 | M17: 0 | Q17: 0
A18: 04 - 05 | E18: 21.758 | I18: 1.794 | M18: 0 | Q18: 0
A19: 05 - 06 | E19: 23.736 | I19: 1.748 | M19: 0 | Q19: 0
A20: 06 - 07 | E20: 24.058 | I20: 1.748 | M20: 0 | Q20: 0
A21: 07 - 08 | E21: 26.266 | I21: 1.702 | M21: 0 | Q21: 0
A22: 08 - 09 | E22: 30.13 | I22: 1.794 | M22: 0 | Q22: 0
A23: 09 - 10 | E23: 32.108 | I23: 1.748 | M23: 0 | Q23: 0
A24: 10 - 11 | E24: 31.234 | I24: 1.748 | M24: 0 | Q24: 0
A25: 11 - 12 | E25: 31.004 | I25: 1.748 | M25: 0 | Q25: 0
... A37: 23 - 00 | E37: 28.014 | I37: 3.312 | M37: 0 | Q37: 0
A38: Итого | E38: =SUM(E14:E37) -> 710.01 | I38: =SUM(I14:I37) -> 60.628 | M38: =SUM(M14:M37) -> 0 | Q38: =SUM(Q14:Q37) -> 0
A39: 1, При наличии на предприятии отклонений от нормальных режимов электропотребления (временное изменение схем питания, остановка на ремонт, резкое снижение
A40: эл,потребления и т,д,) последние необходимо перечислить,
A41: Главный инженер АО "Вологдаоблэнерго" А,В, Чурляев
A42: составляется самим предприятием с соблюдением всех пунктов настоящей таблицы,

Sheet 4
B1: АО "Вологдаоблэнерго" | J1: код 900151 | N1: ПС Малечкино, ф, Поселок
B2: наименование предприятия | N2: наименование источника питания
N3: ТП-35; ТП-103
B4: ул, Горького, 99 | I4: Таблица № 1
B5: адрес
A6: почасовых записей показаний электрических счетчиков
A7: ='1'!A7:Q7 -> в режимный день 19 июня 2024 г.
A8: 1630 | B8: 1628
A9: часы суток | B9: Активная энергия | J9: Реактивная энергия
B10: ТП-35 | F10: ТП-103 | J10: ТП-35 | N10: ТП-103
B11: Расчет, Коэф, | E11: 30 | F11: Расчет, Коэф, | I11: 120 | J11: Расчет, Коэф, | M11: =E11 -> 30 | N11: Расчет, Коэф, | Q11: =I11 -> 120
B12: показания счетчика | C12: разность | E12: расход эл,энергии за час | F12: показания счетчика | G12: разность | I12: расход эл,энергии за час | J12: показания счетчика | K12: разность | M12: расход эл,энергии за час | N12: показания счетчика | O12: разность | Q12: расход эл,энергии за час
A13: 1 | B13: 2 | C13: 3 | E13: 4 | F13: 5 | G13: 6 | I13: 7 | J13: 8 | K13: 9 | M13: 10 | N13: 11 | O13: 12 | Q13: 13
A14: 00 - 01 | E14: 1.9205 | I14: 85.0356 | M14: 0 | Q14: 0
A15: 01 - 02 | E15: 1.702 | I15: 70.242 | M15: 0 | Q15: 0
A16: 02 - 03 | E16: 1.5295 | I16: 63.4524 | M16: 0 | Q16: 0
A17: 03 - 04 | E17: 1.6445 | I17: 61.6584 | M17: 0 | Q17: 0
A18: 04 - 05 | E18: 1.702 | I18: 63.204 | M18: 0 | Q18: 0
A19: 05 - 06 | E19: 4.2435 | I19: 69.69 | M19: 0 | Q19: 0
A20: 06 - 07 | E20: 2.2425 | I20: 80.2884 | M20: 0 | Q20: 0
A21: 07 - 08 | E21: 3.4845 | I21: 93.5916 | M21: 0 | Q21: 0
A22: 08 - 09 | E22: 6.9 | I22: 91.5492 | M22: 0 | Q22: 0
A23: 09 - 10 | E23: 5.819 | I23: 90.252 | M23: 0 | Q23: 0
A24: 10 - 11 | E24: 7.107 | I24: 94.9992 | M24: 0 | Q24: 0
A25: 11 - 12 | E25: 4.5655 | I25: 87.8508 | M25: 0 | Q25: 0
... A37: 23 - 00 | E37: 2.7255 | I37: 97.7868 | M37: 0 | Q37: 0
A38: Итого | E38: =SUM(E14:E37) -> 103.5805 | I38: =SUM(I14:I37) -> 2181.228 | M38: =SUM(M14:M37) -> 0 | Q38: =SUM(Q14:Q37) -> 0
A39: 1, При наличии на предприятии отклонений от нормальных режимов электропотребления (временное изменение схем питания, остановка на ремонт, резкое снижение
A40: эл,потребления и т,д,) последние необходимо перечислить,
A41: Главный инженер АО "Вологдаоблэнерго" А,В, Чурляев
A42: составляется самим предприятием с соблюдением всех пунктов настоящей таблицы,

Sheet 5
B1: АО "Вологдаоблэнерго" | J1: код 900151 | N1: ПС Малечкино, ф, Поселок
B2: наименование предприятия | N2: наименование источника питания
N3: ТП-3 ПС Малечкино; ТП-97
B4: ул, Горького, 99 | I4: Таблица № 1
B5: адрес
A6: почасовых записей показаний электрических счетчиков
A7: ='1'!A7:Q7 -> в режимный день 19 июня 2024 г.
A8: 1630 | B8: 1628
A9: часы суток | B9: Активная энергия | J9: Реактивная энергия
B10: ТП-3 ПС Малечкино | F10: ТП-97 | J10: ТП-3 ПС Малечкино | N10: ТП-97
B11: Расчет, Коэф, | E11: 120 | F11: Расчет, Коэф, | I11: 60 | J11: Расчет, Коэф, | M11: =E11 -> 120 | N11: Расчет, Коэф, | Q11: =I11 -> 60
B12: показания счетчика | C12: разность | E12: расход эл,энергии за час | F12: показания счетчика | G12: разность | I12: расход эл,энергии за час | J12: показания счетчика | K12: разность | M12: расход эл,энергии за час | N12: показания счетчика | O12: разность | Q12: расход эл,энергии за час
A13: 1 | B13: 2 | C13: 3 | E13: 4 | F13: 5 | G13: 6 | I13: 7 | J13: 8 | K13: 9 | M13: 10 | N13: 11 | O13: 12 | Q13: 13
A14: 00 - 01 | E14: 0 | I14: 38.1156 | M14: 0 | Q14: 0
A15: 01 - 02 | E15: 0 | I15: 33.4926 | M15: 0 | Q15: 0
A16: 02 - 03 | E16: 0 | I16: 30.7188 | M16: 0 | Q16: 0
A17: 03 - 04 | E17: 0 | I17: 29.8632 | M17: 0 | Q17: 0
A18: 04 - 05 | E18: 0 | I18: 30.3738 | M18: 0 | Q18: 0
A19: 05 - 06 | E19: 0 | I19: 30.8982 | M19: 0 | Q19: 0
A20: 06 - 07 | E20: 0 | I20: 41.0274 | M20: 0 | Q20: 0
A21: 07 - 08 | E21: 0 | I21: 51.9432 | M21: 0 | Q21: 0
A22: 08 - 09 | E22: 0 | I22: 47.7894 | M22: 0 | Q22: 0
A23: 09 - 10 | E23: 0 | I23: 48.8934 | M23: 0 | Q23: 0
A24: 10 - 11 | E24: 0 | I24: 46.6302 | M24: 0 | Q24: 0
A25: 11 - 12 | E25: 0 | I25: 47.6514 | M25: 0 | Q25: 0
... A36: 22 - 23 | E36: 0 | I36: 57.5736 | M36: 0 | Q36: 0
A37: 23 - 00 | E37: 0 | I37: 49.887 | M37: 0 | Q37: 0 | R37: 1
A38: Итого | E38: =SUM(E14:E37) -> 0 | I38: =SUM(I14:I37) -> 1125.9006 | M38: =SUM(M14:M37) -> 0 | Q38: =SUM(Q14:Q37) -> 0
A39: 1, При наличии на предприятии отклонений от нормальных режимов электропотребления (временное изменение схем питания, остановка на ремонт, резкое снижение
A40: эл,потребления и т,д,) последние необходимо перечислить,
A41: Главный инженер АО "Вологдаоблэнерго" А,В, Чурляев
A42: составляется самим предприятием с соблюдением всех пунктов настоящей таблицы,

Sheet 6
B1: АО "Вологдаоблэнерго" | J1: код 900151 | N1: ПС Малечкино, ф, Поселок
B2: наименование предприятия | N2: наименование источника питания
N3: ТП-15 Кормоцех В-1
B4: ул, Горького, 99 | I4: Таблица № 1 | N4: ТП-15 Кормоцех В-2
B5: адрес
A6: почасовых записей показаний электрических счетчиков
A7: ='1'!A7:Q7 -> в режимный день 19 июня 2024 г.
A8: 1630 | B8: 1628
A9: часы суток | B9: Активная энергия | J9: Реактивная энергия
B10: =N3 -> ТП-15 Кормоцех В-1 | F10: =N4 -> ТП-15 Кормоцех В-2 | J10: =N3 -> ТП-15 Кормоцех В-1 | N10: =N4 -> ТП-15 Кормоцех В-2
B11: Расчет, Коэф, | E11: 60 | F11: Расчет, Коэф, | I11: 60 | J11: Расчет, Коэф, | M11: =E11 -> 60 | N11: Расчет, Коэф, | Q11: =I11 -> 60
B12: показания счетчика | C12: разность | E12: расход эл,энергии за час | F12: показания счетчика | G12: разность | I12: расход эл,энергии за час | J12: показания счетчика | K12: разность | M12: расход эл,энергии за час | N12: показания счетчика | O12: разность | Q12: расход эл,энергии за час
A13: 1 | B13: 2 | C13: 3 | E13: 4 | F13: 5 | G13: 6 | I13: 7 | J13: 8 | K13: 9 | M13: 10 | N13: 11 | O13: 12 | Q13: 13
A14: 00 - 01 | E14: 0.8352 | I14: 0 | M14: 0 | Q14: 0
A15: 01 - 02 | E15: 0.8352 | I15: 0 | M15: 0 | Q15: 0
A16: 02 - 03 | E16: 0.801792 | I16: 0 | M16: 0 | Q16: 0
A17: 03 - 04 | E17: 0.801792 | I17: 0 | M17: 0 | Q17: 0
A18: 04 - 05 | E18: 0.33408 | I18: 0 | M18: 0 | Q18: 0
A19: 05 - 06 | E19: 0 | I19: 0 | M19: 0 | Q19: 0
A20: 06 - 07 | E20: 0.033408 | I20: 0 | M20: 0 | Q20: 0
A21: 07 - 08 | E21: 0.100224 | I21: 0 | M21: 0 | Q21: 0
A22: 08 - 09 | E22: 0.400896 | I22: 0 | M22: 0 | Q22: 0
A23: 09 - 10 | E23: 0.367488 | I23: 0 | M23: 0 | Q23: 0
A24: 10 - 11 | E24: 13.3632 | I24: 0 | M24: 0 | Q24: 0
A25: 11 - 12 | E25: 5.144832 | I25: 0 | M25: 0 | Q25: 0
... A37: 23 - 00 | E37: 0.768384 | I37: 0 | M37: 0 | Q37: 0
A38: Итого | E38: =SUM(E14:E37) -> 59.399424 | I38: =SUM(I14:I37) -> 0 | M38: =SUM(M14:M37) -> 0 | Q38: =SUM(Q14:Q37) -> 0
A39: 1, При наличии на предприятии отклонений от нормальных режимов электропотребления (временное изменение схем питания, остановка на ремонт, резкое снижение
A40: эл,потребления и т,д,) последние необходимо перечислить,
A41: Главный инженер АО "Вологдаоблэнерго" А,В, Чурляев
A42: составляется самим предприятием с соблюдением всех пунктов настоящей таблицы,

Sheet 7
B1: АО "Вологдаоблэнерго" | J1: код 900151 | N1: ПС Малечкино, ф, Парфеново-1
B2: наименование предприятия | N2: наименование источника питания
N3: ЦРП-Парфеново
B4: ул, Горького, 99 | I4: Таблица № 1
B5: адрес
A6: почасовых записей показаний электрических счетчиков
A7: ='1'!A7:Q7 -> в режимный день 19 июня 2024 г.
A8: 1630 | B8: 1628
A9: часы суток | B9: Активная энергия | J9: Реактивная энергия
B10: =N3 -> ЦРП-Парфеново | F10: =N4 -> 0 | J10: =N3 -> ЦРП-Парфеново | N10: =N4 -> 0
B11: Расчет, Коэф, | E11: 4000 | F11: Расчет, Коэф, | I11: 3000 | J11: Расчет, Коэф, | M11: =E11 -> 4000 | N11: Расчет, Коэф, | Q11: =I11 -> 3000
B12: показания счетчика | C12: разность | E12: расход эл,энергии за час | F12: показания счетчика | G12: разность | I12: расход эл,энергии за час | J12: показания счетчика | K12: разность | M12: расход эл,энергии за час | N12: показания счетчика | O12: разность | Q12: расход эл,энергии за час
A13: 1 | B13: 2 | C13: 3 | E13: 4 | F13: 5 | G13: 6 | I13: 7 | J13: 8 | K13: 9 | M13: 10 | N13: 11 | O13: 12 | Q13: 13
A14: 00 - 01 | E14: 201.33888 | I14: 0 | M14: 0 | Q14: 0
A15: 01 - 02 | E15: 202.22976 | I15: 0 | M15: 0 | Q15: 0
A16: 02 - 03 | E16: 197.32992 | I16: 0 | M16: 0 | Q16: 0
A17: 03 - 04 | E17: 192.43008 | I17: 0 | M17: 0 | Q17: 0
A18: 04 - 05 | E18: 181.29408 | I18: 0 | M18: 0 | Q18: 0
A19: 05 - 06 | E19: 179.06688 | I19: 0 | M19: 0 | Q19: 0
A20: 06 - 07 | E20: 187.97568 | I20: 0 | M20: 0 | Q20: 0
A21: 07 - 08 | E21: 210.69312 | I21: 0 | M21: 0 | Q21: 0
A22: 08 - 09 | E22: 434.304 | I22: 0 | M22: 0 | Q22: 0
A23: 09 - 10 | E23: 629.40672 | I23: 0 | M23: 0 | Q23: 0
A24: 10 - 11 | E24: 617.82528 | I24: 0 | M24: 0 | Q24: 0
A25: 11 - 12 | E25: 637.42464 | I25: 0 | M25: 0 | Q25: 0
... A37: 23 - 00 | E37: 223.16544 | I37: 0 | M37: 0 | Q37: 0
A38: Итого | E38: =SUM(E14:E37) -> 8865.1469 | I38: =SUM(I14:I37) -> 0 | M38: =SUM(M14:M37) -> 0 | Q38: =SUM(Q14:Q37) -> 0
A39: 1, При наличии на предприятии отклонений от нормальных режимов электропотребления (временное изменение схем питания, остановка на ремонт, резкое снижение
A40: эл,потребления и т,д,) последние необходимо перечислить,
A41: Главный инженер АО "Вологдаоблэнерго" А,В, Чурляев
A42: составляется самим предприятием с соблюдением всех пунктов настоящей таблицы,

Sheet 8
B1: АО "Вологдаоблэнерго" | J1: код 900151 | N1: ПС Малечкино, ф, Киселево
B2: наименование предприятия | N2: наименование источника питания
N3: ЦРП-Парфеново
B4: ул, Горького, 99 | I4: Таблица № 1
B5: адрес
A6: почасовых записей показаний электрических счетчиков
A7: ='1'!A7:Q7 -> в режимный день 19 июня 2024 г.
A8: 1630 | B8: 1628
A9: часы суток | B9: Активная энергия | J9: Реактивная энергия
B10: =N3 -> ЦРП-Парфеново | F10: =N4 -> 0 | J10: =N3 -> ЦРП-Парфеново | N10: =N4 -> 0
B11: Расчет, Коэф, | E11: 6000 | F11: Расчет, Коэф, | J11: Расчет, Коэф, | M11: =E11 -> 6000 | N11: Расчет, Коэф, | Q11: =I11 -> 0
B12: показания счетчика | C12: разность | E12: расход эл,энергии за час | F12: показания счетчика | G12: разность | I12: расход эл,энергии за час | J12: показания счетчика | K12: разность | M12: расход эл,энергии за час | N12: показания счетчика | O12: разность | Q12: расход эл,энергии за час
A13: 1 | B13: 2 | C13: 3 | E13: 4 | F13: 5 | G13: 6 | I13: 7 | J13: 8 | K13: 9 | M13: 10 | N13: 11 | O13: 12 | Q13: 13
A14: 00 - 01 | E14: 0 | M14: 0
A15: 01 - 02 | E15: 0 | M15: 0
A16: 02 - 03 | E16: 0 | M16: 0
A17: 03 - 04 | E17: 0 | M17: 0
A18: 04 - 05 | E18: 0 | M18: 0
A19: 05 - 06 | E19: 0 | M19: 0
A20: 06 - 07 | E20: 0 | M20: 0
A21: 07 - 08 | E21: 0 | M21: 0
A22: 08 - 09 | E22: 0 | M22: 0
A23: 09 - 10 | E23: 0 | M23: 0
A24: 10 - 11 | E24: 0 | M24: 0
A25: 11 - 12 | E25: 0 | M25: 0
... A37: 23 - 00 | E37: 0 | M37: 0
A38: Итого | E38: =SUM(E14:E37) -> 0 | I38: =SUM(I14:I37) -> 0 | M38: =SUM(M14:M37) -> 0 | Q38: =SUM(Q14:Q37) -> 0
A39: 1, При наличии на предприятии отклонений от нормальных режимов электропотребления (временное изменение схем питания, остановка на ремонт, резкое снижение
A40: эл,потребления и т,д,) последние необходимо перечислить,
A41: Главный инженер АО "Вологдаоблэнерго" А,В, Чурляев
A42: составляется самим предприятием с соблюдением всех пунктов настоящей таблицы,

Sheet 9
B1: АО "Вологдаоблэнерго" | J1: код 900151 | N1: ПС Малечкино, ф, Киселево
B2: наименование предприятия | N2: наименование источника питания
N3: ТП-51
B4: ул, Горького, 99 | I4: Таблица № 1 | N4: КТП-250 Курилово-ферма
B5: адрес
A6: почасовых записей показаний электрических счетчиков
A7: ='1'!A7:Q7 -> в режимный день 19 июня 2024 г.
A8: 1630 | B8: 1628
A9: часы суток | B9: Активная энергия | J9: Реактивная энергия
B10: =N3 -> ТП-51 | F10: =N4 -> КТП-250 Курилово-ферма | J10: =N3 -> ТП-51 | N10: =N4 -> КТП-250 Курилово-ферма
B11: Расчет, Коэф, | E11: 120 | F11: Расчет, Коэф, | I11: 30 | J11: Расчет, Коэф, | M11: =E11 -> 120 | N11: Расчет, Коэф, | Q11: =I11 -> 30
B12: показания счетчика | C12: разность | E12: расход эл,энергии за час | F12: показания счетчика | G12: разность | I12: расход эл,энергии за час | J12: показания счетчика | K12: разность | M12: расход эл,энергии за час | N12: показания счетчика | O12: разность | Q12: расход эл,энергии за час
A13: 1 | B13: 2 | C13: 3 | E13: 4 | F13: 5 | G13: 6 | I13: 7 | J13: 8 | K13: 9 | M13: 10 | N13: 11 | O13: 12 | Q13: 13
A14: 00 - 01 | E14: 4.67712 | I14: 0 | M14: 0 | Q14: 0
A15: 01 - 02 | E15: 4.409856 | I15: 0 | M15: 0 | Q15: 0
A16: 02 - 03 | E16: 4.276224 | I16: 0 | M16: 0 | Q16: 0
A17: 03 - 04 | E17: 4.320768 | I17: 0 | M17: 0 | Q17: 0
A18: 04 - 05 | E18: 4.276224 | I18: 0 | M18: 0 | Q18: 0
A19: 05 - 06 | E19: 4.4544 | I19: 0 | M19: 0 | Q19: 0
A20: 06 - 07 | E20: 4.498944 | I20: 0 | M20: 0 | Q20: 0
A21: 07 - 08 | E21: 4.721664 | I21: 0 | M21: 0 | Q21: 0
A22: 08 - 09 | E22: 4.67712 | I22: 0 | M22: 0 | Q22: 0
A23: 09 - 10 | E23: 5.033472 | I23: 0.16 | M23: 0 | Q23: 0
A24: 10 - 11 | E24: 4.89984 | I24: 0 | M24: 0 | Q24: 0
A25: 11 - 12 | E25: 5.167104 | I25: 0.24 | M25: 0 | Q25: 0
... A37: 23 - 00 | E37: 4.944384 | I37: 0 | M37: 0 | Q37: 0
A38: Итого | E38: =SUM(E14:E37) -> 121.02605 | I38: =SUM(I14:I37) -> 1.32 | M38: =SUM(M14:M37) -> 0 | Q38: =SUM(Q14:Q37) -> 0
A39: 1, При наличии на предприятии отклонений от нормальных режимов электропотребления (временное изменение схем питания, остановка на ремонт, резкое снижение
A40: эл,потребления и т,д,) последние необходимо перечислить,
A41: Главный инженер АО "Вологдаоблэнерго" А,В, Чурляев
A42: составляется самим предприятием с соблюдением всех пунктов настоящей таблицы,

Sheet 10
B1: АО "Вологдаоблэнерго" | J1: код 900151 | N1: ПС Малечкино, ф, Тепл, комбинат
B2: наименование предприятия | N2: наименование источника питания
N3: ТП-33;
B4: ул, Горького, 99 | I4: Таблица № 1 | N4: КТП-400 Пилорама Карат плюс
B5: адрес
A6: почасовых записей показаний электрических счетчиков
A7: ='1'!A7:Q7 -> в режимный день 19 июня 2024 г.
A8: 1630 | B8: 1628
A9: часы суток | B9: Активная энергия | J9: Реактивная энергия
B10: =N3 -> ТП-33; | F10: =N4 -> КТП-400 Пилорама Карат плюс | J10: =N3 -> ТП-33; | N10: =N4 -> КТП-400 Пилорама Карат плюс
B11: Расчет, Коэф, | E11: 30 | F11: Расчет, Коэф, | I11: 120 | J11: Расчет, Коэф, | M11: =E11 -> 30 | N11: Расчет, Коэф, | Q11: =I11 -> 120
B12: показания счетчика | C12: разность | E12: расход эл,энергии за час | F12: показания счетчика | G12: разность | I12: расход эл,энергии за час | J12: показания счетчика | K12: разность | M12: расход эл,энергии за час | N12: показания счетчика | O12: разность | Q12: расход эл,энергии за час
A13: 1 | B13: 2 | C13: 3 | E13: 4 | F13: 5 | G13: 6 | I13: 7 | J13: 8 | K13: 9 | M13: 10 | N13: 11 | O13: 12 | Q13: 13
A14: 00 - 01 | E14: 4.142592 | I14: 32.526029 | M14: 0 | Q14: 0
A15: 01 - 02 | E15: 4.409856 | I15: 32.44585 | M15: 0 | Q15: 0
A16: 02 - 03 | E16: 10.824192 | I16: 28.73088 | M16: 0 | Q16: 0
A17: 03 - 04 | E17: 10.957824 | I17: 27.554918 | M17: 0 | Q17: 0
A18: 04 - 05 | E18: 10.735104 | I18: 30.254285 | M18: 0 | Q18: 0
A19: 05 - 06 | E19: 17.773056 | I19: 32.900198 | M19: 0 | Q19: 0
A20: 06 - 07 | E20: 16.214016 | I20: 36.294451 | M20: 0 | Q20: 0
A21: 07 - 08 | E21: 18.663936 | I21: 44.552909 | M21: 0 | Q21: 0
A22: 08 - 09 | E22: 13.80864 | I22: 63.047578 | M22: 0 | Q22: 0
A23: 09 - 10 | E23: 15.36768 | I23: 87.15479 | M23: 0 | Q23: 0
A24: 10 - 11 | E24: 12.516864 | I24: 69.087744 | M24: 0 | Q24: 0
A25: 11 - 12 | E25: 17.862144 | I25: 54.308045 | M25: 0 | Q25: 0
... A37: 23 - 00 | E37: 16.659456 | I37: 43.216589 | M37: 0 | Q37: 0
A38: Итого | E38: =SUM(E14:E37) -> 313.50067 | I38: =SUM(I14:I37) -> 1307.1882 | M38: =SUM(M14:M37) -> 0 | Q38: =SUM(Q14:Q37) -> 0
A39: 1, При наличии на предприятии отклонений от нормальных режимов электропотребления (временное изменение схем питания, остановка на ремонт, резкое снижение
A40: эл,потребления и т,д,) последние необходимо перечислить,
A41: Главный инженер АО "Вологдаоблэнерго" А,В, Чурляев
A42: составляется самим предприятием с соблюдением всех пунктов настоящей таблицы,

Sheet 11
B1: АО "Вологдаоблэнерго" | J1: код 900151 | N1: ПС Загородная, ф, Тоншалово-2
B2: наименование предприятия | N2: наименование источника питания
N3: ТП-4 очистные В-1;
B4: ул, Горького, 99 | I4: Таблица № 1 | N4: ТП-4 очистные В-2
B5: адрес
A6: почасовых записей показаний электрических счетчиков
A7: ='1'!A7:Q7 -> в режимный день 19 июня 2024 г.
A8: 1630 | B8: 1628
A9: часы суток | B9: Активная энергия | J9: Реактивная энергия
B10: =N3 -> ТП-4 очистные В-1; | F10: =N4 -> ТП-4 очистные В-2 | J10: =N3 -> ТП-4 очистные В-1; | N10: =N4 -> ТП-4 очистные В-2
B11: Расчет, Коэф, | E11: 120 | F11: Расчет, Коэф, | I11: 120 | J11: Расчет, Коэф, | M11: =E11 -> 120 | N11: Расчет, Коэф, | Q11: =I11 -> 120
B12: показания счетчика | C12: разность | E12: расход эл,энергии за час | F12: показания счетчика | G12: разность | I12: расход эл,энергии за час | J12: показания счетчика | K12: разность | M12: расход эл,энергии за час | N12: показания счетчика | O12: разность | Q12: расход эл,энергии за час
A13: 1 | B13: 2 | C13: 3 | E13: 4 | F13: 5 | G13: 6 | I13: 7 | J13: 8 | K13: 9 | M13: 10 | N13: 11 | O13: 12 | Q13: 13
A14: 00 - 01 | E14: 69.007565 | I14: 12.588134 | M14: 0 | Q14: 0
A15: 01 - 02 | E15: 68.980838 | I15: 12.02688 | M15: 0 | Q15: 0
A16: 02 - 03 | E16: 73.176883 | I16: 11.919974 | M16: 0 | Q16: 0
A17: 03 - 04 | E17: 79.029965 | I17: 11.278541 | M17: 0 | Q17: 0
A18: 04 - 05 | E18: 72.82944 | I18: 10.904371 | M18: 0 | Q18: 0
A19: 05 - 06 | E19: 71.466394 | I19: 13.149389 | M19: 0 | Q19: 0
A20: 06 - 07 | E20: 75.021005 | I20: 14.352077 | M20: 0 | Q20: 0
A21: 07 - 08 | E21: 76.624589 | I21: 15.768576 | M21: 0 | Q21: 0
A22: 08 - 09 | E22: 75.261542 | I22: 16.944538 | M22: 0 | Q22: 0
A23: 09 - 10 | E23: 75.021005 | I23: 27.474739 | M23: 0 | Q23: 0
A24: 10 - 11 | E24: 74.700288 | I24: 26.218598 | M24: 0 | Q24: 0
A25: 11 - 12 | E25: 73.337242 | I25: 31.69751 | M25: 0 | Q25: 0
... A37: 23 - 00 | E37: 74.940826 | I37: 10.556928 | M37: 0 | Q37: 0
A38: Итого | E38: =SUM(E14:E37) -> 1777.0383 | I38: =SUM(I14:I37) -> 489.1733 | M38: =SUM(M14:M37) -> 0 | Q38: =SUM(Q14:Q37) -> 0
A39: 1, При наличии на предприятии отклонений от нормальных режимов электропотребления (временное изменение схем питания, остановка на ремонт, резкое снижение
A40: эл,потребления и т,д,) последние необходимо перечислить,
A41: Главный инженер АО "Вологдаоблэнерго" А,В, Чурляев
A42: составляется самим предприятием с соблюдением всех пунктов настоящей таблицы,

Sheet 12
B1: АО "Вологдаоблэнерго" | J1: код 900151 | N1: ПС Загородная, ф, Тоншалово-2
B2: наименование предприятия | N2: наименование источника питания
N3: ТП-62 В-1;
B4: ул, Горького, 99 | I4: Таблица № 1 | N4: ТП-62 В-2
B5: адрес
A6: почасовых записей показаний электрических счетчиков
A7: ='1'!A7:Q7 -> в режимный день 19 июня 2024 г.
A8: 1630 | B8: 1628
A9: часы суток | B9: Активная энергия | J9: Реактивная энергия
B10: =N3 -> ТП-62 В-1; | F10: =N4 -> ТП-62 В-2 | J10: =N3 -> ТП-62 В-1; | N10: =N4 -> ТП-62 В-2
B11: Расчет, Коэф, | E11: 120 | F11: Расчет, Коэф, | I11: 120 | J11: Расчет, Коэф, | M11: =E11 -> 120 | N11: Расчет, Коэф, | Q11: =I11 -> 120
B12: показания счетчика | C12: разность | E12: расход эл,энергии за час | F12: показания счетчика | G12: разность | I12: расход эл,энергии за час | J12: показания счетчика | K12: разность | M12: расход эл,энергии за час | N12: показания счетчика | O12: разность | Q12: расход эл,энергии за час
A13: 1 | B13: 2 | C13: 3 | E13: 4 | F13: 5 | G13: 6 | I13: 7 | J13: 8 | K13: 9 | M13: 10 | N13: 11 | O13: 12 | Q13: 13
A14: 00 - 01 | E14: 47.359181 | I14: 0 | M14: 0 | Q14: 0
A15: 01 - 02 | E15: 44.47273 | I15: 0 | M15: 0 | Q15: 0
A16: 02 - 03 | E16: 42.013901 | I16: 0 | M16: 0 | Q16: 0
A17: 03 - 04 | E17: 40.837939 | I17: 0 | M17: 0 | Q17: 0
A18: 04 - 05 | E18: 41.960448 | I18: 0 | M18: 0 | Q18: 0
A19: 05 - 06 | E19: 45.675418 | I19: 0 | M19: 0 | Q19: 0
A20: 06 - 07 | E20: 72.45527 | I20: 0 | M20: 0 | Q20: 0
A21: 07 - 08 | E21: 84.134707 | I21: 0 | M21: 0 | Q21: 0
A22: 08 - 09 | E22: 89.720525 | I22: 0 | M22: 0 | Q22: 0
A23: 09 - 10 | E23: 94.264013 | I23: 0 | M23: 0 | Q23: 0
A24: 10 - 11 | E24: 101.66723 | I24: 0 | M24: 0 | Q24: 0
A25: 11 - 12 | E25: 92.526797 | I25: 0 | M25: 0 | Q25: 0
... A37: 23 - 00 | E37: 50.40599 | I37: 0 | M37: 0 | Q37: 0
A38: Итого | E38: =SUM(E14:E37) -> 1656.2083 | I38: =SUM(I14:I37) -> 0 | M38: =SUM(M14:M37) -> 0 | Q38: =SUM(Q14:Q37) -> 0
A39: 1, При наличии на предприятии отклонений от нормальных режимов электропотребления (временное изменение схем питания, остановка на ремонт, резкое снижение
A40: эл,потребления и т,д,) последние необходимо перечислить,
A41: Главный инженер АО "Вологдаоблэнерго" А,В, Чурляев
A42: составляется самим предприятием с соблюдением всех пунктов настоящей таблицы,

Sheet 13
B1: АО "Вологдаоблэнерго" | J1: код 900151 | N1: ПС Загородная, ф, Тоншалово-2
B2: наименование предприятия | N2: наименование источника питания
N3: ТП-5 ПМК-1 В-1
B4: ул, Горького, 99 | I4: Таблица № 1 | N4: ТП-5 ПМК-1 В-2
B5: адрес
A6: почасовых записей показаний электрических счетчиков
A7: ='1'!A7:Q7 -> в режимный день 19 июня 2024 г.
A8: 1630 | B8: 1628
A9: часы суток | B9: Активная энергия | J9: Реактивная энергия
B10: =N3 -> ТП-5 ПМК-1 В-1 | F10: =N4 -> ТП-5 ПМК-1 В-2 | J10: =N3 -> ТП-5 ПМК-1 В-1 | N10: =N4 -> ТП-5 ПМК-1 В-2
B11: Расчет, Коэф, | E11: 120 | F11: Расчет, Коэф, | I11: 120 | J11: Расчет, Коэф, | M11: =E11 -> 120 | N11: Расчет, Коэф, | Q11: =I11 -> 120
B12: показания счетчика | C12: разность | E12: расход эл,энергии за час | F12: показания счетчика | G12: разность | I12: расход эл,энергии за час | J12: показания счетчика | K12: разность | M12: расход эл,энергии за час | N12: показания счетчика | O12: разность | Q12: расход эл,энергии за час
A13: 1 | B13: 2 | C13: 3 | E13: 4 | F13: 5 | G13: 6 | I13: 7 | J13: 8 | K13: 9 | M13: 10 | N13: 11 | O13: 12 | Q13: 13
A14: 00 - 01 | E14: 38.832 | I14: 0 | M14: 0 | Q14: 0
A15: 01 - 02 | E15: 34.68 | I15: 13.92 | M15: 0 | Q15: 0
A16: 02 - 03 | E16: 32.136 | I16: 13.608 | M16: 0 | Q16: 0
A17: 03 - 04 | E17: 30.936 | I17: 13.08 | M17: 0 | Q17: 0
A18: 04 - 05 | E18: 41.664 | I18: 12.984 | M18: 0 | Q18: 0
A19: 05 - 06 | E19: 58.848 | I19: 13.632 | M19: 0 | Q19: 0
A20: 06 - 07 | E20: 64.08 | I20: 13.968 | M20: 0 | Q20: 0
A21: 07 - 08 | E21: 60.528 | I21: 13.968 | M21: 0 | Q21: 0
A22: 08 - 09 | E22: 69.936 | I22: 14.928 | M22: 0 | Q22: 0
A23: 09 - 10 | E23: 60.528 | I23: 16.656 | M23: 0 | Q23: 0
A24: 10 - 11 | E24: 53.208 | I24: 15.816 | M24: 0 | Q24: 0
A25: 11 - 12 | E25: 48 | I25: 16.848 | M25: 0 | Q25: 0
... A37: 23 - 00 | E37: 46.032 | I37: 14.976 | M37: 0 | Q37: 0
A38: Итого | E38: =SUM(E14:E37) -> 1188.504 | I38: =SUM(I14:I37) -> 377.928 | M38: =SUM(M14:M37) -> 0 | Q38: =SUM(Q14:Q37) -> 0
A39: 1, При наличии на предприятии отклонений от нормальных режимов электропотребления (временное изменение схем питания, остановка на ремонт, резкое снижение
A40: эл,потребления и т,д,) последние необходимо перечислить,
A41: Главный инженер АО "Вологдаоблэнерго" А,В, Чурляев
A42: составляется самим предприятием с соблюдением всех пунктов настоящей таблицы,

Sheet 14
B1: АО "Вологдаоблэнерго" | J1: код 900151 | N1: ПС Загородная, ф, Тоншалово-2
B2: наименование предприятия | N2: наименование источника питания
N3: ТП-65 В-1
B4: ул, Горького, 99 | I4: Таблица № 1 | N4: ТП-65 В-2
B5: адрес
A6: почасовых записей показаний электрических счетчиков
A7: ='1'!A7:Q7 -> в режимный день 19 июня 2024 г.
A8: 1630 | B8: 1628
A9: часы суток | B9: Активная энергия | J9: Реактивная энергия
B10: =N3 -> ТП-65 В-1 | F10: =N4 -> ТП-65 В-2 | J10: =N3 -> ТП-65 В-1 | N10: =N4 -> ТП-65 В-2
B11: Расчет, Коэф, | E11: 120 | F11: Расчет, Коэф, | I11: 120 | J11: Расчет, Коэф, | M11: =E11 -> 120 | N11: Расчет, Коэф, | Q11: =I11 -> 120
B12: показания счетчика | C12: разность | E12: расход эл,энергии за час | F12: показания счетчика | G12: разность | I12: расход эл,энергии за час | J12: показания счетчика | K12: разность | M12: расход эл,энергии за час | N12: показания счетчика | O12: разность | Q12: расход эл,энергии за час
A13: 1 | B13: 2 | C13: 3 | E13: 4 | F13: 5 | G13: 6 | I13: 7 | J13: 8 | K13: 9 | M13: 10 | N13: 11 | O13: 12 | Q13: 13
A14: 00 - 01 | E14: 54.3048 | I14: 39.98808 | M14: 0 | Q14: 0
A15: 01 - 02 | E15: 49.54224 | I15: 37.1712 | M15: 0 | Q15: 0
A16: 02 - 03 | E16: 44.37312 | I16: 33.9768 | M16: 0 | Q16: 0
A17: 03 - 04 | E17: 41.9628 | I17: 32.0892 | M17: 0 | Q17: 0
A18: 04 - 05 | E18: 41.90472 | I18: 32.3796 | M18: 0 | Q18: 0
A19: 05 - 06 | E19: 41.78856 | I19: 34.90608 | M19: 0 | Q19: 0
A20: 06 - 07 | E20: 48.32256 | I20: 40.24944 | M20: 0 | Q20: 0
A21: 07 - 08 | E21: 52.88184 | I21: 39.46536 | M21: 0 | Q21: 0
A22: 08 - 09 | E22: 58.89312 | I22: 41.61432 | M22: 0 | Q22: 0
A23: 09 - 10 | E23: 55.84392 | I23: 44.286 | M23: 0 | Q23: 0
A24: 10 - 11 | E24: 58.86408 | I24: 41.29488 | M24: 0 | Q24: 0
A25: 11 - 12 | E25: 68.76672 | I25: 40.45272 | M25: 0 | Q25: 0
... A37: 23 - 00 | E37: 63.7428 | I37: 47.916 | M37: 0 | Q37: 0
A38: Итого | E38: =SUM(E14:E37) -> 1459.4052 | I38: =SUM(I14:I37) -> 1067.1038 | M38: =SUM(M14:M37) -> 0 | Q38: =SUM(Q14:Q37) -> 0
A39: 1, При наличии на предприятии отклонений от нормальных режимов электропотребления (временное изменение схем питания, остановка на ремонт, резкое снижение
A40: эл,потребления и т,д,) последние необходимо перечислить,
A41: Главный инженер АО "Вологдаоблэнерго" А,В, Чурляев
A42: составляется самим предприятием с соблюдением всех пунктов настоящей таблицы,

Sheet 15
B1: АО "Вологдаоблэнерго" | J1: код 900151 | N1: ПС Загородная, ф, Тоншалово-2
B2: наименование предприятия | N2: наименование источника питания
N3: ТП-61
B4: ул, Горького, 99 | I4: Таблица № 1
B5: адрес
A6: почасовых записей показаний электрических счетчиков
A7: ='1'!A7:Q7 -> в режимный день 19 июня 2024 г.
A8: 1630 | B8: 1628
A9: часы суток | B9: Активная энергия | J9: Реактивная энергия
B10: =N3 -> ТП-61 | F10: =N4 -> 0 | J10: =N3 -> ТП-61 | N10: =N4 -> 0
B11: Расчет, Коэф, | E11: 200 | F11: Расчет, Коэф, | I11: 120 | J11: Расчет, Коэф, | M11: =E11 -> 200 | N11: Расчет, Коэф, | Q11: =I11 -> 120
B12: показания счетчика | C12: разность | E12: расход эл,энергии за час | F12: показания счетчика | G12: разность | I12: расход эл,энергии за час | J12: показания счетчика | K12: разность | M12: расход эл,энергии за час | N12: показания счетчика | O12: разность | Q12: расход эл,энергии за час
A13: 1 | B13: 2 | C13: 3 | E13: 4 | F13: 5 | G13: 6 | I13: 7 | J13: 8 | K13: 9 | M13: 10 | N13: 11 | O13: 12 | Q13: 13
A14: 00 - 01 | E14: 117.128 | I14: 0 | M14: 0 | Q14: 0
A15: 01 - 02 | E15: 106.9156 | I15: 0 | M15: 0 | Q15: 0
A16: 02 - 03 | E16: 101.2528 | I16: 0 | M16: 0 | Q16: 0
A17: 03 - 04 | E17: 94.2832 | I17: 0 | M17: 0 | Q17: 0
A18: 04 - 05 | E18: 93.2668 | I18: 0 | M18: 0 | Q18: 0
A19: 05 - 06 | E19: 108.9968 | I19: 0 | M19: 0 | Q19: 0
A20: 06 - 07 | E20: 121.6776 | I20: 0 | M20: 0 | Q20: 0
A21: 07 - 08 | E21: 125.0172 | I21: 0 | M21: 0 | Q21: 0
A22: 08 - 09 | E22: 133.2452 | I22: 0 | M22: 0 | Q22: 0
A23: 09 - 10 | E23: 135.6168 | I23: 0 | M23: 0 | Q23: 0
A24: 10 - 11 | E24: 145.0548 | I24: 0 | M24: 0 | Q24: 0
A25: 11 - 12 | E25: 133.4872 | I25: 0 | M25: 0 | Q25: 0
... A37: 23 - 00 | E37: 134.4552 | I37: 0 | M37: 0 | Q37: 0
A38: Итого | E38: =SUM(E14:E37) -> 3133.7548 | I38: =SUM(I14:I37) -> 0 | M38: =SUM(M14:M37) -> 0 | Q38: =SUM(Q14:Q37) -> 0
A39: 1, При наличии на предприятии отклонений от нормальных режимов электропотребления (временное изменение схем питания, остановка на ремонт, резкое снижение
A40: эл,потребления и т,д,) последние необходимо перечислить,
A41: Главный инженер АО "Вологдаоблэнерго" А,В, Чурляев
A42: составляется самим предприятием с соблюдением всех пунктов настоящей таблицы,

Sheet 16
B1: АО "Вологдаоблэнерго" | J1: код 900151 | N1: ПС Загородная, ф, Солманское
B2: наименование предприятия | N2: наименование источника питания
N3: ТП-Котельная ПМК-2 В-1
B4: ул, Горького, 99 | I4: Таблица № 1 | N4: ТП-Котельная ПМК-2 В-2
B5: адрес
A6: почасовых записей показаний электрических счетчиков
A7: ='1'!A7:Q7 -> в режимный день 19 июня 2024 г.
A8: 1630 | B8: 1628
A9: часы суток | B9: Активная энергия | J9: Реактивная энергия
B10: =N3 -> ТП-Котельная ПМК-2 В-1 | F10: =N4 -> ТП-Котельная ПМК-2 В-2 | J10: =N3 -> ТП-Котельная ПМК-2 В-1 | N10: =N4 -> ТП-Котельная ПМК-2 В-2
B11: Расчет, Коэф, | E11: 80 | F11: Расчет, Коэф, | I11: 80 | J11: Расчет, Коэф, | M11: =E11 -> 80 | N11: Расчет, Коэф, | Q11: =I11 -> 80
B12: показания счетчика | C12: разность | E12: расход эл,энергии за час | F12: показания счетчика | G12: разность | I12: расход эл,энергии за час | J12: показания счетчика | K12: разность | M12: расход эл,энергии за час | N12: показания счетчика | O12: разность | Q12: расход эл,энергии за час
A13: 1 | B13: 2 | C13: 3 | E13: 4 | F13: 5 | G13: 6 | I13: 7 | J13: 8 | K13: 9 | M13: 10 | N13: 11 | O13: 12 | Q13: 13
A14: 00 - 01 | E14: 18.56624 | I14: 0 | M14: 0 | Q14: 0
A15: 01 - 02 | E15: 17.79184 | I15: 0 | M15: 0 | Q15: 0
A16: 02 - 03 | E16: 17.96608 | I16: 0 | M16: 0 | Q16: 0
A17: 03 - 04 | E17: 18.35328 | I17: 0 | M17: 0 | Q17: 0
A18: 04 - 05 | E18: 17.7144 | I18: 0 | M18: 0 | Q18: 0
A19: 05 - 06 | E19: 18.06288 | I19: 0 | M19: 0 | Q19: 0
A20: 06 - 07 | E20: 28.53664 | I20: 0 | M20: 0 | Q20: 0
A21: 07 - 08 | E21: 33.08624 | I21: 0 | M21: 0 | Q21: 0
A22: 08 - 09 | E22: 99.14256 | I22: 0 | M22: 0 | Q22: 0
A23: 09 - 10 | E23: 84.35152 | I23: 0 | M23: 0 | Q23: 0
A24: 10 - 11 | E24: 82.88016 | I24: 0 | M24: 0 | Q24: 0
A25: 11 - 12 | E25: 71.32224 | I25: 0 | M25: 0 | Q25: 0
... A37: 23 - 00 | E37: 17.3272 | I37: 0 | M37: 0 | Q37: 0
A38: Итого | E38: =SUM(E14:E37) -> 881.96416 | I38: =SUM(I14:I37) -> 0 | M38: =SUM(M14:M37) -> 0 | Q38: =SUM(Q14:Q37) -> 0
A39: 1, При наличии на предприятии отклонений от нормальных режимов электропотребления (временное изменение схем питания, остановка на ремонт, резкое снижение
A40: эл,потребления и т,д,) последние необходимо перечислить,
A41: Главный инженер АО "Вологдаоблэнерго" А,В, Чурляев
A42: составляется самим предприятием с соблюдением всех пунктов настоящей таблицы,

Sheet 17
B1: АО "Вологдаоблэнерго" | J1: код 900151 | N1: ПС Нелазское, ф, Шулма
B2: наименование предприятия | N2: наименование источника питания
N3: ТП-244
B4: ул, Горького, 99 | I4: Таблица № 1 | N4: ТП-250
B5: адрес
A6: почасовых записей показаний электрических счетчиков
A7: ='1'!A7:Q7 -> в режимный день 19 июня 2024 г.
A8: 1630 | B8: 1628
A9: часы суток | B9: Активная энергия | J9: Реактивная энергия
B10: =N3 -> ТП-244 | F10: =N4 -> ТП-250 | J10: =B10 -> ТП-244 | N10: =F10 -> ТП-250
B11: Расчет, Коэф, | E11: 60 | F11: Расчет, Коэф, | I11: 60 | J11: Расчет, Коэф, | M11: =E11 -> 60 | N11: Расчет, Коэф, | Q11: =I11 -> 60
B12: показания счетчика | C12: разность | E12: расход эл,энергии за час | F12: показания счетчика | G12: разность | I12: расход эл,энергии за час | J12: показания счетчика | K12: разность | M12: расход эл,энергии за час | N12: показания счетчика | O12: разность | Q12: расход эл,энергии за час
A13: 1 | B13: 2 | C13: 3 | E13: 4 | F13: 5 | G13: 6 | I13: 7 | J13: 8 | K13: 9 | M13: 10 | N13: 11 | O13: 12 | Q13: 13
A14: 00 - 01 | E14: 0 | I14: 42.834 | M14: 0 | Q14: 0
A15: 01 - 02 | E15: 0 | I15: 42.7614 | M15: 0 | Q15: 0
A16: 02 - 03 | E16: 0 | I16: 42.834 | M16: 0 | Q16: 0
A17: 03 - 04 | E17: 0 | I17: 42.7614 | M17: 0 | Q17: 0
A18: 04 - 05 | E18: 0 | I18: 42.834 | M18: 0 | Q18: 0
A19: 05 - 06 | E19: 0 | I19: 42.834 | M19: 0 | Q19: 0
A20: 06 - 07 | E20: 0 | I20: 42.9792 | M20: 0 | Q20: 0
A21: 07 - 08 | E21: 0 | I21: 43.0518 | M21: 0 | Q21: 0
A22: 08 - 09 | E22: 0 | I22: 43.197 | M22: 0 | Q22: 0
A23: 09 - 10 | E23: 0 | I23: 43.0518 | M23: 0 | Q23: 0
A24: 10 - 11 | E24: 0 | I24: 43.0518 | M24: 0 | Q24: 0
A25: 11 - 12 | E25: 0 | I25: 43.1244 | M25: 0 | Q25: 0
... A37: 23 - 00 | E37: 0 | I37: 42.834 | M37: 0 | Q37: 0
A38: Итого | E38: =SUM(E14:E37) -> 0 | I38: =SUM(I14:I37) -> 1031.8638 | M38: =SUM(M14:M37) -> 0 | Q38: =SUM(Q14:Q37) -> 0
A39: 1, При наличии на предприятии отклонений от нормальных режимов электропотребления (временное изменение схем питания, остановка на ремонт, резкое снижение
A40: эл,потребления и т,д,) последние необходимо перечислить,
A41: Главный инженер АО "Вологдаоблэнерго" А,В, Чурляев
A42: составляется самим предприятием с соблюдением всех пунктов настоящей таблицы,

Sheet 18
B1: АО "Вологдаоблэнерго" | J1: код 900151 | N1: ПС Нелазское, ф, Шулма
B2: наименование предприятия | N2: наименование источника питания
N3: ТП-218
B4: ул, Горького, 99 | I4: Таблица № 1 | N4: ТП-212
B5: адрес
A6: почасовых записей показаний электрических счетчиков
A7: ='1'!A7:Q7 -> в режимный день 19 июня 2024 г.
A8: 1630 | B8: 1628
A9: часы суток | B9: Активная энергия | J9: Реактивная энергия
B10: =N3 -> ТП-218 | F10: =N4 -> ТП-212 | J10: =B10 -> ТП-218 | N10: =F10 -> ТП-212
B11: Расчет, Коэф, | E11: 120 | F11: Расчет, Коэф, | I11: 120 | J11: Расчет, Коэф, | M11: =E11 -> 120 | N11: Расчет, Коэф, | Q11: =I11 -> 120
B12: показания счетчика | C12: разность | E12: расход эл,энергии за час | F12: показания счетчика | G12: разность | I12: расход эл,энергии за час | J12: показания счетчика | K12: разность | M12: расход эл,энергии за час | N12: показания счетчика | O12: разность | Q12: расход эл,энергии за час
A13: 1 | B13: 2 | C13: 3 | E13: 4 | F13: 5 | G13: 6 | I13: 7 | J13: 8 | K13: 9 | M13: 10 | N13: 11 | O13: 12 | Q13: 13
A14: 00 - 01 | E14: 104.1084 | I14: 23.354856 | M14: 0 | Q14: 0
A15: 01 - 02 | E15: 100.914 | I15: 20.426112 | M15: 0 | Q15: 0
A16: 02 - 03 | E16: 93.0732 | I16: 19.750248 | M16: 0 | Q16: 0
A17: 03 - 04 | E17: 90.3144 | I17: 19.374768 | M17: 0 | Q17: 0
A18: 04 - 05 | E18: 91.0404 | I18: 19.249608 | M18: 0 | Q18: 0
A19: 05 - 06 | E19: 103.818 | I19: 20.15076 | M19: 0 | Q19: 0
A20: 06 - 07 | E20: 122.9844 | I20: 19.725216 | M20: 0 | Q20: 0
A21: 07 - 08 | E21: 137.7948 | I21: 27.03456 | M21: 0 | Q21: 0
A22: 08 - 09 | E22: 132.4224 | I22: 48.261696 | M22: 0 | Q22: 0
A23: 09 - 10 | E23: 134.1648 | I23: 100.8289 | M23: 0 | Q23: 0
A24: 10 - 11 | E24: 120.0804 | I24: 100.15303 | M24: 0 | Q24: 0
A25: 11 - 12 | E25: 121.5324 | I25: 65.734032 | M25: 0 | Q25: 0
... A37: 23 - 00 | E37: 117.612 | I37: 13.1418 | M37: 0 | Q37: 0
A38: Итого | E38: =SUM(E14:E37) -> 2992.4268 | I38: =SUM(I14:I37) -> 839.69844 | M38: =SUM(M14:M37) -> 0 | Q38: =SUM(Q14:Q37) -> 0
A39: 1, При наличии на предприятии отклонений от нормальных режимов электропотребления (временное изменение схем питания, остановка на ремонт, резкое снижение
A40: эл,потребления и т,д,) последние необходимо перечислить,
A41: Главный инженер АО "Вологдаоблэнерго" А,В, Чурляев
A42: составляется самим предприятием с соблюдением всех пунктов настоящей таблицы,

Sheet 19
B1: АО "Вологдаоблэнерго" | J1: код 900151 | N1: ПС Нелазское, ф, К-с Нелазское-2
B2: наименование предприятия | N2: наименование источника питания
N3: ТП-14 В-1
B4: ул, Горького, 99 | I4: Таблица № 1 | N4: ТП-14 В-2
B5: адрес
A6: почасовых записей показаний электрических счетчиков
A7: ='1'!A7:Q7 -> в режимный день 19 июня 2024 г.
A8: 1630 | B8: 1628
A9: часы суток | B9: Активная энергия | J9: Реактивная энергия
B10: =N3 -> ТП-14 В-1 | F10: =N4 -> ТП-14 В-2 | J10: =B10 -> ТП-14 В-1 | N10: =F10 -> ТП-14 В-2
B11: Расчет, Коэф, | E11: 120 | F11: Расчет, Коэф, | I11: 120 | J11: Расчет, Коэф, | M11: =E11 -> 120 | N11: Расчет, Коэф, | Q11: =I11 -> 120
B12: показания счетчика | C12: разность | E12: расход эл,энергии за час | F12: показания счетчика | G12: разность | I12: расход эл,энергии за час | J12: показания счетчика | K12: разность | M12: расход эл,энергии за час | N12: показания счетчика | O12: разность | Q12: расход эл,энергии за час
A13: 1 | B13: 2 | C13: 3 | E13: 4 | F13: 5 | G13: 6 | I13: 7 | J13: 8 | K13: 9 | M13: 10 | N13: 11 | O13: 12 | Q13: 13
A14: 00 - 01 | E14: 0 | I14: 81.72948 | M14: 0 | Q14: 0
A15: 01 - 02 | E15: 0 | I15: 70.96572 | M15: 0 | Q15: 0
A16: 02 - 03 | E16: 0 | I16: 62.07936 | M16: 0 | Q16: 0
A17: 03 - 04 | E17: 0 | I17: 71.46636 | M17: 0 | Q17: 0
A18: 04 - 05 | E18: 0 | I18: 59.451 | M18: 0 | Q18: 0
A19: 05 - 06 | E19: 0 | I19: 68.2122 | M19: 0 | Q19: 0
A20: 06 - 07 | E20: 0 | I20: 48.1866 | M20: 0 | Q20: 0
A21: 07 - 08 | E21: 0 | I21: 51.44076 | M21: 0 | Q21: 0
A22: 08 - 09 | E22: 0 | I22: 85.48428 | M22: 0 | Q22: 0
A23: 09 - 10 | E23: 0 | I23: 73.2186 | M23: 0 | Q23: 0
A24: 10 - 11 | E24: 0 | I24: 72.84312 | M24: 0 | Q24: 0
A25: 11 - 12 | E25: 0 | I25: 64.4574 | M25: 0 | Q25: 0
... A37: 23 - 00 | E37: 0 | I37: 72.5928 | M37: 0 | Q37: 0
A38: Итого | E38: =SUM(E14:E37) -> 0 | I38: =SUM(I14:I37) -> 1701.8005 | M38: =SUM(M14:M37) -> 0 | Q38: =SUM(Q14:Q37) -> 0
A39: 1, При наличии на предприятии отклонений от нормальных режимов электропотребления (временное изменение схем питания, остановка на ремонт, резкое снижение
A40: эл,потребления и т,д,) последние необходимо перечислить,
A41: Главный инженер АО "Вологдаоблэнерго" А,В, Чурляев
A42: составляется самим предприятием с соблюдением всех пунктов настоящей таблицы,

Sheet 20
B1: АО "Вологдаоблэнерго" | J1: код 900151 | N1: ПС Нелазское, ф, К-с Нелазское-2
B2: наименование предприятия | N2: наименование источника питания
N3: ТП-15 В-1
B4: ул, Горького, 99 | I4: Таблица № 1 | N4: ТП-15 В-2
B5: адрес
A6: почасовых записей показаний электрических счетчиков
A7: ='1'!A7:Q7 -> в режимный день 19 июня 2024 г.
A8: 1630 | B8: 1628
A9: часы суток | B9: Активная энергия | J9: Реактивная энергия
B10: =N3 -> ТП-15 В-1 | F10: =N4 -> ТП-15 В-2 | J10: =B10 -> ТП-15 В-1 | N10: =F10 -> ТП-15 В-2
B11: Расчет, Коэф, | E11: 200 | F11: Расчет, Коэф, | I11: 120 | J11: Расчет, Коэф, | M11: =E11 -> 200 | N11: Расчет, Коэф, | Q11: =I11 -> 120
B12: показания счетчика | C12: разность | E12: расход эл,энергии за час | F12: показания счетчика | G12: разность | I12: расход эл,энергии за час | J12: показания счетчика | K12: разность | M12: расход эл,энергии за час | N12: показания счетчика | O12: разность | Q12: расход эл,энергии за час
A13: 1 | B13: 2 | C13: 3 | E13: 4 | F13: 5 | G13: 6 | I13: 7 | J13: 8 | K13: 9 | M13: 10 | N13: 11 | O13: 12 | Q13: 13
A14: 00 - 01 | E14: 0 | I14: 32.91708 | M14: 0 | Q14: 0
A15: 01 - 02 | E15: 0 | I15: 30.91452 | M15: 0 | Q15: 0
A16: 02 - 03 | E16: 0 | I16: 33.1674 | M16: 0 | Q16: 0
A17: 03 - 04 | E17: 0 | I17: 32.16612 | M17: 0 | Q17: 0
A18: 04 - 05 | E18: 0 | I18: 31.9158 | M18: 0 | Q18: 0
A19: 05 - 06 | E19: 0 | I19: 34.29384 | M19: 0 | Q19: 0
A20: 06 - 07 | E20: 0 | I20: 57.44844 | M20: 0 | Q20: 0
A21: 07 - 08 | E21: 0 | I21: 48.06144 | M21: 0 | Q21: 0
A22: 08 - 09 | E22: 0 | I22: 40.0512 | M22: 0 | Q22: 0
A23: 09 - 10 | E23: 0 | I23: 55.6962 | M23: 0 | Q23: 0
A24: 10 - 11 | E24: 0 | I24: 44.68212 | M24: 0 | Q24: 0
A25: 11 - 12 | E25: 0 | I25: 44.68212 | M25: 0 | Q25: 0
... A37: 23 - 00 | E37: 0 | I37: 32.66676 | M37: 0 | Q37: 0
A38: Итого | E38: =SUM(E14:E37) -> 0 | I38: =SUM(I14:I37) -> 874.11744 | M38: =SUM(M14:M37) -> 0 | Q38: =SUM(Q14:Q37) -> 0
A39: 1, При наличии на предприятии отклонений от нормальных режимов электропотребления (временное изменение схем питания, остановка на ремонт, резкое снижение
A40: эл,потребления и т,д,) последние необходимо перечислить,
A41: Главный инженер АО "Вологдаоблэнерго" А,В, Чурляев
A42: составляется самим предприятием с соблюдением всех пунктов настоящей таблицы,

Sheet 21
B1: АО "Вологдаоблэнерго" | J1: код 900151 | N1: ПС Нелазское, ф, Шулма очистные
B2: наименование предприятия | N2: наименование источника питания
N3: КТП-Ива
B4: ул, Горького, 99 | I4: Таблица № 1
B5: адрес
A6: почасовых записей показаний электрических счетчиков
A7: ='1'!A7:Q7 -> в режимный день 19 июня 2024 г.
A8: 1630 | B8: 1628
A9: часы суток | B9: Активная энергия | J9: Реактивная энергия
B10: =N3 -> КТП-Ива | F10: =N4 -> 0 | J10: =B10 -> КТП-Ива | N10: =F10 -> 0
B11: Расчет, Коэф, | E11: 30 | F11: Расчет, Коэф, | I11: 120 | J11: Расчет, Коэф, | M11: =E11 -> 30 | N11: Расчет, Коэф, | Q11: =I11 -> 120
B12: показания счетчика | C12: разность | E12: расход эл,энергии за час | F12: показания счетчика | G12: разность | I12: расход эл,энергии за час | J12: показания счетчика | K12: разность | M12: расход эл,энергии за час | N12: показания счетчика | O12: разность | Q12: расход эл,энергии за час
A13: 1 | B13: 2 | C13: 3 | E13: 4 | F13: 5 | G13: 6 | I13: 7 | J13: 8 | K13: 9 | M13: 10 | N13: 11 | O13: 12 | Q13: 13
A14: 00 - 01 | E14: 4.896885 | M14: 0
A15: 01 - 02 | E15: 5.56962 | M15: 0
A16: 02 - 03 | E16: 5.491395 | M16: 0
A17: 03 - 04 | E17: 7.25928 | M17: 0
A18: 04 - 05 | E18: 7.525245 | M18: 0
A19: 05 - 06 | E19: 7.462665 | M19: 0
A20: 06 - 07 | E20: 8.79249 | M20: 0
A21: 07 - 08 | E21: 10.48215 | M21: 0
A22: 08 - 09 | E22: 9.85635 | M22: 0
A23: 09 - 10 | E23: 9.10539 | M23: 0
A24: 10 - 11 | E24: 10.92021 | M24: 0
A25: 11 - 12 | E25: 11.73375 | M25: 0
... A37: 23 - 00 | E37: 6.63348 | M37: 0
A38: Итого | E38: =SUM(E14:E37) -> 233.15743 | I38: =SUM(I14:I37) -> 0 | M38: =SUM(M14:M37) -> 0 | Q38: =SUM(Q14:Q37) -> 0
A39: 1, При наличии на предприятии отклонений от нормальных режимов электропотребления (временное изменение схем питания, остановка на ремонт, резкое снижение
A40: эл,потребления и т,д,) последние необходимо перечислить,
A41: Главный инженер АО "Вологдаоблэнерго" А,В, Чурляев
A42: составляется самим предприятием с соблюдением всех пунктов настоящей таблицы,

Sheet 22
B1: АО "Вологдаоблэнерго" | J1: код 900151 | N1: ПС Нелазское, ф, Крутец
B2: наименование предприятия | N2: наименование источника питания
N3: ТП-252
B4: ул, Горького, 99 | I4: Таблица № 1 | N4: ТП-247
B5: адрес
A6: почасовых записей показаний электрических счетчиков
A7: ='1'!A7:Q7 -> в режимный день 19 июня 2024 г.
A8: 1630 | B8: 1628
A9: часы суток | B9: Активная энергия | J9: Реактивная энергия
B10: =N3 -> ТП-252 | F10: =N4 -> ТП-247 | J10: =B10 -> ТП-252 | N10: =F10 -> ТП-247
B11: Расчет, Коэф, | E11: 60 | F11: Расчет, Коэф, | I11: 60 | J11: Расчет, Коэф, | M11: =E11 -> 60 | N11: Расчет, Коэф, | Q11: =I11 -> 60
B12: показания счетчика | C12: разность | E12: расход эл,энергии за час | F12: показания счетчика | G12: разность | I12: расход эл,энергии за час | J12: показания счетчика | K12: разность | M12: расход эл,энергии за час | N12: показания счетчика | O12: разность | Q12: расход эл,энергии за час
A13: 1 | B13: 2 | C13: 3 | E13: 4 | F13: 5 | G13: 6 | I13: 7 | J13: 8 | K13: 9 | M13: 10 | N13: 11 | O13: 12 | Q13: 13
A14: 00 - 01 | E14: 11.48343 | I14: 30.50775 | M14: 0 | Q14: 0
A15: 01 - 02 | E15: 10.38828 | I15: 29.50647 | M15: 0 | Q15: 0
A16: 02 - 03 | E16: 9.29313 | I16: 27.28488 | M16: 0 | Q16: 0
A17: 03 - 04 | E17: 9.387 | I17: 29.03712 | M17: 0 | Q17: 0
A18: 04 - 05 | E18: 9.16797 | I18: 30.19485 | M18: 0 | Q18: 0
A19: 05 - 06 | E19: 8.07282 | I19: 30.50775 | M19: 0 | Q19: 0
A20: 06 - 07 | E20: 6.50832 | I20: 32.25999 | M20: 0 | Q20: 0
A21: 07 - 08 | E21: 6.258 | I21: 41.36538 | M21: 0 | Q21: 0
A22: 08 - 09 | E22: 7.22799 | I22: 48.06144 | M22: 0 | Q22: 0
A23: 09 - 10 | E23: 6.69606 | I23: 48.06144 | M23: 0 | Q23: 0
A24: 10 - 11 | E24: 5.78865 | I24: 43.4931 | M24: 0 | Q24: 0
A25: 11 - 12 | E25: 6.41445 | I25: 36.70317 | M25: 0 | Q25: 0
... A37: 23 - 00 | E37: 8.22927 | I37: 33.85578 | M37: 0 | Q37: 0
A38: Итого | E38: =SUM(E14:E37) -> 176.85108 | I38: =SUM(I14:I37) -> 863.04078 | M38: =SUM(M14:M37) -> 0 | Q38: =SUM(Q14:Q37) -> 0
A39: 1, При наличии на предприятии отклонений от нормальных режимов электропотребления (временное изменение схем питания, остановка на ремонт, резкое снижение
A40: эл,потребления и т,д,) последние необходимо перечислить,
A41: Главный инженер АО "Вологдаоблэнерго" А,В, Чурляев
A42: составляется самим предприятием с соблюдением всех пунктов настоящей таблицы,

Sheet 23
B1: АО "Вологдаоблэнерго" | J1: код 900151 | N1: ПС Суда, ф, Андога
B2: наименование предприятия | N2: наименование источника питания
N3: ТП-243
B4: ул, Горького, 99 | I4: Таблица № 1 | N4: ТП-234
B5: адрес
A6: почасовых записей показаний электрических счетчиков
A7: ='1'!A7:Q7 -> в режимный день 19 июня 2024 г.
A8: 1630 | B8: 1628
A9: часы суток | B9: Активная энергия | J9: Реактивная энергия
B10: =N3 -> ТП-243 | F10: =N4 -> ТП-234 | J10: =B10 -> ТП-243 | N10: =F10 -> ТП-234
B11: Расчет, Коэф, | E11: 60 | F11: Расчет, Коэф, | I11: 20 | J11: Расчет, Коэф, | M11: =E11 -> 60 | N11: Расчет, Коэф, | Q11: =I11 -> 20
B12: показания счетчика | C12: разность | E12: расход эл,энергии за час | F12: показания счетчика | G12: разность | I12: расход эл,энергии за час | J12: показания счетчика | K12: разность | M12: расход эл,энергии за час | N12: показания счетчика | O12: разность | Q12: расход эл,энергии за час
A13: 1 | B13: 2 | C13: 3 | E13: 4 | F13: 5 | G13: 6 | I13: 7 | J13: 8 | K13: 9 | M13: 10 | N13: 11 | O13: 12 | Q13: 13
A14: 00 - 01 | E14: 0 | I14: 0.03129 | M14: 0 | Q14: 0
A15: 01 - 02 | E15: 0 | I15: 0.02086 | M15: 0 | Q15: 0
A16: 02 - 03 | E16: 0 | I16: 0.02086 | M16: 0 | Q16: 0
A17: 03 - 04 | E17: 0 | I17: 0.02086 | M17: 0 | Q17: 0
A18: 04 - 05 | E18: 0 | I18: 0.03129 | M18: 0 | Q18: 0
A19: 05 - 06 | E19: 0 | I19: 0.02086 | M19: 0 | Q19: 0
A20: 06 - 07 | E20: 0 | I20: 0.02086 | M20: 0 | Q20: 0
A21: 07 - 08 | E21: 0 | I21: 0.03129 | M21: 0 | Q21: 0
A22: 08 - 09 | E22: 0 | I22: 0.02086 | M22: 0 | Q22: 0
A23: 09 - 10 | E23: 0 | I23: 0.02086 | M23: 0 | Q23: 0
A24: 10 - 11 | E24: 0 | I24: 0.02086 | M24: 0 | Q24: 0
A25: 11 - 12 | E25: 0 | I25: 0.02086 | M25: 0 | Q25: 0
... A37: 23 - 00 | E37: 0 | I37: 0.05215 | M37: 0 | Q37: 0
A38: Итого | E38: =SUM(E14:E37) -> 0 | I38: =SUM(I14:I37) -> 1.41848 | M38: =SUM(M14:M37) -> 0 | Q38: =SUM(Q14:Q37) -> 0
A39: 1, При наличии на предприятии отклонений от нормальных режимов электропотребления (временное изменение схем питания, остановка на ремонт, резкое снижение
A40: эл,потребления и т,д,) последние необходимо перечислить,
A41: Главный инженер АО "Вологдаоблэнерго" А,В, Чурляев
A42: составляется самим предприятием с соблюдением всех пунктов настоящей таблицы,

Sheet 24
B1: АО "Вологдаоблэнерго" | J1: код 900151 | N1: ПС Суда, ф, Сойволовское
B2: наименование предприятия | N2: наименование источника питания
N3: КТП общества садоводов "Заря-2"
B4: ул, Горького, 99 | I4: Таблица № 1 | N4: ТП-232
B5: адрес
A6: почасовых записей показаний электрических счетчиков
A7: ='1'!A7:Q7 -> в режимный день 19 июня 2024 г.
A8: 1630 | B8: 1628
A9: часы суток | B9: Активная энергия | J9: Реактивная энергия
B10: =N3 -> КТП общества садоводов "Заря-2" | F10: =N4 -> ТП-232 | J10: =B10 -> КТП общества садоводов "Заря-2" | N10: =F10 -> ТП-232
B11: Расчет, Коэф, | E11: 40 | F11: Расчет, Коэф, | I11: 60 | J11: Расчет, Коэф, | M11: =E11 -> 40 | N11: Расчет, Коэф, | Q11: =I11 -> 60
B12: показания счетчика | C12: разность | E12: расход эл,энергии за час | F12: показания счетчика | G12: разность | I12: расход эл,энергии за час | J12: показания счетчика | K12: разность | M12: расход эл,энергии за час | N12: показания счетчика | O12: разность | Q12: расход эл,энергии за час
A13: 1 | B13: 2 | C13: 3 | E13: 4 | F13: 5 | G13: 6 | I13: 7 | J13: 8 | K13: 9 | M13: 10 | N13: 11 | O13: 12 | Q13: 13
A14: 00 - 01 | E14: 37.831696 | I14: 18.27336 | M14: 0 | Q14: 0
A15: 01 - 02 | E15: 32.950456 | I15: 17.384724 | M15: 0 | Q15: 0
A16: 02 - 03 | E16: 32.808608 | I16: 17.284596 | M16: 0 | Q16: 0
A17: 03 - 04 | E17: 33.317592 | I17: 19.299672 | M17: 0 | Q17: 0
A18: 04 - 05 | E18: 32.107712 | I18: 17.935428 | M18: 0 | Q18: 0
A19: 05 - 06 | E19: 35.136584 | I19: 20.27592 | M19: 0 | Q19: 0
A20: 06 - 07 | E20: 36.071112 | I20: 18.736452 | M20: 0 | Q20: 0
A21: 07 - 08 | E21: 35.370216 | I21: 28.674156 | M21: 0 | Q21: 0
A22: 08 - 09 | E22: 34.04352 | I22: 22.115772 | M22: 0 | Q22: 0
A23: 09 - 10 | E23: 34.894608 | I23: 25.419996 | M23: 0 | Q23: 0
A24: 10 - 11 | E24: 37.731568 | I24: 24.243492 | M24: 0 | Q24: 0
A25: 11 - 12 | E25: 28.920304 | I25: 20.376048 | M25: 0 | Q25: 0
... A37: 23 - 00 | E37: 32.474848 | I37: 19.862892 | M37: 0 | Q37: 0
A38: Итого | E38: =SUM(E14:E37) -> 808.39175 | I38: =SUM(I14:I37) -> 525.64697 | M38: =SUM(M14:M37) -> 0 | Q38: =SUM(Q14:Q37) -> 0
A39: 1, При наличии на предприятии отклонений от нормальных режимов электропотребления (временное изменение схем питания, остановка на ремонт, резкое снижение
A40: эл,потребления и т,д,) последние необходимо перечислить,
A41: Главный инженер АО "Вологдаоблэнерго" А,В, Чурляев
A42: составляется самим предприятием с соблюдением всех пунктов настоящей таблицы,

Sheet 25
B1: АО "Вологдаоблэнерго" | J1: код 900151 | N1: ПС Петринево, ф, Романово
B2: наименование предприятия | N2: наименование источника питания
N3: ТП-317
B4: ул, Горького, 99 | I4: Таблица № 1
B5: адрес
A6: почасовых записей показаний электрических счетчиков
A7: ='1'!A7:Q7 -> в режимный день 19 июня 2024 г.
A8: 1630 | B8: 1628
A9: часы суток | B9: Активная энергия | J9: Реактивная энергия
B10: =N3 -> ТП-317 | F10: =N4 -> 0 | J10: =B10 -> ТП-317 | N10: =F10 -> 0
B11: Расчет, Коэф, | E11: 120 | F11: Расчет, Коэф, | I11: 120 | J11: Расчет, Коэф, | M11: =E11 -> 120 | N11: Расчет, Коэф, | Q11: =I11 -> 120
B12: показания счетчика | C12: разность | E12: расход эл,энергии за час | F12: показания счетчика | G12: разность | I12: расход эл,энергии за час | J12: показания счетчика | K12: разность | M12: расход эл,энергии за час | N12: показания счетчика | O12: разность | Q12: расход эл,энергии за час
A13: 1 | B13: 2 | C13: 3 | E13: 4 | F13: 5 | G13: 6 | I13: 7 | J13: 8 | K13: 9 | M13: 10 | N13: 11 | O13: 12 | Q13: 13
A14: 00 - 01 | E14: 12.64116 | M14: 0
A15: 01 - 02 | E15: 10.82634 | M15: 0
A16: 02 - 03 | E16: 12.26568 | M16: 0
A17: 03 - 04 | E17: 8.63604 | M17: 0
A18: 04 - 05 | E18: 11.8902 | M18: 0
A19: 05 - 06 | E19: 8.63604 | M19: 0
A20: 06 - 07 | E20: 14.33082 | M20: 0
A21: 07 - 08 | E21: 12.70374 | M21: 0
A22: 08 - 09 | E22: 14.83146 | M22: 0
A23: 09 - 10 | E23: 17.02176 | M23: 0
A24: 10 - 11 | E24: 14.58114 | M24: 0
A25: 11 - 12 | E25: 14.51856 | M25: 0
... A37: 23 - 00 | E37: 15.08178 | M37: 0
A38: Итого | E38: =SUM(E14:E37) -> 314.4645 | I38: =SUM(I14:I37) -> 0 | M38: =SUM(M14:M37) -> 0 | Q38: =SUM(Q14:Q37) -> 0
A39: 1, При наличии на предприятии отклонений от нормальных режимов электропотребления (временное изменение схем питания, остановка на ремонт, резкое снижение
A40: эл,потребления и т,д,) последние необходимо перечислить,
A41: Главный инженер АО "Вологдаоблэнерго" А,В, Чурляев
A42: составляется самим предприятием с соблюдением всех пунктов настоящей таблицы,

Sheet 26
B1: АО "Вологдаоблэнерго" | J1: код 900151 | N1: ПС Домозерово, ф,Дом-2
B2: наименование предприятия | N2: наименование источника питания
N3: ТП-60 В-1
B4: ул, Горького, 99 | I4: Таблица № 1 | N4: ТП-60 В-2
B5: адрес
A6: почасовых записей показаний электрических счетчиков
A7: ='1'!A7:Q7 -> в режимный день 19 июня 2024 г.
A8: 1630 | B8: 1628
A9: часы суток | B9: Активная энергия | J9: Реактивная энергия
B10: =N3 -> ТП-60 В-1 | F10: =N4 -> ТП-60 В-2 | J10: =B10 -> ТП-60 В-1 | N10: =F10 -> ТП-60 В-2
B11: Расчет, Коэф, | E11: 20 | F11: Расчет, Коэф, | I11: 20 | J11: Расчет, Коэф, | M11: =E11 -> 20 | N11: Расчет, Коэф, | Q11: =I11 -> 20
B12: показания счетчика | C12: разность | E12: расход эл,энергии за час | F12: показания счетчика | G12: разность | I12: расход эл,энергии за час | J12: показания счетчика | K12: разность | M12: расход эл,энергии за час | N12: показания счетчика | O12: разность | Q12: расход эл,энергии за час
A13: 1 | B13: 2 | C13: 3 | E13: 4 | F13: 5 | G13: 6 | I13: 7 | J13: 8 | K13: 9 | M13: 10 | N13: 11 | O13: 12 | Q13: 13
A14: 00 - 01 | E14: 0 | I14: 0.37548 | M14: 0 | Q14: 0
A15: 01 - 02 | E15: 0 | I15: 0.37548 | M15: 0 | Q15: 0
A16: 02 - 03 | E16: 0 | I16: 0.43806 | M16: 0 | Q16: 0
A17: 03 - 04 | E17: 0 | I17: 0.35462 | M17: 0 | Q17: 0
A18: 04 - 05 | E18: 0 | I18: 0.36505 | M18: 0 | Q18: 0
A19: 05 - 06 | E19: 0 | I19: 0.35462 | M19: 0 | Q19: 0
A20: 06 - 07 | E20: 0 | I20: 3.49405 | M20: 0 | Q20: 0
A21: 07 - 08 | E21: 0 | I21: 8.41701 | M21: 0 | Q21: 0
A22: 08 - 09 | E22: 0 | I22: 7.33229 | M22: 0 | Q22: 0
A23: 09 - 10 | E23: 0 | I23: 6.75864 | M23: 0 | Q23: 0
A24: 10 - 11 | E24: 0 | I24: 7.55132 | M24: 0 | Q24: 0
A25: 11 - 12 | E25: 0 | I25: 7.53046 | M25: 0 | Q25: 0
... A37: 23 - 00 | E37: 0 | I37: 0.36505 | M37: 0 | Q37: 0
A38: Итого | E38: =SUM(E14:E37) -> 0 | I38: =SUM(I14:I37) -> 106.45901 | M38: =SUM(M14:M37) -> 0 | Q38: =SUM(Q14:Q37) -> 0
A39: 1, При наличии на предприятии отклонений от нормальных режимов электропотребления (временное изменение схем питания, остановка на ремонт, резкое снижение
A40: эл,потребления и т,д,) последние необходимо перечислить,
A41: Главный инженер АО "Вологдаоблэнерго" А,В, Чурляев
A42: составляется самим предприятием с соблюдением всех пунктов настоящей таблицы,

Sheet 27
B1: АО "Вологдаоблэнерго" | J1: код 900151 | N1: ПС Домозерово, ф,Дом-2
B2: наименование предприятия | N2: наименование источника питания
N3: ТП-76 В-1
B4: ул, Горького, 99 | I4: Таблица № 1 | N4: ТП-76 В-2
B5: адрес
A6: почасовых записей показаний электрических счетчиков
A7: ='1'!A7:Q7 -> в режимный день 19 июня 2024 г.
A8: 1630 | B8: 1628
A9: часы суток | B9: Активная энергия | J9: Реактивная энергия
B10: =N3 -> ТП-76 В-1 | F10: =N4 -> ТП-76 В-2 | J10: =B10 -> ТП-76 В-1 | N10: =F10 -> ТП-76 В-2
B11: Расчет, Коэф, | E11: 120 | F11: Расчет, Коэф, | I11: 120 | J11: Расчет, Коэф, | M11: =E11 -> 120 | N11: Расчет, Коэф, | Q11: =I11 -> 120
B12: показания счетчика | C12: разность | E12: расход эл,энергии за час | F12: показания счетчика | G12: разность | I12: расход эл,энергии за час | J12: показания счетчика | K12: разность | M12: расход эл,энергии за час | N12: показания счетчика | O12: разность | Q12: расход эл,энергии за час
A13: 1 | B13: 2 | C13: 3 | E13: 4 | F13: 5 | G13: 6 | I13: 7 | J13: 8 | K13: 9 | M13: 10 | N13: 11 | O13: 12 | Q13: 13
A14: 00 - 01 | E14: 0 | I14: 17.77272 | M14: 0 | Q14: 0
A15: 01 - 02 | E15: 0 | I15: 17.14692 | M15: 0 | Q15: 0
A16: 02 - 03 | E16: 0 | I16: 16.045512 | M16: 0 | Q16: 0
A17: 03 - 04 | E17: 0 | I17: 15.594936 | M17: 0 | Q17: 0
A18: 04 - 05 | E18: 0 | I18: 15.594936 | M18: 0 | Q18: 0
A19: 05 - 06 | E19: 0 | I19: 16.045512 | M19: 0 | Q19: 0
A20: 06 - 07 | E20: 0 | I20: 17.39724 | M20: 0 | Q20: 0
A21: 07 - 08 | E21: 0 | I21: 37.072392 | M21: 0 | Q21: 0
A22: 08 - 09 | E22: 0 | I22: 39.325272 | M22: 0 | Q22: 0
A23: 09 - 10 | E23: 0 | I23: 35.570472 | M23: 0 | Q23: 0
A24: 10 - 11 | E24: 0 | I24: 33.342624 | M24: 0 | Q24: 0
A25: 11 - 12 | E25: 0 | I25: 36.17124 | M25: 0 | Q25: 0
... A37: 23 - 00 | E37: 0 | I37: 18.849096 | M37: 0 | Q37: 0
A38: Итого | E38: =SUM(E14:E37) -> 0 | I38: =SUM(I14:I37) -> 635.48738 | M38: =SUM(M14:M37) -> 0 | Q38: =SUM(Q14:Q37) -> 0
A39: 1, При наличии на предприятии отклонений от нормальных режимов электропотребления (временное изменение схем питания, остановка на ремонт, резкое снижение
A40: эл,потребления и т,д,) последние необходимо перечислить,
A41: Главный инженер АО "Вологдаоблэнерго" А,В, Чурляев
A42: составляется самим предприятием с соблюдением всех пунктов настоящей таблицы,

Sheet 28
B1: АО "Вологдаоблэнерго" | J1: код 900151 | N1: ПС Домозерово, ф,Дом-2
B2: наименование предприятия | N2: наименование источника питания
N3: ТП-59
B4: ул, Горького, 99 | I4: Таблица № 1 | N4: ТП-58
B5: адрес
A6: почасовых записей показаний электрических счетчиков
A7: ='1'!A7:Q7 -> в режимный день 19 июня 2024 г.
A8: 1630 | B8: 1628
A9: часы суток | B9: Активная энергия | J9: Реактивная энергия
B10: =N3 -> ТП-59 | F10: =N4 -> ТП-58 | J10: =B10 -> ТП-59 | N10: =F10 -> ТП-58
B11: Расчет, Коэф, | E11: 60 | F11: Расчет, Коэф, | I11: 80 | J11: Расчет, Коэф, | M11: =E11 -> 60 | N11: Расчет, Коэф, | Q11: =I11 -> 80
B12: показания счетчика | C12: разность | E12: расход эл,энергии за час | F12: показания счетчика | G12: разность | I12: расход эл,энергии за час | J12: показания счетчика | K12: разность | M12: расход эл,энергии за час | N12: показания счетчика | O12: разность | Q12: расход эл,энергии за час
A13: 1 | B13: 2 | C13: 3 | E13: 4 | F13: 5 | G13: 6 | I13: 7 | J13: 8 | K13: 9 | M13: 10 | N13: 11 | O13: 12 | Q13: 13
A14: 00 - 01 | E14: 3.466932 | I14: 18.27336 | M14: 0 | Q14: 0
A15: 01 - 02 | E15: 3.454416 | I15: 16.688 | M15: 0 | Q15: 0
A16: 02 - 03 | E16: 3.416868 | I16: 16.10392 | M16: 0 | Q16: 0
A17: 03 - 04 | E17: 3.366804 | I17: 15.35296 | M17: 0 | Q17: 0
A18: 04 - 05 | E18: 3.366804 | I18: 18.774 | M18: 0 | Q18: 0
A19: 05 - 06 | E19: 3.4419 | I19: 18.94088 | M19: 0 | Q19: 0
A20: 06 - 07 | E20: 3.717252 | I20: 28.61992 | M20: 0 | Q20: 0
A21: 07 - 08 | E21: 4.605888 | I21: 25.78296 | M21: 0 | Q21: 0
A22: 08 - 09 | E22: 4.393116 | I22: 23.27976 | M22: 0 | Q22: 0
A23: 09 - 10 | E23: 4.142796 | I23: 30.0384 | M23: 0 | Q23: 0
A24: 10 - 11 | E24: 4.31802 | I24: 24.44792 | M24: 0 | Q24: 0
A25: 11 - 12 | E25: 3.479448 | I25: 22.44536 | M25: 0 | Q25: 0
... A37: 23 - 00 | E37: 3.554544 | I37: 22.19504 | M37: 0 | Q37: 0
A38: Итого | E38: =SUM(E14:E37) -> 90.715968 | I38: =SUM(I14:I37) -> 575.23536 | M38: =SUM(M14:M37) -> 0 | Q38: =SUM(Q14:Q37) -> 0
A39: 1, При наличии на предприятии отклонений от нормальных режимов электропотребления (временное изменение схем питания, остановка на ремонт, резкое снижение
A40: эл,потребления и т,д,) последние необходимо перечислить,
A41: Главный инженер АО "Вологдаоблэнерго" А,В, Чурляев
A42: составляется самим предприятием с соблюдением всех пунктов настоящей таблицы,

Sheet 29
B1: АО "Вологдаоблэнерго" | J1: код 900151 | N1: ПС Нелазское, ф, Цыково
B2: наименование предприятия | N2: наименование источника питания
N3: КТП-250кВА Зашекснинское
B4: ул, Горького, 99 | I4: Таблица № 1
B5: адрес
A6: почасовых записей показаний электрических счетчиков
A7: ='1'!A7:Q7 -> в режимный день 19 июня 2024 г.
A8: 1630 | B8: 1628
A9: часы суток | B9: Активная энергия | J9: Реактивная энергия
B10: =N3 -> КТП-250кВА Зашекснинское | F10: =N4 -> 0 | J10: =B10 -> КТП-250кВА Зашекснинское | N10: =F10 -> 0
B11: Расчет, Коэф, | E11: 60 | F11: Расчет, Коэф, | I11: 120 | J11: Расчет, Коэф, | M11: =E11 -> 60 | N11: Расчет, Коэф, | Q11: =I11 -> 120
B12: показания счетчика | C12: разность | E12: расход эл,энергии за час | F12: показания счетчика | G12: разность | I12: расход эл,энергии за час | J12: показания счетчика | K12: разность | M12: расход эл,энергии за час | N12: показания счетчика | O12: разность | Q12: расход эл,энергии за час
A13: 1 | B13: 2 | C13: 3 | E13: 4 | F13: 5 | G13: 6 | I13: 7 | J13: 8 | K13: 9 | M13: 10 | N13: 11 | O13: 12 | Q13: 13
A14: 00 - 01 | E14: 0 | M14: 0
A15: 01 - 02 | E15: 0 | M15: 0
A16: 02 - 03 | E16: 0 | M16: 0
A17: 03 - 04 | E17: 0 | M17: 0
A18: 04 - 05 | E18: 0 | M18: 0
A19: 05 - 06 | E19: 0 | M19: 0
A20: 06 - 07 | E20: 0 | M20: 0
A21: 07 - 08 | E21: 0 | M21: 0
A22: 08 - 09 | E22: 0 | M22: 0
A23: 09 - 10 | E23: 0 | M23: 0
A24: 10 - 11 | E24: 0 | M24: 0
A25: 11 - 12 | E25: 0 | M25: 0
... A37: 23 - 00 | E37: 0 | M37: 0
A38: Итого | E38: =SUM(E14:E37) -> 0 | I38: =SUM(I14:I37) -> 0 | M38: =SUM(M14:M37) -> 0 | Q38: =SUM(Q14:Q37) -> 0
A39: 1, При наличии на предприятии отклонений от нормальных режимов электропотребления (временное изменение схем питания, остановка на ремонт, резкое снижение
A40: эл,потребления и т,д,) последние необходимо перечислить,
A41: Главный инженер АО "Вологдаоблэнерго" А,В, Чурляев
A42: составляется самим предприятием с соблюдением всех пунктов настоящей таблицы,

Sheet 30
B1: АО "Вологдаоблэнерго" | J1: код 900151 | N1: ПС Нелазское, ф, Починок
B2: наименование предприятия | N2: наименование источника питания
N3: ТП-77
B4: ул, Горького, 99 | I4: Таблица № 1 | N4: ТП-71
B5: адрес
A6: почасовых записей показаний электрических счетчиков
A7: ='1'!A7:Q7 -> в режимный день 19 июня 2024 г.
A8: 1630 | B8: 1628
A9: часы суток | B9: Активная энергия | J9: Реактивная энергия
B10: =N3 -> ТП-77 | F10: =N4 -> ТП-71 | J10: =B10 -> ТП-77 | N10: =F10 -> ТП-71
B11: Расчет, Коэф, | E11: 80 | F11: Расчет, Коэф, | I11: 80 | J11: Расчет, Коэф, | M11: =E11 -> 80 | N11: Расчет, Коэф, | Q11: =I11 -> 80
B12: показания счетчика | C12: разность | E12: расход эл,энергии за час | F12: показания счетчика | G12: разность | I12: расход эл,энергии за час | J12: показания счетчика | K12: разность | M12: расход эл,энергии за час | N12: показания счетчика | O12: разность | Q12: расход эл,энергии за час
A13: 1 | B13: 2 | C13: 3 | E13: 4 | F13: 5 | G13: 6 | I13: 7 | J13: 8 | K13: 9 | M13: 10 | N13: 11 | O13: 12 | Q13: 13
A14: 00 - 01 | E14: 39.30024 | I14: 32.333 | M14: 0 | Q14: 0
A15: 01 - 02 | E15: 31.74892 | I15: 29.37088 | M15: 0 | Q15: 0
A16: 02 - 03 | E16: 30.78936 | I16: 25.90812 | M16: 0 | Q16: 0
A17: 03 - 04 | E17: 25.2406 | I17: 30.247 | M17: 0 | Q17: 0
A18: 04 - 05 | E18: 25.4492 | I18: 25.36576 | M18: 0 | Q18: 0
A19: 05 - 06 | E19: 31.20656 | I19: 30.4556 | M19: 0 | Q19: 0
A20: 06 - 07 | E20: 35.29512 | I20: 41.67828 | M20: 0 | Q20: 0
A21: 07 - 08 | E21: 39.634 | I21: 55.57104 | M21: 0 | Q21: 0
A22: 08 - 09 | E22: 44.55696 | I22: 54.06912 | M22: 0 | Q22: 0
A23: 09 - 10 | E23: 43.13848 | I23: 50.52292 | M23: 0 | Q23: 0
A24: 10 - 11 | E24: 42.88816 | I24: 47.60252 | M24: 0 | Q24: 0
A25: 11 - 12 | E25: 47.31048 | I25: 32.333 | M25: 0 | Q25: 0
... A37: 23 - 00 | E37: 46.76812 | I37: 39.0082 | M37: 0 | Q37: 0
A38: Итого | E38: =SUM(E14:E37) -> 1000.6542 | I38: =SUM(I14:I37) -> 920.00944 | M38: =SUM(M14:M37) -> 0 | Q38: =SUM(Q14:Q37) -> 0
A39: 1, При наличии на предприятии отклонений от нормальных режимов электропотребления (временное изменение схем питания, остановка на ремонт, резкое снижение
A40: эл,потребления и т,д,) последние необходимо перечислить,
A41: Главный инженер АО "Вологдаоблэнерго" А,В, Чурляев
A42: составляется самим предприятием с соблюдением всех пунктов настоящей таблицы,

Sheet 31
B1: АО "Вологдаоблэнерго" | J1: код 900151 | N1: ПС Нелазское, ф, Починок
B2: наименование предприятия | N2: наименование источника питания
N3: КТП-Кацитадзе
B4: ул, Горького, 99 | I4: Таблица № 1 | N4: ТП-75
B5: адрес
A6: почасовых записей показаний электрических счетчиков
A7: ='1'!A7:Q7 -> в режимный день 19 июня 2024 г.
A8: 1630 | B8: 1628
A9: часы суток | B9: Активная энергия | J9: Реактивная энергия
B10: =N3 -> КТП-Кацитадзе | F10: =N4 -> ТП-75 | J10: =B10 -> КТП-Кацитадзе | N10: =F10 -> ТП-75
B11: Расчет, Коэф, | E11: 30 | F11: Расчет, Коэф, | I11: 80 | J11: Расчет, Коэф, | M11: =E11 -> 30 | N11: Расчет, Коэф, | Q11: 80
B12: показания счетчика | C12: разность | E12: расход эл,энергии за час | F12: показания счетчика | G12: разность | I12: расход эл,энергии за час | J12: показания счетчика | K12: разность | M12: расход эл,энергии за час | N12: показания счетчика | O12: разность | Q12: расход эл,энергии за час
A13: 1 | B13: 2 | C13: 3 | E13: 4 | F13: 5 | G13: 6 | I13: 7 | J13: 8 | K13: 9 | M13: 10 | N13: 11 | O13: 12 | Q13: 13
A14: 00 - 01 | E14: 9.32442 | I14: 30.37216 | M14: 0 | Q14: 0
A15: 01 - 02 | E15: 4.28673 | I15: 30.70592 | M15: 0 | Q15: 0
A16: 02 - 03 | E16: 3.926895 | I16: 33.91836 | M16: 0 | Q16: 0
A17: 03 - 04 | E17: 4.052055 | I17: 32.16612 | M17: 0 | Q17: 0
A18: 04 - 05 | E18: 5.084625 | I18: 35.33684 | M18: 0 | Q18: 0
A19: 05 - 06 | E19: 3.582705 | I19: 39.0082 | M19: 0 | Q19: 0
A20: 06 - 07 | E20: 3.87996 | I20: 35.0448 | M20: 0 | Q20: 0
A21: 07 - 08 | E21: 4.490115 | I21: 38.25724 | M21: 0 | Q21: 0
A22: 08 - 09 | E22: 6.03897 | I22: 35.62888 | M22: 0 | Q22: 0
A23: 09 - 10 | E23: 5.69478 | I23: 31.74892 | M23: 0 | Q23: 0
A24: 10 - 11 | E24: 5.741715 | I24: 29.66292 | M24: 0 | Q24: 0
A25: 11 - 12 | E25: 6.711705 | I25: 26.4922 | M25: 0 | Q25: 0
... A37: 23 - 00 | E37: 7.54089 | I37: 29.91324 | M37: 0 | Q37: 0
A38: Итого | E38: =SUM(E14:E37) -> 135.75167 | I38: =SUM(I14:I37) -> 737.77648 | M38: =SUM(M14:M37) -> 0 | Q38: =SUM(Q14:Q37) -> 0
A39: 1, При наличии на предприятии отклонений от нормальных режимов электропотребления (временное изменение схем питания, остановка на ремонт, резкое снижение
A40: эл,потребления и т,д,) последние необходимо перечислить,
A41: Главный инженер АО "Вологдаоблэнерго" А,В, Чурляев
A42: составляется самим предприятием с соблюдением всех пунктов настоящей таблицы,

Sheet 32
B1: АО "Вологдаоблэнерго" | J1: код 900151 | N1: ПС Домозерово, ф, Починок
B2: наименование предприятия | N2: наименование источника питания
N3: КТП-Коттеджи
B4: ул, Горького, 99 | I4: Таблица № 1 | N4: КТП-118 (Горизонт)
B5: адрес
A6: почасовых записей показаний электрических счетчиков
A7: ='1'!A7:Q7 -> в режимный день 19 июня 2024 г.
A8: 1630 | B8: 1628
A9: часы суток | B9: Активная энергия | J9: Реактивная энергия
B10: =N3 -> КТП-Коттеджи | F10: =N4 -> КТП-118 (Горизонт) | J10: =B10 -> КТП-Коттеджи | N10: =F10 -> КТП-118 (Горизонт)
B11: Расчет, Коэф, | E11: 60 | F11: Расчет, Коэф, | I11: 80 | J11: Расчет, Коэф, | M11: =E11 -> 60 | N11: Расчет, Коэф, | Q11: =I11 -> 80
B12: показания счетчика | C12: разность | E12: расход эл,энергии за час | F12: показания счетчика | G12: разность | I12: расход эл,энергии за час | J12: показания счетчика | K12: разность | M12: расход эл,энергии за час | N12: показания счетчика | O12: разность | Q12: расход эл,энергии за час
A13: 1 | B13: 2 | C13: 3 | E13: 4 | F13: 5 | G13: 6 | I13: 7 | J13: 8 | K13: 9 | M13: 10 | N13: 11 | O13: 12 | Q13: 13
A14: 00 - 01 | E14: 8.861328 | I14: 29.587824 | M14: 0 | Q14: 0
A15: 01 - 02 | E15: 6.69606 | I15: 26.049968 | M15: 0 | Q15: 0
A16: 02 - 03 | E16: 7.734888 | I16: 28.03584 | M16: 0 | Q16: 0
A17: 03 - 04 | E17: 5.169108 | I17: 23.27976 | M17: 0 | Q17: 0
A18: 04 - 05 | E18: 9.424548 | I18: 29.637888 | M18: 0 | Q18: 0
A19: 05 - 06 | E19: 9.599772 | I19: 23.429952 | M19: 0 | Q19: 0
A20: 06 - 07 | E20: 6.157872 | I20: 23.079504 | M20: 0 | Q20: 0
A21: 07 - 08 | E21: 12.290712 | I21: 20.743184 | M21: 0 | Q21: 0
A22: 08 - 09 | E22: 9.01152 | I22: 21.494144 | M22: 0 | Q22: 0
A23: 09 - 10 | E23: 8.911392 | I23: 34.060208 | M23: 0 | Q23: 0
A24: 10 - 11 | E24: 14.556108 | I24: 30.70592 | M24: 0 | Q24: 0
A25: 11 - 12 | E25: 10.926468 | I25: 23.11288 | M25: 0 | Q25: 0
... A37: 23 - 00 | E37: 7.88508 | I37: 30.171904 | M37: 0 | Q37: 0
A38: Итого | E38: =SUM(E14:E37) -> 252.24746 | I38: =SUM(I14:I37) -> 624.53171 | M38: =SUM(M14:M37) -> 0 | Q38: =SUM(Q14:Q37) -> 0
A39: 1, При наличии на предприятии отклонений от нормальных режимов электропотребления (временное изменение схем питания, остановка на ремонт, резкое снижение
A40: эл,потребления и т,д,) последние необходимо перечислить,
A41: Главный инженер АО "Вологдаоблэнерго" А,В, Чурляев
A42: составляется самим предприятием с соблюдением всех пунктов настоящей таблицы,

Sheet 33
B1: АО "Вологдаоблэнерго" | J1: код 900151 | N1: ПС Домозерово, ф, Жары
B2: наименование предприятия | N2: наименование источника питания
N3: ТП-79
B4: ул, Горького, 99 | I4: Таблица № 1
B5: адрес
A6: почасовых записей показаний электрических счетчиков
A7: ='1'!A7:Q7 -> в режимный день 19 июня 2024 г.
A8: 1630 | B8: 1628
A9: часы суток | B9: Активная энергия | J9: Реактивная энергия
B10: =N3 -> ТП-79 | F10: =N4 -> 0 | J10: =B10 -> ТП-79 | N10: =F10 -> 0
B11: Расчет, Коэф, | E11: 40 | F11: Расчет, Коэф, | I11: 120 | J11: Расчет, Коэф, | M11: =E11 -> 40 | N11: Расчет, Коэф, | Q11: =I11 -> 120
B12: показания счетчика | C12: разность | E12: расход эл,энергии за час | F12: показания счетчика | G12: разность | I12: расход эл,энергии за час | J12: показания счетчика | K12: разность | M12: расход эл,энергии за час | N12: показания счетчика | O12: разность | Q12: расход эл,энергии за час
A13: 1 | B13: 2 | C13: 3 | E13: 4 | F13: 5 | G13: 6 | I13: 7 | J13: 8 | K13: 9 | M13: 10 | N13: 11 | O13: 12 | Q13: 13
A14: 00 - 01 | E14: 6.48746 | M14: 0
A15: 01 - 02 | E15: 6.44574 | M15: 0
A16: 02 - 03 | E16: 6.50832 | M16: 0
A17: 03 - 04 | E17: 6.29972 | M17: 0
A18: 04 - 05 | E18: 6.59176 | M18: 0
A19: 05 - 06 | E19: 6.34144 | M19: 0
A20: 06 - 07 | E20: 5.92424 | M20: 0
A21: 07 - 08 | E21: 5.77822 | M21: 0
A22: 08 - 09 | E22: 5.61134 | M22: 0
A23: 09 - 10 | E23: 5.6322 | M23: 0
A24: 10 - 11 | E24: 6.71692 | M24: 0
A25: 11 - 12 | E25: 6.59176 | M25: 0
... A37: 23 - 00 | E37: 10.07538 | M37: 0
A38: Итого | E38: =SUM(E14:E37) -> 154.86464 | I38: =SUM(I14:I37) -> 0 | M38: =SUM(M14:M37) -> 0 | Q38: =SUM(Q14:Q37) -> 0
A39: 1, При наличии на предприятии отклонений от нормальных режимов электропотребления (временное изменение схем питания, остановка на ремонт, резкое снижение
A40: эл,потребления и т,д,) последние необходимо перечислить,
A41: Главный инженер АО "Вологдаоблэнерго" А,В, Чурляев
A42: составляется самим предприятием с соблюдением всех пунктов настоящей таблицы,

Sheet 34
B1: АО "Вологдаоблэнерго" | J1: код 900151 | N1: ПС Батран, ф, Гоша
B2: наименование предприятия | N2: наименование источника питания
N3: ТП-72
B4: ул, Горького, 99 | I4: Таблица № 1 | N4: МТП Гоша-2
B5: адрес
A6: почасовых записей показаний электрических счетчиков
A7: ='1'!A7:Q7 -> в режимный день 19 июня 2024 г.
A8: 1630 | B8: 1628
A9: часы суток | B9: Активная энергия | J9: Реактивная энергия
B10: =N3 -> ТП-72 | F10: =N4 -> МТП Гоша-2 | J10: =B10 -> ТП-72 | N10: =F10 -> МТП Гоша-2
B11: Расчет, Коэф, | E11: 50 | F11: Расчет, Коэф, | I11: 20 | J11: Расчет, Коэф, | M11: =E11 -> 50 | N11: Расчет, Коэф, | Q11: =I11 -> 20
B12: показания счетчика | C12: разность | E12: расход эл,энергии за час | F12: показания счетчика | G12: разность | I12: расход эл,энергии за час | J12: показания счетчика | K12: разность | M12: расход эл,энергии за час | N12: показания счетчика | O12: разность | Q12: расход эл,энергии за час
A13: 1 | B13: 2 | C13: 3 | E13: 4 | F13: 5 | G13: 6 | I13: 7 | J13: 8 | K13: 9 | M13: 10 | N13: 11 | O13: 12 | Q13: 13
A14: 00 - 01 | E14: 6.805575 | I14: 0 | M14: 0 | Q14: 0
A15: 01 - 02 | E15: 7.6139 | I15: 0 | M15: 0 | Q15: 0
A16: 02 - 03 | E16: 4.093775 | I16: 0 | M16: 0 | Q16: 0
A17: 03 - 04 | E17: 5.136775 | I17: 0 | M17: 0 | Q17: 0
A18: 04 - 05 | E18: 7.45745 | I18: 0 | M18: 0 | Q18: 0
A19: 05 - 06 | E19: 6.284075 | I19: 0 | M19: 0 | Q19: 0
A20: 06 - 07 | E20: 4.250225 | I20: 0 | M20: 0 | Q20: 0
A21: 07 - 08 | E21: 6.3623 | I21: 0 | M21: 0 | Q21: 0
A22: 08 - 09 | E22: 8.1354 | I22: 0 | M22: 0 | Q22: 0
A23: 09 - 10 | E23: 5.3193 | I23: 0 | M23: 0 | Q23: 0
A24: 10 - 11 | E24: 5.47575 | I24: 0 | M24: 0 | Q24: 0
A25: 11 - 12 | E25: 6.075475 | I25: 0 | M25: 0 | Q25: 0
... A37: 23 - 00 | E37: 5.3193 | I37: 0 | M37: 0 | Q37: 0
A38: Итого | E38: =SUM(E14:E37) -> 139.57948 | I38: =SUM(I14:I37) -> 0 | M38: =SUM(M14:M37) -> 0 | Q38: =SUM(Q14:Q37) -> 0
A39: 1, При наличии на предприятии отклонений от нормальных режимов электропотребления (временное изменение схем питания, остановка на ремонт, резкое снижение
A40: эл,потребления и т,д,) последние необходимо перечислить,
A41: Главный инженер АО "Вологдаоблэнерго" А,В, Чурляев
A42: составляется самим предприятием с соблюдением всех пунктов настоящей таблицы,

Sheet 35
B1: АО "Вологдаоблэнерго" | J1: код 900151 | N1: ПС Южная, ф, Матинга
B2: наименование предприятия | N2: наименование источника питания
N3: ТП-55
B4: ул, Горького, 99 | I4: Таблица № 1
B5: адрес
A6: почасовых записей показаний электрических счетчиков
A7: ='1'!A7:Q7 -> в режимный день 19 июня 2024 г.
A8: 1630 | B8: 1628
A9: часы суток | B9: Активная энергия | J9: Реактивная энергия
B10: =N3 -> ТП-55 | F10: =N4 -> 0 | J10: =B10 -> ТП-55 | N10: =F10 -> 0
B11: Расчет, Коэф, | E11: 30 | F11: Расчет, Коэф, | I11: 120 | J11: Расчет, Коэф, | M11: =E11 -> 30 | N11: Расчет, Коэф, | Q11: =I11 -> 120
B12: показания счетчика | C12: разность | E12: расход эл,энергии за час | F12: показания счетчика | G12: разность | I12: расход эл,энергии за час | J12: показания счетчика | K12: разность | M12: расход эл,энергии за час | N12: показания счетчика | O12: разность | Q12: расход эл,энергии за час
A13: 1 | B13: 2 | C13: 3 | E13: 4 | F13: 5 | G13: 6 | I13: 7 | J13: 8 | K13: 9 | M13: 10 | N13: 11 | O13: 12 | Q13: 13
A14: 00 - 01 | E14: 3.53577 | M14: 0
A15: 01 - 02 | E15: 3.16029 | M15: 0
A16: 02 - 03 | E16: 2.831745 | M16: 0
A17: 03 - 04 | E17: 2.22159 | M17: 0
A18: 04 - 05 | E18: 1.75224 | M18: 0
A19: 05 - 06 | E19: 1.65837 | M19: 0
A20: 06 - 07 | E20: 2.831745 | M20: 0
A21: 07 - 08 | E21: 3.207225 | M21: 0
A22: 08 - 09 | E22: 2.331105 | M22: 0
A23: 09 - 10 | E23: 5.41317 | M23: 0
A24: 10 - 11 | E24: 3.207225 | M24: 0
A25: 11 - 12 | E25: 5.85123 | M25: 0
... A37: 23 - 00 | E37: 7.932015 | M37: 0
A38: Итого | E38: =SUM(E14:E37) -> 91.976955 | I38: =SUM(I14:I37) -> 0 | M38: =SUM(M14:M37) -> 0 | Q38: =SUM(Q14:Q37) -> 0
A39: 1, При наличии на предприятии отклонений от нормальных режимов электропотребления (временное изменение схем питания, остановка на ремонт, резкое снижение
A40: эл,потребления и т,д,) последние необходимо перечислить,
A41: Главный инженер АО "Вологдаоблэнерго" А,В, Чурляев
A42: составляется самим предприятием с соблюдением всех пунктов настоящей таблицы,

Sheet 36
B1: АО "Вологдаоблэнерго" | J1: код 900151 | N1: ПС Ирдоматка, ф, Ирдоматка-1
B2: наименование предприятия | N2: наименование источника питания
N3: ТП-25
B4: ул, Горького, 99 | I4: Таблица № 1 | N4: ТП-80
B5: адрес
A6: почасовых записей показаний электрических счетчиков
A7: ='1'!A7:Q7 -> в режимный день 19 июня 2024 г.
A8: 1630 | B8: 1628
A9: часы суток | B9: Активная энергия | J9: Реактивная энергия
B10: =N3 -> ТП-25 | F10: =N4 -> ТП-80 | J10: =B10 -> ТП-25 | N10: =F10 -> ТП-80
B11: Расчет, Коэф, | E11: 20 | F11: Расчет, Коэф, | I11: 40 | J11: Расчет, Коэф, | M11: =E11 -> 20 | N11: Расчет, Коэф, | Q11: =I11 -> 40
B12: показания счетчика | C12: разность | E12: расход эл,энергии за час | F12: показания счетчика | G12: разность | I12: расход эл,энергии за час | J12: показания счетчика | K12: разность | M12: расход эл,энергии за час | N12: показания счетчика | O12: разность | Q12: расход эл,энергии за час
A13: 1 | B13: 2 | C13: 3 | E13: 4 | F13: 5 | G13: 6 | I13: 7 | J13: 8 | K13: 9 | M13: 10 | N13: 11 | O13: 12 | Q13: 13
A14: 00 - 01 | E14: 10.7429 | I14: 31.93666 | M14: 0 | Q14: 0
A15: 01 - 02 | E15: 10.68032 | I15: 30.99796 | M15: 0 | Q15: 0
A16: 02 - 03 | E16: 10.17968 | I16: 32.18698 | M16: 0 | Q16: 0
A17: 03 - 04 | E17: 10.03366 | I17: 29.28744 | M17: 0 | Q17: 0
A18: 04 - 05 | E18: 7.88508 | I18: 32.72934 | M18: 0 | Q18: 0
A19: 05 - 06 | E19: 7.301 | I19: 37.84004 | M19: 0 | Q19: 0
A20: 06 - 07 | E20: 10.43 | I20: 44.7447 | M20: 0 | Q20: 0
A21: 07 - 08 | E21: 10.76376 | I21: 46.1006 | M21: 0 | Q21: 0
A22: 08 - 09 | E22: 10.76376 | I22: 45.01588 | M22: 0 | Q22: 0
A23: 09 - 10 | E23: 15.51984 | I23: 46.35092 | M23: 0 | Q23: 0
A24: 10 - 11 | E24: 11.0558 | I24: 44.70298 | M24: 0 | Q24: 0
A25: 11 - 12 | E25: 10.7429 | I25: 43.09676 | M25: 0 | Q25: 0
... A37: 23 - 00 | E37: 19.14948 | I37: 39.02906 | M37: 0 | Q37: 0
A38: Итого | E38: =SUM(E14:E37) -> 265.00544 | I38: =SUM(I14:I37) -> 1041.8736 | M38: =SUM(M14:M37) -> 0 | Q38: =SUM(Q14:Q37) -> 0
A39: 1, При наличии на предприятии отклонений от нормальных режимов электропотребления (временное изменение схем питания, остановка на ремонт, резкое снижение
A40: эл,потребления и т,д,) последние необходимо перечислить,
A41: Главный инженер АО "Вологдаоблэнерго" А,В, Чурляев
A42: составляется самим предприятием с соблюдением всех пунктов настоящей таблицы,

Sheet 37
B1: АО "Вологдаоблэнерго" | J1: код 900151 | N1: ПС Ирдоматка, ф, Ирдоматка-1
B2: наименование предприятия | N2: наименование источника питания
N3: ТП-209 Тепловая
B4: ул, Горького, 99 | I4: Таблица № 1 | N4: КТП-210 Ирдоматка
B5: адрес
A6: почасовых записей показаний электрических счетчиков
A7: ='1'!A7:Q7 -> в режимный день 19 июня 2024 г.
A8: 1630 | B8: 1628
A9: часы суток | B9: Активная энергия | J9: Реактивная энергия
B10: =N3 -> ТП-209 Тепловая | F10: =N4 -> КТП-210 Ирдоматка | J10: =B10 -> ТП-209 Тепловая | N10: =F10 -> КТП-210 Ирдоматка
B11: Расчет, Коэф, | E11: 80 | F11: Расчет, Коэф, | I11: 80 | J11: Расчет, Коэф, | M11: =E11 -> 80 | N11: Расчет, Коэф, | Q11: =I11 -> 80
B12: показания счетчика | C12: разность | E12: расход эл,энергии за час | F12: показания счетчика | G12: разность | I12: расход эл,энергии за час | J12: показания счетчика | K12: разность | M12: расход эл,энергии за час | N12: показания счетчика | O12: разность | Q12: расход эл,энергии за час
A13: 1 | B13: 2 | C13: 3 | E13: 4 | F13: 5 | G13: 6 | I13: 7 | J13: 8 | K13: 9 | M13: 10 | N13: 11 | O13: 12 | Q13: 13
A14: 00 - 01 | E14: 21.57984 | I14: 15.54768 | M14: 0 | Q14: 0
A15: 01 - 02 | E15: 19.9656 | I15: 13.42368 | M15: 0 | Q15: 0
A16: 02 - 03 | E16: 18.01152 | I16: 10.28016 | M16: 0 | Q16: 0
A17: 03 - 04 | E17: 16.05744 | I17: 8.45352 | M17: 0 | Q17: 0
A18: 04 - 05 | E18: 16.05744 | I18: 10.28016 | M18: 0 | Q18: 0
A19: 05 - 06 | E19: 17.50176 | I19: 10.23768 | M19: 0 | Q19: 0
A20: 06 - 07 | E20: 30.5856 | I20: 14.99544 | M20: 0 | Q20: 0
A21: 07 - 08 | E21: 29.99088 | I21: 23.1516 | M21: 0 | Q21: 0
A22: 08 - 09 | E22: 36.5328 | I22: 21.11256 | M22: 0 | Q22: 0
A23: 09 - 10 | E23: 38.74176 | I23: 19.7532 | M23: 0 | Q23: 0
A24: 10 - 11 | E24: 42.31008 | I24: 19.79568 | M24: 0 | Q24: 0
A25: 11 - 12 | E25: 46.89792 | I25: 21.70728 | M25: 0 | Q25: 0
... A37: 23 - 00 | E37: 24.38352 | I37: 17.11944 | M37: 0 | Q37: 0
A38: Итого | E38: =SUM(E14:E37) -> 817.82496 | I38: =SUM(I14:I37) -> 460.95048 | M38: =SUM(M14:M37) -> 0 | Q38: =SUM(Q14:Q37) -> 0
A39: 1, При наличии на предприятии отклонений от нормальных режимов электропотребления (временное изменение схем питания, остановка на ремонт, резкое снижение
A40: эл,потребления и т,д,) последние необходимо перечислить,
A41: Главный инженер АО "Вологдаоблэнерго" А,В, Чурляев
A42: составляется самим предприятием с соблюдением всех пунктов настоящей таблицы,

Sheet 38
B1: АО "Вологдаоблэнерго" | J1: код 900151 | N1: ПС Ирдоматка ф,Даргун
B2: наименование предприятия | N2: наименование источника питания
N3: ТП-113
B4: ул, Горького, 99 | I4: Таблица № 1
B5: адрес
A6: почасовых записей показаний электрических счетчиков
A7: ='1'!A7:Q7 -> в режимный день 19 июня 2024 г.
A8: 1630 | B8: 1628
A9: часы суток | B9: Активная энергия | J9: Реактивная энергия
B10: =N3 -> ТП-113 | F10: =N4 -> 0 | J10: =B10 -> ТП-113 | N10: =F10 -> 0
B11: Расчет, Коэф, | E11: 80 | F11: Расчет, Коэф, | I11: 120 | J11: Расчет, Коэф, | M11: =E11 -> 80 | N11: Расчет, Коэф, | Q11: =I11 -> 120
B12: показания счетчика | C12: разность | E12: расход эл,энергии за час | F12: показания счетчика | G12: разность | I12: расход эл,энергии за час | J12: показания счетчика | K12: разность | M12: расход эл,энергии за час | N12: показания счетчика | O12: разность | Q12: расход эл,энергии за час
A13: 1 | B13: 2 | C13: 3 | E13: 4 | F13: 5 | G13: 6 | I13: 7 | J13: 8 | K13: 9 | M13: 10 | N13: 11 | O13: 12 | Q13: 13
A14: 00 - 01 | E14: 0 | M14: 0
A15: 01 - 02 | E15: 0 | M15: 0
A16: 02 - 03 | E16: 0 | M16: 0
A17: 03 - 04 | E17: 0 | M17: 0
A18: 04 - 05 | E18: 0 | M18: 0
A19: 05 - 06 | E19: 0 | M19: 0
A20: 06 - 07 | E20: 0 | M20: 0
A21: 07 - 08 | E21: 0 | M21: 0
A22: 08 - 09 | E22: 0 | M22: 0
A23: 09 - 10 | E23: 0 | M23: 0
A24: 10 - 11 | E24: 0 | M24: 0
A25: 11 - 12 | E25: 0 | M25: 0
... A37: 23 - 00 | E37: 0 | M37: 0
A38: Итого | E38: =SUM(E14:E37) -> 0 | I38: =SUM(I14:I37) -> 0 | M38: =SUM(M14:M37) -> 0 | Q38: =SUM(Q14:Q37) -> 0
A39: 1, При наличии на предприятии отклонений от нормальных режимов электропотребления (временное изменение схем питания, остановка на ремонт, резкое снижение
A40: эл,потребления и т,д,) последние необходимо перечислить,
A41: Главный инженер АО "Вологдаоблэнерго" А,В, Чурляев
A42: составляется самим предприятием с соблюдением всех пунктов настоящей таблицы,

Sheet 39
B1: АО "Вологдаоблэнерго" | J1: код 900151 | N1: ПС Ирдоматка, ф, Ирдоматка-1
B2: наименование предприятия | N2: наименование источника питания
N3: КТП-400 Дачи "Пулово Борисово"
B4: ул, Горького, 99 | I4: Таблица № 1
B5: адрес
A6: почасовых записей показаний электрических счетчиков
A7: ='1'!A7:Q7 -> в режимный день 19 июня 2024 г.
A8: 1630 | B8: 1628
A9: часы суток | B9: Активная энергия | J9: Реактивная энергия
B10: =N3 -> КТП-400 Дачи "Пулово Борисово" | F10: =N4 -> 0 | J10: =B10 -> КТП-400 Дачи "Пулово Борисово" | N10: =F10 -> 0
B11: Расчет, Коэф, | E11: 60 | F11: Расчет, Коэф, | I11: 120 | J11: Расчет, Коэф, | M11: =E11 -> 60 | N11: Расчет, Коэф, | Q11: =I11 -> 120
B12: показания счетчика | C12: разность | E12: расход эл,энергии за час | F12: показания счетчика | G12: разность | I12: расход эл,энергии за час | J12: показания счетчика | K12: разность | M12: расход эл,энергии за час | N12: показания счетчика | O12: разность | Q12: расход эл,энергии за час
A13: 1 | B13: 2 | C13: 3 | E13: 4 | F13: 5 | G13: 6 | I13: 7 | J13: 8 | K13: 9 | M13: 10 | N13: 11 | O13: 12 | Q13: 13
A14: 00 - 01 | E14: 0 | M14: 0
A15: 01 - 02 | E15: 0 | M15: 0
A16: 02 - 03 | E16: 0 | M16: 0
A17: 03 - 04 | E17: 0 | M17: 0
A18: 04 - 05 | E18: 0 | M18: 0
A19: 05 - 06 | E19: 0 | M19: 0
A20: 06 - 07 | E20: 0 | M20: 0
A21: 07 - 08 | E21: 0 | M21: 0
A22: 08 - 09 | E22: 0 | M22: 0
A23: 09 - 10 | E23: 0 | M23: 0
A24: 10 - 11 | E24: 0 | M24: 0
A25: 11 - 12 | E25: 0 | M25: 0
... A37: 23 - 00 | E37: 0 | M37: 0
A38: Итого | E38: =SUM(E14:E37) -> 0 | I38: =SUM(I14:I37) -> 0 | M38: =SUM(M14:M37) -> 0 | Q38: =SUM(Q14:Q37) -> 0
A39: 1, При наличии на предприятии отклонений от нормальных режимов электропотребления (временное изменение схем питания, остановка на ремонт, резкое снижение
A40: эл,потребления и т,д,) последние необходимо перечислить,
A41: Главный инженер АО "Вологдаоблэнерго" А,В, Чурляев
A42: составляется самим предприятием с соблюдением всех пунктов настоящей таблицы,

Sheet 40
B1: АО "Вологдаоблэнерго" | J1: код 900151 | N1: ПС Абакаеово ф, Осеевская
B2: наименование предприятия | N2: наименование источника питания
N3: ТП-Лесопильных цех (д,Заручьевье)
B4: ул, Горького, 99 | I4: Таблица № 1
B5: адрес
A6: почасовых записей показаний электрических счетчиков
A7: ='1'!A7:Q7 -> в режимный день 19 июня 2024 г.
A8: 1630 | B8: 1628
A9: часы суток | B9: Активная энергия | J9: Реактивная энергия
B10: =N3 -> ТП-Лесопильных цех (д,Заручьевье) | F10: =N4 -> 0 | J10: =B10 -> ТП-Лесопильных цех (д,Заручьевье) | N10: =F10 -> 0
B11: Расчет, Коэф, | E11: 30 | F11: Расчет, Коэф, | I11: 120 | J11: Расчет, Коэф, | M11: =E11 -> 30 | N11: Расчет, Коэф, | Q11: =I11 -> 120
B12: показания счетчика | C12: разность | E12: расход эл,энергии за час | F12: показания счетчика | G12: разность | I12: расход эл,энергии за час | J12: показания счетчика | K12: разность | M12: расход эл,энергии за час | N12: показания счетчика | O12: разность | Q12: расход эл,энергии за час
A13: 1 | B13: 2 | C13: 3 | E13: 4 | F13: 5 | G13: 6 | I13: 7 | J13: 8 | K13: 9 | M13: 10 | N13: 11 | O13: 12 | Q13: 13
A14: 00 - 01 | E14: 0.20709 | M14: 0
A15: 01 - 02 | E15: 0.17523 | M15: 0
A16: 02 - 03 | E16: 0.17523 | M16: 0
A17: 03 - 04 | E17: 0.1593 | M17: 0
A18: 04 - 05 | E18: 0.1593 | M18: 0
A19: 05 - 06 | E19: 0.54162 | M19: 0
A20: 06 - 07 | E20: 1.51335 | M20: 0
A21: 07 - 08 | E21: 12.02715 | M21: 0
A22: 08 - 09 | E22: 13.04667 | M22: 0
A23: 09 - 10 | E23: 10.37043 | M23: 0
A24: 10 - 11 | E24: 12.23424 | M24: 0
A25: 11 - 12 | E25: 10.49787 | M25: 0
... A37: 23 - 00 | E37: 0.46197 | M37: 0
A38: Итого | E38: =SUM(E14:E37) -> 103.0671 | I38: =SUM(I14:I37) -> 0 | M38: =SUM(M14:M37) -> 0 | Q38: =SUM(Q14:Q37) -> 0
A39: 1, При наличии на предприятии отклонений от нормальных режимов электропотребления (временное изменение схем питания, остановка на ремонт, резкое снижение
A40: эл,потребления и т,д,) последние необходимо перечислить,
A41: Главный инженер АО "Вологдаоблэнерго" А,В, Чурляев
A42: составляется самим предприятием с соблюдением всех пунктов настоящей таблицы,

Sheet 41
B1: АО "Вологдаоблэнерго" | J1: код 900151 | N1: ПС Новые Углы ф, Кораблево
B2: наименование предприятия | N2: наименование источника питания
N3: ТП-3 Общежитие В-1
B4: ул, Горького, 99 | I4: Таблица № 1 | N4: ТП-3 Общежитие В-2
B5: адрес
A6: почасовых записей показаний электрических счетчиков
A7: ='1'!A7:Q7 -> в режимный день 19 июня 2024 г.
A8: 1630 | B8: 1628
A9: часы суток | B9: Активная энергия | J9: Реактивная энергия
B10: =N3 -> ТП-3 Общежитие В-1 | F10: =N4 -> ТП-3 Общежитие В-2 | J10: =B10 -> ТП-3 Общежитие В-1 | N10: =F10 -> ТП-3 Общежитие В-2
B11: Расчет, Коэф, | E11: 60 | F11: Расчет, Коэф, | I11: 60 | J11: Расчет, Коэф, | M11: =E11 -> 60 | N11: Расчет, Коэф, | Q11: =I11 -> 60
B12: показания счетчика | C12: разность | E12: расход эл,энергии за час | F12: показания счетчика | G12: разность | I12: расход эл,энергии за час | J12: показания счетчика | K12: разность | M12: расход эл,энергии за час | N12: показания счетчика | O12: разность | Q12: расход эл,энергии за час
A13: 1 | B13: 2 | C13: 3 | E13: 4 | F13: 5 | G13: 6 | I13: 7 | J13: 8 | K13: 9 | M13: 10 | N13: 11 | O13: 12 | Q13: 13
A14: 00 - 01 | E14: 0 | I14: 22.49316 | M14: 0 | Q14: 0
A15: 01 - 02 | E15: 0 | I15: 20.670768 | M15: 0 | Q15: 0
A16: 02 - 03 | E16: 0 | I16: 17.242632 | M16: 0 | Q16: 0
A17: 03 - 04 | E17: 0 | I17: 15.904512 | M17: 0 | Q17: 0
A18: 04 - 05 | E18: 0 | I18: 14.795784 | M18: 0 | Q18: 0
A19: 05 - 06 | E19: 0 | I19: 14.757552 | M19: 0 | Q19: 0
A20: 06 - 07 | E20: 0 | I20: 23.907744 | M20: 0 | Q20: 0
A21: 07 - 08 | E21: 0 | I21: 24.5322 | M21: 0 | Q21: 0
A22: 08 - 09 | E22: 0 | I22: 23.423472 | M22: 0 | Q22: 0
A23: 09 - 10 | E23: 0 | I23: 23.053896 | M23: 0 | Q23: 0
A24: 10 - 11 | E24: 0 | I24: 21.881448 | M24: 0 | Q24: 0
A25: 11 - 12 | E25: 0 | I25: 21.142296 | M25: 0 | Q25: 0
... A37: 23 - 00 | E37: 0 | I37: 27.361368 | M37: 0 | Q37: 0
A38: Итого | E38: =SUM(E14:E37) -> 0 | I38: =SUM(I14:I37) -> 559.99685 | M38: =SUM(M14:M37) -> 0 | Q38: =SUM(Q14:Q37) -> 0
A39: 1, При наличии на предприятии отклонений от нормальных режимов электропотребления (временное изменение схем питания, остановка на ремонт, резкое снижение
A40: эл,потребления и т,д,) последние необходимо перечислить,
A41: Главный инженер АО "Вологдаоблэнерго" А,В, Чурляев
A42: составляется самим предприятием с соблюдением всех пунктов настоящей таблицы,

Sheet 42
B1: АО "Вологдаоблэнерго" | J1: код 900151 | N1: ПС Новые Углы ф, Кораблево
B2: наименование предприятия | N2: наименование источника питания
N3: ТП-2 Училище В-1
B4: ул, Горького, 99 | I4: Таблица № 1 | N4: ТП-2 Училище В-2
B5: адрес
A6: почасовых записей показаний электрических счетчиков
A7: ='1'!A7:Q7 -> в режимный день 19 июня 2024 г.
A8: 1630 | B8: 1628
A9: часы суток | B9: Активная энергия | J9: Реактивная энергия
B10: =N3 -> ТП-2 Училище В-1 | F10: =N4 -> ТП-2 Училище В-2 | J10: =B10 -> ТП-2 Училище В-1 | N10: =F10 -> ТП-2 Училище В-2
B11: Расчет, Коэф, | E11: 80 | F11: Расчет, Коэф, | I11: 80 | J11: Расчет, Коэф, | M11: =E11 -> 80 | N11: Расчет, Коэф, | Q11: =I11 -> 80
B12: показания счетчика | C12: разность | E12: расход эл,энергии за час | F12: показания счетчика | G12: разность | I12: расход эл,энергии за час | J12: показания счетчика | K12: разность | M12: расход эл,энергии за час | N12: показания счетчика | O12: разность | Q12: расход эл,энергии за час
A13: 1 | B13: 2 | C13: 3 | E13: 4 | F13: 5 | G13: 6 | I13: 7 | J13: 8 | K13: 9 | M13: 10 | N13: 11 | O13: 12 | Q13: 13
A14: 00 - 01 | E14: 18.725184 | I14: 5.420448 | M14: 0 | Q14: 0
A15: 01 - 02 | E15: 18.844128 | I15: 5.726304 | M15: 0 | Q15: 0
A16: 02 - 03 | E16: 18.878112 | I16: 4.50288 | M16: 0 | Q16: 0
A17: 03 - 04 | E17: 18.77616 | I17: 3.551328 | M17: 0 | Q17: 0
A18: 04 - 05 | E18: 18.572256 | I18: 4.808736 | M18: 0 | Q18: 0
A19: 05 - 06 | E19: 18.640224 | I19: 3.891168 | M19: 0 | Q19: 0
A20: 06 - 07 | E20: 18.52128 | I20: 5.250528 | M20: 0 | Q20: 0
A21: 07 - 08 | E21: 29.073312 | I21: 5.26752 | M21: 0 | Q21: 0
A22: 08 - 09 | E22: 29.752992 | I22: 5.86224 | M22: 0 | Q22: 0
A23: 09 - 10 | E23: 31.452192 | I23: 6.321024 | M23: 0 | Q23: 0
A24: 10 - 11 | E24: 24.536448 | I24: 7.119648 | M24: 0 | Q24: 0
A25: 11 - 12 | E25: 24.060672 | I25: 9.85536 | M25: 0 | Q25: 0
... A37: 23 - 00 | E37: 18.674208 | I37: 6.11712 | M37: 0 | Q37: 0
A38: Итого | E38: =SUM(E14:E37) -> 510.47366 | I38: =SUM(I14:I37) -> 156.25843 | M38: =SUM(M14:M37) -> 0 | Q38: =SUM(Q14:Q37) -> 0
A39: 1, При наличии на предприятии отклонений от нормальных режимов электропотребления (временное изменение схем питания, остановка на ремонт, резкое снижение
A40: эл,потребления и т,д,) последние необходимо перечислить,
A41: Главный инженер АО "Вологдаоблэнерго" А,В, Чурляев
A42: составляется самим предприятием с соблюдением всех пунктов настоящей таблицы,

Sheet 43
B1: АО "Вологдаоблэнерго" | J1: код 900151 | N1: ПС Новые Углы ф, Кораблево
B2: наименование предприятия | N2: наименование источника питания
N3: ТП-222 В-1
B4: ул, Горького, 99 | I4: Таблица № 1 | N4: ТП-222 В-2
B5: адрес
A6: почасовых записей показаний электрических счетчиков
A7: ='1'!A7:Q7 -> в режимный день 19 июня 2024 г.
A8: 1630 | B8: 1628
A9: часы суток | B9: Активная энергия | J9: Реактивная энергия
B10: =N3 -> ТП-222 В-1 | F10: =N4 -> ТП-222 В-2 | J10: =B10 -> ТП-222 В-1 | N10: =F10 -> ТП-222 В-2
B11: Расчет, Коэф, | E11: 120 | F11: Расчет, Коэф, | I11: 120 | J11: Расчет, Коэф, | M11: =E11 -> 120 | N11: Расчет, Коэф, | Q11: =I11 -> 120
B12: показания счетчика | C12: разность | E12: расход эл,энергии за час | F12: показания счетчика | G12: разность | I12: расход эл,энергии за час | J12: показания счетчика | K12: разность | M12: расход эл,энергии за час | N12: показания счетчика | O12: разность | Q12: расход эл,энергии за час
A13: 1 | B13: 2 | C13: 3 | E13: 4 | F13: 5 | G13: 6 | I13: 7 | J13: 8 | K13: 9 | M13: 10 | N13: 11 | O13: 12 | Q13: 13
A14: 00 - 01 | E14: 8.66592 | I14: 23.95872 | M14: 0 | Q14: 0
A15: 01 - 02 | E15: 8.02872 | I15: 22.9392 | M15: 0 | Q15: 0
A16: 02 - 03 | E16: 8.15616 | I16: 21.79224 | M16: 0 | Q16: 0
A17: 03 - 04 | E17: 8.02872 | I17: 23.19408 | M17: 0 | Q17: 0
A18: 04 - 05 | E18: 9.17568 | I18: 23.83128 | M18: 0 | Q18: 0
A19: 05 - 06 | E19: 22.17456 | I19: 28.0368 | M19: 0 | Q19: 0
A20: 06 - 07 | E20: 20.77272 | I20: 30.84048 | M20: 0 | Q20: 0
A21: 07 - 08 | E21: 17.07696 | I21: 37.84968 | M21: 0 | Q21: 0
A22: 08 - 09 | E22: 16.69464 | I22: 37.08504 | M22: 0 | Q22: 0
A23: 09 - 10 | E23: 16.05744 | I23: 37.84968 | M23: 0 | Q23: 0
A24: 10 - 11 | E24: 16.05744 | I24: 38.35944 | M24: 0 | Q24: 0
A25: 11 - 12 | E25: 14.91048 | I25: 31.35024 | M25: 0 | Q25: 0
... A37: 23 - 00 | E37: 11.21472 | I37: 30.45816 | M37: 0 | Q37: 0
A38: Итого | E38: =SUM(E14:E37) -> 301.52304 | I38: =SUM(I14:I37) -> 841.7412 | M38: =SUM(M14:M37) -> 0 | Q38: =SUM(Q14:Q37) -> 0
A39: 1, При наличии на предприятии отклонений от нормальных режимов электропотребления (временное изменение схем питания, остановка на ремонт, резкое снижение
A40: эл,потребления и т,д,) последние необходимо перечислить,
A41: Главный инженер АО "Вологдаоблэнерго" А,В, Чурляев
A42: составляется самим предприятием с соблюдением всех пунктов настоящей таблицы,

Sheet 44
B1: АО "Вологдаоблэнерго" | J1: код 900151 | N1: ПС Новые Углы ф, Кораблево
B2: наименование предприятия | N2: наименование источника питания
N3: ТП-Шухободь Жилзона В-1
B4: ул, Горького, 99 | I4: Таблица № 1 | N4: ТП-Шухободь Жилзона В-2
B5: адрес
A6: почасовых записей показаний электрических счетчиков
A7: ='1'!A7:Q7 -> в режимный день 19 июня 2024 г.
A8: 1630 | B8: 1628
A9: часы суток | B9: Активная энергия | J9: Реактивная энергия
B10: =N3 -> ТП-Шухободь Жилзона В-1 | F10: =N4 -> ТП-Шухободь Жилзона В-2 | J10: =B10 -> ТП-Шухободь Жилзона В-1 | N10: =F10 -> ТП-Шухободь Жилзона В-2
B11: Расчет, Коэф, | E11: 80 | F11: Расчет, Коэф, | I11: 80 | J11: Расчет, Коэф, | M11: =E11 -> 80 | N11: Расчет, Коэф, | Q11: =I11 -> 80
B12: показания счетчика | C12: разность | E12: расход эл,энергии за час | F12: показания счетчика | G12: разность | I12: расход эл,энергии за час | J12: показания счетчика | K12: разность | M12: расход эл,энергии за час | N12: показания счетчика | O12: разность | Q12: расход эл,энергии за час
A13: 1 | B13: 2 | C13: 3 | E13: 4 | F13: 5 | G13: 6 | I13: 7 | J13: 8 | K13: 9 | M13: 10 | N13: 11 | O13: 12 | Q13: 13
A14: 00 - 01 | E14: 40.18608 | I14: 37.29744 | M14: 0 | Q14: 0
A15: 01 - 02 | E15: 31.77504 | I15: 33.04944 | M15: 0 | Q15: 0
A16: 02 - 03 | E16: 31.94496 | I16: 29.82096 | M16: 0 | Q16: 0
A17: 03 - 04 | E17: 30.5856 | I17: 29.99088 | M17: 0 | Q17: 0
A18: 04 - 05 | E18: 31.77504 | I18: 31.09536 | M18: 0 | Q18: 0
A19: 05 - 06 | E19: 35.2584 | I19: 35.2584 | M19: 0 | Q19: 0
A20: 06 - 07 | E20: 40.27104 | I20: 42.48 | M20: 0 | Q20: 0
A21: 07 - 08 | E21: 43.83936 | I21: 51.8256 | M21: 0 | Q21: 0
A22: 08 - 09 | E22: 45.8784 | I22: 49.44672 | M22: 0 | Q22: 0
A23: 09 - 10 | E23: 45.36864 | I23: 42.48 | M23: 0 | Q23: 0
A24: 10 - 11 | E24: 45.0288 | I24: 39.9312 | M24: 0 | Q24: 0
A25: 11 - 12 | E25: 48.68208 | I25: 38.74176 | M25: 0 | Q25: 0
... A37: 23 - 00 | E37: 45.62352 | I37: 41.37552 | M37: 0 | Q37: 0
A38: Итого | E38: =SUM(E14:E37) -> 1087.9128 | I38: =SUM(I14:I37) -> 1063.5293 | M38: =SUM(M14:M37) -> 0 | Q38: =SUM(Q14:Q37) -> 0
A39: 1, При наличии на предприятии отклонений от нормальных режимов электропотребления (временное изменение схем питания, остановка на ремонт, резкое снижение
A40: эл,потребления и т,д,) последние необходимо перечислить,
A41: Главный инженер АО "Вологдаоблэнерго" А,В, Чурляев
A42: составляется самим предприятием с соблюдением всех пунктов настоящей таблицы,

Sheet 45
B1: АО "Вологдаоблэнерго" | J1: код 900151 | N1: ПС Новые Углы ф, Кораблево
B2: наименование предприятия | N2: наименование источника питания
N3: ТП-К-с Шухободь В-1
B4: ул, Горького, 99 | I4: Таблица № 1 | N4: ТП-К-с Шухободь В-2
B5: адрес
A6: почасовых записей показаний электрических счетчиков
A7: ='1'!A7:Q7 -> в режимный день 19 июня 2024 г.
A8: 1630 | B8: 1628
A9: часы суток | B9: Активная энергия | J9: Реактивная энергия
B10: =N3 -> ТП-К-с Шухободь В-1 | F10: =N4 -> ТП-К-с Шухободь В-2 | J10: =B10 -> ТП-К-с Шухободь В-1 | N10: =F10 -> ТП-К-с Шухободь В-2
B11: Расчет, Коэф, | E11: 120 | F11: Расчет, Коэф, | I11: 120 | J11: Расчет, Коэф, | M11: =E11 -> 120 | N11: Расчет, Коэф, | Q11: =I11 -> 120
B12: показания счетчика | C12: разность | E12: расход эл,энергии за час | F12: показания счетчика | G12: разность | I12: расход эл,энергии за час | J12: показания счетчика | K12: разность | M12: расход эл,энергии за час | N12: показания счетчика | O12: разность | Q12: расход эл,энергии за час
A13: 1 | B13: 2 | C13: 3 | E13: 4 | F13: 5 | G13: 6 | I13: 7 | J13: 8 | K13: 9 | M13: 10 | N13: 11 | O13: 12 | Q13: 13
A14: 00 - 01 | E14: 42.666912 | I14: 0 | M14: 0 | Q14: 0
A15: 01 - 02 | E15: 39.863232 | I15: 0 | M15: 0 | Q15: 0
A16: 02 - 03 | E16: 35.708688 | I16: 0 | M16: 0 | Q16: 0
A17: 03 - 04 | E17: 39.684816 | I17: 0 | M17: 0 | Q17: 0
A18: 04 - 05 | E18: 45.980352 | I18: 0 | M18: 0 | Q18: 0
A19: 05 - 06 | E19: 77.381568 | I19: 0 | M19: 0 | Q19: 0
A20: 06 - 07 | E20: 85.741632 | I20: 0 | M20: 0 | Q20: 0
A21: 07 - 08 | E21: 88.876656 | I21: 0 | M21: 0 | Q21: 0
A22: 08 - 09 | E22: 99.4032 | I22: 0 | M22: 0 | Q22: 0
A23: 09 - 10 | E23: 81.638064 | I23: 0 | M23: 0 | Q23: 0
A24: 10 - 11 | E24: 73.9152 | I24: 0 | M24: 0 | Q24: 0
A25: 11 - 12 | E25: 45.292176 | I25: 0 | M25: 0 | Q25: 0
... A37: 23 - 00 | E37: 38.894688 | I37: 0 | M37: 0 | Q37: 0
A38: Итого | E38: =SUM(E14:E37) -> 1448.2791 | I38: =SUM(I14:I37) -> 0 | M38: =SUM(M14:M37) -> 0 | Q38: =SUM(Q14:Q37) -> 0
A39: 1, При наличии на предприятии отклонений от нормальных режимов электропотребления (временное изменение схем питания, остановка на ремонт, резкое снижение
A40: эл,потребления и т,д,) последние необходимо перечислить,
A41: Главный инженер АО "Вологдаоблэнерго" А,В, Чурляев
A42: составляется самим предприятием с соблюдением всех пунктов настоящей таблицы,

Sheet 46
B1: АО "Вологдаоблэнерго" | J1: код 900151 | N1: ПС Абаканово, ф, Алексино
B2: наименование предприятия | N2: наименование источника питания
N3: ТП-Поселок (3,4 этажные дома)
B4: ул, Горького, 99 | I4: Таблица № 1 | N4: ТП-211
B5: адрес
A6: почасовых записей показаний электрических счетчиков
A7: ='1'!A7:Q7 -> в режимный день 19 июня 2024 г.
A8: 1630 | B8: 1628
A9: часы суток | B9: Активная энергия | J9: Реактивная энергия
B10: =N3 -> ТП-Поселок (3,4 этажные дома) | F10: =N4 -> ТП-211 | J10: =B10 -> ТП-Поселок (3,4 этажные дома) | N10: =F10 -> ТП-211
B11: Расчет, Коэф, | E11: 50 | F11: Расчет, Коэф, | I11: 80 | J11: Расчет, Коэф, | M11: =E11 -> 50 | N11: Расчет, Коэф, | Q11: =I11 -> 80
B12: показания счетчика | C12: разность | E12: расход эл,энергии за час | F12: показания счетчика | G12: разность | I12: расход эл,энергии за час | J12: показания счетчика | K12: разность | M12: расход эл,энергии за час | N12: показания счетчика | O12: разность | Q12: расход эл,энергии за час
A13: 1 | B13: 2 | C13: 3 | E13: 4 | F13: 5 | G13: 6 | I13: 7 | J13: 8 | K13: 9 | M13: 10 | N13: 11 | O13: 12 | Q13: 13
A14: 00 - 01 | E14: 45.3474 | I14: 7.73136 | M14: 0 | Q14: 0
A15: 01 - 02 | E15: 43.4358 | I15: 6.96672 | M15: 0 | Q15: 0
A16: 02 - 03 | E16: 41.6304 | I16: 8.9208 | M16: 0 | Q16: 0
A17: 03 - 04 | E17: 38.9754 | I17: 6.96672 | M17: 0 | Q17: 0
A18: 04 - 05 | E18: 40.5684 | I18: 8.0712 | M18: 0 | Q18: 0
A19: 05 - 06 | E19: 42.7986 | I19: 20.73024 | M19: 0 | Q19: 0
A20: 06 - 07 | E20: 47.0466 | I20: 57.60288 | M20: 0 | Q20: 0
A21: 07 - 08 | E21: 54.2682 | I21: 68.05296 | M21: 0 | Q21: 0
A22: 08 - 09 | E22: 59.8968 | I22: 89.88768 | M22: 0 | Q22: 0
A23: 09 - 10 | E23: 59.1534 | I23: 96.34464 | M23: 0 | Q23: 0
A24: 10 - 11 | E24: 55.4895 | I24: 76.54896 | M24: 0 | Q24: 0
A25: 11 - 12 | E25: 55.5426 | I25: 70.77168 | M25: 0 | Q25: 0
... A37: 23 - 00 | E37: 48.4272 | I37: 10.62 | M37: 0 | Q37: 0
A38: Итого | E38: =SUM(E14:E37) -> 1309.9239 | I38: =SUM(I14:I37) -> 820.79856 | M38: =SUM(M14:M37) -> 0 | Q38: =SUM(Q14:Q37) -> 0
A39: 1, При наличии на предприятии отклонений от нормальных режимов электропотребления (временное изменение схем питания, остановка на ремонт, резкое снижение
A40: эл,потребления и т,д,) последние необходимо перечислить,
A41: Главный инженер АО "Вологдаоблэнерго" А,В, Чурляев
A42: составляется самим предприятием с соблюдением всех пунктов настоящей таблицы,

Sheet 47
B1: АО "Вологдаоблэнерго" | J1: код 900151 | N1: ПС Абаканово, ф, Алексино
B2: наименование предприятия | N2: наименование источника питания
N3: КТП "Мастерские" с, Абаканово
B4: ул, Горького, 99 | I4: Таблица № 1 | N4: ТП-242
B5: адрес
A6: почасовых записей показаний электрических счетчиков
A7: ='1'!A7:Q7 -> в режимный день 19 июня 2024 г.
A8: 1630 | B8: 1628
A9: часы суток | B9: Активная энергия | J9: Реактивная энергия
B10: =N3 -> КТП "Мастерские" с, Абаканово | F10: =N4 -> ТП-242 | J10: =B10 -> КТП "Мастерские" с, Абаканово | N10: =F10 -> ТП-242
B11: Расчет, Коэф, | E11: 40 | F11: Расчет, Коэф, | I11: 30 | J11: Расчет, Коэф, | M11: =E11 -> 40 | N11: Расчет, Коэф, | Q11: =I11 -> 30
B12: показания счетчика | C12: разность | E12: расход эл,энергии за час | F12: показания счетчика | G12: разность | I12: расход эл,энергии за час | J12: показания счетчика | K12: разность | M12: расход эл,энергии за час | N12: показания счетчика | O12: разность | Q12: расход эл,энергии за час
A13: 1 | B13: 2 | C13: 3 | E13: 4 | F13: 5 | G13: 6 | I13: 7 | J13: 8 | K13: 9 | M13: 10 | N13: 11 | O13: 12 | Q13: 13
A14: 00 - 01 | E14: 0 | I14: 1.19475 | M14: 0 | Q14: 0
A15: 01 - 02 | E15: 0 | I15: 1.09917 | M15: 0 | Q15: 0
A16: 02 - 03 | E16: 0 | I16: 1.00359 | M16: 0 | Q16: 0
A17: 03 - 04 | E17: 0 | I17: 1.13103 | M17: 0 | Q17: 0
A18: 04 - 05 | E18: 0 | I18: 1.09917 | M18: 0 | Q18: 0
A19: 05 - 06 | E19: 0 | I19: 1.51335 | M19: 0 | Q19: 0
A20: 06 - 07 | E20: 0 | I20: 1.1151 | M20: 0 | Q20: 0
A21: 07 - 08 | E21: 0 | I21: 0.90801 | M21: 0 | Q21: 0
A22: 08 - 09 | E22: 0 | I22: 1.14696 | M22: 0 | Q22: 0
A23: 09 - 10 | E23: 0 | I23: 1.48149 | M23: 0 | Q23: 0
A24: 10 - 11 | E24: 0 | I24: 2.46915 | M24: 0 | Q24: 0
A25: 11 - 12 | E25: 0 | I25: 1.78416 | M25: 0 | Q25: 0
... A37: 23 - 00 | E37: 0 | I37: 1.51335 | M37: 0 | Q37: 0
A38: Итого | E38: =SUM(E14:E37) -> 0 | I38: =SUM(I14:I37) -> 40.3029 | M38: =SUM(M14:M37) -> 0 | Q38: =SUM(Q14:Q37) -> 0
A39: 1, При наличии на предприятии отклонений от нормальных режимов электропотребления (временное изменение схем питания, остановка на ремонт, резкое снижение
A40: эл,потребления и т,д,) последние необходимо перечислить,
A41: Главный инженер АО "Вологдаоблэнерго" А,В, Чурляев
A42: составляется самим предприятием с соблюдением всех пунктов настоящей таблицы,

Sheet 48
B1: АО "Вологдаоблэнерго" | J1: код 900151 | N1: ПС Абаканово, ф, Слабеево
B2: наименование предприятия | N2: наименование источника питания
N3: ТП-249
B4: ул, Горького, 99 | I4: Таблица № 1
B5: адрес
A6: почасовых записей показаний электрических счетчиков
A7: ='1'!A7:Q7 -> в режимный день 19 июня 2024 г.
A8: 1630 | B8: 1628
A9: часы суток | B9: Активная энергия | J9: Реактивная энергия
B10: =N3 -> ТП-249 | F10: =N4 -> 0 | J10: =B10 -> ТП-249 | N10: =F10 -> 0
B11: Расчет, Коэф, | E11: 1 | F11: Расчет, Коэф, | I11: 120 | J11: Расчет, Коэф, | M11: =E11 -> 1 | N11: Расчет, Коэф, | Q11: =I11 -> 120
B12: показания счетчика | C12: разность | E12: расход эл,энергии за час | F12: показания счетчика | G12: разность | I12: расход эл,энергии за час | J12: показания счетчика | K12: разность | M12: расход эл,энергии за час | N12: показания счетчика | O12: разность | Q12: расход эл,энергии за час
A13: 1 | B13: 2 | C13: 3 | E13: 4 | F13: 5 | G13: 6 | I13: 7 | J13: 8 | K13: 9 | M13: 10 | N13: 11 | O13: 12 | Q13: 13
A14: 00 - 01 | E14: 0 | M14: 0
A15: 01 - 02 | E15: 0 | M15: 0
A16: 02 - 03 | E16: 0 | M16: 0
A17: 03 - 04 | E17: 0 | M17: 0
A18: 04 - 05 | E18: 0 | M18: 0
A19: 05 - 06 | E19: 0 | M19: 0
A20: 06 - 07 | E20: 0 | M20: 0
A21: 07 - 08 | E21: 0 | M21: 0
A22: 08 - 09 | E22: 0 | M22: 0
A23: 09 - 10 | E23: 0 | M23: 0
A24: 10 - 11 | E24: 0 | M24: 0
A25: 11 - 12 | E25: 0 | M25: 0
... A37: 23 - 00 | E37: 0 | M37: 0
A38: Итого | E38: =SUM(E14:E37) -> 0 | I38: =SUM(I14:I37) -> 0 | M38: =SUM(M14:M37) -> 0 | Q38: =SUM(Q14:Q37) -> 0
A39: 1, При наличии на предприятии отклонений от нормальных режимов электропотребления (временное изменение схем питания, остановка на ремонт, резкое снижение
A40: эл,потребления и т,д,) последние необходимо перечислить,
A41: Главный инженер АО "Вологдаоблэнерго" А,В, Чурляев
A42: составляется самим предприятием с соблюдением всех пунктов настоящей таблицы,

Sheet 49
B1: АО "Вологдаоблэнерго" | J1: код 900151 | N1: ПС Поповка, ф, Привалино
B2: наименование предприятия | N2: наименование источника питания
N3: КТП-Погорелка
B4: ул, Горького, 99 | I4: Таблица № 1 | N4: КТП-Хлебаево
B5: адрес
A6: почасовых записей показаний электрических счетчиков
A7: ='1'!A7:Q7 -> в режимный день 19 июня 2024 г.
A8: 1630 | B8: 1628
A9: часы суток | B9: Активная энергия | J9: Реактивная энергия
B10: =N3 -> КТП-Погорелка | F10: =N4 -> КТП-Хлебаево | J10: =B10 -> КТП-Погорелка | N10: =F10 -> КТП-Хлебаево
B11: Расчет, Коэф, | E11: 30 | F11: Расчет, Коэф, | I11: 30 | J11: Расчет, Коэф, | M11: =E11 -> 30 | N11: Расчет, Коэф, | Q11: =I11 -> 30
B12: показания счетчика | C12: разность | E12: расход эл,энергии за час | F12: показания счетчика | G12: разность | I12: расход эл,энергии за час | J12: показания счетчика | K12: разность | M12: расход эл,энергии за час | N12: показания счетчика | O12: разность | Q12: расход эл,энергии за час
A13: 1 | B13: 2 | C13: 3 | E13: 4 | F13: 5 | G13: 6 | I13: 7 | J13: 8 | K13: 9 | M13: 10 | N13: 11 | O13: 12 | Q13: 13
A14: 00 - 01 | E14: 0.25488 | I14: 0 | M14: 0 | Q14: 0
A15: 01 - 02 | E15: 0.89208 | I15: 0 | M15: 0 | Q15: 0
A16: 02 - 03 | E16: 0.89208 | I16: 0 | M16: 0 | Q16: 0
A17: 03 - 04 | E17: 0.9558 | I17: 0 | M17: 0 | Q17: 0
A18: 04 - 05 | E18: 0.89208 | I18: 0 | M18: 0 | Q18: 0
A19: 05 - 06 | E19: 0.89208 | I19: 0 | M19: 0 | Q19: 0
A20: 06 - 07 | E20: 0.89208 | I20: 0 | M20: 0 | Q20: 0
A21: 07 - 08 | E21: 1.84788 | I21: 0 | M21: 0 | Q21: 0
A22: 08 - 09 | E22: 4.1418 | I22: 0 | M22: 0 | Q22: 0
A23: 09 - 10 | E23: 7.0092 | I23: 0 | M23: 0 | Q23: 0
A24: 10 - 11 | E24: 7.3278 | I24: 0 | M24: 0 | Q24: 0
A25: 11 - 12 | E25: 7.3278 | I25: 0 | M25: 0 | Q25: 0
... A37: 23 - 00 | E37: 2.16648 | I37: 0 | M37: 0 | Q37: 0
A38: Итого | E38: =SUM(E14:E37) -> 85.00248 | I38: =SUM(I14:I37) -> 0 | M38: =SUM(M14:M37) -> 0 | Q38: =SUM(Q14:Q37) -> 0
A39: 1, При наличии на предприятии отклонений от нормальных режимов электропотребления (временное изменение схем питания, остановка на ремонт, резкое снижение
A40: эл,потребления и т,д,) последние необходимо перечислить,
A41: Главный инженер АО "Вологдаоблэнерго" А,В, Чурляев
A42: составляется самим предприятием с соблюдением всех пунктов настоящей таблицы,

Sheet 50
B1: АО "Вологдаоблэнерго" | J1: код 900151 | N1: ПС Поповка, ф, Привалино
B2: наименование предприятия | N2: наименование источника питания
N3: ТП-226
B4: ул, Горького, 99 | I4: Таблица № 1 | N4: ТП-257
B5: адрес
A6: почасовых записей показаний электрических счетчиков
A7: ='1'!A7:Q7 -> в режимный день 19 июня 2024 г.
A8: 1630 | B8: 1628
A9: часы суток | B9: Активная энергия | J9: Реактивная энергия
B10: =N3 -> ТП-226 | F10: =N4 -> ТП-257 | J10: =B10 -> ТП-226 | N10: =F10 -> ТП-257
B11: Расчет, Коэф, | E11: 30 | F11: Расчет, Коэф, | I11: 30 | J11: Расчет, Коэф, | M11: =E11 -> 30 | N11: Расчет, Коэф, | Q11: =I11 -> 30
B12: показания счетчика | C12: разность | E12: расход эл,энергии за час | F12: показания счетчика | G12: разность | I12: расход эл,энергии за час | J12: показания счетчика | K12: разность | M12: расход эл,энергии за час | N12: показания счетчика | O12: разность | Q12: расход эл,энергии за час
A13: 1 | B13: 2 | C13: 3 | E13: 4 | F13: 5 | G13: 6 | I13: 7 | J13: 8 | K13: 9 | M13: 10 | N13: 11 | O13: 12 | Q13: 13
A14: 00 - 01 | E14: 1.25847 | I14: 0.39294 | M14: 0 | Q14: 0
A15: 01 - 02 | E15: 1.78416 | I15: 0.60534 | M15: 0 | Q15: 0
A16: 02 - 03 | E16: 1.05138 | I16: 0.531 | M16: 0 | Q16: 0
A17: 03 - 04 | E17: 2.81961 | I17: 0.78588 | M17: 0 | Q17: 0
A18: 04 - 05 | E18: 3.186 | I18: 0.99828 | M18: 0 | Q18: 0
A19: 05 - 06 | E19: 2.83554 | I19: 0.6903 | M19: 0 | Q19: 0
A20: 06 - 07 | E20: 2.05497 | I20: 0.29736 | M20: 0 | Q20: 0
A21: 07 - 08 | E21: 1.76823 | I21: 0.32922 | M21: 0 | Q21: 0
A22: 08 - 09 | E22: 2.89926 | I22: 0.27612 | M22: 0 | Q22: 0
A23: 09 - 10 | E23: 2.29392 | I23: 0.23364 | M23: 0 | Q23: 0
A24: 10 - 11 | E24: 2.21427 | I24: 1.25847 | M24: 0 | Q24: 0
A25: 11 - 12 | E25: 1.29033 | I25: 1.78416 | M25: 0 | Q25: 0
... A37: 23 - 00 | E37: 4.50819 | I37: 0.43542 | M37: 0 | Q37: 0
A38: Итого | E38: =SUM(E14:E37) -> 71.0478 | I38: =SUM(I14:I37) -> 16.72119 | M38: =SUM(M14:M37) -> 0 | Q38: =SUM(Q14:Q37) -> 0
A39: 1, При наличии на предприятии отклонений от нормальных режимов электропотребления (временное изменение схем питания, остановка на ремонт, резкое снижение
A40: эл,потребления и т,д,) последние необходимо перечислить,
A41: Главный инженер АО "Вологдаоблэнерго" А,В, Чурляев
A42: составляется самим предприятием с соблюдением всех пунктов настоящей таблицы,

Sheet 51
B1: АО "Вологдаоблэнерго" | J1: код 900151 | N1: ПС Абаканово ф, Покров
B2: наименование предприятия | N2: наименование источника питания
N3: КТП Шухтовское Лесничество
B4: ул, Горького, 99 | I4: Таблица № 1
B5: адрес
A6: почасовых записей показаний электрических счетчиков
A7: ='1'!A7:Q7 -> в режимный день 19 июня 2024 г.
A8: 1630 | B8: 1628
A9: часы суток | B9: Активная энергия | J9: Реактивная энергия
B10: =N3 -> КТП Шухтовское Лесничество | F10: =N4 -> 0 | J10: =B10 -> КТП Шухтовское Лесничество | N10: =F10 -> 0
B11: Расчет, Коэф, | E11: 30 | F11: Расчет, Коэф, | I11: 120 | J11: Расчет, Коэф, | M11: =E11 -> 30 | N11: Расчет, Коэф, | Q11: =I11 -> 120
B12: показания счетчика | C12: разность | E12: расход эл,энергии за час | F12: показания счетчика | G12: разность | I12: расход эл,энергии за час | J12: показания счетчика | K12: разность | M12: расход эл,энергии за час | N12: показания счетчика | O12: разность | Q12: расход эл,энергии за час
A13: 1 | B13: 2 | C13: 3 | E13: 4 | F13: 5 | G13: 6 | I13: 7 | J13: 8 | K13: 9 | M13: 10 | N13: 11 | O13: 12 | Q13: 13
A14: 00 - 01 | E14: 0 | M14: 0
A15: 01 - 02 | E15: 0 | M15: 0
A16: 02 - 03 | E16: 0 | M16: 0
A17: 03 - 04 | E17: 0 | M17: 0
A18: 04 - 05 | E18: 0 | M18: 0
A19: 05 - 06 | E19: 0 | M19: 0
A20: 06 - 07 | E20: 0 | M20: 0
A21: 07 - 08 | E21: 0 | M21: 0
A22: 08 - 09 | E22: 0 | M22: 0
A23: 09 - 10 | E23: 0 | M23: 0
A24: 10 - 11 | E24: 0 | M24: 0
A25: 11 - 12 | E25: 0 | M25: 0
... A37: 23 - 00 | E37: 0 | M37: 0
A38: Итого | E38: =SUM(E14:E37) -> 0 | I38: =SUM(I14:I37) -> 0 | M38: =SUM(M14:M37) -> 0 | Q38: =SUM(Q14:Q37) -> 0
A39: 1, При наличии на предприятии отклонений от нормальных режимов электропотребления (временное изменение схем питания, остановка на ремонт, резкое снижение
A40: эл,потребления и т,д,) последние необходимо перечислить,
A41: Главный инженер АО "Вологдаоблэнерго" А,В, Чурляев
A42: составляется самим предприятием с соблюдением всех пунктов настоящей таблицы,

Sheet 52
B1: АО "Вологдаоблэнерго" | J1: код 900151 | N1: ПС Абаканово, ф, Маслово
B2: наименование предприятия | N2: наименование источника питания
N3: ТП-269
B4: ул, Горького, 99 | I4: Таблица № 1
B5: адрес
A6: почасовых записей показаний электрических счетчиков
A7: ='1'!A7:Q7 -> в режимный день 19 июня 2024 г. | AI7: 6.08 | AJ7: 6.12 | AK7: 6.2 | AL7: 6.48 | AM7: 12.48 | AN7: 13.24 | AO7: 12.12 | AP7: 8.48 | AQ7: 7.52
A8: 1630 | B8: 1628
A9: часы суток | B9: Активная энергия | J9: Реактивная энергия
B10: =N3 -> ТП-269 | F10: =N4 -> 0 | J10: =B10 -> ТП-269 | N10: =F10 -> 0
B11: Расчет, Коэф, | E11: 80 | F11: Расчет, Коэф, | I11: 120 | J11: Расчет, Коэф, | M11: =E11 -> 80 | N11: Расчет, Коэф, | Q11: =I11 -> 120
B12: показания счетчика | C12: разность | E12: расход эл,энергии за час | F12: показания счетчика | G12: разность | I12: расход эл,энергии за час | J12: показания счетчика | K12: разность | M12: расход эл,энергии за час | N12: показания счетчика | O12: разность | Q12: расход эл,энергии за час
A13: 1 | B13: 2 | C13: 3 | E13: 4 | F13: 5 | G13: 6 | I13: 7 | J13: 8 | K13: 9 | M13: 10 | N13: 11 | O13: 12 | Q13: 13
A14: 00 - 01 | E14: 11.4696 | M14: 0
A15: 01 - 02 | E15: 11.38464 | M15: 0
A16: 02 - 03 | E16: 11.29968 | M16: 0
A17: 03 - 04 | E17: 9.81288 | M17: 0
A18: 04 - 05 | E18: 9.00576 | M18: 0
A19: 05 - 06 | E19: 10.91736 | M19: 0
A20: 06 - 07 | E20: 12.65904 | M20: 0
A21: 07 - 08 | E21: 13.1688 | M21: 0
A22: 08 - 09 | E22: 11.21472 | M22: 0
A23: 09 - 10 | E23: 7.47648 | M23: 0
A24: 10 - 11 | E24: 13.25376 | M24: 0
A25: 11 - 12 | E25: 12.9564 | M25: 0
... A37: 23 - 00 | E37: 9.00576 | M37: 0
A38: Итого | E38: =SUM(E14:E37) -> 245.57688 | I38: =SUM(I14:I37) -> 0 | M38: =SUM(M14:M37) -> 0 | Q38: =SUM(Q14:Q37) -> 0
A39: 1, При наличии на предприятии отклонений от нормальных режимов электропотребления (временное изменение схем питания, остановка на ремонт, резкое снижение
A40: эл,потребления и т,д,) последние необходимо перечислить,
A41: Главный инженер АО "Вологдаоблэнерго" А,В, Чурляев
A42: составляется самим предприятием с соблюдением всех пунктов настоящей таблицы,

Sheet 53
B1: АО "Вологдаоблэнерго" | J1: код 900151 | N1: ПС Абаканово, ф,Шухободь
B2: наименование предприятия | N2: наименование источника питания
N3: ТП-227
B4: ул, Горького, 99 | I4: Таблица № 1
B5: адрес
A6: почасовых записей показаний электрических счетчиков
A7: ='1'!A7:Q7 -> в режимный день 19 июня 2024 г.
A8: 1630 | B8: 1628
A9: часы суток | B9: Активная энергия | J9: Реактивная энергия
B10: =N3 -> ТП-227 | F10: =N4 | J10: =B10 -> ТП-227 | N10: =F10
B11: Расчет, Коэф, | E11: 60 | F11: Расчет, Коэф, | I11: 120 | J11: Расчет, Коэф, | M11: =E11 -> 60 | N11: Расчет, Коэф, | Q11: =I11 -> 120
B12: показания счетчика | C12: разность | E12: расход эл,энергии за час | F12: показания счетчика | G12: разность | I12: расход эл,энергии за час | J12: показания счетчика | K12: разность | M12: расход эл,энергии за час | N12: показания счетчика | O12: разность | Q12: расход эл,энергии за час
A13: 1 | B13: 2 | C13: 3 | E13: 4 | F13: 5 | G13: 6 | I13: 7 | J13: 8 | K13: 9 | M13: 10 | N13: 11 | O13: 12 | Q13: 13
A14: 00 - 01 | E14: 3.35592 | M14: 0
A15: 01 - 02 | E15: 3.15684 | M15: 0
A16: 02 - 03 | E16: 3.07152 | M16: 0
A17: 03 - 04 | E17: 3.14262 | M17: 0
A18: 04 - 05 | E18: 3.14262 | M18: 0
A19: 05 - 06 | E19: 3.14262 | M19: 0
A20: 06 - 07 | E20: 2.9151 | M20: 0
A21: 07 - 08 | E21: 1.57842 | M21: 0
A22: 08 - 09 | E22: 1.16604 | M22: 0
A23: 09 - 10 | E23: 3.66876 | M23: 0
A24: 10 - 11 | E24: 3.555 | M24: 0
A25: 11 - 12 | E25: 3.02886 | M25: 0
... A37: 23 - 00 | E37: 4.56462 | M37: 0
A38: Итого | E38: =SUM(E14:E37) -> 91.3635 | I38: =SUM(I14:I37) -> 0 | M38: =SUM(M14:M37) -> 0 | Q38: =SUM(Q14:Q37) -> 0
A39: 1, При наличии на предприятии отклонений от нормальных режимов электропотребления (временное изменение схем питания, остановка на ремонт, резкое снижение
A40: эл,потребления и т,д,) последние необходимо перечислить,
A41: Главный инженер АО "Вологдаоблэнерго" А,В, Чурляев
A42: составляется самим предприятием с соблюдением всех пунктов настоящей таблицы,

Sheet 54
B1: АО "Вологдаоблэнерго" | J1: код 900151 | N1: ПС Искра, ф, Оросительная
B2: наименование предприятия | N2: наименование источника питания
N3: КТП-3 Сад №9 "ЧереповецАгроСтрой"
B4: ул, Горького, 99 | I4: Таблица № 1 | N4: КТП-2 Сад №1 "Аммофос"
B5: адрес
A6: почасовых записей показаний электрических счетчиков
A7: ='1'!A7:Q7 -> в режимный день 19 июня 2024 г.
A8: 1630 | B8: 1628
A9: часы суток | B9: Активная энергия | J9: Реактивная энергия
B10: =N3 -> КТП-3 Сад №9 "ЧереповецАгроСтрой" | F10: =N4 -> КТП-2 Сад №1 "Аммофос" | J10: =B10 -> КТП-3 Сад №9 "ЧереповецАгроСтрой" | N10: =F10 -> КТП-2 Сад №1 "Аммофос"
B11: Расчет, Коэф, | E11: 60 | F11: Расчет, Коэф, | I11: 120 | J11: Расчет, Коэф, | M11: =E11 -> 60 | N11: Расчет, Коэф, | Q11: =I11 -> 120
B12: показания счетчика | C12: разность | E12: расход эл,энергии за час | F12: показания счетчика | G12: разность | I12: расход эл,энергии за час | J12: показания счетчика | K12: разность | M12: расход эл,энергии за час | N12: показания счетчика | O12: разность | Q12: расход эл,энергии за час
A13: 1 | B13: 2 | C13: 3 | E13: 4 | F13: 5 | G13: 6 | I13: 7 | J13: 8 | K13: 9 | M13: 10 | N13: 11 | O13: 12 | Q13: 13
A14: 00 - 01 | E14: 33.67296 | I14: 90.95112 | M14: 0 | Q14: 0
A15: 01 - 02 | E15: 28.21248 | I15: 88.4484 | M15: 0 | Q15: 0
A16: 02 - 03 | E16: 24.6006 | I16: 82.13472 | M16: 0 | Q16: 0
A17: 03 - 04 | E17: 26.39232 | I17: 80.25768 | M17: 0 | Q17: 0
A18: 04 - 05 | E18: 30.80052 | I18: 83.72736 | M18: 0 | Q18: 0
A19: 05 - 06 | E19: 33.30324 | I19: 90.66672 | M19: 0 | Q19: 0
A20: 06 - 07 | E20: 37.71144 | I20: 96.24096 | M20: 0 | Q20: 0
A21: 07 - 08 | E21: 35.09496 | I21: 92.77128 | M21: 0 | Q21: 0
A22: 08 - 09 | E22: 33.30324 | I22: 84.01176 | M22: 0 | Q22: 0
A23: 09 - 10 | E23: 33.24636 | I23: 82.476 | M23: 0 | Q23: 0
A24: 10 - 11 | E24: 33.95736 | I24: 72.01008 | M24: 0 | Q24: 0
A25: 11 - 12 | E25: 31.36932 | I25: 63.76248 | M25: 0 | Q25: 0
... A37: 23 - 00 | E37: 41.60772 | I37: 89.75664 | M37: 0 | Q37: 0
A38: Итого | E38: =SUM(E14:E37) -> 756.67464 | I38: =SUM(I14:I37) -> 1914.2964 | M38: =SUM(M14:M37) -> 0 | Q38: =SUM(Q14:Q37) -> 0
A39: 1, При наличии на предприятии отклонений от нормальных режимов электропотребления (временное изменение схем питания, остановка на ремонт, резкое снижение
A40: эл,потребления и т,д,) последние необходимо перечислить,
A41: Главный инженер АО "Вологдаоблэнерго" А,В, Чурляев
A42: составляется самим предприятием с соблюдением всех пунктов настоящей таблицы,

Sheet 55
B1: АО "Вологдаоблэнерго" | J1: код 900151 | N1: ПС Искра, ф, Оросительная
B2: наименование предприятия | N2: наименование источника питания
N3: КТП-10 ЧМХС и №2 ЧСПЗ
B4: ул, Горького, 99 | I4: Таблица № 1 | N4: КТП Сад Вера
B5: адрес
A6: почасовых записей показаний электрических счетчиков
A7: ='1'!A7:Q7 -> в режимный день 19 июня 2024 г.
A8: 1630 | B8: 1628
A9: часы суток | B9: Активная энергия | J9: Реактивная энергия
B10: =N3 -> КТП-10 ЧМХС и №2 ЧСПЗ | F10: =N4 -> КТП Сад Вера | J10: =B10 -> КТП-10 ЧМХС и №2 ЧСПЗ | N10: =F10 -> КТП Сад Вера
B11: Расчет, Коэф, | E11: 80 | F11: Расчет, Коэф, | I11: 20 | J11: Расчет, Коэф, | M11: =E11 -> 80 | N11: Расчет, Коэф, | Q11: =I11 -> 20
B12: показания счетчика | C12: разность | E12: расход эл,энергии за час | F12: показания счетчика | G12: разность | I12: расход эл,энергии за час | J12: показания счетчика | K12: разность | M12: расход эл,энергии за час | N12: показания счетчика | O12: разность | Q12: расход эл,энергии за час
A13: 1 | B13: 2 | C13: 3 | E13: 4 | F13: 5 | G13: 6 | I13: 7 | J13: 8 | K13: 9 | M13: 10 | N13: 11 | O13: 12 | Q13: 13
A14: 00 - 01 | E14: 0 | I14: 9.63168 | M14: 0 | Q14: 0
A15: 01 - 02 | E15: 0 | I15: 8.79744 | M15: 0 | Q15: 0
A16: 02 - 03 | E16: 0 | I16: 9.25248 | M16: 0 | Q16: 0
A17: 03 - 04 | E17: 0 | I17: 9.70752 | M17: 0 | Q17: 0
A18: 04 - 05 | E18: 0 | I18: 9.25248 | M18: 0 | Q18: 0
A19: 05 - 06 | E19: 0 | I19: 10.54176 | M19: 0 | Q19: 0
A20: 06 - 07 | E20: 0 | I20: 14.56128 | M20: 0 | Q20: 0
A21: 07 - 08 | E21: 0 | I21: 19.56672 | M21: 0 | Q21: 0
A22: 08 - 09 | E22: 0 | I22: 17.89824 | M22: 0 | Q22: 0
A23: 09 - 10 | E23: 0 | I23: 19.41504 | M23: 0 | Q23: 0
A24: 10 - 11 | E24: 0 | I24: 20.40096 | M24: 0 | Q24: 0
A25: 11 - 12 | E25: 0 | I25: 20.17344 | M25: 0 | Q25: 0
... A37: 23 - 00 | E37: 0 | I37: 14.71296 | M37: 0 | Q37: 0
A38: Итого | E38: =SUM(E14:E37) -> 0 | I38: =SUM(I14:I37) -> 387.5424 | M38: =SUM(M14:M37) -> 0 | Q38: =SUM(Q14:Q37) -> 0
A39: 1, При наличии на предприятии отклонений от нормальных режимов электропотребления (временное изменение схем питания, остановка на ремонт, резкое снижение
A40: эл,потребления и т,д,) последние необходимо перечислить,
A41: Главный инженер АО "Вологдаоблэнерго" А,В, Чурляев
A42: составляется самим предприятием с соблюдением всех пунктов настоящей таблицы,

Sheet 56
B1: АО "Вологдаоблэнерго" | J1: код 900151 | N1: ПС Батран, ф,Льнозавод
B2: наименование предприятия | N2: наименование источника питания
N3: КТП-Льнозавод
B4: ул, Горького, 99 | I4: Таблица № 1 | N4: КТП-Детский сад
B5: адрес
A6: почасовых записей показаний электрических счетчиков
A7: ='1'!A7:Q7 -> в режимный день 19 июня 2024 г.
A8: 1630 | B8: 1628
A9: часы суток | B9: Активная энергия | J9: Реактивная энергия
B10: =N3 -> КТП-Льнозавод | F10: =N4 -> КТП-Детский сад | J10: =B10 -> КТП-Льнозавод | N10: =F10 -> КТП-Детский сад
B11: Расчет, Коэф, | E11: 120 | F11: Расчет, Коэф, | I11: 40 | J11: Расчет, Коэф, | M11: =E11 -> 120 | N11: Расчет, Коэф, | Q11: =I11 -> 40
B12: показания счетчика | C12: разность | E12: расход эл,энергии за час | F12: показания счетчика | G12: разность | I12: расход эл,энергии за час | J12: показания счетчика | K12: разность | M12: расход эл,энергии за час | N12: показания счетчика | O12: разность | Q12: расход эл,энергии за час
A13: 1 | B13: 2 | C13: 3 | E13: 4 | F13: 5 | G13: 6 | I13: 7 | J13: 8 | K13: 9 | M13: 10 | N13: 11 | O13: 12 | Q13: 13
A14: 00 - 01 | E14: 0 | I14: 27.26448 | M14: 0 | Q14: 0
A15: 01 - 02 | E15: 0 | I15: 24.57216 | M15: 0 | Q15: 0
A16: 02 - 03 | E16: 0 | I16: 25.52016 | M16: 0 | Q16: 0
A17: 03 - 04 | E17: 0 | I17: 24.42048 | M17: 0 | Q17: 0
A18: 04 - 05 | E18: 0 | I18: 25.29264 | M18: 0 | Q18: 0
A19: 05 - 06 | E19: 0 | I19: 25.93728 | M19: 0 | Q19: 0
A20: 06 - 07 | E20: 0 | I20: 32.53536 | M20: 0 | Q20: 0
A21: 07 - 08 | E21: 0 | I21: 34.24176 | M21: 0 | Q21: 0
A22: 08 - 09 | E22: 0 | I22: 36.32736 | M22: 0 | Q22: 0
A23: 09 - 10 | E23: 0 | I23: 32.15616 | M23: 0 | Q23: 0
A24: 10 - 11 | E24: 0 | I24: 27.71952 | M24: 0 | Q24: 0
A25: 11 - 12 | E25: 0 | I25: 29.0088 | M25: 0 | Q25: 0
... A37: 23 - 00 | E37: 0 | I37: 24.30672 | M37: 0 | Q37: 0
A38: Итого | E38: =SUM(E14:E37) -> 0 | I38: =SUM(I14:I37) -> 769.05552 | M38: =SUM(M14:M37) -> 0 | Q38: =SUM(Q14:Q37) -> 0
A39: 1, При наличии на предприятии отклонений от нормальных режимов электропотребления (временное изменение схем питания, остановка на ремонт, резкое снижение
A40: эл,потребления и т,д,) последние необходимо перечислить,
A41: Главный инженер АО "Вологдаоблэнерго" А,В, Чурляев
A42: составляется самим предприятием с соблюдением всех пунктов настоящей таблицы,

Sheet 57
B1: АО "Вологдаоблэнерго" | J1: код 900151 | N1: ПС Аксеново ф, Шалимово
B2: наименование предприятия | N2: наименование источника питания
N3: ТП-23 В-1
B4: ул, Горького, 99 | I4: Таблица № 1 | N4: КТП-Очистные
B5: адрес
A6: почасовых записей показаний электрических счетчиков
A7: ='1'!A7:Q7 -> в режимный день 19 июня 2024 г.
A8: 1630 | B8: 1628
A9: часы суток | B9: Активная энергия | J9: Реактивная энергия
B10: =N3 -> ТП-23 В-1 | F10: =N4 -> КТП-Очистные | J10: =B10 -> ТП-23 В-1 | N10: =F10 -> КТП-Очистные
B11: Расчет, Коэф, | E11: 120 | F11: Расчет, Коэф, | I11: 20 | J11: Расчет, Коэф, | M11: =E11 -> 120 | N11: Расчет, Коэф, | Q11: =I11 -> 20
B12: показания счетчика | C12: разность | E12: расход эл,энергии за час | F12: показания счетчика | G12: разность | I12: расход эл,энергии за час | J12: показания счетчика | K12: разность | M12: расход эл,энергии за час | N12: показания счетчика | O12: разность | Q12: расход эл,энергии за час
A13: 1 | B13: 2 | C13: 3 | E13: 4 | F13: 5 | G13: 6 | I13: 7 | J13: 8 | K13: 9 | M13: 10 | N13: 11 | O13: 12 | Q13: 13
A14: 00 - 01 | E14: 23.77584 | I14: 3.37488 | M14: 0 | Q14: 0
A15: 01 - 02 | E15: 22.1832 | I15: 3.4128 | M15: 0 | Q15: 0
A16: 02 - 03 | E16: 21.0456 | I16: 3.45072 | M16: 0 | Q16: 0
A17: 03 - 04 | E17: 18.88416 | I17: 3.45072 | M17: 0 | Q17: 0
A18: 04 - 05 | E18: 17.86032 | I18: 3.33696 | M18: 0 | Q18: 0
A19: 05 - 06 | E19: 17.40528 | I19: 3.4128 | M19: 0 | Q19: 0
A20: 06 - 07 | E20: 19.45296 | I20: 3.37488 | M20: 0 | Q20: 0
A21: 07 - 08 | E21: 23.20704 | I21: 4.24704 | M21: 0 | Q21: 0
A22: 08 - 09 | E22: 22.06944 | I22: 24.11712 | M22: 0 | Q22: 0
A23: 09 - 10 | E23: 21.27312 | I23: 48.95472 | M23: 0 | Q23: 0
A24: 10 - 11 | E24: 18.31536 | I24: 46.0728 | M24: 0 | Q24: 0
A25: 11 - 12 | E25: 19.22544 | I25: 53.80848 | M25: 0 | Q25: 0
... A37: 23 - 00 | E37: 22.06944 | I37: 3.37488 | M37: 0 | Q37: 0
A38: Итого | E38: =SUM(E14:E37) -> 487.34784 | I38: =SUM(I14:I37) -> 446.47008 | M38: =SUM(M14:M37) -> 0 | Q38: =SUM(Q14:Q37) -> 0
A39: 1, При наличии на предприятии отклонений от нормальных режимов электропотребления (временное изменение схем питания, остановка на ремонт, резкое снижение
A40: эл,потребления и т,д,) последние необходимо перечислить,
A41: Главный инженер АО "Вологдаоблэнерго" А,В, Чурляев
A42: составляется самим предприятием с соблюдением всех пунктов настоящей таблицы,

Sheet 58
B1: АО "Вологдаоблэнерго" | H1: код 900151 | K1: ПС Юрочкино, ф, Фоминское
B2: наименование предприятия | K2: наименование источника питания
K3: ТП-15
B4: ул, Горького, 99 | G4: Таблица № 1 | K4: ТП-23 В-2
B5: адрес
A6: почасовых записей показаний электрических счетчиков
A7: ='1'!A7:Q7 -> в режимный день 19 июня 2024 г.
A8: 1630 | B8: 1628
A9: часы суток | B9: Активная энергия | H9: Реактивная энергия
B10: =K3 -> ТП-15 | E10: =K4 -> ТП-23 В-2 | H10: =B10 -> ТП-15 | K10: =E10 -> ТП-23 В-2
B11: Расчет, Коэф, | D11: 40 | E11: Расчет, Коэф, | G11: 120 | H11: Расчет, Коэф, | J11: =D11 -> 40 | K11: Расчет, Коэф, | M11: =G11 -> 120
B12: показания счетчика | C12: разность | D12: расход эл,энергии за час | E12: показания счетчика | F12: разность | G12: расход эл,энергии за час | H12: показания счетчика | I12: разность | J12: расход эл,энергии за час | K12: показания счетчика | L12: разность | M12: расход эл,энергии за час
A13: 1 | B13: 2 | C13: 3 | D13: 4 | E13: 5 | F13: 6 | G13: 7 | H13: 8 | I13: 9 | J13: 10 | K13: 11 | L13: 12 | M13: 13
A14: 00 - 01 | D14: 3.37488 | G14: 0 | J14: 0 | M14: 0
A15: 01 - 02 | D15: 3.4128 | G15: 0 | J15: 0 | M15: 0
A16: 02 - 03 | D16: 3.45072 | G16: 0 | J16: 0 | M16: 0
A17: 03 - 04 | D17: 3.45072 | G17: 0 | J17: 0 | M17: 0
A18: 04 - 05 | D18: 3.33696 | G18: 0 | J18: 0 | M18: 0
A19: 05 - 06 | D19: 3.4128 | G19: 0 | J19: 0 | M19: 0
A20: 06 - 07 | D20: 3.37488 | G20: 0 | J20: 0 | M20: 0
A21: 07 - 08 | D21: 4.24704 | G21: 0 | J21: 0 | M21: 0
A22: 08 - 09 | D22: 24.11712 | G22: 0 | J22: 0 | M22: 0
A23: 09 - 10 | D23: 48.95472 | G23: 0 | J23: 0 | M23: 0
A24: 10 - 11 | D24: 46.0728 | G24: 0 | J24: 0 | M24: 0
A25: 11 - 12 | D25: 53.80848 | G25: 0 | J25: 0 | M25: 0
... A37: 23 - 00 | D37: 3.37488 | G37: 0 | J37: 0 | M37: 0
A38: Итого | D38: =SUM(D14:D37) -> 446.47008 | G38: =SUM(G14:G37) -> 0 | J38: =SUM(J14:J37) -> 0 | M38: =SUM(M14:M37) -> 0
A39: 1, При наличии на предприятии отклонений от нормальных режимов электропотребления (временное изменение схем питания, остановка на ремонт, резкое снижение
A40: эл,потребления и т,д,) последние необходимо перечислить,
A41: Главный инженер АО "Вологдаоблэнерго" А,В, Чурляев
A42: составляется самим предприятием с соблюдением всех пунктов настоящей таблицы,

Sheet 59
B1: АО "Вологдаоблэнерго" | I1: код 900151 | L1: ПС Домозерово, ф, Дом-2
B2: наименование предприятия | L2: наименование источника питания
L3: ТП-74
B4: ул, Горького, 99 | H4: Таблица № 1 | L4: ТП-СЗМК-2(не баланс)
B5: адрес
A6: почасовых записей показаний электрических счетчиков
A7: ='1'!A7:Q7 -> в режимный день 19 июня 2024 г.
A8: 1630 | B8: 1628
A9: часы суток | B9: Активная энергия | I9: Реактивная энергия
B10: =L3 -> ТП-74 | E10: =L4 -> ТП-СЗМК-2(не баланс) | I10: =B10 -> ТП-74 | L10: =E10 -> ТП-СЗМК-2(не баланс)
B11: Расчет, Коэф, | D11: 120 | E11: Расчет, Коэф, | H11: 200 | I11: Расчет, Коэф, | K11: =D11 -> 120 | L11: Расчет, Коэф, | N11: =H11 -> 200
B12: показания счетчика | C12: разность | D12: расход эл,энергии за час | E12: показания счетчика | F12: разность | H12: расход эл,энергии за час | I12: показания счетчика | J12: разность | K12: расход эл,энергии за час | L12: показания счетчика | M12: разность | N12: расход эл,энергии за час
A13: 1 | B13: 2 | C13: 3 | D13: 4 | E13: 5 | F13: 6 | H13: 7 | I13: 8 | J13: 9 | K13: 10 | L13: 11 | M13: 12 | N13: 13
A14: 00 - 01 | D14: 32.353344 | H14: 0 | K14: 0 | N14: 0
A15: 01 - 02 | D15: 31.73904 | H15: 0 | K15: 0 | N15: 0
A16: 02 - 03 | D16: 32.353344 | H16: 0 | K16: 0 | N16: 0
A17: 03 - 04 | D17: 33.058656 | H17: 0 | K17: 0 | N17: 0
A18: 04 - 05 | D18: 33.695712 | H18: 0 | K18: 0 | N18: 0
A19: 05 - 06 | D19: 34.878816 | H19: 0 | K19: 0 | N19: 0
A20: 06 - 07 | D20: 33.013152 | H20: 0 | K20: 0 | N20: 0
A21: 07 - 08 | D21: 36.835488 | H21: 0 | K21: 0 | N21: 0
A22: 08 - 09 | D22: 62.818272 | H22: 0 | K22: 0 | N22: 0
A23: 09 - 10 | D23: 71.008992 | H23: 0 | K23: 0 | N23: 0
A24: 10 - 11 | D24: 64.820448 | H24: 0 | K24: 0 | N24: 0
A25: 11 - 12 | D25: 58.904928 | H25: 0 | K25: 0 | N25: 0
... A37: 23 - 00 | D37: 35.015328 | H37: 0 | K37: 0 | N37: 0
A38: Итого | D38: =SUM(D14:D37) -> 1108.6367 | H38: =SUM(H14:H37) -> 0 | K38: =SUM(K14:K37) -> 0 | N38: =SUM(N14:N37) -> 0
A39: 1, При наличии на предприятии отклонений от нормальных режимов электропотребления (временное изменение схем питания, остановка на ремонт, резкое снижение
A40: эл,потребления и т,д,) последние необходимо перечислить,
A41: Главный инженер АО "Вологдаоблэнерго" А,В, Чурляев
A42: составляется самим предприятием с соблюдением всех пунктов настоящей таблицы,

Sheet 60
B1: АО "Вологдаоблэнерго" | H1: код 900151 | K1: ПС Енюково, ф,Борисово
B2: наименование предприятия | K2: наименование источника питания
K3: ТП-Ферма Фенево В-1
B4: ул, Горького, 99 | G4: Таблица № 1 | K4: ТП-Ферма Фенево В-2
B5: адрес
A6: почасовых записей показаний электрических счетчиков
A7: ='1'!A7:Q7 -> в режимный день 19 июня 2024 г.
A8: 1630 | B8: 1628
A9: часы суток | B9: Активная энергия | H9: Реактивная энергия
B10: =K3 -> ТП-Ферма Фенево В-1 | E10: =K4 -> ТП-Ферма Фенево В-2 | H10: =B10 -> ТП-Ферма Фенево В-1 | K10: =E10 -> ТП-Ферма Фенево В-2
B11: Расчет, Коэф, | D11: 200 | E11: Расчет, Коэф, | G11: 200 | H11: Расчет, Коэф, | J11: =D11 -> 200 | K11: Расчет, Коэф, | M11: =G11 -> 200
B12: показания счетчика | C12: разность | D12: расход эл,энергии за час | E12: показания счетчика | F12: разность | G12: расход эл,энергии за час | H12: показания счетчика | I12: разность | J12: расход эл,энергии за час | K12: показания счетчика | L12: разность | M12: расход эл,энергии за час
A13: 1 | B13: 2 | C13: 3 | D13: 4 | E13: 5 | F13: 6 | G13: 7 | H13: 8 | I13: 9 | J13: 10 | K13: 11 | L13: 12 | M13: 13
A14: 00 - 01 | D14: 13.5564 | G14: 15.0732 | J14: 0 | M14: 0
A15: 01 - 02 | D15: 14.5992 | G15: 10.0488 | J15: 0 | M15: 0
A16: 02 - 03 | D16: 14.1252 | G16: 21.0456 | J16: 0 | M16: 0
A17: 03 - 04 | D17: 16.59 | G17: 67.308 | J17: 0 | M17: 0
A18: 04 - 05 | D18: 33.5592 | G18: 70.3416 | J18: 0 | M18: 0
A19: 05 - 06 | D19: 45.8832 | G19: 62.6628 | J19: 0 | M19: 0
A20: 06 - 07 | D20: 40.1004 | G20: 29.5776 | J20: 0 | M20: 0
A21: 07 - 08 | D21: 34.7916 | G21: 37.446 | J21: 0 | M21: 0
A22: 08 - 09 | D22: 18.486 | G22: 33.654 | J22: 0 | M22: 0
A23: 09 - 10 | D23: 26.07 | G23: 32.8956 | J23: 0 | M23: 0
A24: 10 - 11 | D24: 20.7612 | G24: 18.1068 | J24: 0 | M24: 0
A25: 11 - 12 | D25: 24.3636 | G25: 32.706 | J25: 0 | M25: 0
... A37: 23 - 00 | D37: 20.856 | G37: 15.5472 | J37: 0 | M37: 0
A38: Итого | D38: =SUM(D14:D37) -> 595.344 | G38: =SUM(G14:G37) -> 864.8604 | J38: =SUM(J14:J37) -> 0 | M38: =SUM(M14:M37) -> 0
A39: 1, При наличии на предприятии отклонений от нормальных режимов электропотребления (временное изменение схем питания, остановка на ремонт, резкое снижение
A40: эл,потребления и т,д,) последние необходимо перечислить,
A41: Главный инженер АО "Вологдаоблэнерго" А,В, Чурляев
A42: составляется самим предприятием с соблюдением всех пунктов настоящей таблицы,

Sheet 61
B1: АО "Вологдаоблэнерго" | H1: код 900151 | K1: ПС Поповка, ф, Аннино
B2: наименование предприятия | K2: наименование источника питания
K3: ТП-376
B4: ул, Горького, 99 | G4: Таблица № 1
B5: адрес
A6: почасовых записей показаний электрических счетчиков
A7: ='1'!A7:Q7 -> в режимный день 19 июня 2024 г.
A8: 1630 | B8: 1628
A9: часы суток | B9: Активная энергия | H9: Реактивная энергия
B10: =K3 -> ТП-376 | E10: =K4 -> 0 | H10: =B10 -> ТП-376 | K10: =E10 -> 0
B11: Расчет, Коэф, | D11: 60 | E11: Расчет, Коэф, | G11: 120 | H11: Расчет, Коэф, | J11: =D11 -> 60 | K11: Расчет, Коэф, | M11: =G11 -> 120
B12: показания счетчика | C12: разность | D12: расход эл,энергии за час | E12: показания счетчика | F12: разность | G12: расход эл,энергии за час | H12: показания счетчика | I12: разность | J12: расход эл,энергии за час | K12: показания счетчика | L12: разность | M12: расход эл,энергии за час
A13: 1 | B13: 2 | C13: 3 | D13: 4 | E13: 5 | F13: 6 | G13: 7 | H13: 8 | I13: 9 | J13: 10 | K13: 11 | L13: 12 | M13: 13
A14: 00 - 01 | D14: 11.17692 | J14: 0
A15: 01 - 02 | D15: 10.35216 | J15: 0
A16: 02 - 03 | D16: 9.6696 | J16: 0
A17: 03 - 04 | D17: 9.92556 | J17: 0
A18: 04 - 05 | D18: 9.12924 | J18: 0
A19: 05 - 06 | D19: 9.69804 | J19: 0
A20: 06 - 07 | D20: 15.95484 | J20: 0
A21: 07 - 08 | D21: 14.70348 | J21: 0
A22: 08 - 09 | D22: 13.0824 | J22: 0
A23: 09 - 10 | D23: 11.34756 | J23: 0
A24: 10 - 11 | D24: 10.77876 | J24: 0
A25: 11 - 12 | D25: 12.05856 | J25: 0
... A37: 23 - 00 | D37: 16.0686 | J37: 0
A38: Итого | D38: =SUM(D14:D37) -> 290.25864 | G38: =SUM(G14:G37) -> 0 | J38: =SUM(J14:J37) -> 0 | M38: =SUM(M14:M37) -> 0
A39: 1, При наличии на предприятии отклонений от нормальных режимов электропотребления (временное изменение схем питания, остановка на ремонт, резкое снижение
A40: эл,потребления и т,д,) последние необходимо перечислить,
A41: Главный инженер АО "Вологдаоблэнерго" А,В, Чурляев
A42: составляется самим предприятием с соблюдением всех пунктов настоящей таблицы,

Sheet 62
B1: АО "Вологдаоблэнерго" | H1: код 900151 | K1: ПС Поповка, ф, Красково
B2: наименование предприятия | K2: наименование источника питания
K3: КТП-ЭСПА
B4: ул, Горького, 99 | G4: Таблица № 1 | K4: КТП-Ново-Дубровка
B5: адрес
A6: почасовых записей показаний электрических счетчиков
A7: ='1'!A7:Q7 -> в режимный день 19 июня 2024 г.
A8: 1630 | B8: 1628
A9: часы суток | B9: Активная энергия | H9: Реактивная энергия
B10: =K3 -> КТП-ЭСПА | E10: =K4 -> КТП-Ново-Дубровка | H10: =B10 -> КТП-ЭСПА | K10: =E10 -> КТП-Ново-Дубровка
B11: Расчет, Коэф, | D11: 20 | E11: Расчет, Коэф, | G11: 20 | H11: Расчет, Коэф, | J11: =D11 -> 20 | K11: Расчет, Коэф, | M11: =G11 -> 20
B12: показания счетчика | C12: разность | D12: расход эл,энергии за час | E12: показания счетчика | F12: разность | G12: расход эл,энергии за час | H12: показания счетчика | I12: разность | J12: расход эл,энергии за час | K12: показания счетчика | L12: разность | M12: расход эл,энергии за час
A13: 1 | B13: 2 | C13: 3 | D13: 4 | E13: 5 | F13: 6 | G13: 7 | H13: 8 | I13: 9 | J13: 10 | K13: 11 | L13: 12 | M13: 13
A14: 00 - 01 | D14: 0.63 | G14: 0 | J14: 0 | M14: 0
A15: 01 - 02 | D15: 0.62 | G15: 0 | J15: 0 | M15: 0
A16: 02 - 03 | D16: 0.62 | G16: 0 | J16: 0 | M16: 0
A17: 03 - 04 | D17: 0.63 | G17: 0 | J17: 0 | M17: 0
A18: 04 - 05 | D18: 0.63 | G18: 0 | J18: 0 | M18: 0
A19: 05 - 06 | D19: 0.4 | G19: 0 | J19: 0 | M19: 0
A20: 06 - 07 | D20: 0.04 | G20: 0 | J20: 0 | M20: 0
A21: 07 - 08 | D21: 0 | G21: 0 | J21: 0 | M21: 0
A22: 08 - 09 | D22: 0.04 | G22: 0 | J22: 0 | M22: 0
A23: 09 - 10 | D23: 0.03 | G23: 0 | J23: 0 | M23: 0
A24: 10 - 11 | D24: 0.03 | G24: 0 | J24: 0 | M24: 0
A25: 11 - 12 | D25: 0.04 | G25: 0 | J25: 0 | M25: 0
... A37: 23 - 00 | D37: 0.62 | G37: 0 | J37: 0 | M37: 0
A38: Итого | D38: =SUM(D14:D37) -> 5.14 | G38: =SUM(G14:G37) -> 0 | J38: =SUM(J14:J37) -> 0 | M38: =SUM(M14:M37) -> 0
A39: 1, При наличии на предприятии отклонений от нормальных режимов электропотребления (временное изменение схем питания, остановка на ремонт, резкое снижение
A40: эл,потребления и т,д,) последние необходимо перечислить,
A41: Главный инженер АО "Вологдаоблэнерго" А,В, Чурляев
A42: составляется самим предприятием с соблюдением всех пунктов настоящей таблицы,

Sheet 63
B1: АО "Вологдаоблэнерго" | H1: код 900151 | K1: ПС Поповка, ф, Красково
B2: наименование предприятия | K2: наименование источника питания
K3: КТП-Козлово-2
B4: ул, Горького, 99 | G4: Таблица № 1 | K4: ТП-319
B5: адрес
A6: почасовых записей показаний электрических счетчиков
A7: ='1'!A7:Q7 -> в режимный день 19 июня 2024 г.
A8: 1630 | B8: 1628
A9: часы суток | B9: Активная энергия | H9: Реактивная энергия
B10: =K3 -> КТП-Козлово-2 | E10: =K4 -> ТП-319 | H10: =B10 -> КТП-Козлово-2 | K10: =E10 -> ТП-319
B11: Расчет, Коэф, | D11: 60 | E11: Расчет, Коэф, | G11: 30 | H11: Расчет, Коэф, | J11: =D11 -> 60 | K11: Расчет, Коэф, | M11: =G11 -> 30
B12: показания счетчика | C12: разность | D12: расход эл,энергии за час | E12: показания счетчика | F12: разность | G12: расход эл,энергии за час | H12: показания счетчика | I12: разность | J12: расход эл,энергии за час | K12: показания счетчика | L12: разность | M12: расход эл,энергии за час
A13: 1 | B13: 2 | C13: 3 | D13: 4 | E13: 5 | F13: 6 | G13: 7 | H13: 8 | I13: 9 | J13: 10 | K13: 11 | L13: 12 | M13: 13
A14: 00 - 01 | D14: 8.75952 | G14: 0 | J14: 0 | M14: 0
A15: 01 - 02 | D15: 9.17664 | G15: 0 | J15: 0 | M15: 0
A16: 02 - 03 | D16: 6.636 | G16: 0 | J16: 0 | M16: 0
A17: 03 - 04 | D17: 6.78768 | G17: 0 | J17: 0 | M17: 0
A18: 04 - 05 | D18: 7.69776 | G18: 0 | J18: 0 | M18: 0
A19: 05 - 06 | D19: 8.03904 | G19: 0 | J19: 0 | M19: 0
A20: 06 - 07 | D20: 7.05312 | G20: 0 | J20: 0 | M20: 0
A21: 07 - 08 | D21: 5.61216 | G21: 0 | J21: 0 | M21: 0
A22: 08 - 09 | D22: 7.88736 | G22: 0 | J22: 0 | M22: 0
A23: 09 - 10 | D23: 9.2904 | G23: 0 | J23: 0 | M23: 0
A24: 10 - 11 | D24: 10.16256 | G24: 0 | J24: 0 | M24: 0
A25: 11 - 12 | D25: 7.09104 | G25: 0 | J25: 0 | M25: 0
... A37: 23 - 00 | D37: 9.55584 | G37: 0 | J37: 0 | M37: 0
A38: Итого | D38: =SUM(D14:D37) -> 189.52416 | G38: =SUM(G14:G37) -> 0 | J38: =SUM(J14:J37) -> 0 | M38: =SUM(M14:M37) -> 0
A39: 1, При наличии на предприятии отклонений от нормальных режимов электропотребления (временное изменение схем питания, остановка на ремонт, резкое снижение
A40: эл,потребления и т,д,) последние необходимо перечислить,
A41: Главный инженер АО "Вологдаоблэнерго" А,В, Чурляев
A42: составляется самим предприятием с соблюдением всех пунктов настоящей таблицы,

Sheet 64
B1: АО "Вологдаоблэнерго" | H1: код 900151 | K1: ПС Петринево, ф,Надпорожье
B2: наименование предприятия | K2: наименование источника питания
K3: КТП-Броды
B4: ул, Горького, 99 | G4: Таблица № 1 | K4: КТП-100 дачи "Водник"
B5: адрес
A6: почасовых записей показаний электрических счетчиков
A7: ='1'!A7:Q7 -> в режимный день 19 июня 2024 г.
A8: 1630 | B8: 1628
A9: часы суток | B9: Активная энергия | H9: Реактивная энергия
B10: =K3 -> КТП-Броды | E10: =K4 -> КТП-100 дачи "Водник" | H10: =B10 -> КТП-Броды | K10: =E10 -> КТП-100 дачи "Водник"
B11: Расчет, Коэф, | D11: 30 | E11: Расчет, Коэф, | G11: 40 | H11: Расчет, Коэф, | J11: =D11 -> 30 | K11: Расчет, Коэф, | M11: =G11 -> 40
B12: показания счетчика | C12: разность | D12: расход эл,энергии за час | E12: показания счетчика | F12: разность | G12: расход эл,энергии за час | H12: показания счетчика | I12: разность | J12: расход эл,энергии за час | K12: показания счетчика | L12: разность | M12: расход эл,энергии за час
A13: 1 | B13: 2 | C13: 3 | D13: 4 | E13: 5 | F13: 6 | G13: 7 | H13: 8 | I13: 9 | J13: 10 | K13: 11 | L13: 12 | M13: 13
A14: 00 - 01 | D14: 8.6031 | G14: 6.35634 | J14: 0 | M14: 0
A15: 01 - 02 | D15: 6.5412 | G15: 5.58846 | J15: 0 | M15: 0
A16: 02 - 03 | D16: 5.4036 | G16: 5.98662 | J16: 0 | M16: 0
A17: 03 - 04 | D17: 4.87746 | G17: 5.44626 | J17: 0 | M17: 0
A18: 04 - 05 | D18: 3.37014 | G18: 5.03388 | J18: 0 | M18: 0
A19: 05 - 06 | D19: 4.32288 | G19: 4.23756 | J19: 0 | M19: 0
A20: 06 - 07 | D20: 4.08114 | G20: 4.77792 | J20: 0 | M20: 0
A21: 07 - 08 | D21: 7.2522 | G21: 6.58386 | J21: 0 | M21: 0
A22: 08 - 09 | D22: 8.07696 | G22: 9.00126 | J22: 0 | M22: 0
A23: 09 - 10 | D23: 6.42744 | G23: 9.15768 | J23: 0 | M23: 0
A24: 10 - 11 | D24: 6.48432 | G24: 6.14304 | J24: 0 | M24: 0
A25: 11 - 12 | D25: 7.13844 | G25: 7.19532 | J25: 0 | M25: 0
... A37: 23 - 00 | D37: 8.11962 | G37: 5.94396 | J37: 0 | M37: 0
A38: Итого | D38: =SUM(D14:D37) -> 174.59316 | G38: =SUM(G14:G37) -> 166.68684 | J38: =SUM(J14:J37) -> 0 | M38: =SUM(M14:M37) -> 0
A39: 1, При наличии на предприятии отклонений от нормальных режимов электропотребления (временное изменение схем питания, остановка на ремонт, резкое снижение
A40: эл,потребления и т,д,) последние необходимо перечислить,
A41: Главный инженер АО "Вологдаоблэнерго" А,В, Чурляев
A42: составляется самим предприятием с соблюдением всех пунктов настоящей таблицы,

Sheet 65
B1: АО "Вологдаоблэнерго" | H1: код 900151 | K1: ПС Петринево, ф,Надпорожье
B2: наименование предприятия | K2: наименование источника питания
K3: КТП-Сад№11 ЧМХС
B4: ул, Горького, 99 | G4: Таблица № 1
B5: адрес
A6: почасовых записей показаний электрических счетчиков
A7: ='1'!A7:Q7 -> в режимный день 19 июня 2024 г.
A8: 1630 | B8: 1628 | AC8: 5.1 | AD8: 5.56 | AE8: 5.61 | AF8: 6.52 | AG8: 5.32 | AH8: 6.5 | AI8: 7.66 | AJ8: 9.42 | AK8: 10.44 | AL8: 11.09 | AM8: 8.51
A9: часы суток | B9: Активная энергия | H9: Реактивная энергия
B10: =K3 -> КТП-Сад№11 ЧМХС | E10: =K4 -> 0 | H10: =B10 -> КТП-Сад№11 ЧМХС | K10: =E10 -> 0
B11: Расчет, Коэф, | D11: 20 | E11: Расчет, Коэф, | G11: 120 | H11: Расчет, Коэф, | J11: =D11 -> 20 | K11: Расчет, Коэф, | M11: =G11 -> 120
B12: показания счетчика | C12: разность | D12: расход эл,энергии за час | E12: показания счетчика | F12: разность | G12: расход эл,энергии за час | H12: показания счетчика | I12: разность | J12: расход эл,энергии за час | K12: показания счетчика | L12: разность | M12: расход эл,энергии за час
A13: 1 | B13: 2 | C13: 3 | D13: 4 | E13: 5 | F13: 6 | G13: 7 | H13: 8 | I13: 9 | J13: 10 | K13: 11 | L13: 12 | M13: 13
A14: 00 - 01 | D14: 4.99596 | J14: 0
A15: 01 - 02 | D15: 5.03388 | J15: 0
A16: 02 - 03 | D16: 4.63572 | J16: 0
A17: 03 - 04 | D17: 4.77792 | J17: 0
A18: 04 - 05 | D18: 4.68312 | J18: 0
A19: 05 - 06 | D19: 5.80176 | J19: 0
A20: 06 - 07 | D20: 5.60268 | J20: 0
A21: 07 - 08 | D21: 6.19992 | J21: 0
A22: 08 - 09 | D22: 6.71184 | J22: 0
A23: 09 - 10 | D23: 6.84456 | J23: 0
A24: 10 - 11 | D24: 8.27604 | J24: 0
A25: 11 - 12 | D25: 7.31856 | J25: 0
... A37: 23 - 00 | D37: 8.06748 | J37: 0
A38: Итого | D38: =SUM(D14:D37) -> 154.0974 | G38: =SUM(G14:G37) -> 0 | J38: =SUM(J14:J37) -> 0 | M38: =SUM(M14:M37) -> 0
A39: 1, При наличии на предприятии отклонений от нормальных режимов электропотребления (временное изменение схем питания, остановка на ремонт, резкое снижение
A40: эл,потребления и т,д,) последние необходимо перечислить,
A41: Главный инженер АО "Вологдаоблэнерго" А,В, Чурляев
A42: составляется самим предприятием с соблюдением всех пунктов настоящей таблицы,

Sheet 66
B1: АО "Вологдаоблэнерго" | H1: код 900151 | K1: ПС Енюково, ф, Яганово
B2: наименование предприятия | K2: наименование источника питания
K3: КТП-КЗС-2
B4: ул, Горького, 99 | G4: Таблица № 1
B5: адрес
A6: почасовых записей показаний электрических счетчиков
A7: ='1'!A7:Q7 -> в режимный день 19 июня 2024 г.
A8: 1630 | B8: 1628
A9: часы суток | B9: Активная энергия | H9: Реактивная энергия
B10: =K3 -> КТП-КЗС-2 | E10: =K4 -> 0 | H10: =B10 -> КТП-КЗС-2 | K10: =E10 -> 0
B11: Расчет, Коэф, | D11: 80 | E11: Расчет, Коэф, | G11: 120 | H11: Расчет, Коэф, | J11: =D11 -> 80 | K11: Расчет, Коэф, | M11: =G11 -> 120
B12: показания счетчика | C12: разность | D12: расход эл,энергии за час | E12: показания счетчика | F12: разность | G12: расход эл,энергии за час | H12: показания счетчика | I12: разность | J12: расход эл,энергии за час | K12: показания счетчика | L12: разность | M12: расход эл,энергии за час
A13: 1 | B13: 2 | C13: 3 | D13: 4 | E13: 5 | F13: 6 | G13: 7 | H13: 8 | I13: 9 | J13: 10 | K13: 11 | L13: 12 | M13: 13
A14: 00 - 01 | D14: 3.9816 | J14: 0
A15: 01 - 02 | D15: 3.75408 | J15: 0
A16: 02 - 03 | D16: 3.64032 | J16: 0
A17: 03 - 04 | D17: 3.67824 | J17: 0
A18: 04 - 05 | D18: 3.64032 | J18: 0
A19: 05 - 06 | D19: 3.792 | J19: 0
A20: 06 - 07 | D20: 3.82992 | J20: 0
A21: 07 - 08 | D21: 4.01952 | J21: 0
A22: 08 - 09 | D22: 3.9816 | J22: 0
A23: 09 - 10 | D23: 4.28496 | J23: 0
A24: 10 - 11 | D24: 4.1712 | J24: 0
A25: 11 - 12 | D25: 4.39872 | J25: 0
... A37: 23 - 00 | D37: 4.20912 | J37: 0
A38: Итого | D38: =SUM(D14:D37) -> 103.02864 | G38: =SUM(G14:G37) -> 0 | J38: =SUM(J14:J37) -> 0 | M38: =SUM(M14:M37) -> 0
A39: 1, При наличии на предприятии отклонений от нормальных режимов электропотребления (временное изменение схем питания, остановка на ремонт, резкое снижение
A40: эл,потребления и т,д,) последние необходимо перечислить,
A41: Главный инженер АО "Вологдаоблэнерго" А,В, Чурляев
A42: составляется самим предприятием с соблюдением всех пунктов настоящей таблицы,

Sheet 67
B1: АО "Вологдаоблэнерго" | H1: код 900151 | K1: ПС Климовская, ф,Лохта
B2: наименование предприятия | K2: наименование источника питания
K3: КТПН-400 Животноводческий комплекс
B4: ул, Горького, 99 | G4: Таблица № 1 | K4: КТП-Деревня
B5: адрес
A6: почасовых записей показаний электрических счетчиков
A7: ='1'!A7:Q7 -> в режимный день 19 июня 2024 г.
A8: 1630 | B8: 1628
A9: часы суток | B9: Активная энергия | H9: Реактивная энергия
B10: =K3 -> КТПН-400 Животноводческий комплекс | E10: =K4 -> КТП-Деревня | H10: =B10 -> КТПН-400 Животноводческий комплекс | K10: =E10 -> КТП-Деревня
B11: Расчет, Коэф, | D11: 120 | E11: Расчет, Коэф, | G11: 120 | H11: Расчет, Коэф, | J11: =D11 -> 120 | K11: Расчет, Коэф, | M11: =G11 -> 120
B12: показания счетчика | C12: разность | D12: расход эл,энергии за час | E12: показания счетчика | F12: разность | G12: расход эл,энергии за час | H12: показания счетчика | I12: разность | J12: расход эл,энергии за час | K12: показания счетчика | L12: разность | M12: расход эл,энергии за час
A13: 1 | B13: 2 | C13: 3 | D13: 4 | E13: 5 | F13: 6 | G13: 7 | H13: 8 | I13: 9 | J13: 10 | K13: 11 | L13: 12 | M13: 13
A14: 00 - 01 | D14: 56.73996 | J14: 0
A15: 01 - 02 | D15: 56.73996 | J15: 0
A16: 02 - 03 | D16: 83.2032 | J16: 0
A17: 03 - 04 | D17: 88.17228 | J17: 0
A18: 04 - 05 | D18: 116.25336 | J18: 0
A19: 05 - 06 | D19: 145.14336 | J19: 0
A20: 06 - 07 | D20: 120.87576 | J20: 0
A21: 07 - 08 | D21: 123.53364 | J21: 0
A22: 08 - 09 | D22: 103.07952 | J22: 0
A23: 09 - 10 | D23: 92.448 | J23: 0
A24: 10 - 11 | D24: 97.30152 | J24: 0
A25: 11 - 12 | D25: 84.58992 | J25: 0
... A37: 23 - 00 | D37: 64.25136 | J37: 0
A38: Итого | D38: =SUM(D14:D37) -> 2279.0743 | G38: =SUM(G14:G37) -> 0 | J38: =SUM(J14:J37) -> 0 | M38: =SUM(M14:M37) -> 0
A39: 1, При наличии на предприятии отклонений от нормальных режимов электропотребления (временное изменение схем питания, остановка на ремонт, резкое снижение
A40: эл,потребления и т,д,) последние необходимо перечислить,
A41: Главный инженер АО "Вологдаоблэнерго" А,В, Чурляев
A42: составляется самим предприятием с соблюдением всех пунктов настоящей таблицы,

Sheet 68
B1: АО "Вологдаоблэнерго" | H1: код 900151 | K1: ПС Енюково ф, Соболево
B2: наименование предприятия | K2: наименование источника питания
K3: ТП-323
B4: ул, Горького, 99 | G4: Таблица № 1
B5: адрес
A6: почасовых записей показаний электрических счетчиков
A7: ='1'!A7:Q7 -> в режимный день 19 июня 2024 г.
A8: 1630 | B8: 1628
A9: часы суток | B9: Активная энергия | H9: Реактивная энергия
B10: =K3 -> ТП-323 | E10: =K4 -> 0 | H10: =B10 -> ТП-323 | K10: =E10 -> 0
B11: Расчет, Коэф, | D11: 20 | E11: Расчет, Коэф, | G11: 120 | H11: Расчет, Коэф, | J11: =D11 -> 20 | K11: Расчет, Коэф, | M11: =G11 -> 120
B12: показания счетчика | C12: разность | D12: расход эл,энергии за час | E12: показания счетчика | F12: разность | G12: расход эл,энергии за час | H12: показания счетчика | I12: разность | J12: расход эл,энергии за час | K12: показания счетчика | L12: разность | M12: расход эл,энергии за час
A13: 1 | B13: 2 | C13: 3 | D13: 4 | E13: 5 | F13: 6 | G13: 7 | H13: 8 | I13: 9 | J13: 10 | K13: 11 | L13: 12 | M13: 13
A14: 00 - 01 | D14: 5.46984 | J14: 0
A15: 01 - 02 | D15: 5.15205 | J15: 0
A16: 02 - 03 | D16: 5.1039 | J16: 0
A17: 03 - 04 | D17: 1.14597 | J17: 0
A18: 04 - 05 | D18: 0.47187 | J18: 0
A19: 05 - 06 | D19: 0.51039 | J19: 0
A20: 06 - 07 | D20: 0.51039 | J20: 0
A21: 07 - 08 | D21: 4.21794 | J21: 0
A22: 08 - 09 | D22: 5.51799 | J22: 0
A23: 09 - 10 | D23: 5.32539 | J23: 0
A24: 10 - 11 | D24: 4.97871 | J24: 0
A25: 11 - 12 | D25: 5.02686 | J25: 0
... A37: 23 - 00 | D37: 5.26761 | J37: 0
A38: Итого | D38: =SUM(D14:D37) -> 107.92823 | G38: =SUM(G14:G37) -> 0 | J38: =SUM(J14:J37) -> 0 | M38: =SUM(M14:M37) -> 0
A39: 1, При наличии на предприятии отклонений от нормальных режимов электропотребления (временное изменение схем питания, остановка на ремонт, резкое снижение
A40: эл,потребления и т,д,) последние необходимо перечислить,
A41: Главный инженер АО "Вологдаоблэнерго" А,В, Чурляев
A42: составляется самим предприятием с соблюдением всех пунктов настоящей таблицы,

Sheet 69
B1: АО "Вологдаоблэнерго" | H1: код 900151 | K1: ПС Поповка, ф,Привалино
B2: наименование предприятия | K2: наименование источника питания
K3: КТП-Поселок Поповка
B4: ул, Горького, 99 | G4: Таблица № 1
B5: адрес
A6: почасовых записей показаний электрических счетчиков
A7: ='1'!A7:Q7 -> в режимный день 19 июня 2024 г.
A8: 1630 | B8: 1628
A9: часы суток | B9: Активная энергия | H9: Реактивная энергия
B10: =K3 -> КТП-Поселок Поповка | E10: =K4 -> 0 | H10: =B10 -> КТП-Поселок Поповка | K10: =E10 -> 0
B11: Расчет, Коэф, | D11: 40 | E11: Расчет, Коэф, | G11: 120 | H11: Расчет, Коэф, | J11: =D11 -> 40 | K11: Расчет, Коэф, | M11: =G11 -> 120
B12: показания счетчика | C12: разность | D12: расход эл,энергии за час | E12: показания счетчика | F12: разность | G12: расход эл,энергии за час | H12: показания счетчика | I12: разность | J12: расход эл,энергии за час | K12: показания счетчика | L12: разность | M12: расход эл,энергии за час
A13: 1 | B13: 2 | C13: 3 | D13: 4 | E13: 5 | F13: 6 | G13: 7 | H13: 8 | I13: 9 | J13: 10 | K13: 11 | L13: 12 | M13: 13
A14: 00 - 01 | D14: 13.40496 | J14: 0
A15: 01 - 02 | D15: 14.09832 | J15: 0
A16: 02 - 03 | D16: 12.82716 | J16: 0
A17: 03 - 04 | D17: 8.20476 | J17: 0
A18: 04 - 05 | D18: 7.8003 | J18: 0
A19: 05 - 06 | D19: 8.84034 | J19: 0
A20: 06 - 07 | D20: 12.36492 | J20: 0
A21: 07 - 08 | D21: 12.94272 | J21: 0
A22: 08 - 09 | D22: 17.56512 | J22: 0
A23: 09 - 10 | D23: 18.2007 | J23: 0
A24: 10 - 11 | D24: 26.23212 | J24: 0
A25: 11 - 12 | D25: 23.34312 | J25: 0
... A37: 23 - 00 | D37: 20.33856 | J37: 0
A38: Итого | D38: =SUM(D14:D37) -> 420.6384 | G38: =SUM(G14:G37) -> 0 | J38: =SUM(J14:J37) -> 0 | M38: =SUM(M14:M37) -> 0
A39: 1, При наличии на предприятии отклонений от нормальных режимов электропотребления (временное изменение схем питания, остановка на ремонт, резкое снижение
A40: эл,потребления и т,д,) последние необходимо перечислить,
A41: Главный инженер АО "Вологдаоблэнерго" А,В, Чурляев
A42: составляется самим предприятием с соблюдением всех пунктов настоящей таблицы,

Sheet 70
B1: АО "Вологдаоблэнерго" | H1: код 900151 | K1: ПС Загородная, ф,Парфеново
B2: наименование предприятия | K2: наименование источника питания
K3: ТП-69 (КТПН-23)
B4: ул, Горького, 99 | G4: Таблица № 1
B5: адрес
A6: почасовых записей показаний электрических счетчиков
A7: ='1'!A7:Q7 -> в режимный день 19 июня 2024 г.
A8: 1630 | B8: 1628
A9: часы суток | B9: Активная энергия | H9: Реактивная энергия
B10: =K3 -> ТП-69 (КТПН-23) | E10: =K4 -> 0 | H10: =B10 -> ТП-69 (КТПН-23) | K10: =E10 -> 0
B11: Расчет, Коэф, | D11: 20 | E11: Расчет, Коэф, | G11: 120 | H11: Расчет, Коэф, | J11: =D11 -> 20 | K11: Расчет, Коэф, | M11: =G11 -> 120
B12: показания счетчика | C12: разность | D12: расход эл,энергии за час | E12: показания счетчика | F12: разность | G12: расход эл,энергии за час | H12: показания счетчика | I12: разность | J12: расход эл,энергии за час | K12: показания счетчика | L12: разность | M12: расход эл,энергии за час
A13: 1 | B13: 2 | C13: 3 | D13: 4 | E13: 5 | F13: 6 | G13: 7 | H13: 8 | I13: 9 | J13: 10 | K13: 11 | L13: 12 | M13: 13
A14: 00 - 01 | D14: 0 | J14: 0
A15: 01 - 02 | D15: 0 | J15: 0
A16: 02 - 03 | D16: 0 | J16: 0
A17: 03 - 04 | D17: 0 | J17: 0
A18: 04 - 05 | D18: 0 | J18: 0
A19: 05 - 06 | D19: 0 | J19: 0
A20: 06 - 07 | D20: 0 | J20: 0
A21: 07 - 08 | D21: 0 | J21: 0
A22: 08 - 09 | D22: 0 | J22: 0
A23: 09 - 10 | D23: 0 | J23: 0
A24: 10 - 11 | D24: 0 | J24: 0
A25: 11 - 12 | D25: 0 | J25: 0
... A37: 23 - 00 | D37: 0 | J37: 0
A38: Итого | D38: =SUM(D14:D37) -> 0 | G38: =SUM(G14:G37) -> 0 | J38: =SUM(J14:J37) -> 0 | M38: =SUM(M14:M37) -> 0
A39: 1, При наличии на предприятии отклонений от нормальных режимов электропотребления (временное изменение схем питания, остановка на ремонт, резкое снижение
A40: эл,потребления и т,д,) последние необходимо перечислить,
A41: Главный инженер АО "Вологдаоблэнерго" А,В, Чурляев
A42: составляется самим предприятием с соблюдением всех пунктов настоящей таблицы,

Sheet 71
B1: АО "Вологдаоблэнерго" | H1: код 900151 | K1: ПС Нелазское, ф, к-сНелазское-1
B2: наименование предприятия | K2: наименование источника питания
K3: ТП-Мастерские Шулма
B4: ул, Горького, 99 | G4: Таблица № 1
B5: адрес
A6: почасовых записей показаний электрических счетчиков
A7: ='1'!A7:Q7 -> в режимный день 19 июня 2024 г.
A8: 1630 | B8: 1628
A9: часы суток | B9: Активная энергия | H9: Реактивная энергия
B10: =K3 -> ТП-Мастерские Шулма | E10: =K4 -> 0 | H10: =B10 -> ТП-Мастерские Шулма | K10: =E10 -> 0
B11: Расчет, Коэф, | D11: 60 | E11: Расчет, Коэф, | G11: 120 | H11: Расчет, Коэф, | J11: =D11 -> 60 | K11: Расчет, Коэф, | M11: =G11 -> 120
B12: показания счетчика | C12: разность | D12: расход эл,энергии за час | E12: показания счетчика | F12: разность | G12: расход эл,энергии за час | H12: показания счетчика | I12: разность | J12: расход эл,энергии за час | K12: показания счетчика | L12: разность | M12: расход эл,энергии за час
A13: 1 | B13: 2 | C13: 3 | D13: 4 | E13: 5 | F13: 6 | G13: 7 | H13: 8 | I13: 9 | J13: 10 | K13: 11 | L13: 12 | M13: 13
A14: 00 - 01 | D14: 0.83781 | J14: 0
A15: 01 - 02 | D15: 0.83781 | J15: 0
A16: 02 - 03 | D16: 3.14901 | J16: 0
A17: 03 - 04 | D17: 4.76685 | J17: 0
A18: 04 - 05 | D18: 4.68018 | J18: 0
A19: 05 - 06 | D19: 4.01571 | J19: 0
A20: 06 - 07 | D20: 0.75114 | J20: 0
A21: 07 - 08 | D21: 1.30005 | J21: 0
A22: 08 - 09 | D22: 1.79118 | J22: 0
A23: 09 - 10 | D23: 3.4668 | J23: 0
A24: 10 - 11 | D24: 2.62899 | J24: 0
A25: 11 - 12 | D25: 3.20679 | J25: 0
... A37: 23 - 00 | D37: 1.67562 | J37: 0
A38: Итого | D38: =SUM(D14:D37) -> 59.86008 | G38: =SUM(G14:G37) -> 0 | J38: =SUM(J14:J37) -> 0 | M38: =SUM(M14:M37) -> 0
A39: 1, При наличии на предприятии отклонений от нормальных режимов электропотребления (временное изменение схем питания, остановка на ремонт, резкое снижение
A40: эл,потребления и т,д,) последние необходимо перечислить,
A41: Главный инженер АО "Вологдаоблэнерго" А,В, Чурляев
A42: составляется самим предприятием с соблюдением всех пунктов настоящей таблицы,

Sheet 72
B1: АО "Вологдаоблэнерго" | H1: код 900151 | K1: ПС Нелазское, ф, Крутец
B2: наименование предприятия | K2: наименование источника питания
K3: КТП-Шулма, ул,Олимпийская
B4: ул, Горького, 99 | G4: Таблица № 1
B5: адрес
A6: почасовых записей показаний электрических счетчиков
A7: ='1'!A7:Q7 -> в режимный день 19 июня 2024 г.
A8: 1630 | B8: 1628
A9: часы суток | B9: Активная энергия | H9: Реактивная энергия
B10: =K3 -> КТП-Шулма, ул,Олимпийская | E10: =K4 -> 0 | H10: =B10 -> КТП-Шулма, ул,Олимпийская | K10: =E10 -> 0
B11: Расчет, Коэф, | D11: 60 | E11: Расчет, Коэф, | G11: 120 | H11: Расчет, Коэф, | J11: =D11 -> 60 | K11: Расчет, Коэф, | M11: =G11 -> 120
B12: показания счетчика | C12: разность | D12: расход эл,энергии за час | E12: показания счетчика | F12: разность | G12: расход эл,энергии за час | H12: показания счетчика | I12: разность | J12: расход эл,энергии за час | K12: показания счетчика | L12: разность | M12: расход эл,энергии за час
A13: 1 | B13: 2 | C13: 3 | D13: 4 | E13: 5 | F13: 6 | G13: 7 | H13: 8 | I13: 9 | J13: 10 | K13: 11 | L13: 12 | M13: 13
A14: 00 - 01 | D14: 21.00303 | J14: 0
A15: 01 - 02 | D15: 21.20526 | J15: 0
A16: 02 - 03 | D16: 17.18955 | J16: 0
A17: 03 - 04 | D17: 15.80283 | J17: 0
A18: 04 - 05 | D18: 15.80283 | J18: 0
A19: 05 - 06 | D19: 17.59401 | J19: 0
A20: 06 - 07 | D20: 19.67409 | J20: 0
A21: 07 - 08 | D21: 21.20526 | J21: 0
A22: 08 - 09 | D22: 19.99188 | J22: 0
A23: 09 - 10 | D23: 21.11859 | J23: 0
A24: 10 - 11 | D24: 20.16522 | J24: 0
A25: 11 - 12 | D25: 19.32741 | J25: 0
... A37: 23 - 00 | D37: 28.39887 | J37: 0
A38: Итого | D38: =SUM(D14:D37) -> 545.96322 | G38: =SUM(G14:G37) -> 0 | J38: =SUM(J14:J37) -> 0 | M38: =SUM(M14:M37) -> 0
A39: 1, При наличии на предприятии отклонений от нормальных режимов электропотребления (временное изменение схем питания, остановка на ремонт, резкое снижение
A40: эл,потребления и т,д,) последние необходимо перечислить,
A41: Главный инженер АО "Вологдаоблэнерго" А,В, Чурляев
A42: составляется самим предприятием с соблюдением всех пунктов настоящей таблицы,

Sheet 73
B1: АО "Вологдаоблэнерго" | H1: код 900151 | K1: ПС Домозерово, ф, Починок
B2: наименование предприятия | K2: наименование источника питания
K3: КТП-Бомк
B4: ул, Горького, 99 | G4: Таблица № 1
B5: адрес
A6: почасовых записей показаний электрических счетчиков
A7: ='1'!A7:Q7 -> в режимный день 19 июня 2024 г.
A8: 1630 | B8: 1628
A9: часы суток | B9: Активная энергия | H9: Реактивная энергия
B10: =K3 -> КТП-Бомк | E10: =K4 -> 0 | H10: =B10 -> КТП-Бомк | K10: =E10 -> 0
B11: Расчет, Коэф, | D11: 80 | E11: Расчет, Коэф, | G11: 120 | H11: Расчет, Коэф, | J11: =D11 -> 80 | K11: Расчет, Коэф, | M11: =G11 -> 120
B12: показания счетчика | C12: разность | D12: расход эл,энергии за час | E12: показания счетчика | F12: разность | G12: расход эл,энергии за час | H12: показания счетчика | I12: разность | J12: расход эл,энергии за час | K12: показания счетчика | L12: разность | M12: расход эл,энергии за час
A13: 1 | B13: 2 | C13: 3 | D13: 4 | E13: 5 | F13: 6 | G13: 7 | H13: 8 | I13: 9 | J13: 10 | K13: 11 | L13: 12 | M13: 13
A14: 00 - 01 | D14: 60.738336 | J14: 0
A15: 01 - 02 | D15: 73.865952 | J15: 0
A16: 02 - 03 | D16: 68.581008 | J16: 0
A17: 03 - 04 | D17: 64.451664 | J17: 0
A18: 04 - 05 | D18: 70.168032 | J18: 0
A19: 05 - 06 | D19: 63.080352 | J19: 0
A20: 06 - 07 | D20: 68.426928 | J20: 0
A21: 07 - 08 | D21: 80.04456 | J21: 0
A22: 08 - 09 | D22: 69.274368 | J22: 0
A23: 09 - 10 | D23: 60.692112 | J23: 0
A24: 10 - 11 | D24: 62.679744 | J24: 0
A25: 11 - 12 | D25: 75.65328 | J25: 0
... A37: 23 - 00 | D37: 85.545216 | J37: 0
A38: Итого | D38: =SUM(D14:D37) -> 1751.4582 | G38: =SUM(G14:G37) -> 0 | J38: =SUM(J14:J37) -> 0 | M38: =SUM(M14:M37) -> 0
A39: 1, При наличии на предприятии отклонений от нормальных режимов электропотребления (временное изменение схем питания, остановка на ремонт, резкое снижение
A40: эл,потребления и т,д,) последние необходимо перечислить,
A41: Главный инженер АО "Вологдаоблэнерго" А,В, Чурляев
A42: составляется самим предприятием с соблюдением всех пунктов настоящей таблицы,

Sheet 74
B1: АО "Вологдаоблэнерго" | H1: код 900151 | K1: ПС Батран, ф,Гоша
B2: наименование предприятия | K2: наименование источника питания
K3: КТП-ДНТ Ульяновский
B4: ул, Горького, 99 | G4: Таблица № 1
B5: адрес
A6: почасовых записей показаний электрических счетчиков
A7: ='1'!A7:Q7 -> в режимный день 19 июня 2024 г.
A8: 1630 | B8: 1628
A9: часы суток | B9: Активная энергия | H9: Реактивная энергия
B10: =K3 -> КТП-ДНТ Ульяновский | E10: =K4 -> 0 | H10: =B10 -> КТП-ДНТ Ульяновский | K10: =E10 -> 0
B11: Расчет, Коэф, | D11: 60 | E11: Расчет, Коэф, | G11: 120 | H11: Расчет, Коэф, | J11: =D11 -> 60 | K11: Расчет, Коэф, | M11: =G11 -> 120
B12: показания счетчика | C12: разность | D12: расход эл,энергии за час | E12: показания счетчика | F12: разность | G12: расход эл,энергии за час | H12: показания счетчика | I12: разность | J12: расход эл,энергии за час | K12: показания счетчика | L12: разность | M12: расход эл,энергии за час
A13: 1 | B13: 2 | C13: 3 | D13: 4 | E13: 5 | F13: 6 | G13: 7 | H13: 8 | I13: 9 | J13: 10 | K13: 11 | L13: 12 | M13: 13
A14: 00 - 01 | D14: 0 | J14: 0
A15: 01 - 02 | D15: 0 | J15: 0
A16: 02 - 03 | D16: 0 | J16: 0
A17: 03 - 04 | D17: 0 | J17: 0
A18: 04 - 05 | D18: 0 | J18: 0
A19: 05 - 06 | D19: 0 | J19: 0
A20: 06 - 07 | D20: 0 | J20: 0
A21: 07 - 08 | D21: 0 | J21: 0
A22: 08 - 09 | D22: 0 | J22: 0
A23: 09 - 10 | D23: 0 | J23: 0
A24: 10 - 11 | D24: 0 | J24: 0
A25: 11 - 12 | D25: 0 | J25: 0
... A37: 23 - 00 | D37: 0 | J37: 0
A38: Итого | D38: =SUM(D14:D37) -> 0 | G38: =SUM(G14:G37) -> 0 | J38: =SUM(J14:J37) -> 0 | M38: =SUM(M14:M37) -> 0
A39: 1, При наличии на предприятии отклонений от нормальных режимов электропотребления (временное изменение схем питания, остановка на ремонт, резкое снижение
A40: эл,потребления и т,д,) последние необходимо перечислить,
A41: Главный инженер АО "Вологдаоблэнерго" А,В, Чурляев
A42: составляется самим предприятием с соблюдением всех пунктов настоящей таблицы,

Sheet 75
B1: АО "Вологдаоблэнерго" | H1: код 900151 | K1: ПС Малечкино, ф,Котельная
B2: наименование предприятия | K2: наименование источника питания
K3: ТП-47 В-1
B4: ул, Горького, 99 | G4: Таблица № 1 | K4: ТП-47 В-2
B5: адрес
A6: почасовых записей показаний электрических счетчиков
A7: ='1'!A7:Q7 -> в режимный день 19 июня 2024 г.
A8: 1630 | B8: 1628
A9: часы суток | B9: Активная энергия | H9: Реактивная энергия
B10: =K3 -> ТП-47 В-1 | E10: =K4 -> ТП-47 В-2 | H10: =B10 -> ТП-47 В-1 | K10: =E10 -> ТП-47 В-2
B11: Расчет, Коэф, | D11: 120 | E11: Расчет, Коэф, | G11: 120 | H11: Расчет, Коэф, | J11: =D11 -> 120 | K11: Расчет, Коэф, | M11: =G11 -> 120
B12: показания счетчика | C12: разность | D12: расход эл,энергии за час | E12: показания счетчика | F12: разность | G12: расход эл,энергии за час | H12: показания счетчика | I12: разность | J12: расход эл,энергии за час | K12: показания счетчика | L12: разность | M12: расход эл,энергии за час
A13: 1 | B13: 2 | C13: 3 | D13: 4 | E13: 5 | F13: 6 | G13: 7 | H13: 8 | I13: 9 | J13: 10 | K13: 11 | L13: 12 | M13: 13
A14: 00 - 01 | D14: 0 | G14: 6.9336 | J14: 0 | M14: 0
A15: 01 - 02 | D15: 0 | G15: 6.841152 | J15: 0 | M15: 0
A16: 02 - 03 | D16: 0 | G16: 6.841152 | J16: 0 | M16: 0
A17: 03 - 04 | D17: 0 | G17: 6.58692 | J17: 0 | M17: 0
A18: 04 - 05 | D18: 0 | G18: 6.540696 | J18: 0 | M18: 0
A19: 05 - 06 | D19: 0 | G19: 6.58692 | J19: 0 | M19: 0
A20: 06 - 07 | D20: 0 | G20: 6.887376 | J20: 0 | M20: 0
A21: 07 - 08 | D21: 0 | G21: 6.794928 | J21: 0 | M21: 0
A22: 08 - 09 | D22: 0 | G22: 6.841152 | J22: 0 | M22: 0
A23: 09 - 10 | D23: 0 | G23: 6.12468 | J23: 0 | M23: 0
A24: 10 - 11 | D24: 0 | G24: 6.032232 | J24: 0 | M24: 0
A25: 11 - 12 | D25: 0 | G25: 6.771816 | J25: 0 | M25: 0
... A37: 23 - 00 | D37: 0 | G37: 9.429696 | J37: 0 | M37: 0
A38: Итого | D38: =SUM(D14:D37) -> 0 | G38: =SUM(G14:G37) -> 171.2137 | J38: =SUM(J14:J37) -> 0 | M38: =SUM(M14:M37) -> 0
A39: 1, При наличии на предприятии отклонений от нормальных режимов электропотребления (временное изменение схем питания, остановка на ремонт, резкое снижение
A40: эл,потребления и т,д,) последние необходимо перечислить,
A41: Главный инженер АО "Вологдаоблэнерго" А,В, Чурляев
A42: составляется самим предприятием с соблюдением всех пунктов настоящей таблицы,

Sheet 76
B1: АО "Вологдаоблэнерго" | H1: код 900151 | K1: ПС Малечкино, ф,Птицефабрика
B2: наименование предприятия | K2: наименование источника питания
K3: ТП-9 В-1
B4: ул, Горького, 99 | G4: Таблица № 1
B5: адрес
A6: почасовых записей показаний электрических счетчиков
A7: ='1'!A7:Q7 -> в режимный день 19 июня 2024 г.
A8: 1630 | B8: 1628
A9: часы суток | B9: Активная энергия | H9: Реактивная энергия
B10: =K3 -> ТП-9 В-1 | E10: =K4 -> 0 | H10: =B10 -> ТП-9 В-1 | K10: =E10 -> 0
B11: Расчет, Коэф, | D11: 40 | E11: Расчет, Коэф, | G11: 120 | H11: Расчет, Коэф, | J11: =D11 -> 40 | K11: Расчет, Коэф, | M11: =G11 -> 120
B12: показания счетчика | C12: разность | D12: расход эл,энергии за час | E12: показания счетчика | F12: разность | G12: расход эл,энергии за час | H12: показания счетчика | I12: разность | J12: расход эл,энергии за час | K12: показания счетчика | L12: разность | M12: расход эл,энергии за час
A13: 1 | B13: 2 | C13: 3 | D13: 4 | E13: 5 | F13: 6 | G13: 7 | H13: 8 | I13: 9 | J13: 10 | K13: 11 | L13: 12 | M13: 13
A14: 00 - 01 | D14: 0 | J14: 0
A15: 01 - 02 | D15: 0 | J15: 0
A16: 02 - 03 | D16: 0 | J16: 0
A17: 03 - 04 | D17: 0 | J17: 0
A18: 04 - 05 | D18: 0 | J18: 0
A19: 05 - 06 | D19: 0 | J19: 0
A20: 06 - 07 | D20: 0 | J20: 0
A21: 07 - 08 | D21: 0 | J21: 0
A22: 08 - 09 | D22: 0 | J22: 0
A23: 09 - 10 | D23: 0 | J23: 0
A24: 10 - 11 | D24: 0 | J24: 0
A25: 11 - 12 | D25: 0 | J25: 0
... A37: 23 - 00 | D37: 0 | J37: 0
A38: Итого | D38: =SUM(D14:D37) -> 0 | G38: =SUM(G14:G37) -> 0 | J38: =SUM(J14:J37) -> 0 | M38: =SUM(M14:M37) -> 0
A39: 1, При наличии на предприятии отклонений от нормальных режимов электропотребления (временное изменение схем питания, остановка на ремонт, резкое снижение
A40: эл,потребления и т,д,) последние необходимо перечислить,
A41: Главный инженер АО "Вологдаоблэнерго" А,В, Чурляев
A42: составляется самим предприятием с соблюдением всех пунктов настоящей таблицы,

Sheet 77
B1: АО "Вологдаоблэнерго" | H1: код 900151 | K1: ПС Малечкино, ф,Котельная
B2: наименование предприятия | K2: наименование источника питания
K3: ТП-9 В-2
B4: ул, Горького, 99 | G4: Таблица № 1
B5: адрес
A6: почасовых записей показаний электрических счетчиков
A7: ='1'!A7:Q7 -> в режимный день 19 июня 2024 г.
A8: 1630 | B8: 1628
A9: часы суток | B9: Активная энергия | H9: Реактивная энергия
B10: =K3 -> ТП-9 В-2 | E10: =K4 -> 0 | H10: =B10 -> ТП-9 В-2 | K10: =E10 -> 0
B11: Расчет, Коэф, | D11: 40 | E11: Расчет, Коэф, | G11: 120 | H11: Расчет, Коэф, | J11: =D11 -> 40 | K11: Расчет, Коэф, | M11: =G11 -> 120
B12: показания счетчика | C12: разность | D12: расход эл,энергии за час | E12: показания счетчика | F12: разность | G12: расход эл,энергии за час | H12: показания счетчика | I12: разность | J12: расход эл,энергии за час | K12: показания счетчика | L12: разность | M12: расход эл,энергии за час
A13: 1 | B13: 2 | C13: 3 | D13: 4 | E13: 5 | F13: 6 | G13: 7 | H13: 8 | I13: 9 | J13: 10 | K13: 11 | L13: 12 | M13: 13
A14: 00 - 01 | D14: 4.676328 | J14: 0
A15: 01 - 02 | D15: 4.553064 | J15: 0
A16: 02 - 03 | D16: 4.491432 | J16: 0
A17: 03 - 04 | D17: 5.300352 | J17: 0
A18: 04 - 05 | D18: 4.668624 | J18: 0
A19: 05 - 06 | D19: 6.186312 | J19: 0
A20: 06 - 07 | D20: 6.694776 | J20: 0
A21: 07 - 08 | D21: 8.304912 | J21: 0
A22: 08 - 09 | D22: 8.104608 | J22: 0
A23: 09 - 10 | D23: 8.597664 | J23: 0
A24: 10 - 11 | D24: 8.682408 | J24: 0
A25: 11 - 12 | D25: 7.619256 | J25: 0
... A37: 23 - 00 | D37: 5.754888 | J37: 0
A38: Итого | D38: =SUM(D14:D37) -> 154.71943 | G38: =SUM(G14:G37) -> 0 | J38: =SUM(J14:J37) -> 0 | M38: =SUM(M14:M37) -> 0
A39: 1, При наличии на предприятии отклонений от нормальных режимов электропотребления (временное изменение схем питания, остановка на ремонт, резкое снижение
A40: эл,потребления и т,д,) последние необходимо перечислить,
A41: Главный инженер АО "Вологдаоблэнерго" А,В, Чурляев
A42: составляется самим предприятием с соблюдением всех пунктов настоящей таблицы,

Sheet 78
B1: АО "Вологдаоблэнерго" | H1: код 900151 | K1: ПС Загородная, ф,Солнаское
B2: наименование предприятия | K2: наименование источника питания
K3: ТП Северо-Западный т,д,
B4: ул, Горького, 99 | G4: Таблица № 1 | K4: КТП- Мелиоводстрой
B5: адрес
A6: почасовых записей показаний электрических счетчиков
A7: ='1'!A7:Q7 -> в режимный день 19 июня 2024 г.
A8: 1630 | B8: 1628
A9: часы суток | B9: Активная энергия | H9: Реактивная энергия
B10: =K3 -> ТП Северо-Западный т,д, | E10: =K4 -> КТП- Мелиоводстрой | H10: =B10 -> ТП Северо-Западный т,д, | K10: =E10 -> КТП- Мелиоводстрой
B11: Расчет, Коэф, | D11: 120 | E11: Расчет, Коэф, | G11: 200 | H11: Расчет, Коэф, | J11: =D11 -> 120 | K11: Расчет, Коэф, | M11: =G11 -> 200
B12: показания счетчика | C12: разность | D12: расход эл,энергии за час | E12: показания счетчика | F12: разность | G12: расход эл,энергии за час | H12: показания счетчика | I12: разность | J12: расход эл,энергии за час | K12: показания счетчика | L12: разность | M12: расход эл,энергии за час
A13: 1 | B13: 2 | C13: 3 | D13: 4 | E13: 5 | F13: 6 | G13: 7 | H13: 8 | I13: 9 | J13: 10 | K13: 11 | L13: 12 | M13: 13
A14: 00 - 01 | D14: 3.87126 | G14: 66.56256 | J14: 0 | M14: 0
A15: 01 - 02 | D15: 3.52458 | G15: 64.86768 | J15: 0 | M15: 0
A16: 02 - 03 | D16: 3.12012 | G16: 56.97108 | J16: 0 | M16: 0
A17: 03 - 04 | D17: 3.12012 | G17: 46.18548 | J17: 0 | M17: 0
A18: 04 - 05 | D18: 2.65788 | G18: 45.29952 | J18: 0 | M18: 0
A19: 05 - 06 | D19: 3.58236 | G19: 48.45816 | J19: 0 | M19: 0
A20: 06 - 07 | D20: 3.1779 | G20: 56.97108 | J20: 0 | M20: 0
A21: 07 - 08 | D21: 2.19564 | G21: 65.32992 | J21: 0 | M21: 0
A22: 08 - 09 | D22: 6.81804 | G22: 67.14036 | J22: 0 | M22: 0
A23: 09 - 10 | D23: 4.50684 | G23: 78.54228 | J23: 0 | M23: 0
A24: 10 - 11 | D24: 5.02686 | G24: 85.39884 | J24: 0 | M24: 0
A25: 11 - 12 | D25: 5.14242 | G25: 78.46524 | J25: 0 | M25: 0
... A37: 23 - 00 | D37: 2.65788 | G37: 67.9878 | J37: 0 | M37: 0
A38: Итого | D38: =SUM(D14:D37) -> 106.54632 | G38: =SUM(G14:G37) -> 1720.2647 | J38: =SUM(J14:J37) -> 0 | M38: =SUM(M14:M37) -> 0
A39: 1, При наличии на предприятии отклонений от нормальных режимов электропотребления (временное изменение схем питания, остановка на ремонт, резкое снижение
A40: эл,потребления и т,д,) последние необходимо перечислить,
A41: Главный инженер АО "Вологдаоблэнерго" А,В, Чурляев
A42: составляется самим предприятием с соблюдением всех пунктов настоящей таблицы,

Sheet 79
B1: АО "Вологдаоблэнерго" | H1: код 900151 | K1: ПС Суда, ф, Андога
B2: наименование предприятия | K2: наименование источника питания
K3: КТП-100 Детский дом
B4: ул, Горького, 99 | G4: Таблица № 1
B5: адрес
A6: почасовых записей показаний электрических счетчиков
A7: ='1'!A7:Q7 -> в режимный день 19 июня 2024 г.
A8: 1630 | B8: 1628
A9: часы суток | B9: Активная энергия | H9: Реактивная энергия
B10: =K3 -> КТП-100 Детский дом | E10: =K4 -> 0 | H10: =B10 -> КТП-100 Детский дом | K10: =E10 -> 0
B11: Расчет, Коэф, | D11: 20 | E11: Расчет, Коэф, | G11: 200 | H11: Расчет, Коэф, | J11: =D11 -> 20 | K11: Расчет, Коэф, | M11: =G11 -> 200
B12: показания счетчика | C12: разность | D12: расход эл,энергии за час | E12: показания счетчика | F12: разность | G12: расход эл,энергии за час | H12: показания счетчика | I12: разность | J12: расход эл,энергии за час | K12: показания счетчика | L12: разность | M12: расход эл,энергии за час
A13: 1 | B13: 2 | C13: 3 | D13: 4 | E13: 5 | F13: 6 | G13: 7 | H13: 8 | I13: 9 | J13: 10 | K13: 11 | L13: 12 | M13: 13
A14: 00 - 01 | D14: 7.661628 | J14: 0
A15: 01 - 02 | D15: 7.56918 | J15: 0
A16: 02 - 03 | D16: 7.553772 | J16: 0
A17: 03 - 04 | D17: 7.542216 | J17: 0
A18: 04 - 05 | D18: 7.53066 | J18: 0
A19: 05 - 06 | D19: 7.557624 | J19: 0
A20: 06 - 07 | D20: 7.546068 | J20: 0
A21: 07 - 08 | D21: 7.653924 | J21: 0
A22: 08 - 09 | D22: 8.867304 | J22: 0
A23: 09 - 10 | D23: 8.971308 | J23: 0
A24: 10 - 11 | D24: 8.794116 | J24: 0
A25: 11 - 12 | D25: 8.959752 | J25: 0
... A37: 23 - 00 | D37: 6.155496 | J37: 0
A38: Итого | D38: =SUM(D14:D37) -> 183.5555 | G38: =SUM(G14:G37) -> 0 | J38: =SUM(J14:J37) -> 0 | M38: =SUM(M14:M37) -> 0
A39: 1, При наличии на предприятии отклонений от нормальных режимов электропотребления (временное изменение схем питания, остановка на ремонт, резкое снижение
A40: эл,потребления и т,д,) последние необходимо перечислить,
A41: Главный инженер АО "Вологдаоблэнерго" А,В, Чурляев
A42: составляется самим предприятием с соблюдением всех пунктов настоящей таблицы,

Sheet 80
B1: АО "Вологдаоблэнерго" | H1: код 900151 | K1: ПС Климовская, ф, Лохта
B2: наименование предприятия | K2: наименование источника питания
K3: ТП-325
B4: ул, Горького, 99 | G4: Таблица № 1
B5: адрес
A6: почасовых записей показаний электрических счетчиков
A7: ='1'!A7:Q7 -> в режимный день 19 июня 2024 г.
A8: 1630 | B8: 1628
A9: часы суток | B9: Активная энергия | H9: Реактивная энергия
B10: =K3 -> ТП-325 | E10: =K4 -> 0 | H10: =B10 -> ТП-325 | K10: =E10 -> 0
B11: Расчет, Коэф, | D11: 120 | E11: Расчет, Коэф, | G11: 200 | H11: Расчет, Коэф, | J11: =D11 -> 120 | K11: Расчет, Коэф, | M11: =G11 -> 200
B12: показания счетчика | C12: разность | D12: расход эл,энергии за час | E12: показания счетчика | F12: разность | G12: расход эл,энергии за час | H12: показания счетчика | I12: разность | J12: расход эл,энергии за час | K12: показания счетчика | L12: разность | M12: расход эл,энергии за час
A13: 1 | B13: 2 | C13: 3 | D13: 4 | E13: 5 | F13: 6 | G13: 7 | H13: 8 | I13: 9 | J13: 10 | K13: 11 | L13: 12 | M13: 13
A14: 00 - 01 | D14: 0.40446 | J14: 0
A15: 01 - 02 | D15: 0.46224 | J15: 0
A16: 02 - 03 | D16: 0.46224 | J16: 0
A17: 03 - 04 | D17: 0.46224 | J17: 0
A18: 04 - 05 | D18: 0.40446 | J18: 0
A19: 05 - 06 | D19: 0.52002 | J19: 0
A20: 06 - 07 | D20: 0.40446 | J20: 0
A21: 07 - 08 | D21: 0.46224 | J21: 0
A22: 08 - 09 | D22: 5.2002 | J22: 0
A23: 09 - 10 | D23: 4.96908 | J23: 0
A24: 10 - 11 | D24: 8.32032 | J24: 0
A25: 11 - 12 | D25: 6.41358 | J25: 0
... A37: 23 - 00 | D37: 0.46224 | J37: 0
A38: Итого | D38: =SUM(D14:D37) -> 41.19714 | G38: =SUM(G14:G37) -> 0 | J38: =SUM(J14:J37) -> 0 | M38: =SUM(M14:M37) -> 0
A39: 1, При наличии на предприятии отклонений от нормальных режимов электропотребления (временное изменение схем питания, остановка на ремонт, резкое снижение
A40: эл,потребления и т,д,) последние необходимо перечислить,
A41: Главный инженер АО "Вологдаоблэнерго" А,В, Чурляев
A42: составляется самим предприятием с соблюдением всех пунктов настоящей таблицы,

Sheet 81
B1: АО "Вологдаоблэнерго" | H1: код 900151 | K1: ПС Енюково, ф, Ботово
B2: наименование предприятия | K2: наименование источника питания
K3: ТП-Новое Ботово
B4: ул, Горького, 99 | G4: Таблица № 1 | K4: КТП- д,Ботово
B5: адрес
A6: почасовых записей показаний электрических счетчиков
A7: ='1'!A7:Q7 -> в режимный день 19 июня 2024 г.
A8: 1630 | B8: 1628
A9: часы суток | B9: Активная энергия | H9: Реактивная энергия
B10: =K3 -> ТП-Новое Ботово | E10: =K4 -> КТП- д,Ботово | H10: =B10 -> ТП-Новое Ботово | K10: =E10 -> КТП- д,Ботово
B11: Расчет, Коэф, | D11: 40 | E11: Расчет, Коэф, | G11: 40 | H11: Расчет, Коэф, | J11: =D11 -> 40 | K11: Расчет, Коэф, | M11: =G11 -> 40
B12: показания счетчика | C12: разность | D12: расход эл,энергии за час | E12: показания счетчика | F12: разность | G12: расход эл,энергии за час | H12: показания счетчика | I12: разность | J12: расход эл,энергии за час | K12: показания счетчика | L12: разность | M12: расход эл,энергии за час
A13: 1 | B13: 2 | C13: 3 | D13: 4 | E13: 5 | F13: 6 | G13: 7 | H13: 8 | I13: 9 | J13: 10 | K13: 11 | L13: 12 | M13: 13
A14: 00 - 01 | D14: 5.06538 | G14: 0 | J14: 0 | M14: 0
A15: 01 - 02 | D15: 2.61936 | G15: 0 | J15: 0 | M15: 0
A16: 02 - 03 | D16: 2.56158 | G16: 0 | J16: 0 | M16: 0
A17: 03 - 04 | D17: 4.39128 | G17: 0 | J17: 0 | M17: 0
A18: 04 - 05 | D18: 2.90826 | G18: 0 | J18: 0 | M18: 0
A19: 05 - 06 | D19: 1.77192 | G19: 0 | J19: 0 | M19: 0
A20: 06 - 07 | D20: 2.83122 | G20: 0 | J20: 0 | M20: 0
A21: 07 - 08 | D21: 3.3705 | G21: 0 | J21: 0 | M21: 0
A22: 08 - 09 | D22: 2.73492 | G22: 0 | J22: 0 | M22: 0
A23: 09 - 10 | D23: 2.6001 | G23: 0 | J23: 0 | M23: 0
A24: 10 - 11 | D24: 2.06082 | G24: 0 | J24: 0 | M24: 0
A25: 11 - 12 | D25: 2.54232 | G25: 0 | J25: 0 | M25: 0
... A37: 23 - 00 | D37: 3.71718 | G37: 0 | J37: 0 | M37: 0
A38: Итого | D38: =SUM(D14:D37) -> 75.38364 | G38: =SUM(G14:G37) -> 0 | J38: =SUM(J14:J37) -> 0 | M38: =SUM(M14:M37) -> 0
A39: 1, При наличии на предприятии отклонений от нормальных режимов электропотребления (временное изменение схем питания, остановка на ремонт, резкое снижение
A40: эл,потребления и т,д,) последние необходимо перечислить,
A41: Главный инженер АО "Вологдаоблэнерго" А,В, Чурляев
A42: составляется самим предприятием с соблюдением всех пунктов настоящей таблицы,

Sheet 82
B1: АО "Вологдаоблэнерго" | H1: код 900151 | K1: ПС Енюково, ф, Борисово
B2: наименование предприятия | K2: наименование источника питания
K3: КТП-100 АЗС №43
B4: ул, Горького, 99 | G4: Таблица № 1
B5: адрес
A6: почасовых записей показаний электрических счетчиков
A7: ='1'!A7:Q7 -> в режимный день 19 июня 2024 г.
A8: 1630 | B8: 1628
A9: часы суток | B9: Активная энергия | H9: Реактивная энергия
B10: =K3 -> КТП-100 АЗС №43 | E10: =K4 -> 0 | H10: =B10 -> КТП-100 АЗС №43 | K10: =E10 -> 0
B11: Расчет, Коэф, | D11: 30 | E11: Расчет, Коэф, | G11: 40 | H11: Расчет, Коэф, | J11: =D11 -> 30 | K11: Расчет, Коэф, | M11: =G11 -> 40
B12: показания счетчика | C12: разность | D12: расход эл,энергии за час | E12: показания счетчика | F12: разность | G12: расход эл,энергии за час | H12: показания счетчика | I12: разность | J12: расход эл,энергии за час | K12: показания счетчика | L12: разность | M12: расход эл,энергии за час
A13: 1 | B13: 2 | C13: 3 | D13: 4 | E13: 5 | F13: 6 | G13: 7 | H13: 8 | I13: 9 | J13: 10 | K13: 11 | L13: 12 | M13: 13
A14: 00 - 01 | D14: 11.37 | J14: 0
A15: 01 - 02 | D15: 10.995534 | J15: 0
A16: 02 - 03 | D16: 12.4227 | J16: 0
A17: 03 - 04 | D17: 8.245206 | J17: 0
A18: 04 - 05 | D18: 5.11353 | J18: 0
A19: 05 - 06 | D19: 5.57577 | J19: 0
A20: 06 - 07 | D20: 5.471766 | J20: 0
A21: 07 - 08 | D21: 5.610438 | J21: 0
A22: 08 - 09 | D22: 7.97364 | J22: 0
A23: 09 - 10 | D23: 7.118496 | J23: 0
A24: 10 - 11 | D24: 7.182054 | J24: 0
A25: 11 - 12 | D25: 7.563402 | J25: 0
... A37: 23 - 00 | D37: 11.024424 | J37: 0
A38: Итого | D38: =SUM(D14:D37) -> 183.72774 | G38: =SUM(G14:G37) -> 0 | J38: =SUM(J14:J37) -> 0 | M38: =SUM(M14:M37) -> 0
A39: 1, При наличии на предприятии отклонений от нормальных режимов электропотребления (временное изменение схем питания, остановка на ремонт, резкое снижение
A40: эл,потребления и т,д,) последние необходимо перечислить,
A41: Главный инженер АО "Вологдаоблэнерго" А,В, Чурляев
A42: составляется самим предприятием с соблюдением всех пунктов настоящей таблицы,

Sheet 83
B1: АО "Вологдаоблэнерго" | H1: код 900151 | K1: ПС Енюково, ф, Борисово
B2: наименование предприятия | K2: наименование источника питания
K3: КТП-100 АЗС №43
B4: ул, Горького, 99 | G4: Таблица № 1 | K4: ТП- "Освещение дороги" (Аэропорт)
B5: адрес
A6: почасовых записей показаний электрических счетчиков
A7: ='1'!A7:Q7 -> в режимный день 19 июня 2024 г.
A8: 1630 | B8: 1628
A9: часы суток | B9: Активная энергия | H9: Реактивная энергия
B10: =K3 -> КТП-100 АЗС №43 | E10: =K4 -> ТП- "Освещение дороги" (Аэропорт) | H10: =B10 -> КТП-100 АЗС №43 | K10: =E10 -> ТП- "Освещение дороги" (Аэропорт)
B11: Расчет, Коэф, | D11: 30 | E11: Расчет, Коэф, | G11: 1 | H11: Расчет, Коэф, | J11: =D11 -> 30 | K11: Расчет, Коэф, | M11: =G11 -> 1
B12: показания счетчика | C12: разность | D12: расход эл,энергии за час | E12: показания счетчика | F12: разность | G12: расход эл,энергии за час | H12: показания счетчика | I12: разность | J12: расход эл,энергии за час | K12: показания счетчика | L12: разность | M12: расход эл,энергии за час
A13: 1 | B13: 2 | C13: 3 | D13: 4 | E13: 5 | F13: 6 | G13: 7 | H13: 8 | I13: 9 | J13: 10 | K13: 11 | L13: 12 | M13: 13
A14: 00 - 01 | D14: 11.13984 | G14: 22.944 | J14: 0 | M14: 0
A15: 01 - 02 | D15: 10.69632 | G15: 22.73088 | J15: 0 | M15: 0
A16: 02 - 03 | D16: 12.70656 | G16: 22.92288 | J16: 0 | M16: 0
A17: 03 - 04 | D17: 12.17088 | G17: 22.75584 | J17: 0 | M17: 0
A18: 04 - 05 | D18: 8.82432 | G18: 22.5312 | J18: 0 | M18: 0
A19: 05 - 06 | D19: 4.82112 | G19: 22.57152 | J19: 0 | M19: 0
A20: 06 - 07 | D20: 6.69888 | G20: 22.74048 | J20: 0 | M20: 0
A21: 07 - 08 | D21: 7.85088 | G21: 22.66176 | J21: 0 | M21: 0
A22: 08 - 09 | D22: 7.81632 | G22: 22.53888 | J22: 0 | M22: 0
A23: 09 - 10 | D23: 7.99488 | G23: 3.50976 | J23: 0 | M23: 0
A24: 10 - 11 | D24: 7.40736 | G24: 0.0384 | J24: 0 | M24: 0
A25: 11 - 12 | D25: 6.64704 | G25: 0.0384 | J25: 0 | M25: 0
... A37: 23 - 00 | D37: 11.35296 | G37: 22.62912 | J37: 0 | M37: 0
A38: Итого | D38: =SUM(D14:D37) -> 189.45792 | G38: =SUM(G14:G37) -> 400.18752 | J38: =SUM(J14:J37) -> 0 | M38: =SUM(M14:M37) -> 0
A39: 1, При наличии на предприятии отклонений от нормальных режимов электропотребления (временное изменение схем питания, остановка на ремонт, резкое снижение
A40: эл,потребления и т,д,) последние необходимо перечислить,
A41: Главный инженер АО "Вологдаоблэнерго" А,В, Чурляев
A42: составляется самим предприятием с соблюдением всех пунктов настоящей таблицы,

Sheet 84
B1: АО "Вологдаоблэнерго" | H1: код 900151 | K1: ПС РПП-1, ф, Шубацкое
B2: наименование предприятия | K2: наименование источника питания
K3: КТП-63 "ЧЭТС"
B4: ул, Горького, 99 | G4: Таблица № 1
B5: адрес
A6: почасовых записей показаний электрических счетчиков
A7: ='1'!A7:Q7 -> в режимный день 19 июня 2024 г.
A8: 1630 | B8: 1628
A9: часы суток | B9: Активная энергия | H9: Реактивная энергия
B10: =K3 -> КТП-63 "ЧЭТС" | E10: =K4 -> 0 | H10: =B10 -> КТП-63 "ЧЭТС" | K10: =E10 -> 0
B11: Расчет, Коэф, | D11: 20 | E11: Расчет, Коэф, | G11: 40 | H11: Расчет, Коэф, | J11: =D11 -> 20 | K11: Расчет, Коэф, | M11: =G11 -> 40
B12: показания счетчика | C12: разность | D12: расход эл,энергии за час | E12: показания счетчика | F12: разность | G12: расход эл,энергии за час | H12: показания счетчика | I12: разность | J12: расход эл,энергии за час | K12: показания счетчика | L12: разность | M12: расход эл,энергии за час
A13: 1 | B13: 2 | C13: 3 | D13: 4 | E13: 5 | F13: 6 | G13: 7 | H13: 8 | I13: 9 | J13: 10 | K13: 11 | L13: 12 | M13: 13
A14: 00 - 01 | D14: 6.3456 | J14: 0
A15: 01 - 02 | D15: 5.712 | J15: 0
A16: 02 - 03 | D16: 5.7504 | J16: 0
A17: 03 - 04 | D17: 5.7504 | J17: 0
A18: 04 - 05 | D18: 5.6832 | J18: 0
A19: 05 - 06 | D19: 5.7312 | J19: 0
A20: 06 - 07 | D20: 6.4128 | J20: 0
A21: 07 - 08 | D21: 7.0464 | J21: 0
A22: 08 - 09 | D22: 8.8896 | J22: 0
A23: 09 - 10 | D23: 8.112 | J23: 0
A24: 10 - 11 | D24: 8.928 | J24: 0
A25: 11 - 12 | D25: 8.4768 | J25: 0
... A37: 23 - 00 | D37: 5.6352 | J37: 0
A38: Итого | D38: =SUM(D14:D37) -> 167.5392 | G38: =SUM(G14:G37) -> 0 | J38: =SUM(J14:J37) -> 0 | M38: =SUM(M14:M37) -> 0
A39: 1, При наличии на предприятии отклонений от нормальных режимов электропотребления (временное изменение схем питания, остановка на ремонт, резкое снижение
A40: эл,потребления и т,д,) последние необходимо перечислить,
A41: Главный инженер АО "Вологдаоблэнерго" А,В, Чурляев
A42: составляется самим предприятием с соблюдением всех пунктов настоящей таблицы,

Sheet 85
B1: АО "Вологдаоблэнерго" | H1: код 900151 | K1: ПС Климоская, ф, Лохта
B2: наименование предприятия | K2: наименование источника питания
K3: КТП-Деревня
B4: ул, Горького, 99 | G4: Таблица № 1 | K4: ТП-321
B5: адрес
A6: почасовых записей показаний электрических счетчиков
A7: ='1'!A7:Q7 -> в режимный день 19 июня 2024 г.
A8: 1630 | B8: 1628
A9: часы суток | B9: Активная энергия | H9: Реактивная энергия
B10: =K3 -> КТП-Деревня | E10: =K4 -> ТП-321 | H10: =B10 -> КТП-Деревня | K10: =E10 -> ТП-321
B11: Расчет, Коэф, | D11: 80 | E11: Расчет, Коэф, | G11: 30 | H11: Расчет, Коэф, | J11: =D11 -> 80 | K11: Расчет, Коэф, | M11: =G11 -> 30
B12: показания счетчика | C12: разность | D12: расход эл,энергии за час | E12: показания счетчика | F12: разность | G12: расход эл,энергии за час | H12: показания счетчика | I12: разность | J12: расход эл,энергии за час | K12: показания счетчика | L12: разность | M12: расход эл,энергии за час
A13: 1 | B13: 2 | C13: 3 | D13: 4 | E13: 5 | F13: 6 | G13: 7 | H13: 8 | I13: 9 | J13: 10 | K13: 11 | L13: 12 | M13: 13
A14: 00 - 01 | D14: 63.14496 | G14: 29.4912 | J14: 0 | M14: 0
A15: 01 - 02 | D15: 67.82976 | G15: 28.7136 | J15: 0 | M15: 0
A16: 02 - 03 | D16: 63.77472 | G16: 28.7712 | J16: 0 | M16: 0
A17: 03 - 04 | D17: 66.432 | G17: 29.9232 | J17: 0 | M17: 0
A18: 04 - 05 | D18: 62.16192 | G18: 33.2064 | J18: 0 | M18: 0
A19: 05 - 06 | D19: 71.79264 | G19: 34.56 | J19: 0 | M19: 0
A20: 06 - 07 | D20: 75.264 | G20: 37.152 | J20: 0 | M20: 0
A21: 07 - 08 | D21: 77.82912 | G21: 35.8848 | J21: 0 | M21: 0
A22: 08 - 09 | D22: 79.34976 | G22: 22.9824 | J22: 0 | M22: 0
A23: 09 - 10 | D23: 76.73856 | G23: 23.6448 | J23: 0 | M23: 0
A24: 10 - 11 | D24: 75.66336 | G24: 23.5008 | J24: 0 | M24: 0
A25: 11 - 12 | D25: 72.31488 | G25: 21.1392 | J25: 0 | M25: 0
... A37: 23 - 00 | D37: 78.12096 | G37: 20.9376 | J37: 0 | M37: 0
A38: Итого | D38: =SUM(D14:D37) -> 1861.1251 | G38: =SUM(G14:G37) -> 661.8816 | J38: =SUM(J14:J37) -> 0 | M38: =SUM(M14:M37) -> 0
A39: 1, При наличии на предприятии отклонений от нормальных режимов электропотребления (временное изменение схем питания, остановка на ремонт, резкое снижение
A40: эл,потребления и т,д,) последние необходимо перечислить,
A41: Главный инженер АО "Вологдаоблэнерго" А,В, Чурляев
A42: составляется самим предприятием с соблюдением всех пунктов настоящей таблицы,

Sheet 86
B1: АО "Вологдаоблэнерго" | H1: код 900151 | K1: ПС Енюково
B2: наименование предприятия | K2: наименование источника питания
K3: ф, КУФ-3
B4: ул, Горького, 99 | G4: Таблица № 1
B5: адрес
A6: почасовых записей показаний электрических счетчиков
A7: ='1'!A7:Q7 -> в режимный день 19 июня 2024 г.
A8: 1630 | B8: 1628
A9: часы суток | B9: Активная энергия | H9: Реактивная энергия
B10: =K3 -> ф, КУФ-3 | E10: =K4 -> 0 | H10: =B10 -> ф, КУФ-3 | K10: =E10 -> 0
B11: Расчет, Коэф, | D11: 80 | E11: Расчет, Коэф, | G11: 30 | H11: Расчет, Коэф, | J11: =D11 -> 80 | K11: Расчет, Коэф, | M11: =G11 -> 30
B12: показания счетчика | C12: разность | D12: расход эл,энергии за час | E12: показания счетчика | F12: разность | G12: расход эл,энергии за час | H12: показания счетчика | I12: разность | J12: расход эл,энергии за час | K12: показания счетчика | L12: разность | M12: расход эл,энергии за час
A13: 1 | B13: 2 | C13: 3 | D13: 4 | E13: 5 | F13: 6 | G13: 7 | H13: 8 | I13: 9 | J13: 10 | K13: 11 | L13: 12 | M13: 13
A14: 00 - 01 | D14: 0 | J14: 0
A15: 01 - 02 | D15: 0 | J15: 0
A16: 02 - 03 | D16: 0 | J16: 0
A17: 03 - 04 | D17: 0 | J17: 0
A18: 04 - 05 | D18: 0 | J18: 0
A19: 05 - 06 | D19: 0 | J19: 0
A20: 06 - 07 | D20: 0 | J20: 0
A21: 07 - 08 | D21: 0 | J21: 0
A22: 08 - 09 | D22: 0 | J22: 0
A23: 09 - 10 | D23: 0 | J23: 0
A24: 10 - 11 | D24: 0 | J24: 0
A25: 11 - 12 | D25: 0 | J25: 0
... A37: 23 - 00 | D37: 0 | J37: 0
A38: Итого | D38: =SUM(D14:D37) -> 0 | G38: =SUM(G14:G37) -> 0 | J38: =SUM(J14:J37) -> 0 | M38: =SUM(M14:M37) -> 0
A39: 1, При наличии на предприятии отклонений от нормальных режимов электропотребления (временное изменение схем питания, остановка на ремонт, резкое снижение
A40: эл,потребления и т,д,) последние необходимо перечислить,
A41: Главный инженер АО "Вологдаоблэнерго" А,В, Чурляев
A42: составляется самим предприятием с соблюдением всех пунктов настоящей таблицы,

Sheet 87
B1: АО "Вологдаоблэнерго" | H1: код 900151 | K1: ПС Ирдоматка
B2: наименование предприятия | K2: наименование источника питания
K3: ф, Промкомбинат
B4: ул, Горького, 99 | G4: Таблица № 1 | K4: ф, Романда
B5: адрес
A6: почасовых записей показаний электрических счетчиков
A7: ='1'!A7:Q7 -> в режимный день 19 июня 2024 г.
A8: 1630 | B8: 1628
A9: часы суток | B9: Активная энергия | H9: Реактивная энергия
B10: =K3 -> ф, Промкомбинат | E10: =K4 -> ф, Романда | H10: =B10 -> ф, Промкомбинат | K10: =E10 -> ф, Романда
B11: Расчет, Коэф, | D11: 80 | E11: Расчет, Коэф, | G11: 30 | H11: Расчет, Коэф, | J11: =D11 -> 80 | K11: Расчет, Коэф, | M11: =G11 -> 30
B12: показания счетчика | C12: разность | D12: расход эл,энергии за час | E12: показания счетчика | F12: разность | G12: расход эл,энергии за час | H12: показания счетчика | I12: разность | J12: расход эл,энергии за час | K12: показания счетчика | L12: разность | M12: расход эл,энергии за час
A13: 1 | B13: 2 | C13: 3 | D13: 4 | E13: 5 | F13: 6 | G13: 7 | H13: 8 | I13: 9 | J13: 10 | K13: 11 | L13: 12 | M13: 13
A14: 00 - 01 | D14: 123.4 | G14: 131.6 | J14: 0
A15: 01 - 02 | D15: 121.4 | G15: 119.2 | J15: 0
A16: 02 - 03 | D16: 156.6 | G16: 103 | J16: 0
A17: 03 - 04 | D17: 170 | G17: 103.8 | J17: 0
A18: 04 - 05 | D18: 164 | G18: 104.2 | J18: 0
A19: 05 - 06 | D19: 153 | G19: 124.8 | J19: 0
A20: 06 - 07 | D20: 151.6 | G20: 173.8 | J20: 0
A21: 07 - 08 | D21: 154.4 | G21: 206 | J21: 0
A22: 08 - 09 | D22: 152.6 | G22: 215.8 | J22: 0
A23: 09 - 10 | D23: 161.6 | G23: 204.4 | J23: 0
A24: 10 - 11 | D24: 164 | G24: 207 | J24: 0
A25: 11 - 12 | D25: 175.4 | G25: 196.8 | J25: 0
... A37: 23 - 00 | D37: 195.4 | G37: 192.8 | J37: 0
A38: Итого | D38: =SUM(D14:D37) -> 3689.8 | G38: =SUM(G14:G37) -> 4481.4 | J38: =SUM(J14:J37) -> 0 | M38: =SUM(M14:M37) -> 0
A39: 1, При наличии на предприятии отклонений от нормальных режимов электропотребления (временное изменение схем питания, остановка на ремонт, резкое снижение
A40: эл,потребления и т,д,) последние необходимо перечислить,
A41: Главный инженер АО "Вологдаоблэнерго" А,В, Чурляев
A42: составляется самим предприятием с соблюдением всех пунктов настоящей таблицы,

Sheet 88
B1: АО "Вологдаоблэнерго" | H1: код 900151 | K1: ПС Вишняки
B2: наименование предприятия | K2: наименование источника питания
K3: ф, Парус-1
B4: ул, Горького, 99 | G4: Таблица № 1 | K4: ф, Парус-2
B5: адрес
A6: почасовых записей показаний электрических счетчиков
A7: ='1'!A7:Q7 -> в режимный день 19 июня 2024 г.
A8: 1630 | B8: 1628
A9: часы суток | B9: Активная энергия | H9: Реактивная энергия
B10: =K3 -> ф, Парус-1 | E10: =K4 -> ф, Парус-2 | H10: =B10 -> ф, Парус-1 | K10: =E10 -> ф, Парус-2
B11: Расчет, Коэф, | D11: 80 | E11: Расчет, Коэф, | G11: 30 | H11: Расчет, Коэф, | J11: =D11 -> 80 | K11: Расчет, Коэф, | M11: =G11 -> 30
B12: показания счетчика | C12: разность | D12: расход эл,энергии за час | E12: показания счетчика | F12: разность | G12: расход эл,энергии за час | H12: показания счетчика | I12: разность | J12: расход эл,энергии за час | K12: показания счетчика | L12: разность | M12: расход эл,энергии за час
A13: 1 | B13: 2 | C13: 3 | D13: 4 | E13: 5 | F13: 6 | G13: 7 | H13: 8 | I13: 9 | J13: 10 | K13: 11 | L13: 12 | M13: 13
A14: 00 - 01 | D14: 51.4 | G14: 16.4 | J14: 0 | M14: 0
A15: 01 - 02 | D15: 48.6 | G15: 16.6 | J15: 0 | M15: 0
A16: 02 - 03 | D16: 47.6 | G16: 16.4 | J16: 0 | M16: 0
A17: 03 - 04 | D17: 46.8 | G17: 16.4 | J17: 0 | M17: 0
A18: 04 - 05 | D18: 45.8 | G18: 16.2 | J18: 0 | M18: 0
A19: 05 - 06 | D19: 82.4 | G19: 16.2 | J19: 0 | M19: 0
A20: 06 - 07 | D20: 108.4 | G20: 16.4 | J20: 0 | M20: 0
A21: 07 - 08 | D21: 124 | G21: 18 | J21: 0 | M21: 0
A22: 08 - 09 | D22: 120.2 | G22: 17.8 | J22: 0 | M22: 0
A23: 09 - 10 | D23: 131.6 | G23: 10.6 | J23: 0 | M23: 0
A24: 10 - 11 | D24: 142.6 | G24: 5.8 | J24: 0 | M24: 0
A25: 11 - 12 | D25: 121.4 | G25: 5.8 | J25: 0 | M25: 0
... A37: 23 - 00 | D37: 53.6 | G37: 5.6 | J37: 0 | M37: 0
A38: Итого | D38: =SUM(D14:D37) -> 1961 | G38: =SUM(G14:G37) -> 243 | J38: =SUM(J14:J37) -> 0 | M38: =SUM(M14:M37) -> 0
A39: 1, При наличии на предприятии отклонений от нормальных режимов электропотребления (временное изменение схем питания, остановка на ремонт, резкое снижение
A40: эл,потребления и т,д,) последние необходимо перечислить,
A41: Главный инженер АО "Вологдаоблэнерго" А,В, Чурляев
A42: составляется самим предприятием с соблюдением всех пунктов настоящей таблицы,

Sheet 89
B1: АО "Вологдаоблэнерго" | H1: код 900151 | K1: ПС Искра
B2: наименование предприятия | K2: наименование источника питания
K3: ф, Садовая
B4: ул, Горького, 99 | G4: Таблица № 1 | K4: ф, Газовая-1
B5: адрес
A6: почасовых записей показаний электрических счетчиков
A7: ='1'!A7:Q7 -> в режимный день 19 июня 2024 г.
A8: 1630 | B8: 1628
A9: часы суток | B9: Активная энергия | H9: Реактивная энергия
