Workbook

Sheet Содержание книги
A1: Содержание
A4: № листа | B4: Электросетевой участок | C4: Центр питания
A5: 1-109 | B5: ЭСУ "Череповец"
A6: 110-118 | B6: ЭСУ "Бабаево"
A7: 119-153 | B7: ЭСУ "Кадуй"
A8: 154-166 | B8: ЭСУ "Чагода"
A9: 167-207 | B9: ЭСУ "Шексна"
A10: 208-211 | B10: ЭСУ "Белозерск"
A11: Содержание
A14: № листа | B14: Электросетевой участок | C14: Центр питания
A15: 1 а | B15: г, Вологда | C15: ОАО "БМЗ"
D16: яч, Т1, яч, Т2
A17: 1, 2 | B17: г, Вологда | C17: ПС "АНАНЬИНО"
D18: яч,7 - ф,"Город-7"
D19: яч,8 - ф,"Городской", яч,2 - ф,"Овощехранилище"
A20: 3 | B20: г, Вологда | C20: ПС "ИСКРА"
D21: яч,18 - ф,"РУБЦОВО"- СВ - ВЛ№2
A22: 4 | B22: г, Вологда | C22: ПС "МАЕГА"
D23: яч,13 - ф,"НИКИТИНО"-СВ - ВЛ№27
A24: 5,6, 7, 8, 9 | B24: г, Вологда | C24: ПС "ЗАПАДНАЯ
D25: яч,19 - "РМЗ-1", яч,24 - "РМЗ-2"
D26: яч,15 -"ОЧИСТНЫЕ-1", яч,9 -"ГОРОД-1"
D27: яч,21- "П/я-1", яч,20 - "П/я-2"
D28: яч,33 - "РП-35", яч,35 - "РП-37"
D29: яч,11 - "ГОРОД-2", яч,18 - "ОЧИСТНЫЕ-2"
A30: 10 | B30: г, Вологда | C30: ПС "СЕВЕРНАЯ 35/6 кВ
D31: Т1 - РП5ф3 ввод №1, Т2 - РП5ф17 ввод №2
A32: 11 | B32: г, Вологда | C32: РТП "ТЕПЛИЧНОГО ХОЗ - ВА"
D33: яч, 3 - ф,"Микрорайон-1" ввод № 1, яч,13 - ф,"Микрорайон-2" ввод № 2
A34: 12,13, 14 | B34: г, Вологда | C34: ГПП 110/10 кВ "ВОМЗ"
D35: яч,47 - РП 29 ввод № 1, яч,31 - РП 29 ввод № 2
D36: яч,5 - РП 14 ввод № 1, яч,22 - РП 14 ввод № 2
D37: яч,44 - РП 2 ввод № 1, яч,26в - РП 2 ввод № 2
A38: 15,16,17,18,19,20, 21 | B38: г, Вологда | C38: ПС ВОЛОГДА-ЮЖНАЯ РУ - 6 -10 кВ
D39: яч,15 - "ГОРОД-15", яч,24 - "ТУБДИСПАНСЕР"
D40: яч,10 - "ГОРОД-10", яч,14 - "ГОРОД-14"
D41: яч,20 - "ГОРОД 20"
D42: яч, 7- ф,"ГОРОД 7", яч,17 - ф,"ГОРОД 17"
D43: яч,3 - "ГОРОД-3", яч,5 - "ГОРОД-5"
D44: яч, 1 - "ГОРОД -1", яч, 20 - "РП 27"
...

Sheet 1
B1: АО "Вологдаоблэнерго" | J1: код 900151 | N1: ПС "Малечкино" ф,Птицефабрика
B2: наименование предприятия | N2: наименование источника питания
N3: _________________________________
B4: ул, Горького, 99 | I4: Таблица № 1 | N4: ТП-1 ЦРП Малечкино; ТП-5 АВМ
B5: адрес
A6: почасовых записей показаний электрических счетчиков
A7: в режимный день 19 июня 2024 г.
A8: 1630 | B8: 1628
A9: часы суток | B9: Активная энергия | J9: Реактивная энергия
B10: ТП-1 ЦРП Малечкино | F10: ТП-5 АВМ | J10: ТП-1 ЦРП Малечкино | N10: ТП-5 АВМ
B11: Расчет, Коэф, | E11: 30 | F11: Расчет, Коэф, | I11: 120 | J11: Расчет, Коэф, | M11: =E11 -> 30 | N11: Расчет, Коэф, | Q11: =I11 -> 120
B12: показания счетчика | C12: разность | E12: расход эл,энергии за час | F12: показания счетчика | G12: разность | I12: расход эл,энергии за час | J12: показания счетчика | K12: разность | M12: расход эл,энергии за час | N12: показания счетчика | O12: разность | Q12: расход эл,энергии за час
A13: 1 | B13: 2 | C13: 3 | E13: 4 | F13: 5 | G13: 6 | I13: 7 | J13: 8 | K13: 9 | M13: 10 | N13: 11 | O13: 12 | Q13: 13
A14: 00 - 01 | E14: 96.928 | I14: 8.9856 | M14: 0 | Q14: 0
A15: 01 - 02 | E15: 97.864 | I15: 8.8608 | M15: 0 | Q15: 0
A16: 02 - 03 | E16: 97.344 | I16: 8.5488 | M16: 0 | Q16: 0
A17: 03 - 04 | E17: 97.136 | I17: 8.2056 | M17: 0 | Q17: 0
A18: 04 - 05 | E18: 96.304 | I18: 7.9872 | M18: 0 | Q18: 0
A19: 05 - 06 | E19: 101.296 | I19: 7.9872 | M19: 0 | Q19: 0
A20: 06 - 07 | E20: 145.184 | I20: 8.2368 | M20: 0 | Q20: 0
A21: 07 - 08 | E21: 217.048 | I21: 8.7984 | M21: 0 | Q21: 0
A22: 08 - 09 | E22: 247.208 | I22: 8.4552 | M22: 0 | Q22: 0
A23: 09 - 10 | E23: 203.112 | I23: 6.8016 | M23: 0 | Q23: 0
A24: 10 - 11 | E24: 229.216 | I24: 10.14 | M24: 0 | Q24: 0
A25: 11 - 12 | E25: 185.224 | I25: 12.1056 | M25: 0 | Q25: 0
... A37: 23 - 00 | E37: 103.57 | I37: 6.9888 | M37: 0 | Q37: 0
A38: Итого | E38: =SUM(E14:E37) -> 3506.554 | I38: =SUM(I14:I37) -> 236.1528 | M38: =SUM(M14:M37) -> 0 | Q38: =SUM(Q14:Q37) -> 0
A39: 1, При наличии на предприятии отклонений от нормальных режимов электропотребления (временное изменение схем питания, остановка на ремонт, резкое снижение
A40: эл,потребления и т,д,) последние необходимо перечислить,
A41: Главный инженер АО "Вологдаоблэнерго" А,В, Чурляев
A42: составляется самим предприятием с соблюдением всех пунктов настоящей таблицы,

Sheet 2
B1: АО "Вологдаоблэнерго" | J1: код 900151 | N1: ПС Малечкино, ф, Поселок
B2: наименование предприятия | N2: наименование источника питания
N3: ТП-8 ПС Малечкино В-1; В-2
B4: ул, Горького, 99 | I4: Таблица № 1
B5: адрес
A6: почасовых записей показаний электрических счетчиков
A7: ='1'!A7:Q7 -> в режимный день 19 июня 2024 г.
A8: 1630 | B8: 1628
A9: часы суток | B9: Активная энергия | J9: Реактивная энергия
B10: ТП-8 ПС Малечкино В-1 | F10: ТП-8 ПС Малечкино В-2 | J10: ТП-8 ПС Малечкино В-1 | N10: ТП-8 ПС Малечкино В-2
B11: Расчет, Коэф, | E11: 80 | F11: Расчет, Коэф, | I11: 80 | J11: Расчет, Коэф, | M11: =E11 -> 80 | N11: Расчет, Коэф, | Q11: =I11 -> 80
B12: показания счетчика | C12: разность | E12: расход эл,энергии за час | F12: показания счетчика | G12: разность | I12: расход эл,энергии за час | J12: показания счетчика | K12: разность | M12: расход эл,энергии за час | N12: показания счетчика | O12: разность | Q12: расход эл,энергии за час
A13: 1 | B13: 2 | C13: 3 | E13: 4 | F13: 5 | G13: 6 | I13: 7 | J13: 8 | K13: 9 | M13: 10 | N13: 11 | O13: 12 | Q13: 13
A14: 00 - 01 | E14: 20.8472 | I14: 11.684 | M14: 0 | Q14: 0
A15: 01 - 02 | E15: 16.8728 | I15: 10.4512 | M15: 0 | Q15: 0
A16: 02 - 03 | E16: 15.6032 | I16: 8.188 | M16: 0 | Q16: 0
A17: 03 - 04 | E17: 25.3552 | I17: 8.2248 | M17: 0 | Q17: 0
A18: 04 - 05 | E18: 34.7208 | I18: 7.636 | M18: 0 | Q18: 0
A19: 05 - 06 | E19: 34.6288 | I19: 11.1504 | M19: 0 | Q19: 0
A20: 06 - 07 | E20: 37.1496 | I20: 27.4344 | M20: 0 | Q20: 0
A21: 07 - 08 | E21: 37.7936 | I21: 26.0912 | M21: 0 | Q21: 0
A22: 08 - 09 | E22: 37.0024 | I22: 22.0248 | M22: 0 | Q22: 0
A23: 09 - 10 | E23: 36.5056 | I23: 27.0112 | M23: 0 | Q23: 0
A24: 10 - 11 | E24: 33.5064 | I24: 19.32 | M24: 0 | Q24: 0
A25: 11 - 12 | E25: 36.8736 | I25: 24.288 | M25: 0 | Q25: 0
... A37: 23 - 00 | E37: 23.2208 | I37: 17.8664 | M37: 0 | Q37: 0
A38: Итого | E38: =SUM(E14:E37) -> 702.0888 | I38: =SUM(I14:I37) -> 428.168 | M38: =SUM(M14:M37) -> 0 | Q38: =SUM(Q14:Q37) -> 0
A39: 1, При наличии на предприятии отклонений от нормальных режимов электропотребления (временное изменение схем питания, остановка на ремонт, резкое снижение
A40: эл,потребления и т,д,) последние необходимо перечислить,
A41: Главный инженер АО "Вологдаоблэнерго" А,В, Чурляев
A42: составляется самим предприятием с соблюдением всех пунктов настоящей таблицы,

Sheet 3
B1: АО "Вологдаоблэнерго" | J1: код 900151 | N1: ПС Малечкино, ф, Поселок
B2: наименование предприятия | N2: наименование источника питания
N3: ТП-105; КТП-Дачи п,Малечкино
B4: ул, Горького, 99 | I4: Таблица № 1
B5: адрес
A6: почасовых записей показаний электрических счетчиков
A7: ='1'!A7:Q7 -> в режимный день 19 июня 2024 г.
A8: 1630 | B8: 1628
A9: часы суток | B9: Активная энергия | J9: Реактивная энергия
B10: ТП-105 | F10: КТП-Дачи п,Малечкино | J10: ТП-105 | N10: КТП-Дачи п,Малечкино
B11: Расчет, Коэф, | E11: 80 | F11: Расчет, Коэф, | I11: 60 | J11: Расчет, Коэф, | M11: =E11 -> 80 | N11: Расчет, Коэф, | Q11: =I11 -> 60
B12: показания счетчика | C12: разность | E12: расход эл,энергии за час | F12: показания счетчика | G12: разность | I12: расход эл,энергии за час | J12: показания счетчика | K12: разность | M12: расход эл,энергии за час | N12: показания счетчика | O12: разность | Q12: расход эл,энергии за час
A13: 1 | B13: 2 | C13: 3 | E13: 4 | F13: 5 | G13: 6 | I13: 7 | J13: 8 | K13: 9 | M13: 10 | N13: 11 | O13: 12 | Q13: 13
A14: 00 - 01 | E14: 25.438 | I14: 1.794 | M14: 0 | Q14: 0
A15: 01 - 02 | E15: 23.736 | I15: 1.748 | M15: 0 | Q15: 0
A16: 02 - 03 | E16: 20.838 | I16: 1.794 | M16: 0 | Q16: 0
A17: 03 - 04 | E17: 21.298 | I17: 1.748 | M17: 0 | Q17: 0
A18: 04 - 05 | E18: 21.758 | I18: 1.794 | M18: 0 | Q18: 0
A19: 05 - 06 | E19: 23.736 | I19: 1.748 | M19: 0 | Q19: 0
A20: 06 - 07 | E20: 24.058 | I20: 1.748 | M20: 0 | Q20: 0
A21: 07 - 08 | E21: 26.266 | I21: 1.702 | M21: 0 | Q21: 0
A22: 08 - 09 | E22: 30.13 | I22: 1.794 | M22: 0 | Q22: 0
A23: 09 - 10 | E23: 32.108 | I23: 1.748 | M23: 0 | Q23: 0
A24: 10 - 11 | E24: 31.234 | I24: 1.748 | M24: 0 | Q24: 0
A25: 11 - 12 | E25: 31.004 | I25: 1.748 | M25: 0 | Q25: 0
... A37: 23 - 00 | E37: 28.014 | I37: 3.312 | M37: 0 | Q37: 0
A38: Итого | E38: =SUM(E14:E37) -> 710.01 | I38: =SUM(I14:I37) -> 60.628 | M38: =SUM(M14:M37) -> 0 | Q38: =SUM(Q14:Q37) -> 0
A39: 1, При наличии на предприятии отклонений от нормальных режимов электропотребления (временное изменение схем питания, остановка на ремонт, резкое снижение
A40: эл,потребления и т,д,) последние необходимо перечислить,
A41: Главный инженер АО "Вологдаоблэнерго" А,В, Чурляев
A42: составляется самим предприятием с соблюдением всех пунктов настоящей таблицы,

Sheet 4
B1: АО "Вологдаоблэнерго" | J1: код 900151 | N1: ПС Малечкино, ф, Поселок
B2: наименование предприятия | N2: наименование источника питания
N3: ТП-35; ТП-103
B4: ул, Горького, 99 | I4: Таблица № 1
B5: адрес
A6: почасовых записей показаний электрических счетчиков
A7: ='1'!A7:Q7 -> в режимный день 19 июня 2024 г.
A8: 1630 | B8: 1628
A9: часы суток | B9: Активная энергия | J9: Реактивная энергия
B10: ТП-35 | F10: ТП-103 | J10: ТП-35 | N10: ТП-103
B11: Расчет, Коэф, | E11: 30 | F11: Расчет, Коэф, | I11: 120 | J11: Расчет, Коэф, | M11: =E11 -> 30 | N11: Расчет, Коэф, | Q11: =I11 -> 120
B12: показания счетчика | C12: разность | E12: расход эл,энергии за час | F12: показания счетчика | G12: разность | I12: расход эл,энергии за час | J12: показания счетчика | K12: разность | M12: расход эл,энергии за час | N12: показания счетчика | O12: разность | Q12: расход эл,энергии за час
A13: 1 | B13: 2 | C13: 3 | E13: 4 | F13: 5 | G13: 6 | I13: 7 | J13: 8 | K13: 9 | M13: 10 | N13: 11 | O13: 12 | Q13: 13
A14: 00 - 01 | E14: 1.9205 | I14: 85.0356 | M14: 0 | Q14: 0
A15: 01 - 02 | E15: 1.702 | I15: 70.242 | M15: 0 | Q15: 0
A16: 02 - 03 | E16: 1.5295 | I16: 63.4524 | M16: 0 | Q16: 0
A17: 03 - 04 | E17: 1.6445 | I17: 61.6584 | M17: 0 | Q17: 0
A18: 04 - 05 | E18: 1.702 | I18: 63.204 | M18: 0 | Q18: 0
A19: 05 - 06 | E19: 4.2435 | I19: 69.69 | M19: 0 | Q19: 0
A20: 06 - 07 | E20: 2.2425 | I20: 80.2884 | M20: 0 | Q20: 0
A21: 07 - 08 | E21: 3.4845 | I21: 93.5916 | M21: 0 | Q21: 0
A22: 08 - 09 | E22: 6.9 | I22: 91.5492 | M22: 0 | Q22: 0
A23: 09 - 10 | E23: 5.819 | I23: 90.252 | M23: 0 | Q23: 0
A24: 10 - 11 | E24: 7.107 | I24: 94.9992 | M24: 0 | Q24: 0
A25: 11 - 12 | E25: 4.5655 | I25: 87.8508 | M25: 0 | Q25: 0
... A37: 23 - 00 | E37: 2.7255 | I37: 97.7868 | M37: 0 | Q37: 0
A38: Итого | E38: =SUM(E14:E37) -> 103.5805 | I38: =SUM(I14:I37) -> 2181.228 | M38: =SUM(M14:M37) -> 0 | Q38: =SUM(Q14:Q37) -> 0
A39: 1, При наличии на предприятии отклонений от нормальных режимов электропотребления (временное изменение схем питания, остановка на ремонт, резкое снижение
A40: эл,потребления и т,д,) последние необходимо перечислить,
A41: Главный инженер АО "Вологдаоблэнерго" А,В, Чурляев
A42: составляется самим предприятием с соблюдением всех пунктов настоящей таблицы,

Sheet 5
B1: АО "Вологдаоблэнерго" | J1: код 900151 | N1: ПС Малечкино, ф, Поселок
B2: наименование предприятия | N2: наименование источника питания
N3: ТП-3 ПС Малечкино; ТП-97
B4: ул, Горького, 99 | I4: Таблица № 1
B5: адрес
A6: почасовых записей показаний электрических счетчиков
A7: ='1'!A7:Q7 -> в режимный день 19 июня 2024 г.
A8: 1630 | B8: 1628
A9: часы суток | B9: Активная энергия | J9: Реактивная энергия
B10: ТП-3 ПС Малечкино | F10: ТП-97 | J10: ТП-3 ПС Малечкино | N10: ТП-97
B11: Расчет, Коэф, | E11: 120 | F11: Расчет, Коэф, | I11: 60 | J11: Расчет, Коэф, | M11: =E11 -> 120 | N11: Расчет, Коэф, | Q11: =I11 -> 60
B12: показания счетчика | C12: разность | E12: расход эл,энергии за час | F12: показания счетчика | G12: разность | I12: расход эл,энергии за час | J12: показания счетчика | K12: разность | M12: расход эл,энергии за час | N12: показания счетчика | O12: разность | Q12: расход эл,энергии за час
A13: 1 | B13: 2 | C13: 3 | E13: 4 | F13: 5 | G13: 6 | I13: 7 | J13: 8 | K13: 9 | M13: 10 | N13: 11 | O13: 12 | Q13: 13
A14: 00 - 01 | E14: 0 | I14: 38.1156 | M14: 0 | Q14: 0
A15: 01 - 02 | E15: 0 | I15: 33.4926 | M15: 0 | Q15: 0
A16: 02 - 03 | E16: 0 | I16: 30.7188 | M16: 0 | Q16: 0
A17: 03 - 04 | E17: 0 | I17: 29.8632 | M17: 0 | Q17: 0
A18: 04 - 05 | E18: 0 | I18: 30.3738 | M18: 0 | Q18: 0
A19: 05 - 06 | E19: 0 | I19: 30.8982 | M19: 0 | Q19: 0
A20: 06 - 07 | E20: 0 | I20: 41.0274 | M20: 0 | Q20: 0
A21: 07 - 08 | E21: 0 | I21: 51.9432 | M21: 0 | Q21: 0
A22: 08 - 09 | E22: 0 | I22: 47.7894 | M22: 0 | Q22: 0
A23: 09 - 10 | E23: 0 | I23: 48.8934 | M23: 0 | Q23: 0
A24: 10 - 11 | E24: 0 | I24: 46.6302 | M24: 0 | Q24: 0
A25: 11 - 12 | E25: 0 | I25: 47.6514 | M25: 0 | Q25: 0
... A36: 22 - 23 | E36: 0 | I36: 57.5736 | M36: 0 | Q36: 0
A37: 23 - 00 | E37: 0 | I37: 49.887 | M37: 0 | Q37: 0 | R37: 1
A38: Итого | E38: =SUM(E14:E37) -> 0 | I38: =SUM(I14:I37) -> 1125.9006 | M38: =SUM(M14:M37) -> 0 | Q38: =SUM(Q14:Q37) -> 0
A39: 1, При наличии на предприятии отклонений от нормальных режимов электропотребления (временное изменение схем питания, остановка на ремонт, резкое снижение
A40: эл,потребления и т,д,) последние необходимо перечислить,
A41: Главный инженер АО "Вологдаоблэнерго" А,В, Чурляев
A42: составляется самим предприятием с соблюдением всех пунктов настоящей таблицы,

Sheet 6
B1: АО "Вологдаоблэнерго" | J1: код 900151 | N1: ПС Малечкино, ф, Поселок
B2: наименование предприятия | N2: наименование источника питания
N3: ТП-15 Кормоцех В-1
B4: ул, Горького, 99 | I4: Таблица № 1 | N4: ТП-15 Кормоцех В-2
B5: адрес
A6: почасовых записей показаний электрических счетчиков
A7: ='1'!A7:Q7 -> в режимный день 19 июня 2024 г.
A8: 1630 | B8: 1628
A9: часы суток | B9: Активная энергия | J9: Реактивная энергия
B10: =N3 -> ТП-15 Кормоцех В-1 | F10: =N4 -> ТП-15 Кормоцех В-2 | J10: =N3 -> ТП-15 Кормоцех В-1 | N10: =N4 -> ТП-15 Кормоцех В-2
B11: Расчет, Коэф, | E11: 60 | F11: Расчет, Коэф, | I11: 60 | J11: Расчет, Коэф, | M11: =E11 -> 60 | N11: Расчет, Коэф, | Q11: =I11 -> 60
B12: показания счетчика | C12: разность | E12: расход эл,энергии за час | F12: показания счетчика | G12: разность | I12: расход эл,энергии за час | J12: показания счетчика | K12: разность | M12: расход эл,энергии за час | N12: показания счетчика | O12: разность | Q12: расход эл,энергии за час
A13: 1 | B13: 2 | C13: 3 | E13: 4 | F13: 5 | G13: 6 | I13: 7 | J13: 8 | K13: 9 | M13: 10 | N13: 11 | O13: 12 | Q13: 13
A14: 00 - 01 | E14: 0.8352 | I14: 0 | M14: 0 | Q14: 0
A15: 01 - 02 | E15: 0.8352 | I15: 0 | M15: 0 | Q15: 0
A16: 02 - 03 | E16: 0.801792 | I16: 0 | M16: 0 | Q16: 0
A17: 03 - 04 | E17: 0.801792 | I17: 0 | M17: 0 | Q17: 0
A18: 04 - 05 | E18: 0.33408 | I18: 0 | M18: 0 | Q18: 0
A19: 05 - 06 | E19: 0 | I19: 0 | M19: 0 | Q19: 0
A20: 06 - 07 | E20: 0.033408 | I20: 0 | M20: 0 | Q20: 0
A21: 07 - 08 | E21: 0.100224 | I21: 0 | M21: 0 | Q21: 0
A22: 08 - 09 | E22: 0.400896 | I22: 0 | M22: 0 | Q22: 0
A23: 09 - 10 | E23: 0.367488 | I23: 0 | M23: 0 | Q23: 0
A24: 10 - 11 | E24: 13.3632 | I24: 0 | M24: 0 | Q24: 0
A25: 11 - 12 | E25: 5.144832 | I25: 0 | M25: 0 | Q25: 0
... A37: 23 - 00 | E37: 0.768384 | I37: 0 | M37: 0 | Q37: 0
A38: Итого | E38: =SUM(E14:E37) -> 59.399424 | I38: =SUM(I14:I37) -> 0 | M38: =SUM(M14:M37) -> 0 | Q38: =SUM(Q14:Q37) -> 0
A39: 1, При наличии на предприятии отклонений от нормальных режимов электропотребления (временное изменение схем питания, остановка на ремонт, резкое снижение
A40: эл,потребления и т,д,) последние необходимо перечислить,
A41: Главный инженер АО "Вологдаоблэнерго" А,В, Чурляев
A42: составляется самим предприятием с соблюдением всех пунктов настоящей таблицы,

Sheet 7
B1: АО "Вологдаоблэнерго" | J1: код 900151 | N1: ПС Малечкино, ф, Парфеново-1
B2: наименование предприятия | N2: наименование источника питания
N3: ЦРП-Парфеново
B4: ул, Горького, 99 | I4: Таблица № 1
B5: адрес
A6: почасовых записей показаний электрических счетчиков
A7: ='1'!A7:Q7 -> в режимный день 19 июня 2024 г.
A8: 1630 | B8: 1628
A9: часы суток | B9: Активная энергия | J9: Реактивная энергия
B10: =N3 -> ЦРП-Парфеново | F10: =N4 -> 0 | J10: =N3 -> ЦРП-Парфеново | N10: =N4 -> 0
B11: Расчет, Коэф, | E11: 4000 | F11: Расчет, Коэф, | I11: 3000 | J11: Расчет, Коэф, | M11: =E11 -> 4000 | N11: Расчет, Коэф, | Q11: =I11 -> 3000
B12: показания счетчика | C12: разность | E12: расход эл,энергии за час | F12: показания счетчика | G12: разность | I12: расход эл,энергии за час | J12: показания счетчика | K12: разность | M12: расход эл,энергии за час | N12: показания счетчика | O12: разность | Q12: расход эл,энергии за час
A13: 1 | B13: 2 | C13: 3 | E13: 4 | F13: 5 | G13: 6 | I13: 7 | J13: 8 | K13: 9 | M13: 10 | N13: 11 | O13: 12 | Q13: 13
A14: 00 - 01 | E14: 201.33888 | I14: 0 | M14: 0 | Q14: 0
A15: 01 - 02 | E15: 202.22976 | I15: 0 | M15: 0 | Q15: 0
A16: 02 - 03 | E16: 197.32992 | I16: 0 | M16: 0 | Q16: 0
A17: 03 - 04 | E17: 192.43008 | I17: 0 | M17: 0 | Q17: 0
A18: 04 - 05 | E18: 181.29408 | I18: 0 | M18: 0 | Q18: 0
A19: 05 - 06 | E19: 179.06688 | I19: 0 | M19: 0 | Q19: 0
A20: 06 - 07 | E20: 187.97568 | I20: 0 | M20: 0 | Q20: 0
A21: 07 - 08 | E21: 210.69312 | I21: 0 | M21: 0 | Q21: 0
A22: 08 - 09 | E22: 434.304 | I22: 0 | M22: 0 | Q22: 0
A23: 09 - 10 | E23: 629.40672 | I23: 0 | M23: 0 | Q23: 0
A24: 10 - 11 | E24: 617.82528 | I24: 0 | M24: 0 | Q24: 0
A25: 11 - 12 | E25: 637.42464 | I25: 0 | M25: 0 | Q25: 0
... A37: 23 - 00 | E37: 223.16544 | I37: 0 | M37: 0 | Q37: 0
A38: Итого | E38: =SUM(E14:E37) -> 8865.1469 | I38: =SUM(I14:I37) -> 0 | M38: =SUM(M14:M37) -> 0 | Q38: =SUM(Q14:Q37) -> 0
A39: 1, При наличии на предприятии отклонений от нормальных режимов электропотребления (временное изменение схем питания, остановка на ремонт, резкое снижение
A40: эл,потребления и т,д,) последние необходимо перечислить,
A41: Главный инженер АО "Вологдаоблэнерго" А,В, Чурляев
A42: составляется самим предприятием с соблюдением всех пунктов настоящей таблицы,

Sheet 8
B1: АО "Вологдаоблэнерго" | J1: код 900151 | N1: ПС Малечкино, ф, Киселево
B2: наименование предприятия | N2: наименование источника питания
N3: ЦРП-Парфеново
B4: ул, Горького, 99 | I4: Таблица № 1
B5: адрес
A6: почасовых записей показаний электрических счетчиков
A7: ='1'!A7:Q7 -> в режимный день 19 июня 2024 г.
A8: 1630 | B8: 1628
A9: часы суток | B9: Активная энергия | J9: Реактивная энергия
B10: =N3 -> ЦРП-Парфеново | F10: =N4 -> 0 | J10: =N3 -> ЦРП-Парфеново | N10: =N4 -> 0
B11: Расчет, Коэф, | E11: 6000 | F11: Расчет, Коэф, | J11: Расчет, Коэф, | M11: =E11 -> 6000 | N11: Расчет, Коэф, | Q11: =I11 -> 0
B12: показания счетчика | C12: разность | E12: расход эл,энергии за час | F12: показания счетчика | G12: разность | I12: расход эл,энергии за час | J12: показания счетчика | K12: разность | M12: расход эл,энергии за час | N12: показания счетчика | O12: разность | Q12: расход эл,энергии за час
A13: 1 | B13: 2 | C13: 3 | E13: 4 | F13: 5 | G13: 6 | I13: 7 | J13: 8 | K13: 9 | M13: 10 | N13: 11 | O13: 12 | Q13: 13
A14: 00 - 01 | E14: 0 | M14: 0
A15: 01 - 02 | E15: 0 | M15: 0
A16: 02 - 03 | E16: 0 | M16: 0
A17: 03 - 04 | E17: 0 | M17: 0
A18: 04 - 05 | E18: 0 | M18: 0
A19: 05 - 06 | E19: 0 | M19: 0
A20: 06 - 07 | E20: 0 | M20: 0
A21: 07 - 08 | E21: 0 | M21: 0
A22: 08 - 09 | E22: 0 | M22: 0
A23: 09 - 10 | E23: 0 | M23: 0
A24: 10 - 11 | E24: 0 | M24: 0
A25: 11 - 12 | E25: 0 | M25: 0
... A37: 23 - 00 | E37: 0 | M37: 0
A38: Итого | E38: =SUM(E14:E37) -> 0 | I38: =SUM(I14:I37) -> 0 | M38: =SUM(M14:M37) -> 0 | Q38: =SUM(Q14:Q37) -> 0
A39: 1, При наличии на предприятии отклонений от нормальных режимов электропотребления (временное изменение схем питания, остановка на ремонт, резкое снижение
A40: эл,потребления и т,д,) последние необходимо перечислить,
A41: Главный инженер АО "Вологдаоблэнерго" А,В, Чурляев
A42: составляется самим предприятием с соблюдением всех пунктов настоящей таблицы,

Sheet 9
B1: АО "Вологдаоблэнерго" | J1: код 900151 | N1: ПС Малечкино, ф, Киселево
B2: наименование предприятия | N2: наименование источника питания
N3: ТП-51
B4: ул, Горького, 99 | I4: Таблица № 1 | N4: КТП-250 Курилово-ферма
B5: адрес
A6: почасовых записей показаний электрических счетчиков
A7: ='1'!A7:Q7 -> в режимный день 19 июня 2024 г.
A8: 1630 | B8: 1628
A9: часы суток | B9: Активная энергия | J9: Реактивная энергия
B10: =N3 -> ТП-51 | F10: =N4 -> КТП-250 Курилово-ферма | J10: =N3 -> ТП-51 | N10: =N4 -> КТП-250 Курилово-ферма
B11: Расчет, Коэф, | E11: 120 | F11: Расчет, Коэф, | I11: 30 | J11: Расчет, Коэф, | M11: =E11 -> 120 | N11: Расчет, Коэф, | Q11: =I11 -> 30
B12: показания счетчика | C12: разность | E12: расход эл,энергии за час | F12: показания счетчика | G12: разность | I12: расход эл,энергии за час | J12: показания счетчика | K12: разность | M12: расход эл,энергии за час | N12: показания счетчика | O12: разность | Q12: расход эл,энергии за час
A13: 1 | B13: 2 | C13: 3 | E13: 4 | F13: 5 | G13: 6 | I13: 7 | J13: 8 | K13: 9 | M13: 10 | N13: 11 | O13: 12 | Q13: 13
A14: 00 - 01 | E14: 4.67712 | I14: 0 | M14: 0 | Q14: 0
A15: 01 - 02 | E15: 4.409856 | I15: 0 | M15: 0 | Q15: 0
A16: 02 - 03 | E16: 4.276224 | I16: 0 | M16: 0 | Q16: 0
A17: 03 - 04 | E17: 4.320768 | I17: 0 | M17: 0 | Q17: 0
A18: 04 - 05 | E18: 4.276224 | I18: 0 | M18: 0 | Q18: 0
A19: 05 - 06 | E19: 4.4544 | I19: 0 | M19: 0 | Q19: 0
A20: 06 - 07 | E20: 4.498944 | I20: 0 | M20: 0 | Q20: 0
A21: 07 - 08 | E21: 4.721664 | I21: 0 | M21: 0 | Q21: 0
A22: 08 - 09 | E22: 4.67712 | I22: 0 | M22: 0 | Q22: 0
A23: 09 - 10 | E23: 5.033472 | I23: 0.16 | M23: 0 | Q23: 0
A24: 10 - 11 | E24: 4.89984 | I24: 0 | M24: 0 | Q24: 0
A25: 11 - 12 | E25: 5.167104 | I25: 0.24 | M25: 0 | Q25: 0
... A37: 23 - 00 | E37: 4.944384 | I37: 0 | M37: 0 | Q37: 0
A38: Итого | E38: =SUM(E14:E37) -> 121.02605 | I38: =SUM(I14:I37) -> 1.32 | M38: =SUM(M14:M37) -> 0 | Q38: =SUM(Q14:Q37) -> 0
A39: 1, При наличии на предприятии отклонений от нормальных режимов электропотребления (временное изменение схем питания, остановка на ремонт, резкое снижение
A40: эл,потребления и т,д,) последние необходимо перечислить,
A41: Главный инженер АО "Вологдаоблэнерго" А,В, Чурляев
A42: составляется самим предприятием с соблюдением всех пунктов настоящей таблицы,

Sheet 10
B1: АО "Вологдаоблэнерго" | J1: код 900151 | N1: ПС Малечкино, ф, Тепл, комбинат
B2: наименование предприятия | N2: наименование источника питания
N3: ТП-33;
B4: ул, Горького, 99 | I4: Таблица № 1 | N4: КТП-400 Пилорама Карат плюс
B5: адрес
A6: почасовых записей показаний электрических счетчиков
A7: ='1'!A7:Q7 -> в режимный день 19 июня 2024 г.
A8: 1630 | B8: 1628
A9: часы суток | B9: Активная энергия | J9: Реактивная энергия
B10: =N3 -> ТП-33; | F10: =N4 -> КТП-400 Пилорама Карат плюс | J10: =N3 -> ТП-33; | N10: =N4 -> КТП-400 Пилорама Карат плюс
B11: Расчет, Коэф, | E11: 30 | F11: Расчет, Коэф, | I11: 120 | J11: Расчет, Коэф, | M11: =E11 -> 30 | N11: Расчет, Коэф, | Q11: =I11 -> 120
B12: показания счетчика | C12: разность | E12: расход эл,энергии за час | F12: показания счетчика | G12: разность | I12: расход эл,энергии за час | J12: показания счетчика | K12: разность | M12: расход эл,энергии за час | N12: показания счетчика | O12: разность | Q12: расход эл,энергии за час
A13: 1 | B13: 2 | C13: 3 | E13: 4 | F13: 5 | G13: 6 | I13: 7 | J13: 8 | K13: 9 | M13: 10 | N13: 11 | O13: 12 | Q13: 13
A14: 00 - 01 | E14: 4.142592 | I14: 32.526029 | M14: 0 | Q14: 0
A15: 01 - 02 | E15: 4.409856 | I15: 32.44585 | M15: 0 | Q15: 0
A16: 02 - 03 | E16: 10.824192 | I16: 28.73088 | M16: 0 | Q16: 0
A17: 03 - 04 | E17: 10.957824 | I17: 27.554918 | M17: 0 | Q17: 0
A18: 04 - 05 | E18: 10.735104 | I18: 30.254285 | M18: 0 | Q18: 0
A19: 05 - 06 | E19: 17.773056 | I19: 32.900198 | M19: 0 | Q19: 0
A20: 06 - 07 | E20: 16.214016 | I20: 36.294451 | M20: 0 | Q20: 0
A21: 07 - 08 | E21: 18.663936 | I21: 44.552909 | M21: 0 | Q21: 0
A22: 08 - 09 | E22: 13.80864 | I22: 63.047578 | M22: 0 | Q22: 0
A23: 09 - 10 | E23: 15.36768 | I23: 87.15479 | M23: 0 | Q23: 0
A24: 10 - 11 | E24: 12.516864 | I24: 69.087744 | M24: 0 | Q24: 0
A25: 11 - 12 | E25: 17.862144 | I25: 54.308045 | M25: 0 | Q25: 0
... A37: 23 - 00 | E37: 16.659456 | I37: 43.216589 | M37: 0 | Q37: 0
A38: Итого | E38: =SUM(E14:E37) -> 313.50067 | I38: =SUM(I14:I37) -> 1307.1882 | M38: =SUM(M14:M37) -> 0 | Q38: =SUM(Q14:Q37) -> 0
A39: 1, При наличии на предприятии отклонений от нормальных режимов электропотребления (временное изменение схем питания, остановка на ремонт, резкое снижение
A40: эл,потребления и т,д,) последние необходимо перечислить,
A41: Главный инженер АО "Вологдаоблэнерго" А,В, Чурляев
A42: составляется самим предприятием с соблюдением всех пунктов настоящей таблицы,

Sheet 11
B1: АО "Вологдаоблэнерго" | J1: код 900151 | N1: ПС Загородная, ф, Тоншалово-2
B2: наименование предприятия | N2: наименование источника питания
N3: ТП-4 очистные В-1;
B4: ул, Горького, 99 | I4: Таблица № 1 | N4: ТП-4 очистные В-2
B5: адрес
A6: почасовых записей показаний электрических счетчиков
A7: ='1'!A7:Q7 -> в режимный день 19 июня 2024 г.
A8: 1630 | B8: 1628
A9: часы суток | B9: Активная энергия | J9: Реактивная энергия
B10: =N3 -> ТП-4 очистные В-1; | F10: =N4 -> ТП-4 очистные В-2 | J10: =N3 -> ТП-4 очистные В-1; | N10: =N4 -> ТП-4 очистные В-2
B11: Расчет, Коэф, | E11: 120 | F11: Расчет, Коэф, | I11: 120 | J11: Расчет, Коэф, | M11: =E11 -> 120 | N11: Расчет, Коэф, | Q11: =I11 -> 120
B12: показания счетчика | C12: разность | E12: расход эл,энергии за час | F12: показания счетчика | G12: разность | I12: расход эл,энергии за час | J12: показания счетчика | K12: разность | M12: расход эл,энергии за час | N12: показания счетчика | O12: разность | Q12: расход эл,энергии за час
A13: 1 | B13: 2 | C13: 3 | E13: 4 | F13: 5 | G13: 6 | I13: 7 | J13: 8 | K13: 9 | M13: 10 | N13: 11 | O13: 12 | Q13: 13
A14: 00 - 01 | E14: 69.007565 | I14: 12.588134 | M14: 0 | Q14: 0
A15: 01 - 02 | E15: 68.980838 | I15: 12.02688 | M15: 0 | Q15: 0
A16: 02 - 03 | E16: 73.176883 | I16: 11.919974 | M16: 0 | Q16: 0
A17: 03 - 04 | E17: 79.029965 | I17: 11.278541 | M17: 0 | Q17: 0
A18: 04 - 05 | E18: 72.82944 | I18: 10.904371 | M18: 0 | Q18: 0
A19: 05 - 06 | E19: 71.466394 | I19: 13.149389 | M19: 0 | Q19: 0
A20: 06 - 07 | E20: 75.021005 | I20: 14.352077 | M20: 0 | Q20: 0
A21: 07 - 08 | E21: 76.624589 | I21: 15.768576 | M21: 0 | Q21: 0
A22: 08 - 09 | E22: 75.261542 | I22: 16.944538 | M22: 0 | Q22: 0
A23: 09 - 10 | E23: 75.021005 | I23: 27.474739 | M23: 0 | Q23: 0
A24: 10 - 11 | E24: 74.700288 | I24: 26.218598 | M24: 0 | Q24: 0
A25: 11 - 12 | E25: 73.337242 | I25: 31.69751 | M25: 0 | Q25: 0
... A37: 23 - 00 | E37: 74.940826 | I37: 10.556928 | M37: 0 | Q37: 0
A38: Итого | E38: =SUM(E14:E37) -> 1777.0383 | I38: =SUM(I14:I37) -> 489.1733 | M38: =SUM(M14:M37) -> 0 | Q38: =SUM(Q14:Q37) -> 0
A39: 1, При наличии на предприятии отклонений от нормальных режимов электропотребления (временное изменение схем питания, остановка на ремонт, резкое снижение
A40: эл,потребления и т,д,) последние необходимо перечислить,
A41: Главный инженер АО "Вологдаоблэнерго" А,В, Чурляев
A42: составляется самим предприятием с соблюдением всех пунктов настоящей таблицы,

Sheet 12
B1: АО "Вологдаоблэнерго" | J1: код 900151 | N1: ПС Загородная, ф, Тоншалово-2
B2: наименование предприятия | N2: наименование источника питания
N3: ТП-62 В-1;
B4: ул, Горького, 99 | I4: Таблица № 1 | N4: ТП-62 В-2
B5: адрес
A6: почасовых записей показаний электрических счетчиков
A7: ='1'!A7:Q7 -> в режимный день 19 июня 2024 г.
A8: 1630 | B8: 1628
A9: часы суток | B9: Активная энергия | J9: Реактивная энергия
B10: =N3 -> ТП-62 В-1; | F10: =N4 -> ТП-62 В-2 | J10: =N3 -> ТП-62 В-1; | N10: =N4 -> ТП-62 В-2
B11: Расчет, Коэф, | E11: 120 | F11: Расчет, Коэф, | I11: 120 | J11: Расчет, Коэф, | M11: =E11 -> 120 | N11: Расчет, Коэф, | Q11: =I11 -> 120
B12: показания счетчика | C12: разность | E12: расход эл,энергии за час | F12: показания счетчика | G12: разность | I12: расход эл,энергии за час | J12: показания счетчика | K12: разность | M12: расход эл,энергии за час | N12: показания счетчика | O12: разность | Q12: расход эл,энергии за час
A13: 1 | B13: 2 | C13: 3 | E13: 4 | F13: 5 | G13: 6 | I13: 7 | J13: 8 | K13: 9 | M13: 10 | N13: 11 | O13: 12 | Q13: 13
A14: 00 - 01 | E14: 47.359181 | I14: 0 | M14: 0 | Q14: 0
A15: 01 - 02 | E15: 44.47273 | I15: 0 | M15: 0 | Q15: 0
A16: 02 - 03 | E16: 42.013901 | I16: 0 | M16: 0 | Q16: 0
A17: 03 - 04 | E17: 40.837939 | I17: 0 | M17: 0 | Q17: 0
A18: 04 - 05 | E18: 41.960448 | I18: 0 | M18: 0 | Q18: 0
A19: 05 - 06 | E19: 45.675418 | I19: 0 | M19: 0 | Q19: 0
A20: 06 - 07 | E20: 72.45527 | I20: 0 | M20: 0 | Q20: 0
A21: 07 - 08 | E21: 84.134707 | I21: 0 | M21: 0 | Q21: 0
A22: 08 - 09 | E22: 89.720525 | I22: 0 | M22: 0 | Q22: 0
A23: 09 - 10 | E23: 94.264013 | I23: 0 | M23: 0 | Q23: 0
A24: 10 - 11 | E24: 101.66723 | I24: 0 | M24: 0 | Q24: 0
A25: 11 - 12 | E25: 92.526797 | I25: 0 | M25: 0 | Q25: 0
... A37: 23 - 00 | E37: 50.40599 | I37: 0 | M37: 0 | Q37: 0
A38: Итого | E38: =SUM(E14:E37) -> 1656.2083 | I38: =SUM(I14:I37) -> 0 | M38: =SUM(M14:M37) -> 0 | Q38: =SUM(Q14:Q37) -> 0
A39: 1, При наличии на предприятии отклонений от нормальных режимов электропотребления (временное изменение схем питания, остановка на ремонт, резкое снижение
A40: эл,потребления и т,д,) последние необходимо перечислить,
A41: Главный инженер АО "Вологдаоблэнерго" А,В, Чурляев
A42: составляется самим предприятием с соблюдением всех пунктов настоящей таблицы,

Sheet 13
B1: АО "Вологдаоблэнерго" | J1: код 900151 | N1: ПС Загородная, ф, Тоншалово-2
B2: наименование предприятия | N2: наименование источника питания
N3: ТП-5 ПМК-1 В-1
B4: ул, Горького, 99 | I4: Таблица № 1 | N4: ТП-5 ПМК-1 В-2
B5: адрес
A6: почасовых записей показаний электрических счетчиков
A7: ='1'!A7:Q7 -> в режимный день 19 июня 2024 г.
A8: 1630 | B8: 1628
A9: часы суток | B9: Активная энергия | J9: Реактивная энергия
B10: =N3 -> ТП-5 ПМК-1 В-1 | F10: =N4 -> ТП-5 ПМК-1 В-2 | J10: =N3 -> ТП-5 ПМК-1 В-1 | N10: =N4 -> ТП-5 ПМК-1 В-2
B11: Расчет, Коэф, | E11: 120 | F11: Расчет, Коэф, | I11: 120 | J11: Расчет, Коэф, | M11: =E11 -> 120 | N11: Расчет, Коэф, | Q11: =I11 -> 120
B12: показания счетчика | C12: разность | E12: расход эл,энергии за час | F12: показания счетчика | G12: разность | I12: расход эл,энергии за час | J12: показания счетчика | K12: разность | M12: расход эл,энергии за час | N12: показания счетчика | O12: разность | Q12: расход эл,энергии за час
A13: 1 | B13: 2 | C13: 3 | E13: 4 | F13: 5 | G13: 6 | I13: 7 | J13: 8 | K13: 9 | M13: 10 | N13: 11 | O13: 12 | Q13: 13
A14: 00 - 01 | E14: 38.832 | I14: 0 | M14: 0 | Q14: 0
A15: 01 - 02 | E15: 34.68 | I15: 13.92 | M15: 0 | Q15: 0
A16: 02 - 03 | E16: 32.136 | I16: 13.608 | M16: 0 | Q16: 0
A17: 03 - 04 | E17: 30.936 | I17: 13.08 | M17: 0 | Q17: 0
A18: 04 - 05 | E18: 41.664 | I18: 12.984 | M18: 0 | Q18: 0
A19: 05 - 06 | E19: 58.848 | I19: 13.632 | M19: 0 | Q19: 0
A20: 06 - 07 | E20: 64.08 | I20: 13.968 | M20: 0 | Q20: 0
A21: 07 - 08 | E21: 60.528 | I21: 13.968 | M21: 0 | Q21: 0
A22: 08 - 09 | E22: 69.936 | I22: 14.928 | M22: 0 | Q22: 0
A23: 09 - 10 | E23: 60.528 | I23: 16.656 | M23: 0 | Q23: 0
A24: 10 - 11 | E24: 53.208 | I24: 15.816 | M24: 0 | Q24: 0
A25: 11 - 12 | E25: 48 | I25: 16.848 | M25: 0 | Q25: 0
... A37: 23 - 00 | E37: 46.032 | I37: 14.976 | M37: 0 | Q37: 0
A38: Итого | E38: =SUM(E14:E37) -> 1188.504 | I38: =SUM(I14:I37) -> 377.928 | M38: =SUM(M14:M37) -> 0 | Q38: =SUM(Q14:Q37) -> 0
A39: 1, При наличии на предприятии отклонений от нормальных режимов электропотребления (временное изменение схем питания, остановка на ремонт, резкое снижение
A40: эл,потребления и т,д,) последние необходимо перечислить,
A41: Главный инженер АО "Вологдаоблэнерго" А,В, Чурляев
A42: составляется самим предприятием с соблюдением всех пунктов настоящей таблицы,

Sheet 14
B1: АО "Вологдаоблэнерго" | J1: код 900151 | N1: ПС Загородная, ф, Тоншалово-2
B2: наименование предприятия | N2: наименование источника питания
N3: ТП-65 В-1
B4: ул, Горького, 99 | I4: Таблица № 1 | N4: ТП-65 В-2
B5: адрес
A6: почасовых записей показаний электрических счетчиков
A7: ='1'!A7:Q7 -> в режимный день 19 июня 2024 г.
A8: 1630 | B8: 1628
A9: часы суток | B9: Активная энергия | J9: Реактивная энергия
B10: =N3 -> ТП-65 В-1 | F10: =N4 -> ТП-65 В-2 | J10: =N3 -> ТП-65 В-1 | N10: =N4 -> ТП-65 В-2
B11: Расчет, Коэф, | E11: 120 | F11: Расчет, Коэф, | I11: 120 | J11: Расчет, Коэф, | M11: =E11 -> 120 | N11: Расчет, Коэф, | Q11: =I11 -> 120
B12: показания счетчика | C12: разность | E12: расход эл,энергии за час | F12: показания счетчика | G12: разность | I12: расход эл,энергии за час | J12: показания счетчика | K12: разность | M12: расход эл,энергии за час | N12: показания счетчика | O12: разность | Q12: расход эл,энергии за час
A13: 1 | B13: 2 | C13: 3 | E13: 4 | F13: 5 | G13: 6 | I13: 7 | J13: 8 | K13: 9 | M13: 10 | N13: 11 | O13: 12 | Q13: 13
A14: 00 - 01 | E14: 54.3048 | I14: 39.98808 | M14: 0 | Q14: 0
A15: 01 - 02 | E15: 49.54224 | I15: 37.1712 | M15: 0 | Q15: 0
A16: 02 - 03 | E16: 44.37312 | I16: 33.9768 | M16: 0 | Q16: 0
A17: 03 - 04 | E17: 41.9628 | I17: 32.0892 | M17: 0 | Q17: 0
A18: 04 - 05 | E18: 41.90472 | I18: 32.3796 | M18: 0 | Q18: 0
A19: 05 - 06 | E19: 41.78856 | I19: 34.90608 | M19: 0 | Q19: 0
A20: 06 - 07 | E20: 48.32256 | I20: 40.24944 | M20: 0 | Q20: 0
A21: 07 - 08 | E21: 52.88184 | I21: 39.46536 | M21: 0 | Q21: 0
A22: 08 - 09 | E22: 58.89312 | I22: 41.61432 | M22: 0 | Q22: 0
A23: 09 - 10 | E23: 55.84392 | I23: 44.286 | M23: 0 | Q23: 0
A24: 10 - 11 | E24: 58.86408 | I24: 41.29488 | M24: 0 | Q24: 0
A25: 11 - 12 | E25: 68.76672 | I25: 40.45272 | M25: 0 | Q25: 0
... A37: 23 - 00 | E37: 63.7428 | I37: 47.916 | M37: 0 | Q37: 0
A38: Итого | E38: =SUM(E14:E37) -> 1459.4052 | I38: =SUM(I14:I37) -> 1067.1038 | M38: =SUM(M14:M37) -> 0 | Q38: =SUM(Q14:Q37) -> 0
A39: 1, При наличии на предприятии отклонений от нормальных режимов электропотребления (временное изменение схем питания, остановка на ремонт, резкое снижение
A40: эл,потребления и т,д,) последние необходимо перечислить,
A41: Главный инженер АО "Вологдаоблэнерго" А,В, Чурляев
A42: составляется самим предприятием с соблюдением всех пунктов настоящей таблицы,

Sheet 15
B1: АО "Вологдаоблэнерго" | J1: код 900151 | N1: ПС Загородная, ф, Тоншалово-2
B2: наименование предприятия | N2: наименование источника питания
N3: ТП-61
B4: ул, Горького, 99 | I4: Таблица № 1
B5: адрес
A6: почасовых записей показаний электрических счетчиков
A7: ='1'!A7:Q7 -> в режимный день 19 июня 2024 г.
A8: 1630 | B8: 1628
A9: часы суток | B9: Активная энергия | J9: Реактивная энергия
B10: =N3 -> ТП-61 | F10: =N4 -> 0 | J10: =N3 -> ТП-61 | N10: =N4 -> 0
B11: Расчет, Коэф, | E11: 200 | F11: Расчет, Коэф, | I11: 120 | J11: Расчет, Коэф, | M11: =E11 -> 200 | N11: Расчет, Коэф, | Q11: =I11 -> 120
B12: показания счетчика | C12: разность | E12: расход эл,энергии за час | F12: показания счетчика | G12: разность | I12: расход эл,энергии за час | J12: показания счетчика | K12: разность | M12: расход эл,энергии за час | N12: показания счетчика | O12: разность | Q12: расход эл,энергии за час
A13: 1 | B13: 2 | C13: 3 | E13: 4 | F13: 5 | G13: 6 | I13: 7 | J13: 8 | K13: 9 | M13: 10 | N13: 11 | O13: 12 | Q13: 13
A14: 00 - 01 | E14: 117.128 | I14: 0 | M14: 0 | Q14: 0
A15: 01 - 02 | E15: 106.9156 | I15: 0 | M15: 0 | Q15: 0
A16: 02 - 03 | E16: 101.2528 | I16: 0 | M16: 0 | Q16: 0
A17: 03 - 04 | E17: 94.2832 | I17: 0 | M17: 0 | Q17: 0
A18: 04 - 05 | E18: 93.2668 | I18: 0 | M18: 0 | Q18: 0
A19: 05 - 06 | E19: 108.9968 | I19: 0 | M19: 0 | Q19: 0
A20: 06 - 07 | E20: 121.6776 | I20: 0 | M20: 0 | Q20: 0
A21: 07 - 08 | E21: 125.0172 | I21: 0 | M21: 0 | Q21: 0
A22: 08 - 09 | E22: 133.2452 | I22: 0 | M22: 0 | Q22: 0
A23: 09 - 10 | E23: 135.6168 | I23: 0 | M23: 0 | Q23: 0
A24: 10 - 11 | E24: 145.0548 | I24: 0 | M24: 0 | Q24: 0
A25: 11 - 12 | E25: 133.4872 | I25: 0 | M25: 0 | Q25: 0
... A37: 23 - 00 | E37: 134.4552 | I37: 0 | M37: 0 | Q37: 0
A38: Итого | E38: =SUM(E14:E37) -> 3133.7548 | I38: =SUM(I14:I37) -> 0 | M38: =SUM(M14:M37) -> 0 | Q38: =SUM(Q14:Q37) -> 0
A39: 1, При наличии на предприятии отклонений от нормальных режимов электропотребления (временное изменение схем питания, остановка на ремонт, резкое снижение
A40: эл,потребления и т,д,) последние необходимо перечислить,
A41: Главный инженер АО "Вологдаоблэнерго" А,В, Чурляев
A42: составляется самим предприятием с соблюдением всех пунктов настоящей таблицы,

Sheet 16
B1: АО "Вологдаоблэнерго" | J1: код 900151 | N1: ПС Загородная, ф, Солманское
B2: наименование предприятия | N2: наименование источника питания
N3: ТП-Котельная ПМК-2 В-1
B4: ул, Горького, 99 | I4: Таблица № 1 | N4: ТП-Котельная ПМК-2 В-2
B5: адрес
A6: почасовых записей показаний электрических счетчиков
A7: ='1'!A7:Q7 -> в режимный день 19 июня 2024 г.
A8: 1630 | B8: 1628
A9: часы суток | B9: Активная энергия | J9: Реактивная энергия
B10: =N3 -> ТП-Котельная ПМК-2 В-1 | F10: =N4 -> ТП-Котельная ПМК-2 В-2 | J10: =N3 -> ТП-Котельная ПМК-2 В-1 | N10: =N4 -> ТП-Котельная ПМК-2 В-2
B11: Расчет, Коэф, | E11: 80 | F11: Расчет, Коэф, | I11: 80 | J11: Расчет, Коэф, | M11: =E11 -> 80 | N11: Расчет, Коэф, | Q11: =I11 -> 80
B12: показания счетчика | C12: разность | E12: расход эл,энергии за час | F12: показания счетчика | G12: разность | I12: расход эл,энергии за час | J12: показания счетчика | K12: разность | M12: расход эл,энергии за час | N12: показания счетчика | O12: разность | Q12: расход эл,энергии за час
A13: 1 | B13: 2 | C13: 3 | E13: 4 | F13: 5 | G13: 6 | I13: 7 | J13: 8 | K13: 9 | M13: 10 | N13: 11 | O13: 12 | Q13: 13
A14: 00 - 01 | E14: 18.56624 | I14: 0 | M14: 0 | Q14: 0
A15: 01 - 02 | E15: 17.79184 | I15: 0 | M15: 0 | Q15: 0
A16: 02 - 03 | E16: 17.96608 | I16: 0 | M16: 0 | Q16: 0
A17: 03 - 04 | E17: 18.35328 | I17: 0 | M17: 0 | Q17: 0
A18: 04 - 05 | E18: 17.7144 | I18: 0 | M18: 0 | Q18: 0
A19: 05 - 06 | E19: 18.06288 | I19: 0 | M19: 0 | Q19: 0
A20: 06 - 07 | E20: 28.53664 | I20: 0 | M20: 0 | Q20: 0
A21: 07 - 08 | E21: 33.08624 | I21: 0 | M21: 0 | Q21: 0
A22: 08 - 09 | E22: 99.14256 | I22: 0 | M22: 0 | Q22: 0
A23: 09 - 10 | E23: 84.35152 | I23: 0 | M23: 0 | Q23: 0
A24: 10 - 11 | E24: 82.88016 | I24: 0 | M24: 0 | Q24: 0
A25: 11 - 12 | E25: 71.32224 | I25: 0 | M25: 0 | Q25: 0
... A37: 23 - 00 | E37: 17.3272 | I37: 0 | M37: 0 | Q37: 0
A38: Итого | E38: =SUM(E14:E37) -> 881.96416 | I38: =SUM(I14:I37) -> 0 | M38: =SUM(M14:M37) -> 0 | Q38: =SUM(Q14:Q37) -> 0
A39: 1, При наличии на предприятии отклонений от нормальных режимов электропотребления (временное изменение схем питания, остановка на ремонт, резкое снижение
A40: эл,потребления и т,д,) последние необходимо перечислить,
A41: Главный инженер АО "Вологдаоблэнерго" А,В, Чурляев
A42: составляется самим предприятием с соблюдением всех пунктов настоящей таблицы,

Sheet 17
B1: АО "Вологдаоблэнерго" | J1: код 900151 | N1: ПС Нелазское, ф, Шулма
B2: наименование предприятия | N2: наименование источника питания
N3: ТП-244
B4: ул, Горького, 99 | I4: Таблица № 1 | N4: ТП-250
B5: адрес
A6: почасовых записей показаний электрических счетчиков
A7: ='1'!A7:Q7 -> в режимный день 19 июня 2024 г.
A8: 1630 | B8: 1628
A9: часы суток | B9: Активная энергия | J9: Реактивная энергия
B10: =N3 -> ТП-244 | F10: =N4 -> ТП-250 | J10: =B10 -> ТП-244 | N10: =F10 -> ТП-250
B11: Расчет, Коэф, | E11: 60 | F11: Расчет, Коэф, | I11: 60 | J11: Расчет, Коэф, | M11: =E11 -> 60 | N11: Расчет, Коэф, | Q11: =I11 -> 60
B12: показания счетчика | C12: разность | E12: расход эл,энергии за час | F12: показания счетчика | G12: разность | I12: расход эл,энергии за час | J12: показания счетчика | K12: разность | M12: расход эл,энергии за час | N12: показания счетчика | O12: разность | Q12: расход эл,энергии за час
A13: 1 | B13: 2 | C13: 3 | E13: 4 | F13: 5 | G13: 6 | I13: 7 | J13: 8 | K13: 9 | M13: 10 | N13: 11 | O13: 12 | Q13: 13
A14: 00 - 01 | E14: 0 | I14: 42.834 | M14: 0 | Q14: 0
A15: 01 - 02 | E15: 0 | I15: 42.7614 | M15: 0 | Q15: 0
A16: 02 - 03 | E16: 0 | I16: 42.834 | M16: 0 | Q16: 0
A17: 03 - 04 | E17: 0 | I17: 42.7614 | M17: 0 | Q17: 0
A18: 04 - 05 | E18: 0 | I18: 42.834 | M18: 0 | Q18: 0
A19: 05 - 06 | E19: 0 | I19: 42.834 | M19: 0 | Q19: 0
A20: 06 - 07 | E20: 0 | I20: 42.9792 | M20: 0 | Q20: 0
A21: 07 - 08 | E21: 0 | I21: 43.0518 | M21: 0 | Q21: 0
A22: 08 - 09 | E22: 0 | I22: 43.197 | M22: 0 | Q22: 0
A23: 09 - 10 | E23: 0 | I23: 43.0518 | M23: 0 | Q23: 0
A24: 10 - 11 | E24: 0 | I24: 43.0518 | M24: 0 | Q24: 0
A25: 11 - 12 | E25: 0 | I25: 43.1244 | M25: 0 | Q25: 0
... A37: 23 - 00 | E37: 0 | I37: 42.834 | M37: 0 | Q37: 0
A38: Итого | E38: =SUM(E14:E37) -> 0 | I38: =SUM(I14:I37) -> 1031.8638 | M38: =SUM(M14:M37) -> 0 | Q38: =SUM(Q14:Q37) -> 0
A39: 1, При наличии на предприятии отклонений от нормальных режимов электропотребления (временное изменение схем питания, остановка на ремонт, резкое снижение
A40: эл,потребления и т,д,) последние необходимо перечислить,
A41: Главный инженер АО "Вологдаоблэнерго" А,В, Чурляев
A42: составляется самим предприятием с соблюдением всех пунктов настоящей таблицы,

Sheet 18
B1: АО "Вологдаоблэнерго" | J1: код 900151 | N1: ПС Нелазское, ф, Шулма
B2: наименование предприятия | N2: наименование источника питания
N3: ТП-218
B4: ул, Горького, 99 | I4: Таблица № 1 | N4: ТП-212
B5: адрес
A6: почасовых записей показаний электрических счетчиков
A7: ='1'!A7:Q7 -> в режимный день 19 июня 2024 г.
A8: 1630 | B8: 1628
A9: часы суток | B9: Активная энергия | J9: Реактивная энергия
B10: =N3 -> ТП-218 | F10: =N4 -> ТП-212 | J10: =B10 -> ТП-218 | N10: =F10 -> ТП-212
B11: Расчет, Коэф, | E11: 120 | F11: Расчет, Коэф, | I11: 120 | J11: Расчет, Коэф, | M11: =E11 -> 120 | N11: Расчет, Коэф, | Q11: =I11 -> 120
B12: показания счетчика | C12: разность | E12: расход эл,энергии за час | F12: показания счетчика | G12: разность | I12: расход эл,энергии за час | J12: показания счетчика | K12: разность | M12: расход эл,энергии за час | N12: показания счетчика | O12: разность | Q12: расход эл,энергии за час
A13: 1 | B13: 2 | C13: 3 | E13: 4 | F13: 5 | G13: 6 | I13: 7 | J13: 8 | K13: 9 | M13: 10 | N13: 11 | O13: 12 | Q13: 13
A14: 00 - 01 | E14: 104.1084 | I14: 23.354856 | M14: 0 | Q14: 0
A15: 01 - 02 | E15: 100.914 | I15: 20.426112 | M15: 0 | Q15: 0
A16: 02 - 03 | E16: 93.0732 | I16: 19.750248 | M16: 0 | Q16: 0
A17: 03 - 04 | E17: 90.3144 | I17: 19.374768 | M17: 0 | Q17: 0
A18: 04 - 05 | E18: 91.0404 | I18: 19.249608 | M18: 0 | Q18: 0
A19: 05 - 06 | E19: 103.818 | I19: 20.15076 | M19: 0 | Q19: 0
A20: 06 - 07 | E20: 122.9844 | I20: 19.725216 | M20: 0 | Q20: 0
A21: 07 - 08 | E21: 137.7948 | I21: 27.03456 | M21: 0 | Q21: 0
A22: 08 - 09 | E22: 132.4224 | I22: 48.261696 | M22: 0 | Q22: 0
A23: 09 - 10 | E23: 134.1648 | I23: 100.8289 | M23: 0 | Q23: 0
A24: 10 - 11 | E24: 120.0804 | I24: 100.15303 | M24: 0 | Q24: 0
A25: 11 - 12 | E25: 121.5324 | I25: 65.734032 | M25: 0 | Q25: 0
... A37: 23 - 00 | E37: 117.612 | I37: 13.1418 | M37: 0 | Q37: 0
A38: Итого | E38: =SUM(E14:E37) -> 2992.4268 | I38: =SUM(I14:I37) -> 839.69844 | M38: =SUM(M14:M37) -> 0 | Q38: =SUM(Q14:Q37) -> 0
A39: 1, При наличии на предприятии отклонений от нормальных режимов электропотребления (временное изменение схем питания, остановка на ремонт, резкое снижение
A40: эл,потребления и т,д,) последние необходимо перечислить,
A41: Главный инженер АО "Вологдаоблэнерго" А,В, Чурляев
A42: составляется самим предприятием с соблюдением всех пунктов настоящей таблицы,

Sheet 19
B1: АО "Вологдаоблэнерго" | J1: код 900151 | N1: ПС Нелазское, ф, К-с Нелазское-2
B2: наименование предприятия | N2: наименование источника питания
N3: ТП-14 В-1
B4: ул, Горького, 99 | I4: Таблица № 1 | N4: ТП-14 В-2
B5: адрес
A6: почасовых записей показаний электрических счетчиков
A7: ='1'!A7:Q7 -> в режимный день 19 июня 2024 г.
A8: 1630 | B8: 1628
A9: часы суток | B9: Активная энергия | J9: Реактивная энергия
B10: =N3 -> ТП-14 В-1 | F10: =N4 -> ТП-14 В-2 | J10: =B10 -> ТП-14 В-1 | N10: =F10 -> ТП-14 В-2
B11: Расчет, Коэф, | E11: 120 | F11: Расчет, Коэф, | I11: 120 | J11: Расчет, Коэф, | M11: =E11 -> 120 | N11: Расчет, Коэф, | Q11: =I11 -> 120
B12: показания счетчика | C12: разность | E12: расход эл,энергии за час | F12: показания счетчика | G12: разность | I12: расход эл,энергии за час | J12: показания счетчика | K12: разность | M12: расход эл,энергии за час | N12: показания счетчика | O12: разность | Q12: расход эл,энергии за час
A13: 1 | B13: 2 | C13: 3 | E13: 4 | F13: 5 | G13: 6 | I13: 7 | J13: 8 | K13: 9 | M13: 10 | N13: 11 | O13: 12 | Q13: 13
A14: 00 - 01 | E14: 0 | I14: 81.72948 | M14: 0 | Q14: 0
A15: 01 - 02 | E15: 0 | I15: 70.96572 | M15: 0 | Q15: 0
A16: 02 - 03 | E16: 0 | I16: 62.07936 | M16: 0 | Q16: 0
A17: 03 - 04 | E17: 0 | I17: 71.46636 | M17: 0 | Q17: 0
A18: 04 - 05 | E18: 0 | I18: 59.451 | M18: 0 | Q18: 0
A19: 05 - 06 | E19: 0 | I19: 68.2122 | M19: 0 | Q19: 0
A20: 06 - 07 | E20: 0 | I20: 48.1866 | M20: 0 | Q20: 0
A21: 07 - 08 | E21: 0 | I21: 51.44076 | M21: 0 | Q21: 0
A22: 08 - 09 | E22: 0 | I22: 85.48428 | M22: 0 | Q22: 0
A23: 09 - 10 | E23: 0 | I23: 73.2186 | M23: 0 | Q23: 0
A24: 10 - 11 | E24: 0 | I24: 72.84312 | M24: 0 | Q24: 0
A25: 11 - 12 | E25: 0 | I25: 64.4574 | M25: 0 | Q25: 0
... A37: 23 - 00 | E37: 0 | I37: 72.5928 | M37: 0 | Q37: 0
A38: Итого | E38: =SUM(E14:E37) -> 0 | I38: =SUM(I14:I37) -> 1701.8005 | M38: =SUM(M14:M37) -> 0 | Q38: =SUM(Q14:Q37) -> 0
A39: 1, При наличии на предприятии отклонений от нормальных режимов электропотребления (временное изменение схем питания, остановка на ремонт, резкое снижение
A40: эл,потребления и т,д,) последние необходимо перечислить,
A41: Главный инженер АО "Вологдаоблэнерго" А,В, Чурляев
A42: составляется самим предприятием с соблюдением всех пунктов настоящей таблицы,

Sheet 20
B1: АО "Вологдаоблэнерго" | J1: код 900151 | N1: ПС Нелазское, ф, К-с Нелазское-2
B2: наименование предприятия | N2: наименование источника питания
N3: ТП-15 В-1
B4: ул, Горького, 99 | I4: Таблица № 1 | N4: ТП-15 В-2
B5: адрес
A6: почасовых записей показаний электрических счетчиков
A7: ='1'!A7:Q7 -> в режимный день 19 июня 2024 г.
A8: 1630 | B8: 1628
A9: часы суток | B9: Активная энергия | J9: Реактивная энергия
B10: =N3 -> ТП-15 В-1 | F10: =N4 -> ТП-15 В-2 | J10: =B10 -> ТП-15 В-1 | N10: =F10 -> ТП-15 В-2
B11: Расчет, Коэф, | E11: 200 | F11: Расчет, Коэф, | I11: 120 | J11: Расчет, Коэф, | M11: =E11 -> 200 | N11: Расчет, Коэф, | Q11: =I11 -> 120
B12: показания счетчика | C12: разность | E12: расход эл,энергии за час | F12: показания счетчика | G12: разность | I12: расход эл,энергии за час | J12: показания счетчика | K12: разность | M12: расход эл,энергии за час | N12: показания счетчика | O12: разность | Q12: расход эл,энергии за час
A13: 1 | B13: 2 | C13: 3 | E13: 4 | F13: 5 | G13: 6 | I13: 7 | J13: 8 | K13: 9 | M13: 10 | N13: 11 | O13: 12 | Q13: 13
A14: 00 - 01 | E14: 0 | I14: 32.91708 | M14: 0 | Q14: 0
A15: 01 - 02 | E15: 0 | I15: 30.91452 | M15: 0 | Q15: 0
A16: 02 - 03 | E16: 0 | I16: 33.1674 | M16: 0 | Q16: 0
A17: 03 - 04 | E17: 0 | I17: 32.16612 | M17: 0 | Q17: 0
A18: 04 - 05 | E18: 0 | I18: 31.9158 | M18: 0 | Q18: 0
A19: 05 - 06 | E19: 0 | I19: 34.29384 | M19: 0 | Q19: 0
A20: 06 - 07 | E20: 0 | I20: 57.44844 | M20: 0 | Q20: 0
A21: 07 - 08 | E21: 0 | I21: 48.06144 | M21: 0 | Q21: 0
A22: 08 - 09 | E22: 0 | I22: 40.0512 | M22: 0 | Q22: 0
A23: 09 - 10 | E23: 0 | I23: 55.6962 | M23: 0 | Q23: 0
A24: 10 - 11 | E24: 0 | I24: 44.68212 | M24: 0 | Q24: 0
A25: 11 - 12 | E25: 0 | I25: 44.68212 | M25: 0 | Q25: 0
... A37: 23 - 00 | E37: 0 | I37: 32.66676 | M37: 0 | Q37: 0
A38: Итого | E38: =SUM(E14:E37) -> 0 | I38: =SUM(I14:I37) -> 874.11744 | M38: =SUM(M14:M37) -> 0 | Q38: =SUM(Q14:Q37) -> 0
A39: 1, При наличии на предприятии отклонений от нормальных режимов электропотребления (временное изменение схем питания, остановка на ремонт, резкое снижение
A40: эл,потребления и т,д,) последние необходимо перечислить,
A41: Главный инженер АО "Вологдаоблэнерго" А,В, Чурляев
A42: составляется самим предприятием с соблюдением всех пунктов настоящей таблицы,

Sheet 21
B1: АО "Вологдаоблэнерго" | J1: код 900151 | N1: ПС Нелазское, ф, Шулма очистные
B2: наименование предприятия | N2: наименование источника питания
N3: КТП-Ива
B4: ул, Горького, 99 | I4: Таблица № 1
B5: адрес
A6: почасовых записей показаний электрических счетчиков
A7: ='1'!A7:Q7 -> в режимный день 19 июня 2024 г.
A8: 1630 | B8: 1628
A9: часы суток | B9: Активная энергия | J9: Реактивная энергия
B10: =N3 -> КТП-Ива | F10: =N4 -> 0 | J10: =B10 -> КТП-Ива | N10: =F10 -> 0
B11: Расчет, Коэф, | E11: 30 | F11: Расчет, Коэф, | I11: 120 | J11: Расчет, Коэф, | M11: =E11 -> 30 | N11: Расчет, Коэф, | Q11: =I11 -> 120
B12: показания счетчика | C12: разность | E12: расход эл,энергии за час | F12: показания счетчика | G12: разность | I12: расход эл,энергии за час | J12: показания счетчика | K12: разность | M12: расход эл,энергии за час | N12: показания счетчика | O12: разность | Q12: расход эл,энергии за час
A13: 1 | B13: 2 | C13: 3 | E13: 4 | F13: 5 | G13: 6 | I13: 7 | J13: 8 | K13: 9 | M13: 10 | N13: 11 | O13: 12 | Q13: 13
A14: 00 - 01 | E14: 4.896885 | M14: 0
A15: 01 - 02 | E15: 5.56962 | M15: 0
A16: 02 - 03 | E16: 5.491395 | M16: 0
A17: 03 - 04 | E17: 7.25928 | M17: 0
A18: 04 - 05 | E18: 7.525245 | M18: 0
A19: 05 - 06 | E19: 7.462665 | M19: 0
A20: 06 - 07 | E20: 8.79249 | M20: 0
A21: 07 - 08 | E21: 10.48215 | M21: 0
A22: 08 - 09 | E22: 9.85635 | M22: 0
A23: 09 - 10 | E23: 9.10539 | M23: 0
A24: 10 - 11 | E24: 10.92021 | M24: 0
A25: 11 - 12 | E25: 11.73375 | M25: 0
... A37: 23 - 00 | E37: 6.63348 | M37: 0
A38: Итого | E38: =SUM(E14:E37) -> 233.15743 | I38: =SUM(I14:I37) -> 0 | M38: =SUM(M14:M37) -> 0 | Q38: =SUM(Q14:Q37) -> 0
A39: 1, При наличии на предприятии отклонений от нормальных режимов электропотребления (временное изменение схем питания, остановка на ремонт, резкое снижение
A40: эл,потребления и т,д,) последние необходимо перечислить,
A41: Главный инженер АО "Вологдаоблэнерго" А,В, Чурляев
A42: составляется самим предприятием с соблюдением всех пунктов настоящей таблицы,

Sheet 22
B1: АО "Вологдаоблэнерго" | J1: код 900151 | N1: ПС Нелазское, ф, Крутец
B2: наименование предприятия | N2: наименование источника питания
N3: ТП-252
B4: ул, Горького, 99 | I4: Таблица № 1 | N4: ТП-247
B5: адрес
A6: почасовых записей показаний электрических счетчиков
A7: ='1'!A7:Q7 -> в режимный день 19 июня 2024 г.
A8: 1630 | B8: 1628
A9: часы суток | B9: Активная энергия | J9: Реактивная энергия
B10: =N3 -> ТП-252 | F10: =N4 -> ТП-247 | J10: =B10 -> ТП-252 | N10: =F10 -> ТП-247
B11: Расчет, Коэф, | E11: 60 | F11: Расчет, Коэф, | I11: 60 | J11: Расчет, Коэф, | M11: =E11 -> 60 | N11: Расчет, Коэф, | Q11: =I11 -> 60
B12: показания счетчика | C12: разность | E12: расход эл,энергии за час | F12: показания счетчика | G12: разность | I12: расход эл,энергии за час | J12: показания счетчика | K12: разность | M12: расход эл,энергии за час | N12: показания счетчика | O12: разность | Q12: расход эл,энергии за час
A13: 1 | B13: 2 | C13: 3 | E13: 4 | F13: 5 | G13: 6 | I13: 7 | J13: 8 | K13: 9 | M13: 10 | N13: 11 | O13: 12 | Q13: 13
A14: 00 - 01 | E14: 11.48343 | I14: 30.50775 | M14: 0 | Q14: 0
A15: 01 - 02 | E15: 10.38828 | I15: 29.50647 | M15: 0 | Q15: 0
A16: 02 - 03 | E16: 9.29313 | I16: 27.28488 | M16: 0 | Q16: 0
A17: 03 - 04 | E17: 9.387 | I17: 29.03712 | M17: 0 | Q17: 0
A18: 04 - 05 | E18: 9.16797 | I18: 30.19485 | M18: 0 | Q18: 0
A19: 05 - 06 | E19: 8.07282 | I19: 30.50775 | M19: 0 | Q19: 0
A20: 06 - 07 | E20: 6.50832 | I20: 32.25999 | M20: 0 | Q20: 0
A21: 07 - 08 | E21: 6.258 | I21: 41.36538 | M21: 0 | Q21: 0
A22: 08 - 09 | E22: 7.22799 | I22: 48.06144 | M22: 0 | Q22: 0
A23: 09 - 10 | E23: 6.69606 | I23: 48.06144 | M23: 0 | Q23: 0
A24: 10 - 11 | E24: 5.78865 | I24: 43.4931 | M24: 0 | Q24: 0
A25: 11 - 12 | E25: 6.41445 | I25: 36.70317 | M25: 0 | Q25: 0
... A37: 23 - 00 | E37: 8.22927 | I37: 33.85578 | M37: 0 | Q37: 0
A38: Итого | E38: =SUM(E14:E37) -> 176.85108 | I38: =SUM(I14:I37) -> 863.04078 | M38: =SUM(M14:M37) -> 0 | Q38: =SUM(Q14:Q37) -> 0
A39: 1, При наличии на предприятии отклонений от нормальных режимов электропотребления (временное изменение схем питания, остановка на ремонт, резкое снижение
A40: эл,потребления и т,д,) последние необходимо перечислить,
A41: Главный инженер АО "Вологдаоблэнерго" А,В, Чурляев
A42: составляется самим предприятием с соблюдением всех пунктов настоящей таблицы,

Sheet 23
B1: АО "Вологдаоблэнерго" | J1: код 900151 | N1: ПС Суда, ф, Андога
B2: наименование предприятия | N2: наименование источника питания
N3: ТП-243
B4: ул, Горького, 99 | I4: Таблица № 1 | N4: ТП-234
B5: адрес
A6: почасовых записей показаний электрических счетчиков
A7: ='1'!A7:Q7 -> в режимный день 19 июня 2024 г.
A8: 1630 | B8: 1628
A9: часы суток | B9: Активная энергия | J9: Реактивная энергия
B10: =N3 -> ТП-243 | F10: =N4 -> ТП-234 | J10: =B10 -> ТП-243 | N10: =F10 -> ТП-234
B11: Расчет, Коэф, | E11: 60 | F11: Расчет, Коэф, | I11: 20 | J11: Расчет, Коэф, | M11: =E11 -> 60 | N11: Расчет, Коэф, | Q11: =I11 -> 20
B12: показания счетчика | C12: разность | E12: расход эл,энергии за час | F12: показания счетчика | G12: разность | I12: расход эл,энергии за час | J12: показания счетчика | K12: разность | M12: расход эл,энергии за час | N12: показания счетчика | O12: разность | Q12: расход эл,энергии за час
A13: 1 | B13: 2 | C13: 3 | E13: 4 | F13: 5 | G13: 6 | I13: 7 | J13: 8 | K13: 9 | M13: 10 | N13: 11 | O13: 12 | Q13: 13
A14: 00 - 01 | E14: 0 | I14: 0.03129 | M14: 0 | Q14: 0
A15: 01 - 02 | E15: 0 | I15: 0.02086 | M15: 0 | Q15: 0
A16: 02 - 03 | E16: 0 | I16: 0.02086 | M16: 0 | Q16: 0
A17: 03 - 04 | E17: 0 | I17: 0.02086 | M17: 0 | Q17: 0
A18: 04 - 05 | E18: 0 | I18: 0.03129 | M18: 0 | Q18: 0
A19: 05 - 06 | E19: 0 | I19: 0.02086 | M19: 0 | Q19: 0
A20: 06 - 07 | E20: 0 | I20: 0.02086 | M20: 0 | Q20: 0
A21: 07 - 08 | E21: 0 | I21: 0.03129 | M21: 0 | Q21: 0
A22: 08 - 09 | E22: 0 | I22: 0.02086 | M22: 0 | Q22: 0
A23: 09 - 10 | E23: 0 | I23: 0.02086 | M23: 0 | Q23: 0
A24: 10 - 11 | E24: 0 | I24: 0.02086 | M24: 0 | Q24: 0
A25: 11 - 12 | E25: 0 | I25: 0.02086 | M25: 0 | Q25: 0
... A37: 23 - 00 | E37: 0 | I37: 0.05215 | M37: 0 | Q37: 0
A38: Итого | E38: =SUM(E14:E37) -> 0 | I38: =SUM(I14:I37) -> 1.41848 | M38: =SUM(M14:M37) -> 0 | Q38: =SUM(Q14:Q37) -> 0
A39: 1, При наличии на предприятии отклонений от нормальных режимов электропотребления (временное изменение схем питания, остановка на ремонт, резкое снижение
A40: эл,потребления и т,д,) последние необходимо перечислить,
A41: Главный инженер АО "Вологдаоблэнерго" А,В, Чурляев
A42: составляется самим предприятием с соблюдением всех пунктов настоящей таблицы,

Sheet 24
B1: АО "Вологдаоблэнерго" | J1: код 900151 | N1: ПС Суда, ф, Сойволовское
B2: наименование предприятия | N2: наименование источника питания
N3: КТП общества садоводов "Заря-2"
B4: ул, Горького, 99 | I4: Таблица № 1 | N4: ТП-232
B5: адрес
A6: почасовых записей показаний электрических счетчиков
A7: ='1'!A7:Q7 -> в режимный день 19 июня 2024 г.
A8: 1630 | B8: 1628
A9: часы суток | B9: Активная энергия | J9: Реактивная энергия
B10: =N3 -> КТП общества садоводов "Заря-2" | F10: =N4 -> ТП-232 | J10: =B10 -> КТП общества садоводов "Заря-2" | N10: =F10 -> ТП-232
B11: Расчет, Коэф, | E11: 40 | F11: Расчет, Коэф, | I11: 60 | J11: Расчет, Коэф, | M11: =E11 -> 40 | N11: Расчет, Коэф, | Q11: =I11 -> 60
B12: показания счетчика | C12: разность | E12: расход эл,энергии за час | F12: показания счетчика | G12: разность | I12: расход эл,энергии за час | J12: показания счетчика | K12: разность | M12: расход эл,энергии за час | N12: показания счетчика | O12: разность | Q12: расход эл,энергии за час
A13: 1 | B13: 2 | C13: 3 | E13: 4 | F13: 5 | G13: 6 | I13: 7 | J13: 8 | K13: 9 | M13: 10 | N13: 11 | O13: 12 | Q13: 13
A14: 00 - 01 | E14: 37.831696 | I14: 18.27336 | M14: 0 | Q14: 0
A15: 01 - 02 | E15: 32.950456 | I15: 17.384724 | M15: 0 | Q15: 0
A16: 02 - 03 | E16: 32.808608 | I16: 17.284596 | M16: 0 | Q16: 0
A17: 03 - 04 | E17: 33.317592 | I17: 19.299672 | M17: 0 | Q17: 0
A18: 04 - 05 | E18: 32.107712 | I18: 17.935428 | M18: 0 | Q18: 0
A19: 05 - 06 | E19: 35.136584 | I19: 20.27592 | M19: 0 | Q19: 0
A20: 06 - 07 | E20: 36.071112 | I20: 18.736452 | M20: 0 | Q20: 0
A21: 07 - 08 | E21: 35.370216 | I21: 28.674156 | M21: 0 | Q21: 0
A22: 08 - 09 | E22: 34.04352 | I22: 22.115772 | M22: 0 | Q22: 0
A23: 09 - 10 | E23: 34.894608 | I23: 25.419996 | M23: 0 | Q23: 0
A24: 10 - 11 | E24: 37.731568 | I24: 24.243492 | M24: 0 | Q24: 0
A25: 11 - 12 | E25: 28.920304 | I25: 20.376048 | M25: 0 | Q25: 0
... A37: 23 - 00 | E37: 32.474848 | I37: 19.862892 | M37: 0 | Q37: 0
A38: Итого | E38: =SUM(E14:E37) -> 808.39175 | I38: =SUM(I14:I37) -> 525.64697 | M38: =SUM(M14:M37) -> 0 | Q38: =SUM(Q14:Q37) -> 0
A39: 1, При наличии на предприятии отклонений от нормальных режимов электропотребления (временное изменение схем питания, остановка на ремонт, резкое снижение
A40: эл,потребления и т,д,) последние необходимо перечислить,
A41: Главный инженер АО "Вологдаоблэнерго" А,В, Чурляев
A42: составляется самим предприятием с соблюдением всех пунктов настоящей таблицы,

Sheet 25
B1: АО "Вологдаоблэнерго" | J1: код 900151 | N1: ПС Петринево, ф, Романово
B2: наименование предприятия | N2: наименование источника питания
N3: ТП-317
B4: ул, Горького, 99 | I4: Таблица № 1
B5: адрес
A6: почасовых записей показаний электрических счетчиков
A7: ='1'!A7:Q7 -> в режимный день 19 июня 2024 г.
A8: 1630 | B8: 1628
A9: часы суток | B9: Активная энергия | J9: Реактивная энергия
B10: =N3 -> ТП-317 | F10: =N4 -> 0 | J10: =B10 -> ТП-317 | N10: =F10 -> 0
B11: Расчет, Коэф, | E11: 120 | F11: Расчет, Коэф, | I11: 120 | J11: Расчет, Коэф, | M11: =E11 -> 120 | N11: Расчет, Коэф, | Q11: =I11 -> 120
B12: показания счетчика | C12: разность | E12: расход эл,энергии за час | F12: показания счетчика | G12: разность | I12: расход эл,энергии за час | J12: показания счетчика | K12: разность | M12: расход эл,энергии за час | N12: показания счетчика | O12: разность | Q12: расход эл,энергии за час
A13: 1 | B13: 2 | C13: 3 | E13: 4 | F13: 5 | G13: 6 | I13: 7 | J13: 8 | K13: 9 | M13: 10 | N13: 11 | O13: 12 | Q13: 13
A14: 00 - 01 | E14: 12.64116 | M14: 0
A15: 01 - 02 | E15: 10.82634 | M15: 0
A16: 02 - 03 | E16: 12.26568 | M16: 0
A17: 03 - 04 | E17: 8.63604 | M17: 0
A18: 04 - 05 | E18: 11.8902 | M18: 0
A19: 05 - 06 | E19: 8.63604 | M19: 0
A20: 06 - 07 | E20: 14.33082 | M20: 0
A21: 07 - 08 | E21: 12.70374 | M21: 0
A22: 08 - 09 | E22: 14.83146 | M22: 0
A23: 09 - 10 | E23: 17.02176 | M23: 0
A24: 10 - 11 | E24: 14.58114 | M24: 0
A25: 11 - 12 | E25: 14.51856 | M25: 0
... A37: 23 - 00 | E37: 15.08178 | M37: 0
A38: Итого | E38: =SUM(E14:E37) -> 314.4645 | I38: =SUM(I14:I37) -> 0 | M38: =SUM(M14:M37) -> 0 | Q38: =SUM(Q14:Q37) -> 0
A39: 1, При наличии на предприятии отклонений от нормальных режимов электропотребления (временное изменение схем питания, остановка на ремонт, резкое снижение
A40: эл,потребления и т,д,) последние необходимо перечислить,
A41: Главный инженер АО "Вологдаоблэнерго" А,В, Чурляев
A42: составляется самим предприятием с соблюдением всех пунктов настоящей таблицы,

Sheet 26
B1: АО "Вологдаоблэнерго" | J1: код 900151 | N1: ПС Домозерово, ф,Дом-2
B2: наименование предприятия | N2: наименование источника питания
N3: ТП-60 В-1
B4: ул, Горького, 99 | I4: Таблица № 1 | N4: ТП-60 В-2
B5: адрес
A6: почасовых записей показаний электрических счетчиков
A7: ='1'!A7:Q7 -> в режимный день 19 июня 2024 г.
A8: 1630 | B8: 1628
A9: часы суток | B9: Активная энергия | J9: Реактивная энергия
B10: =N3 -> ТП-60 В-1 | F10: =N4 -> ТП-60 В-2 | J10: =B10 -> ТП-60 В-1 | N10: =F10 -> ТП-60 В-2
B11: Расчет, Коэф, | E11: 20 | F11: Расчет, Коэф, | I11: 20 | J11: Расчет, Коэф, | M11: =E11 -> 20 | N11: Расчет, Коэф, | Q11: =I11 -> 20
B12: показания счетчика | C12: разность | E12: расход эл,энергии за час | F12: показания счетчика | G12: разность | I12: расход эл,энергии за час | J12: показания счетчика | K12: разность | M12: расход эл,энергии за час | N12: показания счетчика | O12: разность | Q12: расход эл,энергии за час
