Workbook

Sheet Содержание книги
A1: Содержание
A4: № листа | B4: Электросетевой участок | C4: Центр питания
A5: 1 а | B5: г. Вологда | C5: ОАО "БМЗ"
A6: 1, 2 | B6: г. Вологда | C6: ПС "АНАНЬИНО"
A7: 3 | B7: г. Вологда | C7: ПС ЕРМАКОВО
A8: 4 | B8: г. Вологда | C8: ПС "МАЕГА"
A9: 5,6, 7, 8, 9 | B9: г. Вологда | C9: ПС "ЗАПАДНАЯ
A10: 10 | B10: г. Вологда | C10: ПС "СЕВЕРНАЯ 35/6 кВ
A11: 11 | B11: г. Вологда | C11: РТП "ТЕПЛИЧНОГО ХОЗ - ВА"
A12: 12,13, 14 | B12: г. Вологда | C12: ГПП 110/10 кВ "ВОМЗ"
A13: 15,16,17,18,19,20, 21, 21-1, 21-2, 21-3 | B13: г. Вологда | C13: ПС ВОЛОГДА-ЮЖНАЯ РУ - 6 -10 кВ
A14: 22 | B14: г. Вологда | C14: ГПП ВОЛОГДА - ТЯГОВАЯ 110/27,5/6 кВ
A15: 23 | B15: г. Вологда | C15: ТП 10 РЖД
A16: 24 | B16: г. Вологда | C16: ТП 34 РЖД
A17: 25,26,27,28,29 | B17: г. Вологда | C17: ТГК- 2 ВТЭЦ РП 6 кВ
A18: 30,31,32,33,34,34-1 | B18: г. Вологда | C18: ПС "ЦЕНТРАЛЬНАЯ" 110/6 кВ
A19: 35, 36 | B19: г. Вологда | C19: ПС "ГОРОДСКАЯ" 35/6 кВ
A20: 37, 38, 39, 39-1 | B20: г. Вологда | C20: ПС "ВОСТОЧНАЯ" 110/35/10 кВ
A21: 40, 41,41-1 | B21: г. Вологда | C21: ПС "ЛУГОВАЯ"
A22: 42 | B22: г. Вологда | C22: РП "ГОРКА"
A23: 43, 44 | B23: г. Вологда | C23: ГПП 2 ЗАО ВПЗ
A24: 45 | B24: г. Вологда | C24: ГПП 1 ЗАО ВПЗ
A25: 46 | B25: ЭСУ "Кубенское" | C25: ПС "Кубенское"
A26: 47, 48, 48-1,48-2 | B26: ЭСУ п. Молочное | C26: ПС "Молочное" 35/10 кВ
A27: 49, 50, 50-1, 50-2, 50-3 | B27: ЭСУ "Устье-Кубенское" | C27: РТП "КОРНИЛОВО" 35/10 кВ
A28: 51, 52, 53 | B28: ЭСУ "Шуйское" | C28: ПС "ШУЙСКОЕ" 35/ 10 кВ
A29: 54.55 | B29: ЭСУ г. Сокол | C29: ПС "ГДЗ" 110/6 кВ
B30: ЭСУ г. Сокол
A31: 56, 57, 58, | B31: ЭСУ г. Сокол | C31: ОАО "Сокольский" ЦБК" ГПП 35/6 кВ
A32: 59 | B32: ЭСУ г. Сокол | C32: ОАО "Сокольский" ЦБК" ГПП 110/6 кВ
A33: 60, 61, 62, 63 | B33: ЭСУ г. Сокол | C33: ООО "Сухонский ЦБК" ГПП 110/6 кВ
A34: 64-66 | B34: ЭСУ "Белозерск"
A35: 67-75 | B35: ЭСУ "Вытегра"
A36: 76-81_1 | B36: ЭСУ "Харовск"
A37: 82-86 | B37: ЭТУ "Вожега"
A38: 87-91 | B38: ЭТУ "Тотьма"
A39: 92-95 | B39: ЭСУ "Сямжа"
A40: 96-97 | B40: ЭСУ "Грязовец"
A42: Содержание
A45: № листа | B45: Электросетевой участок | C45: Центр питания
A46: 1 а | B46: г. Вологда | C46: ОАО "БМЗ"
D47: яч. Т1, яч. Т2
A48: 1, 2 | B48: г. Вологда | C48: ПС "АНАНЬИНО"
D49: яч.7 - ф."Город-7"
D50: яч.8 - ф."Городской", яч.2 - ф."Овощехранилище"
A51: 3 | B51: г. Вологда | C51: ПС "ИСКРА"
D52: яч.18 - ф."РУБЦОВО"- СВ - ВЛ№2
A53: 4 | B53: г. Вологда | C53: ПС "МАЕГА"
D54: яч.13 - ф."НИКИТИНО"-СВ - ВЛ№27
A55: 5,6, 7, 8, 9 | B55: г. Вологда | C55: ПС "ЗАПАДНАЯ
D56: яч.19 - "РМЗ-1", яч.24 - "РМЗ-2"
D57: яч.15 -"ОЧИСТНЫЕ-1", яч.9 -"ГОРОД-1"
D58: яч.21- "П/я-1", яч.20 - "П/я-2"
D59: яч.33 - "РП-35", яч.35 - "РП-37"
D60: яч.11 - "ГОРОД-2", яч.18 - "ОЧИСТНЫЕ-2"
A61: 10 | B61: г. Вологда | C61: ПС "СЕВЕРНАЯ 35/6 кВ
D62: Т1 - РП5ф3 ввод №1, Т2 - РП5ф17 ввод №2
A63: 11 | B63: г. Вологда | C63: РТП "ТЕПЛИЧНОГО ХОЗ - ВА"
D64: яч. 3 - ф."Микрорайон-1" ввод № 1, яч.13 - ф."Микрорайон-2" ввод № 2
A65: 12,13, 14 | B65: г. Вологда | C65: ГПП 110/10 кВ "ВОМЗ"
D66: яч.47 - РП 29 ввод № 1, яч.31 - РП 29 ввод № 2
D67: яч.5 - РП 14 ввод № 1, яч.22 - РП 14 ввод № 2
D68: яч.44 - РП 2 ввод № 1, яч.26в - РП 2 ввод № 2
A69: 15,16,17,18,19,20, 21 | B69: г. Вологда | C69: ПС ВОЛОГДА-ЮЖНАЯ РУ - 6 -10 кВ
D70: яч.15 - "ГОРОД-15", яч.24 - "ТУБДИСПАНСЕР"
D71: яч.10 - "ГОРОД-10", яч.14 - "ГОРОД-14"
D72: яч.20 - "ГОРОД 20"
D73: яч. 7- ф."ГОРОД 7", яч.17 - ф."ГОРОД 17"
D74: яч.3 - "ГОРОД-3", яч.5 - "ГОРОД-5"
D75: яч. 1 - "ГОРОД -1", яч. 20 - "РП 27"
D76: яч. 4 ф."РОДИОНЦЕВО" - ПКУ
D77: яч. 307, 409 ф."Охмыльцево"
A78: 22 | B78: г. Вологда | C78: ГПП ВОЛОГДА - ТЯГОВАЯ 110/27,5/6 кВ
D79: яч. 1 - ТП 450
A80: 23 | B80: г. Вологда | C80: ТП 10 СЖД ОАО РЖД
D81: яч.5 - ТП 238, яч.7 - ТП 651
A82: 24 | B82: г. Вологда | C82: ТП 34 СЖД ОАО РЖД
D83: яч.2 - ТП 660, яч.6 - ТП 662
A84: 25,26,27,28,29 | B84: г. Вологда | C84: ТГК- 2 ВТЭЦ РП 6 кВ
D85: яч.10 - РП 3 ввод № 1, яч. 115 - РП 3 ввод № 2
D86: яч. 114 - РП 23 ввод № 1, яч. 107 - РП 23 ввод № 2
D87: яч. 3 - ТП 217
D88: яч. 5 - РП 1 ввод № 1, яч. 12 - РП 1 ввод № 2
D89: яч. 4 - РП 20 ввод № 1, яч. 7 - РП 20 ввод № 2
A90: 30,31,32,33,34,34-1 | B90: г. Вологда | C90: ПС "ЦЕНТРАЛЬНАЯ" 110/6 кВ
D91: яч.4 - ТП 54 -Ι ввод № 1, яч. 30 - ТП 54 - ΙΙ ввод № 2
D92: яч. 14 - РП 13- Ι , яч. 22 - РП 13- ΙΙ
D93: яч.12 - РП 4 -Ι , яч. 24 - РП 4 -ΙΙ
D94: яч. 2 - РП 8 яч. 11
D95: яч.28 - ТП 11 -ΙΙ
D96: яч.22 - РП 21-I, яч.7 - РП 21-II
A97: 35, 36 | B97: г. Вологда | C97: ПС "ГОРОДСКАЯ" 35/6 кВ
D98: Т-1 - ЗРУ ф.1 ввод № 1, Т-3 - ЗРУ ф.20 ввод № 2 .
D99: Т-2 - РП 9 ф. 11
A100: 37, 38, 39 | B100: г. Вологда | C100: ПС "ВОСТОЧНАЯ" 110/35/10 кВ
D101: яч.2 - "РП 39-1", яч. 21 - "РП 39-2"
D102: яч.15 - "РМЗ-1", яч.32 - "РМЗ-2"
D103: яч. 11- "ГОРОД-1", яч. 28- "ГОРОД-2"
A104: 40, 41 | B104: г. Вологда | C104: ПС "ЛУГОВАЯ"
D105: яч. 23 - ф."ГОРОД-2 , яч. 2 - ф."ГОРОД-3"
...

Sheet 1а
B1: АО "Вологдаоблэнерго" | J1: код 900151 | K1: ПС "Вологда-Южная"РУ 6кВ - транзит через "БМЗ"
A2: наименование предприятия | N2: наименование источника питания
N3: _________________________________
B4: ул. Горького, 99 | I4: Таблица № 1 | O4: РТП 25 Т1, Т2
A5: адрес
A6: почасовых записей показаний электрических счетчиков
A7: в режимный день 16 ИЮНЯ 2021 г.
A8: 143 | B8: 144
A9: часы суток | B9: Активная энергия | J9: Реактивная энергия
B10: яч. Т1 | F10: яч. Т2 | J10: яч. Т1 | N10: яч. Т2
B11: Расчет. Коэф. | E11: 600 | F11: расчетный коэф. | I11: 600 | J11: расчетный коэф. | M11: =E11 -> 600 | N11: расчетный коэф. | Q11: =I11 -> 600
B12: показания счетчика | C12: разность | E12: расход эл.энергии за час | F12: показания счетчика | G12: разность | I12: расход эл.энергии за час | J12: показания счетчика | K12: разность | M12: расход эл.энергии за час | N12: показания счетчика | O12: разность | Q12: расход эл.энергии за час
A13: 1 | B13: 2 | C13: 3 | E13: 4 | F13: 5 | G13: 6 | I13: 7 | J13: 8 | K13: 9 | M13: 10 | N13: 11 | O13: 12 | Q13: 13
A14: 0
A15: 1 | E15: 68.64 | I15: 98.64 | M15: 24.6 | Q15: 37.02
A16: 2 | E16: 63 | I16: 86.7 | M16: 24.36 | Q16: 34.26
A17: 3 | E17: 53.28 | I17: 79.26 | M17: 22.68 | Q17: 33.6
A18: 4 | E18: 50.52 | I18: 79.62 | M18: 22.68 | Q18: 32.94
A19: 5 | E19: 50.88 | I19: 80.52 | M19: 22.56 | Q19: 33.96
A20: 6 | E20: 55.56 | I20: 86.4 | M20: 21.24 | Q20: 35.04
A21: 7 | E21: 66.24 | I21: 124.56 | M21: 21.12 | Q21: 33.42
A22: 8 | E22: 80.52 | I22: 163.98 | M22: 26.16 | Q22: 38.28
A23: 9 | E23: 97.08 | I23: 157.38 | M23: 31.2 | Q23: 39.96
A24: 10 | E24: 96.84 | I24: 150.6 | M24: 30.96 | Q24: 40.56
A25: 11 | E25: 103.8 | I25: 149.76 | M25: 32.4 | Q25: 41.7
A26: 12 | E26: 105.96 | I26: 144.6 | M26: 33 | Q26: 42.66
... A38: 24 | E38: 78.72 | I38: 117.72 | M38: 23.88 | Q38: 34.8
A39: Итого | E39: =SUM(E15:E38) -> 2065.44 | I39: =SUM(I15:I38) -> 3055.08 | M39: =SUM(M15:M38) -> 664.8 | Q39: =SUM(Q15:Q38) -> 921.66
A40: 1. При наличии на предприятии отклонений от нормальных режимов электропотребления (временное изменение схем питания, остановка на ремонт, резкое снижение
A41: эл.потребления и т.д.) последние необходимо перечислить.
A42: 2. При наличии нескольких источников питания и большого количества вводов таблица
A43: составляется самим предприятием с соблюдением всех пунктов настоящей таблицы. | K43: Главный инженер _____________________________ | Q43: А.А. Михалин
A48: 1 | B48: 2 | C48: 3 | D48: 4 | E48: 5 | F48: 6 | G48: 7 | H48: 8 | I48: 9 | J48: 10 | K48: 11 | L48: 12 | M48: 13 | N48: 14 | O48: 15 | P48: 16 | Q48: 17

Sheet 1
B1: АО "Вологдаоблэнерго" | J1: код 900151 | N1: ПС "АНАНЬИНО"
B2: наименование предприятия | N2: наименование источника питания
N3: _________________________________
B4: ул. Горького, 99 | I4: Таблица № 1 | O4: ВЛ № 31
B5: адрес
A6: почасовых записей показаний электрических счетчиков
A7: в режимный день 16 ИЮНЯ 2021 г.
A8: 1629
A9: часы суток | B9: Активная энергия | J9: Реактивная энергия
B10: ЯЧ. № 7 - Ф."Город 7" | J10: ЯЧ. № 7 - Ф."Город 7"
B11: Расчет. Коэф. | E11: 3600 | F11: Расчет. Коэф. | J11: Расчет. Коэф. | M11: =E11 -> 3600 | N11: Расчет. Коэф.
B12: показания счетчика | C12: разность | E12: расход эл.энергии за час | F12: показания счетчика | G12: разность | I12: расход эл.энергии за час | J12: показания счетчика | K12: разность | M12: расход эл.энергии за час | N12: показания счетчика | O12: разность | Q12: расход эл.энергии за час
A13: 1 | B13: 2 | C13: 3 | E13: 4 | F13: 5 | G13: 6 | I13: 7 | J13: 8 | K13: 9 | M13: 10 | N13: 11 | O13: 12 | Q13: 13
A14: 0
A15: 1 | E15: 233 | M15: 156
A16: 2 | E16: 212 | M16: 141
A17: 3 | E17: 182 | M17: 139
A18: 4 | E18: 163 | M18: 142
A19: 5 | E19: 166 | M19: 144
A20: 6 | E20: 177 | M20: 133
A21: 7 | E21: 206 | M21: 134
A22: 8 | E22: 273 | M22: 169
A23: 9 | E23: 361 | M23: 184
A24: 10 | E24: 398 | M24: 192
A25: 11 | E25: 396 | M25: 212
A26: 12 | E26: 397 | M26: 206
... A38: 24 | E38: 269 | M38: 144
A39: Итого | E39: =SUM(E15:E38) -> 7013 | M39: =SUM(M15:M38) -> 4114
A40: 1. При наличии на предприятии отклонений от нормальных режимов электропотребления (временное изменение схем питания, остановка на ремонт, резкое снижение
A41: эл.потребления и т.д.) последние необходимо перечислить.
A42: 2. При наличии нескольких источников питания и большого количества вводов таблица
A43: составляется самим предприятием с соблюдением всех пунктов настоящей таблицы. | K43: Главный инженер ___________________ А.А. Михалин

Sheet 2
B1: АО "Вологдаоблэнерго" | J1: код 900151 | N1: ПС "АНАНЬИНО"
B2: наименование предприятия | N2: наименование источника питания
N3: _________________________________
B4: ул. Горького, 99 | I4: Таблица № 1 | O4: РП 36 ф 16; ТП 360
B5: адрес
A6: почасовых записей показаний электрических счетчиков
A7: в режимный день 16 ИЮНЯ 2021 г.
A8: 1630 | B8: 1628
A9: часы суток | B9: Активная энергия | J9: Реактивная энергия
B10: ЯЧ. № 2 - Ф."Овощехранилище" | F10: ЯЧ. № 8 - Ф."Городской" | J10: ЯЧ. № 2 - Ф."Овощехранилище" | N10: ЯЧ. № 8 - Ф."Городской"
B11: Расчет. Коэф. | E11: 3600 | F11: Расчет. Коэф. | I11: 2400 | J11: Расчет. Коэф. | M11: =E11 -> 3600 | N11: Расчет. Коэф. | Q11: =I11 -> 2400
B12: показания счетчика | C12: разность | E12: расход эл.энергии за час | F12: показания счетчика | G12: разность | I12: расход эл.энергии за час | J12: показания счетчика | K12: разность | M12: расход эл.энергии за час | N12: показания счетчика | O12: разность | Q12: расход эл.энергии за час
A13: 1 | B13: 2 | C13: 3 | E13: 4 | F13: 5 | G13: 6 | I13: 7 | J13: 8 | K13: 9 | M13: 10 | N13: 11 | O13: 12 | Q13: 13
A14: 0
A15: 1 | E15: 186 | I15: 129 | M15: 108 | Q15: 69
A16: 2 | E16: 189 | I16: 105 | M16: 102 | Q16: 59
A17: 3 | E17: 198 | I17: 88 | M17: 105 | Q17: 53
A18: 4 | E18: 192 | I18: 86 | M18: 97 | Q18: 56
A19: 5 | E19: 195 | I19: 97 | M19: 105 | Q19: 56
A20: 6 | E20: 206 | I20: 112 | M20: 109 | Q20: 54
A21: 7 | E21: 194 | I21: 138 | M21: 96 | Q21: 56
A22: 8 | E22: 195 | I22: 151 | M22: 104 | Q22: 61
A23: 9 | E23: 310 | I23: 164 | M23: 222 | Q23: 79
A24: 10 | E24: 290 | I24: 146 | M24: 213 | Q24: 64
A25: 11 | E25: 250 | I25: 159 | M25: 157 | Q25: 68
A26: 12 | E26: 335 | I26: 143 | M26: 252 | Q26: 66
... A38: 24 | E38: 182 | I38: 151 | M38: 88 | Q38: 70
A39: Итого | E39: =SUM(E16:E38) -> 5292 | I39: =SUM(I15:I38) -> 3421 | M39: =SUM(M15:M38) -> 3286 | Q39: =SUM(Q15:Q38) -> 1615
A40: 1. При наличии на предприятии отклонений от нормальных режимов электропотребления (временное изменение схем питания, остановка на ремонт, резкое снижение
A41: эл.потребления и т.д.) последние необходимо перечислить.
A42: 2. При наличии нескольких источников питания и большого количества вводов таблица
A43: составляется самим предприятием с соблюдением всех пунктов настоящей таблицы. | K43: Главный инженер ___________________ А.А. Михалин

Sheet 3
B1: АО "Вологдаоблэнерго" | J1: код 900151 | N1: ПС "РУБЦОВО"
B2: наименование предприятия | N2: наименование источника питания
N3: яч. 18 ф."РУБЦОВО"
B4: ул. Горького, 99 | I4: Таблица № 1 | O4: ВЛ-10кВ № 2
B5: адрес
A6: почасовых записей показаний электрических счетчиков
A7: в режимный день 16 ИЮНЯ 2021 г.
A8: 374
A9: часы суток | B9: Активная энергия | J9: Реактивная энергия
B10: яч. 18 ф."РУБЦОВО"- СВ - ВЛ№2 | J10: яч. 18 ф."РУБЦОВО"- СВ - ВЛ№2
B11: Расчет. Коэф. | E11: 1000 | F11: Расчет. Коэф. | I11: 0 | J11: Расчет. Коэф. | M11: =E11 -> 1000 | N11: Расчет. Коэф. | Q11: =I11 -> 0
B12: показания счетчика | C12: разность | E12: расход эл.энергии за час | F12: показания счетчика | G12: разность | I12: расход эл.энергии за час | J12: показания счетчика | K12: разность | M12: расход эл.энергии за час | N12: показания счетчика | O12: разность | Q12: расход эл.энергии за час
A13: 1 | B13: 2 | C13: 3 | E13: 4 | F13: 5 | G13: 6 | I13: 7 | J13: 8 | K13: 9 | M13: 10 | N13: 11 | O13: 12 | Q13: 13
A14: 0
A15: 1 | E15: 204.8 | M15: 17.4
A16: 2 | E16: 179.2 | M16: 20.8
A17: 3 | E17: 156 | M17: 18.6
A18: 4 | E18: 134.8 | M18: 23.2
A19: 5 | E19: 126.4 | M19: 23.6
A20: 6 | E20: 135.6 | M20: 21.2
A21: 7 | E21: 165 | M21: 20.8
A22: 8 | E22: 194.8 | M22: 24.2
A23: 9 | E23: 192 | M23: 18.2
A24: 10 | E24: 185.6 | M24: 17
A25: 11 | E25: 178.2 | M25: 20.8
A26: 12 | E26: 185.8 | M26: 20.6
... A38: 24 | E38: 259.2 | M38: 20.8
A39: Итого | E39: =SUM(E15:E38) -> 4597.8 | M39: =SUM(M16:M38) -> 540.8
A40: 1. При наличии на предприятии отклонений от нормальных режимов электропотребления (временное изменение схем питания, остановка на ремонт, резкое снижение
A41: эл.потребления и т.д.) последние необходимо перечислить.
A42: 2. При наличии нескольких источников питания и большого количества вводов таблица
A43: составляется самим предприятием с соблюдением всех пунктов настоящей таблицы. | K43: Главный инженер ___________________ А.А. Михалин

Sheet 4
B1: АО "Вологдаоблэнерго" | J1: код 900151 | N1: ПС "МАЕГА"
B2: наименование предприятия | N2: наименование источника питания
N3: яч. 13 - Ф НИКИТИНО
B4: ул. Горького, 99 | I4: Таблица № 1 | O4: ВЛ №27
B5: адрес
A6: почасовых записей показаний электрических счетчиков
A7: в режимный день 16 ИЮНЯ 2021 г.
A8: 363
A9: часы суток | B9: Активная энергия | J9: Реактивная энергия
B10: яч. 13 - Ф НИКИТИНО-СВ - ВЛ№27 | J10: яч. 13 - Ф НИКИТИНО-СВ - ВЛ№27
B11: Расчет. Коэф. | E11: 1500 | F11: Расчет. Коэф. | I11: 0 | J11: Расчет. Коэф. | M11: =E11 -> 1500 | N11: Расчет. Коэф. | Q11: =I11 -> 0
B12: показания счетчика | C12: разность | E12: расход эл.энергии за час | F12: показания счетчика | G12: разность | I12: расход эл.энергии за час | J12: показания счетчика | K12: разность | M12: расход эл.энергии за час | N12: показания счетчика | O12: разность | Q12: расход эл.энергии за час
A13: 1 | B13: 2 | C13: 3 | E13: 4 | F13: 5 | G13: 6 | I13: 7 | J13: 8 | K13: 9 | M13: 10 | N13: 11 | O13: 12 | Q13: 13
A14: 0
A15: 1 | E15: 226.05 | M15: 48.45
A16: 2 | E16: 199.2 | M16: 46.65
A17: 3 | E17: 166.65 | M17: 44.1
A18: 4 | E18: 156.75 | M18: 44.4
A19: 5 | E19: 172.95 | M19: 46.95
A20: 6 | E20: 201.6 | M20: 45.6
A21: 7 | E21: 239.7 | M21: 47.25
A22: 8 | E22: 285.75 | M22: 61.95
A23: 9 | E23: 302.55 | M23: 69.6
A24: 10 | E24: 317.85 | M24: 90
A25: 11 | E25: 307.5 | M25: 87.15
A26: 12 | E26: 318.75 | M26: 97.2
... A38: 24 | E38: 267.9 | M38: 48.45
A39: Итого | E39: =SUM(E15:E38) -> 6481.35 | M39: =SUM(M15:M38) -> 1588.05
A40: 1. При наличии на предприятии отклонений от нормальных режимов электропотребления (временное изменение схем питания, остановка на ремонт, резкое снижение
A41: эл.потребления и т.д.) последние необходимо перечислить.
A42: 2. При наличии нескольких источников питания и большого количества вводов таблица
A43: составляется самим предприятием с соблюдением всех пунктов настоящей таблицы. | K43: Главный инженер ___________________ А.А. Михалин

Sheet 5
B1: АО "Вологдаоблэнерго" | J1: код 900151 | N1: ПС "ЗАПАДНАЯ"
B2: наименование предприятия | N2: наименование источника питания
N3: _________________________________
B4: ул. Горького, 99 | I4: Таблица № 1 | O4: РП 16
B5: адрес
A6: почасовых записей показаний электрических счетчиков
A7: в режимный день 16 ИЮНЯ 2021 г.
A8: 372 | B8: 368
A9: часы суток | B9: Активная энергия | J9: Реактивная энергия
B10: Яч. 21 - "РМЗ-1" | F10: Яч. 28 - "РМЗ-2" | J10: Яч. 21 - "РМЗ-1" | N10: Яч. 28 - "РМЗ-2"
B11: Расчет. Коэф. | E11: 7200 | F11: Расчет. Коэф. | I11: 7200 | J11: Расчет. Коэф. | M11: =E11 -> 7200 | N11: Расчет. Коэф. | Q11: =I11 -> 7200
B12: показания счетчика | C12: разность | E12: расход эл.энергии за час | F12: показания счетчика | G12: разность | I12: расход эл.энергии за час | J12: показания счетчика | K12: разность | M12: расход эл.энергии за час | N12: показания счетчика | O12: разность | Q12: расход эл.энергии за час
A13: 1 | B13: 2 | C13: 3 | E13: 4 | F13: 5 | G13: 6 | I13: 7 | J13: 8 | K13: 9 | M13: 10 | N13: 11 | O13: 12 | Q13: 13
A14: 0
A15: 1 | E15: 228.02093 | I15: 772.78531 | M15: 69.430958 | Q15: 192.55547
A16: 2 | E16: 216.31919 | I16: 695.96198 | M16: 72.378906 | Q16: 194.3187
A17: 3 | E17: 201.52402 | I17: 586.55182 | M17: 68.194271 | Q17: 195.8325
A18: 4 | E18: 196.79207 | I18: 571.74628 | M18: 70.151489 | Q18: 202.62907
A19: 5 | E19: 212.44286 | I19: 582.43649 | M19: 70.768101 | Q19: 205.78833
A20: 6 | E20: 248.12311 | I20: 651.27161 | M20: 72.223022 | Q20: 208.26516
A21: 7 | E21: 282.88881 | I21: 773.00357 | M21: 79.795547 | Q21: 205.62552
A22: 8 | E22: 368.56294 | I22: 949.21887 | M22: 126.08978 | Q22: 247.78709
A23: 9 | E23: 463.3407 | I23: 1121.7795 | M23: 196.09232 | Q23: 300.46219
A24: 10 | E24: 526.75107 | I24: 1274.9517 | M24: 218.19328 | Q24: 335.50157
A25: 11 | E25: 485.55598 | I25: 1291.9431 | M25: 194.20092 | Q25: 329.27312
A26: 12 | E26: 505.96646 | I26: 1314.3697 | M26: 238.8878 | Q26: 336.04543
... A38: 24 | E38: 261.56033 | I38: 872.42667 | M38: 78.510365 | Q38: 198.18809
A39: Итого | E39: =SUM(E15:E38) -> 8344.217 | I39: =SUM(I15:I38) -> 23675.077 | M39: =SUM(M15:M38) -> 3124.653 | Q39: =SUM(Q15:Q38) -> 6042.9668
A40: 1. При наличии на предприятии отклонений от нормальных режимов электропотребления (временное изменение схем питания, остановка на ремонт, резкое снижение
A41: эл.потребления и т.д.) последние необходимо перечислить.
A42: 2. При наличии нескольких источников питания и большого количества вводов таблица
A43: составляется самим предприятием с соблюдением всех пунктов настоящей таблицы. | K43: Главный инженер ___________________ А.А. Михалин

Sheet 6
B1: АО "Вологдаоблэнерго" | J1: код 900151 | N1: ПС "ЗАПАДНАЯ"
B2: наименование предприятия | N2: наименование источника питания
N3: _________________________________
B4: ул. Горького, 99 | I4: Таблица № 1 | N4: РП 10 ф7 | Q4: РП 36 ф17
B5: адрес
A6: почасовых записей показаний электрических счетчиков
A7: в режимный день 16 ИЮНЯ 2021 г.
A8: 370 | B8: 365
A9: часы суток | B9: Активная энергия | J9: Реактивная энергия
B10: яч. 16 - ф."ОЧИСТНЫЕ-1" | F10: яч. 24 - "ГОРОД-1" | J10: яч. 16 - ф."ОЧИСТНЫЕ-1" | N10: яч. 24 - "ГОРОД-1"
B11: Расчет. Коэф. | E11: 4800 | F11: Расчет. Коэф. | I11: 7200 | J11: Расчет. Коэф. | M11: =E11 -> 4800 | N11: Расчет. Коэф. | Q11: =I11 -> 7200
B12: показания счетчика | C12: разность | E12: расход эл.энергии за час | F12: показания счетчика | G12: разность | I12: расход эл.энергии за час | J12: показания счетчика | K12: разность | M12: расход эл.энергии за час | N12: показания счетчика | O12: разность | Q12: расход эл.энергии за час
A13: 1 | B13: 2 | C13: 3 | E13: 4 | F13: 5 | G13: 6 | I13: 7 | J13: 8 | K13: 9 | M13: 10 | N13: 11 | O13: 12 | Q13: 13
A14: 0
A15: 1 | E15: 205.60473 | I15: 1686.3502 | M15: 34.883488 | Q15: 1009.2254
A16: 2 | E16: 186.61454 | I16: 1744.0109 | M16: 32.153778 | Q16: 1050.2833
A17: 3 | E17: 181.62624 | I17: 1619.2451 | M17: 29.961001 | Q17: 968.55405
A18: 4 | E18: 179.50275 | I18: 1635.6026 | M18: 27.823652 | Q18: 952.53745
A19: 5 | E19: 181.00616 | I19: 1690.0665 | M19: 28.170063 | Q19: 1036.6527
A20: 6 | E20: 223.22315 | I20: 1628.3155 | M20: 35.867291 | Q20: 962.31451
A21: 7 | E21: 225.65495 | I21: 1603.4322 | M21: 36.231024 | Q21: 951.31531
A22: 8 | E22: 224.50833 | I22: 1646.0489 | M22: 36.033569 | Q22: 958.59409
A23: 9 | E23: 231.47118 | I23: 1777.6653 | M23: 37.121296 | Q23: 1002.142
A24: 10 | E24: 495.543 | I24: 2073.0062 | M24: 84.447834 | Q24: 1136.2858
A25: 11 | E25: 504.32794 | I25: 2006.9403 | M25: 85.577129 | Q25: 1095.5771
A26: 12 | E26: 463.65941 | I26: 1962.6234 | M26: 76.646679 | Q26: 1066.1419
... A38: 24 | E38: 329.56062 | I38: 1524.2054 | M38: 54.109243 | Q38: 860.65707
A39: Итого | E39: =SUM(E15:E38) -> 9474.3035 | I39: =SUM(I15:I38) -> 42445.701 | M39: =SUM(M15:M38) -> 1606.3829 | Q39: =SUM(Q15:Q38) -> 24359.552
A40: 1. При наличии на предприятии отклонений от нормальных режимов электропотребления (временное изменение схем питания, остановка на ремонт, резкое снижение
A41: эл.потребления и т.д.) последние необходимо перечислить.
A42: 2. При наличии нескольких источников питания и большого количества вводов таблица
A43: составляется самим предприятием с соблюдением всех пунктов настоящей таблицы. | K43: Главный инженер ___________________ А.А. Михалин

Sheet 7
B1: АО "Вологдаоблэнерго" | J1: код 900151 | N1: ПС "ЗАПАДНАЯ"
B2: наименование предприятия | N2: наименование источника питания
N3: _________________________________
B4: ул. Горького, 99 | I4: Таблица № 1 | O4: РП 7
B5: адрес
A6: почасовых записей показаний электрических счетчиков
A7: в режимный день 16 ИЮНЯ 2021 г.
A8: 371 | B8: 367
A9: часы суток | B9: Активная энергия | J9: Реактивная энергия
B10: яч. 3 "П/Я-1" | F10: яч. 10 "П/Я-2" | J10: яч. 3 "П/Я-1" | N10: яч. 10 "П/Я-2"
B11: Расчет. Коэф. | E11: 12000 | F11: Расчет. Коэф. | I11: 7200 | J11: Расчет. Коэф. | M11: =E11 -> 12000 | N11: Расчет. Коэф. | Q11: =I11 -> 7200
B12: показания счетчика | C12: разность | E12: расход эл.энергии за час | F12: показания счетчика | G12: разность | I12: расход эл.энергии за час | J12: показания счетчика | K12: разность | M12: расход эл.энергии за час | N12: показания счетчика | O12: разность | Q12: расход эл.энергии за час
A13: 1 | B13: 2 | C13: 3 | E13: 4 | F13: 5 | G13: 6 | I13: 7 | J13: 8 | K13: 9 | M13: 10 | N13: 11 | O13: 12 | Q13: 13
A14: 0
A15: 1 | E15: 766.32132 | I15: 1639.6417 | M15: 278.3266 | Q15: 678.53406
A16: 2 | E16: 699.56119 | I16: 1492.4209 | M16: 260.01536 | Q16: 654.29926
A17: 3 | E17: 674.32175 | I17: 1380.818 | M17: 254.24418 | Q17: 663.82202
A18: 4 | E18: 676.03302 | I18: 1345.1239 | M18: 263.00836 | Q18: 669.22602
A19: 5 | E19: 663.63843 | I19: 1346.2983 | M19: 269.09128 | Q19: 672.62432
A20: 6 | E20: 722.43115 | I20: 1443.0609 | M20: 250.58606 | Q20: 666.32312
A21: 7 | E21: 750.93378 | I21: 1608.4164 | M21: 247.18432 | Q21: 659.49884
A22: 8 | E22: 828.93835 | I22: 1757.6255 | M22: 297.5177 | Q22: 702.1142
A23: 9 | E23: 1109.3572 | I23: 1956.2743 | M23: 359.61514 | Q23: 762.02582
A24: 10 | E24: 1111.886 | I24: 2041.8965 | M24: 364.38178 | Q24: 756.02942
A25: 11 | E25: 1103.6138 | I25: 2032.5677 | M25: 411.60438 | Q25: 752.98456
A26: 12 | E26: 1092.307 | I26: 2016.9585 | M26: 426.8118 | Q26: 787.11976
... A38: 24 | E38: 896.01031 | I38: 1730.8411 | M38: 327.66922 | Q38: 680.0617
A39: Итого | E39: =SUM(E15:E38) -> 22486.631 | I39: =SUM(I15:I38) -> 43199.04 | M39: =SUM(M15:M38) -> 8206.2177 | Q39: =SUM(Q15:Q38) -> 17339.951
A40: 1. При наличии на предприятии отклонений от нормальных режимов электропотребления (временное изменение схем питания, остановка на ремонт, резкое снижение
A41: эл.потребления и т.д.) последние необходимо перечислить.
A42: 2. При наличии нескольких источников питания и большого количества вводов таблица
A43: составляется самим предприятием с соблюдением всех пунктов настоящей таблицы. | K43: Главный инженер ___________________ А.А. Михалин

Sheet 8
B1: АО "Вологдаоблэнерго" | J1: код 900151 | N1: ПС "ЗАПАДНАЯ"
B2: наименование предприятия | I2: _ | N2: наименование источника питания
N3: _________________________________
B4: ул. Горького, 99 | I4: Таблица № 1 | O4: РП 35; РП 37
B5: адрес
A6: почасовых записей показаний электрических счетчиков
A7: в режимный день 16 ИЮНЯ 2021 г.
A8: 129 | B8: 130
A9: часы суток | B9: Активная энергия | J9: Реактивная энергия
B10: яч. 15 "РП -35" | F10: яч. 35 "РП-37" | J10: яч. 15 "РП -35" | N10: яч. 35 "РП-37"
B11: Расчет. Коэф. | E11: 3600 | F11: Расчет. Коэф. | I11: 4800 | J11: Расчет. Коэф. | M11: =E11 -> 3600 | N11: Расчет. Коэф. | Q11: =I11 -> 4800
B12: показания счетчика | C12: разность | E12: расход эл.энергии за час | F12: показания счетчика | G12: разность | I12: расход эл.энергии за час | J12: показания счетчика | K12: разность | M12: расход эл.энергии за час | N12: показания счетчика | O12: разность | Q12: расход эл.энергии за час
A13: 1 | B13: 2 | C13: 3 | E13: 4 | F13: 5 | G13: 6 | I13: 7 | J13: 8 | K13: 9 | M13: 10 | N13: 11 | O13: 12 | Q13: 13
A14: 0
A15: 1 | E15: 226.93667 | I15: 399.93382 | M15: 118.35791 | Q15: 195.07733
A16: 2 | E16: 227.27267 | I16: 347.25525 | M16: 119.61884 | Q16: 161.21576
A17: 3 | E17: 227.25189 | I17: 374.3168 | M17: 118.52765 | Q17: 190.88578
A18: 4 | E18: 227.26575 | I18: 303.54871 | M18: 120.1246 | Q18: 148.36048
A19: 5 | E19: 227.04405 | I19: 296.4473 | M19: 122.27927 | Q19: 146.0707
A20: 6 | E20: 226.55908 | I20: 387.85451 | M20: 120.00682 | Q20: 145.80397
A21: 7 | E21: 227.16875 | I21: 418.29703 | M21: 118.87752 | Q21: 142.53387
A22: 8 | E22: 227.49092 | I22: 448.29266 | M22: 123.23883 | Q22: 156.2898
A23: 9 | E23: 226.96784 | I23: 520.88982 | M23: 115.69056 | Q23: 180.04314
A24: 10 | E24: 226.09489 | I24: 502.92499 | M24: 115.61781 | Q24: 191.74487
A25: 11 | E25: 226.26117 | I25: 499.20108 | M25: 117.07619 | Q25: 204.31263
A26: 12 | E26: 227.26922 | I26: 486.67143 | M26: 120.75507 | Q26: 214.5629
... A38: 24 | E38: 212.74078 | I38: 403.92099 | M38: 113.35921 | Q38: 178.6956
A39: Итого | E39: =SUM(E15:E38) -> 5355.7171 | I39: =SUM(I15:I38) -> 10510.27 | M39: =SUM(M15:M38) -> 2830.679 | Q39: =SUM(Q15:Q38) -> 4422.5369
A40: 1. При наличии на предприятии отклонений от нормальных режимов электропотребления (временное изменение схем питания, остановка на ремонт, резкое снижение
A41: эл.потребления и т.д.) последние необходимо перечислить.
A42: 2. При наличии нескольких источников питания и большого количества вводов таблица
A43: составляется самим предприятием с соблюдением всех пунктов настоящей таблицы. | K43: Главный инженер ___________________ А.А. Михалин

Sheet 9
B1: АО "Вологдаоблэнерго" | J1: код 900151 | N1: ПС "ЗАПАДНАЯ"
B2: наименование предприятия | N2: наименование источника питания
N3: _________________________________
B4: ул. Горького, 99 | I4: Таблица № 1 | O4: РП 28
B5: адрес
A6: почасовых записей показаний электрических счетчиков
A7: в режимный день 16 ИЮНЯ 2021 г.
A8: 366 | B8: 369
A9: часы суток | B9: Активная энергия | J9: Реактивная энергия
B10: яч. 17 "ГОРОД-2" | F10: яч. 22 - "ОЧИСТНЫЕ-2" | J10: ЯЧ. №17 - "ГОРОД-2" | N10: ЯЧ. №22 - "ОЧИСТНЫЕ-2"
B11: Расчет. Коэф. | E11: 7200 | F11: Расчет. Коэф. | I11: 7200 | J11: Расчет. Коэф. | M11: =E11 -> 7200 | N11: Расчет. Коэф. | Q11: =I11 -> 7200
B12: показания счетчика | C12: разность | E12: расход эл.энергии за час | F12: показания счетчика | G12: разность | I12: расход эл.энергии за час | J12: показания счетчика | K12: разность | M12: расход эл.энергии за час | N12: показания счетчика | O12: разность | Q12: расход эл.энергии за час
A13: 1 | B13: 2 | C13: 3 | E13: 4 | F13: 5 | G13: 6 | I13: 7 | J13: 8 | K13: 9 | M13: 10 | N13: 11 | O13: 12 | Q13: 13
A14: 0
A15: 1 | E15: 348.0832 | I15: 474.76184 | M15: 138.3146 | Q15: 238.28852
A16: 2 | E16: 316.0368 | I16: 481.29514 | M16: 137.98204 | Q16: 240.21803
A17: 3 | E17: 264.98284 | I17: 539.76225 | M17: 123.87622 | Q17: 285.9095
A18: 4 | E18: 242.90964 | I18: 453.84561 | M18: 124.88082 | Q18: 235.89483
A19: 5 | E19: 246.79288 | I19: 446.3493 | M19: 130.70742 | Q19: 233.3314
A20: 6 | E20: 277.7966 | I20: 468.96294 | M20: 134.09878 | Q20: 224.51526
A21: 7 | E21: 361.12204 | I21: 671.51929 | M21: 145.5615 | Q21: 233.10276
A22: 8 | E22: 445.78464 | I22: 779.5195 | M22: 187.06142 | Q22: 241.12562
A23: 9 | E23: 606.4981 | I23: 877.14136 | M23: 283.85876 | Q23: 307.03705
A24: 10 | E24: 745.56098 | I24: 692.62601 | M24: 362.49384 | Q24: 325.22012
A25: 11 | E25: 773.01734 | I25: 644.4404 | M25: 388.73786 | Q25: 292.05136
A26: 12 | E26: 768.1781 | I26: 687.759 | M26: 440.89682 | Q26: 341.76813
... A38: 24 | E38: 412.53626 | I38: 458.78888 | M38: 154.9873 | Q38: 242.56668
A39: Итого | E39: =SUM(E15:E38) -> 12440.221 | I39: =SUM(I15:I38) -> 13621.857 | M39: =SUM(M15:M38) -> 5924.2972 | Q39: =SUM(Q15:Q38) -> 6457.578
A40: 1. При наличии на предприятии отклонений от нормальных режимов электропотребления (временное изменение схем питания, остановка на ремонт, резкое снижение
A41: эл.потребления и т.д.) последние необходимо перечислить.
A42: 2. При наличии нескольких источников питания и большого количества вводов таблица
A43: составляется самим предприятием с соблюдением всех пунктов настоящей таблицы. | K43: Главный инженер ___________________ А.А. Михалин

Sheet 10
B1: АО "Вологдаоблэнерго" | J1: код 900151 | N1: ПС "СЕВЕРНАЯ 35/6 кВ
B2: наименование предприятия | N2: наименование источника питания
N3: _________________________________
B4: ул. Горького, 99 | I4: Таблица № 1 | N4: Т1, Т2 | O4: РП 5
B5: адрес
A6: почасовых записей показаний электрических счетчиков
A7: в режимный день 16 ИЮНЯ 2021 г.
A8: 325 | B8: 328
A9: часы суток | B9: Активная энергия | J9: Реактивная энергия
B10: Т 1 -РП 5 Ф 3 ввод № 1 | F10: Т 2 - РП 5 Ф 17 ввод № 2 | J10: Т 1 -РП 5 Ф 3 ввод № 1 | N10: Т 2 - РП 5 Ф 17 ввод № 2
B11: Расчет. Коэф. | E11: 18000 | F11: Расчет. Коэф. | I11: 18000 | J11: Расчет. Коэф. | M11: =E11 -> 18000 | N11: Расчет. Коэф. | Q11: =I11 -> 18000
B12: показания счетчика | C12: разность | E12: расход эл.энергии за час | F12: показания счетчика | G12: разность | I12: расход эл.энергии за час | J12: показания счетчика | K12: разность | M12: расход эл.энергии за час | N12: показания счетчика | O12: разность | Q12: расход эл.энергии за час
A13: 1 | B13: 2 | C13: 3 | E13: 4 | F13: 5 | G13: 6 | I13: 7 | J13: 8 | K13: 9 | M13: 10 | N13: 11 | O13: 12 | Q13: 13
A14: 0
A15: 1 | E15: 873 | I15: 1378.8 | M15: 374.4 | Q15: 419.4
A16: 2 | E16: 757.8 | I16: 1236.6 | M16: 367.2 | Q16: 415.8
A17: 3 | E17: 612 | I17: 1105.2 | M17: 228.6 | Q17: 388.8
A18: 4 | E18: 642.6 | I18: 1036.8 | M18: 306 | Q18: 388.8
A19: 5 | E19: 626.4 | I19: 1049.4 | M19: 329.4 | Q19: 379.8
A20: 6 | E20: 631.8 | I20: 1206 | M20: 252 | Q20: 378
A21: 7 | E21: 723.6 | I21: 1458 | M21: 270 | Q21: 378
A22: 8 | E22: 862.2 | I22: 1686.6 | M22: 327.6 | Q22: 424.8
A23: 9 | E23: 986.4 | I23: 2008.8 | M23: 419.4 | Q23: 606.6
A24: 10 | E24: 1148.4 | I24: 2165.4 | M24: 577.8 | Q24: 693
A25: 11 | E25: 1153.8 | I25: 2248.2 | M25: 507.6 | Q25: 671.4
A26: 12 | E26: 1045.8 | I26: 2239.2 | M26: 392.4 | Q26: 709.2
... A38: 24 | E38: 752.4 | I38: 1477.8 | M38: 198 | Q38: 408.6
A39: Итого | E39: =SUM(E15:E38) -> 22012.2 | I39: =SUM(I15:I38) -> 42276.6 | M39: =SUM(M15:M38) -> 8919 | Q39: =SUM(Q15:Q38) -> 12767.4
A40: 1. При наличии на предприятии отклонений от нормальных режимов электропотребления (временное изменение схем питания, остановка на ремонт, резкое снижение
A41: эл.потребления и т.д.) последние необходимо перечислить.
A42: 2. При наличии нескольких источников питания и большого количества вводов таблица
A43: составляется самим предприятием с соблюдением всех пунктов настоящей таблицы. | K43: Главный инженер ___________________ А.А. Михалин

Sheet 11
B1: АО "Вологдаоблэнерго" | G1: код 900151 | I1: ПС "ВОЛОГДА-ЮЖНАЯ" 110/6 транзит через РТП "ТЕПЛИЧНОГО ХОЗ - ВА"
B2: наименование предприятия | N2: наименование источника питания
N3: _________________________________
B4: ул. Горького, 99 | I4: Таблица № 1 | O4: ТП 438
B5: адрес
A6: почасовых записей показаний электрических счетчиков
A7: в режимный день 16 ИЮНЯ 2021 г.
A8: 635 | B8: 634
A9: часы суток | B9: Активная энергия | J9: Реактивная энергия
B10: ЯЧ. 3 - ф. "Микрорайон-1" ввод № 1 | F10: яч. 13 - ф. "Микрорайон-2" ввод № 2 | J10: ЯЧ. 3 - ф. "Микрорайон-1" ввод № 1 | N10: яч. 13 - ф. "Микрорайон-2" ввод № 2
B11: Расчет. Коэф. | E11: 3600 | F11: Расчет. Коэф. | I11: 3600 | J11: Расчет. Коэф. | M11: =E11 -> 3600 | N11: Расчет. Коэф. | Q11: =I11 -> 3600
B12: показания счетчика | C12: разность | E12: расход эл.энергии за час | F12: показания счетчика | G12: разность | I12: расход эл.энергии за час | J12: показания счетчика | K12: разность | M12: расход эл.энергии за час | N12: показания счетчика | O12: разность | Q12: расход эл.энергии за час
A13: 1 | B13: 2 | C13: 3 | E13: 4 | F13: 5 | G13: 6 | I13: 7 | J13: 8 | K13: 9 | M13: 10 | N13: 11 | O13: 12 | Q13: 13
A14: 0
A15: 1 | E15: 0 | I15: 237.96 | M15: 0 | Q15: 99.72
A16: 2 | E16: 0 | I16: 209.52 | M16: 0 | Q16: 92.16
A17: 3 | E17: 0 | I17: 185.04 | M17: 0 | Q17: 89.64
A18: 4 | E18: 0 | I18: 180 | M18: 0 | Q18: 91.08
A19: 5 | E19: 0 | I19: 176.04 | M19: 0 | Q19: 89.28
A20: 6 | E20: 0 | I20: 229.68 | M20: 0 | Q20: 88.92
A21: 7 | E21: 0 | I21: 279.72 | M21: 0 | Q21: 90
A22: 8 | E22: 0 | I22: 312.48 | M22: 0 | Q22: 99.72
A23: 9 | E23: 0 | I23: 368.28 | M23: 0 | Q23: 107.28
A24: 10 | E24: 0 | I24: 372.6 | M24: 0 | Q24: 107.64
A25: 11 | E25: 0 | I25: 382.32 | M25: 0 | Q25: 108
A26: 12 | E26: 0 | I26: 379.08 | M26: 0 | Q26: 105.48
... A38: 24 | E38: 0 | I38: 275.4 | M38: 0 | Q38: 96.12
A39: Итого | E39: =SUM(E15:E38) -> 0 | I39: =SUM(I15:I38) -> 7151.04 | M39: =SUM(M15:M38) -> 0 | Q39: =SUM(Q15:Q38) -> 2471.4
A40: 1. При наличии на предприятии отклонений от нормальных режимов электропотребления (временное изменение схем питания, остановка на ремонт, резкое снижение
A41: эл.потребления и т.д.) последние необходимо перечислить.
A42: 2. При наличии нескольких источников питания и большого количества вводов таблица
A43: составляется самим предприятием с соблюдением всех пунктов настоящей таблицы. | K43: Главный инженер _____________________________ | Q43: А.А. Михалин

Sheet 12
B1: АО "Вологдаоблэнерго" | J1: код 900151 | N1: ГПП 110/10 кВ "ВОМЗ"
B2: наименование предприятия | N2: наименование источника питания
N3: _________________________________
B4: ул. Горького, 99 | I4: Таблица № 1 | O4: РП 29
B5: адрес
A6: почасовых записей показаний электрических счетчиков
A7: в режимный день 16 ИЮНЯ 2021 г.
A8: 613 | B8: 610
A9: часы суток | B9: Активная энергия | J9: Реактивная энергия
B10: ЯЧ.47 - РП 29 ввод № 1 | F10: ЯЧ.31 - РП 29 ввод № 2 | J10: ЯЧ.47 - РП 29 ввод № 1 | N10: ЯЧ.31 - РП 29 ввод № 2
B11: Расчет. Коэф. | E11: 12000 | F11: Расчет. Коэф. | I11: 20000 | J11: Расчет. Коэф. | M11: =E11 -> 12000 | N11: Расчет. Коэф. | Q11: =I11 -> 20000
B12: показания счетчика | C12: разность | E12: расход эл.энергии за час | F12: показания счетчика | G12: разность | I12: расход эл.энергии за час | J12: показания счетчика | K12: разность | M12: расход эл.энергии за час | N12: показания счетчика | O12: разность | Q12: расход эл.энергии за час
A13: 1 | B13: 2 | C13: 3 | E13: 4 | F13: 5 | G13: 6 | I13: 7 | J13: 8 | K13: 9 | M13: 10 | N13: 11 | O13: 12 | Q13: 13
A14: 0
A15: 1 | E15: 944 | I15: 590 | M15: 342 | Q15: 136
A16: 2 | E16: 834 | I16: 538 | M16: 308 | Q16: 118
A17: 3 | E17: 766 | I17: 482 | M17: 285 | Q17: 106
A18: 4 | E18: 740 | I18: 470 | M18: 289 | Q18: 108
A19: 5 | E19: 749 | I19: 474 | M19: 295 | Q19: 106
A20: 6 | E20: 838 | I20: 510 | M20: 288 | Q20: 104
A21: 7 | E21: 1032 | I21: 670 | M21: 299 | Q21: 114
A22: 8 | E22: 1284 | I22: 934 | M22: 361 | Q22: 164
A23: 9 | E23: 1453 | I23: 1240 | M23: 385 | Q23: 208
A24: 10 | E24: 1612 | I24: 1432 | M24: 384 | Q24: 224
A25: 11 | E25: 1666 | I25: 1520 | M25: 384 | Q25: 240
A26: 12 | E26: 1664 | I26: 1550 | M26: 391 | Q26: 254
... A38: 24 | E38: 1092 | I38: 712 | M38: 334 | Q38: 156
A39: Итого | E39: =SUM(E15:E38) -> 31681 | I39: =SUM(I15:I38) -> 24364 | M39: =SUM(M15:M38) -> 8573 | Q39: =SUM(Q15:Q38) -> 4502
A40: 1. При наличии на предприятии отклонений от нормальных режимов электропотребления (временное изменение схем питания, остановка на ремонт, резкое снижение
A41: эл.потребления и т.д.) последние необходимо перечислить.
A42: 2. При наличии нескольких источников питания и большого количества вводов таблица
A43: составляется самим предприятием с соблюдением всех пунктов настоящей таблицы. | K43: Главный инженер ___________________ А.А. Михалин

Sheet 13
B1: АО "Вологдаоблэнерго" | J1: код 900151 | N1: ГПП 110/10 кВ "ВОМЗ"
B2: наименование предприятия | N2: наименование источника питания
N3: _________________________________
B4: ул. Горького, 99 | I4: Таблица № 1 | O4: РП 14
B5: адрес
A6: почасовых записей показаний электрических счетчиков
A7: в режимный день 16 ИЮНЯ 2021 г.
A8: 614 | B8: 615
A9: часы суток | B9: Активная энергия | J9: Реактивная энергия
B10: ЯЧ.5 - РП 14 ввод № 1 | F10: ЯЧ.22 - РП 14 ввод № 2 | J10: ЯЧ.5 - РП 14 ввод № 1 | N10: ЯЧ.22 - РП 14 ввод № 2
B11: Расчет. Коэф. | E11: 12000 | F11: Расчет. Коэф. | I11: 12000 | J11: Расчет. Коэф. | M11: =E11 -> 12000 | N11: Расчет. Коэф. | Q11: =I11 -> 12000
B12: показания счетчика | C12: разность | E12: расход эл.энергии за час | F12: показания счетчика | G12: разность | I12: расход эл.энергии за час | J12: показания счетчика | K12: разность | M12: расход эл.энергии за час | N12: показания счетчика | O12: разность | Q12: расход эл.энергии за час
A13: 1 | B13: 2 | C13: 3 | E13: 4 | F13: 5 | G13: 6 | I13: 7 | J13: 8 | K13: 9 | M13: 10 | N13: 11 | O13: 12 | Q13: 13
A14: 0
A15: 1 | E15: 1869 | I15: 1450 | M15: 227 | Q15: 204
A16: 2 | E16: 1690 | I16: 1321 | M16: 212 | Q16: 175
A17: 3 | E17: 1478 | I17: 1237 | M17: 180 | Q17: 170
A18: 4 | E18: 1388 | I18: 1202 | M18: 175 | Q18: 169
A19: 5 | E19: 1374 | I19: 1116 | M19: 191 | Q19: 161
A20: 6 | E20: 1441 | I20: 1218 | M20: 176 | Q20: 158
A21: 7 | E21: 1698 | I21: 1569 | M21: 171 | Q21: 176
A22: 8 | E22: 1993 | I22: 1988 | M22: 254 | Q22: 270
A23: 9 | E23: 2414 | I23: 2404 | M23: 367 | Q23: 423
A24: 10 | E24: 2696 | I24: 2625 | M24: 371 | Q24: 451
A25: 11 | E25: 2840 | I25: 2684 | M25: 372 | Q25: 457
A26: 12 | E26: 2832 | I26: 2655 | M26: 370 | Q26: 492
... A38: 24 | E38: 2142 | I38: 1686 | M38: 225 | Q38: 217
A39: Итого | E39: =SUM(E15:E38) -> 56561 | I39: =SUM(I15:I38) -> 49996 | M39: =SUM(M15:M38) -> 7292 | Q39: =SUM(Q15:Q38) -> 8117
A40: 1. При наличии на предприятии отклонений от нормальных режимов электропотребления (временное изменение схем питания, остановка на ремонт, резкое снижение
A41: эл.потребления и т.д.) последние необходимо перечислить.
A42: 2. При наличии нескольких источников питания и большого количества вводов таблица
A43: составляется самим предприятием с соблюдением всех пунктов настоящей таблицы. | K43: Главный инженер ___________________ А.А. Михалин

Sheet 14
B1: АО "Вологдаоблэнерго" | J1: код 900151 | N1: ГПП 110/10 кВ "ВОМЗ"
B2: наименование предприятия | N2: наименование источника питания
N3: _________________________________
B4: ул. Горького, 99 | I4: Таблица № 1 | O4: РП 2
B5: адрес
A6: почасовых записей показаний электрических счетчиков
A7: в режимный день 16 ИЮНЯ 2021 г.
A8: 612 | B8: 611
A9: часы суток | B9: Активная энергия | J9: Реактивная энергия
B10: ЯЧ.44 - РП 2 ввод № 1 | F10: ЯЧ.26в - РП 2 ввод № 2 | J10: ЯЧ.44 - РП 2 ввод № 1 | N10: ЯЧ.26в - РП 2 ввод № 2
B11: Расчет. Коэф. | E11: 12000 | F11: Расчет. Коэф. | I11: 12000 | J11: Расчет. Коэф. | M11: =E11 -> 12000 | N11: Расчет. Коэф. | Q11: =I11 -> 12000
B12: показания счетчика | C12: разность | E12: расход эл.энергии за час | F12: показания счетчика | G12: разность | I12: расход эл.энергии за час | J12: показания счетчика | K12: разность | M12: расход эл.энергии за час | N12: показания счетчика | O12: разность | Q12: расход эл.энергии за час
A13: 1 | B13: 2 | C13: 3 | E13: 4 | F13: 5 | G13: 6 | I13: 7 | J13: 8 | K13: 9 | M13: 10 | N13: 11 | O13: 12 | Q13: 13
A14: 0
A15: 1 | E15: 432 | I15: 438 | M15: 27 | Q15: 35
A16: 2 | E16: 385 | I16: 395 | M16: 12 | Q16: 16
A17: 3 | E17: 349 | I17: 346 | M17: 3 | Q17: 8
A18: 4 | E18: 335 | I18: 361 | M18: 6 | Q18: 7
A19: 5 | E19: 336 | I19: 371 | M19: 12 | Q19: 8
A20: 6 | E20: 365 | I20: 373 | M20: 8 | Q20: 3
A21: 7 | E21: 444 | I21: 444 | M21: 3 | Q21: 15
A22: 8 | E22: 511 | I22: 553 | M22: 30 | Q22: 39
A23: 9 | E23: 631 | I23: 672 | M23: 75 | Q23: 65
A24: 10 | E24: 696 | I24: 763 | M24: 75 | Q24: 86
A25: 11 | E25: 720 | I25: 807 | M25: 75 | Q25: 88
A26: 12 | E26: 700 | I26: 806 | M26: 80 | Q26: 89
... A38: 24 | E38: 497 | I38: 509 | M38: 8 | Q38: 72
A39: Итого | E39: =SUM(E15:E38) -> 13644 | I39: =SUM(I15:I38) -> 14622 | M39: =SUM(M15:M38) -> 1084 | Q39: =SUM(Q15:Q38) -> 1628
A40: 1. При наличии на предприятии отклонений от нормальных режимов электропотребления (временное изменение схем питания, остановка на ремонт, резкое снижение
A41: эл.потребления и т.д.) последние необходимо перечислить.
A42: 2. При наличии нескольких источников питания и большого количества вводов таблица
A43: составляется самим предприятием с соблюдением всех пунктов настоящей таблицы. | K43: Главный инженер ___________________ А.А. Михалин

Sheet 15
B1: АО "Вологдаоблэнерго" | J1: код 900151 | N1: ПС ВОЛОГДА-ЮЖНАЯ РУ - 6 кВ
B2: наименование предприятия | N2: наименование источника питания
N3: _________________________________
B4: ул. Горького, 99 | I4: Таблица № 1 | N4: ТП 450 | Q4: ТП 630
B5: адрес
A6: почасовых записей показаний электрических счетчиков
A7: в режимный день 18 ДЕКАБРЯ 2019 г..
A8: 591 | B8: 595
A9: часы суток | B9: Активная энергия | J9: Реактивная энергия
B10: ЯЧ.№ 206 - "ГОРОД-15" | F10: ЯЧ.№103 - "ТУБДИСПАНСЕР" | J10: =B10 -> ЯЧ.№ 206 - "ГОРОД-15" | N10: =F10 -> ЯЧ.№103 - "ТУБДИСПАНСЕР"
B11: Расчет. Коэф. | E11: 4800 | F11: Расчет. Коэф. | I11: 2400 | J11: Расчет. Коэф. | M11: =E11 -> 4800 | N11: Расчет. Коэф. | Q11: =I11 -> 2400
B12: показания счетчика | C12: разность | E12: расход эл.энергии за час | F12: показания счетчика | G12: разность | I12: расход эл.энергии за час | J12: показания счетчика | K12: разность | M12: расход эл.энергии за час | N12: показания счетчика | O12: разность | Q12: расход эл.энергии за час
A13: 1 | B13: 2 | C13: 3 | E13: 4 | F13: 5 | G13: 6 | I13: 7 | J13: 8 | K13: 9 | M13: 10 | N13: 11 | O13: 12 | Q13: 13
A14: 0
A15: 1
A16: 2
A17: 3
A18: 4
A19: 5
A20: 6
A21: 7
A22: 8
A23: 9
A24: 10
A25: 11
... A38: 24
A39: Итого | E39: =SUM(E15:E38) -> 0 | I39: =SUM(I15:I38) -> 0 | M39: =SUM(M15:M38) -> 0 | Q39: =SUM(Q15:Q38) -> 0
A40: 1. При наличии на предприятии отклонений от нормальных режимов электропотребления (временное изменение схем питания, остановка на ремонт, резкое снижение
A41: эл.потребления и т.д.) последние необходимо перечислить.
A42: 2. При наличии нескольких источников питания и большого количества вводов таблица
A43: составляется самим предприятием с соблюдением всех пунктов настоящей таблицы. | K43: Главный инженер ___________________ А.А. Михалин

Sheet 16
B1: АО "Вологдаоблэнерго" | J1: код 900151 | N1: ПС ВОЛОГДА-ЮЖНАЯ РУ-10 кВ
B2: наименование предприятия | I2: _ | N2: наименование источника питания
N3: _________________________________
B4: ул. Горького, 99 | I4: Таблица № 1 | O4: РП 32
B5: адрес
A6: почасовых записей показаний электрических счетчиков
A7: в режимный день 16 ИЮНЯ 2021 г.
A8: 590 | B8: 593
A9: часы суток | B9: Активная энергия | J9: Реактивная энергия
B10: ЯЧ.№206 - "ГОРОД-10" | F10: ЯЧ.№404- "ГОРОД-14" | J10: =B10 -> ЯЧ.№206 - "ГОРОД-10" | N10: =F10 -> ЯЧ.№404- "ГОРОД-14"
B11: Расчет. Коэф. | E11: 6000 | F11: Расчет. Коэф. | I11: 3000 | J11: Расчет. Коэф. | M11: =E11 -> 6000 | N11: Расчет. Коэф. | Q11: =I11 -> 3000
B12: показания счетчика | C12: разность | E12: расход эл.энергии за час | F12: показания счетчика | G12: разность | I12: расход эл.энергии за час | J12: показания счетчика | K12: разность | M12: расход эл.энергии за час | N12: показания счетчика | O12: разность | Q12: расход эл.энергии за час
A13: 1 | B13: 2 | C13: 3 | E13: 4 | F13: 5 | G13: 6 | I13: 7 | J13: 8 | K13: 9 | M13: 10 | N13: 11 | O13: 12 | Q13: 13
A14: 0
A15: 1
A16: 2
A17: 3
A18: 4
A19: 5
A20: 6
A21: 7
A22: 8
A23: 9
A24: 10
A25: 11
... A38: 24
A39: Итого | E39: =SUM(E15:E38) -> 0 | I39: =SUM(I15:I38) -> 0 | M39: =SUM(M15:M38) -> 0 | Q39: =SUM(Q15:Q38) -> 0
A40: 1. При наличии на предприятии отклонений от нормальных режимов электропотребления (временное изменение схем питания, остановка на ремонт, резкое снижение
A41: эл.потребления и т.д.) последние необходимо перечислить.
A42: 2. При наличии нескольких источников питания и большого количества вводов таблица
A43: составляется самим предприятием с соблюдением всех пунктов настоящей таблицы. | K43: Главный инженер ___________________ А.А. Михалин

Sheet 17
B1: АО "Вологдаоблэнерго" | J1: код 900151 | N1: ПС ВОЛОГДА-ЮЖНАЯ РУ- 6 кВ
B2: наименование предприятия | N2: наименование источника питания
N3: _________________________________
B4: ул. Горького, 99 | I4: Таблица № 1 | O4: ТП 461
B5: адрес
A6: почасовых записей показаний электрических счетчиков
A7: в режимный день 16 ИЮНЯ 2021 г.
A8: 594
A9: часы суток | B9: Активная энергия | J9: Реактивная энергия
B10: ЯЧ.№203 - "ГОРОД 20" | J10: ЯЧ.№203 - "ГОРОД 20"
B11: Расчет. Коэф. | E11: 7200 | F11: Расчет. Коэф. | I11: 0 | J11: Расчет. Коэф. | M11: =E11 -> 7200 | N11: Расчет. Коэф. | Q11: =I11 -> 0
B12: показания счетчика | C12: разность | E12: расход эл.энергии за час | F12: показания счетчика | G12: разность | I12: расход эл.энергии за час | J12: показания счетчика | K12: разность | M12: расход эл.энергии за час | N12: показания счетчика | O12: разность | Q12: расход эл.энергии за час
A13: 1 | B13: 2 | C13: 3 | E13: 4 | F13: 5 | G13: 6 | I13: 7 | J13: 8 | K13: 9 | M13: 10 | N13: 11 | O13: 12 | Q13: 13
A14: 0
A15: 1
A16: 2
A17: 3
A18: 4
A19: 5
A20: 6
A21: 7
A22: 8
A23: 9
A24: 10
A25: 11
... A38: 24
A39: Итого | E39: =SUM(E15:E38) -> 0 | M39: =SUM(M15:M38) -> 0
A40: 1. При наличии на предприятии отклонений от нормальных режимов электропотребления (временное изменение схем питания, остановка на ремонт, резкое снижение
A41: эл.потребления и т.д.) последние необходимо перечислить.
A42: 2. При наличии нескольких источников питания и большого количества вводов таблица
A43: составляется самим предприятием с соблюдением всех пунктов настоящей таблицы. | K43: Главный инженер ___________________ А.А. Михалин

Sheet 18
B1: АО "Вологдаоблэнерго" | J1: код 900151 | N1: ПС ВОЛОГДА-ЮЖНАЯ РУ-10 кВ
B2: наименование предприятия | N2: наименование источника питания
N3: _________________________________
B4: ул. Горького, 99 | I4: Таблица № 1 | O4: РП 26
B5: адрес
A6: почасовых записей показаний электрических счетчиков
A7: в режимный день 16 ДЕКАБРЯ 2015 __ г.
A8: 589 | B8: 592
A9: часы суток | B9: Активная энергия | J9: Реактивная энергия
B10: ЯЧ. № 107- ф."ГОРОД 7" | F10: ЯЧ. № 204 - ф."ГОРОД 17" | J10: ЯЧ. № 107- ф."ГОРОД 7" | N10: ЯЧ. № 204 - ф."ГОРОД 17"
B11: Расчет. Коэф. | E11: 8000 | F11: Расчет. Коэф. | I11: 8000 | J11: Расчет. Коэф. | M11: =E11 -> 8000 | N11: Расчет. Коэф. | Q11: =I11 -> 8000
B12: показания счетчика | C12: разность | E12: расход эл.энергии за час | F12: показания счетчика | G12: разность | I12: расход эл.энергии за час | J12: показания счетчика | K12: разность | M12: расход эл.энергии за час | N12: показания счетчика | O12: разность | Q12: расход эл.энергии за час
A13: 1 | B13: 2 | C13: 3 | E13: 4 | F13: 5 | G13: 6 | I13: 7 | J13: 8 | K13: 9 | M13: 10 | N13: 11 | O13: 12 | Q13: 13
A14: 0
A15: 1
A16: 2
A17: 3
A18: 4
A19: 5
A20: 6
A21: 7
A22: 8
A23: 9
A24: 10
A25: 11
... A38: 24
A39: Итого | E39: =SUM(E15:E38) -> 0 | I39: =SUM(I15:I38) -> 0 | M39: =SUM(M15:M38) -> 0 | Q39: =SUM(Q15:Q38) -> 0
A40: 1. При наличии на предприятии отклонений от нормальных режимов электропотребления (временное изменение схем питания, остановка на ремонт, резкое снижение
A41: эл.потребления и т.д.) последние необходимо перечислить.
A42: 2. При наличии нескольких источников питания и большого количества вводов таблица
A43: составляется самим предприятием с соблюдением всех пунктов настоящей таблицы. | K43: Главный инженер ___________________ А.А. Михалин

Sheet 19
B1: АО "Вологдаоблэнерго" | J1: код 900151 | N1: ПС ВОЛОГДА-ЮЖНАЯ РУ - 10 кВ
B2: наименование предприятия | N2: наименование источника питания
N3: _________________________________
B4: ул. Горького, 99 | I4: Таблица № 1 | O4: РП 43
B5: адрес
A6: почасовых записей показаний электрических счетчиков
A7: в режимный день 16 ИЮНЯ 2021 г.
A8: 597 | B8: 596
A9: часы суток | B9: Активная энергия | J9: Реактивная энергия
B10: ЯЧ.№ 407 - "ГОРОД-3" | F10: ЯЧ.№ 305 - "ГОРОД-5" | J10: ЯЧ.№ 407- "ГОРОД-3" | N10: ЯЧ.№ 305- "ГОРОД-5"
B11: Расчет. Коэф. | E11: 6000 | F11: Расчет. Коэф. | I11: 4000 | J11: Расчет. Коэф. | M11: =E11 -> 6000 | N11: Расчет. Коэф. | Q11: =I11 -> 4000
B12: показания счетчика | C12: разность | E12: расход эл.энергии за час | F12: показания счетчика | G12: разность | I12: расход эл.энергии за час | J12: показания счетчика | K12: разность | M12: расход эл.энергии за час | N12: показания счетчика | O12: разность | Q12: расход эл.энергии за час
A13: 1 | B13: 2 | C13: 3 | E13: 4 | F13: 5 | G13: 6 | I13: 7 | J13: 8 | K13: 9 | M13: 10 | N13: 11 | O13: 12 | Q13: 13
A14: 0
A15: 1
A16: 2
A17: 3
A18: 4
A19: 5
A20: 6
A21: 7
A22: 8
A23: 9
A24: 10
A25: 11
... A38: 24
A39: Итого | E39: =SUM(E15:E38) -> 0 | I39: =SUM(I15:I38) -> 0 | M39: =SUM(M15:M38) -> 0 | Q39: =SUM(Q15:Q38) -> 0
A40: 1. При наличии на предприятии отклонений от нормальных режимов электропотребления (временное изменение схем питания, остановка на ремонт, резкое снижение
A41: эл.потребления и т.д.) последние необходимо перечислить.
A42: 2. При наличии нескольких источников питания и большого количества вводов таблица
A43: составляется самим предприятием с соблюдением всех пунктов настоящей таблицы. | K43: Главный инженер ___________________ А.А. Михалин

Sheet 20
B1: АО "Вологдаоблэнерго" | J1: код 900151 | N1: ПС ВОЛОГДА-ЮЖНАЯ РУ-10 кВ
B2: наименование предприятия | N2: наименование источника питания
N3: _________________________________
B4: ул. Горького, 99 | I4: Таблица № 1 | O4: РП 27
B5: адрес
A6: почасовых записей показаний электрических счетчиков
A7: в режимный день 16 ДЕКАБРЯ 2015 __ г.
A8: 30 | B8: 49
A9: часы суток | B9: Активная энергия | J9: Реактивная энергия
B10: ЯЧ. № 408 - "ГОРОД -1" | F10: ЯЧ.№ 105 - "РП 27" | J10: ЯЧ. № 408 - "ГОРОД -1" | N10: ЯЧ.№ 105 - "РП 27"
B11: Расчет. Коэф. | E11: 12000 | F11: Расчет. Коэф. | I11: 12000 | J11: Расчет. Коэф. | M11: =E11 -> 12000 | N11: Расчет. Коэф. | Q11: =I11 -> 12000
B12: показания счетчика | C12: разность | E12: расход эл.энергии за час | F12: показания счетчика | G12: разность | I12: расход эл.энергии за час | J12: показания счетчика | K12: разность | M12: расход эл.энергии за час | N12: показания счетчика | O12: разность | Q12: расход эл.энергии за час
A13: 1 | B13: 2 | C13: 3 | E13: 4 | F13: 5 | G13: 6 | I13: 7 | J13: 8 | K13: 9 | M13: 10 | N13: 11 | O13: 12 | Q13: 13
A14: 0
A15: 1
A16: 2
A17: 3
A18: 4
A19: 5
A20: 6
A21: 7
A22: 8
A23: 9
A24: 10
A25: 11
... A38: 24
A39: Итого | E39: =SUM(E15:E38) -> 0 | I39: =SUM(I15:I38) -> 0 | M39: =SUM(M15:M38) -> 0 | Q39: =SUM(Q15:Q38) -> 0
A40: 1. При наличии на предприятии отклонений от нормальных режимов электропотребления (временное изменение схем питания, остановка на ремонт, резкое снижение
A41: эл.потребления и т.д.) последние необходимо перечислить.
A42: 2. При наличии нескольких источников питания и большого количества вводов таблица
A43: составляется самим предприятием с соблюдением всех пунктов настоящей таблицы. | K43: Главный инженер ___________________ А.А. Михалин

Sheet 21
B1: АО "Вологдаоблэнерго" | J1: код 900151 | N1: ПС ВОЛОГДА-ЮЖНАЯ РУ-10 кВ
B2: наименование предприятия | N2: наименование источника питания
N3: яч. 406 ф "РОДИОНЦЕВО", КТП-906
B4: ул. Горького, 99 | I4: Таблица № 1
B5: адрес
A6: почасовых записей показаний электрических счетчиков
A7: в режимный день 16 ИЮНЯ 2021 г.
A8: 362 | B8: 985
A9: часы суток | B9: Активная энергия | J9: Реактивная энергия
B10: яч. 406 ф "РОДИОНЦЕВО" - ПКУ | F10: КТП-906 | J10: яч. 406 ф "РОДИОНЦЕВО" - ПКУ | N10: КТП-906
B11: Расчет. Коэф. | E11: 2000 | F11: Расчет. Коэф. | I11: 80 | J11: Расчет. Коэф. | M11: =E11 -> 2000 | N11: Расчет. Коэф. | Q11: =I11 -> 80
B12: показания счетчика | C12: разность | E12: расход эл.энергии за час | F12: показания счетчика | G12: разность | I12: расход эл.энергии за час | J12: показания счетчика | K12: разность | M12: расход эл.энергии за час | N12: показания счетчика | O12: разность | Q12: расход эл.энергии за час
A13: 1 | B13: 2 | C13: 3 | E13: 4 | F13: 5 | G13: 6 | I13: 7 | J13: 8 | K13: 9 | M13: 10 | N13: 11 | O13: 12 | Q13: 13
A14: 0
A15: 1 | E15: 7.6 | I15: 8.4 | M15: 0 | Q15: 3
A16: 2 | E16: 6.6 | I16: 7.2 | M16: 0 | Q16: 1.6
A17: 3 | E17: 2.4 | I17: 7.56 | M17: 0 | Q17: 2.8
A18: 4 | E18: 2.4 | I18: 7.6 | M18: 0 | Q18: 2.92
A19: 5 | E19: 2.6 | I19: 7.24 | M19: 0 | Q19: 2.8
A20: 6 | E20: 2.4 | I20: 7.72 | M20: 0 | Q20: 2.32
A21: 7 | E21: 3 | I21: 12.96 | M21: 0 | Q21: 3.32
A22: 8 | E22: 4.2 | I22: 11.48 | M22: 0 | Q22: 3.44
A23: 9 | E23: 5.4 | I23: 13.04 | M23: 0 | Q23: 3.44
A24: 10 | E24: 7.4 | I24: 12.24 | M24: 0 | Q24: 2.72
A25: 11 | E25: 8.2 | I25: 9.08 | M25: 0 | Q25: 2.4
A26: 12 | E26: 6.8 | I26: 10.04 | M26: 0 | Q26: 2.8
... A38: 24 | E38: 7.8 | I38: 8.6 | M38: 0 | Q38: 3.08
A39: Итого | E39: =SUM(E15:E38) -> 129.8 | I39: =SUM(I15:I38) -> 267.72 | M39: =SUM(M15:M38) -> 0.2 | Q39: =SUM(Q15:Q38) -> 72.88
A40: 1. При наличии на предприятии отклонений от нормальных режимов электропотребления (временное изменение схем питания, остановка на ремонт, резкое снижение
A41: эл.потребления и т.д.) последние необходимо перечислить.
A42: 2. При наличии нескольких источников питания и большого количества вводов таблица
A43: составляется самим предприятием с соблюдением всех пунктов настоящей таблицы. | K43: Главный инженер ___________________ А.А. Михалин

Sheet 21_1
B1: АО "Вологдаоблэнерго" | J1: код 900151 | N1: ПС ВОЛОГДА-ЮЖНАЯ РУ-10 кВ
B2: наименование предприятия | N2: наименование источника питания
N3: РП-44
B4: ул. Горького, 99 | I4: Таблица № 1
B5: адрес
A6: почасовых записей показаний электрических счетчиков
A7: в режимный день 16 ИЮНЯ 2021 г.
A9: часы суток | B9: Активная энергия | J9: Реактивная энергия
B10: яч. 307 ф "Охмыльцево-1" | F10: яч. 409 ф "Охмыльцево-2" | J10: яч. 307 ф "Охмыльцево-1" | N10: яч. 409 ф "Охмыльцево-2"
B11: Расчет. Коэф. | F11: Расчет. Коэф. | J11: Расчет. Коэф. | N11: Расчет. Коэф.
B12: показания счетчика | C12: разность | E12: расход эл.энергии за час | F12: показания счетчика | G12: разность | I12: расход эл.энергии за час | J12: показания счетчика | K12: разность | M12: расход эл.энергии за час | N12: показания счетчика | O12: разность | Q12: расход эл.энергии за час
A13: 1 | B13: 2 | C13: 3 | E13: 4 | F13: 5 | G13: 6 | I13: 7 | J13: 8 | K13: 9 | M13: 10 | N13: 11 | O13: 12 | Q13: 13
A14: 0
A15: 1
A16: 2
A17: 3
A18: 4
A19: 5
A20: 6
A21: 7
A22: 8
A23: 9
A24: 10
A25: 11
... A38: 24
A39: Итого | E39: =SUM(E15:E38) -> 0 | I39: =SUM(I15:I38) -> 0 | M39: =SUM(M15:M38) -> 0 | Q39: =SUM(Q15:Q38) -> 0
A40: 1. При наличии на предприятии отклонений от нормальных режимов электропотребления (временное изменение схем питания, остановка на ремонт, резкое снижение
A41: эл.потребления и т.д.) последние необходимо перечислить.
A42: 2. При наличии нескольких источников питания и большого количества вводов таблица
A43: составляется самим предприятием с соблюдением всех пунктов настоящей таблицы. | K43: Главный инженер ___________________ А.А. Михалин

Sheet 21_2
B1: АО "Вологдаоблэнерго" | J1: код 900151 | N1: ПС ВОЛОГДА-ЮЖНАЯ РУ-10 кВ
B2: наименование предприятия | N2: наименование источника питания
N3: яч. 104 ф 6 кВ Керамик-1
B4: ул. Горького, 99 | I4: Таблица № 1
B5: адрес
A6: почасовых записей показаний электрических счетчиков
A7: в режимный день 16 ИЮНЯ 2021 г.
A9: часы суток | B9: Активная энергия | J9: Реактивная энергия
B10: яч. 104 ф 6 кВ Керамик-1 ТП-841Т-1 | F10: яч. 104 ф 6 кВ Керамик-1 ТП-417 | J10: яч. 104 ф 6 кВ Керамик-1 ТП-841Т-1 | N10: яч. 104 ф 6 кВ Керамик-1 ТП-417
B11: Расчет. Коэф. | F11: Расчет. Коэф. | J11: Расчет. Коэф. | N11: Расчет. Коэф.
B12: показания счетчика | C12: разность | E12: расход эл.энергии за час | F12: показания счетчика | G12: разность | I12: расход эл.энергии за час | J12: показания счетчика | K12: разность | M12: расход эл.энергии за час | N12: показания счетчика | O12: разность | Q12: расход эл.энергии за час
A13: 1 | B13: 2 | C13: 3 | E13: 4 | F13: 5 | G13: 6 | I13: 7 | J13: 8 | K13: 9 | M13: 10 | N13: 11 | O13: 12 | Q13: 13
A14: 0
A15: 1 | E15: 0 | M15: 0
A16: 2 | E16: 0 | M16: 0
A17: 3 | E17: 0 | M17: 0
A18: 4 | E18: 0 | M18: 0
A19: 5 | E19: 0 | M19: 0
A20: 6 | E20: 0 | M20: 0
A21: 7 | E21: 0 | M21: 0
A22: 8 | E22: 0 | M22: 0
A23: 9 | E23: 0 | M23: 0
A24: 10 | E24: 0 | M24: 0
A25: 11 | E25: 0 | M25: 0
A26: 12 | E26: 0 | M26: 0
... A38: 24 | E38: 0 | M38: 0
A39: Итого | E39: =SUM(E15:E38) -> 0 | I39: =SUM(I15:I38) -> 0 | M39: =SUM(M15:M38) -> 0 | Q39: =SUM(Q15:Q38) -> 0
A40: 1. При наличии на предприятии отклонений от нормальных режимов электропотребления (временное изменение схем питания, остановка на ремонт, резкое снижение
A41: эл.потребления и т.д.) последние необходимо перечислить.
A42: 2. При наличии нескольких источников питания и большого количества вводов таблица
A43: составляется самим предприятием с соблюдением всех пунктов настоящей таблицы. | K43: Главный инженер ___________________ А.А. Михалин

Sheet 21_3
B1: АО "Вологдаоблэнерго" | J1: код 900151 | N1: ПС ВОЛОГДА-ЮЖНАЯ РУ-10 кВ
B2: наименование предприятия | N2: наименование источника питания
N3: яч. 104 ф 6 кВ Керамик-1
B4: ул. Горького, 99 | I4: Таблица № 1
B5: адрес
A6: почасовых записей показаний электрических счетчиков
A7: в режимный день 16 ИЮНЯ 2021 г.
A9: часы суток | B9: Активная энергия | J9: Реактивная энергия
B10: яч. 104 ф 6 кВ Керамик-1 КТП-1004 | J10: яч. 104 ф 6 кВ Керамик-1 КТП-1004
B11: Расчет. Коэф. | F11: Расчет. Коэф. | J11: Расчет. Коэф. | N11: Расчет. Коэф.
B12: показания счетчика | C12: разность | E12: расход эл.энергии за час | F12: показания счетчика | G12: разность | I12: расход эл.энергии за час | J12: показания счетчика | K12: разность | M12: расход эл.энергии за час | N12: показания счетчика | O12: разность | Q12: расход эл.энергии за час
A13: 1 | B13: 2 | C13: 3 | E13: 4 | F13: 5 | G13: 6 | I13: 7 | J13: 8 | K13: 9 | M13: 10 | N13: 11 | O13: 12 | Q13: 13
A14: 0
A15: 1
A16: 2
A17: 3
A18: 4
A19: 5
A20: 6
A21: 7
A22: 8
A23: 9
A24: 10
A25: 11
... A38: 24
A39: Итого | E39: =SUM(E15:E38) -> 0 | I39: =SUM(I15:I38) -> 0 | M39: =SUM(M15:M38) -> 0 | Q39: =SUM(Q15:Q38) -> 0
A40: 1. При наличии на предприятии отклонений от нормальных режимов электропотребления (временное изменение схем питания, остановка на ремонт, резкое снижение
A41: эл.потребления и т.д.) последние необходимо перечислить.
A42: 2. При наличии нескольких источников питания и большого количества вводов таблица
A43: составляется самим предприятием с соблюдением всех пунктов настоящей таблицы. | K43: Главный инженер ___________________ А.А. Михалин

Sheet 21_4
B1: АО "Вологдаоблэнерго" | J1: код 900151 | N1: ПС ВОЛОГДА-ЮЖНАЯ РУ-10 кВ
B2: наименование предприятия | N2: наименование источника питания
N3: яч. 207 ф 10 кВ Керамик 2
B4: ул. Горького, 99 | I4: Таблица № 1
B5: адрес
A6: почасовых записей показаний электрических счетчиков
A7: в режимный день 16 ИЮНЯ 2021 г.
A9: часы суток | B9: Активная энергия | J9: Реактивная энергия
B10: яч. 207 ф 10 кВ Керамик 2 ТП841 Т-2 | J10: яч. 207 ф 10 кВ Керамик 2 ТП841 Т-2
B11: Расчет. Коэф. | F11: Расчет. Коэф. | J11: Расчет. Коэф. | N11: Расчет. Коэф.
B12: показания счетчика | C12: разность | E12: расход эл.энергии за час | F12: показания счетчика | G12: разность | I12: расход эл.энергии за час | J12: показания счетчика | K12: разность | M12: расход эл.энергии за час | N12: показания счетчика | O12: разность | Q12: расход эл.энергии за час
A13: 1 | B13: 2 | C13: 3 | E13: 4 | F13: 5 | G13: 6 | I13: 7 | J13: 8 | K13: 9 | M13: 10 | N13: 11 | O13: 12 | Q13: 13
A14: 0
A15: 1 | E15: 48.3 | M15: 13.8
A16: 2 | E16: 38.7 | M16: 11.85
A17: 3 | E17: 34.8 | M17: 10.05
A18: 4 | E18: 31.35 | M18: 9.6
A19: 5 | E19: 29.7 | M19: 8.85
A20: 6 | E20: 36 | M20: 9.75
A21: 7 | E21: 49.95 | M21: 12.6
A22: 8 | E22: 55.65 | M22: 15.45
A23: 9 | E23: 58.95 | M23: 18.45
A24: 10 | E24: 56.7 | M24: 17.55
A25: 11 | E25: 55.95 | M25: 15.75
A26: 12 | E26: 50.55 | M26: 14.55
... A38: 24 | E38: 57.75 | M38: 15.75
A39: Итого | E39: =SUM(E15:E38) -> 1373.4 | I39: =SUM(I15:I38) -> 0 | M39: =SUM(M15:M38) -> 395.25 | Q39: =SUM(Q15:Q38) -> 0
A40: 1. При наличии на предприятии отклонений от нормальных режимов электропотребления (временное изменение схем питания, остановка на ремонт, резкое снижение
A41: эл.потребления и т.д.) последние необходимо перечислить.
A42: 2. При наличии нескольких источников питания и большого количества вводов таблица
A43: составляется самим предприятием с соблюдением всех пунктов настоящей таблицы. | K43: Главный инженер ___________________ А.А. Михалин

Sheet 22
B1: АО "Вологдаоблэнерго" | J1: код 900151 | M1: ПС ВОЛОГДА - ТЯГОВАЯ 110/27,5/6 кВ
B2: наименование предприятия | N2: наименование источника питания
N3: _________________________________
B4: ул. Горького, 99 | I4: Таблица № 1 | O4: ТП 450
A6: почасовых записей показаний электрических счетчиков
A7: в режимный день 16 ИЮНЯ 2021 г.
A8: 636
A9: часы суток | B9: Активная энергия | J9: Реактивная энергия
B10: ЯЧ. 1 - ТП 450 | J10: ЯЧ. 1 - ТП 450
B11: Расчет. Коэф. | E11: 7200 | F11: Расчет. Коэф. | I11: =Q11 -> 0 | J11: Расчет. Коэф. | M11: =E11 -> 7200 | N11: Расчет. Коэф. | Q11: 0
B12: показания счетчика | C12: разность | E12: расход эл.энергии за час | F12: показания счетчика | G12: разность | I12: расход эл.энергии за час | J12: показания счетчика | K12: разность | M12: расход эл.энергии за час | N12: показания счетчика | O12: разность | Q12: расход эл.энергии за час
A13: 1 | B13: 2 | C13: 3 | E13: 4 | F13: 5 | G13: 6 | I13: 7 | J13: 8 | K13: 9 | M13: 10 | N13: 11 | O13: 12 | Q13: 13
A14: 0
A15: 1 | E15: 0 | M15: 0
A16: 2 | E16: 0 | M16: 0
A17: 3 | E17: 0 | M17: 0
A18: 4 | E18: 0 | M18: 0
A19: 5 | E19: 0 | M19: 0
A20: 6 | E20: 0 | M20: 0
A21: 7 | E21: 0 | M21: 0
A22: 8 | E22: 0 | M22: 0
A23: 9 | E23: 0 | M23: 0
A24: 10 | E24: 0 | M24: 0
A25: 11 | E25: 0 | M25: 0
A26: 12 | E26: 0 | M26: 0
... A38: 24 | E38: 0 | M38: 0
A39: Итого | E39: =SUM(E15:E38) -> 0 | M39: =SUM(M15:M38) -> 0
A40: 1. При наличии на предприятии отклонений от нормальных режимов электропотребления (временное изменение схем питания, остановка на ремонт, резкое снижение
A41: эл.потребления и т.д.) последние необходимо перечислить.
A42: 2. При наличии нескольких источников питания и большого количества вводов таблица
A43: составляется самим предприятием с соблюдением всех пунктов настоящей таблицы. | K43: Главный инженер ___________________ А.А. Михалин

Sheet 23
B1: АО "Вологдаоблэнерго" | I1: код 900151 | K1: ТГК -2 "ВТЭЦ" РП 6 кВ танзит через ТП 10 СЖД ОАО РЖД
B2: наименование предприятия | N2: наименование источника питания
N3: _________________________________
B4: ул. Горького, 99 | I4: Таблица № 1 | O4: ТП 238; ТП 651
A6: почасовых записей показаний электрических счетчиков
A7: в режимный день 16 ИЮНЯ 2021 г.
A8: 640 | B8: 641
A9: часы суток | B9: Активная энергия | J9: Реактивная энергия
B10: ЯЧ.5 - ТП 238 | F10: ЯЧ.7 - ТП 651 | J10: ЯЧ.5 - ТП 238 | N10: ЯЧ.7 - ТП 651
B11: Расчет. Коэф. | E11: 1800 | F11: Расчет. Коэф. | I11: 1800 | J11: Расчет. Коэф. | M11: =E11 -> 1800 | N11: Расчет. Коэф. | Q11: =I11 -> 1800
B12: показания счетчика | C12: разность | E12: расход эл.энергии за час | F12: показания счетчика | G12: разность | I12: расход эл.энергии за час | J12: показания счетчика | K12: разность | M12: расход эл.энергии за час | N12: показания счетчика | O12: разность | Q12: расход эл.энергии за час
A13: 1 | B13: 2 | C13: 3 | E13: 4 | F13: 5 | G13: 6 | I13: 7 | J13: 8 | K13: 9 | M13: 10 | N13: 11 | O13: 12 | Q13: 13
A14: 0
A15: 1 | E15: 320.04 | I15: 246.06 | M15: 109.26 | Q15: 89.64
A16: 2 | E16: 274.5 | I16: 213.48 | M16: 105.66 | Q16: 83.52
A17: 3 | E17: 240.12 | I17: 188.82 | M17: 103.68 | Q17: 86.76
A18: 4 | E18: 234.18 | I18: 180.54 | M18: 108.9 | Q18: 87.12
A19: 5 | E19: 227.88 | I19: 177.48 | M19: 108.9 | Q19: 86.04
A20: 6 | E20: 246.24 | I20: 204.12 | M20: 109.62 | Q20: 88.02
A21: 7 | E21: 314.46 | I21: 237.96 | M21: 108.72 | Q21: 84.06
A22: 8 | E22: 376.02 | I22: 271.8 | M22: 136.44 | Q22: 101.88
A23: 9 | E23: 387.9 | I23: 294.12 | M23: 130.5 | Q23: 102.6
A24: 10 | E24: 418.68 | I24: 311.76 | M24: 135.54 | Q24: 106.02
A25: 11 | E25: 405.18 | I25: 314.82 | M25: 141.48 | Q25: 108.36
A26: 12 | E26: 406.44 | I26: 313.74 | M26: 147.96 | Q26: 114.12
... A38: 24 | E38: 364.14 | I38: 290.88 | M38: 118.26 | Q38: 92.16
A39: Итого | E39: =SUM(E15:E38) -> 9338.76 | I39: =SUM(I15:I38) -> 6966.54 | M39: =SUM(M15:M38) -> 3270.06 | Q39: =SUM(Q15:Q38) -> 2419.74
A40: 1. При наличии на предприятии отклонений от нормальных режимов электропотребления (временное изменение схем питания, остановка на ремонт, резкое снижение
A41: эл.потребления и т.д.) последние необходимо перечислить.
A42: 2. При наличии нескольких источников питания и большого количества вводов таблица
A43: составляется самим предприятием с соблюдением всех пунктов настоящей таблицы. | K43: Главный инженер ___________________ А.А. Михалин

Sheet 24
B1: АО "Вологдаоблэнерго" | G1: код 900151 | I1: ГПП ВОЛОГДА -ТЯГОВАЯ СЖД 110 /27,5/6 кВ транзит через ТП 34 СЖД ОАО РЖД
B2: наименование предприятия | N2: наименование источника питания
N3: _________________________________
B4: ул. Горького, 99 | I4: Таблица № 1 | O4: ТП 660; ТП 662
A6: почасовых записей показаний электрических счетчиков
A7: в режимный день 16 ИЮНЯ 2021 г.
A8: 637 | B8: 639
A9: часы суток | B9: Активная энергия | J9: Реактивная энергия
B10: ЯЧ.2 - ТП 660 | F10: ЯЧ.6 - ТП 662 | J10: ЯЧ.2 - ТП 660 | N10: ЯЧ.6 - ТП 662
B11: Расчет. Коэф. | E11: 2400 | F11: Расчет. Коэф. | I11: 2400 | J11: Расчет. Коэф. | M11: =E11 -> 2400 | N11: Расчет. Коэф. | Q11: =I11 -> 2400
B12: показания счетчика | C12: разность | E12: расход эл.энергии за час | F12: показания счетчика | G12: разность | I12: расход эл.энергии за час | J12: показания счетчика | K12: разность | M12: расход эл.энергии за час | N12: показания счетчика | O12: разность | Q12: расход эл.энергии за час
A13: 1 | B13: 2 | C13: 3 | E13: 4 | F13: 5 | G13: 6 | I13: 7 | J13: 8 | K13: 9 | M13: 10 | N13: 11 | O13: 12 | Q13: 13
A14: 0
A15: 1 | E15: 110.64 | I15: 270.48 | M15: 38.88 | Q15: 68.16
A16: 2 | E16: 96 | I16: 248.88 | M16: 36.96 | Q16: 65.28
A17: 3 | E17: 73.92 | I17: 223.92 | M17: 32.64 | Q17: 61.68
A18: 4 | E18: 72.96 | I18: 213.84 | M18: 32.88 | Q18: 61.68
A19: 5 | E19: 71.76 | I19: 211.2 | M19: 33.36 | Q19: 61.2
A20: 6 | E20: 81.12 | I20: 228.48 | M20: 33.12 | Q20: 60.24
A21: 7 | E21: 89.76 | I21: 303.12 | M21: 32.88 | Q21: 66.72
A22: 8 | E22: 101.04 | I22: 381.12 | M22: 34.32 | Q22: 102.24
A23: 9 | E23: 114.24 | I23: 377.52 | M23: 36.48 | Q23: 97.92
A24: 10 | E24: 128.64 | I24: 396 | M24: 40.32 | Q24: 94.56
A25: 11 | E25: 137.76 | I25: 411.36 | M25: 35.76 | Q25: 96.72
A26: 12 | E26: 134.4 | I26: 407.52 | M26: 38.4 | Q26: 102
... A38: 24 | E38: 120.48 | I38: 316.56 | M38: 35.04 | Q38: 72.96
A39: Итого | E39: =SUM(E15:E38) -> 2880.24 | I39: =SUM(I15:I38) -> 8795.76 | M39: =SUM(M15:M38) -> 884.88 | Q39: =SUM(Q15:Q38) -> 2194.8
A40: 1. При наличии на предприятии отклонений от нормальных режимов электропотребления (временное изменение схем питания, остановка на ремонт, резкое снижение
A41: эл.потребления и т.д.) последние необходимо перечислить.
A42: 2. При наличии нескольких источников питания и большого количества вводов таблица
A43: составляется самим предприятием с соблюдением всех пунктов настоящей таблицы. | K43: Главный инженер ___________________ А.А. Михалин

Sheet 25
B1: АО "Вологдаоблэнерго" | J1: код 900151 | N1: ТГК-2 ВТЭЦ РП 6 кВ
B2: наименование предприятия | N2: наименование источника питания
N3: _________________________________
B4: ул. Горького, 99 | I4: Таблица № 1 | O4: РП 3
B5: адрес
A6: почасовых записей показаний электрических счетчиков
A7: в режимный день 16 ИЮНЯ 2021 г.
A8: 381 | B8: 384
A9: часы суток | B9: Активная энергия | J9: Реактивная энергия
B10: ЯЧ.10 - РП 3 ввод № 1 | F10: ЯЧ. 115 - РП 3 ввод № 2 | J10: ЯЧ.10 - РП 3 ввод № 1 | N10: ЯЧ. 115 - РП 3 ввод № 2
B11: Расчет. Коэф. | E11: 7200 | F11: Расчет. Коэф. | I11: 3600 | J11: Расчет. Коэф. | M11: =E11 -> 7200 | N11: Расчет. Коэф. | Q11: =I11 -> 3600
B12: показания счетчика | C12: разность | E12: расход эл.энергии за час | F12: показания счетчика | G12: разность | I12: расход эл.энергии за час | J12: показания счетчика | K12: разность | M12: расход эл.энергии за час | N12: показания счетчика | O12: разность | Q12: расход эл.энергии за час
A13: 1 | B13: 2 | C13: 3 | E13: 4 | F13: 5 | G13: 6 | I13: 7 | J13: 8 | K13: 9 | M13: 10 | N13: 11 | O13: 12 | Q13: 13
A14: 0
A15: 1 | E15: 1367 | I15: 318 | M15: 778 | Q15: 109
A16: 2 | E16: 1157 | I16: 308 | M16: 622 | Q16: 105
A17: 3 | E17: 1169 | I17: 295 | M17: 614 | Q17: 106
A18: 4 | E18: 1070 | I18: 285 | M18: 589 | Q18: 110
A19: 5 | E19: 1033 | I19: 297 | M19: 594 | Q19: 120
A20: 6 | E20: 1021 | I20: 313 | M20: 578 | Q20: 126
A21: 7 | E21: 1127 | I21: 333 | M21: 584 | Q21: 116
A22: 8 | E22: 1384 | I22: 396 | M22: 681 | Q22: 129
A23: 9 | E23: 1670 | I23: 512 | M23: 788 | Q23: 158
A24: 10 | E24: 1820 | I24: 536 | M24: 836 | Q24: 174
A25: 11 | E25: 1888 | I25: 564 | M25: 926 | Q25: 209
A26: 12 | E26: 1973 | I26: 587 | M26: 998 | Q26: 221
... A38: 24 | E38: 1470 | I38: 361 | M38: 831 | Q38: 142
A39: Итого | E39: =SUM(E15:E38) -> 35833 | I39: =SUM(I15:I38) -> 10131 | M39: =SUM(M15:M38) -> 18674 | Q39: =SUM(Q15:Q38) -> 3790
A40: 1. При наличии на предприятии отклонений от нормальных режимов электропотребления (временное изменение схем питания, остановка на ремонт, резкое снижение
A41: эл.потребления и т.д.) последние необходимо перечислить.
A42: 2. При наличии нескольких источников питания и большого количества вводов таблица
A43: составляется самим предприятием с соблюдением всех пунктов настоящей таблицы. | K43: Главный инженер ___________________ А.А. Михалин

Sheet 26
B1: АО "Вологдаоблэнерго" | J1: код 900151 | N1: ТГК-2 ВТЭЦ РП 6 кВ
B2: наименование предприятия | N2: наименование источника питания
N3: _________________________________
B4: ул. Горького, 99 | I4: Таблица № 1 | O4: РП 23
B5: адрес
A6: почасовых записей показаний электрических счетчиков
A7: в режимный день 16 ИЮНЯ 2021 г.
A8: 385 | B8: 383
A9: часы суток | B9: Активная энергия | J9: Реактивная энергия
B10: ЯЧ. 114 - РП 23 ввод № 1 | F10: ЯЧ. 107 - РП 23 ввод № 2 | J10: ЯЧ. 114 - РП 23 ввод № 1 | N10: ЯЧ. 107 - РП 23 ввод № 2
B11: Расчет. Коэф. | E11: 3600 | F11: Расчет. Коэф. | I11: 3600 | J11: Расчет. Коэф. | M11: =E11 -> 3600 | N11: Расчет. Коэф. | Q11: =I11 -> 3600
B12: показания счетчика | C12: разность | E12: расход эл.энергии за час | F12: показания счетчика | G12: разность | I12: расход эл.энергии за час | J12: показания счетчика | K12: разность | M12: расход эл.энергии за час | N12: показания счетчика | O12: разность | Q12: расход эл.энергии за час
A13: 1 | B13: 2 | C13: 3 | E13: 4 | F13: 5 | G13: 6 | I13: 7 | J13: 8 | K13: 9 | M13: 10 | N13: 11 | O13: 12 | Q13: 13
A14: 0
A15: 1 | I15: 1033 | Q15: 754
A16: 2 | I16: 857 | Q16: 639
A17: 3 | I17: 860 | Q17: 662
A18: 4 | I18: 822 | Q18: 632
A19: 5 | I19: 845 | Q19: 677
A20: 6 | I20: 840 | Q20: 628
A21: 7 | I21: 872 | Q21: 667
A22: 8 | I22: 997 | Q22: 767
A23: 9 | I23: 1340 | Q23: 951
A24: 10 | I24: 1258 | Q24: 923
A25: 11 | I25: 1230 | Q25: 946
A26: 12 | I26: 1186 | Q26: 918
... A38: 24 | I38: 125 | Q38: 32
A39: Итого | E39: =SUM(E15:E38) -> 0 | I39: =SUM(I15:I38) -> 23275 | M39: =SUM(M15:M38) -> 0 | Q39: =SUM(Q15:Q38) -> 17770
A40: 1. При наличии на предприятии отклонений от нормальных режимов электропотребления (временное изменение схем питания, остановка на ремонт, резкое снижение
A41: эл.потребления и т.д.) последние необходимо перечислить.
A42: 2. При наличии нескольких источников питания и большого количества вводов таблица
A43: составляется самим предприятием с соблюдением всех пунктов настоящей таблицы. | K43: Главный инженер ___________________ А.А. Михалин

Sheet 27
B1: АО "Вологдаоблэнерго" | J1: код 900151 | N1: ТГК-2 ВТЭЦ РП 6 кВ
B2: наименование предприятия | N2: наименование источника питания
N3: _________________________________
B4: ул. Горького, 99 | I4: Таблица № 1 | O4: ТП 217 ^ ТП 595
B5: адрес
A6: почасовых записей показаний электрических счетчиков
A7: в режимный день 16 ИЮНЯ 2021 г.
A8: 375
A9: часы суток | B9: Активная энергия | J9: Реактивная энергия
B10: ЯЧ. 3 - ТП 217 ^ ТП 595 | J10: ЯЧ. 3 - ТП 217 ^ ТП 595
B11: Расчет. Коэф. | E11: 3600 | F11: Расчет. Коэф. | I11: 0 | J11: Расчет. Коэф. | M11: =E11 -> 3600 | N11: Расчет. Коэф. | Q11: =I11 -> 0
B12: показания счетчика | C12: разность | E12: расход эл.энергии за час | F12: показания счетчика | G12: разность | I12: расход эл.энергии за час | J12: показания счетчика | K12: разность | M12: расход эл.энергии за час | N12: показания счетчика | O12: разность | Q12: расход эл.энергии за час
A13: 1 | B13: 2 | C13: 3 | E13: 4 | F13: 5 | G13: 6 | I13: 7 | J13: 8 | K13: 9 | M13: 10 | N13: 11 | O13: 12 | Q13: 13
A14: 0
A15: 1 | E15: 0 | M15: 0
A16: 2 | E16: 0 | M16: 0
A17: 3 | E17: 0 | M17: 0
A18: 4 | E18: 0 | M18: 0
A19: 5 | E19: 0 | M19: 0
A20: 6 | E20: 0 | M20: 0
A21: 7 | E21: 0 | M21: 0
A22: 8 | E22: 0 | M22: 0
A23: 9 | E23: 0 | M23: 0
A24: 10 | E24: 0 | M24: 0
A25: 11 | E25: 0 | M25: 0
A26: 12 | E26: 0 | M26: 0
... A38: 24 | E38: 351 | M38: 86
A39: Итого | E39: =SUM(E15:E38) -> 638 | M39: =SUM(M15:M38) -> 148
A40: 1. При наличии на предприятии отклонений от нормальных режимов электропотребления (временное изменение схем питания, остановка на ремонт, резкое снижение
A41: эл.потребления и т.д.) последние необходимо перечислить.
A42: 2. При наличии нескольких источников питания и большого количества вводов таблица
A43: составляется самим предприятием с соблюдением всех пунктов настоящей таблицы. | K43: Главный инженер ___________________ А.А. Михалин

Sheet 28
B1: АО "Вологдаоблэнерго" | J1: код 900151 | N1: ТГК-2 ВТЭЦ РП 6 кВ
B2: наименование предприятия | N2: наименование источника питания
N3: _________________________________
B4: ул. Горького, 99 | I4: Таблица № 1 | O4: РП 8
B5: адрес
A6: почасовых записей показаний электрических счетчиков
A7: в режимный день 16 ИЮНЯ 2021 г.
A8: 378 | B8: 382
A9: часы суток | B9: Активная энергия | J9: Реактивная энергия
B10: ЯЧ. 5 - РП 8 ввод № 1 | F10: ЯЧ. 12 - РП 8 ввод № 2 | J10: ЯЧ. 5 - РП 8 ввод № 1 | N10: ЯЧ. 12 - РП 8 ввод № 2
B11: Расчет. Коэф. | E11: 3600 | F11: Расчет. Коэф. | I11: 3600 | J11: Расчет. Коэф. | M11: =E11 -> 3600 | N11: Расчет. Коэф. | Q11: =I11 -> 3600
B12: показания счетчика | C12: разность | E12: расход эл.энергии за час | F12: показания счетчика | G12: разность | I12: расход эл.энергии за час | J12: показания счетчика | K12: разность | M12: расход эл.энергии за час | N12: показания счетчика | O12: разность | Q12: расход эл.энергии за час
A13: 1 | B13: 2 | C13: 3 | E13: 4 | F13: 5 | G13: 6 | I13: 7 | J13: 8 | K13: 9 | M13: 10 | N13: 11 | O13: 12 | Q13: 13
A14: 0
A15: 1 | E15: 700 | I15: 721 | M15: 192 | Q15: 231
A16: 2 | E16: 634 | I16: 653 | M16: 183 | Q16: 217
A17: 3 | E17: 565 | I17: 602 | M17: 175 | Q17: 205
A18: 4 | E18: 554 | I18: 580 | M18: 185 | Q18: 210
A19: 5 | E19: 568 | I19: 574 | M19: 189 | Q19: 215
A20: 6 | E20: 610 | I20: 620 | M20: 191 | Q20: 211
A21: 7 | E21: 696 | I21: 747 | M21: 186 | Q21: 206
A22: 8 | E22: 825 | I22: 976 | M22: 200 | Q22: 237
A23: 9 | E23: 969 | I23: 1128 | M23: 202 | Q23: 254
A24: 10 | E24: 1065 | I24: 1240 | M24: 214 | Q24: 270
A25: 11 | E25: 1101 | I25: 1248 | M25: 231 | Q25: 281
A26: 12 | E26: 1117 | I26: 1237 | M26: 252 | Q26: 291
... A38: 24 | E38: 786 | I38: 838 | M38: 212 | Q38: 224
A39: Итого | E39: =SUM(E15:E38) -> 21244 | I39: =SUM(I15:I38) -> 23487 | M39: =SUM(M15:M38) -> 5198 | Q39: =SUM(Q15:Q38) -> 6181
A40: 1. При наличии на предприятии отклонений от нормальных режимов электропотребления (временное изменение схем питания, остановка на ремонт, резкое снижение
A41: эл.потребления и т.д.) последние необходимо перечислить.
A42: 2. При наличии нескольких источников питания и большого количества вводов таблица
A43: составляется самим предприятием с соблюдением всех пунктов настоящей таблицы. | K43: Главный инженер ___________________ А.А. Михалин

Sheet 29
B1: АО "Вологдаоблэнерго" | J1: код 900151 | N1: ТГК-2 ВТЭЦ РП 6 кВ
B2: наименование предприятия | N2: наименование источника питания
N3: _________________________________
B4: ул. Горького, 99 | I4: Таблица № 1 | O4: РП 20
B5: адрес
A6: почасовых записей показаний электрических счетчиков
A7: в режимный день 16 ИЮНЯ 2021 г.
A8: 380 | B8: 379
A9: часы суток | B9: Активная энергия | J9: Реактивная энергия
B10: ЯЧ. 4- РП 20 ввод № 1 | F10: ЯЧ. 7 - РП 20 яч.7 | J10: ЯЧ. 4- РП 20 ввод № 1 | N10: ЯЧ. 7 - РП 20 яч.7
B11: Расчет. Коэф. | E11: 3600 | F11: Расчет. Коэф. | I11: 3600 | J11: Расчет. Коэф. | M11: =E11 -> 3600 | N11: Расчет. Коэф. | Q11: =I11 -> 3600
B12: показания счетчика | C12: разность | E12: расход эл.энергии за час | F12: показания счетчика | G12: разность | I12: расход эл.энергии за час | J12: показания счетчика | K12: разность | M12: расход эл.энергии за час | N12: показания счетчика | O12: разность | Q12: расход эл.энергии за час
A13: 1 | B13: 2 | C13: 3 | E13: 4 | F13: 5 | G13: 6 | I13: 7 | J13: 8 | K13: 9 | M13: 10 | N13: 11 | O13: 12 | Q13: 13
A14: 0
A15: 1 | I15: 485 | Q15: 152
A16: 2 | I16: 425 | Q16: 132
A17: 3 | I17: 391 | Q17: 130
A18: 4 | I18: 359 | Q18: 135
A19: 5 | I19: 415 | Q19: 140
A20: 6 | I20: 562 | Q20: 144
A21: 7 | I21: 695 | Q21: 166
A22: 8 | I22: 810 | Q22: 217
A23: 9 | I23: 924 | Q23: 235
A24: 10 | I24: 998 | Q24: 240
A25: 11 | I25: 979 | Q25: 240
A26: 12 | I26: 1007 | Q26: 269
... A38: 24 | I38: 23 | Q38: 6
A39: Итого | E39: =SUM(E15:E38) -> 0 | I39: =SUM(I15:I38) -> 16731 | M39: =SUM(M15:M38) -> 0 | Q39: =SUM(Q15:Q38) -> 4583
A40: 1. При наличии на предприятии отклонений от нормальных режимов электропотребления (временное изменение схем питания, остановка на ремонт, резкое снижение
A41: эл.потребления и т.д.) последние необходимо перечислить.
A42: 2. При наличии нескольких источников питания и большого количества вводов таблица
A43: составляется самим предприятием с соблюдением всех пунктов настоящей таблицы. | K43: Главный инженер ___________________ А.А. Михалин

Sheet 30
B1: АО "Вологдаоблэнерго" | J1: код 900151 | N1: ПС "ЦЕНТРАЛЬНАЯ" 110/6 кВ
B2: наименование предприятия | N2: наименование источника питания
N3: _________________________________
B4: ул. Горького, 99 | I4: Таблица № 1 | O4: ТП 54
B5: адрес
A6: почасовых записей показаний электрических счетчиков
A7: в режимный день 16 ИЮНЯ 2021 г.
A8: 1520 | B8: 1526
A9: часы суток | B9: Активная энергия | J9: Реактивная энергия
B10: ЯЧ.4 - ТП 54 -Ι ввод № 1 | F10: ЯЧ. 30 - ТП 54 - ΙΙ ввод № 2 | J10: ЯЧ.4 - ТП 54 -Ι ввод № 1 | N10: ЯЧ. 30 - ТП 54 - ΙΙ ввод № 2
B11: Расчет. Коэф. | E11: 2400 | F11: Расчет. Коэф. | I11: 4800 | J11: Расчет. Коэф. | M11: =E11 -> 2400 | N11: Расчет. Коэф. | Q11: =I11 -> 4800
B12: показания счетчика | C12: разность | E12: расход эл.энергии за час | F12: показания счетчика | G12: разность | I12: расход эл.энергии за час | J12: показания счетчика | K12: разность | M12: расход эл.энергии за час | N12: показания счетчика | O12: разность | Q12: расход эл.энергии за час
A13: 1 | B13: 2 | C13: 3 | E13: 4 | F13: 5 | G13: 6 | I13: 7 | J13: 8 | K13: 9 | M13: 10 | N13: 11 | O13: 12 | Q13: 13
A14: 0
A15: 1 | E15: 177 | I15: 245 | M15: 52 | Q15: 133
A16: 2 | E16: 173 | I16: 232 | M16: 50 | Q16: 123
A17: 3 | E17: 161 | I17: 210 | M17: 46 | Q17: 115
A18: 4 | E18: 150 | I18: 204 | M18: 40 | Q18: 117
A19: 5 | E19: 153 | I19: 206 | M19: 40 | Q19: 118
A20: 6 | E20: 163 | I20: 214 | M20: 41 | Q20: 116
A21: 7 | E21: 220 | I21: 261 | M21: 47 | Q21: 119
A22: 8 | E22: 318 | I22: 302 | M22: 60 | Q22: 146
A23: 9 | E23: 451 | I23: 404 | M23: 75 | Q23: 183
A24: 10 | E24: 526 | I24: 459 | M24: 83 | Q24: 183
A25: 11 | E25: 512 | I25: 467 | M25: 77 | Q25: 182
A26: 12 | E26: 524 | I26: 488 | M26: 76 | Q26: 197
... A38: 24 | E38: 171 | I38: 286 | M38: 43 | Q38: 126
A39: Итого | E39: =SUM(E15:E38) -> 7521 | I39: =SUM(I15:I38) -> 8438 | M39: =SUM(M15:M38) -> 1425 | Q39: =SUM(Q15:Q38) -> 3727
A40: 1. При наличии на предприятии отклонений от нормальных режимов электропотребления (временное изменение схем питания, остановка на ремонт, резкое снижение
A41: эл.потребления и т.д.) последние необходимо перечислить.
A42: 2. При наличии нескольких источников питания и большого количества вводов таблица
A43: составляется самим предприятием с соблюдением всех пунктов настоящей таблицы. | K43: Главный инженер ___________________ А.А. Михалин

Sheet 31
B1: АО "Вологдаоблэнерго" | J1: код 900151 | N1: ПС "ЦЕНТРАЛЬНАЯ" 110/6 кВ
B2: наименование предприятия | N2: наименование источника питания
N3: _________________________________
B4: ул. Горького, 99 | I4: Таблица № 1 | O4: РП 13
B5: адрес
A6: почасовых записей показаний электрических счетчиков
A7: в режимный день 16 ИЮНЯ 2021 г.
A8: 1522 | B8: 1523
A9: часы суток | B9: Активная энергия | J9: Реактивная энергия
B10: ЯЧ. 14 - РП 13- Ι | F10: ЯЧ. 22 - РП 13- ΙΙ | J10: ЯЧ. 14 - РП 13- Ι | N10: ЯЧ. 22 - РП 13- ΙΙ
B11: Расчет. Коэф. | E11: 7200 | F11: Расчет. Коэф. | I11: 7200 | J11: Расчет. Коэф. | M11: =E11 -> 7200 | N11: Расчет. Коэф. | Q11: =I11 -> 7200
B12: показания счетчика | C12: разность | E12: расход эл.энергии за час | F12: показания счетчика | G12: разность | I12: расход эл.энергии за час | J12: показания счетчика | K12: разность | M12: расход эл.энергии за час | N12: показания счетчика | O12: разность | Q12: расход эл.энергии за час
A13: 1 | B13: 2 | C13: 3 | E13: 4 | F13: 5 | G13: 6 | I13: 7 | J13: 8 | K13: 9 | M13: 10 | N13: 11 | O13: 12 | Q13: 13
A14: 0
A15: 1 | E15: 874 | I15: 867 | M15: 181 | Q15: 178
A16: 2 | E16: 812 | I16: 834 | M16: 156 | Q16: 175
A17: 3 | E17: 756 | I17: 734 | M17: 143 | Q17: 120
A18: 4 | E18: 745 | I18: 760 | M18: 141 | Q18: 163
A19: 5 | E19: 756 | I19: 744 | M19: 141 | Q19: 139
A20: 6 | E20: 842 | I20: 808 | M20: 142 | Q20: 137
A21: 7 | E21: 968 | I21: 944 | M21: 162 | Q21: 170
A22: 8 | E22: 1254 | I22: 1177 | M22: 234 | Q22: 205
A23: 9 | E23: 1645 | I23: 1666 | M23: 290 | Q23: 274
A24: 10 | E24: 1825 | I24: 1859 | M24: 291 | Q24: 248
A25: 11 | E25: 1838 | I25: 2018 | M25: 279 | Q25: 290
A26: 12 | E26: 1897 | I26: 1943 | M26: 303 | Q26: 264
... A38: 24 | E38: 957 | I38: 983 | M38: 151 | Q38: 185
A39: Итого | E39: =SUM(E15:E38) -> 31786 | I39: =SUM(I15:I38) -> 32641 | M39: =SUM(M15:M38) -> 5365 | Q39: =SUM(Q15:Q38) -> 5328
A40: 1. При наличии на предприятии отклонений от нормальных режимов электропотребления (временное изменение схем питания, остановка на ремонт, резкое снижение
A41: эл.потребления и т.д.) последние необходимо перечислить.
A42: 2. При наличии нескольких источников питания и большого количества вводов таблица
A43: составляется самим предприятием с соблюдением всех пунктов настоящей таблицы. | K43: Главный инженер ___________________ А.А. Михалин

Sheet 32
B1: АО "Вологдаоблэнерго" | J1: код 900151 | N1: ПС "ЦЕНТРАЛЬНАЯ" 110/6 кВ
B2: наименование предприятия | N2: наименование источника питания
N3: _________________________________
B4: ул. Горького, 99 | I4: Таблица № 1 | O4: РП 4
B5: адрес
A6: почасовых записей показаний электрических счетчиков
A7: в режимный день 16 ИЮНЯ 2021 г.
A8: 1521 | B8: 1524
A9: часы суток | B9: Активная энергия | J9: Реактивная энергия
B10: ЯЧ.12 - РП 4 -Ι | F10: ЯЧ. 24 - РП 4 -ΙΙ | J10: ЯЧ.12 - РП 4 -Ι | N10: ЯЧ. 24 - РП 4 -ΙΙ
B11: Расчет. Коэф. | E11: 4800 | F11: Расчет. Коэф. | I11: 4800 | J11: Расчет. Коэф. | M11: =E11 -> 4800 | N11: Расчет. Коэф. | Q11: =I11 -> 4800
B12: показания счетчика | C12: разность | E12: расход эл.энергии за час | F12: показания счетчика | G12: разность | I12: расход эл.энергии за час | J12: показания счетчика | K12: разность | M12: расход эл.энергии за час | N12: показания счетчика | O12: разность | Q12: расход эл.энергии за час
A13: 1 | B13: 2 | C13: 3 | E13: 4 | F13: 5 | G13: 6 | I13: 7 | J13: 8 | K13: 9 | M13: 10 | N13: 11 | O13: 12 | Q13: 13
A14: 0
A15: 1 | E15: 465 | I15: 419 | M15: 109 | Q15: 98
A16: 2 | E16: 429 | I16: 385 | M16: 97 | Q16: 82
A17: 3 | E17: 373 | I17: 364 | M17: 78 | Q17: 80
A18: 4 | E18: 364 | I18: 345 | M18: 79 | Q18: 77
A19: 5 | E19: 372 | I19: 353 | M19: 82 | Q19: 82
A20: 6 | E20: 399 | I20: 423 | M20: 78 | Q20: 85
A21: 7 | E21: 490 | I21: 521 | M21: 82 | Q21: 96
A22: 8 | E22: 787 | I22: 714 | M22: 123 | Q22: 135
A23: 9 | E23: 974 | I23: 968 | M23: 157 | Q23: 161
A24: 10 | E24: 1096 | I24: 1102 | M24: 157 | Q24: 164
A25: 11 | E25: 1162 | I25: 1185 | M25: 167 | Q25: 165
A26: 12 | E26: 1201 | I26: 1202 | M26: 189 | Q26: 183
... A38: 24 | E38: 520 | I38: 463 | M38: 102 | Q38: 87
A39: Итого | E39: =SUM(E15:E38) -> 18211 | I39: =SUM(I15:I38) -> 18760 | M39: =SUM(M15:M38) -> 3167 | Q39: =SUM(Q15:Q38) -> 3181
A40: 1. При наличии на предприятии отклонений от нормальных режимов электропотребления (временное изменение схем питания, остановка на ремонт, резкое снижение
A41: эл.потребления и т.д.) последние необходимо перечислить.
A42: 2. При наличии нескольких источников питания и большого количества вводов таблица
A43: составляется самим предприятием с соблюдением всех пунктов настоящей таблицы. | K43: Главный инженер ___________________ А.А. Михалин

Sheet 33
B1: АО "Вологдаоблэнерго" | J1: код 900151 | N1: ПС "ЦЕНТРАЛЬНАЯ" 110/6 кВ
B2: наименование предприятия | N2: наименование источника питания
N3: _________________________________
B4: ул. Горького, 99 | I4: Таблица № 1 | O4: РП 33
B5: адрес
A6: почасовых записей показаний электрических счетчиков
A7: в режимный день 16 ИЮНЯ 2021 г.
A8: 1518 | B8: 1519
A9: часы суток | B9: Активная энергия | J9: Реактивная энергия
B10: ЯЧ. 2 - РП 33 ф.10 | F10: ЯЧ. 3 - РП-33 ф.9 | J10: ЯЧ. 2- РП 33 ф.10 | N10: ЯЧ. 3 - РП-33 ф.9
B11: Расчет. Коэф. | E11: 7200 | F11: Расчет. Коэф. | J11: Расчет. Коэф. | M11: =E11 -> 7200 | N11: Расчет. Коэф.
B12: показания счетчика | C12: разность | E12: расход эл.энергии за час | F12: показания счетчика | G12: разность | I12: расход эл.энергии за час | J12: показания счетчика | K12: разность | M12: расход эл.энергии за час | N12: показания счетчика | O12: разность | Q12: расход эл.энергии за час
A13: 1 | B13: 2 | C13: 3 | E13: 4 | F13: 5 | G13: 6 | I13: 7 | J13: 8 | K13: 9 | M13: 10 | N13: 11 | O13: 12 | Q13: 13
A14: 0
A15: 1 | E15: 28 | I15: 169 | M15: 0 | Q15: 28
A16: 2 | E16: 27 | I16: 157 | M16: 0 | Q16: 26
A17: 3 | E17: 28 | I17: 147 | M17: 0 | Q17: 24
A18: 4 | E18: 22 | I18: 142 | M18: 0 | Q18: 25
A19: 5 | E19: 21 | I19: 145 | M19: 0 | Q19: 27
A20: 6 | E20: 20 | I20: 174 | M20: 0 | Q20: 29
A21: 7 | E21: 26 | I21: 179 | M21: 0 | Q21: 33
A22: 8 | E22: 31 | I22: 238 | M22: 0 | Q22: 40
A23: 9 | E23: 34 | I23: 310 | M23: 0 | Q23: 45
A24: 10 | E24: 43 | I24: 383 | M24: 0 | Q24: 51
A25: 11 | E25: 51 | I25: 398 | M25: 0 | Q25: 51
A26: 12 | E26: 45 | I26: 386 | M26: 0 | Q26: 52
... A38: 24 | E38: 35 | I38: 194 | M38: 0 | Q38: 24
A39: Итого | E39: =SUM(E15:E38) -> 973 | I39: =SUM(I15:I38) -> 6501 | M39: =SUM(M15:M38) -> 0 | Q39: =SUM(Q15:Q38) -> 958
A40: 1. При наличии на предприятии отклонений от нормальных режимов электропотребления (временное изменение схем питания, остановка на ремонт, резкое снижение
A41: эл.потребления и т.д.) последние необходимо перечислить.
A42: 2. При наличии нескольких источников питания и большого количества вводов таблица
A43: составляется самим предприятием с соблюдением всех пунктов настоящей таблицы. | K43: Главный инженер ___________________ А.А. Михалин

Sheet 34
B1: АО "Вологдаоблэнерго" | J1: код 900151 | N1: ПС "ЦЕНТРАЛЬНАЯ" 110/6 кВ
B2: наименование предприятия | N2: наименование источника питания
N3: _________________________________
B4: ул. Горького, 99 | I4: Таблица № 1 | O4: ТП 11
B5: адрес
A6: почасовых записей показаний электрических счетчиков
A7: в режимный день 16 ИЮНЯ 2021 г.
A8: 1525
A9: часы суток | B9: Активная энергия | J9: Реактивная энергия
B10: ЯЧ.28 - ТП 11 -ΙΙ | J10: ЯЧ.28 - ТП 11 -ΙΙ
B11: Расчет. Коэф. | E11: 7200 | F11: Расчет. Коэф. | I11: 0 | J11: Расчет. Коэф. | M11: =E11 -> 7200 | N11: Расчет. Коэф. | Q11: =I11 -> 0
B12: показания счетчика | C12: разность | E12: расход эл.энергии за час | F12: показания счетчика | G12: разность | I12: расход эл.энергии за час | J12: показания счетчика | K12: разность | M12: расход эл.энергии за час | N12: показания счетчика | O12: разность | Q12: расход эл.энергии за час
A13: 1 | B13: 2 | C13: 3 | E13: 4 | F13: 5 | G13: 6 | I13: 7 | J13: 8 | K13: 9 | M13: 10 | N13: 11 | O13: 12 | Q13: 13
A14: 0
A15: 1 | E15: 137 | M15: 0
A16: 2 | E16: 132 | M16: 0
A17: 3 | E17: 129 | M17: 0
A18: 4 | E18: 129 | M18: 0
A19: 5 | E19: 130 | M19: 0
A20: 6 | E20: 133 | M20: 0
A21: 7 | E21: 169 | M21: 1
A22: 8 | E22: 278 | M22: 10
A23: 9 | E23: 397 | M23: 30
A24: 10 | E24: 430 | M24: 38
A25: 11 | E25: 433 | M25: 34
A26: 12 | E26: 432 | M26: 37
... A38: 24 | E38: 136 | M38: 0
A39: Итого | E39: =SUM(E15:E38) -> 6385 | M39: =SUM(M15:M38) -> 333
A40: 1. При наличии на предприятии отклонений от нормальных режимов электропотребления (временное изменение схем питания, остановка на ремонт, резкое снижение
A41: эл.потребления и т.д.) последние необходимо перечислить.
A42: 2. При наличии нескольких источников питания и большого количества вводов таблица
A43: составляется самим предприятием с соблюдением всех пунктов настоящей таблицы. | K43: Главный инженер ___________________ А.А. Михалин

Sheet 34_1
B1: АО "Вологдаоблэнерго" | J1: код 900151 | N1: ПС "ЦЕНТРАЛЬНАЯ" 110/10 кВ
B2: наименование предприятия | N2: наименование источника питания
N3: _________________________________
B4: ул. Горького, 99 | I4: Таблица № 1 | O4: РП-21
B5: адрес
A6: почасовых записей показаний электрических счетчиков
A7: в режимный день 16 ИЮНЯ 2021 г.
A8: 911 | B8: 910
A9: часы суток | B9: Активная энергия | J9: Реактивная энергия
B10: ЯЧ.22 - РП 21- Ι | F10: ЯЧ.7 - РП 21- ΙI | J10: ЯЧ.22 - РП 21- Ι | N10: ЯЧ.7 - РП 21- ΙI
B11: Расчет. Коэф. | E11: 7200 | F11: Расчет. Коэф. | I11: 0 | J11: Расчет. Коэф. | M11: =E11 -> 7200 | N11: Расчет. Коэф. | Q11: =I11 -> 0
B12: показания счетчика | C12: разность | E12: расход эл.энергии за час | F12: показания счетчика | G12: разность | I12: расход эл.энергии за час | J12: показания счетчика | K12: разность | M12: расход эл.энергии за час | N12: показания счетчика | O12: разность | Q12: расход эл.энергии за час
A13: 1 | B13: 2 | C13: 3 | E13: 4 | F13: 5 | G13: 6 | I13: 7 | J13: 8 | K13: 9 | M13: 10 | N13: 11 | O13: 12 | Q13: 13
A14: 0
A15: 1 | E15: 293 | I15: 430 | M15: 0 | Q15: 67
A16: 2 | E16: 283 | I16: 409 | M16: 0 | Q16: 46
A17: 3 | E17: 258 | I17: 379 | M17: 0 | Q17: 4
A18: 4 | E18: 237 | I18: 367 | M18: 0 | Q18: 23
A19: 5 | E19: 238 | I19: 371 | M19: 0 | Q19: 26
A20: 6 | E20: 249 | I20: 403 | M20: 0 | Q20: 17
A21: 7 | E21: 298 | I21: 481 | M21: 1 | Q21: 36
A22: 8 | E22: 405 | I22: 684 | M22: 8 | Q22: 93
A23: 9 | E23: 601 | I23: 1012 | M23: 22 | Q23: 201
A24: 10 | E24: 737 | I24: 1264 | M24: 51 | Q24: 256
A25: 11 | E25: 819 | I25: 1304 | M25: 53 | Q25: 253
A26: 12 | E26: 828 | I26: 1331 | M26: 55 | Q26: 269
... A38: 24 | E38: 315 | I38: 434 | M38: 1 | Q38: 23
A39: Итого | E39: =SUM(E15:E38) -> 12815 | I39: =SUM(I15:I38) -> 20112 | M39: =SUM(M15:M38) -> 704 | Q39: =SUM(Q15:Q38) -> 3366
A40: 1. При наличии на предприятии отклонений от нормальных режимов электропотребления (временное изменение схем питания, остановка на ремонт, резкое снижение
A41: эл.потребления и т.д.) последние необходимо перечислить.
A42: 2. При наличии нескольких источников питания и большого количества вводов таблица
A43: составляется самим предприятием с соблюдением всех пунктов настоящей таблицы. | K43: Главный инженер ___________________ А.А. Михалин

Sheet 35
B1: АО "Вологдаоблэнерго" | J1: код 900151 | N1: ПС "ГОРОДСКАЯ" 35/6 кВ
B2: наименование предприятия | N2: наименование источника питания
N3: _________________________________
B4: ул. Горького, 99 | I4: Таблица № 1 | O4: Т-1, Т-3 (ЗРУ 6 кВ)
B5: адрес
A6: почасовых записей показаний электрических счетчиков
A7: в режимный день 16 ИЮНЯ 2021 г.
A8: 300 | B8: 304
A9: часы суток | B9: Активная энергия | J9: Реактивная энергия
B10: Т-1 - ЗРУ Ф.1 ввод № 1 | F10: Т-3 - ЗРУ Ф.20 ввод № 2 . | J10: Т-1 - ЗРУ Ф.1 ввод № 1 | N10: Т-3 - ЗРУ Ф.20 ввод № 2 .
B11: Расчет. Коэф. | E11: 18000 | F11: Расчет. Коэф. | I11: 18000 | J11: Расчет. Коэф. | M11: =E11 -> 18000 | N11: Расчет. Коэф. | Q11: =I11 -> 18000
B12: показания счетчика | C12: разность | E12: расход эл.энергии за час | F12: показания счетчика | G12: разность | I12: расход эл.энергии за час | J12: показания счетчика | K12: разность | M12: расход эл.энергии за час | N12: показания счетчика | O12: разность | Q12: расход эл.энергии за час
A13: 1 | B13: 2 | C13: 3 | E13: 4 | F13: 5 | G13: 6 | I13: 7 | J13: 8 | K13: 9 | M13: 10 | N13: 11 | O13: 12 | Q13: 13
A14: 0
A15: 1 | E15: 1614.6 | I15: 2057.4 | M15: 608.4 | Q15: 995.4
A16: 2 | E16: 1504.8 | I16: 1864.8 | M16: 599.4 | Q16: 900
A17: 3 | E17: 1371.6 | I17: 1690.2 | M17: 603 | Q17: 853.2
A18: 4 | E18: 1362.6 | I18: 1629 | M18: 608.4 | Q18: 869.4
A19: 5 | E19: 1378.8 | I19: 1652.4 | M19: 599.4 | Q19: 887.4
A20: 6 | E20: 1467 | I20: 1837.8 | M20: 583.2 | Q20: 882
A21: 7 | E21: 1704.6 | I21: 2152.8 | M21: 568.8 | Q21: 894.6
A22: 8 | E22: 2143.8 | I22: 2529 | M22: 624.6 | Q22: 1053
A23: 9 | E23: 2737.8 | I23: 2916 | M23: 759.6 | Q23: 1096.2
A24: 10 | E24: 2952 | I24: 3128.4 | M24: 801 | Q24: 1013.4
A25: 11 | E25: 2905.2 | I25: 3249 | M25: 736.2 | Q25: 1035
A26: 12 | E26: 2881.8 | I26: 3268.8 | M26: 783 | Q26: 1087.2
... A38: 24 | E38: 1773 | I38: 2248.2 | M38: 577.8 | Q38: 858.6
A39: Итого | E39: =SUM(E15:E38) -> 52007.4 | I39: =SUM(I15:I38) -> 62353.8 | M39: =SUM(M15:M38) -> 16374.6 | Q39: =SUM(Q15:Q38) -> 23747.4
A40: 1. При наличии на предприятии отклонений от нормальных режимов электропотребления (временное изменение схем питания, остановка на ремонт, резкое снижение
A41: эл.потребления и т.д.) последние необходимо перечислить.
A42: 2. При наличии нескольких источников питания и большого количества вводов таблица
A43: составляется самим предприятием с соблюдением всех пунктов настоящей таблицы. | K43: Главный инженер ___________________ А.А. Михалин

Sheet 36
B1: АО "Вологдаоблэнерго" | J1: код 900151 | N1: ПС "ГОРОДСКАЯ" 35/6 кВ
B2: наименование предприятия | N2: наименование источника питания
N3: _________________________________
B4: ул. Горького, 99 | I4: Таблица № 1 | O4: Т-2 (РП 9)
B5: адрес
A6: почасовых записей показаний электрических счетчиков
A7: в режимный день 16 ИЮНЯ 2021 г.
A8: 297
A9: часы суток | B9: Активная энергия | J9: Реактивная энергия
B10: Т-2 - РП 9 ф. 11 | J10: Т-2 - РП 9 ф. 11
B11: Расчет. Коэф. | E11: 7200 | F11: Расчет. Коэф. | I11: 0 | J11: Расчет. Коэф. | M11: =E11 -> 7200 | N11: Расчет. Коэф. | Q11: 0
B12: показания счетчика | C12: разность | E12: расход эл.энергии за час | F12: показания счетчика | G12: разность | I12: расход эл.энергии за час | J12: показания счетчика | K12: разность | M12: расход эл.энергии за час | N12: показания счетчика | O12: разность | Q12: расход эл.энергии за час
A13: 1 | B13: 2 | C13: 3 | E13: 4 | F13: 5 | G13: 6 | I13: 7 | J13: 8 | K13: 9 | M13: 10 | N13: 11 | O13: 12 | Q13: 13
A14: 0
A15: 1 | E15: 1089.36 | M15: 459.36
A16: 2 | E16: 977.04 | M16: 427.68
A17: 3 | E17: 840.24 | M17: 390.24
A18: 4 | E18: 795.6 | M18: 389.52
A19: 5 | E19: 799.2 | M19: 393.84
A20: 6 | E20: 861.84 | M20: 378.72
A21: 7 | E21: 1051.2 | M21: 392.4
A22: 8 | E22: 1224 | M22: 452.16
A23: 9 | E23: 1513.44 | M23: 534.24
A24: 10 | E24: 1648.08 | M24: 496.8
A25: 11 | E25: 1689.12 | M25: 488.88
A26: 12 | E26: 1694.16 | M26: 497.52
... A38: 24 | E38: 1164.96 | M38: 406.8
A39: Итого | E39: =SUM(E15:E38) -> 32096.88 | I39: =SUM(I15:I38) -> 0 | M39: =SUM(M15:M38) -> 11081.52 | Q39: =SUM(Q15:Q38) -> 0
A40: 1. При наличии на предприятии отклонений от нормальных режимов электропотребления (временное изменение схем питания, остановка на ремонт, резкое снижение
A41: эл.потребления и т.д.) последние необходимо перечислить.
A42: 2. При наличии нескольких источников питания и большого количества вводов таблица
A43: составляется самим предприятием с соблюдением всех пунктов настоящей таблицы. | K43: Главный инженер ___________________ А.А. Михалин

Sheet 37
B1: АО "Вологдаоблэнерго" | J1: код 900151 | N1: ПС "ВОСТОЧНАЯ" 110/35/10 кВ
B2: наименование предприятия | N2: наименование источника питания
N3: _________________________________
B4: ул. Горького, 99 | I4: Таблица № 1 | O4: РП 39
B5: адрес
A6: почасовых записей показаний электрических счетчиков
A7: в режимный день 16 ИЮНЯ 2021 г.
A8: 1633 | B8: 1634
A9: часы суток | B9: Активная энергия | J9: Реактивная энергия
B10: ЯЧ.№2 - "РП 39-1" | F10: ЯЧ.№ 21 - "РП 39-2" | J10: ЯЧ.№2 - "РП 39-1" | N10: ЯЧ.№ 21 - "РП 39-2"
B11: Расчет. Коэф. | E11: 8000 | F11: Расчет. Коэф. | I11: 6000 | J11: Расчет. Коэф. | M11: =E11 -> 8000 | N11: Расчет. Коэф. | Q11: =I11 -> 6000
B12: показания счетчика | C12: разность | E12: расход эл.энергии за час | F12: показания счетчика | G12: разность | I12: расход эл.энергии за час | J12: показания счетчика | K12: разность | M12: расход эл.энергии за час | N12: показания счетчика | O12: разность | Q12: расход эл.энергии за час
A13: 1 | B13: 2 | C13: 3 | E13: 4 | F13: 5 | G13: 6 | I13: 7 | J13: 8 | K13: 9 | M13: 10 | N13: 11 | O13: 12 | Q13: 13
A14: 0
A15: 1 | E15: 403 | I15: 396 | M15: 49 | Q15: 1
A16: 2 | E16: 402 | I16: 347 | M16: 40 | Q16: 11
A17: 3 | E17: 375 | I17: 316 | M17: 33 | Q17: 11
A18: 4 | E18: 372 | I18: 303 | M18: 34 | Q18: 9
A19: 5 | E19: 437 | I19: 300 | M19: 34 | Q19: 19
A20: 6 | E20: 470 | I20: 395 | M20: 59 | Q20: 18
A21: 7 | E21: 553 | I21: 476 | M21: 48 | Q21: 21
A22: 8 | E22: 656 | I22: 541 | M22: 78 | Q22: 38
A23: 9 | E23: 636 | I23: 545 | M23: 75 | Q23: 43
A24: 10 | E24: 676 | I24: 573 | M24: 69 | Q24: 76
A25: 11 | E25: 700 | I25: 563 | M25: 65 | Q25: 72
A26: 12 | E26: 696 | I26: 568 | M26: 68 | Q26: 74
... A38: 24 | E38: 604 | I38: 448 | M38: 32 | Q38: 36
A39: Итого | E39: =SUM(E15:E38) -> 14488 | I39: =SUM(I15:I38) -> 12461 | M39: =SUM(M15:M38) -> 1592 | Q39: =SUM(Q15:Q38) -> 1051
A40: 1. При наличии на предприятии отклонений от нормальных режимов электропотребления (временное изменение схем питания, остановка на ремонт, резкое снижение
A41: эл.потребления и т.д.) последние необходимо перечислить.
A42: 2. При наличии нескольких источников питания и большого количества вводов таблица
A43: составляется самим предприятием с соблюдением всех пунктов настоящей таблицы. | K43: Главный инженер ___________________ А.А. Михалин

Sheet 38
B1: АО "Вологдаоблэнерго" | J1: код 900151 | N1: ПС "ВОСТОЧНАЯ" 110/35/10 кВ
B2: наименование предприятия | N2: наименование источника питания
N3: _________________________________
B4: ул. Горького, 99 | I4: Таблица № 1 | O4: РП 30
B5: адрес
A6: почасовых записей показаний электрических счетчиков
A7: в режимный день 16 ИЮНЯ 2021 г.
A8: 1637 | B8: 1638
A9: часы суток | B9: Активная энергия | J9: Реактивная энергия
B10: ЯЧ.№15 - "РМЗ-1" | F10: ЯЧ.№32 - "РМЗ-2" | J10: ЯЧ.№15 - "РМЗ-1" | N10: ЯЧ.№32 - "РМЗ-2"
B11: Расчет. Коэф. | E11: 8000 | F11: Расчет. Коэф. | I11: 8000 | J11: Расчет. Коэф. | M11: =E11 -> 8000 | N11: Расчет. Коэф. | Q11: =I11 -> 8000
B12: показания счетчика | C12: разность | E12: расход эл.энергии за час | F12: показания счетчика | G12: разность | I12: расход эл.энергии за час | J12: показания счетчика | K12: разность | M12: расход эл.энергии за час | N12: показания счетчика | O12: разность | Q12: расход эл.энергии за час
A13: 1 | B13: 2 | C13: 3 | E13: 4 | F13: 5 | G13: 6 | I13: 7 | J13: 8 | K13: 9 | M13: 10 | N13: 11 | O13: 12 | Q13: 13
A14: 0
A15: 1 | E15: 38 | I15: 801 | M15: 0 | Q15: 388
A16: 2 | E16: 35 | I16: 723 | M16: 0 | Q16: 328
A17: 3 | E17: 33 | I17: 668 | M17: 0 | Q17: 327
A18: 4 | E18: 31 | I18: 634 | M18: 0 | Q18: 316
A19: 5 | E19: 30 | I19: 655 | M19: 0 | Q19: 331
A20: 6 | E20: 32 | I20: 702 | M20: 0 | Q20: 339
A21: 7 | E21: 42 | I21: 843 | M21: 0 | Q21: 342
A22: 8 | E22: 73 | I22: 980 | M22: 0 | Q22: 442
A23: 9 | E23: 82 | I23: 1290 | M23: 1 | Q23: 765
A24: 10 | E24: 125 | I24: 1453 | M24: 6 | Q24: 863
A25: 11 | E25: 125 | I25: 1457 | M25: 12 | Q25: 797
A26: 12 | E26: 82 | I26: 1516 | M26: 0 | Q26: 881
... A38: 24 | E38: 40 | I38: 924 | M38: 0 | Q38: 323
A39: Итого | E39: =SUM(E15:E38) -> 1427 | I39: =SUM(I15:I38) -> 27243 | M39: =SUM(M15:M38) -> 20 | Q39: =SUM(Q15:Q38) -> 13776
A40: 1. При наличии на предприятии отклонений от нормальных режимов электропотребления (временное изменение схем питания, остановка на ремонт, резкое снижение
A41: эл.потребления и т.д.) последние необходимо перечислить.
A42: 2. При наличии нескольких источников питания и большого количества вводов таблица
A43: составляется самим предприятием с соблюдением всех пунктов настоящей таблицы. | K43: Главный инженер ___________________ А.А. Михалин

Sheet 39
B1: АО "Вологдаоблэнерго" | J1: код 900151 | N1: ПС "ВОСТОЧНАЯ" 110/35/10 кВ
B2: наименование предприятия | N2: наименование источника питания
N3: _________________________________
B4: ул. Горького, 99 | I4: Таблица № 1 | O4: РП 31
B5: адрес
A6: почасовых записей показаний электрических счетчиков
A7: в режимный день 16 ИЮНЯ 2021 г.
A8: 1635 | B8: 1636
A9: часы суток | B9: Активная энергия | J9: Реактивная энергия
B10: ЯЧ. № 11- "ГОРОД-1" | F10: ЯЧ. № 28- "ГОРОД-2" | J10: ЯЧ. № 11- "ГОРОД-1" | N10: ЯЧ. № 28- "ГОРОД-2"
B11: Расчет. Коэф. | E11: 12000 | F11: Расчет. Коэф. | I11: 12000 | J11: Расчет. Коэф. | M11: =E11 -> 12000 | N11: Расчет. Коэф. | Q11: =I11 -> 12000
B12: показания счетчика | C12: разность | E12: расход эл.энергии за час | F12: показания счетчика | G12: разность | I12: расход эл.энергии за час | J12: показания счетчика | K12: разность | M12: расход эл.энергии за час | N12: показания счетчика | O12: разность | Q12: расход эл.энергии за час
A13: 1 | B13: 2 | C13: 3 | E13: 4 | F13: 5 | G13: 6 | I13: 7 | J13: 8 | K13: 9 | M13: 10 | N13: 11 | O13: 12 | Q13: 13
A14: 0
A15: 1 | E15: 1582 | I15: 2259 | M15: 440 | Q15: 623
A16: 2 | E16: 1396 | I16: 2025 | M16: 383 | Q16: 534
A17: 3 | E17: 1298 | I17: 1815 | M17: 351 | Q17: 491
A18: 4 | E18: 1266 | I18: 1740 | M18: 346 | Q18: 487
A19: 5 | E19: 1272 | I19: 1762 | M19: 348 | Q19: 491
A20: 6 | E20: 1401 | I20: 1933 | M20: 354 | Q20: 487
A21: 7 | E21: 1775 | I21: 2340 | M21: 368 | Q21: 517
A22: 8 | E22: 2064 | I22: 2796 | M22: 513 | Q22: 831
A23: 9 | E23: 2322 | I23: 3197 | M23: 642 | Q23: 1040
A24: 10 | E24: 2522 | I24: 3250 | M24: 690 | Q24: 912
A25: 11 | E25: 2633 | I25: 3337 | M25: 689 | Q25: 964
A26: 12 | E26: 2664 | I26: 3293 | M26: 737 | Q26: 928
... A38: 24 | E38: 1779 | I38: 2472 | M38: 380 | Q38: 555
A39: Итого | E39: =SUM(E15:E38) -> 51581 | I39: =SUM(I15:I38) -> 66487 | M39: =SUM(M15:M38) -> 13060 | Q39: =SUM(Q15:Q38) -> 17875
A40: 1. При наличии на предприятии отклонений от нормальных режимов электропотребления (временное изменение схем питания, остановка на ремонт, резкое снижение
A41: эл.потребления и т.д.) последние необходимо перечислить.
A42: 2. При наличии нескольких источников питания и большого количества вводов таблица
A43: составляется самим предприятием с соблюдением всех пунктов настоящей таблицы. | K43: Главный инженер ___________________ А.А. Михалин

Sheet 39_1
B1: АО "Вологдаоблэнерго" | J1: код 900151 | N1: ПС "ВОСТОЧНАЯ" 110/35/10 кВ
B2: наименование предприятия | N2: наименование источника питания
N3: _________________________________ | O3: ТП-561-1
B4: ул. Горького, 99 | I4: Таблица № 1
B5: адрес
A6: почасовых записей показаний электрических счетчиков
A7: в режимный день 16 ИЮНЯ 2021 г.
A8: 1737
A9: часы суток | B9: Активная энергия | J9: Реактивная энергия
B10: ЯЧ. № 5- "ГОРОД-3" | J10: ЯЧ. № 5- "ГОРОД-3"
B11: Расчет. Коэф. | F11: Расчет. Коэф. | J11: Расчет. Коэф. | N11: Расчет. Коэф.
B12: показания счетчика | C12: разность | E12: расход эл.энергии за час | F12: показания счетчика | G12: разность | I12: расход эл.энергии за час | J12: показания счетчика | K12: разность | M12: расход эл.энергии за час | N12: показания счетчика | O12: разность | Q12: расход эл.энергии за час
A13: 1 | B13: 2 | C13: 3 | E13: 4 | F13: 5 | G13: 6 | I13: 7 | J13: 8 | K13: 9 | M13: 10 | N13: 11 | O13: 12 | Q13: 13
A14: 0
A15: 1
A16: 2
A17: 3
A18: 4
A19: 5
A20: 6
A21: 7
A22: 8
A23: 9
A24: 10
A25: 11
... A38: 24
A39: Итого | E39: =SUM(E15:E38) -> 0 | M39: =SUM(M15:M38) -> 0
A40: 1. При наличии на предприятии отклонений от нормальных режимов электропотребления (временное изменение схем питания, остановка на ремонт, резкое снижение
A41: эл.потребления и т.д.) последние необходимо перечислить.
A42: 2. При наличии нескольких источников питания и большого количества вводов таблица
A43: составляется самим предприятием с соблюдением всех пунктов настоящей таблицы. | K43: Главный инженер ___________________ А.А. Михалин

Sheet 40
B1: АО "Вологдаоблэнерго" | J1: код 900151 | N1: ПС "ЛУГОВАЯ"
B2: наименование предприятия | N2: наименование источника питания
N3: _________________________________
B4: ул. Горького, 99 | I4: Таблица № 1 | O4: РП 19
B5: адрес
A6: почасовых записей показаний электрических счетчиков
A7: в режимный день 16 ИЮНЯ 2021 г.
A8: 1516 | B8: 1514
A9: часы суток | B9: Активная энергия | J9: Реактивная энергия
B10: ЯЧ. 23 - ф "ГОРОД-2 | F10: ЯЧ. 2 - ф "ГОРОД-3" | J10: ЯЧ. 23 - ф "ГОРОД-2 | N10: ЯЧ. 2 - ф "ГОРОД-3"
B11: Расчет. Коэф. | E11: 12000 | F11: Расчет. Коэф. | I11: 12000 | J11: Расчет. Коэф. | M11: =E11 -> 12000 | N11: Расчет. Коэф. | Q11: =I11 -> 12000
B12: показания счетчика | C12: разность | E12: расход эл.энергии за час | F12: показания счетчика | G12: разность | I12: расход эл.энергии за час | J12: показания счетчика | K12: разность | M12: расход эл.энергии за час | N12: показания счетчика | O12: разность | Q12: расход эл.энергии за час
A13: 1 | B13: 2 | C13: 3 | E13: 4 | F13: 5 | G13: 6 | I13: 7 | J13: 8 | K13: 9 | M13: 10 | N13: 11 | O13: 12 | Q13: 13
A14: 0
A15: 1 | E15: 1638 | I15: 1692 | M15: 314 | Q15: 246
A16: 2 | E16: 1404 | I16: 1427 | M16: 273 | Q16: 202
A17: 3 | E17: 1212 | I17: 1231 | M17: 225 | Q17: 157
A18: 4 | E18: 1146 | I18: 1134 | M18: 216 | Q18: 144
A19: 5 | E19: 1192 | I19: 1161 | M19: 216 | Q19: 143
A20: 6 | E20: 1374 | I20: 1438 | M20: 225 | Q20: 146
A21: 7 | E21: 1772 | I21: 1835 | M21: 230 | Q21: 166
A22: 8 | E22: 1997 | I22: 2059 | M22: 297 | Q22: 236
A23: 9 | E23: 2310 | I23: 2174 | M23: 495 | Q23: 292
A24: 10 | E24: 2412 | I24: 2273 | M24: 521 | Q24: 292
A25: 11 | E25: 2363 | I25: 2213 | M25: 484 | Q25: 279
A26: 12 | E26: 2317 | I26: 2183 | M26: 487 | Q26: 313
... A38: 24 | E38: 1939 | I38: 2075 | M38: 278 | Q38: 196
A39: Итого | E39: =SUM(E15:E38) -> 48889 | I39: =SUM(I15:I38) -> 48608 | M39: =SUM(M15:M38) -> 8791 | Q39: =SUM(Q15:Q38) -> 6054
A40: 1. При наличии на предприятии отклонений от нормальных режимов электропотребления (временное изменение схем питания, остановка на ремонт, резкое снижение
A41: эл.потребления и т.д.) последние необходимо перечислить.
A42: 2. При наличии нескольких источников питания и большого количества вводов таблица
A43: составляется самим предприятием с соблюдением всех пунктов настоящей таблицы. | K43: Главный инженер ___________________ А.А. Михалин

Sheet 41
B1: АО "Вологдаоблэнерго" | J1: код 900151 | N1: ПС "ЛУГОВАЯ"
B2: наименование предприятия | N2: наименование источника питания
N3: _________________________________
B4: ул. Горького, 99 | I4: Таблица № 1 | O4: РП 38
B5: адрес
A6: почасовых записей показаний электрических счетчиков
A7: в режимный день 16 ИЮНЯ 2021 г.
A8: 1515 | B8: 1517
A9: часы суток | B9: Активная энергия | J9: Реактивная энергия
B10: ЯЧ.10 - ф "ГОРОД-1" | F10: ЯЧ.25 - ф "ГОРОД-4" | J10: ЯЧ.10 - ф "ГОРОД-1" | N10: ЯЧ.25 - ф "ГОРОД-4"
B11: Расчет. Коэф. | E11: 12000 | F11: Расчет. Коэф. | I11: 12000 | J11: Расчет. Коэф. | M11: =E11 -> 12000 | N11: Расчет. Коэф. | Q11: =I11 -> 12000
B12: показания счетчика | C12: разность | E12: расход эл.энергии за час | F12: показания счетчика | G12: разность | I12: расход эл.энергии за час | J12: показания счетчика | K12: разность | M12: расход эл.энергии за час | N12: показания счетчика | O12: разность | Q12: расход эл.энергии за час
A13: 1 | B13: 2 | C13: 3 | E13: 4 | F13: 5 | G13: 6 | I13: 7 | J13: 8 | K13: 9 | M13: 10 | N13: 11 | O13: 12 | Q13: 13
A14: 0
A15: 1 | E15: 1062 | I15: 697 | M15: 128 | Q15: 75
A16: 2 | E16: 898 | I16: 588 | M16: 104 | Q16: 59
A17: 3 | E17: 809 | I17: 549 | M17: 78 | Q17: 49
A18: 4 | E18: 764 | I18: 503 | M18: 79 | Q18: 46
A19: 5 | E19: 756 | I19: 522 | M19: 77 | Q19: 50
A20: 6 | E20: 852 | I20: 562 | M20: 76 | Q20: 49
A21: 7 | E21: 1115 | I21: 760 | M21: 83 | Q21: 60
A22: 8 | E22: 1349 | I22: 901 | M22: 135 | Q22: 88
A23: 9 | E23: 1450 | I23: 985 | M23: 198 | Q23: 91
A24: 10 | E24: 1502 | I24: 1020 | M24: 204 | Q24: 83
A25: 11 | E25: 1516 | I25: 989 | M25: 212 | Q25: 73
A26: 12 | E26: 1481 | I26: 1018 | M26: 206 | Q26: 94
... A38: 24 | E38: 1228 | I38: 867 | M38: 106 | Q38: 56
A39: Итого | E39: =SUM(E15:E38) -> 31211 | I39: =SUM(I15:I38) -> 21873 | M39: =SUM(M15:M38) -> 3734 | Q39: =SUM(Q15:Q38) -> 1904
A40: 1. При наличии на предприятии отклонений от нормальных режимов электропотребления (временное изменение схем питания, остановка на ремонт, резкое снижение
A41: эл.потребления и т.д.) последние необходимо перечислить.
A42: 2. При наличии нескольких источников питания и большого количества вводов таблица
A43: составляется самим предприятием с соблюдением всех пунктов настоящей таблицы. | K43: Главный инженер ___________________ А.А. Михалин

Sheet 41_1
B1: АО "Вологдаоблэнерго" | J1: код 900151 | N1: ПС "ЛУГОВАЯ"
B2: наименование предприятия | N2: наименование источника питания
N3: _________________________________
B4: ул. Горького, 99 | I4: Таблица № 1 | O4: КТП-663
B5: адрес
A6: почасовых записей показаний электрических счетчиков
A7: в режимный день 16 ИЮНЯ 2021 г.
A8: 336
A9: часы суток | B9: Активная энергия | J9: Реактивная энергия
B10: ф.Родина - КТП-663 | J10: ф.Родина - КТП-663
B11: Расчет. Коэф. | E11: 40 | F11: Расчет. Коэф. | J11: Расчет. Коэф. | M11: 40 | N11: Расчет. Коэф.
B12: показания счетчика | C12: разность | E12: расход эл.энергии за час | F12: показания счетчика | G12: разность | I12: расход эл.энергии за час | J12: показания счетчика | K12: разность | M12: расход эл.энергии за час | N12: показания счетчика | O12: разность | Q12: расход эл.энергии за час
A13: 1 | B13: 2 | C13: 3 | E13: 4 | F13: 5 | G13: 6 | I13: 7 | J13: 8 | K13: 9 | M13: 10 | N13: 11 | O13: 12 | Q13: 13
A14: 0
A15: 1 | E15: 8.46 | M15: 2.52
A16: 2 | E16: 8.88 | M16: 2.24
A17: 3 | E17: 8.48 | M17: 1.72
A18: 4 | E18: 8.72 | M18: 1.38
A19: 5 | E19: 8.76 | M19: 2.04
A20: 6 | E20: 8.42 | M20: 2.24
A21: 7 | E21: 7.86 | M21: 1.88
A22: 8 | E22: 8.6 | M22: 2.34
A23: 9 | E23: 11.5 | M23: 1.66
A24: 10 | E24: 15.58 | M24: 1.72
A25: 11 | E25: 14.6 | M25: 1.56
A26: 12 | E26: 17.1 | M26: 3.12
... A38: 24 | E38: 8.54 | M38: 2.18
A39: Итого | E39: =SUM(E15:E38) -> 298.6 | M39: =SUM(M15:M38) -> 73.32
A40: 1. При наличии на предприятии отклонений от нормальных режимов электропотребления (временное изменение схем питания, остановка на ремонт, резкое снижение
A41: эл.потребления и т.д.) последние необходимо перечислить.
A42: 2. При наличии нескольких источников питания и большого количества вводов таблица
A43: составляется самим предприятием с соблюдением всех пунктов настоящей таблицы. | K43: Главный инженер ___________________ А.А. Михалин

Sheet 42
B1: АО "Вологдаоблэнерго" | J1: код 900151 | N1: РП "ГОРКА"
B2: наименование предприятия | N2: наименование источника питания
N3: _________________________________
B4: ул. Горького, 99 | I4: Таблица № 1 | O4: ВЛ - 10кВ № 37
B5: адрес
A6: почасовых записей показаний электрических счетчиков
A7: в режимный день 16 ИЮНЯ 2021 г.
A8: 1528 | B8: 1527
A9: часы суток | B9: Активная энергия | J9: Реактивная энергия
B10: ЯЧ. 4 - ф,"ЛОСТА-1" | F10: ЯЧ. 8 - ф."ЛОСТА-2" | J10: ЯЧ. 4 - ф,"ЛОСТА-1" | N10: ЯЧ. 8 - ф."ЛОСТА-2"
B11: Расчет. Коэф. | E11: 2000 | F11: Расчет. Коэф. | I11: 2000 | J11: Расчет. Коэф. | M11: =E11 -> 2000 | N11: Расчет. Коэф. | Q11: =I11 -> 2000
B12: показания счетчика | C12: разность | E12: расход эл.энергии за час | F12: показания счетчика | G12: разность | I12: расход эл.энергии за час | J12: показания счетчика | K12: разность | M12: расход эл.энергии за час | N12: показания счетчика | O12: разность | Q12: расход эл.энергии за час
A13: 1 | B13: 2 | C13: 3 | E13: 4 | F13: 5 | G13: 6 | I13: 7 | J13: 8 | K13: 9 | M13: 10 | N13: 11 | O13: 12 | Q13: 13
A14: 0
A15: 1 | E15: 30 | I15: 294 | M15: 17 | Q15: 135
A16: 2 | E16: 26 | I16: 258 | M16: 15 | Q16: 125
A17: 3 | E17: 25 | I17: 222 | M17: 14 | Q17: 118
A18: 4 | E18: 26 | I18: 212 | M18: 14 | Q18: 118
A19: 5 | E19: 27 | I19: 217 | M19: 16 | Q19: 119
A20: 6 | E20: 35 | I20: 234 | M20: 17 | Q20: 120
A21: 7 | E21: 41 | I21: 306 | M21: 16 | Q21: 117
A22: 8 | E22: 47 | I22: 366 | M22: 24 | Q22: 132
A23: 9 | E23: 49 | I23: 362 | M23: 26 | Q23: 133
A24: 10 | E24: 49 | I24: 377 | M24: 27 | Q24: 134
A25: 11 | E25: 52 | I25: 380 | M25: 28 | Q25: 134
A26: 12 | E26: 51 | I26: 374 | M26: 26 | Q26: 143
... A38: 24 | E38: 33 | I38: 313 | M38: 14 | Q38: 119
A39: Итого | E39: =SUM(E15:E38) -> 1038 | I39: =SUM(I15:I38) -> 7912 | M39: =SUM(M15:M38) -> 504 | Q39: =SUM(Q15:Q38) -> 3190
A40: 1. При наличии на предприятии отклонений от нормальных режимов электропотребления (временное изменение схем питания, остановка на ремонт, резкое снижение
A41: эл.потребления и т.д.) последние необходимо перечислить.
A42: 2. При наличии нескольких источников питания и большого количества вводов таблица
A43: составляется самим предприятием с соблюдением всех пунктов настоящей таблицы. | K43: Главный инженер ___________________ А.А. Михалин

Sheet 43
B1: АО "Вологдаоблэнерго" | J1: код 900151 | N1: ГПП 2 ЗАО ВПЗ
B2: наименование предприятия | N2: наименование источника питания
N3: _________________________________
B4: ул. Горького, 99 | I4: Таблица № 1 | N4: ПКУ | O4: ВЛ 10 кВ № 8
B5: адрес
A6: почасовых записей показаний электрических счетчиков
A7: в режимный день 16 ИЮНЯ 2021 г.
A8: 618
A9: часы суток | B9: Активная энергия | J9: Реактивная энергия
B10: ЯЧ. 53 - ВЛ № 8 | J10: ЯЧ. 53 - ВЛ № 8
B11: Расчет. Коэф. | E11: 3000 | F11: Расчет. Коэф. | I11: 0 | J11: Расчет. Коэф. | M11: =E11 -> 3000 | N11: Расчет. Коэф. | Q11: =I11 -> 0
B12: показания счетчика | C12: разность | E12: расход эл.энергии за час | F12: показания счетчика | G12: разность | I12: расход эл.энергии за час | J12: показания счетчика | K12: разность | M12: расход эл.энергии за час | N12: показания счетчика | O12: разность | Q12: расход эл.энергии за час
A13: 1 | B13: 2 | C13: 3 | E13: 4 | F13: 5 | G13: 6 | I13: 7 | J13: 8 | K13: 9 | M13: 10 | N13: 11 | O13: 12 | Q13: 13
A14: 0
A15: 1 | E15: 205.8 | M15: 145.2
A16: 2 | E16: 184.2 | M16: 132.3
A17: 3 | E17: 129.3 | M17: 105
A18: 4 | E18: 151.2 | M18: 128.7
A19: 5 | E19: 130.8 | M19: 105.9
A20: 6 | E20: 162.9 | M20: 129
A21: 7 | E21: 216.9 | M21: 138.9
A22: 8 | E22: 456 | M22: 353.1
A23: 9 | E23: 598.5 | M23: 502.8
A24: 10 | E24: 560.7 | M24: 444.9
A25: 11 | E25: 615.3 | M25: 508.2
A26: 12 | E26: 439.2 | M26: 323.1
... A38: 24 | E38: 165.9 | M38: 113.1
A39: Итого | E39: =SUM(E15:E38) -> 8457 | M39: =SUM(M15:M38) -> 6774.9
A40: 1. При наличии на предприятии отклонений от нормальных режимов электропотребления (временное изменение схем питания, остановка на ремонт, резкое снижение
A41: эл.потребления и т.д.) последние необходимо перечислить.
A42: 2. При наличии нескольких источников питания и большого количества вводов таблица
A43: составляется самим предприятием с соблюдением всех пунктов настоящей таблицы. | K43: Главный инженер ___________________ А.А. Михалин

Sheet 44
B1: АО "Вологдаоблэнерго" | J1: код 900151 | N1: ГПП 2 220/10 кВ "ЗАО ВПЗ"
B2: наименование предприятия | N2: наименование источника питания
N3: _________________________________
B4: ул. Горького, 99 | I4: Таблица № 1 | O4: ТП 535; ТП 536
B5: адрес
A6: почасовых записей показаний электрических счетчиков
A7: в режимный день 16 ИЮНЯ 2021 г.
A8: 616 | B8: 617
A9: часы суток | B9: Активная энергия | J9: Реактивная энергия
B10: ЯЧ. 6 - ТП 535 | F10: ЯЧ. 24 - ТП 536 | J10: ЯЧ. 6 - ТП 535 | N10: ЯЧ. 24 - ТП 536
B11: Расчет. Коэф. | E11: 6000 | F11: Расчет. Коэф. | I11: 6000 | J11: Расчет. Коэф. | M11: =E11 -> 6000 | N11: Расчет. Коэф. | Q11: =I11 -> 6000
B12: показания счетчика | C12: разность | E12: расход эл.энергии за час | F12: показания счетчика | G12: разность | I12: расход эл.энергии за час | J12: показания счетчика | K12: разность | M12: расход эл.энергии за час | N12: показания счетчика | O12: разность | Q12: расход эл.энергии за час
A13: 1 | B13: 2 | C13: 3 | E13: 4 | F13: 5 | G13: 6 | I13: 7 | J13: 8 | K13: 9 | M13: 10 | N13: 11 | O13: 12 | Q13: 13
A14: 0
A15: 1
A16: 2
A17: 3
A18: 4
A19: 5
A20: 6
A21: 7
A22: 8
A23: 9
A24: 10
A25: 11
... A38: 24
A39: Итого | E39: =SUM(E15:E38) -> 0 | I39: =SUM(I15:I38) -> 0 | M39: =SUM(M15:M38) -> 0 | Q39: =SUM(Q15:Q38) -> 0
A40: 1. При наличии на предприятии отклонений от нормальных режимов электропотребления (временное изменение схем питания, остановка на ремонт, резкое снижение
A41: эл.потребления и т.д.) последние необходимо перечислить.
A42: 2. При наличии нескольких источников питания и большого количества вводов таблица
A43: составляется самим предприятием с соблюдением всех пунктов настоящей таблицы. | K43: Главный инженер ___________________ А.А. Михалин

Sheet 45
B1: АО "Вологдаоблэнерго" | J1: код 900151 | N1: ГПП 1 110/10 кВ "ЗАО ВПЗ"
B2: наименование предприятия | N2: наименование источника питания
N3: _________________________________
B4: ул. Горького, 99 | I4: Таблица № 1 | O4: РП42
B5: адрес
A6: почасовых записей показаний электрических счетчиков
A7: в режимный день 16 ИЮНЯ 2021 г.
A8: 606 | B8: 607
A9: часы суток | B9: Активная энергия | J9: Реактивная энергия
B10: ЯЧ. 10 - РП42 ф.1 | F10: ЯЧ. 34 - РП42 ф.6 | J10: ЯЧ. 10 - РП42 ф.1 | N10: ЯЧ. 34 - РП42 ф.6
B11: Расчет. Коэф. | E11: 8000 | F11: Расчет. Коэф. | I11: 8000 | J11: Расчет. Коэф. | M11: =E11 -> 8000 | N11: Расчет. Коэф. | Q11: =I11 -> 8000
B12: показания счетчика | C12: разность | E12: расход эл.энергии за час | F12: показания счетчика | G12: разность | I12: расход эл.энергии за час | J12: показания счетчика | K12: разность | M12: расход эл.энергии за час | N12: показания счетчика | O12: разность | Q12: расход эл.энергии за час
A13: 1 | B13: 2 | C13: 3 | E13: 4 | F13: 5 | G13: 6 | I13: 7 | J13: 8 | K13: 9 | M13: 10 | N13: 11 | O13: 12 | Q13: 13
A14: 0
A15: 1
A16: 2
A17: 3
A18: 4
A19: 5
A20: 6
A21: 7
A22: 8
A23: 9
A24: 10
A25: 11
... A38: 24
A39: Итого | E39: =SUM(E15:E38) -> 0 | I39: =SUM(I15:I38) -> 0 | M39: =SUM(M15:M38) -> 0 | Q39: =SUM(Q15:Q38) -> 0
A40: 1. При наличии на предприятии отклонений от нормальных режимов электропотребления (временное изменение схем питания, остановка на ремонт, резкое снижение
A41: эл.потребления и т.д.) последние необходимо перечислить.
A42: 2. При наличии нескольких источников питания и большого количества вводов таблица
A43: составляется самим предприятием с соблюдением всех пунктов настоящей таблицы. | K43: Главный инженер ___________________ А.А. Михалин

Sheet 45_1
B1: АО "Вологдаоблэнерго" | J1: код 900151 | N1: ПС "Молочное" 35/10 кВ
B2: наименование предприятия | N2: наименование источника питания
O3: КТП-297
B4: ул. Горького, 99 | I4: Таблица № 1
B5: адрес
A6: почасовых записей показаний электрических счетчиков
A7: в режимный день 16 ИЮНЯ 2021 г.
A8: 943
A9: часы суток | B9: Активная энергия | J9: Реактивная энергия
B10: ф. Красная Звезда - КТП-297 | J10: ф. Красная Звезда - КТП-297
B11: Расчет. Коэф. | F11: Расчет. Коэф. | J11: Расчет. Коэф. | N11: Расчет. Коэф.
B12: показания счетчика | C12: разность | E12: расход эл.энергии за час | F12: показания счетчика | G12: разность | I12: расход эл.энергии за час | J12: показания счетчика | K12: разность | M12: расход эл.энергии за час | N12: показания счетчика | O12: разность | Q12: расход эл.энергии за час
A13: 1 | B13: 2 | C13: 3 | E13: 4 | F13: 5 | G13: 6 | I13: 7 | J13: 8 | K13: 9 | M13: 10 | N13: 11 | O13: 12 | Q13: 13
A14: 0
A15: 1
A16: 2
A17: 3
A18: 4
A19: 5
A20: 6
A21: 7
A22: 8
A23: 9
A24: 10
A25: 11
... A38: 24
A39: Итого | E39: =SUM(E15:E38) -> 0 | M39: =SUM(M15:M38) -> 0
A40: 1. При наличии на предприятии отклонений от нормальных режимов электропотребления (временное изменение схем питания, остановка на ремонт, резкое снижение
A41: эл.потребления и т.д.) последние необходимо перечислить.
A42: 2. При наличии нескольких источников питания и большого количества вводов таблица
A43: составляется самим предприятием с соблюдением всех пунктов настоящей таблицы. | K43: Главный инженер ___________________ А.А. Михалин

Sheet свод.табл.г.Вологда
G1: код 900151
B2: Таблица № 3
A4: сводных данных режимного дня 16 ИЮНЯ 2021 г..
A6: о потреблении электрической энергии по АО "Вологдаоблэнерго"
A8: г. ВОЛОГДА
A10: часы суток | B10: Активная энергия | E10: Реактивная энергия
B11: Суммарный расход эл.энергии по всем вводам | C11: Суммарный расход эл.энергии всеми сторонними потребителями | D11: Расход эл.энергии предприятием (2-3) | E11: Суммарный расход эл.энергии по всем вводам | F11: Суммарный расход эл.энергии всеми сторонними потребителями | G11: Расход эл.энергии предприятием (5-6)
A12: 1 | B12: 2 | C12: 3 | D12: 4 | E12: 5 | F12: 6 | G12: 7
A13: 1 | B13: =SUM('1а:45_1'!E15,'1а:45_1'!I15) -> 41714.47 | D13: =B13 -> 41714.47 | E13: =SUM('1а:45_1'!M15,'1а:45_1'!Q15) -> 13289.604 | G13: =E13 -> 13289.604
A14: 2 | B14: =SUM('1а:45_1'!E16,'1а:45_1'!I16) -> 37668.849 | D14: =B14 -> 37668.849 | E14: =SUM('1а:45_1'!M16,'1а:45_1'!Q16) -> 12160.204 | G14: =E14 -> 12160.204
A15: 3 | B15: =SUM('1а:45_1'!E17,'1а:45_1'!I17) -> 34319.191 | D15: =B15 -> 34319.191 | E15: =SUM('1а:45_1'!M17,'1а:45_1'!Q17) -> 11381.597 | G15: =E15 -> 11381.597
A16: 4 | B16: =SUM('1а:45_1'!E18,'1а:45_1'!I18) -> 33006.45 | D16: =B16 -> 33006.45 | E16: =SUM('1а:45_1'!M18,'1а:45_1'!Q18) -> 11408.237 | G16: =E16 -> 11408.237
A17: 5 | B17: =SUM('1а:45_1'!E19,'1а:45_1'!I19) -> 33302.932 | D17: =B17 -> 33302.932 | E17: =SUM('1а:45_1'!M19,'1а:45_1'!Q19) -> 11642.764 | G17: =E17 -> 11642.764
A18: 6 | B18: =SUM('1а:45_1'!E20,'1а:45_1'!I20) -> 36430.279 | D18: =B18 -> 36430.279 | E18: =SUM('1а:45_1'!M20,'1а:45_1'!Q20) -> 11386.234 | G18: =E18 -> 11386.234
A19: 7 | B19: =SUM('1а:45_1'!E21,'1а:45_1'!I21) -> 43403.827 | D19: =B19 -> 43403.827 | E19: =SUM('1а:45_1'!M21,'1а:45_1'!Q21) -> 11689.196 | G19: =E19 -> 11689.196
A20: 8 | B20: =SUM('1а:45_1'!E22,'1а:45_1'!I22) -> 52112.031 | D20: =B20 -> 52112.031 | E20: =SUM('1а:45_1'!M22,'1а:45_1'!Q22) -> 14508.532 | G20: =E20 -> 14508.532
A21: 9 | B21: =SUM('1а:45_1'!E23,'1а:45_1'!I23) -> 62088.285 | D21: =B21 -> 62088.285 | E21: =SUM('1а:45_1'!M23,'1а:45_1'!Q23) -> 17955.218 | G21: =E21 -> 17955.218
A22: 10 | B22: =SUM('1а:45_1'!E24,'1а:45_1'!I24) -> 67295.711 | D22: =B22 -> 67295.711 | E22: =SUM('1а:45_1'!M24,'1а:45_1'!Q24) -> 18717.406 | G22: =E22 -> 18717.406
A23: 11 | B23: =SUM('1а:45_1'!E25,'1а:45_1'!I25) -> 68474.019 | D23: =B23 -> 68474.019 | E23: =SUM('1а:45_1'!M25,'1а:45_1'!Q25) -> 18756.755 | G23: =E23 -> 18756.755
A24: 12 | B24: =SUM('1а:45_1'!E26,'1а:45_1'!I26) -> 68284.502 | D24: =B24 -> 68284.502 | E24: =SUM('1а:45_1'!M26,'1а:45_1'!Q26) -> 19294.946 | G24: =E24 -> 19294.946
... A36: 24 | B36: =SUM('1а:45_1'!E38,'1а:45_1'!I38) -> 45268.541 | D36: =B36 -> 45268.541 | E36: =SUM('1а:45_1'!M38,'1а:45_1'!Q38) -> 11699.184 | G36: =E36 -> 11699.184
A37: Итого | D37: =SUM(D13:D36) -> 1299638.4 | G37: =SUM(G13:G36) -> 371154.87
A41: И.о.главного инженера АО "Вологдаоблэнерго" О.В.Уткин
D48: =MAX(D13:D37) -> 1299638.4 | G48: =MAX(G13:G37) -> 371154.87

Sheet 46
B1: АО "Вологдаоблэнерго" | J1: код 900151 | N1: РТП "Кубенское"
B2: наименование предприятия | N2: наименование источника питания
B3: уч-к "Кубенское" | N3: _________________________________
B4: ул. Горького, 99 | I4: Таблица № 1 | O4: СПТУ, ПКУ
B5: адрес
A6: почасовых записей показаний электрических счетчиков
A7: в режимный день 16 ИЮНЯ 2021 г.
A8: 1640 | B8: 411
A9: часы суток | B9: Активная энергия | J9: Реактивная энергия
B10: ф.8 - СПТУ | F10: ф.9 - ПКУ | J10: ф.8 - СПТУ | N10: ф.9 - ПКУ
B11: Расчет. Коэф. | E11: 3000 | F11: Расчет. Коэф. | I11: 1500 | J11: Расчет. Коэф. | M11: 3000 | N11: Расчет. Коэф. | Q11: 1500
B12: показания счетчика | C12: разность | E12: расход эл.энергии за час | F12: показания счетчика | G12: разность | I12: расход эл.энергии за час | J12: показания счетчика | K12: разность | M12: расход эл.энергии за час | N12: показания счетчика | O12: разность | Q12: расход эл.энергии за час
A13: 1 | B13: 2 | C13: 3 | E13: 4 | F13: 5 | G13: 6 | I13: 7 | J13: 8 | K13: 9 | M13: 10 | N13: 11 | O13: 12 | Q13: 13
A14: 0
A15: 1 | E15: 155 | I15: 108.75 | M15: 113 | Q15: 93
A16: 2 | E16: 127 | I16: 98.1 | M16: 96 | Q16: 84.6
A17: 3 | E17: 120 | I17: 92.4 | M17: 95 | Q17: 81.45
A18: 4 | E18: 119 | I18: 93.45 | M18: 94 | Q18: 83.4
A19: 5 | E19: 119 | I19: 91.95 | M19: 94 | Q19: 84
A20: 6 | E20: 133 | I20: 99.75 | M20: 91 | Q20: 83.1
A21: 7 | E21: 189 | I21: 143.1 | M21: 92 | Q21: 86.25
A22: 8 | E22: 255 | I22: 164.7 | M22: 95 | Q22: 92.4
A23: 9 | E23: 269 | I23: 237.75 | M23: 97 | Q23: 128.7
A24: 10 | E24: 289 | I24: 290.4 | M24: 102 | Q24: 169.95
A25: 11 | E25: 270 | I25: 264.15 | M25: 100 | Q25: 159.75
A26: 12 | E26: 261 | I26: 302.25 | M26: 106 | Q26: 182.55
... A38: 24 | E38: 173 | I38: 129.75 | M38: 101 | Q38: 75.9
A39: Итого | E39: =SUM(E15:E38) -> 4841 | I39: =SUM(I15:I38) -> 4408.35 | M39: =SUM(M15:M38) -> 2422 | Q39: =SUM(Q15:Q38) -> 2772
A40: 1. При наличии на предприятии отклонений от нормальных режимов электропотребления (временное изменение схем питания, остановка на ремонт, резкое снижение
A41: эл.потребления и т.д.) последние необходимо перечислить.
A42: 2. При наличии нескольких источников питания и большого количества вводов таблица
A43: составляется самим предприятием с соблюдением всех пунктов настоящей таблицы. | K43: Главный инженер ___________________ А.А. Михалин

Sheet 47
B1: АО "Вологдаоблэнерго" | J1: код 900151 | N1: ПС "Молочное" 35/10 кВ
B2: наименование предприятия | N2: наименование источника питания
B3: уч-к п. Молочное | N3: _________________________________
B4: ул. Горького, 99 | I4: Таблица № 1
B5: адрес
A6: почасовых записей показаний электрических счетчиков
A7: в режимный деннь 17 ИЮНЯ 2020 г.
A8: 1450 | B8: 1449
A9: часы суток | B9: Активная энергия | J9: Реактивная энергия
B10: яч.17 - ф.Молочное-1 | F10: яч.12 - ф.Молочное-2 | J10: яч.17 - ф.Молочное-1 | N10: яч.12 - ф.Молочное-2
B11: Расчет. Коэф. | E11: 3000 | F11: Расчет. Коэф. | I11: 3000 | J11: Расчет. Коэф. | M11: 3000 | N11: Расчет. Коэф. | Q11: 3000
B12: показания счетчика | C12: разность | E12: расход эл.энергии за час | F12: показания счетчика | G12: разность | I12: расход эл.энергии за час | J12: показания счетчика | K12: разность | M12: расход эл.энергии за час | N12: показания счетчика | O12: разность | Q12: расход эл.энергии за час
A13: 1 | B13: 2 | C13: 3 | E13: 4 | F13: 5 | G13: 6 | I13: 7 | J13: 8 | K13: 9 | M13: 10 | N13: 11 | O13: 12 | Q13: 13
A14: 0
A15: 1 | E15: 579 | I15: 85 | M15: 277 | Q15: 63
A16: 2 | E16: 514 | I16: 80 | M16: 254 | Q16: 60
A17: 3 | E17: 460 | I17: 61 | M17: 242 | Q17: 55
A18: 4 | E18: 449 | I18: 63 | M18: 248 | Q18: 42
A19: 5 | E19: 494 | I19: 81 | M19: 248 | Q19: 45
A20: 6 | E20: 546 | I20: 75 | M20: 240 | Q20: 68
A21: 7 | E21: 662 | I21: 69 | M21: 232 | Q21: 53
A22: 8 | E22: 802 | I22: 63 | M22: 256 | Q22: 55
A23: 9 | E23: 904 | I23: 64 | M23: 275 | Q23: 39
A24: 10 | E24: 983 | I24: 95 | M24: 285 | Q24: 66
A25: 11 | E25: 965 | I25: 92 | M25: 285 | Q25: 66
A26: 12 | E26: 916 | I26: 78 | M26: 302 | Q26: 50
... A38: 24 | E38: 640 | I38: 52 | M38: 239 | Q38: 14
A39: Итого | E39: =SUM(E15:E38) -> 17808 | I39: =SUM(I15:I38) -> 1883 | M39: =SUM(M15:M38) -> 6516 | Q39: =SUM(Q15:Q38) -> 1255
A40: 1. При наличии на предприятии отклонений от нормальных режимов электропотребления (временное изменение схем питания, остановка на ремонт, резкое снижение
A41: эл.потребления и т.д.) последние необходимо перечислить.
A42: 2. При наличии нескольких источников питания и большого количества вводов таблица
A43: составляется самим предприятием с соблюдением всех пунктов настоящей таблицы. | K43: Главный инженер ___________________ А.А. Михалин

Sheet 48
B1: АО "Вологдаоблэнерго" | J1: код 900151 | N1: ПС "Молочное" 35/10 кВ
B2: наименование предприятия | N2: наименование источника питания
B3: уч-к п. Молочное | N3: _________________________________
B4: ул. Горького, 99 | I4: Таблица № 1
B5: адрес
A6: почасовых записей показаний электрических счетчиков
A7: в режимный день 16 ИЮНЯ 2021 г.
A8: 1451 | B8: 1448
A9: часы суток | B9: Активная энергия | J9: Реактивная энергия
B10: яч 18 - ф.Молочное-3 | F10: яч 10. - ф.Очистные | J10: яч. 18 - ф.Молочное-3 | N10: яч 10 - ф.Очистные
B11: Расчет. Коэф. | E11: 3000 | F11: Расчет. Коэф. | I11: 2000 | J11: Расчет. Коэф. | M11: 3000 | N11: Расчет. Коэф. | Q11: 2000
B12: показания счетчика | C12: разность | E12: расход эл.энергии за час | F12: показания счетчика | G12: разность | I12: расход эл.энергии за час | J12: показания счетчика | K12: разность | M12: расход эл.энергии за час | N12: показания счетчика | O12: разность | Q12: расход эл.энергии за час
A13: 1 | B13: 2 | C13: 3 | E13: 4 | F13: 5 | G13: 6 | I13: 7 | J13: 8 | K13: 9 | M13: 10 | N13: 11 | O13: 12 | Q13: 13
A14: 0
A15: 1 | E15: 140 | I15: 120 | M15: 42 | Q15: 66
A16: 2 | E16: 124 | I16: 114 | M16: 39 | Q16: 60
A17: 3 | E17: 115 | I17: 103 | M17: 38 | Q17: 56
A18: 4 | E18: 110 | I18: 111 | M18: 36 | Q18: 63
A19: 5 | E19: 106 | I19: 123 | M19: 36 | Q19: 67
A20: 6 | E20: 131 | I20: 129 | M20: 40 | Q20: 61
A21: 7 | E21: 165 | I21: 125 | M21: 47 | Q21: 51
A22: 8 | E22: 176 | I22: 155 | M22: 54 | Q22: 72
A23: 9 | E23: 220 | I23: 183 | M23: 61 | Q23: 94
A24: 10 | E24: 231 | I24: 180 | M24: 61 | Q24: 97
A25: 11 | E25: 251 | I25: 177 | M25: 70 | Q25: 97
A26: 12 | E26: 204 | I26: 168 | M26: 66 | Q26: 100
... A38: 24 | E38: 171 | I38: 141 | M38: 44 | Q38: 78
A39: Итого | E39: =SUM(E15:E38) -> 4480 | I39: =SUM(I15:I38) -> 3593 | M39: =SUM(M15:M38) -> 1256 | Q39: =SUM(Q15:Q38) -> 1852
A40: 1. При наличии на предприятии отклонений от нормальных режимов электропотребления (временное изменение схем питания, остановка на ремонт, резкое снижение
A41: эл.потребления и т.д.) последние необходимо перечислить.
A42: 2. При наличии нескольких источников питания и большого количества вводов таблица
A43: составляется самим предприятием с соблюдением всех пунктов настоящей таблицы. | K43: Главный инженер ___________________ А.А. Михалин

Sheet 48_1
B1: АО "Вологдаоблэнерго" | J1: код 900151 | N1: ПС "Молочное" 35/10 кВ
B2: наименование предприятия | N2: наименование источника питания
B3: уч-к п. Молочное | N3: _________________________________
B4: ул. Горького, 99 | I4: Таблица № 1
B5: адрес
A6: почасовых записей показаний электрических счетчиков
A7: в режимный день 16 ИЮНЯ 2021 г.
A8: 624 | B8: 633
A9: часы суток | B9: Активная энергия | J9: Реактивная энергия
B10: ф. Ивлево, ф. Майский - ТП28 Т1 | F10: ф. Ивлево, ф. Майский - ТП28 Т2 | J10: ф. Ивлево, ф. Майский - ТП28 Т1 | N10: ф. Ивлево, ф. Майский - ТП28 Т2
B11: Расчет. Коэф. | E11: 120 | F11: Расчет. Коэф. | I11: 120 | J11: Расчет. Коэф. | M11: 120 | N11: Расчет. Коэф. | Q11: 120
B12: показания счетчика | C12: разность | E12: расход эл.энергии за час | F12: показания счетчика | G12: разность | I12: расход эл.энергии за час | J12: показания счетчика | K12: разность | M12: расход эл.энергии за час | N12: показания счетчика | O12: разность | Q12: расход эл.энергии за час
A13: 1 | B13: 2 | C13: 3 | E13: 4 | F13: 5 | G13: 6 | I13: 7 | J13: 8 | K13: 9 | M13: 10 | N13: 11 | O13: 12 | Q13: 13
A14: 0
A15: 1 | E15: 0 | I15: 61.68 | M15: 0 | Q15: 10.56
A16: 2 | E16: 0 | I16: 51.48 | M16: 0 | Q16: 8.64
A17: 3 | E17: 0 | I17: 44.16 | M17: 0 | Q17: 8.94
A18: 4 | E18: 0 | I18: 41.34 | M18: 0 | Q18: 7.68
A19: 5 | E19: 0 | I19: 43.08 | M19: 0 | Q19: 7.44
A20: 6 | E20: 0 | I20: 44.7 | M20: 0 | Q20: 8.22
A21: 7 | E21: 0 | I21: 53.16 | M21: 0 | Q21: 8.34
A22: 8 | E22: 0 | I22: 61.5 | M22: 0 | Q22: 12.12
A23: 9 | E23: 0 | I23: 60.6 | M23: 0 | Q23: 12.36
A24: 10 | E24: 0 | I24: 59.52 | M24: 0 | Q24: 10.98
A25: 11 | E25: 0 | I25: 56.58 | M25: 0 | Q25: 11.04
A26: 12 | E26: 0 | I26: 55.56 | M26: 0 | Q26: 12.36
... A38: 24 | E38: 0 | I38: 63.06 | M38: 0 | Q38: 10.68
A39: Итого | E39: =SUM(E15:E38) -> 0 | I39: =SUM(I15:I38) -> 1421.82 | M39: =SUM(M15:M38) -> 0 | Q39: =SUM(Q15:Q38) -> 288.96
A40: 1. При наличии на предприятии отклонений от нормальных режимов электропотребления (временное изменение схем питания, остановка на ремонт, резкое снижение
A41: эл.потребления и т.д.) последние необходимо перечислить.
A42: 2. При наличии нескольких источников питания и большого количества вводов таблица
A43: составляется самим предприятием с соблюдением всех пунктов настоящей таблицы. | K43: Главный инженер ___________________ А.А. Михалин

Sheet 48_2
B1: АО "Вологдаоблэнерго" | J1: код 900151 | N1: ПС "Молочное" 35/10 кВ
B2: наименование предприятия | N2: наименование источника питания
B3: уч-к п. Молочное | N3: _________________________________
B4: ул. Горького, 99 | I4: Таблица № 1
B5: адрес
A6: почасовых записей показаний электрических счетчиков
A7: в режимный день 16 ИЮНЯ 2021 г.
A8: 621
A9: часы суток | B9: Активная энергия | J9: Реактивная энергия
B10: ф. Ивлево, ф. Майский - ТП27 Т1 | J10: ф. Ивлево, ф. Майский - ТП27 Т1
B11: Расчет. Коэф. | F11: Расчет. Коэф. | J11: Расчет. Коэф. | N11: Расчет. Коэф.
B12: показания счетчика | C12: разность | E12: расход эл.энергии за час | F12: показания счетчика | G12: разность | I12: расход эл.энергии за час | J12: показания счетчика | K12: разность | M12: расход эл.энергии за час | N12: показания счетчика | O12: разность | Q12: расход эл.энергии за час
A13: 1 | B13: 2 | C13: 3 | E13: 4 | F13: 5 | G13: 6 | I13: 7 | J13: 8 | K13: 9 | M13: 10 | N13: 11 | O13: 12 | Q13: 13
A14: 0
A15: 1 | E15: 28.02 | M15: 7.32
A16: 2 | E16: 27.24 | M16: 6.72
A17: 3 | E17: 26.82 | M17: 6.48
A18: 4 | E18: 25.38 | M18: 6.06
A19: 5 | E19: 24.84 | M19: 5.34
A20: 6 | E20: 27.18 | M20: 5.94
A21: 7 | E21: 32.16 | M21: 6.48
A22: 8 | E22: 36.9 | M22: 7.2
A23: 9 | E23: 38.76 | M23: 7.92
A24: 10 | E24: 41.52 | M24: 8.64
A25: 11 | E25: 39.12 | M25: 8.16
A26: 12 | E26: 38.82 | M26: 7.62
... A38: 24 | E38: 40.26 | M38: 7.08
A39: Итого | E39: =SUM(E15:E38) -> 871.8 | M39: =SUM(M15:M38) -> 192.78
A40: 1. При наличии на предприятии отклонений от нормальных режимов электропотребления (временное изменение схем питания, остановка на ремонт, резкое снижение
A41: эл.потребления и т.д.) последние необходимо перечислить.
A42: 2. При наличии нескольких источников питания и большого количества вводов таблица
A43: составляется самим предприятием с соблюдением всех пунктов настоящей таблицы. | K43: Главный инженер ___________________ А.А. Михалин

Sheet 49
B1: АО "Вологдаоблэнерго" | J1: код 900151 | N1: РТП "КОРНИЛОВО" 35/10 кВ
B2: наименование предприятия | N2: наименование источника питания
B3: уч-к "Устье-Кубенское" | N3: _________________________________
B4: ул. Горького, 99 | I4: Таблица № 1
B5: адрес
A6: почасовых записей показаний электрических счетчиков
A7: в режимный день 16 ИЮНЯ 2021 г.
A8: 1639
A9: часы суток | B9: Активная энергия | J9: Реактивная энергия
B10: ф. "КОММУНАЛЬНЫЙ" | J10: ф. "КОММУНАЛЬНЫЙ"
B11: Расчет. Коэф. | E11: 2000 | F11: Расчет. Коэф. | I11: 0 | J11: Расчет. Коэф. | M11: 2000 | N11: Расчет. Коэф. | Q11: 0
B12: показания счетчика | C12: разность | E12: расход эл.энергии за час | F12: показания счетчика | G12: разность | I12: расход эл.энергии за час | J12: показания счетчика | K12: разность | M12: расход эл.энергии за час | N12: показания счетчика | O12: разность | Q12: расход эл.энергии за час
A13: 1 | B13: 2 | C13: 3 | E13: 4 | F13: 5 | G13: 6 | I13: 7 | J13: 8 | K13: 9 | M13: 10 | N13: 11 | O13: 12 | Q13: 13
A14: 0
A15: 1 | E15: 170 | M15: 106
A16: 2 | E16: 130 | M16: 90
A17: 3 | E17: 122 | M17: 86
A18: 4 | E18: 114 | M18: 87
A19: 5 | E19: 118 | M19: 87
A20: 6 | E20: 127 | M20: 87
A21: 7 | E21: 154 | M21: 82
A22: 8 | E22: 199 | M22: 94
A23: 9 | E23: 312 | M23: 184
A24: 10 | E24: 307 | M24: 176
A25: 11 | E25: 284 | M25: 158
A26: 12 | E26: 320 | M26: 193
... A38: 24 | E38: 173 | M38: 97
A39: Итого | E39: =SUM(E15:E38) -> 5344 | M39: =SUM(M15:M38) -> 3050
K43: Главный инженер ___________________ А.А. Михалин

Sheet 50
B1: АО "Вологдаоблэнерго" | J1: код 900151 | N1: РТП "КОРНИЛОВО" 35/10 кВ
B2: наименование предприятия | N2: наименование источника питания
B3: уч-к "Устье-Кубенское" | N3: _________________________________
B4: ул. Горького, 99 | I4: Таблица № 1
B5: адрес
A6: почасовых записей показаний электрических счетчиков
A7: в режимный день 16 ИЮНЯ 2021 г.
A8: 393 | B8: 392
A9: часы суток | B9: Активная энергия | J9: Реактивная энергия
B10: ф. "УСТЬЕ" | F10: ф. "СХТ" | J10: ф. "УСТЬЕ" | N10: ф. "СХТ"
B11: Расчет. Коэф. | E11: 3000 | F11: Расчет. Коэф. | I11: 2000 | J11: Расчет. Коэф. | M11: =E11 -> 3000 | N11: Расчет. Коэф. | Q11: 2000
B12: показания счетчика | C12: разность | E12: расход эл.энергии за час | F12: показания счетчика | G12: разность | I12: расход эл.энергии за час | J12: показания счетчика | K12: разность | M12: расход эл.энергии за час | N12: показания счетчика | O12: разность | Q12: расход эл.энергии за час
A13: 1 | B13: 2 | C13: 3 | E13: 4 | F13: 5 | G13: 6 | I13: 7 | J13: 8 | K13: 9 | M13: 10 | N13: 11 | O13: 12 | Q13: 13
A14: 0
A15: 1 | E15: 220.2 | I15: 99.2 | M15: 159.6 | Q15: 58.8
A16: 2 | E16: 195.6 | I16: 73 | M16: 147 | Q16: 44.4
A17: 3 | E17: 187.8 | I17: 69 | M17: 138.9 | Q17: 42.8
A18: 4 | E18: 187.5 | I18: 68 | M18: 143.7 | Q18: 43.4
A19: 5 | E19: 192.6 | I19: 68.6 | M19: 145.8 | Q19: 42.8
A20: 6 | E20: 248.7 | I20: 98.4 | M20: 144.3 | Q20: 43
A21: 7 | E21: 272.7 | I21: 122.4 | M21: 141 | Q21: 42.8
A22: 8 | E22: 300.6 | I22: 153.4 | M22: 154.2 | Q22: 48.4
A23: 9 | E23: 353.7 | I23: 151.8 | M23: 177.3 | Q23: 51.2
A24: 10 | E24: 418.8 | I24: 151.6 | M24: 187.5 | Q24: 54.6
A25: 11 | E25: 407.4 | I25: 133.2 | M25: 194.4 | Q25: 51.8
A26: 12 | E26: 398.1 | I26: 135 | M26: 208.2 | Q26: 50.4
... A38: 24 | E38: 221.1 | I38: 104 | M38: 154.5 | Q38: 49
A39: Итого | E39: =SUM(E15:E38) -> 7205.4 | I39: =SUM(I15:I38) -> 2882.4 | M39: =SUM(M15:M38) -> 4059 | Q39: =SUM(Q15:Q38) -> 1201.2
A40: 1. При наличии на предприятии отклонений от нормальных режимов электропотребления (временное изменение схем питания, остановка на ремонт, резкое снижение
A41: эл.потребления и т.д.) последние необходимо перечислить.
A42: 2. При наличии нескольких источников питания и большого количества вводов таблица
A43: составляется самим предприятием с соблюдением всех пунктов настоящей таблицы. | K43: Главный инженер ___________________ А.А. Михалин

Sheet 50-1
B1: АО "Вологдаоблэнерго" | J1: код 900151 | N1: РТП "КОРНИЛОВО" 35/10 кВ
B2: наименование предприятия | N2: наименование источника питания
B3: уч-к "Устье-Кубенское" | N3: _________________________________
B4: ул. Горького, 99 | I4: Таблица № 1
B5: адрес
A6: почасовых записей показаний электрических счетчиков
A7: в режимный день 16 ИЮНЯ 2021 г.
A8: 389 | B8: 388
A9: часы суток | B9: Активная энергия | J9: Реактивная энергия
B10: ф.7 - КТП-21 | F10: ф.7 - КТП-16 | J10: ф.7 - КТП-21 | N10: ф.7 - КТП-16
B11: Расчет. Коэф. | E11: 30 | F11: Расчет. Коэф. | I11: 40 | J11: Расчет. Коэф. | M11: =E11 -> 30 | N11: Расчет. Коэф. | Q11: 40
B12: показания счетчика | C12: разность | E12: расход эл.энергии за час | F12: показания счетчика | G12: разность | I12: расход эл.энергии за час | J12: показания счетчика | K12: разность | M12: расход эл.энергии за час | N12: показания счетчика | O12: разность | Q12: расход эл.энергии за час
A13: 1 | B13: 2 | C13: 3 | E13: 4 | F13: 5 | G13: 6 | I13: 7 | J13: 8 | K13: 9 | M13: 10 | N13: 11 | O13: 12 | Q13: 13
A14: 0
A15: 1 | E15: 10.68 | I15: 4.44 | M15: 6.93 | Q15: 3
A16: 2 | E16: 10.26 | I16: 3.78 | M16: 6.525 | Q16: 2.76
A17: 3 | E17: 9.63 | I17: 4.12 | M17: 6.6 | Q17: 3.08
A18: 4 | E18: 9.03 | I18: 3.62 | M18: 6.165 | Q18: 2.94
A19: 5 | E19: 10.095 | I19: 3.7 | M19: 6.48 | Q19: 3.02
A20: 6 | E20: 10.815 | I20: 3.98 | M20: 6.69 | Q20: 3.08
A21: 7 | E21: 16.02 | I21: 4.12 | M21: 7.095 | Q21: 2.68
A22: 8 | E22: 18.855 | I22: 5.84 | M22: 7.725 | Q22: 2.88
A23: 9 | E23: 20.67 | I23: 5.62 | M23: 7.545 | Q23: 3.16
A24: 10 | E24: 2.61 | I24: 1.06 | M24: 1.035 | Q24: 0.56
A25: 11 | E25: 0 | I25: 0 | M25: 0 | Q25: 0
A26: 12 | E26: 0 | I26: 0 | M26: 0 | Q26: 0
... A38: 24 | E38: 15.27 | I38: 5.76 | M38: 8.445 | Q38: 3.5
A39: Итого | E39: =SUM(E15:E38) -> 311.64 | I39: =SUM(I15:I38) -> 106.78 | M39: =SUM(M15:M38) -> 148.35 | Q39: =SUM(Q15:Q38) -> 65.84
A40: 1. При наличии на предприятии отклонений от нормальных режимов электропотребления (временное изменение схем питания, остановка на ремонт, резкое снижение
A41: эл.потребления и т.д.) последние необходимо перечислить.
A42: 2. При наличии нескольких источников питания и большого количества вводов таблица
A43: составляется самим предприятием с соблюдением всех пунктов настоящей таблицы. | K43: Главный инженер ___________________ А.А. Михалин

Sheet 50-2
B1: АО "Вологдаоблэнерго" | J1: код 900151 | N1: РТП "КОРНИЛОВО" 35/10 кВ
B2: наименование предприятия | N2: наименование источника питания
B3: уч-к "Устье-Кубенское" | N3: _________________________________
B4: ул. Горького, 99 | I4: Таблица № 1
B5: адрес
A6: почасовых записей показаний электрических счетчиков
A7: в режимный день 16 ИЮНЯ 2021 г.
A8: 390 | B8: 391
A9: часы суток | B9: Активная энергия | J9: Реактивная энергия
B10: ф.7 - КТП-4 | F10: ф.14 - ТП-24 | J10: ф.7 - КТП-4 | N10: ф.14 - ТП-24
B11: Расчет. Коэф. | E11: 60 | F11: Расчет. Коэф. | I11: 40 | J11: Расчет. Коэф. | M11: =E11 -> 60 | N11: Расчет. Коэф. | Q11: 40
B12: показания счетчика | C12: разность | E12: расход эл.энергии за час | F12: показания счетчика | G12: разность | I12: расход эл.энергии за час | J12: показания счетчика | K12: разность | M12: расход эл.энергии за час | N12: показания счетчика | O12: разность | Q12: расход эл.энергии за час
A13: 1 | B13: 2 | C13: 3 | E13: 4 | F13: 5 | G13: 6 | I13: 7 | J13: 8 | K13: 9 | M13: 10 | N13: 11 | O13: 12 | Q13: 13
A14: 0
A15: 1 | E15: 18.9 | I15: 27.12 | M15: 16.71 | Q15: 12.92
A16: 2 | E16: 12.57 | I16: 27.26 | M16: 10.05 | Q16: 13.86
A17: 3 | E17: 9.81 | I17: 25.96 | M17: 7.29 | Q17: 11.92
A18: 4 | E18: 10.14 | I18: 21.92 | M18: 7.35 | Q18: 11.5
A19: 5 | E19: 10.38 | I19: 20.1 | M19: 7.38 | Q19: 8.54
A20: 6 | E20: 10.2 | I20: 16.36 | M20: 7.14 | Q20: 6.14
A21: 7 | E21: 13.2 | I21: 13.84 | M21: 7.47 | Q21: 4.38
A22: 8 | E22: 17.4 | I22: 15.82 | M22: 8.07 | Q22: 5.08
A23: 9 | E23: 18.48 | I23: 17.66 | M23: 8.79 | Q23: 6.88
A24: 10 | E24: 2.49 | I24: 19.14 | M24: 1.2 | Q24: 7.5
A25: 11 | E25: 0 | I25: 16.5 | M25: 0 | Q25: 7.3
A26: 12 | E26: 0 | I26: 15.76 | M26: 0 | Q26: 6.88
... A38: 24 | E38: 14.07 | I38: 28.16 | M38: 8.52 | Q38: 13.66
A39: Итого | E39: =SUM(E15:E38) -> 305.31 | I39: =SUM(I15:I38) -> 547.2 | M39: =SUM(M15:M38) -> 175.74 | Q39: =SUM(Q15:Q38) -> 224.72
A40: 1. При наличии на предприятии отклонений от нормальных режимов электропотребления (временное изменение схем питания, остановка на ремонт, резкое снижение
A41: эл.потребления и т.д.) последние необходимо перечислить.
A42: 2. При наличии нескольких источников питания и большого количества вводов таблица
A43: составляется самим предприятием с соблюдением всех пунктов настоящей таблицы. | K43: Главный инженер ___________________ А.А. Михалин

Sheet 50-3
B1: АО "Вологдаоблэнерго" | J1: код 900151 | N1: РТП "КОРНИЛОВО" 35/10 кВ
B2: наименование предприятия | N2: наименование источника питания
B3: уч-к "Устье-Кубенское" | N3: _________________________________
B4: ул. Горького, 99 | I4: Таблица № 1
B5: адрес
A6: почасовых записей показаний электрических счетчиков
A7: в режимный день 16 ИЮНЯ 2021 г.
A8: 816 | B8: 907
A9: часы суток | B9: Активная энергия | J9: Реактивная энергия
B10: ф.1 - КТП-36 | F10: ф.7 - КТП25 | J10: ф.1 - КТП-36 | N10: ф.7 - ТП-25
B11: Расчет. Коэф. | E11: 60 | F11: Расчет. Коэф. | I11: 40 | J11: Расчет. Коэф. | M11: =E11 -> 60 | N11: Расчет. Коэф. | Q11: 40
B12: показания счетчика | C12: разность | E12: расход эл.энергии за час | F12: показания счетчика | G12: разность | I12: расход эл.энергии за час | J12: показания счетчика | K12: разность | M12: расход эл.энергии за час | N12: показания счетчика | O12: разность | Q12: расход эл.энергии за час
A13: 1 | B13: 2 | C13: 3 | E13: 4 | F13: 5 | G13: 6 | I13: 7 | J13: 8 | K13: 9 | M13: 10 | N13: 11 | O13: 12 | Q13: 13
A14: 0
A15: 1 | E15: 0 | I15: 8.08 | M15: 0 | Q15: 3.7
A16: 2 | E16: 0 | I16: 6.6 | M16: 0 | Q16: 3.3
A17: 3 | E17: 0 | I17: 5.76 | M17: 0 | Q17: 2.96
A18: 4 | E18: 0 | I18: 6.18 | M18: 0 | Q18: 3.42
A19: 5 | E19: 0 | I19: 5.84 | M19: 0 | Q19: 3.28
A20: 6 | E20: 0 | I20: 6.4 | M20: 0 | Q20: 3.26
A21: 7 | E21: 0 | I21: 6.14 | M21: 0 | Q21: 2.84
A22: 8 | E22: 0 | I22: 9.16 | M22: 0 | Q22: 3.28
A23: 9 | E23: 0 | I23: 11.26 | M23: 0 | Q23: 3.48
A24: 10 | E24: 0 | I24: 1.56 | M24: 0 | Q24: 0.52
A25: 11 | E25: 0 | I25: 0 | M25: 0 | Q25: 0
A26: 12 | E26: 0 | I26: 0 | M26: 0 | Q26: 0
... A38: 24 | E38: 0 | I38: 7.88 | M38: 0 | Q38: 3.86
A39: Итого | E39: =SUM(E15:E38) -> 0 | I39: =SUM(I15:I38) -> 179.06 | M39: =SUM(M15:M38) -> 0 | Q39: =SUM(Q15:Q38) -> 74.66
A40: 1. При наличии на предприятии отклонений от нормальных режимов электропотребления (временное изменение схем питания, остановка на ремонт, резкое снижение
A41: эл.потребления и т.д.) последние необходимо перечислить.
A42: 2. При наличии нескольких источников питания и большого количества вводов таблица
A43: составляется самим предприятием с соблюдением всех пунктов настоящей таблицы. | K43: Главный инженер ___________________ А.А. Михалин

Sheet 51
B1: АО "Вологдаоблэнерго" | J1: код 900151 | N1: ПС "ШУЙСКОЕ" 35/ 10 кВ
B2: наименование предприятия | N2: наименование источника питания
B3: уч-к "Шуйское" | N3: _________________________________
B4: ул. Горького, 99 | I4: Таблица № 1
B5: адрес
A6: почасовых записей показаний электрических счетчиков
A7: в режимный день 16 ИЮНЯ 2021 г.
A8: 1643
A9: часы суток | B9: Активная энергия | J9: Реактивная энергия
B10: яч.№ 16 - ф. "Биокомплекс" | J10: яч.№ 16 - ф. "Биокомплекс"
B11: Расчет. Коэф. | E11: 1000 | F11: Расчет. Коэф. | I11: 10 | J11: Расчет. Коэф. | M11: =E11 -> 1000 | N11: Расчет. Коэф. | Q11: 10
B12: показания счетчика | C12: разность | E12: расход эл.энергии за час | F12: показания счетчика | G12: разность | I12: расход эл.энергии за час | J12: показания счетчика | K12: разность | M12: расход эл.энергии за час | N12: показания счетчика | O12: разность | Q12: расход эл.энергии за час
A13: 1 | B13: 2 | C13: 3 | E13: 4 | F13: 5 | G13: 6 | I13: 7 | J13: 8 | K13: 9 | M13: 10 | N13: 11 | O13: 12 | Q13: 13
A14: 0
A15: 1 | E15: 1 | M15: 2
A16: 2 | E16: 1 | M16: 2
A17: 3 | E17: 1 | M17: 3
A18: 4 | E18: 1 | M18: 2
A19: 5 | E19: 1 | M19: 2
A20: 6 | E20: 1 | M20: 3
A21: 7 | E21: 2 | M21: 2
A22: 8 | E22: 1 | M22: 2
A23: 9 | E23: 1 | M23: 2
A24: 10 | E24: 1 | M24: 3
A25: 11 | E25: 1 | M25: 2
A26: 12 | E26: 1 | M26: 3
... A38: 24 | E38: 2 | M38: 2
A39: Итого | E39: =SUM(E15:E38) -> 29 | I39: =SUM(I15:I38) -> 0 | M39: =SUM(M15:M38) -> 58
A40: 1. При наличии на предприятии отклонений от нормальных режимов электропотребления (временное изменение схем питания, остановка на ремонт, резкое снижение
A41: эл.потребления и т.д.) последние необходимо перечислить.
A42: 2. При наличии нескольких источников питания и большого количества вводов таблица
A43: составляется самим предприятием с соблюдением всех пунктов настоящей таблицы. | K43: Главный инженер ___________________ А.А. Михалин

Sheet 52
B1: АО "Вологдаоблэнерго" | J1: код 900151 | N1: ПС "ШУЙСКОЕ" 35/ 10 кВ
B2: наименование предприятия | N2: наименование источника питания
B3: уч-к "Шуйское" | N3: _________________________________
B4: ул. Горького, 99 | I4: Таблица № 1
B5: адрес
A6: почасовых записей показаний электрических счетчиков
A7: в режимный день 16 ИЮНЯ 2021 г.
A8: 1641 | B8: 1642
A9: часы суток | B9: Активная энергия | J9: Реактивная энергия
B10: яч. №7 - ф."Райцентр" | F10: яч. 14 - ф. "Школа" | J10: яч. №7 - ф."Райцентр" | N10: =F10 -> яч. 14 - ф. "Школа"
B11: Расчет. Коэф. | E11: 1500 | F11: Расчет. Коэф. | I11: 2000 | J11: Расчет. Коэф. | M11: =E11 -> 1500 | N11: Расчет. Коэф. | Q11: 2000
B12: показания счетчика | C12: разность | E12: расход эл.энергии за час | F12: показания счетчика | G12: разность | I12: расход эл.энергии за час | J12: показания счетчика | K12: разность | M12: расход эл.энергии за час | N12: показания счетчика | O12: разность | Q12: расход эл.энергии за час
A13: 1 | B13: 2 | C13: 3 | E13: 4 | F13: 5 | G13: 6 | I13: 7 | J13: 8 | K13: 9 | M13: 10 | N13: 11 | O13: 12 | Q13: 13
A14: 0
A15: 1 | E15: 105 | I15: 182 | M15: 69 | Q15: 103
A16: 2 | E16: 96 | I16: 151 | M16: 59 | Q16: 88
A17: 3 | E17: 83 | I17: 128 | M17: 57 | Q17: 77
A18: 4 | E18: 81 | I18: 125 | M18: 57 | Q18: 78
A19: 5 | E19: 85 | I19: 137 | M19: 58 | Q19: 81
A20: 6 | E20: 96 | I20: 157 | M20: 57 | Q20: 78
A21: 7 | E21: 123 | I21: 192 | M21: 57 | Q21: 79
A22: 8 | E22: 150 | I22: 255 | M22: 62 | Q22: 81
A23: 9 | E23: 169 | I23: 295 | M23: 79 | Q23: 82
A24: 10 | E24: 160 | I24: 301 | M24: 74 | Q24: 85
A25: 11 | E25: 162 | I25: 297 | M25: 73 | Q25: 91
A26: 12 | E26: 183 | I26: 286 | M26: 100 | Q26: 100
... A38: 24 | E38: 124 | I38: 194 | M38: 53 | Q38: 82
A39: Итого | E39: =SUM(E15:E38) -> 3400 | I39: =SUM(I15:I38) -> 5435 | M39: =SUM(M15:M38) -> 1734 | Q39: =SUM(Q15:Q38) -> 2165
A40: 1. При наличии на предприятии отклонений от нормальных режимов электропотребления (временное изменение схем питания, остановка на ремонт, резкое снижение
A41: эл.потребления и т.д.) последние необходимо перечислить.
A42: 2. При наличии нескольких источников питания и большого количества вводов таблица
A43: составляется самим предприятием с соблюдением всех пунктов настоящей таблицы. | K43: Главный инженер ___________________ А.А. Михалин

Sheet 54
B1: АО "Вологдаоблэнерго" | J1: код 900151 | N1: ПС "ГДЗ" 110/6 кВ
B2: наименование предприятия | N2: наименование источника питания
B3: уч -к г. Сокол | N3: _________________________________
B4: ул. Горького, 99 | I4: Таблица № 1 | O4: РТП 6
B5: адрес
A6: почасовых записей показаний электрических счетчиков
A7: в режимный день 16 ИЮНЯ 2021 г.
A8: 358 | B8: 360
A9: часы суток | B9: Активная энергия | J9: Реактивная энергия
B10: яч. 7 - ГДЗ-1 -РТП 6 | F10: яч. 18 - ГДЗ-2 - РТП 6 | J10: яч. 7 - ГДЗ-1 -РТП 6 | N10: яч. 18 - ГДЗ-2 - РТП 6
B11: Расчет. Коэф. | E11: 4800 | F11: Расчет. Коэф. | I11: 4800 | J11: Расчет. Коэф. | M11: 4800 | N11: Расчет. Коэф. | Q11: =I11 -> 4800
B12: показания счетчика | C12: разность | E12: расход эл.энергии за час | F12: показания счетчика | G12: разность | I12: расход эл.энергии за час | J12: показания счетчика | K12: разность | M12: расход эл.энергии за час | N12: показания счетчика | O12: разность | Q12: расход эл.энергии за час
A13: 1 | B13: 2 | C13: 3 | E13: 4 | F13: 5 | G13: 6 | I13: 7 | J13: 8 | K13: 9 | M13: 10 | N13: 11 | O13: 12 | Q13: 13
A14: 0
A15: 1 | E15: 390.24 | I15: 210.24 | M15: 259.68 | Q15: 72.48
A16: 2 | E16: 352.32 | I16: 179.04 | M16: 285.6 | Q16: 62.88
A17: 3 | E17: 262.56 | I17: 152.16 | M17: 217.92 | Q17: 58.56
A18: 4 | E18: 243.84 | I18: 144.48 | M18: 211.68 | Q18: 55.68
A19: 5 | E19: 274.08 | I19: 149.28 | M19: 209.76 | Q19: 59.52
A20: 6 | E20: 363.36 | I20: 151.68 | M20: 203.52 | Q20: 57.6
A21: 7 | E21: 440.64 | I21: 209.28 | M21: 204.96 | Q21: 60
A22: 8 | E22: 430.08 | I22: 255.36 | M22: 217.44 | Q22: 66.24
A23: 9 | E23: 792.48 | I23: 288.96 | M23: 458.88 | Q23: 65.76
A24: 10 | E24: 786.24 | I24: 307.68 | M24: 480.96 | Q24: 70.56
A25: 11 | E25: 680.16 | I25: 307.68 | M25: 431.52 | Q25: 78.72
A26: 12 | E26: 765.12 | I26: 320.64 | M26: 504.48 | Q26: 98.4
... A38: 24 | E38: 465.12 | I38: 247.2 | M38: 262.08 | Q38: 54.24
A39: Итого | E39: =SUM(E15:E38) -> 12960.48 | I39: =SUM(I15:I38) -> 6332.64 | M39: =SUM(M15:M38) -> 8173.92 | Q39: =SUM(Q15:Q38) -> 1816.32
A40: 1. При наличии на предприятии отклонений от нормальных режимов электропотребления (временное изменение схем питания, остановка на ремонт, резкое снижение
A41: эл.потребления и т.д.) последние необходимо перечислить.
A42: 2. При наличии нескольких источников питания и большого количества вводов таблица
A43: составляется самим предприятием с соблюдением всех пунктов настоящей таблицы. | K43: Главный инженер ___________________ А.А. Михалин

Sheet 55
B1: АО "Вологдаоблэнерго" | J1: код 900151 | N1: ПС "ГДЗ" 110/6 кВ
B2: наименование предприятия | N2: наименование источника питания
B3: уч -к г. Сокол | N3: _________________________________
B4: ул. Горького, 99 | I4: Таблица № 1 | O4: ЛПК-1
B5: адрес
A6: почасовых записей показаний электрических счетчиков
A7: в режимный день 16 ИЮНЯ 2021 г.
A8: 359
A9: часы суток | B9: Активная энергия | J9: Реактивная энергия
B10: яч. 15 - ГДЗ - ЛПК-1 | J10: яч. 15 - ГДЗ - ЛПК-1
B11: Расчет. Коэф. | E11: 7200 | F11: Расчет. Коэф. | J11: Расчет. Коэф. | M11: =E11 -> 7200 | N11: Расчет. Коэф.
B12: показания счетчика | C12: разность | E12: расход эл.энергии за час | F12: показания счетчика | G12: разность | I12: расход эл.энергии за час | J12: показания счетчика | K12: разность | M12: расход эл.энергии за час | N12: показания счетчика | O12: разность | Q12: расход эл.энергии за час
A13: 1 | B13: 2 | C13: 3 | E13: 4 | F13: 5 | G13: 6 | I13: 7 | J13: 8 | K13: 9 | M13: 10 | N13: 11 | O13: 12 | Q13: 13
A14: 0
A15: 1 | E15: 190.8 | M15: 89.28
A16: 2 | E16: 179.28 | M16: 95.04
A17: 3 | E17: 143.28 | M17: 80.64
A18: 4 | E18: 138.24 | M18: 82.08
A19: 5 | E19: 144.72 | M19: 92.16
A20: 6 | E20: 149.76 | M20: 83.52
A21: 7 | E21: 164.88 | M21: 77.04
A22: 8 | E22: 200.16 | M22: 79.92
A23: 9 | E23: 293.04 | M23: 126
A24: 10 | E24: 308.16 | M24: 130.32
A25: 11 | E25: 339.84 | M25: 120.24
A26: 12 | E26: 353.52 | M26: 163.44
... A38: 24 | E38: 228.96 | M38: 83.52
A39: Итого | E39: =SUM(E15:E38) -> 6087.6 | M39: =SUM(M15:M38) -> 2578.32
A40: 1. При наличии на предприятии отклонений от нормальных режимов электропотребления (временное изменение схем питания, остановка на ремонт, резкое снижение
A41: эл.потребления и т.д.) последние необходимо перечислить.
A42: 2. При наличии нескольких источников питания и большого количества вводов таблица
A43: составляется самим предприятием с соблюдением всех пунктов настоящей таблицы. | K43: Главный инженер ___________________ А.А. Михалин

Sheet 56
B1: АО "Вологдаоблэнерго" | J1: код 900151 | M1: ОАО "Сокольский" ЦБК" ГПП 35/6 кВ
B2: наименование предприятия | M2: наименование источника питания
B3: уч -к г. Сокол | N3: _________________________________
B4: ул. Горького, 99 | I4: Таблица № 1 | O4: РП 5
B5: адрес
A6: почасовых записей показаний электрических счетчиков
A7: в режимный день 16 ИЮНЯ 2021 г.
A8: 400 | B8: 397
A9: часы суток | B9: Активная энергия | J9: Реактивная энергия
B10: яч.4 - РП 5 | F10: яч. 6 - ТП-40 | J10: яч.4 - РП 5 | N10: яч. 6 - ТП-40
B11: Расчет. Коэф. | E11: 2400 | F11: Расчет. Коэф. | I11: 7200 | J11: Расчет. Коэф. | M11: =E11 -> 2400 | N11: Расчет. Коэф. | Q11: =I11 -> 7200
B12: показания счетчика | C12: разность | E12: расход эл.энергии за час | F12: показания счетчика | G12: разность | I12: расход эл.энергии за час | J12: показания счетчика | K12: разность | M12: расход эл.энергии за час | N12: показания счетчика | O12: разность | Q12: расход эл.энергии за час
A13: 1 | B13: 2 | C13: 3 | E13: 4 | F13: 5 | G13: 6 | I13: 7 | J13: 8 | K13: 9 | M13: 10 | N13: 11 | O13: 12 | Q13: 13
A14: 0
A15: 1 | E15: 95.28 | I15: 442.8 | M15: 34.8 | Q15: 183.6
A16: 2 | E16: 100.56 | I16: 395.28 | M16: 46.8 | Q16: 172.08
A17: 3 | E17: 82.08 | I17: 360.72 | M17: 36.48 | Q17: 181.44
A18: 4 | E18: 72.72 | I18: 349.2 | M18: 30 | Q18: 174.96
A19: 5 | E19: 82.32 | I19: 346.32 | M19: 39.12 | Q19: 173.52
A20: 6 | E20: 82.32 | I20: 399.6 | M20: 33.36 | Q20: 173.52
A21: 7 | E21: 100.32 | I21: 505.44 | M21: 36.24 | Q21: 170.64
A22: 8 | E22: 114 | I22: 589.68 | M22: 38.64 | Q22: 194.4
A23: 9 | E23: 150.48 | I23: 779.76 | M23: 40.32 | Q23: 343.44
A24: 10 | E24: 158.16 | I24: 899.28 | M24: 39.6 | Q24: 372.24
A25: 11 | E25: 167.28 | I25: 868.32 | M25: 47.52 | Q25: 351.36
A26: 12 | E26: 161.04 | I26: 843.84 | M26: 45.12 | Q26: 405.36
... A38: 24 | E38: 110.4 | I38: 490.32 | M38: 36.72 | Q38: 151.2
A39: Итого | E39: =SUM(E15:E38) -> 3135.84 | I39: =SUM(I15:I38) -> 14994.72 | M39: =SUM(M15:M38) -> 1046.16 | Q39: =SUM(Q15:Q38) -> 6066.72
A40: 1. При наличии на предприятии отклонений от нормальных режимов электропотребления (временное изменение схем питания, остановка на ремонт, резкое снижение
A41: эл.потребления и т.д.) последние необходимо перечислить.
A42: 2. При наличии нескольких источников питания и большого количества вводов таблица
A43: составляется самим предприятием с соблюдением всех пунктов настоящей таблицы. | K43: Главный инженер ___________________ А.А. Михалин

Sheet 57
B1: АО "Вологдаоблэнерго" | J1: код 900151 | M1: ОАО "Сокольский" ЦБК" ГПП 35/6 кВ
B2: наименование предприятия | M2: наименование источника питания
B3: уч -к г. Сокол | N3: _________________________________
B4: ул. Горького, 99 | I4: Таблица № 1
B5: адрес
A6: почасовых записей показаний электрических счетчиков
A7: в режимный день 16 ИЮНЯ 2021 г.
A8: 398 | B8: 399
A9: часы суток | B9: Активная энергия | J9: Реактивная энергия
B10: яч.2 - РТП 2 яч. 15 | F10: яч. 3 - РТП 2 яч. 2 | J10: яч.2 - РТП 2 яч. 15 | N10: яч. 3 - РТП 2 яч. 2
B11: Расчет. Коэф. | E11: 7200 | F11: Расчет. Коэф. | I11: =Q11 -> 7200 | J11: Расчет. Коэф. | M11: =E11 -> 7200 | N11: Расчет. Коэф. | Q11: 7200
B12: показания счетчика | C12: разность | E12: расход эл.энергии за час | F12: показания счетчика | G12: разность | I12: расход эл.энергии за час | J12: показания счетчика | K12: разность | M12: расход эл.энергии за час | N12: показания счетчика | O12: разность | Q12: расход эл.энергии за час
B13: 2 | C13: 3 | E13: 4 | F13: 5 | G13: 6 | I13: 7 | J13: 8 | K13: 9 | M13: 10 | N13: 11 | O13: 12 | Q13: 13
A14: 0
A15: 1 | E15: 528.48 | I15: 718.56 | M15: 234.72 | Q15: 315.36
A16: 2 | E16: 488.16 | I16: 648 | M16: 219.6 | Q16: 257.04
A17: 3 | E17: 447.84 | I17: 596.16 | M17: 212.4 | Q17: 249.84
A18: 4 | E18: 441.36 | I18: 582.48 | M18: 216 | Q18: 254.88
A19: 5 | E19: 453.6 | I19: 560.88 | M19: 216.72 | Q19: 244.8
A20: 6 | E20: 469.44 | I20: 594 | M20: 215.28 | Q20: 249.12
A21: 7 | E21: 533.52 | I21: 668.88 | M21: 216 | Q21: 231.12
A22: 8 | E22: 595.44 | I22: 761.04 | M22: 239.04 | Q22: 247.68
A23: 9 | E23: 640.8 | I23: 1008.72 | M23: 233.28 | Q23: 360
A24: 10 | E24: 688.32 | I24: 1113.12 | M24: 234.72 | Q24: 367.2
A25: 11 | E25: 722.16 | I25: 1151.28 | M25: 239.76 | Q25: 363.6
A26: 12 | E26: 730.8 | I26: 1128.96 | M26: 273.6 | Q26: 400.32
... A38: 24 | E38: 542.88 | I38: 776.16 | M38: 197.28 | Q38: 289.44
A39: Итого | E39: =SUM(E15:E38) -> 14927.76 | I39: =SUM(I15:I38) -> 21355.2 | M39: =SUM(M15:M38) -> 5736.24 | Q39: =SUM(Q15:Q38) -> 7796.16
A40: 1. При наличии на предприятии отклонений от нормальных режимов электропотребления (временное изменение схем питания, остановка на ремонт, резкое снижение
A41: эл.потребления и т.д.) последние необходимо перечислить.
A42: 2. При наличии нескольких источников питания и большого количества вводов таблица
A43: составляется самим предприятием с соблюдением всех пунктов настоящей таблицы. | K43: Главный инженер ___________________ А.А. Михалин

Sheet 58
B1: АО "Вологдаоблэнерго" | J1: код 900151 | M1: ПС "Сокол" 220/110/35/10 кВ
B2: наименование предприятия | M2: наименование источника питания
B3: уч -к г. Сокол | O3: КТП-90, КТП-91
B4: ул. Горького, 99 | I4: Таблица № 1
B5: адрес
A6: почасовых записей показаний электрических счетчиков
A7: в режимный день 16 ИЮНЯ 2021 г.
A8: 396 | B8: 395
A9: часы суток | B9: Активная энергия | J9: Реактивная энергия
B10: ф. 4 (Обросово) - КТП-90 (дачн. общ.) | F10: ф. 4 (Обросово) - КТП-91 (д. Бережок) | J10: =B10 -> ф. 4 (Обросово) - КТП-90 (дачн. общ.) | N10: =F10 -> ф. 4 (Обросово) - КТП-91 (д. Бережок)
B11: Расчет. Коэф. | E11: 1800 | F11: Расчет. Коэф. | I11: =Q11 -> 900 | J11: Расчет. Коэф. | M11: =E11 -> 1800 | N11: Расчет. Коэф. | Q11: 900
B12: показания счетчика | C12: разность | E12: расход эл.энергии за час | F12: показания счетчика | G12: разность | I12: расход эл.энергии за час | J12: показания счетчика | K12: разность | M12: расход эл.энергии за час | N12: показания счетчика | O12: разность | Q12: расход эл.энергии за час
A13: 1 | B13: 2 | C13: 3 | E13: 4 | F13: 5 | G13: 6 | I13: 7 | J13: 8 | K13: 9 | M13: 10 | N13: 11 | O13: 12 | Q13: 13
A14: 0
A15: 1 | E15: 2.84 | I15: 4.33 | M15: 1.86 | Q15: 3.52
A16: 2 | E16: 2.72 | I16: 3.88 | M16: 1.94 | Q16: 3.38
A17: 3 | E17: 2.68 | I17: 2.62 | M17: 1.64 | Q17: 1.82
A18: 4 | E18: 2.46 | I18: 2.71 | M18: 1.72 | Q18: 1.62
A19: 5 | E19: 2.22 | I19: 2.58 | M19: 1.44 | Q19: 1.75
A20: 6 | E20: 2.94 | I20: 3.22 | M20: 1.54 | Q20: 1.69
A21: 7 | E21: 4.04 | I21: 3.5 | M21: 1.4 | Q21: 1.83
A22: 8 | E22: 4.42 | I22: 3.9 | M22: 1.6 | Q22: 1.8
A23: 9 | E23: 3.98 | I23: 3.23 | M23: 1.64 | Q23: 1.48
A24: 10 | E24: 4.74 | I24: 5.19 | M24: 1.6 | Q24: 1.82
A25: 11 | E25: 30.08 | I25: 3.27 | M25: 14.2 | Q25: 1.32
A26: 12 | E26: 14.08 | I26: 3.14 | M26: 6.78 | Q26: 1.78
... A38: 24 | E38: 3.08 | I38: 4.41 | M38: 1.58 | Q38: 3.1
A39: Итого | E39: =SUM(E15:E38) -> 172.4 | I39: =SUM(I15:I38) -> 100.84 | M39: =SUM(M15:M38) -> 82.02 | Q39: =SUM(Q15:Q38) -> 54.73
A40: 1. При наличии на предприятии отклонений от нормальных режимов электропотребления (временное изменение схем питания, остановка на ремонт, резкое снижение
A41: эл.потребления и т.д.) последние необходимо перечислить.
A42: 2. При наличии нескольких источников питания и большого количества вводов таблица
A43: составляется самим предприятием с соблюдением всех пунктов настоящей таблицы. | K43: Главный инженер ___________________ А.А. Михалин

Sheet 59
B1: АО "Вологдаоблэнерго" | J1: код 900151 | K1: ООО "Сокольский ЦБК" ГПП 110/6 кВ
B2: наименование предприятия | N2: наименование источника питания
B3: уч -к г. Сокол | N3: _________________________________
B4: ул. Горького, 99 | I4: Таблица № 1 | N4: ТП 77
B5: адрес
A6: почасовых записей показаний электрических счетчиков
A7: в режимный день 16 ИЮНЯ 2021 г.
A8: 487
A9: часы суток | B9: Активная энергия | J9: Реактивная энергия
B10: яч. 14 - ТП-77 (Михайлево) | J10: яч. 14 - ТП-77 (Михайлево)
B11: Расчет. Коэф. | E11: 2400 | F11: Расчет. Коэф. | I11: 0 | J11: Расчет. Коэф. | M11: 2400 | N11: Расчет. Коэф. | Q11: 0
B12: показания счетчика | C12: разность | E12: расход эл.энергии за час | F12: показания счетчика | G12: разность | I12: расход эл.энергии за час | J12: показания счетчика | K12: разность | M12: расход эл.энергии за час | N12: показания счетчика | O12: разность | Q12: расход эл.энергии за час
A13: 1 | B13: 2 | C13: 3 | E13: 4 | F13: 5 | G13: 6 | I13: 7 | J13: 8 | K13: 9 | M13: 10 | N13: 11 | O13: 12 | Q13: 13
A14: 0
A15: 1 | E15: 2.88 | M15: 6.42
A16: 2 | E16: 2.46 | M16: 5.34
A17: 3 | E17: 2.34 | M17: 4.98
A18: 4 | E18: 2.28 | M18: 5.28
A19: 5 | E19: 2.4 | M19: 5.64
A20: 6 | E20: 2.4 | M20: 5.34
A21: 7 | E21: 2.76 | M21: 5.04
A22: 8 | E22: 3.18 | M22: 5.52
A23: 9 | E23: 4.02 | M23: 5.22
A24: 10 | E24: 4.32 | M24: 4.92
A25: 11 | E25: 3.54 | M25: 5.64
A26: 12 | E26: 5.4 | M26: 7.74
... A38: 24 | E38: 2.76 | M38: 3.96
A39: Итого | E39: =SUM(E15:E38) -> 84.72 | M39: =SUM(M15:M38) -> 150.9
A40: 1. При наличии на предприятии отклонений от нормальных режимов электропотребления (временное изменение схем питания, остановка на ремонт, резкое снижение
A41: эл.потребления и т.д.) последние необходимо перечислить.
A42: 2. При наличии нескольких источников питания и большого количества вводов таблица
A43: составляется самим предприятием с соблюдением всех пунктов настоящей таблицы. | K43: Главный инженер ___________________ А.А. Михалин

Sheet 60
B1: АО "Вологдаоблэнерго" | J1: код 900151 | K1: ООО "Сухонский ЦБК" ГПП 110/6 кВ
B2: наименование предприятия | N2: наименование источника питания
B3: уч -к г. Сокол | N3: _________________________________
B4: ул. Горького, 99 | I4: Таблица № 1 | O4: РУ-1
B5: адрес
A6: почасовых записей показаний электрических счетчиков
A7: в режимный день 16 ИЮНЯ 2021 г.
A8: 1198 | B8: 1199
A9: часы суток | B9: Активная энергия | J9: Реактивная энергия
B10: РУ-1 яч 1 - ТП 3 | F10: РУ-1 яч 14 - ЛЭП 3 | J10: РУ-1 яч 1 - ТП 3 | N10: РУ-1 яч 14 - ЛЭП 3
B11: Расчет. Коэф. | E11: 4800 | F11: Расчет. Коэф. | I11: 2400 | J11: Расчет. Коэф. | M11: 4800 | N11: Расчет. Коэф. | Q11: 2400
B12: показания счетчика | C12: разность | E12: расход эл.энергии за час | F12: показания счетчика | G12: разность | I12: расход эл.энергии за час | J12: показания счетчика | K12: разность | M12: расход эл.энергии за час | N12: показания счетчика | O12: разность | Q12: расход эл.энергии за час
A13: 1 | B13: 2 | C13: 3 | E13: 4 | F13: 5 | G13: 6 | I13: 7 | J13: 8 | K13: 9 | M13: 10 | N13: 11 | O13: 12 | Q13: 13
A14: 0
A15: 1 | E15: 330.24 | I15: 515.28 | M15: 186.24 | Q15: 443.04
A16: 2 | E16: 293.28 | I16: 539.28 | M16: 185.76 | Q16: 486.24
A17: 3 | E17: 273.6 | I17: 468 | M17: 185.76 | Q17: 438.72
A18: 4 | E18: 260.64 | I18: 385.44 | M18: 191.52 | Q18: 356.4
A19: 5 | E19: 252.96 | I19: 417.6 | M19: 188.16 | Q19: 389.52
A20: 6 | E20: 289.44 | I20: 432.96 | M20: 195.36 | Q20: 354.96
A21: 7 | E21: 380.16 | I21: 532.08 | M21: 183.84 | Q21: 410.88
A22: 8 | E22: 425.76 | I22: 561.6 | M22: 223.68 | Q22: 395.52
A23: 9 | E23: 533.28 | I23: 1468.08 | M23: 318.24 | Q23: 1081.44
A24: 10 | E24: 612.96 | I24: 1558.32 | M24: 372.96 | Q24: 1105.44
A25: 11 | E25: 548.16 | I25: 1336.56 | M25: 323.52 | Q25: 950.88
A26: 12 | E26: 542.4 | I26: 1492.8 | M26: 311.52 | Q26: 1073.52
... A38: 24 | E38: 391.68 | I38: 687.84 | M38: 156 | Q38: 538.32
A39: Итого | E39: =SUM(E15:E38) -> 10594.56 | I39: =SUM(I15:I38) -> 21407.04 | M39: =SUM(M15:M38) -> 5820.96 | Q39: =SUM(Q15:Q38) -> 16108.32
A40: 1. При наличии на предприятии отклонений от нормальных режимов электропотребления (временное изменение схем питания, остановка на ремонт, резкое снижение
A41: эл.потребления и т.д.) последние необходимо перечислить.
A42: 2. При наличии нескольких источников питания и большого количества вводов таблица
A43: составляется самим предприятием с соблюдением всех пунктов настоящей таблицы. | K43: Главный инженер ___________________ А.А. Михалин

Sheet 61
B1: АО "Вологдаоблэнерго" | J1: код 900151 | K1: ООО "Сухонский ЦБК" ГПП 110/6 кВ
B2: наименование предприятия | N2: наименование источника питания
B3: уч -к г. Сокол | N3: _________________________________
B4: ул. Горького, 99 | I4: Таблица № 1
B5: адрес
A6: почасовых записей показаний электрических счетчиков
A7: в режимный день 16 ИЮНЯ 2021 г.
A8: 1200 | B8: 1197
A9: часы суток | B9: Активная энергия | J9: Реактивная энергия
B10: РУ-3 яч 4 - ТП 7 | F10: ЗРУ яч. 59 - КТП 35 | J10: РУ-3 яч 4 - ТП 7 | N10: ЗРУ яч. 59 - КТП 35
B11: Расчет. Коэф. | E11: 2400 | F11: Расчет. Коэф. | I11: 1200 | J11: Расчет. Коэф. | M11: 2400 | N11: Расчет. Коэф. | Q11: 1200
B12: показания счетчика | C12: разность | E12: расход эл.энергии за час | F12: показания счетчика | G12: разность | I12: расход эл.энергии за час | J12: показания счетчика | K12: разность | M12: расход эл.энергии за час | N12: показания счетчика | O12: разность | Q12: расход эл.энергии за час
A13: 1 | B13: 2 | C13: 3 | E13: 4 | F13: 5 | G13: 6 | I13: 7 | J13: 8 | K13: 9 | M13: 10 | N13: 11 | O13: 12 | Q13: 13
A14: 0
A15: 1 | E15: 159.36 | I15: 177.12 | M15: 65.28 | Q15: 104.76
A16: 2 | E16: 137.52 | I16: 158.76 | M16: 56.4 | Q16: 100.44
A17: 3 | E17: 113.28 | I17: 119.88 | M17: 51.6 | Q17: 81.72
A18: 4 | E18: 107.04 | I18: 115.2 | M18: 51.6 | Q18: 83.16
A19: 5 | E19: 134.16 | I19: 115.56 | M19: 66 | Q19: 82.08
A20: 6 | E20: 127.92 | I20: 126.36 | M20: 49.44 | Q20: 85.32
A21: 7 | E21: 156 | I21: 168.84 | M21: 50.88 | Q21: 83.52
A22: 8 | E22: 194.16 | I22: 202.32 | M22: 73.68 | Q22: 88.2
A23: 9 | E23: 196.8 | I23: 288.72 | M23: 62.64 | Q23: 210.6
A24: 10 | E24: 211.2 | I24: 295.2 | M24: 72.24 | Q24: 201.6
A25: 11 | E25: 226.32 | I25: 270 | M25: 70.32 | Q25: 164.52
A26: 12 | E26: 221.28 | I26: 284.4 | M26: 63.12 | Q26: 201.24
... A38: 24 | E38: 184.8 | I38: 211.32 | M38: 61.68 | Q38: 91.08
A39: Итого | E39: =SUM(E15:E38) -> 4441.68 | I39: =SUM(I15:I38) -> 5280.12 | M39: =SUM(M15:M38) -> 1532.4 | Q39: =SUM(Q15:Q38) -> 3002.4
A40: 1. При наличии на предприятии отклонений от нормальных режимов электропотребления (временное изменение схем питания, остановка на ремонт, резкое снижение
A41: эл.потребления и т.д.) последние необходимо перечислить.
A42: 2. При наличии нескольких источников питания и большого количества вводов таблица
A43: составляется самим предприятием с соблюдением всех пунктов настоящей таблицы. | K43: Главный инженер ___________________ А.А. Михалин

Sheet 62
B1: АО "Вологдаоблэнерго" | J1: код 900151 | K1: ООО "Сухонский ЦБК" ГПП 110/6 кВ
B2: наименование предприятия | N2: наименование источника питания
B3: уч -к г. Сокол | N3: _________________________________
B4: ул. Горького, 99 | I4: Таблица № 1 | O4: ЗРУ 6 кВ
B5: адрес
A6: почасовых записей показаний электрических счетчиков
A7: в режимный день 16 ИЮНЯ 2021 г.
A8: 1196
A9: часы суток | B9: Активная энергия | J9: Реактивная энергия
B10: ЗРУ яч. 2- КТП 34 | J10: ЗРУ яч. 2- КТП 34
B11: Расчет. Коэф. | E11: 2400 | F11: Расчет. Коэф. | I11: 0 | J11: Расчет. Коэф. | M11: 2400 | N11: Расчет. Коэф. | Q11: 0
B12: показания счетчика | C12: разность | E12: расход эл.энергии за час | F12: показания счетчика | G12: разность | I12: расход эл.энергии за час | J12: показания счетчика | K12: разность | M12: расход эл.энергии за час | N12: показания счетчика | O12: разность | Q12: расход эл.энергии за час
A13: 1 | B13: 2 | C13: 3 | E13: 4 | F13: 5 | G13: 6 | I13: 7 | J13: 8 | K13: 9 | M13: 10 | N13: 11 | O13: 12 | Q13: 13
A14: 0
A15: 1 | E15: 261 | M15: 172.44
A16: 2 | E16: 231.12 | M16: 151.92
A17: 3 | E17: 193.68 | M17: 135.36
A18: 4 | E18: 182.88 | M18: 137.16
A19: 5 | E19: 182.16 | M19: 140.76
A20: 6 | E20: 194.04 | M20: 137.16
A21: 7 | E21: 251.28 | M21: 136.08
A22: 8 | E22: 300.96 | M22: 165.96
A23: 9 | E23: 757.44 | M23: 564.48
A24: 10 | E24: 737.64 | M24: 561.24
A25: 11 | E25: 694.08 | M25: 509.4
A26: 12 | E26: 743.4 | M26: 610.92
... A38: 24 | E38: 339.48 | M38: 173.52
A39: Итого | E39: =SUM(E15:E38) -> 11137.32 | M39: =SUM(M15:M38) -> 7785
A40: 1. При наличии на предприятии отклонений от нормальных режимов электропотребления (временное изменение схем питания, остановка на ремонт, резкое снижение
A41: эл.потребления и т.д.) последние необходимо перечислить.
A42: 2. При наличии нескольких источников питания и большого количества вводов таблица
A43: составляется самим предприятием с соблюдением всех пунктов настоящей таблицы. | K43: Главный инженер ___________________ А.А. Михалин

Sheet 63
B1: АО "Вологдаоблэнерго" | J1: код 900151 | K1: ООО "Сухонский ЦБК" ГПП 110/6 кВ
B2: наименование предприятия | N2: наименование источника питания
B3: уч -к г. Сокол | N3: РУ - 6 кВ "Механического завода"
B4: ул. Горького, 99 | I4: Таблица № 1
B5: адрес
A6: почасовых записей показаний электрических счетчиков
A7: в режимный день 16 ИЮНЯ 2021 г.
A8: 1201 | B8: 1202
A9: часы суток | B9: Активная энергия | J9: Реактивная энергия
B10: яч 7 - ТП 1 | F10: яч. 4 - ТП 2 | J10: яч 7 - ТП 1 | N10: яч. 4 - ТП 2
B11: Расчет. Коэф. | E11: 600 | F11: Расчет. Коэф. | I11: 600 | J11: Расчет. Коэф. | M11: 600 | N11: Расчет. Коэф. | Q11: 600
B12: показания счетчика | C12: разность | E12: расход эл.энергии за час | F12: показания счетчика | G12: разность | I12: расход эл.энергии за час | J12: показания счетчика | K12: разность | M12: расход эл.энергии за час | N12: показания счетчика | O12: разность | Q12: расход эл.энергии за час
A13: 1 | B13: 2 | C13: 3 | E13: 4 | F13: 5 | G13: 6 | I13: 7 | J13: 8 | K13: 9 | M13: 10 | N13: 11 | O13: 12 | Q13: 13
A14: 0
A15: 1 | E15: 13.38 | I15: 36.36 | M15: 0.12 | Q15: 5.88
A16: 2 | E16: 12.84 | I16: 22.68 | M16: 0.36 | Q16: 5.58
A17: 3 | E17: 9.6 | I17: 22.44 | M17: 1.14 | Q17: 6
A18: 4 | E18: 8.82 | I18: 17.1 | M18: 1.62 | Q18: 6.54
A19: 5 | E19: 9.9 | I19: 18.54 | M19: 1.74 | Q19: 5.58
A20: 6 | E20: 12.6 | I20: 28.8 | M20: 1.26 | Q20: 5.22
A21: 7 | E21: 14.76 | I21: 29.82 | M21: 1.26 | Q21: 5.52
A22: 8 | E22: 18.66 | I22: 15.36 | M22: 2.1 | Q22: 6.66
A23: 9 | E23: 27.48 | I23: 16.98 | M23: 2.58 | Q23: 6.72
A24: 10 | E24: 19.5 | I24: 19.26 | M24: 2.46 | Q24: 7.62
A25: 11 | E25: 20.04 | I25: 21.78 | M25: 2.1 | Q25: 7.44
A26: 12 | E26: 19.92 | I26: 19.74 | M26: 3.3 | Q26: 7.5
... A38: 24 | E38: 23.04 | I38: 40.92 | M38: 0 | Q38: 6.12
A39: Итого | E39: =SUM(E15:E38) -> 481.98 | I39: =SUM(I15:I38) -> 541.68 | M39: =SUM(M15:M38) -> 52.92 | Q39: =SUM(Q15:Q38) -> 156.9
A40: 1. При наличии на предприятии отклонений от нормальных режимов электропотребления (временное изменение схем питания, остановка на ремонт, резкое снижение
A41: эл.потребления и т.д.) последние необходимо перечислить.
A42: 2. При наличии нескольких источников питания и большого количества вводов таблица
A43: составляется самим предприятием с соблюдением всех пунктов настоящей таблицы. | K43: Главный инженер ___________________ А.А. Михалин

Sheet 64
B1: АО "Вологдаоблэнерго" | J1: код 900151 | K1: ПС "Белозерск" 110/10 кВ
B2: наименование предприятия | N2: наименование источника питания
B3: уч -к г. Белозерск | M3: РП 1
B4: ул. Горького, 99 | I4: Таблица № 1
B5: адрес
A6: почасовых записей показаний электрических счетчиков
A7: в режимный день 16 ИЮНЯ 2021 г.
A8: 737 | B8: 738
A9: часы суток | B9: Активная энергия | J9: Реактивная энергия
B10: ВЛ-10кВ.фид. Горсеть1 | F10: ВЛ-10кВ.фид. Горсеть2 | J10: =B10 -> ВЛ-10кВ.фид. Горсеть1 | N10: =F10 -> ВЛ-10кВ.фид. Горсеть2
B11: Расчет. Коэф. | E11: 4000 | F11: Расчет. Коэф. | I11: 2000 | J11: Расчет. Коэф. | M11: =E11 -> 4000 | N11: Расчет. Коэф. | Q11: =I11 -> 2000
B12: показания счетчика | C12: разность | E12: расход эл.энергии за час | F12: показания счетчика | G12: разность | I12: расход эл.энергии за час | J12: показания счетчика | K12: разность | M12: расход эл.энергии за час | N12: показания счетчика | O12: разность | Q12: расход эл.энергии за час
A13: 1 | B13: 2 | C13: 3 | E13: 4 | F13: 5 | G13: 6 | I13: 7 | J13: 8 | K13: 9 | M13: 10 | N13: 11 | O13: 12 | Q13: 13
A14: 0
A15: 1 | E15: 842 | I15: 485 | M15: 363 | Q15: 252
A16: 2 | E16: 740 | I16: 448 | M16: 346 | Q16: 248
A17: 3 | E17: 554 | I17: 328 | M17: 264 | Q17: 186
A18: 4 | E18: 538 | I18: 348 | M18: 264 | Q18: 203
A19: 5 | E19: 558 | I19: 344 | M19: 272 | Q19: 202
A20: 6 | E20: 645 | I20: 408 | M20: 268 | Q20: 201
A21: 7 | E21: 876 | I21: 508 | M21: 268 | Q21: 184
A22: 8 | E22: 1094 | I22: 611 | M22: 296 | Q22: 214
A23: 9 | E23: 1157 | I23: 822 | M23: 294 | Q23: 296
A24: 10 | E24: 1176 | I24: 807 | M24: 276 | Q24: 304
A25: 11 | E25: 1186 | I25: 768 | M25: 280 | Q25: 284
A26: 12 | E26: 1240 | I26: 752 | M26: 302 | Q26: 273
... A38: 24 | E38: 993 | I38: 536 | M38: 310 | Q38: 215
A39: Итого | E39: =SUM(E15:E38) -> 24890 | I39: =SUM(I15:I38) -> 14787 | M39: =SUM(M15:M38) -> 7149 | Q39: =SUM(Q15:Q38) -> 5893
A40: 1. При наличии на предприятии отклонений от нормальных режимов электропотребления (временное изменение схем питания, остановка на ремонт, резкое снижение
A41: эл.потребления и т.д.) последние необходимо перечислить.
A42: 2. При наличии нескольких источников питания и большого количества вводов таблица
A43: составляется самим предприятием с соблюдением всех пунктов настоящей таблицы. | K43: Главный инженер ___________________ А.А. Михалин

Sheet 65
B1: АО "Вологдаоблэнерго" | J1: код 900151 | K1: ПС "Белозерск" 110/10 кВ
B2: наименование предприятия | N2: наименование источника питания
B3: уч -к г. Белозерск
B4: ул. Горького, 99 | I4: Таблица № 1
B5: адрес
A6: почасовых записей показаний электрических счетчиков
A7: в режимный день 16 ИЮНЯ 2021 г.
A8: 739 | B8: 736
A9: часы суток | B9: Активная энергия | J9: Реактивная энергия
B10: ВЛ-10кВ.фид.Оптика | F10: ф. Горсеть-3 | J10: =B10 -> ВЛ-10кВ.фид.Оптика | N10: ф. Горсеть-3
B11: Расчет. Коэф. | E11: 4000 | F11: Расчет. Коэф. | J11: Расчет. Коэф. | M11: =E11 -> 4000 | N11: Расчет. Коэф.
B12: показания счетчика | C12: разность | E12: расход эл.энергии за час | F12: показания счетчика | G12: разность | I12: расход эл.энергии за час | J12: показания счетчика | K12: разность | M12: расход эл.энергии за час | N12: показания счетчика | O12: разность | Q12: расход эл.энергии за час
A13: 1 | B13: 2 | C13: 3 | E13: 4 | F13: 5 | G13: 6 | I13: 7 | J13: 8 | K13: 9 | M13: 10 | N13: 11 | O13: 12 | Q13: 13
A14: 0
A15: 1 | E15: 91 | I15: 60 | M15: 30 | Q15: 46
A16: 2 | E16: 82 | I16: 51 | M16: 28 | Q16: 45
A17: 3 | E17: 76 | I17: 45 | M17: 27 | Q17: 40
A18: 4 | E18: 73 | I18: 42 | M18: 27 | Q18: 39
A19: 5 | E19: 76 | I19: 43 | M19: 30 | Q19: 40
A20: 6 | E20: 96 | I20: 51 | M20: 25 | Q20: 40
A21: 7 | E21: 131 | I21: 81 | M21: 22 | Q21: 39
A22: 8 | E22: 161 | I22: 99 | M22: 27 | Q22: 41
A23: 9 | E23: 176 | I23: 89 | M23: 29 | Q23: 41
A24: 10 | E24: 189 | I24: 89 | M24: 30 | Q24: 39
A25: 11 | E25: 174 | I25: 89 | M25: 32 | Q25: 41
A26: 12 | E26: 160 | I26: 86 | M26: 22 | Q26: 42
... A38: 24 | E38: 114 | I38: 86 | M38: 24 | Q38: 40
A39: Итого | E39: =SUM(E15:E38) -> 3252 | I39: =SUM(I15:I38) -> 1983 | M39: =SUM(M15:M38) -> 672 | Q39: =SUM(Q15:Q38) -> 978
A40: 1. При наличии на предприятии отклонений от нормальных режимов электропотребления (временное изменение схем питания, остановка на ремонт, резкое снижение
A41: эл.потребления и т.д.) последние необходимо перечислить.
A42: 2. При наличии нескольких источников питания и большого количества вводов таблица
A43: составляется самим предприятием с соблюдением всех пунктов настоящей таблицы. | K43: Главный инженер ___________________ А.А. Михалин

Sheet 66
B1: АО "Вологдаоблэнерго" | J1: код 900151 | K1: ПС "Белозерск" 110/10 кВ
B2: наименование предприятия | N2: наименование источника питания
B3: уч -к г. Белозерск
B4: ул. Горького, 99 | I4: Таблица № 1
B5: адрес
A6: почасовых записей показаний электрических счетчиков
A7: в режимный день 16 ИЮНЯ 2021 г.
A8: 1192 | B8: 1193
A9: часы суток | B9: Активная энергия | J9: Реактивная энергия
B10: ВЛ-10кВ.фид. Аэропорт КТП-46 | F10: ВЛ-10кВ.фид. Аэропорт КТП-47 | J10: =B10 -> ВЛ-10кВ.фид. Аэропорт КТП-46 | N10: =F10 -> ВЛ-10кВ.фид. Аэропорт КТП-47
B11: Расчет. Коэф. | E11: 60 | F11: Расчет. Коэф. | I11: 60 | J11: Расчет. Коэф. | M11: =E11 -> 60 | N11: Расчет. Коэф. | Q11: =I11 -> 60
B12: показания счетчика | C12: разность | E12: расход эл.энергии за час | F12: показания счетчика | G12: разность | I12: расход эл.энергии за час | J12: показания счетчика | K12: разность | M12: расход эл.энергии за час | N12: показания счетчика | O12: разность | Q12: расход эл.энергии за час
A13: 1 | B13: 2 | C13: 3 | E13: 4 | F13: 5 | G13: 6 | I13: 7 | J13: 8 | K13: 9 | M13: 10 | N13: 11 | O13: 12 | Q13: 13
A14: 0
A15: 1 | I15: 12.9 | Q15: 2.94
A16: 2 | I16: 11.94 | Q16: 2.67
A17: 3 | I17: 9.39 | Q17: 2.76
A18: 4 | I18: 8.43 | Q18: 2.28
A19: 5 | I19: 9.54 | Q19: 2.79
A20: 6 | I20: 10.53 | Q20: 2.46
A21: 7 | I21: 17.19 | Q21: 2.55
A22: 8 | I22: 26.67 | Q22: 2.79
A23: 9 | I23: 19.95 | Q23: 2.82
A24: 10 | I24: 16.62 | Q24: 3
A25: 11 | I25: 18.93 | Q25: 3.48
A26: 12 | I26: 15.9 | Q26: 2.91
... A38: 24 | I38: 21.36 | Q38: 2.46
A39: Итого | E39: =SUM(E15:E38) -> 0 | I39: =SUM(I15:I38) -> 445.47 | M39: =SUM(M15:M38) -> 0 | Q39: =SUM(Q15:Q38) -> 71.52
A40: 1. При наличии на предприятии отклонений от нормальных режимов электропотребления (временное изменение схем питания, остановка на ремонт, резкое снижение
A41: эл.потребления и т.д.) последние необходимо перечислить.
A42: 2. При наличии нескольких источников питания и большого количества вводов таблица
A43: составляется самим предприятием с соблюдением всех пунктов настоящей таблицы. | K43: Главный инженер ___________________ А.А. Михалин

Sheet 66_1
B1: АО "Вологдаоблэнерго" | J1: код 900151 | K1: ПС "Вашки" 110/10 кВ
B2: наименование предприятия | N2: наименование источника питания
B3: уч -к г. Белозерск | N3: с. Липин Бор
B4: ул. Горького, 99 | I4: Таблица № 1
B5: адрес
A6: почасовых записей показаний электрических счетчиков
A7: в режимный день 16 ИЮНЯ 2021 г.
A8: 1704 | B8: 1705
A9: часы суток | B9: Активная энергия | J9: Реактивная энергия
B10: ВЛ-10кВ.фид. Липин Бор | F10: ВЛ-10кВ.фид. Коммунальный | J10: =B10 -> ВЛ-10кВ.фид. Липин Бор | N10: =F10 -> ВЛ-10кВ.фид. Коммунальный
B11: Расчет. Коэф. | E11: 60 | F11: Расчет. Коэф. | I11: 60 | J11: Расчет. Коэф. | M11: =E11 -> 60 | N11: Расчет. Коэф. | Q11: =I11 -> 60
B12: показания счетчика | C12: разность | E12: расход эл.энергии за час | F12: показания счетчика | G12: разность | I12: расход эл.энергии за час | J12: показания счетчика | K12: разность | M12: расход эл.энергии за час | N12: показания счетчика | O12: разность | Q12: расход эл.энергии за час
A13: 1 | B13: 2 | C13: 3 | E13: 4 | F13: 5 | G13: 6 | I13: 7 | J13: 8 | K13: 9 | M13: 10 | N13: 11 | O13: 12 | Q13: 13
A14: 0
A15: 1 | E15: 94 | I15: 373 | M15: 88 | Q15: 208
A16: 2 | E16: 59 | I16: 310 | M16: 76 | Q16: 177
A17: 3 | E17: 56 | I17: 279 | M17: 68 | Q17: 173
A18: 4 | E18: 57 | I18: 274 | M18: 77 | Q18: 172
A19: 5 | E19: 57 | I19: 299 | M19: 77 | Q19: 173
A20: 6 | E20: 69 | I20: 319 | M20: 77 | Q20: 169
A21: 7 | E21: 90 | I21: 493 | M21: 69 | Q21: 175
A22: 8 | E22: 132 | I22: 631 | M22: 69 | Q22: 184
A23: 9 | E23: 132 | I23: 683 | M23: 79 | Q23: 182
A24: 10 | E24: 115 | I24: 721 | M24: 79 | Q24: 181
A25: 11 | E25: 113 | I25: 708 | M25: 81 | Q25: 202
A26: 12 | E26: 105 | I26: 672 | M26: 79 | Q26: 211
... A38: 24 | E38: 117 | I38: 439 | M38: 70 | Q38: 184
A39: Итого | E39: =SUM(E15:E38) -> 2614 | I39: =SUM(I15:I38) -> 13003 | M39: =SUM(M15:M38) -> 1901 | Q39: =SUM(Q15:Q38) -> 4668
A40: 1. При наличии на предприятии отклонений от нормальных режимов электропотребления (временное изменение схем питания, остановка на ремонт, резкое снижение
A41: эл.потребления и т.д.) последние необходимо перечислить.
A42: 2. При наличии нескольких источников питания и большого количества вводов таблица
A43: составляется самим предприятием с соблюдением всех пунктов настоящей таблицы. | K43: Главный инженер ___________________ А.А. Михалин

Sheet 67
B1: АО "Вологдаоблэнерго" | J1: код 900151 | K1: ПС "Белоусово"
B2: наименование предприятия | N2: наименование источника питания
B3: уч -к г. Вытегра
B4: ул. Горького, 99 | I4: Таблица № 1
B5: адрес
A6: почасовых записей показаний электрических счетчиков
A7: в режимный день 16 ИЮНЯ 2021 г.
A8: 852 | B8: 851
A9: часы суток | B9: Активная энергия | J9: Реактивная энергия
B10: ВЛ-6кВ Ф-9 Погрузка | F10: ВЛ-6 кВ Ф-7 ЛПХ | J10: =B10 -> ВЛ-6кВ Ф-9 Погрузка | N10: =F10 -> ВЛ-6 кВ Ф-7 ЛПХ
B11: Расчет. Коэф. | E11: 1800 | F11: Расчет. Коэф. | I11: 2400 | J11: Расчет. Коэф. | M11: =E11 -> 1800 | N11: Расчет. Коэф. | Q11: =I11 -> 2400
B12: показания счетчика | C12: разность | E12: расход эл.энергии за час | F12: показания счетчика | G12: разность | I12: расход эл.энергии за час | J12: показания счетчика | K12: разность | M12: расход эл.энергии за час | N12: показания счетчика | O12: разность | Q12: расход эл.энергии за час
A13: 1 | B13: 2 | C13: 3 | E13: 4 | F13: 5 | G13: 6 | I13: 7 | J13: 8 | K13: 9 | M13: 10 | N13: 11 | O13: 12 | Q13: 13
A14: 0
A15: 1 | E15: 0 | I15: 8 | M15: 0 | Q15: 34
A16: 2 | E16: 0 | I16: 9 | M16: 0 | Q16: 34
A17: 3 | E17: 0 | I17: 8 | M17: 0 | Q17: 35
A18: 4 | E18: 0 | I18: 9 | M18: 0 | Q18: 35
A19: 5 | E19: 0 | I19: 9 | M19: 0 | Q19: 34
A20: 6 | E20: 0 | I20: 9 | M20: 0 | Q20: 35
A21: 7 | E21: 0 | I21: 8 | M21: 0 | Q21: 33
A22: 8 | E22: 0 | I22: 8 | M22: 0 | Q22: 32
A23: 9 | E23: 0 | I23: 8 | M23: 0 | Q23: 32
A24: 10 | E24: 0 | I24: 8 | M24: 0 | Q24: 31
A25: 11 | E25: 0 | I25: 9 | M25: 0 | Q25: 30
A26: 12 | E26: 0 | I26: 8 | M26: 0 | Q26: 31
... A38: 24 | E38: 0 | I38: 14 | M38: 0 | Q38: 31
A39: Итого | E39: =SUM(E15:E38) -> 0 | I39: =SUM(I15:I38) -> 250 | M39: =SUM(M15:M38) -> 0 | Q39: =SUM(Q15:Q38) -> 761
A40: 1. При наличии на предприятии отклонений от нормальных режимов электропотребления (временное изменение схем питания, остановка на ремонт, резкое снижение
A41: эл.потребления и т.д.) последние необходимо перечислить.
A42: 2. При наличии нескольких источников питания и большого количества вводов таблица
A43: составляется самим предприятием с соблюдением всех пунктов настоящей таблицы. | K43: Главный инженер ___________________ А.А. Михалин

Sheet 68
B1: АО "Вологдаоблэнерго" | J1: код 900151 | K1: ПС "Ольховская"
B2: наименование предприятия | N2: наименование источника питания
B3: уч -к г. Вытегра
B4: ул. Горького, 99 | I4: Таблица № 1
B5: адрес
A6: почасовых записей показаний электрических счетчиков
A7: в режимный день 16 ИЮНЯ 2021 г.
A8: 2138 | B8: 2139
A9: часы суток | B9: Активная энергия | J9: Реактивная энергия
B10: ВЛ-10 кВ Ф-2 ЛПХ | F10: ВЛ-10 кВ Ф-3 Мирный | J10: ВЛ-10 кВ Ф-2 ЛПХ | N10: =F10 -> ВЛ-10 кВ Ф-3 Мирный
B11: Расчет. Коэф. | E11: 1000 | F11: Расчет. Коэф. | I11: 1000 | J11: Расчет. Коэф. | M11: =E11 -> 1000 | N11: Расчет. Коэф. | Q11: =I11 -> 1000
B12: показания счетчика | C12: разность | E12: расход эл.энергии за час | F12: показания счетчика | G12: разность | I12: расход эл.энергии за час | J12: показания счетчика | K12: разность | M12: расход эл.энергии за час | N12: показания счетчика | O12: разность | Q12: расход эл.энергии за час
A13: 1 | B13: 2 | C13: 3 | E13: 4 | F13: 5 | G13: 6 | I13: 7 | J13: 8 | K13: 9 | M13: 10 | N13: 11 | O13: 12 | Q13: 13
A14: 0
A15: 1 | E15: 27 | I15: 21 | M15: 32 | Q15: 18
A16: 2 | E16: 25 | I16: 19 | M16: 31 | Q16: 18
A17: 3 | E17: 27 | I17: 19 | M17: 35 | Q17: 20
A18: 4 | E18: 24 | I18: 18 | M18: 32 | Q18: 18
A19: 5 | E19: 26 | I19: 19 | M19: 30 | Q19: 18
A20: 6 | E20: 27 | I20: 20 | M20: 30 | Q20: 17
A21: 7 | E21: 33 | I21: 23 | M21: 30 | Q21: 17
A22: 8 | E22: 49 | I22: 28 | M22: 33 | Q22: 17
A23: 9 | E23: 48 | I23: 30 | M23: 34 | Q23: 19
A24: 10 | E24: 48 | I24: 29 | M24: 34 | Q24: 20
A25: 11 | E25: 43 | I25: 29 | M25: 32 | Q25: 19
A26: 12 | E26: 44 | I26: 26 | M26: 39 | Q26: 18
... A38: 24 | E38: 28 | I38: 20 | M38: 30 | Q38: 16
A39: Итого | E39: =SUM(E15:E38) -> 901 | I39: =SUM(I15:I38) -> 602 | M39: =SUM(M15:M38) -> 848 | Q39: =SUM(Q15:Q38) -> 438
A40: 1. При наличии на предприятии отклонений от нормальных режимов электропотребления (временное изменение схем питания, остановка на ремонт, резкое снижение
A41: эл.потребления и т.д.) последние необходимо перечислить.
A42: 2. При наличии нескольких источников питания и большого количества вводов таблица
A43: составляется самим предприятием с соблюдением всех пунктов настоящей таблицы. | K43: Главный инженер ___________________ А.А. Михалин

Sheet 69
B1: АО "Вологдаоблэнерго" | J1: код 900151 | K1: ПС "Восточная"
B2: наименование предприятия | N2: наименование источника питания
B3: уч -к г. Вытегра
B4: ул. Горького, 99 | I4: Таблица № 1
B5: адрес
A6: почасовых записей показаний электрических счетчиков
A7: в режимный день 16 ИЮНЯ 2021 г.
A8: 855 | B8: 854
A9: часы суток | B9: Активная энергия | J9: Реактивная энергия
B10: ВЛ-10 кВ Центр | F10: ВЛ-10 кВ Воинская часть | J10: =B10 -> ВЛ-10 кВ Центр | N10: =F10 -> ВЛ-10 кВ Воинская часть
B11: Расчет. Коэф. | E11: 6000 | F11: Расчет. Коэф. | I11: 4000 | J11: Расчет. Коэф. | M11: =E11 -> 6000 | N11: Расчет. Коэф. | Q11: =I11 -> 4000
B12: показания счетчика | C12: разность | E12: расход эл.энергии за час | F12: показания счетчика | G12: разность | I12: расход эл.энергии за час | J12: показания счетчика | K12: разность | M12: расход эл.энергии за час | N12: показания счетчика | O12: разность | Q12: расход эл.энергии за час
A13: 1 | B13: 2 | C13: 3 | E13: 4 | F13: 5 | G13: 6 | I13: 7 | J13: 8 | K13: 9 | M13: 10 | N13: 11 | O13: 12 | Q13: 13
A14: 0
A15: 1 | E15: 271 | I15: 325 | M15: 85 | Q15: 181
A16: 2 | E16: 235 | I16: 279 | M16: 85 | Q16: 189
A17: 3 | E17: 218 | I17: 261 | M17: 93 | Q17: 192
A18: 4 | E18: 210 | I18: 245 | M18: 85 | Q18: 190
A19: 5 | E19: 230 | I19: 248 | M19: 79 | Q19: 187
A20: 6 | E20: 239 | I20: 282 | M20: 79 | Q20: 191
A21: 7 | E21: 335 | I21: 424 | M21: 78 | Q21: 184
A22: 8 | E22: 396 | I22: 504 | M22: 79 | Q22: 161
A23: 9 | E23: 440 | I23: 507 | M23: 84 | Q23: 173
A24: 10 | E24: 457 | I24: 501 | M24: 82 | Q24: 182
A25: 11 | E25: 441 | I25: 444 | M25: 82 | Q25: 166
A26: 12 | E26: 447 | I26: 498 | M26: 83 | Q26: 165
... A38: 24 | E38: 346 | I38: 417 | M38: 80 | Q38: 154
A39: Итого | E39: =SUM(E15:E38) -> 9112 | I39: =SUM(I15:I38) -> 10753 | M39: =SUM(M15:M38) -> 2015 | Q39: =SUM(Q15:Q38) -> 4160
A40: 1. При наличии на предприятии отклонений от нормальных режимов электропотребления (временное изменение схем питания, остановка на ремонт, резкое снижение
A41: эл.потребления и т.д.) последние необходимо перечислить.
A42: 2. При наличии нескольких источников питания и большого количества вводов таблица
A43: составляется самим предприятием с соблюдением всех пунктов настоящей таблицы. | K43: Главный инженер ___________________ А.А. Михалин

Sheet 70
B1: АО "Вологдаоблэнерго" | J1: код 900151 | K1: ПС "Восточная"
B2: наименование предприятия | N2: наименование источника питания
B3: уч -к г. Вытегра
B4: ул. Горького, 99 | I4: Таблица № 1
B5: адрес
A6: почасовых записей показаний электрических счетчиков
A7: в режимный день 16 ИЮНЯ 2021 г.
A8: 856 | B8: 951
A9: часы суток | B9: Активная энергия | J9: Реактивная энергия
B10: ВЛ-10 кВ Шестово | F10: ф.1 Город | J10: =B10 -> ВЛ-10 кВ Шестово | N10: =F10 -> ф.1 Город
B11: Расчет. Коэф. | E11: 4000 | F11: Расчет. Коэф. | J11: Расчет. Коэф. | M11: =E11 -> 4000 | N11: Расчет. Коэф.
B12: показания счетчика | C12: разность | E12: расход эл.энергии за час | F12: показания счетчика | G12: разность | I12: расход эл.энергии за час | J12: показания счетчика | K12: разность | M12: расход эл.энергии за час | N12: показания счетчика | O12: разность | Q12: расход эл.энергии за час
A13: 1 | B13: 2 | C13: 3 | E13: 4 | F13: 5 | G13: 6 | I13: 7 | J13: 8 | K13: 9 | M13: 10 | N13: 11 | O13: 12 | Q13: 13
A14: 0
A15: 1 | E15: 252 | I15: 320 | M15: 118 | Q15: 159
A16: 2 | E16: 200 | I16: 271 | M16: 121 | Q16: 163
A17: 3 | E17: 196 | I17: 260 | M17: 128 | Q17: 166
A18: 4 | E18: 165 | I18: 255 | M18: 119 | Q18: 177
A19: 5 | E19: 159 | I19: 255 | M19: 112 | Q19: 160
A20: 6 | E20: 177 | I20: 284 | M20: 113 | Q20: 169
A21: 7 | E21: 243 | I21: 359 | M21: 111 | Q21: 154
A22: 8 | E22: 353 | I22: 441 | M22: 120 | Q22: 148
A23: 9 | E23: 329 | I23: 507 | M23: 115 | Q23: 148
A24: 10 | E24: 376 | I24: 577 | M24: 113 | Q24: 164
A25: 11 | E25: 369 | I25: 568 | M25: 112 | Q25: 158
A26: 12 | E26: 383 | I26: 563 | M26: 114 | Q26: 156
... A38: 24 | E38: 306 | I38: 391 | M38: 111 | Q38: 141
A39: Итого | E39: =SUM(E15:E38) -> 7547 | I39: =SUM(I15:I38) -> 10991 | M39: =SUM(M15:M38) -> 2855 | Q39: =SUM(Q15:Q38) -> 3774
A40: 1. При наличии на предприятии отклонений от нормальных режимов электропотребления (временное изменение схем питания, остановка на ремонт, резкое снижение
A41: эл.потребления и т.д.) последние необходимо перечислить.
A42: 2. При наличии нескольких источников питания и большого количества вводов таблица
A43: составляется самим предприятием с соблюдением всех пунктов настоящей таблицы. | K43: Главный инженер ___________________ А.А. Михалин

Sheet 70_1
B1: АО "Вологдаоблэнерго" | J1: код 900151 | K1: ПС "Восточная"
B2: наименование предприятия | N2: наименование источника питания
B3: уч -к г. Вытегра | N3: яч.25
B4: ул. Горького, 99 | I4: Таблица № 1
B5: адрес
A6: почасовых записей показаний электрических счетчиков
A7: в режимный день 16 ИЮНЯ 2021 г.
A8: 856 | B8: 951
A9: часы суток | B9: Активная энергия | J9: Реактивная энергия
B10: ВЛ-10 кВ ф Стадион | J10: =B10 -> ВЛ-10 кВ ф Стадион | N10: =F10 -> 0
B11: Расчет. Коэф. | E11: 4000 | F11: Расчет. Коэф. | J11: Расчет. Коэф. | M11: =E11 -> 4000 | N11: Расчет. Коэф.
B12: показания счетчика | C12: разность | E12: расход эл.энергии за час | F12: показания счетчика | G12: разность | I12: расход эл.энергии за час | J12: показания счетчика | K12: разность | M12: расход эл.энергии за час | N12: показания счетчика | O12: разность | Q12: расход эл.энергии за час
A13: 1 | B13: 2 | C13: 3 | E13: 4 | F13: 5 | G13: 6 | I13: 7 | J13: 8 | K13: 9 | M13: 10 | N13: 11 | O13: 12 | Q13: 13
A14: 0
A15: 1
A16: 2
A17: 3
A18: 4
A19: 5
A20: 6
A21: 7
A22: 8
A23: 9
A24: 10
A25: 11
... A38: 24
A39: Итого | E39: =SUM(E15:E38) -> 0 | M39: =SUM(M15:M38) -> 0
A40: 1. При наличии на предприятии отклонений от нормальных режимов электропотребления (временное изменение схем питания, остановка на ремонт, резкое снижение
A41: эл.потребления и т.д.) последние необходимо перечислить.
A42: 2. При наличии нескольких источников питания и большого количества вводов таблица
A43: составляется самим предприятием с соблюдением всех пунктов настоящей таблицы. | K43: Главный инженер ___________________ А.А. Михалин

Sheet 71
B1: АО "Вологдаоблэнерго" | J1: код 900151 | K1: ПС "Мегра"
B2: наименование предприятия | N2: наименование источника питания
B3: уч -к г. Вытегра
B4: ул. Горького, 99 | I4: Таблица № 1
B5: адрес
A6: почасовых записей показаний электрических счетчиков
A7: в режимный день 16 ИЮНЯ 2021 г.
A8: 853
A9: часы суток | B9: Активная энергия | J9: Реактивная энергия
B10: ВЛ-10 кВ Н. Склад | J10: =B10 -> ВЛ-10 кВ Н. Склад
B11: Расчет. Коэф. | E11: 3000 | F11: Расчет. Коэф. | J11: Расчет. Коэф. | M11: =E11 -> 3000 | N11: Расчет. Коэф.
B12: показания счетчика | C12: разность | E12: расход эл.энергии за час | F12: показания счетчика | G12: разность | I12: расход эл.энергии за час | J12: показания счетчика | K12: разность | M12: расход эл.энергии за час | N12: показания счетчика | O12: разность | Q12: расход эл.энергии за час
A13: 1 | B13: 2 | C13: 3 | E13: 4 | F13: 5 | G13: 6 | I13: 7 | J13: 8 | K13: 9 | M13: 10 | N13: 11 | O13: 12 | Q13: 13
A14: 0
A15: 1 | E15: 51 | M15: 23
A16: 2 | E16: 39 | M16: 21
A17: 3 | E17: 53 | M17: 21
A18: 4 | E18: 28 | M18: 19
A19: 5 | E19: 23 | M19: 17
A20: 6 | E20: 21 | M20: 17
A21: 7 | E21: 23 | M21: 16
A22: 8 | E22: 27 | M22: 17
A23: 9 | E23: 31 | M23: 18
A24: 10 | E24: 36 | M24: 19
A25: 11 | E25: 33 | M25: 16
A26: 12 | E26: 34 | M26: 18
... A38: 24 | E38: 53 | M38: 20
A39: Итого | E39: =SUM(E15:E38) -> 936 | M39: =SUM(M15:M38) -> 452
A40: 1. При наличии на предприятии отклонений от нормальных режимов электропотребления (временное изменение схем питания, остановка на ремонт, резкое снижение
A41: эл.потребления и т.д.) последние необходимо перечислить.
A42: 2. При наличии нескольких источников питания и большого количества вводов таблица
A43: составляется самим предприятием с соблюдением всех пунктов настоящей таблицы. | K43: Главный инженер ___________________ А.А. Михалин

Sheet 72
B1: АО "Вологдаоблэнерго" | J1: код 900151 | K1: ПС "Вытегра"
B2: наименование предприятия | N2: наименование источника питания
B3: уч -к г. Вытегра
B4: ул. Горького, 99 | I4: Таблица № 1
B5: адрес
A6: почасовых записей показаний электрических счетчиков
A7: в режимный день 16 ИЮНЯ 2021 г.
A8: 849 | B8: 846
A9: часы суток | B9: Активная энергия | J9: Реактивная энергия
B10: ВЛ-6 кВ Ф-8 пр. Победы | F10: ВЛ-6 кВ Ф-1 Военкомат | J10: =B10 -> ВЛ-6 кВ Ф-8 пр. Победы | N10: =F10 -> ВЛ-6 кВ Ф-1 Военкомат
B11: Расчет. Коэф. | E11: 1800 | F11: Расчет. Коэф. | I11: 900 | J11: Расчет. Коэф. | M11: =E11 -> 1800 | N11: Расчет. Коэф. | Q11: 900
B12: показания счетчика | C12: разность | E12: расход эл.энергии за час | F12: показания счетчика | G12: разность | I12: расход эл.энергии за час | J12: показания счетчика | K12: разность | M12: расход эл.энергии за час | N12: показания счетчика | O12: разность | Q12: расход эл.энергии за час
A13: 1 | B13: 2 | C13: 3 | E13: 4 | F13: 5 | G13: 6 | I13: 7 | J13: 8 | K13: 9 | M13: 10 | N13: 11 | O13: 12 | Q13: 13
A14: 0
A15: 1 | E15: 64 | I15: 66 | M15: 28 | Q15: 19
A16: 2 | E16: 50 | I16: 53 | M16: 26 | Q16: 19
A17: 3 | E17: 47 | I17: 49 | M17: 27 | Q17: 21
A18: 4 | E18: 46 | I18: 47 | M18: 27 | Q18: 20
A19: 5 | E19: 46 | I19: 47 | M19: 25 | Q19: 20
A20: 6 | E20: 52 | I20: 60 | M20: 24 | Q20: 18
A21: 7 | E21: 75 | I21: 80 | M21: 26 | Q21: 19
A22: 8 | E22: 95 | I22: 98 | M22: 25 | Q22: 21
A23: 9 | E23: 106 | I23: 115 | M23: 31 | Q23: 21
A24: 10 | E24: 89 | I24: 119 | M24: 29 | Q24: 26
A25: 11 | E25: 84 | I25: 118 | M25: 28 | Q25: 26
A26: 12 | E26: 91 | I26: 108 | M26: 29 | Q26: 26
... A38: 24 | E38: 75 | I38: 92 | M38: 24 | Q38: 18
A39: Итого | E39: =SUM(E15:E38) -> 1960 | I39: =SUM(I15:I38) -> 2276 | M39: =SUM(M15:M38) -> 652 | Q39: =SUM(Q15:Q38) -> 521
A40: 1. При наличии на предприятии отклонений от нормальных режимов электропотребления (временное изменение схем питания, остановка на ремонт, резкое снижение
A41: эл.потребления и т.д.) последние необходимо перечислить.
A42: 2. При наличии нескольких источников питания и большого количества вводов таблица
A43: составляется самим предприятием с соблюдением всех пунктов настоящей таблицы. | K43: Главный инженер ___________________ А.А. Михалин

Sheet 73
B1: АО "Вологдаоблэнерго" | J1: код 900151 | K1: ПС "Вытегра"
B2: наименование предприятия | N2: наименование источника питания
B3: уч -к г. Вытегра
B4: ул. Горького, 99 | I4: Таблица № 1
B5: адрес
A6: почасовых записей показаний электрических счетчиков
A7: в режимный день 16 ИЮНЯ 2021 г.
A8: 847 | B8: 848
A9: часы суток | B9: Активная энергия | J9: Реактивная энергия
B10: ВЛ-6 кВ Ф-2 пр. Больница | F10: ВЛ-6 кВ Город | J10: =B10 -> ВЛ-6 кВ Ф-2 пр. Больница | N10: =F10 -> ВЛ-6 кВ Город
B11: Расчет. Коэф. | E11: 1800 | F11: Расчет. Коэф. | I11: 2400 | J11: Расчет. Коэф. | M11: =E11 -> 1800 | N11: Расчет. Коэф. | Q11: 2400
B12: показания счетчика | C12: разность | E12: расход эл.энергии за час | F12: показания счетчика | G12: разность | I12: расход эл.энергии за час | J12: показания счетчика | K12: разность | M12: расход эл.энергии за час | N12: показания счетчика | O12: разность | Q12: расход эл.энергии за час
A13: 1 | B13: 2 | C13: 3 | E13: 4 | F13: 5 | G13: 6 | I13: 7 | J13: 8 | K13: 9 | M13: 10 | N13: 11 | O13: 12 | Q13: 13
A14: 0
A15: 1 | E15: 131 | I15: 0 | M15: 93 | Q15: 0
A16: 2 | E16: 118 | I16: 0 | M16: 90 | Q16: 0
A17: 3 | E17: 106 | I17: 0 | M17: 85 | Q17: 0
A18: 4 | E18: 100 | I18: 0 | M18: 82 | Q18: 0
A19: 5 | E19: 95 | I19: 0 | M19: 75 | Q19: 0
A20: 6 | E20: 156 | I20: 0 | M20: 85 | Q20: 0
A21: 7 | E21: 223 | I21: 0 | M21: 100 | Q21: 0
A22: 8 | E22: 256 | I22: 0 | M22: 97 | Q22: 0
A23: 9 | E23: 281 | I23: 0 | M23: 104 | Q23: 0
A24: 10 | E24: 274 | I24: 0 | M24: 101 | Q24: 0
A25: 11 | E25: 249 | I25: 0 | M25: 104 | Q25: 0
A26: 12 | E26: 262 | I26: 0 | M26: 102 | Q26: 0
... A38: 24 | E38: 155 | I38: 0 | M38: 91 | Q38: 0
A39: Итого | E39: =SUM(E15:E38) -> 4647 | I39: =SUM(I15:I38) -> 0 | M39: =SUM(M15:M38) -> 2301 | Q39: =SUM(Q15:Q38) -> 0
A41: ПС "Вытегра" ф. "ВЛ-6кВ Город" - в ремонте
K43: Главный инженер ___________________ А.А. Михалин

Sheet 74
B1: АО "Вологдаоблэнерго" | J1: код 900151 | K1: ПС "Вытегра"
B2: наименование предприятия | N2: наименование источника питания
B3: уч -к г. Вытегра
B4: ул. Горького, 99 | I4: Таблица № 1
B5: адрес
A6: почасовых записей показаний электрических счетчиков
A7: в режимный день 16 ИЮНЯ 2021 г.
A8: 850
A9: часы суток | B9: Активная энергия | J9: Реактивная энергия
B10: ВЛ-6 кВ Ф-13 Заречье | J10: =B10 -> ВЛ-6 кВ Ф-13 Заречье
B11: Расчет. Коэф. | E11: 1200 | F11: Расчет. Коэф. | J11: Расчет. Коэф. | M11: =E11 -> 1200 | N11: Расчет. Коэф.
