Workbook

Sheet Содержание книги
A1: Содержание
A4: № листа | B4: Электросетевой участок | C4: Центр питания
A5: 1 а | B5: г. Вологда | C5: ОАО "БМЗ"
A6: 1, 2 | B6: г. Вологда | C6: ПС "АНАНЬИНО"
A7: 3 | B7: г. Вологда | C7: ПС ЕРМАКОВО
A8: 4 | B8: г. Вологда | C8: ПС "МАЕГА"
A9: 5,6, 7, 8, 9 | B9: г. Вологда | C9: ПС "ЗАПАДНАЯ
A10: 10 | B10: г. Вологда | C10: ПС "СЕВЕРНАЯ 35/6 кВ
A11: 11 | B11: г. Вологда | C11: РТП "ТЕПЛИЧНОГО ХОЗ - ВА"
A12: 12,13, 14 | B12: г. Вологда | C12: ГПП 110/10 кВ "ВОМЗ"
A13: 15,16,17,18,19,20, 21, 21-1, 21-2, 21-3 | B13: г. Вологда | C13: ПС ВОЛОГДА-ЮЖНАЯ РУ - 6 -10 кВ
A14: 22 | B14: г. Вологда | C14: ГПП ВОЛОГДА - ТЯГОВАЯ 110/27,5/6 кВ
A15: 23 | B15: г. Вологда | C15: ТП 10 РЖД
A16: 24 | B16: г. Вологда | C16: ТП 34 РЖД
A17: 25,26,27,28,29 | B17: г. Вологда | C17: ТГК- 2 ВТЭЦ РП 6 кВ
A18: 30,31,32,33,34,34-1 | B18: г. Вологда | C18: ПС "ЦЕНТРАЛЬНАЯ" 110/6 кВ
A19: 35, 36 | B19: г. Вологда | C19: ПС "ГОРОДСКАЯ" 35/6 кВ
A20: 37, 38, 39, 39-1 | B20: г. Вологда | C20: ПС "ВОСТОЧНАЯ" 110/35/10 кВ
A21: 40, 41,41-1 | B21: г. Вологда | C21: ПС "ЛУГОВАЯ"
A22: 42 | B22: г. Вологда | C22: РП "ГОРКА"
A23: 43, 44 | B23: г. Вологда | C23: ГПП 2 ЗАО ВПЗ
A24: 45 | B24: г. Вологда | C24: ГПП 1 ЗАО ВПЗ
A25: 46 | B25: ЭСУ "Кубенское" | C25: ПС "Кубенское"
A26: 47, 48, 48-1,48-2 | B26: ЭСУ п. Молочное | C26: ПС "Молочное" 35/10 кВ
A27: 49, 50, 50-1, 50-2, 50-3 | B27: ЭСУ "Устье-Кубенское" | C27: РТП "КОРНИЛОВО" 35/10 кВ
A28: 51, 52, 53 | B28: ЭСУ "Шуйское" | C28: ПС "ШУЙСКОЕ" 35/ 10 кВ
A29: 54.55 | B29: ЭСУ г. Сокол | C29: ПС "ГДЗ" 110/6 кВ
B30: ЭСУ г. Сокол
A31: 56, 57, 58, | B31: ЭСУ г. Сокол | C31: ОАО "Сокольский" ЦБК" ГПП 35/6 кВ
A32: 59 | B32: ЭСУ г. Сокол | C32: ОАО "Сокольский" ЦБК" ГПП 110/6 кВ
A33: 60, 61, 62, 63 | B33: ЭСУ г. Сокол | C33: ООО "Сухонский ЦБК" ГПП 110/6 кВ
A34: 64-66 | B34: ЭСУ "Белозерск"
A35: 67-75 | B35: ЭСУ "Вытегра"
A36: 76-81_1 | B36: ЭСУ "Харовск"
A37: 82-86 | B37: ЭТУ "Вожега"
A38: 87-91 | B38: ЭТУ "Тотьма"
A39: 92-95 | B39: ЭСУ "Сямжа"
A40: 96-97 | B40: ЭСУ "Грязовец"
A42: Содержание
A45: № листа | B45: Электросетевой участок | C45: Центр питания
...

Sheet 1а
B1: АО "Вологдаоблэнерго" | J1: код 900151 | K1: ПС "Вологда-Южная"РУ 6кВ - транзит через "БМЗ"
A2: наименование предприятия | N2: наименование источника питания
N3: _________________________________
B4: ул. Горького, 99 | I4: Таблица № 1 | O4: РТП 25 Т1, Т2
A5: адрес
A6: почасовых записей показаний электрических счетчиков
A7: в режимный день 16 ИЮНЯ 2021 г.
A8: 143 | B8: 144
A9: часы суток | B9: Активная энергия | J9: Реактивная энергия
B10: яч. Т1 | F10: яч. Т2 | J10: яч. Т1 | N10: яч. Т2
B11: Расчет. Коэф. | E11: 600 | F11: расчетный коэф. | I11: 600 | J11: расчетный коэф. | M11: =E11 -> 600 | N11: расчетный коэф. | Q11: =I11 -> 600
B12: показания счетчика | C12: разность | E12: расход эл.энергии за час | F12: показания счетчика | G12: разность | I12: расход эл.энергии за час | J12: показания счетчика | K12: разность | M12: расход эл.энергии за час | N12: показания счетчика | O12: разность | Q12: расход эл.энергии за час
A13: 1 | B13: 2 | C13: 3 | E13: 4 | F13: 5 | G13: 6 | I13: 7 | J13: 8 | K13: 9 | M13: 10 | N13: 11 | O13: 12 | Q13: 13
A14: 0
A15: 1 | E15: 68.64 | I15: 98.64 | M15: 24.6 | Q15: 37.02
A16: 2 | E16: 63 | I16: 86.7 | M16: 24.36 | Q16: 34.26
A17: 3 | E17: 53.28 | I17: 79.26 | M17: 22.68 | Q17: 33.6
A18: 4 | E18: 50.52 | I18: 79.62 | M18: 22.68 | Q18: 32.94
A19: 5 | E19: 50.88 | I19: 80.52 | M19: 22.56 | Q19: 33.96
A20: 6 | E20: 55.56 | I20: 86.4 | M20: 21.24 | Q20: 35.04
A21: 7 | E21: 66.24 | I21: 124.56 | M21: 21.12 | Q21: 33.42
A22: 8 | E22: 80.52 | I22: 163.98 | M22: 26.16 | Q22: 38.28
A23: 9 | E23: 97.08 | I23: 157.38 | M23: 31.2 | Q23: 39.96
A24: 10 | E24: 96.84 | I24: 150.6 | M24: 30.96 | Q24: 40.56
A25: 11 | E25: 103.8 | I25: 149.76 | M25: 32.4 | Q25: 41.7
A26: 12 | E26: 105.96 | I26: 144.6 | M26: 33 | Q26: 42.66
... A38: 24 | E38: 78.72 | I38: 117.72 | M38: 23.88 | Q38: 34.8
A39: Итого | E39: =SUM(E15:E38) -> 2065.44 | I39: =SUM(I15:I38) -> 3055.08 | M39: =SUM(M15:M38) -> 664.8 | Q39: =SUM(Q15:Q38) -> 921.66
A40: 1. При наличии на предприятии отклонений от нормальных режимов электропотребления (временное изменение схем питания, остановка на ремонт, резкое снижение
A41: эл.потребления и т.д.) последние необходимо перечислить.
A42: 2. При наличии нескольких источников питания и большого количества вводов таблица
A43: составляется самим предприятием с соблюдением всех пунктов настоящей таблицы. | K43: Главный инженер _____________________________ | Q43: А.А. Михалин
A48: 1 | B48: 2 | C48: 3 | D48: 4 | E48: 5 | F48: 6 | G48: 7 | H48: 8 | I48: 9 | J48: 10 | K48: 11 | L48: 12 | M48: 13 | N48: 14 | O48: 15 | P48: 16 | Q48: 17

Sheet 1
B1: АО "Вологдаоблэнерго" | J1: код 900151 | N1: ПС "АНАНЬИНО"
B2: наименование предприятия | N2: наименование источника питания
N3: _________________________________
B4: ул. Горького, 99 | I4: Таблица № 1 | O4: ВЛ № 31
B5: адрес
A6: почасовых записей показаний электрических счетчиков
A7: в режимный день 16 ИЮНЯ 2021 г.
A8: 1629
A9: часы суток | B9: Активная энергия | J9: Реактивная энергия
B10: ЯЧ. № 7 - Ф."Город 7" | J10: ЯЧ. № 7 - Ф."Город 7"
B11: Расчет. Коэф. | E11: 3600 | F11: Расчет. Коэф. | J11: Расчет. Коэф. | M11: =E11 -> 3600 | N11: Расчет. Коэф.
B12: показания счетчика | C12: разность | E12: расход эл.энергии за час | F12: показания счетчика | G12: разность | I12: расход эл.энергии за час | J12: показания счетчика | K12: разность | M12: расход эл.энергии за час | N12: показания счетчика | O12: разность | Q12: расход эл.энергии за час
A13: 1 | B13: 2 | C13: 3 | E13: 4 | F13: 5 | G13: 6 | I13: 7 | J13: 8 | K13: 9 | M13: 10 | N13: 11 | O13: 12 | Q13: 13
A14: 0
A15: 1 | E15: 233 | M15: 156
A16: 2 | E16: 212 | M16: 141
A17: 3 | E17: 182 | M17: 139
A18: 4 | E18: 163 | M18: 142
A19: 5 | E19: 166 | M19: 144
A20: 6 | E20: 177 | M20: 133
A21: 7 | E21: 206 | M21: 134
A22: 8 | E22: 273 | M22: 169
A23: 9 | E23: 361 | M23: 184
A24: 10 | E24: 398 | M24: 192
A25: 11 | E25: 396 | M25: 212
A26: 12 | E26: 397 | M26: 206
... A38: 24 | E38: 269 | M38: 144
A39: Итого | E39: =SUM(E15:E38) -> 7013 | M39: =SUM(M15:M38) -> 4114
A40: 1. При наличии на предприятии отклонений от нормальных режимов электропотребления (временное изменение схем питания, остановка на ремонт, резкое снижение
A41: эл.потребления и т.д.) последние необходимо перечислить.
A42: 2. При наличии нескольких источников питания и большого количества вводов таблица
A43: составляется самим предприятием с соблюдением всех пунктов настоящей таблицы. | K43: Главный инженер ___________________ А.А. Михалин

Sheet 2
B1: АО "Вологдаоблэнерго" | J1: код 900151 | N1: ПС "АНАНЬИНО"
B2: наименование предприятия | N2: наименование источника питания
N3: _________________________________
B4: ул. Горького, 99 | I4: Таблица № 1 | O4: РП 36 ф 16; ТП 360
B5: адрес
A6: почасовых записей показаний электрических счетчиков
A7: в режимный день 16 ИЮНЯ 2021 г.
A8: 1630 | B8: 1628
A9: часы суток | B9: Активная энергия | J9: Реактивная энергия
B10: ЯЧ. № 2 - Ф."Овощехранилище" | F10: ЯЧ. № 8 - Ф."Городской" | J10: ЯЧ. № 2 - Ф."Овощехранилище" | N10: ЯЧ. № 8 - Ф."Городской"
B11: Расчет. Коэф. | E11: 3600 | F11: Расчет. Коэф. | I11: 2400 | J11: Расчет. Коэф. | M11: =E11 -> 3600 | N11: Расчет. Коэф. | Q11: =I11 -> 2400
B12: показания счетчика | C12: разность | E12: расход эл.энергии за час | F12: показания счетчика | G12: разность | I12: расход эл.энергии за час | J12: показания счетчика | K12: разность | M12: расход эл.энергии за час | N12: показания счетчика | O12: разность | Q12: расход эл.энергии за час
A13: 1 | B13: 2 | C13: 3 | E13: 4 | F13: 5 | G13: 6 | I13: 7 | J13: 8 | K13: 9 | M13: 10 | N13: 11 | O13: 12 | Q13: 13
A14: 0
A15: 1 | E15: 186 | I15: 129 | M15: 108 | Q15: 69
A16: 2 | E16: 189 | I16: 105 | M16: 102 | Q16: 59
A17: 3 | E17: 198 | I17: 88 | M17: 105 | Q17: 53
A18: 4 | E18: 192 | I18: 86 | M18: 97 | Q18: 56
A19: 5 | E19: 195 | I19: 97 | M19: 105 | Q19: 56
A20: 6 | E20: 206 | I20: 112 | M20: 109 | Q20: 54
A21: 7 | E21: 194 | I21: 138 | M21: 96 | Q21: 56
A22: 8 | E22: 195 | I22: 151 | M22: 104 | Q22: 61
A23: 9 | E23: 310 | I23: 164 | M23: 222 | Q23: 79
A24: 10 | E24: 290 | I24: 146 | M24: 213 | Q24: 64
A25: 11 | E25: 250 | I25: 159 | M25: 157 | Q25: 68
A26: 12 | E26: 335 | I26: 143 | M26: 252 | Q26: 66
... A38: 24 | E38: 182 | I38: 151 | M38: 88 | Q38: 70
A39: Итого | E39: =SUM(E16:E38) -> 5292 | I39: =SUM(I15:I38) -> 3421 | M39: =SUM(M15:M38) -> 3286 | Q39: =SUM(Q15:Q38) -> 1615
A40: 1. При наличии на предприятии отклонений от нормальных режимов электропотребления (временное изменение схем питания, остановка на ремонт, резкое снижение
A41: эл.потребления и т.д.) последние необходимо перечислить.
A42: 2. При наличии нескольких источников питания и большого количества вводов таблица
A43: составляется самим предприятием с соблюдением всех пунктов настоящей таблицы. | K43: Главный инженер ___________________ А.А. Михалин

Sheet 3
B1: АО "Вологдаоблэнерго" | J1: код 900151 | N1: ПС "РУБЦОВО"
B2: наименование предприятия | N2: наименование источника питания
N3: яч. 18 ф."РУБЦОВО"
B4: ул. Горького, 99 | I4: Таблица № 1 | O4: ВЛ-10кВ № 2
B5: адрес
A6: почасовых записей показаний электрических счетчиков
A7: в режимный день 16 ИЮНЯ 2021 г.
A8: 374
A9: часы суток | B9: Активная энергия | J9: Реактивная энергия
B10: яч. 18 ф."РУБЦОВО"- СВ - ВЛ№2 | J10: яч. 18 ф."РУБЦОВО"- СВ - ВЛ№2
B11: Расчет. Коэф. | E11: 1000 | F11: Расчет. Коэф. | I11: 0 | J11: Расчет. Коэф. | M11: =E11 -> 1000 | N11: Расчет. Коэф. | Q11: =I11 -> 0
B12: показания счетчика | C12: разность | E12: расход эл.энергии за час | F12: показания счетчика | G12: разность | I12: расход эл.энергии за час | J12: показания счетчика | K12: разность | M12: расход эл.энергии за час | N12: показания счетчика | O12: разность | Q12: расход эл.энергии за час
A13: 1 | B13: 2 | C13: 3 | E13: 4 | F13: 5 | G13: 6 | I13: 7 | J13: 8 | K13: 9 | M13: 10 | N13: 11 | O13: 12 | Q13: 13
A14: 0
A15: 1 | E15: 204.8 | M15: 17.4
A16: 2 | E16: 179.2 | M16: 20.8
A17: 3 | E17: 156 | M17: 18.6
A18: 4 | E18: 134.8 | M18: 23.2
A19: 5 | E19: 126.4 | M19: 23.6
A20: 6 | E20: 135.6 | M20: 21.2
A21: 7 | E21: 165 | M21: 20.8
A22: 8 | E22: 194.8 | M22: 24.2
A23: 9 | E23: 192 | M23: 18.2
A24: 10 | E24: 185.6 | M24: 17
A25: 11 | E25: 178.2 | M25: 20.8
A26: 12 | E26: 185.8 | M26: 20.6
... A38: 24 | E38: 259.2 | M38: 20.8
A39: Итого | E39: =SUM(E15:E38) -> 4597.8 | M39: =SUM(M16:M38) -> 540.8
A40: 1. При наличии на предприятии отклонений от нормальных режимов электропотребления (временное изменение схем питания, остановка на ремонт, резкое снижение
A41: эл.потребления и т.д.) последние необходимо перечислить.
A42: 2. При наличии нескольких источников питания и большого количества вводов таблица
A43: составляется самим предприятием с соблюдением всех пунктов настоящей таблицы. | K43: Главный инженер ___________________ А.А. Михалин

Sheet 4
B1: АО "Вологдаоблэнерго" | J1: код 900151 | N1: ПС "МАЕГА"
B2: наименование предприятия | N2: наименование источника питания
N3: яч. 13 - Ф НИКИТИНО
B4: ул. Горького, 99 | I4: Таблица № 1 | O4: ВЛ №27
B5: адрес
A6: почасовых записей показаний электрических счетчиков
A7: в режимный день 16 ИЮНЯ 2021 г.
A8: 363
A9: часы суток | B9: Активная энергия | J9: Реактивная энергия
B10: яч. 13 - Ф НИКИТИНО-СВ - ВЛ№27 | J10: яч. 13 - Ф НИКИТИНО-СВ - ВЛ№27
B11: Расчет. Коэф. | E11: 1500 | F11: Расчет. Коэф. | I11: 0 | J11: Расчет. Коэф. | M11: =E11 -> 1500 | N11: Расчет. Коэф. | Q11: =I11 -> 0
B12: показания счетчика | C12: разность | E12: расход эл.энергии за час | F12: показания счетчика | G12: разность | I12: расход эл.энергии за час | J12: показания счетчика | K12: разность | M12: расход эл.энергии за час | N12: показания счетчика | O12: разность | Q12: расход эл.энергии за час
A13: 1 | B13: 2 | C13: 3 | E13: 4 | F13: 5 | G13: 6 | I13: 7 | J13: 8 | K13: 9 | M13: 10 | N13: 11 | O13: 12 | Q13: 13
A14: 0
A15: 1 | E15: 226.05 | M15: 48.45
A16: 2 | E16: 199.2 | M16: 46.65
A17: 3 | E17: 166.65 | M17: 44.1
A18: 4 | E18: 156.75 | M18: 44.4
A19: 5 | E19: 172.95 | M19: 46.95
A20: 6 | E20: 201.6 | M20: 45.6
A21: 7 | E21: 239.7 | M21: 47.25
A22: 8 | E22: 285.75 | M22: 61.95
A23: 9 | E23: 302.55 | M23: 69.6
A24: 10 | E24: 317.85 | M24: 90
A25: 11 | E25: 307.5 | M25: 87.15
A26: 12 | E26: 318.75 | M26: 97.2
... A38: 24 | E38: 267.9 | M38: 48.45
A39: Итого | E39: =SUM(E15:E38) -> 6481.35 | M39: =SUM(M15:M38) -> 1588.05
A40: 1. При наличии на предприятии отклонений от нормальных режимов электропотребления (временное изменение схем питания, остановка на ремонт, резкое снижение
A41: эл.потребления и т.д.) последние необходимо перечислить.
A42: 2. При наличии нескольких источников питания и большого количества вводов таблица
A43: составляется самим предприятием с соблюдением всех пунктов настоящей таблицы. | K43: Главный инженер ___________________ А.А. Михалин

Sheet 5
B1: АО "Вологдаоблэнерго" | J1: код 900151 | N1: ПС "ЗАПАДНАЯ"
B2: наименование предприятия | N2: наименование источника питания
N3: _________________________________
B4: ул. Горького, 99 | I4: Таблица № 1 | O4: РП 16
B5: адрес
A6: почасовых записей показаний электрических счетчиков
A7: в режимный день 16 ИЮНЯ 2021 г.
A8: 372 | B8: 368
A9: часы суток | B9: Активная энергия | J9: Реактивная энергия
B10: Яч. 21 - "РМЗ-1" | F10: Яч. 28 - "РМЗ-2" | J10: Яч. 21 - "РМЗ-1" | N10: Яч. 28 - "РМЗ-2"
B11: Расчет. Коэф. | E11: 7200 | F11: Расчет. Коэф. | I11: 7200 | J11: Расчет. Коэф. | M11: =E11 -> 7200 | N11: Расчет. Коэф. | Q11: =I11 -> 7200
B12: показания счетчика | C12: разность | E12: расход эл.энергии за час | F12: показания счетчика | G12: разность | I12: расход эл.энергии за час | J12: показания счетчика | K12: разность | M12: расход эл.энергии за час | N12: показания счетчика | O12: разность | Q12: расход эл.энергии за час
A13: 1 | B13: 2 | C13: 3 | E13: 4 | F13: 5 | G13: 6 | I13: 7 | J13: 8 | K13: 9 | M13: 10 | N13: 11 | O13: 12 | Q13: 13
A14: 0
A15: 1 | E15: 228.02093 | I15: 772.78531 | M15: 69.430958 | Q15: 192.55547
A16: 2 | E16: 216.31919 | I16: 695.96198 | M16: 72.378906 | Q16: 194.3187
A17: 3 | E17: 201.52402 | I17: 586.55182 | M17: 68.194271 | Q17: 195.8325
A18: 4 | E18: 196.79207 | I18: 571.74628 | M18: 70.151489 | Q18: 202.62907
A19: 5 | E19: 212.44286 | I19: 582.43649 | M19: 70.768101 | Q19: 205.78833
A20: 6 | E20: 248.12311 | I20: 651.27161 | M20: 72.223022 | Q20: 208.26516
A21: 7 | E21: 282.88881 | I21: 773.00357 | M21: 79.795547 | Q21: 205.62552
A22: 8 | E22: 368.56294 | I22: 949.21887 | M22: 126.08978 | Q22: 247.78709
A23: 9 | E23: 463.3407 | I23: 1121.7795 | M23: 196.09232 | Q23: 300.46219
A24: 10 | E24: 526.75107 | I24: 1274.9517 | M24: 218.19328 | Q24: 335.50157
A25: 11 | E25: 485.55598 | I25: 1291.9431 | M25: 194.20092 | Q25: 329.27312
A26: 12 | E26: 505.96646 | I26: 1314.3697 | M26: 238.8878 | Q26: 336.04543
... A38: 24 | E38: 261.56033 | I38: 872.42667 | M38: 78.510365 | Q38: 198.18809
A39: Итого | E39: =SUM(E15:E38) -> 8344.217 | I39: =SUM(I15:I38) -> 23675.077 | M39: =SUM(M15:M38) -> 3124.653 | Q39: =SUM(Q15:Q38) -> 6042.9668
A40: 1. При наличии на предприятии отклонений от нормальных режимов электропотребления (временное изменение схем питания, остановка на ремонт, резкое снижение
A41: эл.потребления и т.д.) последние необходимо перечислить.
A42: 2. При наличии нескольких источников питания и большого количества вводов таблица
A43: составляется самим предприятием с соблюдением всех пунктов настоящей таблицы. | K43: Главный инженер ___________________ А.А. Михалин

Sheet 6
B1: АО "Вологдаоблэнерго" | J1: код 900151 | N1: ПС "ЗАПАДНАЯ"
B2: наименование предприятия | N2: наименование источника питания
N3: _________________________________
B4: ул. Горького, 99 | I4: Таблица № 1 | N4: РП 10 ф7 | Q4: РП 36 ф17
B5: адрес
A6: почасовых записей показаний электрических счетчиков
A7: в режимный день 16 ИЮНЯ 2021 г.
A8: 370 | B8: 365
A9: часы суток | B9: Активная энергия | J9: Реактивная энергия
B10: яч. 16 - ф."ОЧИСТНЫЕ-1" | F10: яч. 24 - "ГОРОД-1" | J10: яч. 16 - ф."ОЧИСТНЫЕ-1" | N10: яч. 24 - "ГОРОД-1"
B11: Расчет. Коэф. | E11: 4800 | F11: Расчет. Коэф. | I11: 7200 | J11: Расчет. Коэф. | M11: =E11 -> 4800 | N11: Расчет. Коэф. | Q11: =I11 -> 7200
B12: показания счетчика | C12: разность | E12: расход эл.энергии за час | F12: показания счетчика | G12: разность | I12: расход эл.энергии за час | J12: показания счетчика | K12: разность | M12: расход эл.энергии за час | N12: показания счетчика | O12: разность | Q12: расход эл.энергии за час
A13: 1 | B13: 2 | C13: 3 | E13: 4 | F13: 5 | G13: 6 | I13: 7 | J13: 8 | K13: 9 | M13: 10 | N13: 11 | O13: 12 | Q13: 13
A14: 0
A15: 1 | E15: 205.60473 | I15: 1686.3502 | M15: 34.883488 | Q15: 1009.2254
A16: 2 | E16: 186.61454 | I16: 1744.0109 | M16: 32.153778 | Q16: 1050.2833
A17: 3 | E17: 181.62624 | I17: 1619.2451 | M17: 29.961001 | Q17: 968.55405
A18: 4 | E18: 179.50275 | I18: 1635.6026 | M18: 27.823652 | Q18: 952.53745
A19: 5 | E19: 181.00616 | I19: 1690.0665 | M19: 28.170063 | Q19: 1036.6527
A20: 6 | E20: 223.22315 | I20: 1628.3155 | M20: 35.867291 | Q20: 962.31451
A21: 7 | E21: 225.65495 | I21: 1603.4322 | M21: 36.231024 | Q21: 951.31531
A22: 8 | E22: 224.50833 | I22: 1646.0489 | M22: 36.033569 | Q22: 958.59409
A23: 9 | E23: 231.47118 | I23: 1777.6653 | M23: 37.121296 | Q23: 1002.142
A24: 10 | E24: 495.543 | I24: 2073.0062 | M24: 84.447834 | Q24: 1136.2858
A25: 11 | E25: 504.32794 | I25: 2006.9403 | M25: 85.577129 | Q25: 1095.5771
A26: 12 | E26: 463.65941 | I26: 1962.6234 | M26: 76.646679 | Q26: 1066.1419
... A38: 24 | E38: 329.56062 | I38: 1524.2054 | M38: 54.109243 | Q38: 860.65707
A39: Итого | E39: =SUM(E15:E38) -> 9474.3035 | I39: =SUM(I15:I38) -> 42445.701 | M39: =SUM(M15:M38) -> 1606.3829 | Q39: =SUM(Q15:Q38) -> 24359.552
A40: 1. При наличии на предприятии отклонений от нормальных режимов электропотребления (временное изменение схем питания, остановка на ремонт, резкое снижение
A41: эл.потребления и т.д.) последние необходимо перечислить.
A42: 2. При наличии нескольких источников питания и большого количества вводов таблица
A43: составляется самим предприятием с соблюдением всех пунктов настоящей таблицы. | K43: Главный инженер ___________________ А.А. Михалин

Sheet 7
B1: АО "Вологдаоблэнерго" | J1: код 900151 | N1: ПС "ЗАПАДНАЯ"
B2: наименование предприятия | N2: наименование источника питания
N3: _________________________________
B4: ул. Горького, 99 | I4: Таблица № 1 | O4: РП 7
B5: адрес
A6: почасовых записей показаний электрических счетчиков
A7: в режимный день 16 ИЮНЯ 2021 г.
A8: 371 | B8: 367
A9: часы суток | B9: Активная энергия | J9: Реактивная энергия
B10: яч. 3 "П/Я-1" | F10: яч. 10 "П/Я-2" | J10: яч. 3 "П/Я-1" | N10: яч. 10 "П/Я-2"
B11: Расчет. Коэф. | E11: 12000 | F11: Расчет. Коэф. | I11: 7200 | J11: Расчет. Коэф. | M11: =E11 -> 12000 | N11: Расчет. Коэф. | Q11: =I11 -> 7200
B12: показания счетчика | C12: разность | E12: расход эл.энергии за час | F12: показания счетчика | G12: разность | I12: расход эл.энергии за час | J12: показания счетчика | K12: разность | M12: расход эл.энергии за час | N12: показания счетчика | O12: разность | Q12: расход эл.энергии за час
A13: 1 | B13: 2 | C13: 3 | E13: 4 | F13: 5 | G13: 6 | I13: 7 | J13: 8 | K13: 9 | M13: 10 | N13: 11 | O13: 12 | Q13: 13
A14: 0
A15: 1 | E15: 766.32132 | I15: 1639.6417 | M15: 278.3266 | Q15: 678.53406
A16: 2 | E16: 699.56119 | I16: 1492.4209 | M16: 260.01536 | Q16: 654.29926
A17: 3 | E17: 674.32175 | I17: 1380.818 | M17: 254.24418 | Q17: 663.82202
A18: 4 | E18: 676.03302 | I18: 1345.1239 | M18: 263.00836 | Q18: 669.22602
A19: 5 | E19: 663.63843 | I19: 1346.2983 | M19: 269.09128 | Q19: 672.62432
A20: 6 | E20: 722.43115 | I20: 1443.0609 | M20: 250.58606 | Q20: 666.32312
A21: 7 | E21: 750.93378 | I21: 1608.4164 | M21: 247.18432 | Q21: 659.49884
A22: 8 | E22: 828.93835 | I22: 1757.6255 | M22: 297.5177 | Q22: 702.1142
A23: 9 | E23: 1109.3572 | I23: 1956.2743 | M23: 359.61514 | Q23: 762.02582
A24: 10 | E24: 1111.886 | I24: 2041.8965 | M24: 364.38178 | Q24: 756.02942
A25: 11 | E25: 1103.6138 | I25: 2032.5677 | M25: 411.60438 | Q25: 752.98456
A26: 12 | E26: 1092.307 | I26: 2016.9585 | M26: 426.8118 | Q26: 787.11976
... A38: 24 | E38: 896.01031 | I38: 1730.8411 | M38: 327.66922 | Q38: 680.0617
A39: Итого | E39: =SUM(E15:E38) -> 22486.631 | I39: =SUM(I15:I38) -> 43199.04 | M39: =SUM(M15:M38) -> 8206.2177 | Q39: =SUM(Q15:Q38) -> 17339.951
A40: 1. При наличии на предприятии отклонений от нормальных режимов электропотребления (временное изменение схем питания, остановка на ремонт, резкое снижение
A41: эл.потребления и т.д.) последние необходимо перечислить.
A42: 2. При наличии нескольких источников питания и большого количества вводов таблица
A43: составляется самим предприятием с соблюдением всех пунктов настоящей таблицы. | K43: Главный инженер ___________________ А.А. Михалин

Sheet 8
B1: АО "Вологдаоблэнерго" | J1: код 900151 | N1: ПС "ЗАПАДНАЯ"
B2: наименование предприятия | I2: _ | N2: наименование источника питания
N3: _________________________________
B4: ул. Горького, 99 | I4: Таблица № 1 | O4: РП 35; РП 37
B5: адрес
A6: почасовых записей показаний электрических счетчиков
A7: в режимный день 16 ИЮНЯ 2021 г.
A8: 129 | B8: 130
A9: часы суток | B9: Активная энергия | J9: Реактивная энергия
B10: яч. 15 "РП -35" | F10: яч. 35 "РП-37" | J10: яч. 15 "РП -35" | N10: яч. 35 "РП-37"
B11: Расчет. Коэф. | E11: 3600 | F11: Расчет. Коэф. | I11: 4800 | J11: Расчет. Коэф. | M11: =E11 -> 3600 | N11: Расчет. Коэф. | Q11: =I11 -> 4800
B12: показания счетчика | C12: разность | E12: расход эл.энергии за час | F12: показания счетчика | G12: разность | I12: расход эл.энергии за час | J12: показания счетчика | K12: разность | M12: расход эл.энергии за час | N12: показания счетчика | O12: разность | Q12: расход эл.энергии за час
A13: 1 | B13: 2 | C13: 3 | E13: 4 | F13: 5 | G13: 6 | I13: 7 | J13: 8 | K13: 9 | M13: 10 | N13: 11 | O13: 12 | Q13: 13
A14: 0
A15: 1 | E15: 226.93667 | I15: 399.93382 | M15: 118.35791 | Q15: 195.07733
A16: 2 | E16: 227.27267 | I16: 347.25525 | M16: 119.61884 | Q16: 161.21576
A17: 3 | E17: 227.25189 | I17: 374.3168 | M17: 118.52765 | Q17: 190.88578
A18: 4 | E18: 227.26575 | I18: 303.54871 | M18: 120.1246 | Q18: 148.36048
A19: 5 | E19: 227.04405 | I19: 296.4473 | M19: 122.27927 | Q19: 146.0707
A20: 6 | E20: 226.55908 | I20: 387.85451 | M20: 120.00682 | Q20: 145.80397
A21: 7 | E21: 227.16875 | I21: 418.29703 | M21: 118.87752 | Q21: 142.53387
A22: 8 | E22: 227.49092 | I22: 448.29266 | M22: 123.23883 | Q22: 156.2898
A23: 9 | E23: 226.96784 | I23: 520.88982 | M23: 115.69056 | Q23: 180.04314
A24: 10 | E24: 226.09489 | I24: 502.92499 | M24: 115.61781 | Q24: 191.74487
A25: 11 | E25: 226.26117 | I25: 499.20108 | M25: 117.07619 | Q25: 204.31263
A26: 12 | E26: 227.26922 | I26: 486.67143 | M26: 120.75507 | Q26: 214.5629
... A38: 24 | E38: 212.74078 | I38: 403.92099 | M38: 113.35921 | Q38: 178.6956
A39: Итого | E39: =SUM(E15:E38) -> 5355.7171 | I39: =SUM(I15:I38) -> 10510.27 | M39: =SUM(M15:M38) -> 2830.679 | Q39: =SUM(Q15:Q38) -> 4422.5369
A40: 1. При наличии на предприятии отклонений от нормальных режимов электропотребления (временное изменение схем питания, остановка на ремонт, резкое снижение
A41: эл.потребления и т.д.) последние необходимо перечислить.
A42: 2. При наличии нескольких источников питания и большого количества вводов таблица
A43: составляется самим предприятием с соблюдением всех пунктов настоящей таблицы. | K43: Главный инженер ___________________ А.А. Михалин

Sheet 9
B1: АО "Вологдаоблэнерго" | J1: код 900151 | N1: ПС "ЗАПАДНАЯ"
B2: наименование предприятия | N2: наименование источника питания
N3: _________________________________
B4: ул. Горького, 99 | I4: Таблица № 1 | O4: РП 28
B5: адрес
A6: почасовых записей показаний электрических счетчиков
A7: в режимный день 16 ИЮНЯ 2021 г.
A8: 366 | B8: 369
A9: часы суток | B9: Активная энергия | J9: Реактивная энергия
B10: яч. 17 "ГОРОД-2" | F10: яч. 22 - "ОЧИСТНЫЕ-2" | J10: ЯЧ. №17 - "ГОРОД-2" | N10: ЯЧ. №22 - "ОЧИСТНЫЕ-2"
B11: Расчет. Коэф. | E11: 7200 | F11: Расчет. Коэф. | I11: 7200 | J11: Расчет. Коэф. | M11: =E11 -> 7200 | N11: Расчет. Коэф. | Q11: =I11 -> 7200
B12: показания счетчика | C12: разность | E12: расход эл.энергии за час | F12: показания счетчика | G12: разность | I12: расход эл.энергии за час | J12: показания счетчика | K12: разность | M12: расход эл.энергии за час | N12: показания счетчика | O12: разность | Q12: расход эл.энергии за час
A13: 1 | B13: 2 | C13: 3 | E13: 4 | F13: 5 | G13: 6 | I13: 7 | J13: 8 | K13: 9 | M13: 10 | N13: 11 | O13: 12 | Q13: 13
A14: 0
A15: 1 | E15: 348.0832 | I15: 474.76184 | M15: 138.3146 | Q15: 238.28852
A16: 2 | E16: 316.0368 | I16: 481.29514 | M16: 137.98204 | Q16: 240.21803
A17: 3 | E17: 264.98284 | I17: 539.76225 | M17: 123.87622 | Q17: 285.9095
A18: 4 | E18: 242.90964 | I18: 453.84561 | M18: 124.88082 | Q18: 235.89483
A19: 5 | E19: 246.79288 | I19: 446.3493 | M19: 130.70742 | Q19: 233.3314
A20: 6 | E20: 277.7966 | I20: 468.96294 | M20: 134.09878 | Q20: 224.51526
A21: 7 | E21: 361.12204 | I21: 671.51929 | M21: 145.5615 | Q21: 233.10276
A22: 8 | E22: 445.78464 | I22: 779.5195 | M22: 187.06142 | Q22: 241.12562
A23: 9 | E23: 606.4981 | I23: 877.14136 | M23: 283.85876 | Q23: 307.03705
A24: 10 | E24: 745.56098 | I24: 692.62601 | M24: 362.49384 | Q24: 325.22012
A25: 11 | E25: 773.01734 | I25: 644.4404 | M25: 388.73786 | Q25: 292.05136
A26: 12 | E26: 768.1781 | I26: 687.759 | M26: 440.89682 | Q26: 341.76813
... A38: 24 | E38: 412.53626 | I38: 458.78888 | M38: 154.9873 | Q38: 242.56668
A39: Итого | E39: =SUM(E15:E38) -> 12440.221 | I39: =SUM(I15:I38) -> 13621.857 | M39: =SUM(M15:M38) -> 5924.2972 | Q39: =SUM(Q15:Q38) -> 6457.578
A40: 1. При наличии на предприятии отклонений от нормальных режимов электропотребления (временное изменение схем питания, остановка на ремонт, резкое снижение
A41: эл.потребления и т.д.) последние необходимо перечислить.
A42: 2. При наличии нескольких источников питания и большого количества вводов таблица
A43: составляется самим предприятием с соблюдением всех пунктов настоящей таблицы. | K43: Главный инженер ___________________ А.А. Михалин

Sheet 10
B1: АО "Вологдаоблэнерго" | J1: код 900151 | N1: ПС "СЕВЕРНАЯ 35/6 кВ
B2: наименование предприятия | N2: наименование источника питания
N3: _________________________________
B4: ул. Горького, 99 | I4: Таблица № 1 | N4: Т1, Т2 | O4: РП 5
B5: адрес
A6: почасовых записей показаний электрических счетчиков
A7: в режимный день 16 ИЮНЯ 2021 г.
A8: 325 | B8: 328
A9: часы суток | B9: Активная энергия | J9: Реактивная энергия
B10: Т 1 -РП 5 Ф 3 ввод № 1 | F10: Т 2 - РП 5 Ф 17 ввод № 2 | J10: Т 1 -РП 5 Ф 3 ввод № 1 | N10: Т 2 - РП 5 Ф 17 ввод № 2
B11: Расчет. Коэф. | E11: 18000 | F11: Расчет. Коэф. | I11: 18000 | J11: Расчет. Коэф. | M11: =E11 -> 18000 | N11: Расчет. Коэф. | Q11: =I11 -> 18000
B12: показания счетчика | C12: разность | E12: расход эл.энергии за час | F12: показания счетчика | G12: разность | I12: расход эл.энергии за час | J12: показания счетчика | K12: разность | M12: расход эл.энергии за час | N12: показания счетчика | O12: разность | Q12: расход эл.энергии за час
A13: 1 | B13: 2 | C13: 3 | E13: 4 | F13: 5 | G13: 6 | I13: 7 | J13: 8 | K13: 9 | M13: 10 | N13: 11 | O13: 12 | Q13: 13
A14: 0
A15: 1 | E15: 873 | I15: 1378.8 | M15: 374.4 | Q15: 419.4
A16: 2 | E16: 757.8 | I16: 1236.6 | M16: 367.2 | Q16: 415.8
A17: 3 | E17: 612 | I17: 1105.2 | M17: 228.6 | Q17: 388.8
A18: 4 | E18: 642.6 | I18: 1036.8 | M18: 306 | Q18: 388.8
A19: 5 | E19: 626.4 | I19: 1049.4 | M19: 329.4 | Q19: 379.8
A20: 6 | E20: 631.8 | I20: 1206 | M20: 252 | Q20: 378
A21: 7 | E21: 723.6 | I21: 1458 | M21: 270 | Q21: 378
A22: 8 | E22: 862.2 | I22: 1686.6 | M22: 327.6 | Q22: 424.8
A23: 9 | E23: 986.4 | I23: 2008.8 | M23: 419.4 | Q23: 606.6
A24: 10 | E24: 1148.4 | I24: 2165.4 | M24: 577.8 | Q24: 693
A25: 11 | E25: 1153.8 | I25: 2248.2 | M25: 507.6 | Q25: 671.4
A26: 12 | E26: 1045.8 | I26: 2239.2 | M26: 392.4 | Q26: 709.2
... A38: 24 | E38: 752.4 | I38: 1477.8 | M38: 198 | Q38: 408.6
A39: Итого | E39: =SUM(E15:E38) -> 22012.2 | I39: =SUM(I15:I38) -> 42276.6 | M39: =SUM(M15:M38) -> 8919 | Q39: =SUM(Q15:Q38) -> 12767.4
A40: 1. При наличии на предприятии отклонений от нормальных режимов электропотребления (временное изменение схем питания, остановка на ремонт, резкое снижение
A41: эл.потребления и т.д.) последние необходимо перечислить.
A42: 2. При наличии нескольких источников питания и большого количества вводов таблица
A43: составляется самим предприятием с соблюдением всех пунктов настоящей таблицы. | K43: Главный инженер ___________________ А.А. Михалин

Sheet 11
B1: АО "Вологдаоблэнерго" | G1: код 900151 | I1: ПС "ВОЛОГДА-ЮЖНАЯ" 110/6 транзит через РТП "ТЕПЛИЧНОГО ХОЗ - ВА"
B2: наименование предприятия | N2: наименование источника питания
N3: _________________________________
B4: ул. Горького, 99 | I4: Таблица № 1 | O4: ТП 438
B5: адрес
A6: почасовых записей показаний электрических счетчиков
A7: в режимный день 16 ИЮНЯ 2021 г.
A8: 635 | B8: 634
A9: часы суток | B9: Активная энергия | J9: Реактивная энергия
B10: ЯЧ. 3 - ф. "Микрорайон-1" ввод № 1 | F10: яч. 13 - ф. "Микрорайон-2" ввод № 2 | J10: ЯЧ. 3 - ф. "Микрорайон-1" ввод № 1 | N10: яч. 13 - ф. "Микрорайон-2" ввод № 2
B11: Расчет. Коэф. | E11: 3600 | F11: Расчет. Коэф. | I11: 3600 | J11: Расчет. Коэф. | M11: =E11 -> 3600 | N11: Расчет. Коэф. | Q11: =I11 -> 3600
B12: показания счетчика | C12: разность | E12: расход эл.энергии за час | F12: показания счетчика | G12: разность | I12: расход эл.энергии за час | J12: показания счетчика | K12: разность | M12: расход эл.энергии за час | N12: показания счетчика | O12: разность | Q12: расход эл.энергии за час
A13: 1 | B13: 2 | C13: 3 | E13: 4 | F13: 5 | G13: 6 | I13: 7 | J13: 8 | K13: 9 | M13: 10 | N13: 11 | O13: 12 | Q13: 13
A14: 0
A15: 1 | E15: 0 | I15: 237.96 | M15: 0 | Q15: 99.72
A16: 2 | E16: 0 | I16: 209.52 | M16: 0 | Q16: 92.16
A17: 3 | E17: 0 | I17: 185.04 | M17: 0 | Q17: 89.64
A18: 4 | E18: 0 | I18: 180 | M18: 0 | Q18: 91.08
A19: 5 | E19: 0 | I19: 176.04 | M19: 0 | Q19: 89.28
A20: 6 | E20: 0 | I20: 229.68 | M20: 0 | Q20: 88.92
A21: 7 | E21: 0 | I21: 279.72 | M21: 0 | Q21: 90
A22: 8 | E22: 0 | I22: 312.48 | M22: 0 | Q22: 99.72
A23: 9 | E23: 0 | I23: 368.28 | M23: 0 | Q23: 107.28
A24: 10 | E24: 0 | I24: 372.6 | M24: 0 | Q24: 107.64
A25: 11 | E25: 0 | I25: 382.32 | M25: 0 | Q25: 108
A26: 12 | E26: 0 | I26: 379.08 | M26: 0 | Q26: 105.48
... A38: 24 | E38: 0 | I38: 275.4 | M38: 0 | Q38: 96.12
A39: Итого | E39: =SUM(E15:E38) -> 0 | I39: =SUM(I15:I38) -> 7151.04 | M39: =SUM(M15:M38) -> 0 | Q39: =SUM(Q15:Q38) -> 2471.4
A40: 1. При наличии на предприятии отклонений от нормальных режимов электропотребления (временное изменение схем питания, остановка на ремонт, резкое снижение
A41: эл.потребления и т.д.) последние необходимо перечислить.
A42: 2. При наличии нескольких источников питания и большого количества вводов таблица
A43: составляется самим предприятием с соблюдением всех пунктов настоящей таблицы. | K43: Главный инженер _____________________________ | Q43: А.А. Михалин

Sheet 12
B1: АО "Вологдаоблэнерго" | J1: код 900151 | N1: ГПП 110/10 кВ "ВОМЗ"
B2: наименование предприятия | N2: наименование источника питания
N3: _________________________________
B4: ул. Горького, 99 | I4: Таблица № 1 | O4: РП 29
B5: адрес
A6: почасовых записей показаний электрических счетчиков
A7: в режимный день 16 ИЮНЯ 2021 г.
A8: 613 | B8: 610
A9: часы суток | B9: Активная энергия | J9: Реактивная энергия
B10: ЯЧ.47 - РП 29 ввод № 1 | F10: ЯЧ.31 - РП 29 ввод № 2 | J10: ЯЧ.47 - РП 29 ввод № 1 | N10: ЯЧ.31 - РП 29 ввод № 2
B11: Расчет. Коэф. | E11: 12000 | F11: Расчет. Коэф. | I11: 20000 | J11: Расчет. Коэф. | M11: =E11 -> 12000 | N11: Расчет. Коэф. | Q11: =I11 -> 20000
B12: показания счетчика | C12: разность | E12: расход эл.энергии за час | F12: показания счетчика | G12: разность | I12: расход эл.энергии за час | J12: показания счетчика | K12: разность | M12: расход эл.энергии за час | N12: показания счетчика | O12: разность | Q12: расход эл.энергии за час
A13: 1 | B13: 2 | C13: 3 | E13: 4 | F13: 5 | G13: 6 | I13: 7 | J13: 8 | K13: 9 | M13: 10 | N13: 11 | O13: 12 | Q13: 13
A14: 0
A15: 1 | E15: 944 | I15: 590 | M15: 342 | Q15: 136
A16: 2 | E16: 834 | I16: 538 | M16: 308 | Q16: 118
A17: 3 | E17: 766 | I17: 482 | M17: 285 | Q17: 106
A18: 4 | E18: 740 | I18: 470 | M18: 289 | Q18: 108
A19: 5 | E19: 749 | I19: 474 | M19: 295 | Q19: 106
A20: 6 | E20: 838 | I20: 510 | M20: 288 | Q20: 104
A21: 7 | E21: 1032 | I21: 670 | M21: 299 | Q21: 114
A22: 8 | E22: 1284 | I22: 934 | M22: 361 | Q22: 164
A23: 9 | E23: 1453 | I23: 1240 | M23: 385 | Q23: 208
A24: 10 | E24: 1612 | I24: 1432 | M24: 384 | Q24: 224
A25: 11 | E25: 1666 | I25: 1520 | M25: 384 | Q25: 240
A26: 12 | E26: 1664 | I26: 1550 | M26: 391 | Q26: 254
... A38: 24 | E38: 1092 | I38: 712 | M38: 334 | Q38: 156
A39: Итого | E39: =SUM(E15:E38) -> 31681 | I39: =SUM(I15:I38) -> 24364 | M39: =SUM(M15:M38) -> 8573 | Q39: =SUM(Q15:Q38) -> 4502
A40: 1. При наличии на предприятии отклонений от нормальных режимов электропотребления (временное изменение схем питания, остановка на ремонт, резкое снижение
A41: эл.потребления и т.д.) последние необходимо перечислить.
A42: 2. При наличии нескольких источников питания и большого количества вводов таблица
A43: составляется самим предприятием с соблюдением всех пунктов настоящей таблицы. | K43: Главный инженер ___________________ А.А. Михалин

Sheet 13
B1: АО "Вологдаоблэнерго" | J1: код 900151 | N1: ГПП 110/10 кВ "ВОМЗ"
B2: наименование предприятия | N2: наименование источника питания
N3: _________________________________
B4: ул. Горького, 99 | I4: Таблица № 1 | O4: РП 14
B5: адрес
A6: почасовых записей показаний электрических счетчиков
A7: в режимный день 16 ИЮНЯ 2021 г.
A8: 614 | B8: 615
A9: часы суток | B9: Активная энергия | J9: Реактивная энергия
B10: ЯЧ.5 - РП 14 ввод № 1 | F10: ЯЧ.22 - РП 14 ввод № 2 | J10: ЯЧ.5 - РП 14 ввод № 1 | N10: ЯЧ.22 - РП 14 ввод № 2
B11: Расчет. Коэф. | E11: 12000 | F11: Расчет. Коэф. | I11: 12000 | J11: Расчет. Коэф. | M11: =E11 -> 12000 | N11: Расчет. Коэф. | Q11: =I11 -> 12000
B12: показания счетчика | C12: разность | E12: расход эл.энергии за час | F12: показания счетчика | G12: разность | I12: расход эл.энергии за час | J12: показания счетчика | K12: разность | M12: расход эл.энергии за час | N12: показания счетчика | O12: разность | Q12: расход эл.энергии за час
A13: 1 | B13: 2 | C13: 3 | E13: 4 | F13: 5 | G13: 6 | I13: 7 | J13: 8 | K13: 9 | M13: 10 | N13: 11 | O13: 12 | Q13: 13
A14: 0
A15: 1 | E15: 1869 | I15: 1450 | M15: 227 | Q15: 204
A16: 2 | E16: 1690 | I16: 1321 | M16: 212 | Q16: 175
A17: 3 | E17: 1478 | I17: 1237 | M17: 180 | Q17: 170
A18: 4 | E18: 1388 | I18: 1202 | M18: 175 | Q18: 169
A19: 5 | E19: 1374 | I19: 1116 | M19: 191 | Q19: 161
A20: 6 | E20: 1441 | I20: 1218 | M20: 176 | Q20: 158
A21: 7 | E21: 1698 | I21: 1569 | M21: 171 | Q21: 176
A22: 8 | E22: 1993 | I22: 1988 | M22: 254 | Q22: 270
A23: 9 | E23: 2414 | I23: 2404 | M23: 367 | Q23: 423
A24: 10 | E24: 2696 | I24: 2625 | M24: 371 | Q24: 451
A25: 11 | E25: 2840 | I25: 2684 | M25: 372 | Q25: 457
A26: 12 | E26: 2832 | I26: 2655 | M26: 370 | Q26: 492
... A38: 24 | E38: 2142 | I38: 1686 | M38: 225 | Q38: 217
A39: Итого | E39: =SUM(E15:E38) -> 56561 | I39: =SUM(I15:I38) -> 49996 | M39: =SUM(M15:M38) -> 7292 | Q39: =SUM(Q15:Q38) -> 8117
A40: 1. При наличии на предприятии отклонений от нормальных режимов электропотребления (временное изменение схем питания, остановка на ремонт, резкое снижение
A41: эл.потребления и т.д.) последние необходимо перечислить.
A42: 2. При наличии нескольких источников питания и большого количества вводов таблица
A43: составляется самим предприятием с соблюдением всех пунктов настоящей таблицы. | K43: Главный инженер ___________________ А.А. Михалин

Sheet 14
B1: АО "Вологдаоблэнерго" | J1: код 900151 | N1: ГПП 110/10 кВ "ВОМЗ"
B2: наименование предприятия | N2: наименование источника питания
N3: _________________________________
B4: ул. Горького, 99 | I4: Таблица № 1 | O4: РП 2
B5: адрес
A6: почасовых записей показаний электрических счетчиков
A7: в режимный день 16 ИЮНЯ 2021 г.
A8: 612 | B8: 611
A9: часы суток | B9: Активная энергия | J9: Реактивная энергия
B10: ЯЧ.44 - РП 2 ввод № 1 | F10: ЯЧ.26в - РП 2 ввод № 2 | J10: ЯЧ.44 - РП 2 ввод № 1 | N10: ЯЧ.26в - РП 2 ввод № 2
B11: Расчет. Коэф. | E11: 12000 | F11: Расчет. Коэф. | I11: 12000 | J11: Расчет. Коэф. | M11: =E11 -> 12000 | N11: Расчет. Коэф. | Q11: =I11 -> 12000
B12: показания счетчика | C12: разность | E12: расход эл.энергии за час | F12: показания счетчика | G12: разность | I12: расход эл.энергии за час | J12: показания счетчика | K12: разность | M12: расход эл.энергии за час | N12: показания счетчика | O12: разность | Q12: расход эл.энергии за час
A13: 1 | B13: 2 | C13: 3 | E13: 4 | F13: 5 | G13: 6 | I13: 7 | J13: 8 | K13: 9 | M13: 10 | N13: 11 | O13: 12 | Q13: 13
A14: 0
A15: 1 | E15: 432 | I15: 438 | M15: 27 | Q15: 35
A16: 2 | E16: 385 | I16: 395 | M16: 12 | Q16: 16
A17: 3 | E17: 349 | I17: 346 | M17: 3 | Q17: 8
A18: 4 | E18: 335 | I18: 361 | M18: 6 | Q18: 7
A19: 5 | E19: 336 | I19: 371 | M19: 12 | Q19: 8
A20: 6 | E20: 365 | I20: 373 | M20: 8 | Q20: 3
A21: 7 | E21: 444 | I21: 444 | M21: 3 | Q21: 15
A22: 8 | E22: 511 | I22: 553 | M22: 30 | Q22: 39
A23: 9 | E23: 631 | I23: 672 | M23: 75 | Q23: 65
A24: 10 | E24: 696 | I24: 763 | M24: 75 | Q24: 86
A25: 11 | E25: 720 | I25: 807 | M25: 75 | Q25: 88
A26: 12 | E26: 700 | I26: 806 | M26: 80 | Q26: 89
... A38: 24 | E38: 497 | I38: 509 | M38: 8 | Q38: 72
A39: Итого | E39: =SUM(E15:E38) -> 13644 | I39: =SUM(I15:I38) -> 14622 | M39: =SUM(M15:M38) -> 1084 | Q39: =SUM(Q15:Q38) -> 1628
A40: 1. При наличии на предприятии отклонений от нормальных режимов электропотребления (временное изменение схем питания, остановка на ремонт, резкое снижение
A41: эл.потребления и т.д.) последние необходимо перечислить.
A42: 2. При наличии нескольких источников питания и большого количества вводов таблица
A43: составляется самим предприятием с соблюдением всех пунктов настоящей таблицы. | K43: Главный инженер ___________________ А.А. Михалин

Sheet 15
B1: АО "Вологдаоблэнерго" | J1: код 900151 | N1: ПС ВОЛОГДА-ЮЖНАЯ РУ - 6 кВ
B2: наименование предприятия | N2: наименование источника питания
N3: _________________________________
B4: ул. Горького, 99 | I4: Таблица № 1 | N4: ТП 450 | Q4: ТП 630
B5: адрес
A6: почасовых записей показаний электрических счетчиков
A7: в режимный день 18 ДЕКАБРЯ 2019 г..
A8: 591 | B8: 595
A9: часы суток | B9: Активная энергия | J9: Реактивная энергия
B10: ЯЧ.№ 206 - "ГОРОД-15" | F10: ЯЧ.№103 - "ТУБДИСПАНСЕР" | J10: =B10 -> ЯЧ.№ 206 - "ГОРОД-15" | N10: =F10 -> ЯЧ.№103 - "ТУБДИСПАНСЕР"
B11: Расчет. Коэф. | E11: 4800 | F11: Расчет. Коэф. | I11: 2400 | J11: Расчет. Коэф. | M11: =E11 -> 4800 | N11: Расчет. Коэф. | Q11: =I11 -> 2400
B12: показания счетчика | C12: разность | E12: расход эл.энергии за час | F12: показания счетчика | G12: разность | I12: расход эл.энергии за час | J12: показания счетчика | K12: разность | M12: расход эл.энергии за час | N12: показания счетчика | O12: разность | Q12: расход эл.энергии за час
A13: 1 | B13: 2 | C13: 3 | E13: 4 | F13: 5 | G13: 6 | I13: 7 | J13: 8 | K13: 9 | M13: 10 | N13: 11 | O13: 12 | Q13: 13
A14: 0
A15: 1
A16: 2
A17: 3
A18: 4
A19: 5
A20: 6
A21: 7
A22: 8
A23: 9
A24: 10
A25: 11
... A38: 24
A39: Итого | E39: =SUM(E15:E38) -> 0 | I39: =SUM(I15:I38) -> 0 | M39: =SUM(M15:M38) -> 0 | Q39: =SUM(Q15:Q38) -> 0
A40: 1. При наличии на предприятии отклонений от нормальных режимов электропотребления (временное изменение схем питания, остановка на ремонт, резкое снижение
A41: эл.потребления и т.д.) последние необходимо перечислить.
A42: 2. При наличии нескольких источников питания и большого количества вводов таблица
A43: составляется самим предприятием с соблюдением всех пунктов настоящей таблицы. | K43: Главный инженер ___________________ А.А. Михалин

Sheet 16
B1: АО "Вологдаоблэнерго" | J1: код 900151 | N1: ПС ВОЛОГДА-ЮЖНАЯ РУ-10 кВ
B2: наименование предприятия | I2: _ | N2: наименование источника питания
N3: _________________________________
B4: ул. Горького, 99 | I4: Таблица № 1 | O4: РП 32
B5: адрес
A6: почасовых записей показаний электрических счетчиков
A7: в режимный день 16 ИЮНЯ 2021 г.
A8: 590 | B8: 593
A9: часы суток | B9: Активная энергия | J9: Реактивная энергия
B10: ЯЧ.№206 - "ГОРОД-10" | F10: ЯЧ.№404- "ГОРОД-14" | J10: =B10 -> ЯЧ.№206 - "ГОРОД-10" | N10: =F10 -> ЯЧ.№404- "ГОРОД-14"
B11: Расчет. Коэф. | E11: 6000 | F11: Расчет. Коэф. | I11: 3000 | J11: Расчет. Коэф. | M11: =E11 -> 6000 | N11: Расчет. Коэф. | Q11: =I11 -> 3000
B12: показания счетчика | C12: разность | E12: расход эл.энергии за час | F12: показания счетчика | G12: разность | I12: расход эл.энергии за час | J12: показания счетчика | K12: разность | M12: расход эл.энергии за час | N12: показания счетчика | O12: разность | Q12: расход эл.энергии за час
A13: 1 | B13: 2 | C13: 3 | E13: 4 | F13: 5 | G13: 6 | I13: 7 | J13: 8 | K13: 9 | M13: 10 | N13: 11 | O13: 12 | Q13: 13
A14: 0
A15: 1
A16: 2
A17: 3
A18: 4
A19: 5
A20: 6
A21: 7
A22: 8
A23: 9
A24: 10
A25: 11
... A38: 24
A39: Итого | E39: =SUM(E15:E38) -> 0 | I39: =SUM(I15:I38) -> 0 | M39: =SUM(M15:M38) -> 0 | Q39: =SUM(Q15:Q38) -> 0
A40: 1. При наличии на предприятии отклонений от нормальных режимов электропотребления (временное изменение схем питания, остановка на ремонт, резкое снижение
A41: эл.потребления и т.д.) последние необходимо перечислить.
A42: 2. При наличии нескольких источников питания и большого количества вводов таблица
A43: составляется самим предприятием с соблюдением всех пунктов настоящей таблицы. | K43: Главный инженер ___________________ А.А. Михалин

Sheet 17
B1: АО "Вологдаоблэнерго" | J1: код 900151 | N1: ПС ВОЛОГДА-ЮЖНАЯ РУ- 6 кВ
B2: наименование предприятия | N2: наименование источника питания
N3: _________________________________
B4: ул. Горького, 99 | I4: Таблица № 1 | O4: ТП 461
B5: адрес
A6: почасовых записей показаний электрических счетчиков
A7: в режимный день 16 ИЮНЯ 2021 г.
A8: 594
A9: часы суток | B9: Активная энергия | J9: Реактивная энергия
B10: ЯЧ.№203 - "ГОРОД 20" | J10: ЯЧ.№203 - "ГОРОД 20"
B11: Расчет. Коэф. | E11: 7200 | F11: Расчет. Коэф. | I11: 0 | J11: Расчет. Коэф. | M11: =E11 -> 7200 | N11: Расчет. Коэф. | Q11: =I11 -> 0
B12: показания счетчика | C12: разность | E12: расход эл.энергии за час | F12: показания счетчика | G12: разность | I12: расход эл.энергии за час | J12: показания счетчика | K12: разность | M12: расход эл.энергии за час | N12: показания счетчика | O12: разность | Q12: расход эл.энергии за час
A13: 1 | B13: 2 | C13: 3 | E13: 4 | F13: 5 | G13: 6 | I13: 7 | J13: 8 | K13: 9 | M13: 10 | N13: 11 | O13: 12 | Q13: 13
A14: 0
A15: 1
A16: 2
A17: 3
A18: 4
A19: 5
A20: 6
A21: 7
A22: 8
A23: 9
A24: 10
A25: 11
... A38: 24
A39: Итого | E39: =SUM(E15:E38) -> 0 | M39: =SUM(M15:M38) -> 0
A40: 1. При наличии на предприятии отклонений от нормальных режимов электропотребления (временное изменение схем питания, остановка на ремонт, резкое снижение
A41: эл.потребления и т.д.) последние необходимо перечислить.
A42: 2. При наличии нескольких источников питания и большого количества вводов таблица
A43: составляется самим предприятием с соблюдением всех пунктов настоящей таблицы. | K43: Главный инженер ___________________ А.А. Михалин

Sheet 18
B1: АО "Вологдаоблэнерго" | J1: код 900151 | N1: ПС ВОЛОГДА-ЮЖНАЯ РУ-10 кВ
B2: наименование предприятия | N2: наименование источника питания
N3: _________________________________
B4: ул. Горького, 99 | I4: Таблица № 1 | O4: РП 26
B5: адрес
A6: почасовых записей показаний электрических счетчиков
A7: в режимный день 16 ДЕКАБРЯ 2015 __ г.
A8: 589 | B8: 592
A9: часы суток | B9: Активная энергия | J9: Реактивная энергия
B10: ЯЧ. № 107- ф."ГОРОД 7" | F10: ЯЧ. № 204 - ф."ГОРОД 17" | J10: ЯЧ. № 107- ф."ГОРОД 7" | N10: ЯЧ. № 204 - ф."ГОРОД 17"
B11: Расчет. Коэф. | E11: 8000 | F11: Расчет. Коэф. | I11: 8000 | J11: Расчет. Коэф. | M11: =E11 -> 8000 | N11: Расчет. Коэф. | Q11: =I11 -> 8000
B12: показания счетчика | C12: разность | E12: расход эл.энергии за час | F12: показания счетчика | G12: разность | I12: расход эл.энергии за час | J12: показания счетчика | K12: разность | M12: расход эл.энергии за час | N12: показания счетчика | O12: разность | Q12: расход эл.энергии за час
A13: 1 | B13: 2 | C13: 3 | E13: 4 | F13: 5 | G13: 6 | I13: 7 | J13: 8 | K13: 9 | M13: 10 | N13: 11 | O13: 12 | Q13: 13
A14: 0
A15: 1
A16: 2
A17: 3
A18: 4
A19: 5
A20: 6
A21: 7
A22: 8
A23: 9
A24: 10
A25: 11
... A38: 24
A39: Итого | E39: =SUM(E15:E38) -> 0 | I39: =SUM(I15:I38) -> 0 | M39: =SUM(M15:M38) -> 0 | Q39: =SUM(Q15:Q38) -> 0
A40: 1. При наличии на предприятии отклонений от нормальных режимов электропотребления (временное изменение схем питания, остановка на ремонт, резкое снижение
A41: эл.потребления и т.д.) последние необходимо перечислить.
A42: 2. При наличии нескольких источников питания и большого количества вводов таблица
A43: составляется самим предприятием с соблюдением всех пунктов настоящей таблицы. | K43: Главный инженер ___________________ А.А. Михалин

Sheet 19
B1: АО "Вологдаоблэнерго" | J1: код 900151 | N1: ПС ВОЛОГДА-ЮЖНАЯ РУ - 10 кВ
B2: наименование предприятия | N2: наименование источника питания
N3: _________________________________
B4: ул. Горького, 99 | I4: Таблица № 1 | O4: РП 43
B5: адрес
A6: почасовых записей показаний электрических счетчиков
A7: в режимный день 16 ИЮНЯ 2021 г.
A8: 597 | B8: 596
A9: часы суток | B9: Активная энергия | J9: Реактивная энергия
B10: ЯЧ.№ 407 - "ГОРОД-3" | F10: ЯЧ.№ 305 - "ГОРОД-5" | J10: ЯЧ.№ 407- "ГОРОД-3" | N10: ЯЧ.№ 305- "ГОРОД-5"
B11: Расчет. Коэф. | E11: 6000 | F11: Расчет. Коэф. | I11: 4000 | J11: Расчет. Коэф. | M11: =E11 -> 6000 | N11: Расчет. Коэф. | Q11: =I11 -> 4000
B12: показания счетчика | C12: разность | E12: расход эл.энергии за час | F12: показания счетчика | G12: разность | I12: расход эл.энергии за час | J12: показания счетчика | K12: разность | M12: расход эл.энергии за час | N12: показания счетчика | O12: разность | Q12: расход эл.энергии за час
A13: 1 | B13: 2 | C13: 3 | E13: 4 | F13: 5 | G13: 6 | I13: 7 | J13: 8 | K13: 9 | M13: 10 | N13: 11 | O13: 12 | Q13: 13
A14: 0
A15: 1
A16: 2
A17: 3
A18: 4
A19: 5
A20: 6
A21: 7
A22: 8
A23: 9
A24: 10
A25: 11
... A38: 24
A39: Итого | E39: =SUM(E15:E38) -> 0 | I39: =SUM(I15:I38) -> 0 | M39: =SUM(M15:M38) -> 0 | Q39: =SUM(Q15:Q38) -> 0
A40: 1. При наличии на предприятии отклонений от нормальных режимов электропотребления (временное изменение схем питания, остановка на ремонт, резкое снижение
A41: эл.потребления и т.д.) последние необходимо перечислить.
A42: 2. При наличии нескольких источников питания и большого количества вводов таблица
A43: составляется самим предприятием с соблюдением всех пунктов настоящей таблицы. | K43: Главный инженер ___________________ А.А. Михалин

Sheet 20
B1: АО "Вологдаоблэнерго" | J1: код 900151 | N1: ПС ВОЛОГДА-ЮЖНАЯ РУ-10 кВ
B2: наименование предприятия | N2: наименование источника питания
N3: _________________________________
B4: ул. Горького, 99 | I4: Таблица № 1 | O4: РП 27
B5: адрес
A6: почасовых записей показаний электрических счетчиков
A7: в режимный день 16 ДЕКАБРЯ 2015 __ г.
A8: 30 | B8: 49
A9: часы суток | B9: Активная энергия | J9: Реактивная энергия
B10: ЯЧ. № 408 - "ГОРОД -1" | F10: ЯЧ.№ 105 - "РП 27" | J10: ЯЧ. № 408 - "ГОРОД -1" | N10: ЯЧ.№ 105 - "РП 27"
B11: Расчет. Коэф. | E11: 12000 | F11: Расчет. Коэф. | I11: 12000 | J11: Расчет. Коэф. | M11: =E11 -> 12000 | N11: Расчет. Коэф. | Q11: =I11 -> 12000
B12: показания счетчика | C12: разность | E12: расход эл.энергии за час | F12: показания счетчика | G12: разность | I12: расход эл.энергии за час | J12: показания счетчика | K12: разность | M12: расход эл.энергии за час | N12: показания счетчика | O12: разность | Q12: расход эл.энергии за час
A13: 1 | B13: 2 | C13: 3 | E13: 4 | F13: 5 | G13: 6 | I13: 7 | J13: 8 | K13: 9 | M13: 10 | N13: 11 | O13: 12 | Q13: 13
A14: 0
A15: 1
A16: 2
A17: 3
A18: 4
A19: 5
A20: 6
A21: 7
A22: 8
A23: 9
A24: 10
A25: 11
... A38: 24
A39: Итого | E39: =SUM(E15:E38) -> 0 | I39: =SUM(I15:I38) -> 0 | M39: =SUM(M15:M38) -> 0 | Q39: =SUM(Q15:Q38) -> 0
A40: 1. При наличии на предприятии отклонений от нормальных режимов электропотребления (временное изменение схем питания, остановка на ремонт, резкое снижение
A41: эл.потребления и т.д.) последние необходимо перечислить.
A42: 2. При наличии нескольких источников питания и большого количества вводов таблица
A43: составляется самим предприятием с соблюдением всех пунктов настоящей таблицы. | K43: Главный инженер ___________________ А.А. Михалин

Sheet 21
B1: АО "Вологдаоблэнерго" | J1: код 900151 | N1: ПС ВОЛОГДА-ЮЖНАЯ РУ-10 кВ
B2: наименование предприятия | N2: наименование источника питания
N3: яч. 406 ф "РОДИОНЦЕВО", КТП-906
B4: ул. Горького, 99 | I4: Таблица № 1
B5: адрес
A6: почасовых записей показаний электрических счетчиков
A7: в режимный день 16 ИЮНЯ 2021 г.
A8: 362 | B8: 985
A9: часы суток | B9: Активная энергия | J9: Реактивная энергия
B10: яч. 406 ф "РОДИОНЦЕВО" - ПКУ | F10: КТП-906 | J10: яч. 406 ф "РОДИОНЦЕВО" - ПКУ | N10: КТП-906
B11: Расчет. Коэф. | E11: 2000 | F11: Расчет. Коэф. | I11: 80 | J11: Расчет. Коэф. | M11: =E11 -> 2000 | N11: Расчет. Коэф. | Q11: =I11 -> 80
B12: показания счетчика | C12: разность | E12: расход эл.энергии за час | F12: показания счетчика | G12: разность | I12: расход эл.энергии за час | J12: показания счетчика | K12: разность | M12: расход эл.энергии за час | N12: показания счетчика | O12: разность | Q12: расход эл.энергии за час
A13: 1 | B13: 2 | C13: 3 | E13: 4 | F13: 5 | G13: 6 | I13: 7 | J13: 8 | K13: 9 | M13: 10 | N13: 11 | O13: 12 | Q13: 13
A14: 0
A15: 1 | E15: 7.6 | I15: 8.4 | M15: 0 | Q15: 3
A16: 2 | E16: 6.6 | I16: 7.2 | M16: 0 | Q16: 1.6
A17: 3 | E17: 2.4 | I17: 7.56 | M17: 0 | Q17: 2.8
A18: 4 | E18: 2.4 | I18: 7.6 | M18: 0 | Q18: 2.92
A19: 5 | E19: 2.6 | I19: 7.24 | M19: 0 | Q19: 2.8
A20: 6 | E20: 2.4 | I20: 7.72 | M20: 0 | Q20: 2.32
A21: 7 | E21: 3 | I21: 12.96 | M21: 0 | Q21: 3.32
A22: 8 | E22: 4.2 | I22: 11.48 | M22: 0 | Q22: 3.44
A23: 9 | E23: 5.4 | I23: 13.04 | M23: 0 | Q23: 3.44
A24: 10 | E24: 7.4 | I24: 12.24 | M24: 0 | Q24: 2.72
A25: 11 | E25: 8.2 | I25: 9.08 | M25: 0 | Q25: 2.4
A26: 12 | E26: 6.8 | I26: 10.04 | M26: 0 | Q26: 2.8
... A38: 24 | E38: 7.8 | I38: 8.6 | M38: 0 | Q38: 3.08
A39: Итого | E39: =SUM(E15:E38) -> 129.8 | I39: =SUM(I15:I38) -> 267.72 | M39: =SUM(M15:M38) -> 0.2 | Q39: =SUM(Q15:Q38) -> 72.88
A40: 1. При наличии на предприятии отклонений от нормальных режимов электропотребления (временное изменение схем питания, остановка на ремонт, резкое снижение
A41: эл.потребления и т.д.) последние необходимо перечислить.
A42: 2. При наличии нескольких источников питания и большого количества вводов таблица
A43: составляется самим предприятием с соблюдением всех пунктов настоящей таблицы. | K43: Главный инженер ___________________ А.А. Михалин

Sheet 21_1
B1: АО "Вологдаоблэнерго" | J1: код 900151 | N1: ПС ВОЛОГДА-ЮЖНАЯ РУ-10 кВ
B2: наименование предприятия | N2: наименование источника питания
N3: РП-44
B4: ул. Горького, 99 | I4: Таблица № 1
B5: адрес
A6: почасовых записей показаний электрических счетчиков
A7: в режимный день 16 ИЮНЯ 2021 г.
A9: часы суток | B9: Активная энергия | J9: Реактивная энергия
B10: яч. 307 ф "Охмыльцево-1" | F10: яч. 409 ф "Охмыльцево-2" | J10: яч. 307 ф "Охмыльцево-1" | N10: яч. 409 ф "Охмыльцево-2"
B11: Расчет. Коэф. | F11: Расчет. Коэф. | J11: Расчет. Коэф. | N11: Расчет. Коэф.
B12: показания счетчика | C12: разность | E12: расход эл.энергии за час | F12: показания счетчика | G12: разность | I12: расход эл.энергии за час | J12: показания счетчика | K12: разность | M12: расход эл.энергии за час | N12: показания счетчика | O12: разность | Q12: расход эл.энергии за час
A13: 1 | B13: 2 | C13: 3 | E13: 4 | F13: 5 | G13: 6 | I13: 7 | J13: 8 | K13: 9 | M13: 10 | N13: 11 | O13: 12 | Q13: 13
A14: 0
A15: 1
A16: 2
A17: 3
A18: 4
A19: 5
A20: 6
A21: 7
A22: 8
A23: 9
A24: 10
A25: 11
... A38: 24
A39: Итого | E39: =SUM(E15:E38) -> 0 | I39: =SUM(I15:I38) -> 0 | M39: =SUM(M15:M38) -> 0 | Q39: =SUM(Q15:Q38) -> 0
A40: 1. При наличии на предприятии отклонений от нормальных режимов электропотребления (временное изменение схем питания, остановка на ремонт, резкое снижение
A41: эл.потребления и т.д.) последние необходимо перечислить.
A42: 2. При наличии нескольких источников питания и большого количества вводов таблица
A43: составляется самим предприятием с соблюдением всех пунктов настоящей таблицы. | K43: Главный инженер ___________________ А.А. Михалин

Sheet 21_2
B1: АО "Вологдаоблэнерго" | J1: код 900151 | N1: ПС ВОЛОГДА-ЮЖНАЯ РУ-10 кВ
B2: наименование предприятия | N2: наименование источника питания
N3: яч. 104 ф 6 кВ Керамик-1
B4: ул. Горького, 99 | I4: Таблица № 1
B5: адрес
A6: почасовых записей показаний электрических счетчиков
A7: в режимный день 16 ИЮНЯ 2021 г.
A9: часы суток | B9: Активная энергия | J9: Реактивная энергия
B10: яч. 104 ф 6 кВ Керамик-1 ТП-841Т-1 | F10: яч. 104 ф 6 кВ Керамик-1 ТП-417 | J10: яч. 104 ф 6 кВ Керамик-1 ТП-841Т-1 | N10: яч. 104 ф 6 кВ Керамик-1 ТП-417
B11: Расчет. Коэф. | F11: Расчет. Коэф. | J11: Расчет. Коэф. | N11: Расчет. Коэф.
B12: показания счетчика | C12: разность | E12: расход эл.энергии за час | F12: показания счетчика | G12: разность | I12: расход эл.энергии за час | J12: показания счетчика | K12: разность | M12: расход эл.энергии за час | N12: показания счетчика | O12: разность | Q12: расход эл.энергии за час
A13: 1 | B13: 2 | C13: 3 | E13: 4 | F13: 5 | G13: 6 | I13: 7 | J13: 8 | K13: 9 | M13: 10 | N13: 11 | O13: 12 | Q13: 13
A14: 0
A15: 1 | E15: 0 | M15: 0
A16: 2 | E16: 0 | M16: 0
A17: 3 | E17: 0 | M17: 0
A18: 4 | E18: 0 | M18: 0
A19: 5 | E19: 0 | M19: 0
A20: 6 | E20: 0 | M20: 0
A21: 7 | E21: 0 | M21: 0
A22: 8 | E22: 0 | M22: 0
A23: 9 | E23: 0 | M23: 0
A24: 10 | E24: 0 | M24: 0
A25: 11 | E25: 0 | M25: 0
A26: 12 | E26: 0 | M26: 0
... A38: 24 | E38: 0 | M38: 0
A39: Итого | E39: =SUM(E15:E38) -> 0 | I39: =SUM(I15:I38) -> 0 | M39: =SUM(M15:M38) -> 0 | Q39: =SUM(Q15:Q38) -> 0
A40: 1. При наличии на предприятии отклонений от нормальных режимов электропотребления (временное изменение схем питания, остановка на ремонт, резкое снижение
A41: эл.потребления и т.д.) последние необходимо перечислить.
A42: 2. При наличии нескольких источников питания и большого количества вводов таблица
A43: составляется самим предприятием с соблюдением всех пунктов настоящей таблицы. | K43: Главный инженер ___________________ А.А. Михалин

Sheet 21_3
B1: АО "Вологдаоблэнерго" | J1: код 900151 | N1: ПС ВОЛОГДА-ЮЖНАЯ РУ-10 кВ
B2: наименование предприятия | N2: наименование источника питания
N3: яч. 104 ф 6 кВ Керамик-1
B4: ул. Горького, 99 | I4: Таблица № 1
B5: адрес
A6: почасовых записей показаний электрических счетчиков
A7: в режимный день 16 ИЮНЯ 2021 г.
A9: часы суток | B9: Активная энергия | J9: Реактивная энергия
B10: яч. 104 ф 6 кВ Керамик-1 КТП-1004 | J10: яч. 104 ф 6 кВ Керамик-1 КТП-1004
B11: Расчет. Коэф. | F11: Расчет. Коэф. | J11: Расчет. Коэф. | N11: Расчет. Коэф.
B12: показания счетчика | C12: разность | E12: расход эл.энергии за час | F12: показания счетчика | G12: разность | I12: расход эл.энергии за час | J12: показания счетчика | K12: разность | M12: расход эл.энергии за час | N12: показания счетчика | O12: разность | Q12: расход эл.энергии за час
A13: 1 | B13: 2 | C13: 3 | E13: 4 | F13: 5 | G13: 6 | I13: 7 | J13: 8 | K13: 9 | M13: 10 | N13: 11 | O13: 12 | Q13: 13
A14: 0
A15: 1
A16: 2
A17: 3
A18: 4
A19: 5
A20: 6
A21: 7
A22: 8
A23: 9
A24: 10
A25: 11
... A38: 24
A39: Итого | E39: =SUM(E15:E38) -> 0 | I39: =SUM(I15:I38) -> 0 | M39: =SUM(M15:M38) -> 0 | Q39: =SUM(Q15:Q38) -> 0
A40: 1. При наличии на предприятии отклонений от нормальных режимов электропотребления (временное изменение схем питания, остановка на ремонт, резкое снижение
A41: эл.потребления и т.д.) последние необходимо перечислить.
A42: 2. При наличии нескольких источников питания и большого количества вводов таблица
A43: составляется самим предприятием с соблюдением всех пунктов настоящей таблицы. | K43: Главный инженер ___________________ А.А. Михалин

Sheet 21_4
B1: АО "Вологдаоблэнерго" | J1: код 900151 | N1: ПС ВОЛОГДА-ЮЖНАЯ РУ-10 кВ
B2: наименование предприятия | N2: наименование источника питания
N3: яч. 207 ф 10 кВ Керамик 2
B4: ул. Горького, 99 | I4: Таблица № 1
B5: адрес
A6: почасовых записей показаний электрических счетчиков
A7: в режимный день 16 ИЮНЯ 2021 г.
A9: часы суток | B9: Активная энергия | J9: Реактивная энергия
B10: яч. 207 ф 10 кВ Керамик 2 ТП841 Т-2 | J10: яч. 207 ф 10 кВ Керамик 2 ТП841 Т-2
B11: Расчет. Коэф. | F11: Расчет. Коэф. | J11: Расчет. Коэф. | N11: Расчет. Коэф.
B12: показания счетчика | C12: разность | E12: расход эл.энергии за час | F12: показания счетчика | G12: разность | I12: расход эл.энергии за час | J12: показания счетчика | K12: разность | M12: расход эл.энергии за час | N12: показания счетчика | O12: разность | Q12: расход эл.энергии за час
A13: 1 | B13: 2 | C13: 3 | E13: 4 | F13: 5 | G13: 6 | I13: 7 | J13: 8 | K13: 9 | M13: 10 | N13: 11 | O13: 12 | Q13: 13
A14: 0
A15: 1 | E15: 48.3 | M15: 13.8
A16: 2 | E16: 38.7 | M16: 11.85
A17: 3 | E17: 34.8 | M17: 10.05
A18: 4 | E18: 31.35 | M18: 9.6
A19: 5 | E19: 29.7 | M19: 8.85
A20: 6 | E20: 36 | M20: 9.75
A21: 7 | E21: 49.95 | M21: 12.6
A22: 8 | E22: 55.65 | M22: 15.45
A23: 9 | E23: 58.95 | M23: 18.45
A24: 10 | E24: 56.7 | M24: 17.55
A25: 11 | E25: 55.95 | M25: 15.75
A26: 12 | E26: 50.55 | M26: 14.55
... A38: 24 | E38: 57.75 | M38: 15.75
A39: Итого | E39: =SUM(E15:E38) -> 1373.4 | I39: =SUM(I15:I38) -> 0 | M39: =SUM(M15:M38) -> 395.25 | Q39: =SUM(Q15:Q38) -> 0
A40: 1. При наличии на предприятии отклонений от нормальных режимов электропотребления (временное изменение схем питания, остановка на ремонт, резкое снижение
A41: эл.потребления и т.д.) последние необходимо перечислить.
A42: 2. При наличии нескольких источников питания и большого количества вводов таблица
A43: составляется самим предприятием с соблюдением всех пунктов настоящей таблицы. | K43: Главный инженер ___________________ А.А. Михалин

Sheet 22
B1: АО "Вологдаоблэнерго" | J1: код 900151 | M1: ПС ВОЛОГДА - ТЯГОВАЯ 110/27,5/6 кВ
B2: наименование предприятия | N2: наименование источника питания
N3: _________________________________
B4: ул. Горького, 99 | I4: Таблица № 1 | O4: ТП 450
A6: почасовых записей показаний электрических счетчиков
A7: в режимный день 16 ИЮНЯ 2021 г.
A8: 636
A9: часы суток | B9: Активная энергия | J9: Реактивная энергия
B10: ЯЧ. 1 - ТП 450 | J10: ЯЧ. 1 - ТП 450
B11: Расчет. Коэф. | E11: 7200 | F11: Расчет. Коэф. | I11: =Q11 -> 0 | J11: Расчет. Коэф. | M11: =E11 -> 7200 | N11: Расчет. Коэф. | Q11: 0
B12: показания счетчика | C12: разность | E12: расход эл.энергии за час | F12: показания счетчика | G12: разность | I12: расход эл.энергии за час | J12: показания счетчика | K12: разность | M12: расход эл.энергии за час | N12: показания счетчика | O12: разность | Q12: расход эл.энергии за час
A13: 1 | B13: 2 | C13: 3 | E13: 4 | F13: 5 | G13: 6 | I13: 7 | J13: 8 | K13: 9 | M13: 10 | N13: 11 | O13: 12 | Q13: 13
A14: 0
A15: 1 | E15: 0 | M15: 0
A16: 2 | E16: 0 | M16: 0
A17: 3 | E17: 0 | M17: 0
A18: 4 | E18: 0 | M18: 0
A19: 5 | E19: 0 | M19: 0
A20: 6 | E20: 0 | M20: 0
A21: 7 | E21: 0 | M21: 0
A22: 8 | E22: 0 | M22: 0
A23: 9 | E23: 0 | M23: 0
A24: 10 | E24: 0 | M24: 0
A25: 11 | E25: 0 | M25: 0
A26: 12 | E26: 0 | M26: 0
... A38: 24 | E38: 0 | M38: 0
A39: Итого | E39: =SUM(E15:E38) -> 0 | M39: =SUM(M15:M38) -> 0
A40: 1. При наличии на предприятии отклонений от нормальных режимов электропотребления (временное изменение схем питания, остановка на ремонт, резкое снижение
A41: эл.потребления и т.д.) последние необходимо перечислить.
A42: 2. При наличии нескольких источников питания и большого количества вводов таблица
A43: составляется самим предприятием с соблюдением всех пунктов настоящей таблицы. | K43: Главный инженер ___________________ А.А. Михалин

Sheet 23
