Workbook
Name TABLE: '10'!#REF!
Name TABLE: '11'!#REF!
Name TABLE: '12'!#REF!
Name TABLE: '13'!#REF!
Name TABLE: '14'!#REF!
Name TABLE: '15'!#REF!
Name TABLE: '16'!#REF!
Name TABLE: '17'!#REF!
Name TABLE: '18'!#REF!
Name TABLE: '19'!#REF!
Name TABLE: '20 '!#REF!
Name TABLE_2: '10'!#REF!
Name TABLE_2: '11'!#REF!
Name TABLE_2: '12'!#REF!
Name TABLE_2: '13'!#REF!
Name TABLE_2: '14'!#REF!
Name TABLE_2: '15'!#REF!
Name TABLE_2: '16'!#REF!
Name TABLE_2: '17'!#REF!
Name TABLE_2: '18'!#REF!
Name TABLE_2: '19'!#REF!
Name TABLE_2: '20 '!#REF!

Sheet 20 
N1: Приложение № 20
M2: к приказу Минэнерго России от 25 апреля 2018 г. № 320
A4: Форма 20. Отчет об исполнении финансового плана субъекта электроэнергетики 1 квартал 2020 года
A6: Инвестиционная программа | D6: АО «Вологодская областная энергетическая компания»
D7: полное наименование субъекта электроэнергетики
D9: Субъект Российской Федерации: | E9: Вологодская область
G11: Год раскрытия (предоставления) информации: | H11: 2020 | I11: год
C13: Утвержденные плановые значения показателей приведены в соответствии с
C14: приказом ДЕПАРТАМЕНТА ТОПЛИВНО-ЭНЕРГЕТИЧЕСКОГО КОМПЛЕКСА И ТАРИФНОГО РЕГУЛИРОВАНИЯ ВОЛОГОДСКОЙ ОБЛАСТИ "Об утверждении изменений, вносимых в инвестиционную программу АО «Вологодская областная энергетическая компания» (правопреемник ГП ВО «Областные электротеплосети») на 2015-2019 годы, утвержденную решением Департамента топливно-энергетического комплекса Вологодской области от 2 февраля 2015 года" от 31.12.2019 №205
C15: реквизиты решения органа исполнительной власти, утвердившего инвестиционную программу
A17: 1. Финансово-экономическая модель деятельности субъекта электроэнергетики
A18: № п/п | B18: Показатель | I18: Ед. изм. | J18: Отчетный 2020 год | L18: Отклонение от плановых значений по итогам отчетного периода | N18: Причины отклонений
J19: План | K19: Факт | L19: в ед. измерений | M19: в процентах, %
A20: 1 | B20: 2 | I20: 3 | J20: 4 | K20: 5 | L20: 6 | M20: 7 | N20: 8
A21: БЮДЖЕТ ДОХОДОВ И РАСХОДОВ
A22: I | B22: Выручка от реализации товаров (работ, услуг) всего, в том числе *: | I22: млн. рублей | J22: 1044.8239 | K22: 1015.593 | L22: -29.230916 | M22: 97.202312
A23: 1.1 | B23: Производство и поставка электрической энергии и мощности всего, в том числе: | I23: млн. рублей | J23: 0 | K23: 0 | L23: 0 | M23: 0
A24: 1.1.1 | B24: производство и поставка электрической энергии на оптовом рынке электрической энергии и мощности | I24: млн. рублей | L24: 0 | M24: 0
A25: 1.1.2 | B25: производство и поставка электрической мощности на оптовом рынке электрической энергии и мощности | I25: млн. рублей | L25: 0 | M25: 0
A26: 1.1.3 | B26: производство и поставка электрической энергии (мощности) на розничных рынках электрической энергии | I26: млн. рублей | L26: 0 | M26: 0
A27: 1.2 | B27: Производство и поставка тепловой энергии (мощности) | I27: млн. рублей | J27: 0 | K27: 0 | L27: 0 | M27: 0
A28: 1.3 | B28: Оказание услуг по передаче электрической энергии | I28: млн. рублей | J28: 0 | K28: 0 | L28: 0 | M28: 0
A29: 1.4 | B29: Оказание услуг по передаче тепловой энергии, теплоносителя | I29: млн. рублей | J29: 0 | K29: 0 | L29: 0 | M29: 0
A30: 1.5 | B30: Оказание услуг по технологическому присоединению | I30: млн. рублей | J30: 0 | K30: 0 | L30: 0 | M30: 0
A31: 1.6 | B31: Реализация электрической энергии и мощности | I31: млн. рублей | J31: 0 | K31: 0 | L31: 0 | M31: 0
A32: 1.7 | B32: Реализации тепловой энергии (мощности) | I32: млн. рублей | J32: 0 | K32: 0 | L32: 0 | M32: 0
A33: 1.8 | B33: Оказание услуг по оперативно-диспетчерскому управлению в электроэнергетике всего, в том числе: | I33: млн. рублей | J33: 0 | K33: 0 | L33: 0 | M33: 0
A34: 1.8.1 | B34: в части управления технологическими режимами | I34: млн. рублей | L34: 0 | M34: 0
A35: 1.8.2 | B35: в части обеспечения надежности | I35: млн. рублей | L35: 0 | M35: 0
A36: 1.9 | B36: Прочая деятельность | I36: млн. рублей | L36: 0 | M36: 0
A37: II | B37: Себестоимость товаров (работ, услуг), коммерческие и управленческие расходы всего, в том числе: | I37: млн. рублей | J37: 1017.2909 | K37: 965.15917 | L37: -52.131708 | M37: 94.875437
A38: 2.1 | B38: Производство и поставка электрической энергии и мощности всего, в том числе: | I38: млн. рублей | J38: 0 | K38: 0 | L38: 0 | M38: 0
A39: 2.1.1 | B39: производство и поставка электрической энергии на оптовом рынке электрической энергии и мощности | I39: млн. рублей | J39: 0 | K39: 0 | L39: 0 | M39: 0
A40: 2.1.2 | B40: производство и поставка электрической мощности на оптовом рынке электрической энергии и мощности | I40: млн. рублей | J40: 0 | K40: 0 | L40: 0 | M40: 0
A41: 2.1.3 | B41: производство и поставка электрической энергии (мощности) на розничных рынках электрической энергии | I41: млн. рублей | J41: 0 | K41: 0 | L41: 0 | M41: 0
A42: 2.2 | B42: Производство и поставка тепловой энергии (мощности) | I42: млн. рублей | J42: 0 | K42: 0 | L42: 0 | M42: 0
A43: 2.3 | B43: Оказание услуг по передаче электрической энергии | I43: млн. рублей | J43: 0 | K43: 0 | L43: 0 | M43: 0
A44: 2.4 | B44: Оказание услуг по передаче тепловой энергии, теплоносителя | I44: млн. рублей | J44: 0 | K44: 0 | L44: 0 | M44: 0
A45: 2.5 | B45: Оказание услуг по технологическому присоединению | I45: млн. рублей | J45: 0 | K45: 0 | L45: 0 | M45: 0
A46: 2.6 | B46: Реализация электрической энергии и мощности | I46: млн. рублей | J46: 0 | K46: 0 | L46: 0 | M46: 0
...

Sheet 19
M1: Приложение № 19
J2: к приказу Минэнерго России от 25 апреля 2018 г. № 320
A3: Форма 19. Отчет о достигнутых результатах в части, касающейся расширения пропускной способности, снижения потерь в сетях и увеличения резерва для присоединения потребителей отдельно по каждому центру питания напряжением 35 кВ и выше (квартальный)
F5: за год | G5: ='10'!$J$4 -> 2020
D7: Отчет о реализации инвестиционной программы | E7: ='10'!$G$6 -> АО «Вологодская областная энергетическая компания»
E8: полное наименование субъекта электроэнергетики
F10: Год раскрытия информации: | G10: ='10'!$J$9 -> 2020 | H10: год
E12: Утвержденные плановые значения показателей приведены в соответствии с | F12: ='10'!$E$11 -> приказом ДЕПАРТАМЕНТА ТОПЛИВНО-ЭНЕРГЕТИЧЕСКОГО КОМПЛЕКСА И ТАРИФНОГО РЕГУЛИРОВАНИЯ ВОЛОГОДСКОЙ ОБЛАСТИ "Об утверждении инвестиционной программы АО «Вологодская областная энергетическая компания» на 2020-2024 годы" от 30 октября 2019 года" № 160
F13: реквизиты решения органа исполнительной власти, утвердившего инвестиционную программу
A15: Номер группы инвести-ционных проектов | B15: Наименование инвестиционного проекта (группы инвестиционных проектов) | C15: Идентификатор инвестиционного проекта | D15: Наименование центра питания | E15: Место расположения центра питания: субъект Российской Федерации, район, ближайший населенный пункт | F15: Установленная мощность центра питания, МВА | H15: Фактический резерв мощности для присоединения потребителей, кВт | J15: Фактическое расширение пропускной способности, кВт | L15: Фактическое снижение потерь, кВт×ч/год
F16: факт на 01.01. 2020 год | G16: факт на конец отчетного периода | H16: факт 2019 года (на 01.01.2020 год) | I16: факт на конец отчетного периода | J16: факт 2019 года (на 01.01.2020 год) | K16: факт на конец отчетного периода | L16: факт 2019 года (на 01.01.2020 год) | M16: факт на конец отчетного периода
A17: 1 | B17: 2 | C17: 3 | D17: 4 | E17: 5 | F17: 6 | G17: 7 | H17: 8 | I17: 9 | J17: 10 | K17: 11 | L17: 12 | M17: 13
A18: 0 | B18: ВСЕГО по инвестиционной программе, в том числе: | C18: Г | F18: =F19+F20+F22+F23+F24 -> 0 | G18: =G19+G20+G22+G23+G24 -> 0 | H18: =H19+H20+H22+H23+H24 -> 0 | I18: =I19+I20+I22+I23+I24 -> 0 | J18: =J19+J20+J22+J23+J24 -> 0 | K18: =K19+K20+K22+K23+K24 -> 0 | L18: =L19+L20+L22+L23+L24 -> 0 | M18: =M19+M20+M22+M23+M24 -> 0
A19: 0.1 | B19: Технологическое присоединение, всего | C19: Г | F19: =F26 -> 0 | G19: =G26 -> 0 | H19: =H26 -> 0 | I19: =I26 -> 0 | J19: =J26 -> 0 | K19: =K26 -> 0 | L19: =L26 -> 0 | M19: =M26 -> 0
A20: 0.2 | B20: Реконструкция, модернизация, техническое перевооружение, всего | C20: Г | F20: =F31 -> 0 | G20: =G31 -> 0 | H20: =H31 -> 0 | I20: =I31 -> 0 | J20: =J31 -> 0 | K20: =K31 -> 0 | L20: =L31 -> 0 | M20: =M31 -> 0
A21: 0.3 | B21: Инвестиционные проекты, реализация которых обуславливается схемами и программами перспективного развития электроэнергетики, всего | C21: Г | D21: нд | E21: нд | F21: нд | G21: нд | H21: нд | I21: нд | J21: нд | K21: нд | L21: нд | M21: нд
A22: 0.4 | B22: Прочее новое строительство объектов электросетевого хозяйства, всего | C22: Г | F22: =F46 -> 0 | G22: =G46 -> 0 | H22: =H46 -> 0 | I22: =I46 -> 0 | J22: =J46 -> 0 | K22: =K46 -> 0 | L22: =L46 -> 0 | M22: =M46 -> 0
A23: 0.5 | B23: Покупка земельных участков для целей реализации инвестиционных проектов, всего | C23: Г | F23: =F54 -> 0 | G23: =G54 -> 0 | H23: =H54 -> 0 | I23: =I54 -> 0 | J23: =J54 -> 0 | K23: =K54 -> 0 | L23: =L54 -> 0 | M23: =M54 -> 0
A24: 0.6 | B24: Прочие инвестиционные проекты, всего | C24: Г | F24: =F55 -> 0 | G24: =G55 -> 0 | H24: =H55 -> 0 | I24: =I55 -> 0 | J24: =J55 -> 0 | K24: =K55 -> 0 | L24: =L55 -> 0 | M24: =M55 -> 0
A25: 1 | B25: Вологодская область
A26: 1.1 | B26: Технологическое присоединение, всего, в том числе: | C26: Г | F26: =F27 -> 0 | G26: =G27 -> 0 | H26: =H27 -> 0 | I26: =I27 -> 0 | J26: =J27 -> 0 | K26: =K27 -> 0 | L26: =L27 -> 0 | M26: =M27 -> 0
A27: 1.1.1 | B27: Технологическое присоединение энергопринимающих устройств потребителей, всего, в том числе: | C27: Г | F27: =F28+F29+F30 -> 0 | G27: =G28+G29+G30 -> 0 | H27: =H28+H29+H30 -> 0 | I27: =I28+I29+I30 -> 0 | J27: =J28+J29+J30 -> 0 | K27: =K28+K29+K30 -> 0 | L27: =L28+L29+L30 -> 0 | M27: =M28+M29+M30 -> 0
A28: 1.1.1.1 | B28: Технологическое присоединение энергопринимающих устройств потребителей максимальной мощностью до 15 кВт включительно, всего | C28: Г | D28: 0 | E28: 0 | F28: 0 | G28: 0 | H28: 0 | I28: 0 | J28: 0 | K28: 0 | L28: 0 | M28: 0
A29: 1.1.1.2 | B29: Технологическое присоединение энергопринимающих устройств потребителей максимальной мощностью до 150 кВт включительно, всего | C29: Г | D29: 0 | E29: 0 | F29: 0 | G29: 0 | H29: 0 | I29: 0 | J29: 0 | K29: 0 | L29: 0 | M29: 0
A30: 1.1.1.3 | B30: Технологическое присоединение энергопринимающих устройств потребителей свыше 150 кВт, всего | C30: Г | D30: 0 | E30: 0 | F30: 0 | G30: 0 | H30: 0 | I30: 0 | J30: 0 | K30: 0 | L30: 0 | M30: 0
A31: 1.2 | B31: Реконструкция, модернизация, техническое перевооружение всего, в том числе: | C31: Г | F31: =F32+F34+F40 -> 0 | G31: =G32+G34+G40 -> 0 | H31: =H32+H34+H40 -> 0 | I31: =I32+I34+I40 -> 0 | J31: =J32+J34+J40 -> 0 | K31: =K32+K34+K40 -> 0 | L31: =L32+L34+L40 -> 0 | M31: =M32+M34+M40 -> 0
A32: 1.2.1 | B32: Реконструкция, модернизация, техническое перевооружение трансформаторных и иных подстанций, распределительных пунктов, всего, в том числе: | C32: Г | F32: =F33 -> 0 | G32: =G33 -> 0 | H32: =H33 -> 0 | I32: =I33 -> 0 | J32: =J33 -> 0 | K32: =K33 -> 0 | L32: =L33 -> 0 | M32: =M33 -> 0
A33: 1.2.1.1 | B33: Реконструкция_ТП, РП, ПС. | C33: ЭD 1.2.1.1
A34: 1.2.2 | B34: Реконструкция, модернизация, техническое перевооружение линий электропередачи, всего, в том числе: | C34: Г | F34: =SUM(F35:F38) -> 0 | G34: =SUM(G35:G38) -> 0 | H34: =SUM(H35:H38) -> 0 | I34: =SUM(I35:I38) -> 0 | J34: =SUM(J35:J38) -> 0 | K34: =SUM(K35:K38) -> 0 | L34: =SUM(L35:L38) -> 0 | M34: =SUM(M35:M38) -> 0
A35: 1.2.2.1 | B35: Реконструкция_Кабельные линии 0,4 кВ. | C35: ЭD 1.2.2.1 | D35: 0 | E35: 0 | F35: 0 | G35: 0 | H35: 0 | I35: 0 | J35: 0 | K35: 0 | L35: 0 | M35: 0
A36: 1.2.2.2 | B36: Реконструкция_Кабельные линии 6-10 кВ. | C36: ЭD 1.2.2.2 | D36: 0 | E36: 0 | F36: 0 | G36: 0 | H36: 0 | I36: 0 | J36: 0 | K36: 0 | L36: 0 | M36: 0
A37: 1.2.2.3 | B37: Реконструкция_ Воздушные линии 0,4 кВ. | C37: ЭD 1.2.2.3 | D37: 0 | E37: 0 | F37: 0 | G37: 0 | H37: 0 | I37: 0 | J37: 0 | K37: 0 | L37: 0 | M37: 0
A38: 1.2.2.4 | B38: Реконструкция_Воздушные линии 6-10 кВ. | C38: ЭD 1.2.2.4 | D38: 0 | E38: 0 | F38: 0 | G38: 0 | H38: 0 | I38: 0 | J38: 0 | K38: 0 | L38: 0 | M38: 0
A39: 1.2.3 | B39: Развитие и модернизация учета электрической энергии (мощности), всего, в том числе: | C39: Г | D39: нд | E39: нд | F39: нд | G39: нд | H39: нд | I39: нд | J39: нд | K39: нд | L39: нд | M39: нд
A40: 1.2.4 | B40: Реконструкция, модернизация, техническое перевооружение прочих объектов основных средств, всего, в том числе: | C40: Г | F40: =SUM(F41:F44) -> 0 | G40: =SUM(G41:G44) -> 0 | H40: =SUM(H41:H44) -> 0 | I40: =SUM(I41:I44) -> 0 | J40: =SUM(J41:J44) -> 0 | K40: =SUM(K41:K44) -> 0 | L40: =SUM(L41:L44) -> 0 | M40: =SUM(M41:M44) -> 0
A41: 1.2.4.1 | B41: Реконструкция_Оборудование, инструмент, средства механизации | C41: ЭD 1.2.4.1 | D41: 0 | E41: 0 | F41: 0 | G41: 0 | H41: 0 | I41: 0 | J41: 0 | K41: 0 | L41: 0 | M41: 0
A42: 1.2.4.2 | B42: Реконструкция_Создание и модернизация систем телемеханики и связи, оргтехника, программное обеспечение | C42: ЭD 1.2.4.2 | D42: 0 | E42: 0 | F42: 0 | G42: 0 | H42: 0 | I42: 0 | J42: 0 | K42: 0 | L42: 0 | M42: 0
A43: 1.2.4.3 | B43: СКУД | C43: ЭD 1.2.4.3 | D43: 0 | E43: 0 | F43: 0 | G43: 0 | H43: 0 | I43: 0 | J43: 0 | K43: 0 | L43: 0
A44: 1.2.4.3 | B44: Реконструкция_Силовые трансформаторы | C44: ЭD 1.2.4.3 | D44: 0 | E44: 0 | F44: 0 | G44: 0 | H44: 0 | I44: 0 | J44: 0 | K44: 0 | L44: 0 | M44: 0
A45: 1.3 | B45: Инвестиционные проекты, реализация которых обуславливается схемами и программами перспективного развития электроэнергетики, всего | C45: Г | D45: нд | E45: нд | F45: нд | G45: нд | H45: нд | I45: нд | J45: нд | K45: нд | L45: нд | M45: нд
...

Sheet 18
AS1: Приложение № 18
AO2: к приказу Минэнерго России от 25 апреля 2018 г. № 320
A3: Форма 18. Отчет о фактических значениях количественных показателей по инвестиционным проектам инвестиционной программы (квартальный)
T4: за год | U4: ='10'!$J$4 -> 2020
R6: Отчет о реализации инвестиционной программы | S6: ='10'!$G$6 -> АО «Вологодская областная энергетическая компания»
S7: полное наименование субъекта электроэнергетики
U9: Год раскрытия информации: | V9: ='10'!$J$9 -> 2020 | X9: год
S11: Утвержденные плановые значения показателей приведены в соответствии с | T11: ='10'!$E$11 -> приказом ДЕПАРТАМЕНТА ТОПЛИВНО-ЭНЕРГЕТИЧЕСКОГО КОМПЛЕКСА И ТАРИФНОГО РЕГУЛИРОВАНИЯ ВОЛОГОДСКОЙ ОБЛАСТИ "Об утверждении инвестиционной программы АО «Вологодская областная энергетическая компания» на 2020-2024 годы" от 30 октября 2019 года" № 160
T12: реквизиты решения органа исполнительной власти, утвердившего инвестиционную программу
A14: Номер группы инвести-ционных проектов | B14: Наименование инвестиционного проекта (группы инвестиционных проектов) | C14: Идентификатор инвестиционного проекта | D14: Цели реализации инвестиционных проектов и плановые (фактические) значения количественных показателей, характеризующие достижение таких целей по итогам отчетного периода
D15: Развитие электрической сети/усиление существующей электрической сети, связанное с подключением новых потребителей | J15: Замещение (обновление) электрической сети/повышение экономической эффективности (мероприятия, направленные на снижение эксплуатационных затрат) оказания услуг в сфере электроэнергетики | P15: Повышение надежности оказываемых услуг в сфере электроэнергетики | V15: Повышение качества оказываемых услуг в сфере электроэнергетики | AB15: Выполнение требований законодательства Российской Федерации, предписаний органов исполнительной власти, регламентов рынков электрической энергии | AH15: Обеспечение текущей деятельности в сфере электроэнергетики, в том числе развитие информационной инфраструктуры, хозяйственное обеспечение деятельности | AN15: Инвестиции, связанные с деятельностью, не относящейся к сфере электроэнергетики
D16: Наименование количественного показателя, соответствующего цели | F16: Наименование количественного показателя, соответствующего цели | H16: … | J16: показатель замены линий электропередачи | L16: показатель замены силовых (авто-) трансформаторов | N16: показатель замены выключателей | P16: Наименование количественного показателя, соответствующего цели | R16: Наименование количественного показателя, соответствующего цели | T16: … | V16: Наименование количественного показателя, соответствующего цели | X16: Наименование количественного показателя, соответствующего цели | Z16: … | AB16: Наименование количественного показателя, соответствующего цели | AD16: Наименование количественного показателя, соответствующего цели | AF16: … | AH16: Наименование количественного показателя, соответствующего цели | AJ16: Наименование количественного показателя, соответствующего цели | AL16: … | AN16: Наименование количественного показателя, соответствующего цели | AP16: Наименование количественного показателя, соответствующего цели | AR16: …
D17: План | E17: Факт | F17: План | G17: Факт | H17: План | I17: Факт | J17: План | K17: Факт | L17: План | M17: Факт | N17: План | O17: Факт | P17: План | Q17: Факт | R17: План | S17: Факт | T17: План | U17: Факт | V17: План | W17: Факт | X17: План | Y17: Факт | Z17: План | AA17: Факт | AB17: План | AC17: Факт | AD17: План | AE17: Факт | AF17: План | AG17: Факт | AH17: План | AI17: Факт | AJ17: План | AK17: Факт | AL17: План | AM17: Факт | AN17: План | AO17: Факт | AP17: План | AQ17: Факт | AR17: План | AS17: Факт
A18: 1 | B18: 2 | C18: 3 | D18: 4.1 | E18: 4.2 | F18: 4.3 | G18: 4.4 | H18: 4. … | I18: 4. … | J18: 5.1 | K18: 5.2 | L18: 5.3 | M18: 5.4 | N18: 5. … | O18: 5. … | P18: 6.1 | Q18: 6.2 | R18: 6.3 | S18: 6.4 | T18: 6. … | U18: 6. … | V18: 7.1 | W18: 7.2 | X18: 7.3 | Y18: 7.4 | Z18: 7. … | AA18: 7. … | AB18: 8.1 | AC18: 8.2 | AD18: 8.3 | AE18: 8.4 | AF18: 8. … | AG18: 8. … | AH18: 9.1 | AI18: 9.2 | AJ18: 9.3 | AK18: 9.4 | AL18: 9. … | AM18: 9. … | AN18: 10.1 | AO18: 10.2 | AP18: 10.3 | AQ18: 10.4 | AR18: 10. … | AS18: 10. …
A19: 0 | B19: ВСЕГО по инвестиционной программе, в том числе: | C19: Г | D19: =D20+D21+D23+D24+D25 -> 0 | E19: =E20+E21+E23+E24+E25 -> 0 | F19: =F20+F21+F23+F24+F25 -> 0 | G19: =G20+G21+G23+G24+G25 -> 0 | H19: =H20+H21+H23+H24+H25 -> 0 | I19: =I20+I21+I23+I24+I25 -> 0 | J19: =J20+J21+J23+J24+J25 -> 0.19 | K19: =K20+K21+K23+K24+K25 -> 2.784 | ... AS19: =AS20+AS21+AS23+AS24+AS25 -> 0
A20: 0.1 | B20: Технологическое присоединение, всего | C20: Г | D20: =D27 -> 0 | E20: =E27 -> 0 | F20: =F27 -> 0 | G20: =G27 -> 0 | H20: =H27 -> 0 | I20: =I27 -> 0 | J20: =J27 -> 0 | K20: =K27 -> 0 | ... AS20: =AS27 -> 0
A21: 0.2 | B21: Реконструкция, модернизация, техническое перевооружение, всего | C21: Г | D21: =D32 -> 0 | E21: =E32 -> 0 | F21: =F32 -> 0 | G21: =G32 -> 0 | H21: =H32 -> 0 | I21: =I32 -> 0 | J21: =J32 -> 0.19 | K21: =K32 -> 2.784 | ... AS21: =AS32 -> 0
A22: 0.3 | B22: Инвестиционные проекты, реализация которых обуславливается схемами и программами перспективного развития электроэнергетики, всего | C22: Г | D22: нд | E22: нд | F22: нд | G22: нд | H22: нд | I22: нд | J22: нд | K22: нд | L22: нд | M22: нд | N22: нд | O22: нд | P22: нд | Q22: нд | R22: нд | S22: нд | T22: нд | U22: нд | V22: нд | W22: нд | X22: нд | Y22: нд | Z22: нд | AA22: нд | AB22: нд | AC22: нд | AD22: нд | AE22: нд | AF22: нд | AG22: нд | AH22: нд | AI22: нд | AJ22: нд | AK22: нд | AL22: нд | AM22: нд | AN22: нд | AO22: нд | AP22: нд | AQ22: нд | AR22: нд | AS22: нд
A23: 0.4 | B23: Прочее новое строительство объектов электросетевого хозяйства, всего | C23: Г | D23: =D47 -> 0 | E23: =E47 -> 0 | F23: =F47 -> 0 | G23: =G47 -> 0 | H23: =H47 -> 0 | I23: =I47 -> 0 | J23: =J47 -> 0 | K23: =K47 -> 0 | ... AS23: =AS47 -> 0
A24: 0.5 | B24: Покупка земельных участков для целей реализации инвестиционных проектов, всего | C24: Г | D24: =D55 -> 0 | E24: =E55 -> 0 | F24: =F55 -> 0 | G24: =G55 -> 0 | H24: =H55 -> 0 | I24: =I55 -> 0 | J24: =J55 -> 0 | K24: =K55 -> 0 | ... AS24: =AS55 -> 0
A25: 0.6 | B25: Прочие инвестиционные проекты, всего | C25: Г | D25: =D56 -> 0 | E25: =E56 -> 0 | F25: =F56 -> 0 | G25: =G56 -> 0 | H25: =H56 -> 0 | I25: =I56 -> 0 | J25: =J56 -> 0 | K25: =K56 -> 0 | ... AS25: =AS56 -> 0
A26: 1 | B26: Вологодская область
A27: 1.1 | B27: Технологическое присоединение, всего, в том числе: | C27: Г | D27: =D28 -> 0 | E27: =E28 -> 0 | F27: =F28 -> 0 | G27: =G28 -> 0 | H27: =H28 -> 0 | I27: =I28 -> 0 | J27: =J28 -> 0 | K27: =K28 -> 0 | ... AS27: =AS28 -> 0
A28: 1.1.1 | B28: Технологическое присоединение энергопринимающих устройств потребителей, всего, в том числе: | C28: Г | D28: =D29+D30+D31 -> 0 | E28: =E29+E30+E31 -> 0 | F28: =F29+F30+F31 -> 0 | G28: =G29+G30+G31 -> 0 | H28: =H29+H30+H31 -> 0 | I28: =I29+I30+I31 -> 0 | J28: =J29+J30+J31 -> 0 | K28: =K29+K30+K31 -> 0 | ... AS28: =AS29+AS30+AS31 -> 0
A29: 1.1.1.1 | B29: Технологическое присоединение энергопринимающих устройств потребителей максимальной мощностью до 15 кВт включительно, всего | C29: Г | D29: 0 | E29: 0 | F29: 0 | G29: 0 | H29: 0 | I29: 0 | J29: 0 | K29: 0 | L29: 0 | M29: 0 | N29: 0 | O29: 0 | P29: 0 | Q29: 0 | R29: 0 | S29: 0 | T29: 0 | U29: 0 | V29: 0 | W29: 0 | X29: 0 | Y29: 0 | Z29: 0 | AA29: 0 | AB29: 0 | AC29: 0 | AD29: 0 | AE29: 0 | AF29: 0 | AG29: 0 | AH29: 0 | AI29: 0 | AJ29: 0 | AK29: 0 | AL29: 0 | AM29: 0 | AN29: 0 | AO29: 0 | AP29: 0 | AQ29: 0 | AR29: 0 | AS29: 0
A30: 1.1.1.2 | B30: Технологическое присоединение энергопринимающих устройств потребителей максимальной мощностью до 150 кВт включительно, всего | C30: Г | D30: 0 | E30: 0 | F30: 0 | G30: 0 | H30: 0 | I30: 0 | J30: 0 | K30: 0 | L30: 0 | M30: 0 | N30: 0 | O30: 0 | P30: 0 | Q30: 0 | R30: 0 | S30: 0 | T30: 0 | U30: 0 | V30: 0 | W30: 0 | X30: 0 | Y30: 0 | Z30: 0 | AA30: 0 | AB30: 0 | AC30: 0 | AD30: 0 | AE30: 0 | AF30: 0 | AG30: 0 | AH30: 0 | AI30: 0 | AJ30: 0 | AK30: 0 | AL30: 0 | AM30: 0 | AN30: 0 | AO30: 0 | AP30: 0 | AQ30: 0 | AR30: 0 | AS30: 0
A31: 1.1.1.3 | B31: Технологическое присоединение энергопринимающих устройств потребителей свыше 150 кВт, всего | C31: Г | D31: 0 | E31: 0 | F31: 0 | G31: 0 | H31: 0 | I31: 0 | J31: 0 | K31: 0 | L31: 0 | M31: 0 | N31: 0 | O31: 0 | P31: 0 | Q31: 0 | R31: 0 | S31: 0 | T31: 0 | U31: 0 | V31: 0 | W31: 0 | X31: 0 | Y31: 0 | Z31: 0 | AA31: 0 | AB31: 0 | AC31: 0 | AD31: 0 | AE31: 0 | AF31: 0 | AG31: 0 | AH31: 0 | AI31: 0 | AJ31: 0 | AK31: 0 | AL31: 0 | AM31: 0 | AN31: 0 | AO31: 0 | AP31: 0 | AQ31: 0 | AR31: 0 | AS31: 0
A32: 1.2 | B32: Реконструкция, модернизация, техническое перевооружение всего, в том числе: | C32: Г | D32: =D33+D35+D41 -> 0 | E32: =E33+E35+E41 -> 0 | F32: =F33+F35+F41 -> 0 | G32: =G33+G35+G41 -> 0 | H32: =H33+H35+H41 -> 0 | I32: =I33+I35+I41 -> 0 | J32: =J33+J35+J41 -> 0.19 | K32: =K33+K35+K41 -> 2.784 | L32: 0 | M32: =M33+M35+M41 -> 0 | N32: =N33+N35+N41 -> 0 | O32: =O33+O35+O41 -> 6 | P32: =P33+P35+P41 -> 0 | Q32: =Q33+Q35+Q41 -> 0 | R32: =R33+R35+R41 -> 0 | S32: =S33+S35+S41 -> 0 | T32: =T33+T35+T41 -> 0 | ... AS32: =AS33+AS35+AS41 -> 0
A33: 1.2.1 | B33: Реконструкция, модернизация, техническое перевооружение трансформаторных и иных подстанций, распределительных пунктов, всего, в том числе: | C33: Г | D33: =D34 -> 0 | E33: =E34 -> 0 | F33: =F34 -> 0 | G33: =G34 -> 0 | H33: =H34 -> 0 | I33: =I34 -> 0 | J33: =J34 -> 0 | K33: =K34 -> 0 | ... AS33: =AS34 -> 0
A34: 1.2.1.1 | B34: Реконструкция_ТП, РП, ПС. | C34: ЭD 1.2.1.1 | D34: 0 | E34: 0 | F34: 0 | G34: 0 | H34: 0 | I34: 0 | J34: 0 | K34: 0 | L34: 0 | M34: 0 | N34: 0 | O34: 6 | P34: 0 | Q34: 0 | R34: 0 | S34: 0 | T34: 0 | U34: 0 | V34: 0 | W34: 0 | X34: 0 | Y34: 0 | Z34: 0 | AA34: 0 | AB34: 0 | AC34: 0 | AD34: 0 | AE34: 0 | AF34: 0 | AG34: 0 | AH34: 0 | AI34: 0 | AJ34: 0 | AK34: 0 | AL34: 0 | AM34: 0 | AN34: 0 | AO34: 0 | AP34: 0 | AQ34: 0 | AR34: 0 | AS34: 0
A35: 1.2.2 | B35: Реконструкция, модернизация, техническое перевооружение линий электропередачи, всего, в том числе: | C35: Г | D35: =SUM(D36:D39) -> 0 | E35: =SUM(E36:E39) -> 0 | F35: =SUM(F36:F39) -> 0 | G35: =SUM(G36:G39) -> 0 | H35: =SUM(H36:H39) -> 0 | I35: =SUM(I36:I39) -> 0 | J35: =SUM(J36:J39) -> 0.19 | K35: =SUM(K36:K39) -> 2.784 | L35: 0 | M35: =SUM(M36:M39) -> 0 | N35: =SUM(N36:N39) -> 0 | O35: =SUM(O36:O39) -> 0 | P35: =SUM(P36:P39) -> 0 | Q35: =SUM(Q36:Q39) -> 0 | R35: =SUM(R36:R39) -> 0 | S35: =SUM(S36:S39) -> 0 | T35: =SUM(T36:T39) -> 0 | ... AS35: =SUM(AS36:AS39) -> 0
A36: 1.2.2.1 | B36: Реконструкция_Кабельные линии 0,4 кВ. | C36: ЭD 1.2.2.1 | D36: 0 | E36: 0 | F36: 0 | G36: 0 | H36: 0 | I36: 0 | J36: 0 | K36: 0.063 | L36: 0 | M36: 0 | N36: 0 | O36: 0 | P36: 0 | Q36: 0 | R36: 0 | S36: 0 | T36: 0 | U36: 0 | V36: 0 | W36: 0 | X36: 0 | Y36: 0 | Z36: 0 | AA36: 0 | AB36: 0 | AC36: 0 | AD36: 0 | AE36: 0 | AF36: 0 | AG36: 0 | AH36: 0 | AI36: 0 | AJ36: 0 | AK36: 0 | AL36: 0 | AM36: 0 | AN36: 0 | AO36: 0 | AP36: 0 | AQ36: 0 | AR36: 0 | AS36: 0
A37: 1.2.2.2 | B37: Реконструкция_Кабельные линии 6-10 кВ. | C37: ЭD 1.2.2.2 | D37: 0 | E37: 0 | F37: 0 | G37: 0 | H37: 0 | I37: 0 | J37: 0 | K37: 0 | L37: 0 | M37: 0 | N37: 0 | O37: 0 | P37: 0 | Q37: 0 | R37: 0 | S37: 0 | T37: 0 | U37: 0 | V37: 0 | W37: 0 | X37: 0 | Y37: 0 | Z37: 0 | AA37: 0 | AB37: 0 | AC37: 0 | AD37: 0 | AE37: 0 | AF37: 0 | AG37: 0 | AH37: 0 | AI37: 0 | AJ37: 0 | AK37: 0 | AL37: 0 | AM37: 0 | AN37: 0 | AO37: 0 | AP37: 0 | AQ37: 0 | AR37: 0 | AS37: 0
A38: 1.2.2.3 | B38: Реконструкция_ Воздушные линии 0,4 кВ. | C38: ЭD 1.2.2.3 | D38: 0 | E38: 0 | F38: 0 | G38: 0 | H38: 0 | I38: 0 | J38: 0.04 | K38: 2.721 | L38: 0 | M38: 0 | N38: 0 | O38: 0 | P38: 0 | Q38: 0 | R38: 0 | S38: 0 | T38: 0 | U38: 0 | V38: 0 | W38: 0 | X38: 0 | Y38: 0 | Z38: 0 | AA38: 0 | AB38: 0 | AC38: 0 | AD38: 0 | AE38: 0 | AF38: 0 | AG38: 0 | AH38: 0 | AI38: 0 | AJ38: 0 | AK38: 0 | AL38: 0 | AM38: 0 | AN38: 0 | AO38: 0 | AP38: 0 | AQ38: 0 | AR38: 0 | AS38: 0
A39: 1.2.2.4 | B39: Реконструкция_Воздушные линии 6-10 кВ. | C39: ЭD 1.2.2.4 | D39: 0 | E39: 0 | F39: 0 | G39: 0 | H39: 0 | I39: 0 | J39: 0.15 | K39: 0 | L39: 0 | M39: 0 | N39: 0 | O39: 0 | P39: 0 | Q39: 0 | R39: 0 | S39: 0 | T39: 0 | U39: 0 | V39: 0 | W39: 0 | X39: 0 | Y39: 0 | Z39: 0 | AA39: 0 | AB39: 0 | AC39: 0 | AD39: 0 | AE39: 0 | AF39: 0 | AG39: 0 | AH39: 0 | AI39: 0 | AJ39: 0 | AK39: 0 | AL39: 0 | AM39: 0 | AN39: 0 | AO39: 0 | AP39: 0 | AQ39: 0 | AR39: 0 | AS39: 0
A40: 1.2.3 | B40: Развитие и модернизация учета электрической энергии (мощности), всего, в том числе: | C40: Г | D40: нд | E40: нд | F40: нд | G40: нд | H40: нд | I40: нд | J40: нд | K40: нд | L40: нд | M40: нд | N40: нд | O40: нд | P40: нд | Q40: нд | R40: нд | S40: нд | T40: нд | U40: нд | V40: нд | W40: нд | X40: нд | Y40: нд | Z40: нд | AA40: нд | AB40: нд | AC40: нд | AD40: нд | AE40: нд | AF40: нд | AG40: нд | AH40: нд | AI40: нд | AJ40: нд | AK40: нд | AL40: нд | AM40: нд | AN40: нд | AO40: нд | AP40: нд | AQ40: нд | AR40: нд | AS40: нд
A41: 1.2.4 | B41: Реконструкция, модернизация, техническое перевооружение прочих объектов основных средств, всего, в том числе: | C41: Г | D41: =SUM(D42:D45) -> 0 | E41: =SUM(E42:E45) -> 0 | F41: =SUM(F42:F45) -> 0 | G41: =SUM(G42:G45) -> 0 | H41: =SUM(H42:H45) -> 0 | I41: =SUM(I42:I45) -> 0 | J41: =SUM(J42:J45) -> 0 | K41: =SUM(K42:K45) -> 0 | ... AS41: =SUM(AS42:AS45) -> 0
A42: 1.2.4.1 | B42: Реконструкция_Оборудование, инструмент, средства механизации | C42: ЭD 1.2.4.1 | D42: 0 | E42: 0 | F42: 0 | G42: 0 | H42: 0 | I42: 0 | J42: 0 | K42: 0 | L42: 0 | M42: 0 | N42: 0 | O42: 0 | P42: 0 | Q42: 0 | R42: 0 | S42: 0 | T42: 0 | U42: 0 | V42: 0 | W42: 0 | X42: 0 | Y42: 0 | Z42: 0 | AA42: 0 | AB42: 0 | AC42: 0 | AD42: 0 | AE42: 0 | AF42: 0 | AG42: 0 | AH42: 0 | AI42: 0 | AJ42: 0 | AK42: 0 | AL42: 0 | AM42: 0 | AN42: 0 | AO42: 0 | AP42: 0 | AQ42: 0 | AR42: 0 | AS42: 0
A43: 1.2.4.2 | B43: Реконструкция_Создание и модернизация систем телемеханики и связи, оргтехника, программное обеспечение | C43: ЭD 1.2.4.2 | D43: 0 | E43: 0 | F43: 0 | G43: 0 | H43: 0 | I43: 0 | J43: 0 | K43: 0 | L43: 0 | M43: 0 | N43: 0 | O43: 0 | P43: 0 | Q43: 0 | R43: 0 | S43: 0 | T43: 0 | U43: 0 | V43: 0 | W43: 0 | X43: 0 | Y43: 0 | Z43: 0 | AA43: 0 | AB43: 0 | AC43: 0 | AD43: 0 | AE43: 0 | AF43: 0 | AG43: 0 | AH43: 0 | AI43: 0 | AJ43: 0 | AK43: 0 | AL43: 0 | AM43: 0 | AN43: 0 | AO43: 0 | AP43: 0 | AQ43: 0 | AR43: 0 | AS43: 0
A44: 1.2.4.3 | B44: СКУД | C44: ЭD 1.2.4.3 | D44: 0 | E44: 0 | F44: 0 | G44: 0 | H44: 0 | I44: 0 | J44: 0 | K44: 0 | L44: 0 | M44: 0 | N44: 0 | O44: 0 | P44: 0 | Q44: 0 | R44: 0 | S44: 0 | T44: 0 | U44: 0 | V44: 0 | W44: 0 | X44: 0 | Y44: 0 | Z44: 0 | AA44: 0 | AB44: 0 | AC44: 0 | AD44: 0 | AE44: 0 | AF44: 0 | AG44: 0 | AH44: 0 | AI44: 0 | AJ44: 0 | AK44: 0 | AL44: 0 | AM44: 0 | AN44: 0 | AO44: 0 | AP44: 0 | AQ44: 0 | AR44: 0 | AS44: 0
...

Sheet 17
BC1: Приложение № 17
AX2: к приказу Минэнерго России от 25 апреля 2018 г. № 320
A3: Форма 17. Отчет об исполнении основных этапов работ по инвестиционным проектам инвестиционной программы (квартальный)
U4: за | V4: ='10'!$G$4 -> 1 | X4: квартал | Z4: ='10'!$J$4 -> 2020 | AB4: года
V6: Отчет о реализации инвестиционной программы | W6: ='10'!$G$6 -> АО «Вологодская областная энергетическая компания»
W7: полное наименование субъекта электроэнергетики
Y9: Год раскрытия информации: | Z9: ='10'!$J$9 -> 2020 | AB9: год
X11: Утвержденные плановые значения показателей приведены в соответствии с | Y11: ='10'!$E$11 -> приказом ДЕПАРТАМЕНТА ТОПЛИВНО-ЭНЕРГЕТИЧЕСКОГО КОМПЛЕКСА И ТАРИФНОГО РЕГУЛИРОВАНИЯ ВОЛОГОДСКОЙ ОБЛАСТИ "Об утверждении инвестиционной программы АО «Вологодская областная энергетическая компания» на 2020-2024 годы" от 30 октября 2019 года" № 160
Y12: реквизиты решения органа исполнительной власти, утвердившего инвестиционную программу
A14: Номер группы инвести-ционных проектов | B14: Наименование инвестиционного проекта (группы инвестиционных проектов) | C14: Идентификатор инвестиционного проекта | D14: Финансирование капитальных вложений 2020 года млн. рублей (с НДС) | AD14: Освоение капитальных вложений 2020 года млн. рублей (без НДС)
D15: План | E15: Факт | AD15: План | AE15: Факт
D16: Всего | E16: Всего | J16: I квартал | O16: II квартал | T16: III квартал | Y16: IV квартал | AD16: Всего | AE16: Всего | AJ16: I квартал | AO16: II квартал | AT16: III квартал | AY16: IV квартал
E17: Всего, в том числе: | F17: проектно-изыскательские работы | G17: строительные работы, реконструкция, монтаж оборудования | H17: оборудование и материалы | I17: прочие затраты | J17: Всего, в том числе: | K17: проектно-изыскательские работы | L17: строительные работы, реконструкция, монтаж оборудования | M17: оборудование и материалы | N17: прочие затраты | O17: Всего, в том числе: | P17: проектно-изыскательские работы | Q17: строительные работы, реконструкция, монтаж оборудования | R17: оборудование и материалы | S17: прочие затраты | T17: Всего, в том числе: | U17: проектно-изыскательские работы | V17: строительные работы, реконструкция, монтаж оборудования | W17: оборудование и материалы | X17: прочие затраты | Y17: Всего, в том числе: | Z17: проектно-изыскательские работы | AA17: строительные работы, реконструкция, монтаж оборудования | AB17: оборудование и материалы | AC17: прочие затраты | AE17: Всего, в том числе: | AF17: проектно-изыскательские работы | AG17: строительные работы, реконструкция, монтаж оборудования | AH17: оборудование и материалы | AI17: прочие затраты | AJ17: Всего, в том числе: | AK17: проектно-изыскательские работы | AL17: строительные работы, реконструкция, монтаж оборудования | AM17: оборудование и материалы | AN17: прочие затраты | AO17: Всего, в том числе: | AP17: проектно-изыскательские работы | AQ17: строительные работы, реконструкция, монтаж оборудования | AR17: оборудование и материалы | AS17: прочие затраты | AT17: Всего, в том числе: | AU17: проектно-изыскательские работы | AV17: строительные работы, реконструкция, монтаж оборудования | AW17: оборудование и материалы | AX17: прочие затраты | AY17: Всего, в том числе: | AZ17: проектно-изыскательские работы | BA17: строительные работы, реконструкция, монтаж оборудования | BB17: оборудование и материалы | BC17: прочие затраты
A18: 1 | B18: 2 | C18: 3 | D18: 4 | E18: 5.1 | F18: 5.2 | G18: 5.3 | H18: 5.4 | I18: 5.5 | J18: 5.1.1 | K18: 5.1.2 | L18: 5.1.3 | M18: 5.1.4 | N18: 5.1.5 | O18: 5.2.1 | P18: 5.2.2 | Q18: 5.2.3 | R18: 5.2.4 | S18: 5.2.5 | T18: 5.3.1 | U18: 5.3.2 | V18: 5.3.3 | W18: 5.3.4 | X18: 5.3.5 | Y18: 5.4.1 | Z18: 5.4.2 | AA18: 5.4.3 | AB18: 5.4.4 | AC18: 5.4.5 | AD18: 6 | AE18: 7.1 | AF18: 7.2 | AG18: 7.3 | AH18: 7.4 | AI18: 7.5 | AJ18: 7.1.1 | AK18: 7.1.2 | AL18: 7.1.3 | AM18: 7.1.4 | AN18: 7.1.5 | AO18: 7.2.1 | AP18: 7.2.2 | AQ18: 7.2.3 | AR18: 7.2.4 | AS18: 7.2.5 | AT18: 7.3.1 | AU18: 7.3.2 | AV18: 7.3.3 | AW18: 7.3.4 | AX18: 7.3.5 | AY18: 7.4.1 | AZ18: 7.4.2 | BA18: 7.4.3 | BB18: 7.4.4 | BC18: 7.4.5
A19: 0 | B19: ВСЕГО по инвестиционной программе, в том числе: | C19: Г | D19: ='10'!G18 -> 51.823308 | E19: =J19+O19+T19+Y19 -> 127.56202 | F19: =K19+P19+U19+Z19 -> 12.072339 | G19: =L19+Q19+V19+AA19 -> 48.289355 | H19: =M19+R19+W19+AB19 -> 62.195877 | I19: =N19+S19+X19+AC19 -> 5.004448 | J19: ='10'!J18 -> 127.56202 | K19: =K20+K21+K23+K24+K25 -> 12.072339 | L19: =L20+L21+L23+L24+L25 -> 48.289355 | M19: =M20+M21+M23+M24+M25 -> 62.195877 | N19: =N20+N21+N23+N24+N25 -> 5.004448 | O19: ='10'!L18 -> 0 | P19: =P20+P21+P23+P24+P25 -> 0 | Q19: =Q20+Q21+Q23+Q24+Q25 -> 0 | R19: =R20+R21+R23+R24+R25 -> 0 | S19: =S20+S21+S23+S24+S25 -> 0 | T19: ='10'!N18 -> 0 | U19: =U20+U21+U23+U24+U25 -> 0 | V19: =V20+V21+V23+V24+V25 -> 0 | W19: =W20+W21+W23+W24+W25 -> 0 | X19: =X20+X21+X23+X24+X25 -> 0 | Y19: ='10'!P18 -> 0 | Z19: =Z20+Z21+Z23+Z24+Z25 -> 0 | AA19: =AA20+AA21+AA23+AA24+AA25 -> 0 | AB19: =AB20+AB21+AB23+AB24+AB25 -> 0 | AC19: =AC20+AC21+AC23+AC24+AC25 -> 0 | AD19: =AD20+AD21+AD23+AD24+AD25 -> 43.18609 | AE19: =AJ19+AO19+AT19+AY19 -> 106.30168 | AF19: =AK19+AP19+AU19+AZ19 -> 10.060282 | AG19: =AL19+AQ19+AV19+BA19 -> 40.241129 | AH19: =AM19+AR19+AW19+BB19 -> 51.829897 | AI19: =AN19+AS19+AX19+BC19 -> 4.1703733 | AJ19: =AJ20+AJ21+AJ23+AJ24+AJ25 -> 106.30168 | AK19: =AK20+AK21+AK23+AK24+AK25 -> 10.060282 | AL19: =AL20+AL21+AL23+AL24+AL25 -> 40.241129 | AM19: =AM20+AM21+AM23+AM24+AM25 -> 51.829897 | AN19: =AN20+AN21+AN23+AN24+AN25 -> 4.1703733 | AO19: =AO20+AO21+AO23+AO24+AO25 -> 0 | AP19: =AP20+AP21+AP23+AP24+AP25 -> 0 | AQ19: =AQ20+AQ21+AQ23+AQ24+AQ25 -> 0 | ... BC19: =BC20+BC21+BC23+BC24+BC25 -> 0
A20: 0.1 | B20: Технологическое присоединение, всего | C20: Г | D20: ='10'!G19 -> 31.494161 | E20: =J20+O20+T20+Y20 -> 78.870852 | F20: =K20+P20+U20+Z20 -> 7.8870852 | G20: =L20+Q20+V20+AA20 -> 31.548341 | H20: =M20+R20+W20+AB20 -> 39.435426 | I20: =N20+S20+X20+AC20 -> 0 | J20: ='10'!J19 -> 78.870852 | K20: =K27 -> 7.8870852 | L20: =L27 -> 31.548341 | M20: =M27 -> 39.435426 | N20: =N27 -> 0 | O20: ='10'!L19 -> 0 | P20: =P27 -> 0 | Q20: =Q27 -> 0 | R20: =R27 -> 0 | S20: =S27 -> 0 | T20: ='10'!N19 -> 0 | U20: =U27 -> 0 | V20: =V27 -> 0 | W20: =W27 -> 0 | X20: =X27 -> 0 | Y20: ='10'!P19 -> 0 | Z20: =Z27 -> 0 | AA20: =AA27 -> 0 | AB20: =AB27 -> 0 | AC20: =AC27 -> 0 | AD20: =AD27 -> 26.245134 | AE20: =AJ20+AO20+AT20+AY20 -> 65.72571 | AF20: =AK20+AP20+AU20+AZ20 -> 6.572571 | AG20: =AL20+AQ20+AV20+BA20 -> 26.290284 | AH20: =AM20+AR20+AW20+BB20 -> 32.862855 | AI20: =AN20+AS20+AX20+BC20 -> 0 | AJ20: =AJ27 -> 65.72571 | AK20: =AK27 -> 6.572571 | AL20: =AL27 -> 26.290284 | AM20: =AM27 -> 32.862855 | AN20: =AN27 -> 0 | AO20: =AO27 -> 0 | AP20: =AP27 -> 0 | AQ20: =AQ27 -> 0 | ... BC20: =BC27 -> 0
A21: 0.2 | B21: Реконструкция, модернизация, техническое перевооружение, всего | C21: Г | D21: ='10'!G20 -> 15.976871 | E21: =J21+O21+T21+Y21 -> 7.8638382 | F21: =K21+P21+U21+Z21 -> 0.60296544 | G21: =L21+Q21+V21+AA21 -> 2.4118618 | H21: =M21+R21+W21+AB21 -> 4.849011 | I21: =N21+S21+X21+AC21 -> 0 | J21: ='10'!J20 -> 7.8638382 | K21: =K32 -> 0.60296544 | L21: =L32 -> 2.4118618 | M21: =M32 -> 4.849011 | N21: =N32 -> 0 | O21: ='10'!L20 -> 0 | P21: =P32 -> 0 | Q21: =Q32 -> 0 | R21: =R32 -> 0 | S21: =S32 -> 0 | T21: ='10'!N20 -> 0 | U21: =U32 -> 0 | V21: =V32 -> 0 | W21: =W32 -> 0 | X21: =X32 -> 0 | Y21: ='10'!P20 -> 0 | Z21: =Z32 -> 0 | AA21: =AA32 -> 0 | AB21: =AB32 -> 0 | AC21: =AC32 -> 0 | AD21: =AD32 -> 13.31406 | AE21: =AJ21+AO21+AT21+AY21 -> 6.5531985 | AF21: =AK21+AP21+AU21+AZ21 -> 0.5024712 | AG21: =AL21+AQ21+AV21+BA21 -> 2.0098848 | AH21: =AM21+AR21+AW21+BB21 -> 4.0408425 | AI21: =AN21+AS21+AX21+BC21 -> 0 | AJ21: =AJ32 -> 6.5531985 | AK21: =AK32 -> 0.5024712 | AL21: =AL32 -> 2.0098848 | AM21: =AM32 -> 4.0408425 | AN21: =AN32 -> 0 | AO21: =AO32 -> 0 | AP21: =AP32 -> 0 | AQ21: =AQ32 -> 0 | ... BC21: =BC32 -> 0
A22: 0.3 | B22: Инвестиционные проекты, реализация которых обуславливается схемами и программами перспективного развития электроэнергетики, всего | C22: Г | D22: ='10'!G21 -> нд | E22: нд | F22: нд | G22: нд | H22: нд | I22: нд | J22: ='10'!J21 -> нд | K22: нд | L22: нд | M22: нд | N22: нд | O22: ='10'!L21 -> нд | P22: нд | Q22: нд | R22: нд | S22: нд | T22: ='10'!N21 -> нд | U22: нд | V22: нд | W22: нд | X22: нд | Y22: ='10'!P21 -> нд | Z22: нд | AA22: нд | AB22: нд | AC22: нд | AD22: нд | AE22: нд | AF22: нд | AG22: нд | AH22: нд | AI22: нд | AJ22: нд | AK22: нд | AL22: нд | AM22: нд | AN22: нд | AO22: нд | AP22: нд | AQ22: нд | AR22: нд | AS22: нд | AT22: нд | AU22: нд | AV22: нд | AW22: нд | AX22: нд | AY22: нд | AZ22: нд | BA22: нд | BB22: нд | BC22: нд
A23: 0.4 | B23: Прочее новое строительство объектов электросетевого хозяйства, всего | C23: Г | D23: ='10'!G22 -> 3.6898757 | E23: =J23+O23+T23+Y23 -> 35.82288 | F23: =K23+P23+U23+Z23 -> 3.582288 | G23: =L23+Q23+V23+AA23 -> 14.329152 | H23: =M23+R23+W23+AB23 -> 17.91144 | I23: =N23+S23+X23+AC23 -> 0 | J23: ='10'!J22 -> 35.82288 | K23: =K47 -> 3.582288 | L23: =L47 -> 14.329152 | M23: =M47 -> 17.91144 | N23: =N47 -> 0 | O23: ='10'!L22 -> 0 | P23: =P47 -> 0 | Q23: =Q47 -> 0 | R23: =R47 -> 0 | S23: =S47 -> 0 | T23: ='10'!N22 -> 0 | U23: =U47 -> 0 | V23: =V47 -> 0 | W23: =W47 -> 0 | X23: =X47 -> 0 | Y23: ='10'!P22 -> 0 | Z23: =Z47 -> 0 | AA23: =AA47 -> 0 | AB23: =AB47 -> 0 | AC23: =AC47 -> 0 | AD23: =AD47 -> 3.0748964 | AE23: =AJ23+AO23+AT23+AY23 -> 29.8524 | AF23: =AK23+AP23+AU23+AZ23 -> 2.98524 | AG23: =AL23+AQ23+AV23+BA23 -> 11.94096 | AH23: =AM23+AR23+AW23+BB23 -> 14.9262 | AI23: =AN23+AS23+AX23+BC23 -> 0 | AJ23: =AJ47 -> 29.8524 | AK23: =AK47 -> 2.98524 | AL23: =AL47 -> 11.94096 | AM23: =AM47 -> 14.9262 | AN23: =AN47 -> 0 | AO23: =AO47 -> 0 | AP23: =AP47 -> 0 | AQ23: =AQ47 -> 0 | ... BC23: =BC47 -> 0
A24: 0.5 | B24: Покупка земельных участков для целей реализации инвестиционных проектов, всего | C24: Г | D24: ='10'!G23 -> 0 | E24: =J24+O24+T24+Y24 -> 0 | F24: =K24+P24+U24+Z24 -> 0 | G24: =L24+Q24+V24+AA24 -> 0 | H24: =M24+R24+W24+AB24 -> 0 | I24: =N24+S24+X24+AC24 -> 0 | J24: ='10'!J23 -> 0 | K24: =K55 -> 0 | L24: =L55 -> 0 | M24: =M55 -> 0 | N24: =N55 -> 0 | O24: ='10'!L23 -> 0 | P24: =P55 -> 0 | Q24: =Q55 -> 0 | R24: =R55 -> 0 | S24: =S55 -> 0 | T24: ='10'!N23 -> 0 | U24: =U55 -> 0 | V24: =V55 -> 0 | W24: =W55 -> 0 | X24: =X55 -> 0 | Y24: ='10'!P23 -> 0 | Z24: =Z55 -> 0 | AA24: =AA55 -> 0 | AB24: =AB55 -> 0 | AC24: =AC55 -> 0 | AD24: =AD55 -> 0 | AE24: =AJ24+AO24+AT24+AY24 -> 0 | AF24: =AK24+AP24+AU24+AZ24 -> 0 | AG24: =AL24+AQ24+AV24+BA24 -> 0 | AH24: =AM24+AR24+AW24+BB24 -> 0 | AI24: =AN24+AS24+AX24+BC24 -> 0 | AJ24: =AJ55 -> 0 | AK24: =AK55 -> 0 | AL24: =AL55 -> 0 | AM24: =AM55 -> 0 | AN24: =AN55 -> 0 | AO24: =AO55 -> 0 | AP24: =AP55 -> 0 | AQ24: =AQ55 -> 0 | ... BC24: =BC55 -> 0
A25: 0.6 | B25: Прочие инвестиционные проекты, всего | C25: Г | D25: ='10'!G24 -> 0.6624 | E25: =J25+O25+T25+Y25 -> 5.004448 | F25: =K25+P25+U25+Z25 -> 0 | G25: =L25+Q25+V25+AA25 -> 0 | H25: =M25+R25+W25+AB25 -> 0 | I25: =N25+S25+X25+AC25 -> 5.004448 | J25: ='10'!J24 -> 5.004448 | K25: =K56 -> 0 | L25: =L56 -> 0 | M25: =M56 -> 0 | N25: =N56 -> 5.004448 | O25: ='10'!L24 -> 0 | P25: =P56 -> 0 | Q25: =Q56 -> 0 | R25: =R56 -> 0 | S25: =S56 -> 0 | T25: ='10'!N24 -> 0 | U25: =U56 -> 0 | V25: =V56 -> 0 | W25: =W56 -> 0 | X25: =X56 -> 0 | Y25: ='10'!P24 -> 0 | Z25: =Z56 -> 0 | AA25: =AA56 -> 0 | AB25: =AB56 -> 0 | AC25: =AC56 -> 0 | AD25: =AD56 -> 0.552 | AE25: =AJ25+AO25+AT25+AY25 -> 4.1703733 | AF25: =AK25+AP25+AU25+AZ25 -> 0 | AG25: =AL25+AQ25+AV25+BA25 -> 0 | AH25: =AM25+AR25+AW25+BB25 -> 0 | AI25: =AN25+AS25+AX25+BC25 -> 4.1703733 | AJ25: =AJ56 -> 4.1703733 | AK25: =AK56 -> 0 | AL25: =AL56 -> 0 | AM25: =AM56 -> 0 | AN25: =AN56 -> 4.1703733 | AO25: =AO56 -> 0 | AP25: =AP56 -> 0 | AQ25: =AQ56 -> 0 | ... BC25: =BC56 -> 0
A26: 1 | B26: Вологодская область | D26: ='10'!G25 -> 0 | E26: =J26+O26+T26+Y26 -> 0 | F26: =K26+P26+U26+Z26 -> 0 | G26: =L26+Q26+V26+AA26 -> 0 | H26: =M26+R26+W26+AB26 -> 0 | I26: =N26+S26+X26+AC26 -> 0 | J26: ='10'!J25 -> 0 | O26: ='10'!L25 -> 0 | T26: ='10'!N25 -> 0 | Y26: ='10'!P25 -> 0 | AE26: =AJ26+AO26+AT26+AY26 -> 0 | AF26: =AK26+AP26+AU26+AZ26 -> 0 | AG26: =AL26+AQ26+AV26+BA26 -> 0 | AH26: =AM26+AR26+AW26+BB26 -> 0 | AI26: =AN26+AS26+AX26+BC26 -> 0
A27: 1.1 | B27: Технологическое присоединение, всего, в том числе: | C27: Г | D27: ='10'!G26 -> 31.494161 | E27: =J27+O27+T27+Y27 -> 78.870852 | F27: =K27+P27+U27+Z27 -> 7.8870852 | G27: =L27+Q27+V27+AA27 -> 31.548341 | H27: =M27+R27+W27+AB27 -> 39.435426 | I27: =N27+S27+X27+AC27 -> 0 | J27: ='10'!J26 -> 78.870852 | K27: =K28 -> 7.8870852 | L27: =L28 -> 31.548341 | M27: =M28 -> 39.435426 | N27: =N28 -> 0 | O27: ='10'!L26 -> 0 | P27: =P28 -> 0 | Q27: =Q28 -> 0 | R27: =R28 -> 0 | S27: =S28 -> 0 | T27: ='10'!N26 -> 0 | U27: =U28 -> 0 | V27: =V28 -> 0 | W27: =W28 -> 0 | X27: =X28 -> 0 | Y27: ='10'!P26 -> 0 | Z27: =Z28 -> 0 | AA27: =AA28 -> 0 | AB27: =AB28 -> 0 | AC27: =AC28 -> 0 | AD27: =AD28 -> 26.245134 | AE27: =AJ27+AO27+AT27+AY27 -> 65.72571 | AF27: =AK27+AP27+AU27+AZ27 -> 6.572571 | AG27: =AL27+AQ27+AV27+BA27 -> 26.290284 | AH27: =AM27+AR27+AW27+BB27 -> 32.862855 | AI27: =AN27+AS27+AX27+BC27 -> 0 | AJ27: =AJ28 -> 65.72571 | AK27: =AK28 -> 6.572571 | AL27: =AL28 -> 26.290284 | AM27: =AM28 -> 32.862855 | AN27: =AN28 -> 0 | AO27: =AO28 -> 0 | AP27: =AP28 -> 0 | AQ27: =AQ28 -> 0 | ... BC27: =BC28 -> 0
A28: 1.1.1 | B28: Технологическое присоединение энергопринимающих устройств потребителей, всего, в том числе: | C28: Г | D28: ='10'!G27 -> 31.494161 | E28: =J28+O28+T28+Y28 -> 78.870852 | F28: =K28+P28+U28+Z28 -> 7.8870852 | G28: =L28+Q28+V28+AA28 -> 31.548341 | H28: =M28+R28+W28+AB28 -> 39.435426 | I28: =N28+S28+X28+AC28 -> 0 | J28: ='10'!J27 -> 78.870852 | K28: =SUM(K29:K31) -> 7.8870852 | L28: =SUM(L29:L31) -> 31.548341 | M28: =SUM(M29:M31) -> 39.435426 | N28: =SUM(N29:N31) -> 0 | O28: ='10'!L27 -> 0 | P28: =SUM(P29:P31) -> 0 | Q28: =SUM(Q29:Q31) -> 0 | R28: =SUM(R29:R31) -> 0 | S28: =SUM(S29:S31) -> 0 | T28: ='10'!N27 -> 0 | U28: =SUM(U29:U31) -> 0 | V28: =SUM(V29:V31) -> 0 | W28: =SUM(W29:W31) -> 0 | X28: =SUM(X29:X31) -> 0 | Y28: ='10'!P27 -> 0 | Z28: =SUM(Z29:Z31) -> 0 | AA28: =SUM(AA29:AA31) -> 0 | AB28: =SUM(AB29:AB31) -> 0 | AC28: =SUM(AC29:AC31) -> 0 | AD28: =AD29+AD30+AD31 -> 26.245134 | AE28: =AJ28+AO28+AT28+AY28 -> 65.72571 | AF28: =AK28+AP28+AU28+AZ28 -> 6.572571 | AG28: =AL28+AQ28+AV28+BA28 -> 26.290284 | AH28: =AM28+AR28+AW28+BB28 -> 32.862855 | AI28: =AN28+AS28+AX28+BC28 -> 0 | AJ28: =AJ29+AJ30+AJ31 -> 65.72571 | AK28: =SUM(AK29:AK31) -> 6.572571 | AL28: =SUM(AL29:AL31) -> 26.290284 | AM28: =SUM(AM29:AM31) -> 32.862855 | AN28: =SUM(AN29:AN31) -> 0 | AO28: =AO29+AO30+AO31 -> 0 | AP28: =SUM(AP29:AP31) -> 0 | AQ28: =SUM(AQ29:AQ31) -> 0 | AR28: =SUM(AR29:AR31) -> 0 | AS28: =SUM(AS29:AS31) -> 0 | AT28: =AT29+AT30+AT31 -> 0 | AU28: =SUM(AU29:AU31) -> 0 | AV28: =SUM(AV29:AV31) -> 0 | AW28: =SUM(AW29:AW31) -> 0 | AX28: =SUM(AX29:AX31) -> 0 | AY28: =AY29+AY30+AY31 -> 0 | AZ28: =SUM(AZ29:AZ31) -> 0 | BA28: =SUM(BA29:BA31) -> 0 | BB28: =SUM(BB29:BB31) -> 0 | BC28: =SUM(BC29:BC31) -> 0
A29: 1.1.1.1 | B29: Технологическое присоединение энергопринимающих устройств потребителей максимальной мощностью до 15 кВт включительно, всего | C29: Г | D29: ='10'!G28 -> 25.133663 | E29: =J29+O29+T29+Y29 -> 27.04255 | F29: =K29+P29+U29+Z29 -> 2.704255 | G29: =L29+Q29+V29+AA29 -> 10.81702 | H29: =M29+R29+W29+AB29 -> 13.521275 | I29: =N29+S29+X29+AC29 -> 0 | J29: ='10'!J28 -> 27.04255 | K29: =J29*0.1 -> 2.704255 | L29: =J29*0.4 -> 10.81702 | M29: =J29-K29-L29 -> 13.521275 | N29: 0 | O29: ='10'!L28 -> 0 | P29: =O29*0.1 -> 0 | Q29: =O29*0.4 -> 0 | R29: =O29-P29-Q29 -> 0 | S29: 0 | T29: ='10'!N28 -> 0 | U29: =T29*0.1 -> 0 | V29: =T29*0.4 -> 0 | W29: =T29-U29-V29 -> 0 | X29: 0 | Y29: ='10'!P28 -> 0 | Z29: =Y29*0.1 -> 0 | AA29: =Y29*0.4 -> 0 | AB29: =Y29-Z29-AA29 -> 0 | AC29: 0 | AD29: =D29/1.2 -> 20.944719 | AE29: =AJ29+AO29+AT29+AY29 -> 22.535458 | AF29: =AK29+AP29+AU29+AZ29 -> 2.2535458 | AG29: =AL29+AQ29+AV29+BA29 -> 9.0141832 | AH29: =AM29+AR29+AW29+BB29 -> 11.267729 | AI29: =AN29+AS29+AX29+BC29 -> 0 | AJ29: =J29/1.2 -> 22.535458 | AK29: =K29/1.2 -> 2.2535458 | AL29: =L29/1.2 -> 9.0141832 | AM29: =M29/1.2 -> 11.267729 | AN29: =N29/1.2 -> 0 | AO29: =O29/1.2 -> 0 | AP29: =P29/1.2 -> 0 | AQ29: =Q29/1.2 -> 0 | ... BC29: =AC29/1.2 -> 0
A30: 1.1.1.2 | B30: Технологическое присоединение энергопринимающих устройств потребителей максимальной мощностью до 150 кВт включительно, всего | C30: Г | D30: ='10'!G29 -> 6.3604977 | E30: =J30+O30+T30+Y30 -> 27.917943 | F30: =K30+P30+U30+Z30 -> 2.7917943 | G30: =L30+Q30+V30+AA30 -> 11.167177 | H30: =M30+R30+W30+AB30 -> 13.958971 | I30: =N30+S30+X30+AC30 -> 0 | J30: ='10'!J29 -> 27.917943 | K30: =J30*0.1 -> 2.7917943 | L30: =J30*0.4 -> 11.167177 | M30: =J30-K30-L30 -> 13.958971 | N30: 0 | O30: ='10'!L29 -> 0 | P30: =O30*0.1 -> 0 | Q30: =O30*0.4 -> 0 | R30: =O30-P30-Q30 -> 0 | S30: 0 | T30: ='10'!N29 -> 0 | U30: =T30*0.1 -> 0 | V30: =T30*0.4 -> 0 | W30: =T30-U30-V30 -> 0 | X30: 0 | Y30: ='10'!P29 -> 0 | Z30: =Y30*0.1 -> 0 | AA30: =Y30*0.4 -> 0 | AB30: =Y30-Z30-AA30 -> 0 | AC30: 0 | AD30: =D30/1.2 -> 5.3004147 | AE30: =AJ30+AO30+AT30+AY30 -> 23.264952 | AF30: =AK30+AP30+AU30+AZ30 -> 2.3264952 | AG30: =AL30+AQ30+AV30+BA30 -> 9.3059809 | AH30: =AM30+AR30+AW30+BB30 -> 11.632476 | AI30: =AN30+AS30+AX30+BC30 -> 0 | AJ30: =J30/1.2 -> 23.264952 | AK30: =K30/1.2 -> 2.3264952 | AL30: =L30/1.2 -> 9.3059809 | AM30: =M30/1.2 -> 11.632476 | AN30: =N30/1.2 -> 0 | AO30: =O30/1.2 -> 0 | AP30: =P30/1.2 -> 0 | AQ30: =Q30/1.2 -> 0 | ... BC30: =AC30/1.2 -> 0
A31: 1.1.1.3 | B31: Технологическое присоединение энергопринимающих устройств потребителей свыше 150 кВт, всего | C31: Г | D31: ='10'!G30 -> 0 | E31: =J31+O31+T31+Y31 -> 23.91036 | F31: =K31+P31+U31+Z31 -> 2.391036 | G31: =L31+Q31+V31+AA31 -> 9.5641439 | H31: =M31+R31+W31+AB31 -> 11.95518 | I31: =N31+S31+X31+AC31 -> 0 | J31: ='10'!J30 -> 23.91036 | K31: =J31*0.1 -> 2.391036 | L31: =J31*0.4 -> 9.5641439 | M31: =J31-K31-L31 -> 11.95518 | N31: 0 | O31: ='10'!L30 -> 0 | P31: =O31*0.1 -> 0 | Q31: =O31*0.4 -> 0 | R31: =O31-P31-Q31 -> 0 | S31: 0 | T31: ='10'!N30 -> 0 | U31: =T31*0.1 -> 0 | V31: =T31*0.4 -> 0 | W31: =T31-U31-V31 -> 0 | X31: 0 | Y31: ='10'!P30 -> 0 | Z31: =Y31*0.1 -> 0 | AA31: =Y31*0.4 -> 0 | AB31: =Y31-Z31-AA31 -> 0 | AC31: 0 | AD31: =D31/1.2 -> 0 | AE31: =AJ31+AO31+AT31+AY31 -> 19.9253 | AF31: =AK31+AP31+AU31+AZ31 -> 1.99253 | AG31: =AL31+AQ31+AV31+BA31 -> 7.9701199 | AH31: =AM31+AR31+AW31+BB31 -> 9.9626499 | AI31: =AN31+AS31+AX31+BC31 -> 0 | AJ31: =J31/1.2 -> 19.9253 | AK31: =K31/1.2 -> 1.99253 | AL31: =L31/1.2 -> 7.9701199 | AM31: =M31/1.2 -> 9.9626499 | AN31: =N31/1.2 -> 0 | AO31: =O31/1.2 -> 0 | AP31: =P31/1.2 -> 0 | AQ31: =Q31/1.2 -> 0 | ... BC31: =AC31/1.2 -> 0
A32: 1.2 | B32: Реконструкция, модернизация, техническое перевооружение всего, в том числе: | C32: Г | D32: ='10'!G31 -> 15.976871 | E32: =J32+O32+T32+Y32 -> 7.8638382 | F32: =K32+P32+U32+Z32 -> 0.60296544 | G32: =L32+Q32+V32+AA32 -> 2.4118618 | H32: =M32+R32+W32+AB32 -> 4.849011 | I32: =N32+S32+X32+AC32 -> 0 | J32: ='10'!J31 -> 7.8638382 | K32: =K33+K35+K41 -> 0.60296544 | L32: =L33+L35+L41 -> 2.4118618 | M32: =M33+M35+M41 -> 4.849011 | N32: =N33+N35+N41 -> 0 | O32: ='10'!L31 -> 0 | P32: =P33+P35+P41 -> 0 | Q32: =Q33+Q35+Q41 -> 0 | R32: =R33+R35+R41 -> 0 | S32: =S33+S35+S41 -> 0 | T32: ='10'!N31 -> 0 | U32: =U33+U35+U41 -> 0 | V32: =V33+V35+V41 -> 0 | W32: =W33+W35+W41 -> 0 | X32: =X33+X35+X41 -> 0 | Y32: ='10'!P31 -> 0 | Z32: =Z33+Z35+Z41 -> 0 | AA32: =AA33+AA35+AA41 -> 0 | AB32: =AB33+AB35+AB41 -> 0 | AC32: =AC33+AC35+AC41 -> 0 | AD32: =AD33+AD35+AD41 -> 13.31406 | AE32: =AJ32+AO32+AT32+AY32 -> 6.5531985 | AF32: =AK32+AP32+AU32+AZ32 -> 0.5024712 | AG32: =AL32+AQ32+AV32+BA32 -> 2.0098848 | AH32: =AM32+AR32+AW32+BB32 -> 4.0408425 | AI32: =AN32+AS32+AX32+BC32 -> 0 | AJ32: =AJ33+AJ35+AJ41 -> 6.5531985 | AK32: =AK33+AK35+AK41 -> 0.5024712 | AL32: =AL33+AL35+AL41 -> 2.0098848 | AM32: =AM33+AM35+AM41 -> 4.0408425 | AN32: =AN33+AN35+AN41 -> 0 | AO32: =AO33+AO35+AO41 -> 0 | AP32: =AP33+AP35+AP41 -> 0 | AQ32: =AQ33+AQ35+AQ41 -> 0 | ... BC32: =BC33+BC35+BC41 -> 0
A33: 1.2.1 | B33: Реконструкция, модернизация, техническое перевооружение трансформаторных и иных подстанций, распределительных пунктов, всего, в том числе: | C33: Г | D33: ='10'!G32 -> 1.708547 | E33: =J33+O33+T33+Y33 -> 1.6525592 | F33: =K33+P33+U33+Z33 -> 0.16525592 | G33: =L33+Q33+V33+AA33 -> 0.66102369 | H33: =M33+R33+W33+AB33 -> 0.82627961 | I33: =N33+S33+X33+AC33 -> 0 | J33: ='10'!J32 -> 1.6525592 | K33: =K34 -> 0.16525592 | L33: =L34 -> 0.66102369 | M33: =M34 -> 0.82627961 | N33: =N34 -> 0 | O33: ='10'!L32 -> 0 | P33: =P34 -> 0 | Q33: =Q34 -> 0 | R33: =R34 -> 0 | S33: =S34 -> 0 | T33: ='10'!N32 -> 0 | U33: =U34 -> 0 | V33: =V34 -> 0 | W33: =W34 -> 0 | X33: =X34 -> 0 | Y33: ='10'!P32 -> 0 | Z33: =Z34 -> 0 | AA33: =AA34 -> 0 | AB33: =AB34 -> 0 | AC33: =AC34 -> 0 | AD33: =AD34 -> 1.4237891 | AE33: =AJ33+AO33+AT33+AY33 -> 1.3771327 | AF33: =AK33+AP33+AU33+AZ33 -> 0.13771327 | AG33: =AL33+AQ33+AV33+BA33 -> 0.55085308 | AH33: =AM33+AR33+AW33+BB33 -> 0.68856634 | AI33: =AN33+AS33+AX33+BC33 -> 0 | AJ33: =AJ34 -> 1.3771327 | AK33: =AK34 -> 0.13771327 | AL33: =AL34 -> 0.55085308 | AM33: =AM34 -> 0.68856634 | AN33: =AN34 -> 0 | AO33: =AO34 -> 0 | AP33: =AP34 -> 0 | AQ33: =AQ34 -> 0 | ... BC33: =BC34 -> 0
A34: 1.2.1.1 | B34: Реконструкция_ТП, РП, ПС. | C34: ЭD 1.2.1.1 | D34: ='10'!G33 -> 1.708547 | E34: =J34+O34+T34+Y34 -> 1.6525592 | F34: =K34+P34+U34+Z34 -> 0.16525592 | G34: =L34+Q34+V34+AA34 -> 0.66102369 | H34: =M34+R34+W34+AB34 -> 0.82627961 | I34: =N34+S34+X34+AC34 -> 0 | J34: ='10'!J33 -> 1.6525592 | K34: =J34*0.1 -> 0.16525592 | L34: =J34*0.4 -> 0.66102369 | M34: =J34-K34-L34 -> 0.82627961 | N34: 0 | O34: ='10'!L33 -> 0 | P34: =O34*0.1 -> 0 | Q34: =O34*0.4 -> 0 | R34: =O34-P34-Q34 -> 0 | S34: 0 | T34: ='10'!N33 -> 0 | U34: =T34*0.1 -> 0 | V34: =T34*0.4 -> 0 | W34: =T34-U34-V34 -> 0 | X34: 0 | Y34: ='10'!P33 -> 0 | Z34: =Y34*0.1 -> 0 | AA34: =Y34*0.4 -> 0 | AB34: =Y34-Z34-AA34 -> 0 | AC34: 0 | AD34: =D34/1.2 -> 1.4237891 | AE34: =AJ34+AO34+AT34+AY34 -> 1.3771327 | AF34: =AK34+AP34+AU34+AZ34 -> 0.13771327 | AG34: =AL34+AQ34+AV34+BA34 -> 0.55085308 | AH34: =AM34+AR34+AW34+BB34 -> 0.68856634 | AI34: =AN34+AS34+AX34+BC34 -> 0 | AJ34: =J34/1.2 -> 1.3771327 | AK34: =K34/1.2 -> 0.13771327 | AL34: =L34/1.2 -> 0.55085308 | AM34: =M34/1.2 -> 0.68856634 | AN34: =N34/1.2 -> 0 | AO34: =O34/1.2 -> 0 | AP34: =P34/1.2 -> 0 | AQ34: =Q34/1.2 -> 0 | ... BC34: =AC34/1.2 -> 0
A35: 1.2.2 | B35: Реконструкция, модернизация, техническое перевооружение линий электропередачи, всего, в том числе: | C35: Г | D35: ='10'!G34 -> 0.46126127 | E35: =J35+O35+T35+Y35 -> 4.3770952 | F35: =K35+P35+U35+Z35 -> 0.43770952 | G35: =L35+Q35+V35+AA35 -> 1.7508381 | H35: =M35+R35+W35+AB35 -> 2.1885476 | I35: =N35+S35+X35+AC35 -> 0 | J35: ='10'!J34 -> 4.3770952 | K35: =SUM(K36:K39) -> 0.43770952 | L35: =SUM(L36:L39) -> 1.7508381 | M35: =SUM(M36:M39) -> 2.1885476 | N35: =SUM(N36:N39) -> 0 | O35: ='10'!L34 -> 0 | P35: =SUM(P36:P39) -> 0 | Q35: =SUM(Q36:Q39) -> 0 | R35: =SUM(R36:R39) -> 0 | S35: =SUM(S36:S39) -> 0 | T35: ='10'!N34 -> 0 | U35: =SUM(U36:U39) -> 0 | V35: =SUM(V36:V39) -> 0 | W35: =SUM(W36:W39) -> 0 | X35: =SUM(X36:X39) -> 0 | Y35: ='10'!P34 -> 0 | Z35: =SUM(Z36:Z39) -> 0 | AA35: =SUM(AA36:AA39) -> 0 | AB35: =SUM(AB36:AB39) -> 0 | AC35: =SUM(AC36:AC39) -> 0 | AD35: =SUM(AD36:AD39) -> 0.38438439 | AE35: =AJ35+AO35+AT35+AY35 -> 3.6475793 | AF35: =AK35+AP35+AU35+AZ35 -> 0.36475793 | AG35: =AL35+AQ35+AV35+BA35 -> 1.4590317 | AH35: =AM35+AR35+AW35+BB35 -> 1.8237897 | AI35: =AN35+AS35+AX35+BC35 -> 0 | AJ35: =SUM(AJ36:AJ39) -> 3.6475793 | AK35: =SUM(AK36:AK39) -> 0.36475793 | AL35: =SUM(AL36:AL39) -> 1.4590317 | AM35: =SUM(AM36:AM39) -> 1.8237897 | AN35: =SUM(AN36:AN39) -> 0 | AO35: =SUM(AO36:AO39) -> 0 | AP35: =SUM(AP36:AP39) -> 0 | AQ35: =SUM(AQ36:AQ39) -> 0 | ... BC35: =SUM(BC36:BC39) -> 0
A36: 1.2.2.1 | B36: Реконструкция_Кабельные линии 0,4 кВ. | C36: ЭD 1.2.2.1 | D36: ='10'!G35 -> 0 | E36: =J36+O36+T36+Y36 -> 0 | F36: =K36+P36+U36+Z36 -> 0 | G36: =L36+Q36+V36+AA36 -> 0 | H36: =M36+R36+W36+AB36 -> 0 | I36: =N36+S36+X36+AC36 -> 0 | J36: ='10'!J35 -> 0 | K36: =J36*0.1 -> 0 | L36: =J36*0.4 -> 0 | M36: =J36-K36-L36 -> 0 | N36: 0 | O36: ='10'!L35 -> 0 | P36: =O36*0.1 -> 0 | Q36: =O36*0.4 -> 0 | R36: =O36-P36-Q36 -> 0 | S36: 0 | T36: ='10'!N35 -> 0 | U36: =T36*0.1 -> 0 | V36: =T36*0.4 -> 0 | W36: =T36-U36-V36 -> 0 | X36: 0 | Y36: ='10'!P35 -> 0 | Z36: =Y36*0.1 -> 0 | AA36: =Y36*0.4 -> 0 | AB36: =Y36-Z36-AA36 -> 0 | AC36: 0 | AD36: =D36/1.2 -> 0 | AE36: =AJ36+AO36+AT36+AY36 -> 0 | AF36: =AK36+AP36+AU36+AZ36 -> 0 | AG36: =AL36+AQ36+AV36+BA36 -> 0 | AH36: =AM36+AR36+AW36+BB36 -> 0 | AI36: =AN36+AS36+AX36+BC36 -> 0 | AJ36: =J36/1.2 -> 0 | AK36: =K36/1.2 -> 0 | AL36: =L36/1.2 -> 0 | AM36: =M36/1.2 -> 0 | AN36: =N36/1.2 -> 0 | AO36: =O36/1.2 -> 0 | AP36: =P36/1.2 -> 0 | AQ36: =Q36/1.2 -> 0 | ... BC36: =AC36/1.2 -> 0
A37: 1.2.2.2 | B37: Реконструкция_Кабельные линии 6-10 кВ. | C37: ЭD 1.2.2.2 | D37: ='10'!G36 -> 0 | E37: =J37+O37+T37+Y37 -> 0.05769792 | F37: =K37+P37+U37+Z37 -> 0.005769792 | G37: =L37+Q37+V37+AA37 -> 0.023079168 | H37: =M37+R37+W37+AB37 -> 0.02884896 | I37: =N37+S37+X37+AC37 -> 0 | J37: ='10'!J36 -> 0.05769792 | K37: =J37*0.1 -> 0.005769792 | L37: =J37*0.4 -> 0.023079168 | M37: =J37-K37-L37 -> 0.02884896 | N37: 0 | O37: ='10'!L36 -> 0 | P37: =O37*0.1 -> 0 | Q37: =O37*0.4 -> 0 | R37: =O37-P37-Q37 -> 0 | S37: 0 | T37: ='10'!N36 -> 0 | U37: =T37*0.1 -> 0 | V37: =T37*0.4 -> 0 | W37: =T37-U37-V37 -> 0 | X37: 0 | Y37: ='10'!P36 -> 0 | Z37: =Y37*0.1 -> 0 | AA37: =Y37*0.4 -> 0 | AB37: =Y37-Z37-AA37 -> 0 | AC37: 0 | AD37: =D37/1.2 -> 0 | AE37: =AJ37+AO37+AT37+AY37 -> 0.0480816 | AF37: =AK37+AP37+AU37+AZ37 -> 0.00480816 | AG37: =AL37+AQ37+AV37+BA37 -> 0.01923264 | AH37: =AM37+AR37+AW37+BB37 -> 0.0240408 | AI37: =AN37+AS37+AX37+BC37 -> 0 | AJ37: =J37/1.2 -> 0.0480816 | AK37: =K37/1.2 -> 0.00480816 | AL37: =L37/1.2 -> 0.01923264 | AM37: =M37/1.2 -> 0.0240408 | AN37: =N37/1.2 -> 0 | AO37: =O37/1.2 -> 0 | AP37: =P37/1.2 -> 0 | AQ37: =Q37/1.2 -> 0 | ... BC37: =AC37/1.2 -> 0
A38: 1.2.2.3 | B38: Реконструкция_ Воздушные линии 0,4 кВ. | C38: ЭD 1.2.2.3 | D38: ='10'!G37 -> 0.05502266 | E38: =J38+O38+T38+Y38 -> 3.319662 | F38: =K38+P38+U38+Z38 -> 0.3319662 | G38: =L38+Q38+V38+AA38 -> 1.3278648 | H38: =M38+R38+W38+AB38 -> 1.659831 | I38: =N38+S38+X38+AC38 -> 0 | J38: ='10'!J37 -> 3.319662 | K38: =J38*0.1 -> 0.3319662 | L38: =J38*0.4 -> 1.3278648 | M38: =J38-K38-L38 -> 1.659831 | N38: 0 | O38: ='10'!L37 -> 0 | P38: =O38*0.1 -> 0 | Q38: =O38*0.4 -> 0 | R38: =O38-P38-Q38 -> 0 | S38: 0 | T38: ='10'!N37 -> 0 | U38: =T38*0.1 -> 0 | V38: =T38*0.4 -> 0 | W38: =T38-U38-V38 -> 0 | X38: 0 | Y38: ='10'!P37 -> 0 | Z38: =Y38*0.1 -> 0 | AA38: =Y38*0.4 -> 0 | AB38: =Y38-Z38-AA38 -> 0 | AC38: 0 | AD38: =D38/1.2 -> 0.045852217 | AE38: =AJ38+AO38+AT38+AY38 -> 2.766385 | AF38: =AK38+AP38+AU38+AZ38 -> 0.2766385 | AG38: =AL38+AQ38+AV38+BA38 -> 1.106554 | AH38: =AM38+AR38+AW38+BB38 -> 1.3831925 | AI38: =AN38+AS38+AX38+BC38 -> 0 | AJ38: =J38/1.2 -> 2.766385 | AK38: =K38/1.2 -> 0.2766385 | AL38: =L38/1.2 -> 1.106554 | AM38: =M38/1.2 -> 1.3831925 | AN38: =N38/1.2 -> 0 | AO38: =O38/1.2 -> 0 | AP38: =P38/1.2 -> 0 | AQ38: =Q38/1.2 -> 0 | ... BC38: =AC38/1.2 -> 0
A39: 1.2.2.4 | B39: Реконструкция_Воздушные линии 6-10 кВ. | C39: ЭD 1.2.2.4 | D39: ='10'!G38 -> 0.40623861 | E39: =J39+O39+T39+Y39 -> 0.99973524 | F39: =K39+P39+U39+Z39 -> 0.099973524 | G39: =L39+Q39+V39+AA39 -> 0.3998941 | H39: =M39+R39+W39+AB39 -> 0.49986762 | I39: =N39+S39+X39+AC39 -> 0 | J39: ='10'!J38 -> 0.99973524 | K39: =J39*0.1 -> 0.099973524 | L39: =J39*0.4 -> 0.3998941 | M39: =J39-K39-L39 -> 0.49986762 | N39: 0 | O39: ='10'!L38 -> 0 | P39: =O39*0.1 -> 0 | Q39: =O39*0.4 -> 0 | R39: =O39-P39-Q39 -> 0 | S39: 0 | T39: ='10'!N38 -> 0 | U39: =T39*0.1 -> 0 | V39: =T39*0.4 -> 0 | W39: =T39-U39-V39 -> 0 | X39: 0 | Y39: ='10'!P38 -> 0 | Z39: =Y39*0.1 -> 0 | AA39: =Y39*0.4 -> 0 | AB39: =Y39-Z39-AA39 -> 0 | AC39: 0 | AD39: =D39/1.2 -> 0.33853217 | AE39: =AJ39+AO39+AT39+AY39 -> 0.8331127 | AF39: =AK39+AP39+AU39+AZ39 -> 0.08331127 | AG39: =AL39+AQ39+AV39+BA39 -> 0.33324508 | AH39: =AM39+AR39+AW39+BB39 -> 0.41655635 | AI39: =AN39+AS39+AX39+BC39 -> 0 | AJ39: =J39/1.2 -> 0.8331127 | AK39: =K39/1.2 -> 0.08331127 | AL39: =L39/1.2 -> 0.33324508 | AM39: =M39/1.2 -> 0.41655635 | AN39: =N39/1.2 -> 0 | AO39: =O39/1.2 -> 0 | AP39: =P39/1.2 -> 0 | AQ39: =Q39/1.2 -> 0 | ... BC39: =AC39/1.2 -> 0
A40: 1.2.3 | B40: Развитие и модернизация учета электрической энергии (мощности), всего, в том числе: | C40: Г | D40: ='10'!G39 -> нд | E40: нд | F40: нд | G40: нд | H40: нд | I40: нд | J40: ='10'!J39 -> нд | K40: нд | L40: нд | M40: нд | N40: нд | O40: ='10'!L39 -> нд | P40: нд | Q40: нд | R40: нд | S40: нд | T40: ='10'!N39 -> нд | U40: нд | V40: нд | W40: нд | X40: нд | Y40: ='10'!P39 -> нд | Z40: нд | AA40: нд | AB40: нд | AC40: нд | AD40: нд | AE40: нд | AF40: нд | AG40: нд | AH40: нд | AI40: нд | AJ40: нд | AK40: нд | AL40: нд | AM40: нд | AN40: нд | AO40: нд | AP40: нд | AQ40: нд | AR40: нд | AS40: нд | AT40: нд | AU40: нд | AV40: нд | AW40: нд | AX40: нд | AY40: нд | AZ40: нд | BA40: нд | BB40: нд | BC40: нд
A41: 1.2.4 | B41: Реконструкция, модернизация, техническое перевооружение прочих объектов основных средств, всего, в том числе: | C41: Г | D41: ='10'!G40 -> 13.807063 | E41: =J41+O41+T41+Y41 -> 1.8341838 | F41: =K41+P41+U41+Z41 -> 0 | G41: =L41+Q41+V41+AA41 -> 0 | H41: =M41+R41+W41+AB41 -> 1.8341838 | I41: =N41+S41+X41+AC41 -> 0 | J41: ='10'!J40 -> 1.8341838 | K41: =SUM(K42:K45) -> 0 | L41: =SUM(L42:L45) -> 0 | M41: =SUM(M42:M45) -> 1.8341838 | N41: =SUM(N42:N45) -> 0 | O41: ='10'!L40 -> 0 | P41: =SUM(P42:P45) -> 0 | Q41: =SUM(Q42:Q45) -> 0 | R41: =SUM(R42:R45) -> 0 | S41: =SUM(S42:S45) -> 0 | T41: ='10'!N40 -> 0 | U41: =SUM(U42:U45) -> 0 | V41: =SUM(V42:V45) -> 0 | W41: =SUM(W42:W45) -> 0 | X41: =SUM(X42:X45) -> 0 | Y41: ='10'!P40 -> 0 | Z41: =SUM(Z42:Z45) -> 0 | AA41: =SUM(AA42:AA45) -> 0 | AB41: =SUM(AB42:AB45) -> 0 | AC41: =SUM(AC42:AC45) -> 0 | AD41: =SUM(AD42:AD45) -> 11.505886 | AE41: =AJ41+AO41+AT41+AY41 -> 1.5284865 | AF41: =AK41+AP41+AU41+AZ41 -> 0 | AG41: =AL41+AQ41+AV41+BA41 -> 0 | AH41: =AM41+AR41+AW41+BB41 -> 1.5284865 | AI41: =AN41+AS41+AX41+BC41 -> 0 | AJ41: =SUM(AJ42:AJ45) -> 1.5284865 | AK41: =SUM(AK42:AK45) -> 0 | AL41: =SUM(AL42:AL45) -> 0 | AM41: =SUM(AM42:AM45) -> 1.5284865 | AN41: =SUM(AN42:AN45) -> 0 | AO41: =SUM(AO42:AO45) -> 0 | AP41: =SUM(AP42:AP45) -> 0 | AQ41: =SUM(AQ42:AQ45) -> 0 | ... BC41: =SUM(BC42:BC45) -> 0
