Workbook

Sheet июнь 2018г
C1: АО "Вологдаоблэнерго"
C2: название организации
C3: 160014, г. Вологда, ул. Горького, д. 99
C4: адрес организации
C5: ПО "Череповецкое" ЭСУ "Чагода"
C6: производственное отделение, наименоваение ЭСУ
B9: Место опубликования | C9: Печатное издание
C10: Наименование сайта | D10: http://vologda.energy/clients/standard2
B11: Дата опубликования | C11: ежемесячно
B12: Отчетный период | C12: [месяц][год] | D12: июнь 2018г
A14: Ввод в ремонт и вывод из ремонта электросетевых объектов
A16: № п.п. | B16: Наименование выводимого из работы оборудования | C16: Вид работ | D16: Вывод в ремонт и ввод из ремонта | G16: Аварийная готовность, час | H16: Примечание
D17: дата | E17: начало | F17: окончание
A18: 1 | B18: =[1]Лист1!B23 -> ВЛ-0,4кВ "Молодежная" | C18: =[1]Лист1!F23 -> монтаж провода | D18: =[1]Лист1!C23 -> 43251 | E18: 8ч40м | F18: 15ч45м | G18: =[1]Лист1!E23 -> 40м
A19: 2 | B19: =[1]Лист1!B24 -> ВЛ-0,4кВ "Советская, Скважина" | C19: =[1]Лист1!F24 -> установка опор | D19: =[1]Лист1!C24 -> 43257 | E19: 8ч40м | F19: 11ч40м | G19: =[1]Лист1!E24 -> 40м
A20: 3 | B20: =[1]Лист1!B25 -> ВЛ-0,4кВ "Садовая, Набережная" | C20: =[1]Лист1!F25 -> замена опоры | D20: =[1]Лист1!C25 -> 43257 | E20: 13ч25и | F20: 16ч35м | G20: =[1]Лист1!E25 -> 40м
A21: 4 | B21: =[1]Лист1!B26 -> ВЛ-0,4кВ "Высоцкого" | C21: =[1]Лист1!F26 -> установка опор | D21: =[1]Лист1!C26 -> 43258 | E21: 8ч15м | F21: 15ч42м | G21: =[1]Лист1!E26 -> 40м
A22: 5 | B22: =[1]Лист1!B27 -> ТП-№15 | C22: =[1]Лист1!F27 -> Кап ремонт ТП | D22: =[1]Лист1!C27 -> 43264 | E22: 9ч05м | F22: 11ч59м | G22: =[1]Лист1!E27 -> 40м
A23: 6 | B23: =[1]Лист1!B28 -> ТП №18 | C23: =[1]Лист1!F28 -> Кап ремонт ТП | D23: =[1]Лист1!C28 -> 43264 | E23: 13ч10м | F23: 15ч20м | G23: =[1]Лист1!E28 -> 40м
A24: 7 | B24: =[1]Лист1!B29 -> ВЛ-0,4кВ "Средняя" | C24: =[1]Лист1!F29 -> перетяжка проводов | D24: =[1]Лист1!C29 -> 43264 | E24: 15ч20м | F24: 16ч15м | G24: =[1]Лист1!E29 -> 40м
A25: 8 | B25: =[1]Лист1!B30 -> ТП №64 | C25: =[1]Лист1!F30 -> Тех обслуживание ТП | D25: =[1]Лист1!C30 -> 43266 | E25: 8ч40м | F25: 10ч30м | G25: =[1]Лист1!E30 -> 40м
A26: 9 | B26: =[1]Лист1!B31 -> ВЛ-0,4кВ "Возвания, Подлесная | C26: =[1]Лист1!F31 -> Перетяжка проводов | D26: =[1]Лист1!C31 -> 43271 | E26: 8ч25м | F26: 9ч50м | G26: =[1]Лист1!E31 -> 40м
A27: 10 | B27: =[1]Лист1!B32 -> ВЛ-0,4кВ Тупик | C27: =[1]Лист1!F32 -> Монтаж провода | D27: =[1]Лист1!C32 -> 43277 | E27: 8ч35м | F27: 16ч45м | G27: =[1]Лист1!E32 -> 40м
A28: 11 | B28: =[1]Лист1!B33 -> ВЛ-0,4кВ Тупик | C28: =[1]Лист1!F33 -> Монтаж провода | D28: =[1]Лист1!C33 -> 43278 | E28: 8ч35м | F28: 17ч00м | G28: =[1]Лист1!E33 -> 40м
A29: 12 | B29: =[1]Лист1!B34 -> ВЛ-0,4кВ Тупик | C29: =[1]Лист1!F34 -> Монтаж провода | D29: =[1]Лист1!C34 -> 43279 | E29: 8ч40м | F29: 16ч35м | G29: =[1]Лист1!E34 -> 40м
A30: 13
D33: Основание для размещения: | F33: Пост. Пр-ва от 21.01.2004 № 24, п. 11 б, 17 аб.
D34: Статус информации: | F34: «фактическая»
D35: Срок хранения в архиве организации: | F35: 3 года (Приказ ФАС от 22.01.2010 № 27)

Sheet Лист1
A1: 1 | B1: ТП-157 РУ-0,4 кВ | C1: Текущий ремонт т1 | D1: 43132 | E1: 0.375 | F1: 0.41666667
A2: 2 | B2: РТП-33 РУ-0,4 кВ Ф-11 | C2: Замена ТТ | D2: 43132 | E2: 0.39583333 | F2: 0.45833333
A3: 3 | B3: ТП-132 РУ-0,4 кВ Ф-13 в/в | C3: Обрезка поросли | D3: 43132 | E3: 0.375 | F3: 0.47916667
A4: 4 | B4: ж/д Ново-Архангельское ш. 14 | C4: Замена ПУ | D4: 43132 | E4: 0.375 | F4: 0.5
A5: 5 | B5: ж/д Ново-Архангельское ш. 19а | C5: Замена ПУ | D5: 43132 | E5: 0.375 | F5: 0.5
A6: 6 | B6: ж/д Некрасова 43, ООО "Красота и здоровье" | C6: Замена ПУ | D6: 43132 | E6: 0.375 | F6: 0.5
A7: 7 | B7: ж/д Комсомольская 42 | C7: Замена ПУ | D7: 43132 | E7: 0.375 | F7: 0.5
A8: 8 | B8: ж/д Комсомольская 40 и м-н | C8: Замена ПУ | D8: 43132 | E8: 0.375 | F8: 0.5
A9: 9 | B9: ТП-275 Ф-16,17 | C9: Включение КЛ (Мира 96- Путейская 4а) | D9: 43132 | E9: 0.54166667 | F9: 0.58333333
A10: 10 | B10: ЛЭП №28 (553,949,632), 480 - перевести на сек.Т2 | C10: Ремонт разъединителя на ТП-553 | D10: 43132 | E10: 0.54166667 | F10: 0.625
A11: 11 | B11: ТП-553 РУ-0,4 кВ | C11: Ремонт трансформатора | D11: 43132 | E11: 0.54166667 | F11: 0.625
A12: 12 | B12: ТП-291 РУ-6 кВ, РУ-0,4 кВ | C12: Капитальный ремонт | D12: 43132 | E12: 0.54166667 | F12: 0.66666667
... A125: 125 | B125: ТП518 перевод нагрузки на Т1 | C125: Автомат на Т2 - прогрузка | D125: 43159 | E125: 0.375 | F125: 0.66666667
