Workbook

Sheet Таблица №1 (Прием ТП+ВЭ)
C1: ПО "Череповецкое" АО "Вологдаоблэнерго"
C2: наименование предприятия | V2: наименование источника питания
C4: Череповецкий р-н, п. Ясная Поляна, ул. Механизаторов, д.5 | O4: Таблица № 1
C5: адрес
I6: почасовых записей показаний электрических счетчиков
I7: в режимный день 18 декабря 2019 г.
B9: Активная энергия | C9: Активная энергия | D9: Активная энергия | E9: Активная энергия | F9: Активная энергия | G9: Активная энергия | H9: Активная энергия | I9: Активная энергия | J9: Активная энергия | K9: Активная энергия | L9: Активная энергия | M9: Активная энергия | N9: Активная энергия | O9: Активная энергия | P9: Активная энергия | Q9: Активная энергия | R9: Активная энергия | S9: Активная энергия | T9: Активная энергия | U9: Активная энергия | V9: Активная энергия | W9: Активная энергия | X9: Активная энергия | Y9: Активная энергия | Z9: Активная энергия | AA9: Активная энергия | AB9: Активная энергия | AC9: Активная энергия | AD9: Активная энергия | AE9: Активная энергия | AF9: Активная энергия | AG9: Активная энергия | AH9: Активная энергия | AI9: Активная энергия | AJ9: Активная энергия | AK9: Активная энергия | AL9: Активная энергия | AM9: Активная энергия | AN9: Активная энергия | AO9: Активная энергия | AP9: Активная энергия | AQ9: Активная энергия | AR9: Активная энергия | AS9: Активная энергия | AT9: Активная энергия | AU9: Активная энергия | AV9: Активная энергия | AW9: Активная энергия | AX9: Активная энергия | AY9: Активная энергия | AZ9: Активная энергия | BA9: Активная энергия | BB9: Активная энергия | BC9: Активная энергия | BD9: Активная энергия | BE9: Активная энергия | BF9: Активная энергия | BG9: Активная энергия | BH9: Активная энергия | BI9: Активная энергия | BJ9: Активная энергия | BK9: Активная энергия | BL9: Активная энергия | BM9: Активная энергия | BN9: Активная энергия | BO9: Активная энергия | BP9: Активная энергия | BR9: Активная энергия | BS9: Активная энергия | BT9: Активная энергия | BU9: Активная энергия | BV9: Активная энергия | BW9: Активная энергия | BX9: Активная энергия | BY9: Активная энергия | BZ9: Активная энергия | CA9: Активная энергия | CB9: Активная энергия | CC9: Активная энергия | CD9: Активная энергия | CE9: Активная энергия | CF9: Активная энергия | CG9: Активная энергия | CH9: Активная энергия | CI9: Активная энергия | CJ9: Активная энергия | CK9: Активная энергия | CL9: Активная энергия | CM9: Активная энергия | CN9: Активная энергия | CO9: Активная энергия | CP9: Активная энергия | CQ9: Активная энергия | CR9: Активная энергия | CS9: Активная энергия | CT9: Активная энергия | CU9: Активная энергия | CV9: Активная энергия | CW9: Активная энергия | CX9: Активная энергия | CY9: Активная энергия | CZ9: Активная энергия | DA9: Активная энергия | DB9: Активная энергия | DC9: Активная энергия | DD9: Активная энергия | DE9: Активная энергия | DF9: Активная энергия | DG9: Активная энергия | DH9: Активная энергия | DI9: Активная энергия | DJ9: Активная энергия | DK9: Активная энергия | DL9: Активная энергия | DM9: Активная энергия | DN9: Активная энергия | DO9: Активная энергия | DP9: Активная энергия | DQ9: Активная энергия | DR9: Активная энергия | DS9: Активная энергия | DT9: Активная энергия | DU9: Активная энергия | DV9: Активная энергия | DW9: Активная энергия | DX9: Активная энергия | DY9: Активная энергия | DZ9: Активная энергия | EA9: Активная энергия | EB9: Активная энергия | EC9: Активная энергия | ED9: Активная энергия | EE9: Активная энергия | EF9: Активная энергия | EG9: Активная энергия | EH9: Активная энергия | EI9: Активная энергия | EJ9: Активная энергия | EK9: Активная энергия | EL9: Активная энергия | EM9: Активная энергия | EN9: Активная энергия | EO9: Активная энергия | EP9: Активная энергия | EQ9: Активная энергия | ER9: Активная энергия | ES9: Активная энергия | ET9: Активная энергия | EU9: Активная энергия | EV9: Активная энергия | EW9: Активная энергия | EX9: Активная энергия | EY9: Активная энергия | EZ9: Активная энергия | FA9: Активная энергия | FB9: Активная энергия | FC9: Активная энергия | FD9: Активная энергия | FE9: Активная энергия | FF9: Активная энергия | FG9: Активная энергия | FH9: Активная энергия | FI9: Активная энергия | FJ9: Активная энергия | FK9: Активная энергия | FL9: Активная энергия | FM9: Активная энергия | FN9: Активная энергия | FO9: Активная энергия | FP9: Активная энергия | FQ9: Активная энергия | FR9: Активная энергия | FS9: Активная энергия | FT9: Активная энергия | FU9: Активная энергия | FV9: Активная энергия | FW9: Активная энергия | FX9: Активная энергия | FY9: Активная энергия | FZ9: Активная энергия | GA9: Активная энергия | GB9: Активная энергия | GC9: Активная энергия | GD9: Активная энергия | GE9: Активная энергия | GF9: Активная энергия | GG9: Активная энергия | GH9: Активная энергия | GI9: Активная энергия | GJ9: Активная энергия | GK9: Активная энергия | GL9: Активная энергия | GM9: Активная энергия | GN9: Активная энергия | GO9: Активная энергия | GP9: Активная энергия | GQ9: Активная энергия | GR9: Активная энергия | GS9: Активная энергия | GT9: Активная энергия | GU9: Активная энергия | GV9: Активная энергия | GW9: Активная энергия | GX9: Активная энергия | GY9: Активная энергия | GZ9: Активная энергия | HA9: Активная энергия | HB9: Активная энергия | HC9: Активная энергия | HD9: Активная энергия | HE9: Активная энергия | HF9: Активная энергия | HG9: Активная энергия | HH9: Активная энергия | HI9: Активная энергия | HJ9: Активная энергия | HK9: Активная энергия | HL9: Активная энергия | HM9: Активная энергия | HN9: Активная энергия | HO9: Активная энергия | HP9: Активная энергия | HQ9: Активная энергия | HR9: Активная энергия | HS9: Активная энергия | HT9: Активная энергия | HU9: Активная энергия | HV9: Активная энергия | HW9: Активная энергия | HX9: Активная энергия | HY9: Активная энергия | HZ9: Активная энергия | IA9: Активная энергия | IB9: Активная энергия | IC9: Активная энергия | ID9: Активная энергия | IE9: Активная энергия | IF9: Активная энергия | IG9: Активная энергия | IH9: Активная энергия | II9: Активная энергия | IJ9: Активная энергия | IK9: Активная энергия | IL9: Активная энергия | IM9: Активная энергия | IN9: Активная энергия | IO9: Активная энергия | IP9: Активная энергия | IQ9: Активная энергия | IR9: Активная энергия | IS9: Активная энергия | IT9: Активная энергия | IU9: Активная энергия | IV9: Активная энергия | IW9: Активная энергия | IX9: Активная энергия | IY9: Активная энергия | IZ9: Активная энергия | JA9: Активная энергия | JB9: Активная энергия | JC9: Активная энергия | JD9: Активная энергия | JE9: Активная энергия | JF9: Активная энергия | JG9: Активная энергия | JH9: Активная энергия | JI9: Активная энергия | JJ9: Активная энергия | JK9: Активная энергия | JL9: Активная энергия | JM9: Активная энергия | JN9: Активная энергия | JO9: Активная энергия | JP9: Активная энергия | JQ9: Активная энергия | JR9: Активная энергия | JS9: Активная энергия | JT9: Активная энергия | JU9: Активная энергия | JV9: Активная энергия | JW9: Активная энергия | JX9: Активная энергия | JY9: Активная энергия | JZ9: Активная энергия | KA9: Активная энергия | KB9: Активная энергия | KC9: Активная энергия | KD9: Активная энергия | KE9: Активная энергия | KF9: Активная энергия | KG9: Активная энергия | KH9: Активная энергия | KI9: Активная энергия | KJ9: Активная энергия | KK9: Активная энергия | KL9: Активная энергия | KM9: Активная энергия | KN9: Активная энергия | KO9: Активная энергия | KP9: Активная энергия | KQ9: Активная энергия | KR9: Активная энергия | KS9: Активная энергия | KT9: Активная энергия | KU9: Активная энергия | KV9: Активная энергия | KW9: Активная энергия | KX9: Активная энергия | KY9: Активная энергия | KZ9: Активная энергия | LA9: Активная энергия | LB9: Активная энергия | LC9: Активная энергия | LD9: Активная энергия | LE9: Активная энергия | LF9: Активная энергия | LG9: Активная энергия | LH9: Активная энергия | LI9: Активная энергия | LJ9: Активная энергия | LK9: Активная энергия | LL9: Активная энергия | LM9: Активная энергия | LN9: Активная энергия | LO9: Активная энергия | LP9: Активная энергия | LQ9: Активная энергия | LR9: Активная энергия | LS9: Активная энергия | LT9: Активная энергия | LU9: Активная энергия | LV9: Активная энергия | LW9: Активная энергия | LX9: Активная энергия | LY9: Активная энергия | LZ9: Активная энергия | MA9: Активная энергия | MB9: Активная энергия | MC9: Активная энергия | MD9: Активная энергия | ME9: Активная энергия | MF9: Активная энергия | MG9: Активная энергия | MH9: Активная энергия | MI9: Активная энергия | MJ9: Активная энергия | MK9: Активная энергия | ML9: Активная энергия | MM9: Активная энергия | MN9: Активная энергия | MO9: Активная энергия | MP9: Активная энергия | MQ9: Активная энергия | MR9: Активная энергия | MS9: Активная энергия | MT9: Активная энергия | MU9: Активная энергия | MV9: Активная энергия | MW9: Активная энергия | MX9: Активная энергия | MY9: Активная энергия | MZ9: Активная энергия | NA9: Активная энергия | NB9: Активная энергия | NC9: Активная энергия | ND9: Активная энергия | NE9: Активная энергия | NF9: Активная энергия | NG9: Активная энергия | NH9: Активная энергия | NI9: Активная энергия | NJ9: Активная энергия | NK9: Активная энергия | NL9: Активная энергия | NM9: Активная энергия | NN9: Активная энергия | NO9: Активная энергия | NP9: Активная энергия | NQ9: Активная энергия | NR9: Активная энергия | NS9: Активная энергия | NT9: Активная энергия | NU9: Активная энергия | NV9: Активная энергия | NW9: Активная энергия | NX9: Активная энергия | NY9: Активная энергия | NZ9: Активная энергия | OA9: Активная энергия | OB9: Активная энергия | OC9: Активная энергия | OD9: Активная энергия | OE9: Активная энергия | OF9: Активная энергия | OG9: Активная энергия | OH9: Активная энергия | OI9: Активная энергия | OJ9: Активная энергия | OK9: Активная энергия | OL9: Активная энергия | OM9: Активная энергия | ON9: Активная энергия | OO9: Активная энергия | OP9: Активная энергия | OQ9: Активная энергия | OR9: Активная энергия | OS9: Активная энергия | OT9: Активная энергия | OU9: Активная энергия | OV9: Активная энергия | OW9: Активная энергия
B10: Расх. Эл. энергии за час | C10: Расх. Эл. энергии за час | D10: Расх. Эл. энергии за час | E10: Расх. Эл. энергии за час | F10: Расх. Эл. энергии за час | G10: Расх. Эл. энергии за час | H10: Расх. Эл. энергии за час | I10: Расх. Эл. энергии за час | J10: Расх. Эл. энергии за час | K10: Расх. Эл. энергии за час | L10: Расх. Эл. энергии за час | M10: Расх. Эл. энергии за час | N10: Расх. Эл. энергии за час | O10: Расх. Эл. энергии за час | P10: Расх. Эл. энергии за час | Q10: Расх. Эл. энергии за час | R10: Расх. Эл. энергии за час | S10: Расх. Эл. энергии за час | T10: Расх. Эл. энергии за час | U10: Расх. Эл. энергии за час | V10: Расх. Эл. энергии за час | W10: Расх. Эл. энергии за час | X10: Расх. Эл. энергии за час | Y10: Расх. Эл. энергии за час | Z10: Расх. Эл. энергии за час | AA10: Расх. Эл. энергии за час | AB10: Расх. Эл. энергии за час | AC10: Расх. Эл. энергии за час | AD10: Расх. Эл. энергии за час | AE10: Расх. Эл. энергии за час | AF10: Расх. Эл. энергии за час | AG10: Расх. Эл. энергии за час | AH10: Расх. Эл. энергии за час | AI10: Расх. Эл. энергии за час | AJ10: Расх. Эл. энергии за час | AK10: Расх. Эл. энергии за час | AL10: Расх. Эл. энергии за час | AM10: Расх. Эл. энергии за час | AN10: Расх. Эл. энергии за час | AO10: Расх. Эл. энергии за час | AP10: Расх. Эл. энергии за час | AQ10: Расх. Эл. энергии за час | AR10: Расх. Эл. энергии за час | AS10: Расх. Эл. энергии за час | AT10: Расх. Эл. энергии за час | AU10: Расх. Эл. энергии за час | AV10: Расх. Эл. энергии за час | AW10: Расх. Эл. энергии за час | AX10: Расх. Эл. энергии за час | AY10: Расх. Эл. энергии за час | AZ10: Расх. Эл. энергии за час | BA10: Расх. Эл. энергии за час | BB10: Расх. Эл. энергии за час | BC10: Расх. Эл. энергии за час | BD10: Расх. Эл. энергии за час | BE10: Расх. Эл. энергии за час | BF10: Расх. Эл. энергии за час | BG10: Расх. Эл. энергии за час | BH10: Расх. Эл. энергии за час | BI10: Расх. Эл. энергии за час | BJ10: Расх. Эл. энергии за час | BK10: Расх. Эл. энергии за час | BL10: Расх. Эл. энергии за час | BM10: Расх. Эл. энергии за час | BN10: Расх. Эл. энергии за час | BO10: Расх. Эл. энергии за час | BP10: Расх. Эл. энергии за час | BR10: Расх. Эл. энергии за час | BS10: Расх. Эл. энергии за час | BT10: Расх. Эл. энергии за час | BU10: Расх. Эл. энергии за час | BV10: Расх. Эл. энергии за час | BW10: Расх. Эл. энергии за час | BX10: Расх. Эл. энергии за час | BY10: Расх. Эл. энергии за час | BZ10: Расх. Эл. энергии за час | CA10: Расх. Эл. энергии за час | CB10: Расх. Эл. энергии за час | CC10: Расх. Эл. энергии за час | CD10: Расх. Эл. энергии за час | CE10: Расх. Эл. энергии за час | CF10: Расх. Эл. энергии за час | CG10: Расх. Эл. энергии за час | CH10: Расх. Эл. энергии за час | CI10: Расх. Эл. энергии за час | CJ10: Расх. Эл. энергии за час | CK10: Расх. Эл. энергии за час | CL10: Расх. Эл. энергии за час | CM10: Расх. Эл. энергии за час | CN10: Расх. Эл. энергии за час | CO10: Расх. Эл. энергии за час | CP10: Расх. Эл. энергии за час | CQ10: Расх. Эл. энергии за час | CR10: Расх. Эл. энергии за час | CS10: Расх. Эл. энергии за час | CT10: Расх. Эл. энергии за час | CU10: Расх. Эл. энергии за час | CV10: Расх. Эл. энергии за час | CW10: Расх. Эл. энергии за час | CX10: Расх. Эл. энергии за час | CY10: Расх. Эл. энергии за час | CZ10: Расх. Эл. энергии за час | DA10: Расх. Эл. энергии за час | DB10: Расх. Эл. энергии за час | DC10: Расх. Эл. энергии за час | DD10: Расх. Эл. энергии за час | DE10: Расх. Эл. энергии за час | DF10: Расх. Эл. энергии за час | DG10: Расх. Эл. энергии за час | DH10: Расх. Эл. энергии за час | DI10: Расх. Эл. энергии за час | DJ10: Расх. Эл. энергии за час | DK10: Расх. Эл. энергии за час | DL10: Расх. Эл. энергии за час | DM10: Расх. Эл. энергии за час | DN10: Расх. Эл. энергии за час | DO10: Расх. Эл. энергии за час | DP10: Расх. Эл. энергии за час | DQ10: Расх. Эл. энергии за час | DR10: Расх. Эл. энергии за час | DS10: Расх. Эл. энергии за час | DT10: Расх. Эл. энергии за час | DU10: Расх. Эл. энергии за час | DV10: Расх. Эл. энергии за час | DW10: Расх. Эл. энергии за час | DX10: Расх. Эл. энергии за час | DY10: Расх. Эл. энергии за час | DZ10: Расх. Эл. энергии за час | EA10: Расх. Эл. энергии за час | EB10: Расх. Эл. энергии за час | EC10: Расх. Эл. энергии за час | ED10: Расх. Эл. энергии за час | EE10: Расх. Эл. энергии за час | EF10: Расх. Эл. энергии за час | EG10: Расх. Эл. энергии за час | EH10: Расх. Эл. энергии за час | EI10: Расх. Эл. энергии за час | EJ10: Расх. Эл. энергии за час | EK10: Расх. Эл. энергии за час | EL10: Расх. Эл. энергии за час | EM10: Расх. Эл. энергии за час | EN10: Расх. Эл. энергии за час | EO10: Расх. Эл. энергии за час | EP10: Расх. Эл. энергии за час | EQ10: Расх. Эл. энергии за час | ER10: Расх. Эл. энергии за час | ES10: Расх. Эл. энергии за час | ET10: Расх. Эл. энергии за час | EU10: Расх. Эл. энергии за час | EV10: Расх. Эл. энергии за час | EW10: Расх. Эл. энергии за час | EX10: Расх. Эл. энергии за час | EY10: Расх. Эл. энергии за час | EZ10: Расх. Эл. энергии за час | FA10: Расх. Эл. энергии за час | FB10: Расх. Эл. энергии за час | FC10: Расх. Эл. энергии за час | FD10: Расх. Эл. энергии за час | FE10: Расх. Эл. энергии за час | FF10: Расх. Эл. энергии за час | FG10: Расх. Эл. энергии за час | FH10: Расх. Эл. энергии за час | FI10: Расх. Эл. энергии за час | FJ10: Расх. Эл. энергии за час | FK10: Расх. Эл. энергии за час | FL10: Расх. Эл. энергии за час | FM10: Расх. Эл. энергии за час | FN10: Расх. Эл. энергии за час | FO10: Расх. Эл. энергии за час | FP10: Расх. Эл. энергии за час | FQ10: Расх. Эл. энергии за час | FR10: Расх. Эл. энергии за час | FS10: Расх. Эл. энергии за час | FT10: Расх. Эл. энергии за час | FU10: Расх. Эл. энергии за час | FV10: Расх. Эл. энергии за час | FW10: Расх. Эл. энергии за час | FX10: Расх. Эл. энергии за час | FY10: Расх. Эл. энергии за час | FZ10: Расх. Эл. энергии за час | GA10: Расх. Эл. энергии за час | GB10: Расх. Эл. энергии за час | GC10: Расх. Эл. энергии за час | GD10: Расх. Эл. энергии за час | GE10: Расх. Эл. энергии за час | GF10: Расх. Эл. энергии за час | GG10: Расх. Эл. энергии за час | GH10: Расх. Эл. энергии за час | GI10: Расх. Эл. энергии за час | GJ10: Расх. Эл. энергии за час | GK10: Расх. Эл. энергии за час | GL10: Расх. Эл. энергии за час | GM10: Расх. Эл. энергии за час | GN10: Расх. Эл. энергии за час | GO10: Расх. Эл. энергии за час | GP10: Расх. Эл. энергии за час | GQ10: Расх. Эл. энергии за час | GR10: Расх. Эл. энергии за час | GS10: Расх. Эл. энергии за час | GT10: Расх. Эл. энергии за час | GU10: Расх. Эл. энергии за час | GV10: Расх. Эл. энергии за час | GW10: Расх. Эл. энергии за час | GX10: Расх. Эл. энергии за час | GY10: Расх. Эл. энергии за час | GZ10: Расх. Эл. энергии за час | HA10: Расх. Эл. энергии за час | HB10: Расх. Эл. энергии за час | HC10: Расх. Эл. энергии за час | HD10: Расх. Эл. энергии за час | HE10: Расх. Эл. энергии за час | HF10: Расх. Эл. энергии за час | HG10: Расх. Эл. энергии за час | HH10: Расх. Эл. энергии за час | HI10: Расх. Эл. энергии за час | HJ10: Расх. Эл. энергии за час | HK10: Расх. Эл. энергии за час | HL10: Расх. Эл. энергии за час | HM10: Расх. Эл. энергии за час | HN10: Расх. Эл. энергии за час | HO10: Расх. Эл. энергии за час | HP10: Расх. Эл. энергии за час | HQ10: Расх. Эл. энергии за час | HR10: Расх. Эл. энергии за час | HS10: Расх. Эл. энергии за час | HT10: Расх. Эл. энергии за час | HU10: Расх. Эл. энергии за час | HV10: Расх. Эл. энергии за час | HW10: Расх. Эл. энергии за час | HX10: Расх. Эл. энергии за час | HY10: Расх. Эл. энергии за час | HZ10: Расх. Эл. энергии за час | IA10: Расх. Эл. энергии за час | IB10: Расх. Эл. энергии за час | IC10: Расх. Эл. энергии за час | ID10: Расх. Эл. энергии за час | IE10: Расх. Эл. энергии за час | IF10: Расх. Эл. энергии за час | IG10: Расх. Эл. энергии за час | IH10: Расх. Эл. энергии за час | II10: Расх. Эл. энергии за час | IJ10: Расх. Эл. энергии за час | IK10: Расх. Эл. энергии за час | IL10: Расх. Эл. энергии за час | IM10: Расх. Эл. энергии за час | IN10: Расх. Эл. энергии за час | IO10: Расх. Эл. энергии за час | IP10: Расх. Эл. энергии за час | IQ10: Расх. Эл. энергии за час | IR10: Расх. Эл. энергии за час | IS10: Расх. Эл. энергии за час | IT10: Расх. Эл. энергии за час | IU10: Расх. Эл. энергии за час | IV10: Расх. Эл. энергии за час | IW10: Расх. Эл. энергии за час | IX10: Расх. Эл. энергии за час | IY10: Расх. Эл. энергии за час | IZ10: Расх. Эл. энергии за час | JA10: Расх. Эл. энергии за час | JB10: Расх. Эл. энергии за час | JC10: Расх. Эл. энергии за час | JD10: Расх. Эл. энергии за час | JE10: Расх. Эл. энергии за час | JF10: Расх. Эл. энергии за час | JG10: Расх. Эл. энергии за час | JH10: Расх. Эл. энергии за час | JI10: Расх. Эл. энергии за час | JJ10: Расх. Эл. энергии за час | JK10: Расх. Эл. энергии за час | JL10: Расх. Эл. энергии за час | JM10: Расх. Эл. энергии за час | JN10: Расх. Эл. энергии за час | JO10: Расх. Эл. энергии за час | JP10: Расх. Эл. энергии за час | JQ10: Расх. Эл. энергии за час | JR10: Расх. Эл. энергии за час | JS10: Расх. Эл. энергии за час | JT10: Расх. Эл. энергии за час | JU10: Расх. Эл. энергии за час | JV10: Расх. Эл. энергии за час | JW10: Расх. Эл. энергии за час | JX10: Расх. Эл. энергии за час | JY10: Расх. Эл. энергии за час | JZ10: Расх. Эл. энергии за час | KA10: Расх. Эл. энергии за час | KB10: Расх. Эл. энергии за час | KC10: Расх. Эл. энергии за час | KD10: Расх. Эл. энергии за час | KE10: Расх. Эл. энергии за час | KF10: Расх. Эл. энергии за час | KG10: Расх. Эл. энергии за час | KH10: Расх. Эл. энергии за час | KI10: Расх. Эл. энергии за час | KJ10: Расх. Эл. энергии за час | KK10: Расх. Эл. энергии за час | KL10: Расх. Эл. энергии за час | KM10: Расх. Эл. энергии за час | KN10: Расх. Эл. энергии за час | KO10: Расх. Эл. энергии за час | KP10: Расх. Эл. энергии за час | KQ10: Расх. Эл. энергии за час | KR10: Расх. Эл. энергии за час | KS10: Расх. Эл. энергии за час | KT10: Расх. Эл. энергии за час | KU10: Расх. Эл. энергии за час | KV10: Расх. Эл. энергии за час | KW10: Расх. Эл. энергии за час | KX10: Расх. Эл. энергии за час | KY10: Расх. Эл. энергии за час | KZ10: Расх. Эл. энергии за час | LA10: Расх. Эл. энергии за час | LB10: Расх. Эл. энергии за час | LC10: Расх. Эл. энергии за час | LD10: Расх. Эл. энергии за час | LE10: Расх. Эл. энергии за час | LF10: Расх. Эл. энергии за час | LG10: Расх. Эл. энергии за час | LH10: Расх. Эл. энергии за час | LI10: Расх. Эл. энергии за час | LJ10: Расх. Эл. энергии за час | LK10: Расх. Эл. энергии за час | LL10: Расх. Эл. энергии за час | LM10: Расх. Эл. энергии за час | LN10: Расх. Эл. энергии за час | LO10: Расх. Эл. энергии за час | LP10: Расх. Эл. энергии за час | LQ10: Расх. Эл. энергии за час | LR10: Расх. Эл. энергии за час | LS10: Расх. Эл. энергии за час | LT10: Расх. Эл. энергии за час | LU10: Расх. Эл. энергии за час | LV10: Расх. Эл. энергии за час | LW10: Расх. Эл. энергии за час | LX10: Расх. Эл. энергии за час | LY10: Расх. Эл. энергии за час | LZ10: Расх. Эл. энергии за час | MA10: Расх. Эл. энергии за час | MB10: Расх. Эл. энергии за час | MC10: Расх. Эл. энергии за час | MD10: Расх. Эл. энергии за час | ME10: Расх. Эл. энергии за час | MF10: Расх. Эл. энергии за час | MG10: Расх. Эл. энергии за час | MH10: Расх. Эл. энергии за час | MI10: Расх. Эл. энергии за час | MJ10: Расх. Эл. энергии за час | MK10: Расх. Эл. энергии за час | ML10: Расх. Эл. энергии за час | MM10: Расх. Эл. энергии за час | MN10: Расх. Эл. энергии за час | MO10: Расх. Эл. энергии за час | MP10: Расх. Эл. энергии за час | MQ10: Расх. Эл. энергии за час | MR10: Расх. Эл. энергии за час | MS10: Расх. Эл. энергии за час | MT10: Расх. Эл. энергии за час | MU10: Расх. Эл. энергии за час | MV10: Расх. Эл. энергии за час | MW10: Расх. Эл. энергии за час | MX10: Расх. Эл. энергии за час | MY10: Расх. Эл. энергии за час | MZ10: Расх. Эл. энергии за час | NA10: Расх. Эл. энергии за час | NB10: Расх. Эл. энергии за час | NC10: Расх. Эл. энергии за час | ND10: Расх. Эл. энергии за час | NE10: Расх. Эл. энергии за час | NF10: Расх. Эл. энергии за час | NG10: Расх. Эл. энергии за час | NH10: Расх. Эл. энергии за час | NI10: Расх. Эл. энергии за час | NJ10: Расх. Эл. энергии за час | NK10: Расх. Эл. энергии за час | NL10: Расх. Эл. энергии за час | NM10: Расх. Эл. энергии за час | NN10: Расх. Эл. энергии за час | NO10: Расх. Эл. энергии за час | NP10: Расх. Эл. энергии за час | NQ10: Расх. Эл. энергии за час | NR10: Расх. Эл. энергии за час | NS10: Расх. Эл. энергии за час | NT10: Расх. Эл. энергии за час | NU10: Расх. Эл. энергии за час | NV10: Расх. Эл. энергии за час | NW10: Расх. Эл. энергии за час | NX10: Расх. Эл. энергии за час | NY10: Расх. Эл. энергии за час | NZ10: Расх. Эл. энергии за час | OA10: Расх. Эл. энергии за час | OB10: Расх. Эл. энергии за час | OC10: Расх. Эл. энергии за час | OD10: Расх. Эл. энергии за час | OE10: Расх. Эл. энергии за час | OF10: Расх. Эл. энергии за час | OG10: Расх. Эл. энергии за час | OH10: Расх. Эл. энергии за час | OI10: Расх. Эл. энергии за час | OJ10: Расх. Эл. энергии за час | OK10: Расх. Эл. энергии за час | OL10: Расх. Эл. энергии за час | OM10: Расх. Эл. энергии за час | ON10: Расх. Эл. энергии за час | OO10: Расх. Эл. энергии за час | OP10: Расх. Эл. энергии за час | OQ10: Расх. Эл. энергии за час | OR10: Расх. Эл. энергии за час | OS10: Расх. Эл. энергии за час | OT10: Расх. Эл. энергии за час | OU10: Расх. Эл. энергии за час | OV10: Расх. Эл. энергии за час | OW10: Расх. Эл. энергии за час
A11: Часы суток | B11: Автоспецмаш | C11: Автоспецмаш секц.2 | D11: РП Сельхозхимия | E11: Промтехоснастка | F11: ТП 108.1 ВВ1 | G11: ТП 108.1 ВВ2 | H11: ТП Спирин | I11: ТП-1, Сад №1ЧМК | J11: ТП-1, ВВ | K11: ТП-6 Сад №1 ЧМХС | L11: ТП-9, ВВ | M11: ТП-2, ВВ | N11: ТП-10, ВВ | O11: ТП-3, ВВ | P11: Здание картофелехранилища № 10, ВВ1 | Q11: Здание картофелехранилища № 10, ВВ3 | R11: Здание картофелехранилища № 10, ВВ2 | S11: ТП-3, Овощехранилище | T11: ТП-9, д.Кошта, Жил.район, ВВ | U11: ТП-68, Птичник, цех 13 | V11: ТП-68, Птичник, цех 8 | W11: ТП-68, Цех сортировки | X11: ТП-68, Птичник, цех 6 | Y11: ТП-68, Птичник, цех 14 | Z11: ТП-68, Птичник, цех 10 | AA11: ТП-22, ВВ-1 | AB11: ТП-22, ВВ-2 | AC11: ТП Водозабор, ВВ1 | AD11: ТП Водозабор, ВВ2 | AE11: ТП-26 КОС, ВВ2 | AF11: ТП-26 КОС, ВВ1 | AG11: ТП-11, 2*400кВА, Климовское, Жилой фонд, ВВ1 | AH11: ТП-5, ВВ1 | AI11: ТП-5, ВВ2 | AJ11: КТП-160кВА, Коттеджи-2, ВВ | AK11: ТП-12, АТЦ, ВВ | AL11: ТП-22, Санубойный цех | AM11: ТП-451, Фидер-1 | AN11: ТП-451, Фидер-2 | AO11: ТП-451, Фидер-3 | AP11: ТП-451, Фидер-4 | AQ11: ТП-451, Фидер-5 | AR11: ТП-451, Фидер-6 | AS11: Суда 2, Котельная | AT11: Суда 1, Котельная | AU11: ООО "Экспо Лес" | AV11: ТП Коопзаготпром, ВВ1 | AW11: ТП Коопзаготпром, ВВ2 | AX11: ООО Техно Пак | AY11: Полимертрейд, ВВ1 | AZ11: Полимертрейд, ВВ2 | BA11: Логинов | BB11: Консервы | BC11: Котельная | BD11: Убойный цех, Банкова | BE11: Пилорама | BF11: Холодильник | BG11: Контора | BH11: ТП-15, ПС Нелазское, Шулма, ВВ2 | BI11: ТП-12 ст.Поселковая | BJ11: Кадуй, (ТП-15) | BK11: ТП-16, п.Кадуй, Т-1 | BL11: КТП ФЖП ВВ1 | BM11: КТП ФЖП ВВ2 | BN11: КТП ДОЗ Поселок Т-1 | BO11: КТП-160 Школа | BP11: КТП Посёлок | BR11: ТП-2, Хохлово, Т-1 | BS11: ТП-5, п.Хохлово, Д/сад 2 | BT11: ТП-1, п.Хохлово, ТП1 ВВ | BU11: Хохлово ТП-4 ВВ | BV11: ТП-8, п.Хохлово, Газовая котельная | BW11: ТП-59 Новая котельная ВВ | BX11: Нифантово ТП-142 Биотек | BY11: Зона 12 ЦТАО жилзона | BZ11: Зона 12 ЦТАО | CA11: ТП-42 ВВ | CB11: Вешняки Биоочистка Водоканал | CC11: Вешняки водоочистка, Водоканал, ВВ1 | CD11: ТП Котельная, ДОЛ "Жемчужина Мологи" ВВ1 | CE11: ТП Котельная, ДОЛ "Жемчужина Мологи" ВВ2 | CF11: п/л Янтарь, ВВ1 | CG11: Парус, Жилая зона, ВВ1 | CH11: Парус, Жилая зона, ВВ2 | CI11: Вешняки водоочистка, Водоканал, ВВ2 | CJ11: ТП-111, ВВ | CK11: ТП Льнозавод ВВ1 | CL11: ТП Льнозавод ВВ2 | CM11: КТП-138 д.Обухово ВВ | CN11: ТП-58 Газпромтепло энерго, котельная, ВВ1 | CO11: ТП-58 Газпромтепло энерго, котельная, ВВ2 | CP11: ТП-98, Переселенченский пер, ВВ | CQ11: ТП-31, ВВ1 | CR11: ТП-31, ВВ2 | CS11: ТП-92, ВВ | CT11: ТП-31, п.Сазоново, ВВ | CU11: ТП-38, ВВ | CV11: ТП-27, п Сазоново, ВВ1 | CW11: ТП-27, п Сазоново, ВВ2 | CX11: ТП-32, п.Сазоново, ВВ | CY11: ТП-30, п.Сазоново, ВВ | CZ11: ТП-34, п.Сазоново, ВВ | DA11: ТП-35, п.Сазоново, ВВ | DB11: ТП-55, п.Сазоново, ВВ1 | DC11: ТП-55, п.Сазоново, ВВ2 | DD11: ТП-52, Белокрестский маслозавод, ВВ | DE11: ТП-36, п.Сазоново,ул.Авиации,ВВ | DF11: п.Сазоново, Русджам | DG11: ТП-41, ввод 1 | DH11: ТП-41, ввод 2 | DI11: ТП-37, ул.Строителей, ВВ | DJ11: ТП-39, Доломит, компрессорная, ВВ1 | DK11: ТП-39, Доломит, компрессорная, ВВ1 | DL11: ТП-59, ВВ | DM11: ТП Торфобрикетный завод, ВВ | DN11: ТП-46, Главные очистные | DO11: ТП-16, п.Чагода, Школа №2 ВВ1 | DP11: ТП 58/2 Котельная ЖКХ ВВ резерв | DQ11: ТП-47 Эмшер | DR11: ТП-58, Котельная ЖКХ ВВ осн. | DS11: ТП-13, 400+160кВА ОАО "Стройэнерго", ВВ2 | DT11: ТП-58, Котельная ЖКХ ВВ осн. | DU11: ТП-64, База ЖКХ | DV11: ТП-52, Белокрестский маслозавод, ВВ | DW11: ТП-6, Сад №2 ОАО "Аммофос" | DX11: Сад Броды | DY11: КТП 100 кВА Сад "Водник" | DZ11: ТП СНТ №11 ЧМХС, ВВ | EA11: ТП-2, Сад №1 "Аммофос" | EB11: ТП-3, Сад №9 "Череповецагрострой" | EC11: ТП-4, ВВ | ED11: ТП-5, Сад ЧСПЗ-3 | EE11: Сад № 2 ЧСПЗ | EF11: ТП-23, Малечкино, площадка, ВВ | EG11: ЦРП Парфеново, Киселево ВВ 10кВ | EH11: ЦРП Парфеново, ВВ Парфеново | EI11: КТП-63кВА, д.Афонино, ВВ | EJ11: КТП 250кВА Ферма Курилово | EK11: ТП Дачи | EL11: ТП-4, п.Малечкино, ВВ | EM11: ТП-5, п.Малечкино, ВВ | EN11: ТП-7, 160кВА, п.Малечкино, ВВ | EO11: ТП-8, 2*250кВА, п.Малечкино, ВВ1 | EP11: ТП-8, 2*250кВА, п.Малечкино, ВВ2 | EQ11: ТП-9 400 кВА В-1 Малечкино | ER11: ТП-9 400 кВА В-2 Малечкино | ES11: ТП-10, Котельная, Малечкино, ВВ2 | ET11: ТП-10, Котельная, Малечкино, ВВ1 | EU11: ТП-12, 400кВА, п.Малечкино, ВВ | EV11: ТП-14, 2*250кВА, п.Малечкино, ВВ | EW11: ТП-15, Кормоцех, Малечкино, ВВ1 | EX11: ТП-15, Кормоцех, Малечкино, ВВ2 | EY11: КТП 100 кВА Сад "Кальнинское" | EZ11: ТП-2, 250кВА "Аникор+", ВВ1 | FA11: ТП 250кВА "Аникор+", ВВ2 | FB11: ТП-2 Поселок, ВВ new | FC11: ТП 400 Школа В-1 Тоншалово | FD11: ТП 400 Школа В-2 Тоншалово | FE11: ТП 400 Очистные В-1 Тоншалово | FF11: ТП 400 Очистные В-2 Тоншалово | FG11: ТП 400 ПМК-1 В-1 | FH11: ТП 400 ПМК-1 В-2 | FI11: ТП 400 Детский сад В-1 Тоншалово | FJ11: ТП 400 Детский сад В-2 Тоншалово | FK11: ТП 250 Мелиоводстрой | FL11: ТП-250 кВА пилорама "Карат-плюс" | FM11: КТП-63кВА, д. Ново-Дубровка, ВВ | FN11: КТП-63 кВА Сад №6 Северсталь | FO11: КТП-63кВА, Хлебаево, Деревня | FP11: ВЛ-0,4, Угольная котельная (ЧерЭТС) | FQ11: ЗАО Ботово КТПБ-Фенево, ВВ1 | FR11: ЗАО Ботово КТПБ-Фенево, ВВ2 | FS11: КТП-100кВА, д.Ботово, ВВ | FT11: КТП-100кВА, Новое Ботово, ВВ | FU11: АЗС №43 Лукойл | FV11: Уличное освещение через р.Ягорба | FW11: КТП-63кВА, "Артскважина", д. Шурово, ВВ | FX11: КТП 400 кВА Комплекс д.Яганово | FY11: Машинный двор Яганово | FZ11: КТП-250кВА, д. Яганово | GA11: КТП-100кВА, Очистные Яганово | GB11: КЗС-2 Яганово, ВВ | GC11: ТП-1 Водозабор Подъем-1 | GD11: КТП 400 Поселок Поповка | GE11: ТП 100 кВА Курьяково | GF11: ТП 250 кВА Козлово | GG11: ТП 63 кВА Погорелка | GH11: КТП 250 кВА ДОРА-2 | GI11: КТП Сад. "Синтез", ВВ | GJ11: КТП 100 "ЭСПА" | GK11: КТП-63 кВА АО ВОЭК Механизаторов д.5 | GL11: КТП 400кВА Н-Васильевское | GM11: ООО "Ботово" ЦРП к-с "Петриневский" | GN11: КТНП 630 кВА № 2 "Свинокомплекс" | GO11: КТНП 250 кВА Свиноферма Сосновка | GP11: ТП 400 кВА ЦРП "Сосновка" В-1 | GQ11: ТП 400 кВА ЦРП "Сосновка" В-2 | GR11: КТП 630 кВА Жилая зона В-1 п.Коротово | GS11: КТП 630 кВА Жилая зона В-2 п.Коротово | GT11: КТП 250 кВА "Лесничество-1" | GU11: КТП 160кВА Сушильный завод п.Клопузово | GV11: КТП Ферма Соловьева | GW11: ТП-3 Общежитие В-1 Шухободь | GX11: ТП-3 Общежитие В-2 Шухободь | GY11: ТП-2х250 кВА Училище ПУ-41 В-1 | GZ11: ТП-2х250 кВА Училище ПУ-41 В-2 | HA11: ТП-1 Котельная Шухободь 400 кВА В-1 | HB11: ТП-1 Котельная Шухободь 400 кВА В-2 | HC11: ТП 160 кВА Очистные Шухободь | HD11: ТП Жилая зона 250 кВА В-1 Шухободь | HE11: ТП Жилая зона Шухободь 250 кВА В-2 | HF11: ЗАО Шухободское Комплекс, Т-2 | HG11: ЗАО Шухободское Комплекс, Т-1 | HH11: ВЛ-0,04кВ, Абаканово 4-х эт.дома | HI11: ВЛ-0,4кВ, п.Абаканово, 3-х эт.дома | HJ11: КТП 160кВА Шухободский водовод-2 | HK11: ТП 250 кВА Детский сад п.Абаканово | HL11: КТП 160 кВА "Мастерские" Абаканово | HM11: КТП 100 кВА АВМ "Алексино" | HN11: ТП 63 кВА Шухтовское лесничество | HO11: ТП ЦРП"Маслово-2" 2*250 кВА | HP11: ИП Задесенец А.В. | HQ11: ЗАО "Ботово" ТП-5 Ввод-1 | HR11: ЗАО "Ботово" ТП-5 Ввод-2 | HS11: ТП-9 ЗАО Ботово, ВВ1 | HT11: ЗАО "Ботово" ТП-Колбасный цех Ввод-1 | HU11: ЗАО "Ботово" ТП-Колбасный цех Ввод-2 | HV11: ЗАО "Ботово" ТП-7 Ввод-1 | HW11: ЗАО "Ботово" ТП-7 Ввод-2 | HX11: ЗАО "Ботово" ТП-6 Ввод-1 | HY11: ЗАО "Ботово" ТП-6 Ввод-2 | HZ11: ЗАО "Ботово" ТП-4 Ввод-1 | IA11: ЗАО "Ботово" ТП-4 Ввод-2 | IB11: ЗАО "Ботово" ТП-Воздуходувка Ввод-2 | IC11: ЗАО "Ботово" ТП-Воздуходувка Ввод-1 | ID11: ЗАО "Ботово" ТП-Очистные Ввод-1 | IE11: ЗАО "Ботово" ТП-Очистные Ввод-2 | IF11: ЗАО "Ботово" ТП-1 Ввод-1 | IG11: ЗАО "Ботово" ТП-1 Ввод-2 | IH11: ЗАО "Ботово" ТП-2 Ввод-1 | II11: ЗАО "Ботово" ТП-2 Ввод-2 | IJ11: ЗАО "Ботово" ТП-3 Ввод-1 | IK11: ЗАО "Ботово" ТП-3 Ввод-2 | IL11: ЗАО "Ботово" ТП-8 Ввод-1 | IM11: ЗАО "Ботово" КТП-Котельная Ввод-1 | IN11: ЗАО "Ботово" КТП-Котельная Ввод-2 | IO11: ЗАО "Ботово" КТП-Холодильник Ввод-1 | IP11: ЗАО "Ботово" КТП-Холодильник Ввод-2 | IQ11: ЗАО "Ботово" ТП "Борисово" | IR11: КТП-2 250кВа Сад №3 ЧМК | IS11: КТП-1 160 кВА Сад ЧМК-3 | IT11: КТП 160 кВА Сад"Заря" | IU11: КТП 160 кВА Сад "Заря-2" | IV11: ТП-Поселок Шулма | IW11: ТП Школа Шулма | IX11: КТП 250 Шулма ул.Олимпийская | IY11: ТП 400 кВА РММ Нелазское | IZ11: КТП-63 кВА "Плешаново" сад "Ива" | JA11: Газ котел Шулма №1 | JB11: Газ котел Шулма №2 | JC11: КТП Вауч, ВВ | JD11: КТП 160 кВА Дарвинский заповедник | JE11: КТП 100 кВА Борок-2 | JF11: ТП-400кВА, Домозерово, Школа, ВВ1 | JG11: ТП-400кВА, Домозерово, Школа, ВВ2 | JH11: Домозерово, Водозабор, ВВ1 | JI11: Домозерово, Водозабор, ВВ2 | JJ11: КТП 250 кВА Детский сад д.Домозерово | JK11: КТП 160 кВА Очистные Домозерово | JL11: КТПН 10/0,4 кВ "СЗМК" Н-Домозерово | JM11: ТП 400 "РММ" Домозерово | JN11: ТП 100 Детский сад п.Батран | JO11: ТП 400 Льнозавод п.Батран | JP11: КТП-63 кВА сады "Гоша" | JQ11: МТП 40 кВА "Сады Гоша-2" | JR11: ТП-63 Очистные п.Шалимово | JS11: ТП 400 Котельная В-1 Шалимово | JT11: ТП 400 Котельная В-2 Шалимово | JU11: КТП-63 кВА Водозабор Шалимово | JV11: КТП 250 кВа "Зашекснинское" | JW11: КТП-100 "Сады Петраково" | JX11: ТП Жары СЗСК (A+) | JY11: КТП-250кВА, СНТ "Березка", ВВ | JZ11: КТП-160 "Сад Пенек" | KA11: КТП 63 кВА "Кацитадзе" | KB11: КТП-250 кВА "Ивушка" | KC11: СНТ Харламовское, ВВ | KD11: КТП-25 кВА, Паршин, ВВ | KE11: КТП п Кривец, Дачи Аммофос, ВВ | KF11: ТП 100 Детский дом п.Кривец | KG11: КТП-160 кВА, Лесничество-2, ВВ | KH11: КТП-60кВА, Маслозавод, ВВ | KI11: КТП КНС-14 Ирдоматка | KJ11: ТП-209 250 кВА Тепловая Ирдоматка | KK11: КТП 250кВА Сад №4 д.Нова | KL11: КТП 400 кВА "Дачи" д.Пулово-Борисово | KM11: ТП-210, ВВ | KN11: п.Суда, Сад Черкесиха | KO11: ДНТ Шексна | KP11: КТП 250 кВА Сад "Энергетик-3" | KQ11: КТП-160 кВА "Кооп. сад №3 Энергетик" В-2 | KR11: КТП 160 кВА САд "Кит-1" | KS11: КТП 160кВА "Кадуйремдорстрой" | KT11: КТП-63 кВА д.Якимово | KU11: КТП-250 Агрофирма "Северагрогаз" ВВ1 | KV11: КТП-250 Агрофирма "Северагрогаз" ВВ2 | KW11: ТП 250 кВА ООО"Курс-лес" | KX11: КТП 250кВА Малая Руковицкая | KY11: ТП 400 кВА п.Нижние В-1 | KZ11: ТП 400 кВА п.Нижние В-2 | LA11: КТП-100 кВА Сад "Диана" | LB11: КТП-400 "Строитель" ВЛ-10кВ "Уйта" | LC11: КТП Хуторок ВВ | LD11: КТП 63 кВА Столовая с.Никольское | LE11: КТП-100 кВА "Грищи" | LF11: КТП-63 кВА д.Красное Плоское | LG11: ТП 400 кВА Комплекс"Андога" В-1 | LH11: ТП 400 кВА Комплекс"Андога" В-2 | LI11: ТП 400 кВА Комплекс"Чуприно" В-1 | LJ11: ТП 400 кВА Комплекс"Чуприно" В-2 | LK11: КТП-63 кВА п.Красная Заря | LL11: Мастерские ЭТС Кадуй | LM11: КТП Марыгино ВВ | LN11: п.Чебсара, ТП-70, "Леспромхоз" | LO11: п.Чебсара, ТП 61 ВВ | LP11: п.Чебсара, ТП 62 ВВ | LQ11: ТП-63 Первомайская ВВ | LR11: ТП-64 Дом культуры ВВ | LS11: ТП-65 Школа ВВ | LT11: КТП-74 Зеркальный цех ВВ | LU11: ЧЕБСАРА ТП-66 "Ретраслятор.Телевышка." (А) | LV11: ЧЕБСАРА ТП-67 "Баня" (А) | LW11: ЧЕБСАРА ТП-68 "Торговый центр" (А) | LX11: ЧЕБСАРА ТП-75 "Ул.Батулиных" (А) | LY11: КТП-76 Лечебная ВВ | LZ11: ЧЕБСАРА ТП-69 "Ул.Комсомольская" (А) | MA11: ТП-95 "Шекснинское АТП" (А) | MB11: КТП-105 "Сельхозхимия" (А) | MC11: КТП-106 "Летний лагерь" (А) | MD11: КТП-107-ввод 1 "Комплекс "Пача" (А) | ME11: КТП-107-ввод 2 "Комплекс "Пача" (А) | MF11: ТП-108 ввод1 "Екимовское" (А) | MG11: ТП-108 ввод2 "Екимовское" (А) | MH11: ТП-109 "Ферма"Лёво" (А) | MI11: КТП-110, СПК "Любомирово", Зерносушка | MJ11: КТП-111, Нифантово, ДОЦ "Кедр" | MK11: ТП-112 ввод 1,"Комплекс"Чаромское" (А) | ML11: ТП-112 ввод 2,"Комплекс"Чаромское" (А) | MM11: КТП-115, Чуровское, "Склад сена" ВВ | MN11: ТП-116 "Зернокомплекс" с.Чуровское (А) | MO11: КТП-117 ПСК"Пилорама ПСК"Демидово" (А) | MP11: КТП-118, КЗС "Демидово" | MQ11: КТП-119 "СТ"Веснянка" (А) | MR11: КТП-128 ввод 1 "Котельная Чуровское"(А) | MS11: КТП-128 ввод 2 "Котельная Чуровское"(А) | MT11: КТП-129 ввод1, "Котельная д."Прогресс"(А) | MU11: КТП-129 ввод 2, "Котельная д."Прогресс"(А) | MV11: КТП-134 "Карьер-2" | MW11: КТП-103, Котельная Покровское, ВВ | MX11: ТП-113 Бекон | MY11: КТП-135 "Карьер-1" | MZ11: КТП-137 "Экскаватор" | NA11: КТП-132 "Дробилка" | NB11: ТП-123 Водозабор Дурасово | NC11: КТП-136 "Карьер-4" | ND11: КТП-126 "Котельная д.Чернеево" | NE11: КТП-101 "Льносемстанция (ДРСУ)" (А) | NF11: ТП-120 "АЗС ЧП Шерстакова" (А) | NG11: КТП-122 "Покровское-Низы" (А) | NH11: КТП 124 Дурасово Водозабор №2 ВВ | NI11: КТП-130 "СТ-Легенда" | NJ11: КТП-131 "Природа" | NK11: КТП-133 "Полянка" | NL11: КТП-125 "Дом престарелых д.Княже" | NM11: ТП-102 "Котельная ввод 1" | NN11: ТП-53, Нифантово, ВВ | NO11: ТП-54, Нифантово, ВВ | NP11: ТП-127 Котельная ВВ | NQ11: ТП-57, пос.Смердомский ВВ | NR11: ТП-68, Очистные-1, ПМК-19 | NS11: ТП-43, Станция Огарево | NT11: ТП-66,ул.Зеленая | NU11: ТП-62, ул.Октября | NV11: КТП-63 кВА "Водозабор" (Мегрино) | NW11: ВЛ-23, д.Бараново | NX11: ТП-62 "Скважина" ВЛ-10кВ Володино | NY11: ТП-49 "Боровая" | NZ11: ТП-56 "КНС" | OB11: КТП Шайма ВВ | OC11: КТП Оношево ВВ | OD11: Офис | OE11: ТП-107 > Пр. база (ул. Механизаторов, 3а) | OF11: ТП-107 > Цех ТМХ | OG11: ТП-17 п. Кадуй > яч. 2 отдача (ф. ТП-18 яч.1) | OH11: ТП-19 п. Кадуй > яч. 6 отдача (ф. ТП-18 яч.1) | OI11: ТП-451 | OJ11: ТП-59 | OK11: ТП Жилзона (ПЛ Жемчужина Мологи) | OL11: ТП-Кадуйагропромэнерго | OM11: ТП-Кадуймежхозлес | ON11: ТП-Кадуйское ДЭУ | OO11: Я Ч.31.1 | OP11: Я Ч.24.3 | OQ11: Яч.12-Водозабор-1 | OR11: Яч.19-Водозабор-2 | OS11: Яч.23-Производственный | OT11: КНС | OU11: Пищекомбинат | OV11: ТП-66 "Устюженский тракт" | OW11: ТП-31 "Устюженский тракт | OX11: Сумма
B12: 15604835 | C12: 15744525 | D12: 09315652 | E12: 15650790 | F12: 06045518 | G12: 06045499 | H12: 26614298 | I12: 11188386 | J12: 11143167 | K12: 11131128 | L12: 25629954 | M12: 26614349 | N12: 25630027 | O12: 26614428 | P12: 19098673 | Q12: 21810065 | R12: 10198022 | S12: 18700983 | T12: 16944597 | U12: 19103656 | V12: 21147798 | W12: 21147797 | X12: 21151582 | Y12: 21151429 | Z12: 19095149 | AA12: 19103452 | AB12: 21147795 | AC12: 24396102 | AD12: 24396037 | AE12: 19103420 | AF12: 07949314 | AG12: 21151528 | AH12: 25630142 | AI12: 26043556 | AJ12: 11130995 | AK12: 13098178 | AL12: 19103699 | AM12: 19491916 | AN12: 19491935 | AO12: 19489905 | AP12: 19491917 | AQ12: 19491932 | AR12: 19489947 | AS12: 11143159 | AT12: 10176564 | AU12: 26614181 | AV12: 07949445 | AW12: 09254494 | AX12: 20307061 | AY12: 09254468 | AZ12: 09274341 | BA12: 05595888 | BB12: 17617966 | BC12: 18751137 | BD12: 19514648 | BE12: 19476705 | BF12: 19453496 | BG12: 21180670 | BH12: 15743859 | BI12: 11145203 | BJ12: 11145216 | BK12: 11139012 | BL12: 11143162 | BM12: 19093142 | BN12: 11131143 | BO12: 11131019 | BP12: 11143130 | BR12: 11143165 | BS12: 11131125 | BT12: 11143154 | BU12: 11143160 | BV12: 11139043 | BW12: 19104140 | BX12: 13098541 | BY12: 20143711 | BZ12: 20143706 | CA12: 15650536 | CB12: 15650803 | CC12: 15650752 | CD12: 18430777 | CE12: 15744201 | CF12: 13098189 | CG12: 15575405 | CH12: 14758675 | CI12: 15650808 | CJ12: 11131009 | CK12: 11086268 | CL12: 13139426 | CM12: 15662731 | CN12: 19104173 | CO12: 19104341 | CP12: 13139451 | CQ12: 25630048 | CR12: 25630026 | CS12: 11196696 | CT12: 15744415 | CU12: 13067980 | CV12: 13149107 | CW12: 13149279 | CX12: 13149282 | CY12: 13149252 | CZ12: 13149090 | DA12: 11143104 | DB12: 13149097 | DC12: 13148467 | DD12: 17493769 | DE12: 16946415 | DF12: 13028160 | DG12: 13154223 | DH12: 13149106 | DI12: 13065596 | DJ12: 18430647 | DK12: 18430412 | DL12: 11131116 | DM12: 21744284 | DN12: 10176570 | DO12: 11130997 | DP12: 15650375 | DQ12: 15650823 | DR12: 11086431 | DS12: 15744491 | DT12: 11086431 | DU12: 23977115 | DV12: 17493769 | DW12: 11086419 | DX12: 13125918 | DY12: 7942401 | DZ12: 7937270 | EA12: 11086376 | EB12: 11086402 | EC12: 26049102 | ED12: 11086412 | EE12: 26049122 | EF12: 19099845 | EG12: 15620552 | EH12: 18427883 | EI12: 15749411 | EJ12: 17493808 | EK12: 13153670 | EL12: 19103962 | EM12: 19104010 | EN12: 19470592 | EO12: 21147965 | EP12: 19470602 | EQ12: 15628412 | ER12: 16944787 | ES12: 15628416 | ET12: 15628449 | EU12: 19470578 | EV12: 19470606 | EW12: 13097932 | EX12: 13125890 | EY12: 13098182 | EZ12: 15599740 | FA12: 15650762 | FB12: 11130965 | FC12: 11143161 | FD12: 11131015 | FE12: 13098198 | FF12: 13098175 | FG12: 15743786 | FH12: 15628391 | FI12: 11131000 | FJ12: 11143152 | FK12: 15743892 | FL12: 25503859 | FM12: 18430596 | FN12: 18430372 | FO12: 26614137 | FP12: 19103702 | FQ12: 15628224 | FR12: 21733293 | FS12: 15744345 | FT12: 16937093 | FU12: 10176352 | FV12: 15659478 | FW12: 19465112 | FX12: 15628210 | FY12: 15650590 | FZ12: 15745908 | GA12: 15745902 | GB12: 15741185 | GC12: 6249453 | GD12: 15650744 | GE12: 15650798 | GF12: 16944802 | GG12: 15744283 | GH12: 16944944 | GI12: 13097943 | GJ12: 13098209 | GK12: 10176561 | GL12: 13155095 | GM12: 15628418 | GN12: 11086110 | GO12: 19103638 | GP12: 10176388 | GQ12: 11086240 | GR12: 16949718 | GS12: 16949805 | GT12: 15745835 | GU12: 15744386 | GV12: 19103631 | GW12: 15744464 | GX12: 15744566 | GY12: 16949907 | GZ12: 16927659 | HA12: 16937055 | HB12: 16927460 | HC12: 9254347 | HD12: 16945045 | HE12: 16949798 | HF12: 19103635 | HG12: 11086450 | HH12: 15744541 | HI12: 16927818 | HJ12: 19094522 | HK12: 15741183 | HL12: 15650528 | HM12: 19103428 | HN12: 16944662 | HO12: 19103991 | HP12: 19103454 | HQ12: 10190682 | HR12: 09272994 | HS12: 13159676 | HT12: 004226 | HU12: 338711 | HV12: 11130751 | HW12: 11139045 | HX12: 09334602 | HY12: 09334707 | HZ12: 07949185 | IA12: 11130976 | IB12: 09288561 | IC12: 10190345 | ID12: 11131093 | IE12: 11130727 | IF12: 13531370 | IG12: 13531364 | IH12: 10190969 | II12: 11078932 | IJ12: 13532096 | IK12: 13537601 | IL12: 13167880 | IM12: 13534023 | IN12: 13522131 | IO12: 11131081 | IP12: 11131088 | IQ12: 11130750 | IR12: 15650825 | IS12: 18430343 | IT12: 15650747 | IU12: 18430649 | IV12: 21252614 | IW12: 16944786 | IX12: 16927658 | IY12: 19465107 | IZ12: 16949003 | JA12: 15650775 | JB12: 15650755 | JC12: 19103443 | JD12: 15743788 | JE12: 15743798 | JF12: 21733686 | JG12: 11131113 | JH12: 11088242 | JI12: 11086103 | JJ12: 15741193 | JK12: 11086147 | JL12: 13093574 | JM12: 15743801 | JN12: 15741191 | JO12: 11086311 | JP12: 28773147 | JQ12: 21748971 | JR12: 15650745 | JS12: 15743714 | JT12: 15744344 | JU12: 15650829 | JV12: 11143150 | JW12: 11131131 | JX12: 26039780 | JY12: 19470560 | JZ12: 15745844 | KA12: 19099768 | KB12: 16944596 | KC12: 17493842 | KD12: 19103469 | KE12: 19093106 | KF12: 19093382 | KG12: 16949987 | KH12: 19093181 | KI12: 15628405 | KJ12: 15749450 | KK12: 16927688 | KL12: 11131007 | KM12: 25418334 | KN12: 15744339 | KO12: 21733685 | KP12: 11143155 | KQ12: 11131013 | KR12: 11131124 | KS12: 11143103 | KT12: 11130991 | KU12: 11131149 | KV12: 11130940 | KW12: 11130934 | KX12: 13125931 | KY12: 11145223 | KZ12: 11145381 | LA12: 11130959 | LB12: 11131001 | LC12: 11139032 | LD12: 11130958 | LE12: 11130994 | LF12: 11130929 | LG12: 19090796 | LH12: 19090578 | LI12: 11139007 | LJ12: 11172285 | LK12: 11143149 | LL12: 19094473 | LM12: 19093082 | LN12: 11086238 | LO12: 16949968 | LP12: 16949803 | LQ12: 19470559 | LR12: 19470545 | LS12: 19470552 | LT12: 16949905 | LU12: 17661498 | LV12: 19488470 | LW12: 19489987 | LX12: 19481600 | LY12: 19488462 | LZ12: 11113885 | MA12: 11086266 | MB12: 11086432 | MC12: 11086482 | MD12: 11086444 | ME12: 11086392 | MF12: 11086452 | MG12: 11086106 | MH12: 11086326 | MI12: 11086320 | MJ12: 11086390 | MK12: 11086264 | ML12: 11086254 | MM12: 11086263 | MN12: 11086448 | MO12: 11086358 | MP12: 11086361 | MQ12: 11086372 | MR12: 11086414 | MS12: 11086239 | MT12: 11086387 | MU12: 11086395 | MV12: 11086314 | MW12: 11086265 | MX12: 13126280 | MY12: 13125994 | MZ12: 13098217 | NA12: 13098148 | NB12: 13098213 | NC12: 15650415 | ND12: 13097956 | NE12: 13098097 | NF12: 15662727 | NG12: 15619222 | NH12: 13097949 | NI12: 15666442 | NJ12: 15619232 | NK12: 15662744 | NL12: 19103608 | NM12: 19103596 | NN12: 11143107 | NO12: 21147742 | NP12: 10176316 | NQ12: 15744543 | NR12: 13126330 | NS12: 19094520 | NT12: 16944667 | NU12: 16944811 | NV12: 10176353 | NW12: 15650771 | OA12: Вологдаэнерго (голова) | OB12: Оборонэнерго | OD12: Электросеть | OO12: ФосАгро ГПП-5 | OQ12: ШРГСиС | OT12: СЖД | OV12: РЖД
B13: 2000 | C13: 120 | D13: 4000 | E13: 120 | F13: 120 | G13: 120 | H13: 1 | I13: 1 | J13: 120 | K13: 60 | L13: 60 | M13: 120 | N13: 80 | O13: 40 | P13: 1 | Q13: 1 | R13: 1 | S13: 150 | T13: 30 | U13: 40 | V13: 40 | W13: 40 | X13: 40 | Y13: 40 | Z13: 30 | AA13: 120 | AB13: 120 | AC13: 40 | AD13: 40 | AE13: 80 | AF13: 80 | AG13: 120 | AH13: 120 | AI13: 120 | AJ13: 30 | AK13: 30 | AL13: 120 | AM13: 40 | AN13: 40 | AO13: 40 | AP13: 40 | AQ13: 40 | AR13: 40 | AS13: 80 | AT13: 80 | AU13: 30 | AV13: 120 | AW13: 120 | AX13: 30 | AY13: 60 | AZ13: 40 | BA13: 120 | BB13: 80 | BC13: 30 | BD13: 30 | BE13: 30 | BF13: 30 | BG13: 30 | BH13: 120 | BI13: 1 | BJ13: 1 | BK13: 1 | BL13: 1 | BM13: 1 | BN13: 60 | BO13: 1 | BP13: 1 | BR13: 1 | BS13: 60 | BT13: 120 | BU13: 1 | BV13: 80 | BW13: 80 | BX13: 400 | BY13: 1800 | BZ13: 1800 | CA13: 120 | CB13: 40 | CC13: 40 | CD13: 120 | CE13: 120 | CF13: 80 | CG13: 80 | CH13: 80 | CI13: 40 | CJ13: 80 | CK13: 300 | CL13: 300 | CM13: 1 | CN13: 160 | CO13: 160 | CP13: 120 | CQ13: 200 | CR13: 200 | CS13: 200 | CT13: 30 | CU13: 80 | CV13: 120 | CW13: 120 | CX13: 120 | CY13: 120 | CZ13: 120 | DA13: 1 | DB13: 120 | DC13: 120 | DD13: 80 | DE13: 40 | DF13: 20 | DG13: 120 | DH13: 120 | DI13: 120 | DJ13: 300 | DK13: 300 | DL13: 1 | DM13: 160 | DN13: 80 | DO13: 1 | DP13: 160 | DQ13: 1 | DR13: 200 | DS13: 60 | DT13: 200 | DU13: 50 | DV13: 80 | DW13: 40 | DX13: 30 | DY13: 30 | DZ13: 20 | EA13: 120 | EB13: 60 | EC13: 120 | ED13: 60 | EE13: 80 | EF13: 20 | EG13: 0 | EH13: 3000 | EI13: 20 | EJ13: 80 | EK13: 60 | EL13: 120 | EM13: 120 | EN13: 60 | EO13: 80 | EP13: 80 | EQ13: 120 | ER13: 120 | ES13: 120 | ET13: 120 | EU13: 120 | EV13: 80 | EW13: 60 | EX13: 60 | EY13: 40 | EZ13: 80 | FA13: 80 | FB13: 200 | FC13: 120 | FD13: 120 | FE13: 120 | FF13: 120 | FG13: 120 | FH13: 120 | FI13: 120 | FJ13: 120 | FK13: 200 | FL13: 120 | FM13: 20 | FN13: 20 | FO13: 30 | FP13: 40 | FQ13: 200 | FR13: 200 | FS13: 30 | FT13: 40 | FU13: 30 | FV13: 1 | FW13: 20 | FX13: 120 | FY13: 120 | FZ13: 80 | GA13: 30 | GB13: 80 | GC13: 40 | GD13: 120 | GE13: 30 | GF13: 80 | GG13: 30 | GH13: 30 | GI13: 60 | GJ13: 20 | GK13: 20 | GL13: 120 | GM13: 120 | GN13: 200 | GO13: 80 | GP13: 120 | GQ13: 120 | GR13: 200 | GS13: 200 | GT13: 80 | GU13: 120 | GV13: 20 | GW13: 60 | GX13: 60 | GY13: 80 | GZ13: 80 | HA13: 120 | HB13: 120 | HC13: 60 | HD13: 80 | HE13: 80 | HF13: 120 | HG13: 120 | HH13: 40 | HI13: 30 | HJ13: 1 | HK13: 80 | HL13: 60 | HM13: 30 | HN13: 30 | HO13: 80 | HP13: 30 | HQ13: 200 | HR13: 200 | HS13: 200 | HT13: 120 | HU13: 160 | HV13: 120 | HW13: 120 | HX13: 200 | HY13: 200 | HZ13: 120 | IA13: 120 | IB13: 300 | IC13: 300 | ID13: 200 | IE13: 200 | IF13: 120 | IG13: 120 | IH13: 200 | II13: 200 | IJ13: 120 | IK13: 120 | IL13: 200 | IM13: 200 | IN13: 200 | IO13: 80 | IP13: 80 | IQ13: 60 | IR13: 60 | IS13: 60 | IT13: 60 | IU13: 60 | IV13: 120 | IW13: 120 | IX13: 60 | IY13: 60 | IZ13: 30 | JA13: 60 | JB13: 60 | JC13: 1 | JD13: 80 | JE13: 80 | JF13: 120 | JG13: 120 | JH13: 30 | JI13: 30 | JJ13: 80 | JK13: 60 | JL13: 200 | JM13: 120 | JN13: 40 | JO13: 120 | JP13: 20 | JQ13: 20 | JR13: 20 | JS13: 120 | JT13: 120 | JU13: 40 | JV13: 40 | JW13: 30 | JX13: 40 | JY13: 80 | JZ13: 80 | KA13: 30 | KB13: 80 | KC13: 40 | KD13: 20 | KE13: 20 | KF13: 20 | KG13: 80 | KH13: 40 | KI13: 20 | KJ13: 80 | KK13: 80 | KL13: 120 | KM13: 80 | KN13: 60 | KO13: 40 | KP13: 60 | KQ13: 60 | KR13: 20 | KS13: 60 | KT13: 20 | KU13: 60 | KV13: 60 | KW13: 40 | KX13: 80 | KY13: 80 | KZ13: 80 | LA13: 20 | LB13: 60 | LC13: 80 | LD13: 20 | LE13: 20 | LF13: 15 | LG13: 200 | LH13: 200 | LI13: 80 | LJ13: 120 | LL13: 1 | LM13: 30 | LN13: 120 | LO13: 80 | LP13: 80 | LQ13: 80 | LR13: 60 | LS13: 60 | LT13: 60 | LU13: 1 | LV13: 30 | LW13: 60 | LX13: 30 | LY13: 30 | LZ13: 30 | MA13: 60 | MB13: 80 | MC13: 60 | MD13: 120 | ME13: 120 | MF13: 120 | MG13: 120 | MH13: 200 | MI13: 120 | MJ13: 80 | MK13: 120 | ML13: 120 | MM13: 80 | MN13: 200 | MO13: 80 | MP13: 120 | MQ13: 30 | MR13: 60 | MS13: 60 | MT13: 80 | MU13: 80 | MV13: 80 | MW13: 60 | MX13: 1 | MY13: 80 | MZ13: 60 | NA13: 80 | NB13: 60 | NC13: 200 | ND13: 60 | NE13: 60 | NF13: 1 | NG13: 60 | NH13: 30 | NI13: 1 | NJ13: 30 | NK13: 1 | NL13: 40 | NM13: 60 | NN13: 40 | NO13: 60 | NP13: 40 | NQ13: 160 | NR13: 1 | NS13: 1 | NT13: 60 | NU13: 50 | NV13: 20 | NW13: 60 | NX13: 20 | NY13: 80 | NZ13: 60 | OB13: 20 | OC13: 1
A14: 43817 | B14: 85.8 | C14: 124.74 | D14: 0 | E14: 0.78 | F14: 3.048 | G14: 33.048 | H14: 4.06 | I14: 0 | J14: 29.58 | K14: 36 | L14: 6.42 | M14: 24.18 | N14: 36.84 | O14: 0 | P14: 0 | Q14: 0 | R14: 0 | S14: 0 | T14: 22.365 | U14: 2.62 | V14: 0.32 | W14: 0.28 | X14: 4.5 | Y14: 0.44 | Z14: 0.495 | AA14: 0 | AB14: 48.24 | AC14: 16.44 | AD14: 16.2 | AE14: 6.44 | AF14: 0 | AG14: 0 | AH14: 9.72 | AI14: 67.56 | AJ14: 25.965 | AK14: 32.295 | AL14: 10.74 | AM14: 27.12 | AN14: 10.64 | AO14: 38 | AP14: 53.8 | AQ14: 3.22 | AR14: 17.84 | AS14: 11.12 | AT14: 102.6 | AU14: 0.24 | AV14: 0 | AW14: 120 | AX14: 0 | AY14: 0 | AZ14: 0 | BA14: 0 | BB14: 0 | BC14: 0 | BD14: 0 | BE14: 0 | BF14: 0 | BG14: 0 | BH14: 68.28 | BI14: 0.434 | BJ14: 0.701 | BK14: 0.6715 | BL14: 0.074 | BM14: 0.011 | BN14: 38.73 | BO14: 0.6505 | BP14: 0.516 | BR14: 0.653 | BS14: 17.67 | BT14: 99.72 | BU14: 0.6405 | BV14: 69.8 | BW14: 63.36 | BX14: 317.8 | BY14: 0 | BZ14: 52.2 | CA14: 12.3 | CB14: 18.46 | CC14: 0 | CD14: 0 | CE14: 1.68 | CF14: 6.96 | CG14: 0 | CH14: 39.28 | CI14: 42.96 | CJ14: 17.84 | CK14: 0 | CL14: 0 | CM14: 4.053 | CN14: 134.24 | CO14: 136.24 | CP14: 70.5 | CQ14: 0 | CR14: 0 | CS14: 90.9 | CT14: 10.215 | CU14: 12.84 | CV14: 113.7 | CW14: 0 | CX14: 46.86 | CY14: 70.02 | CZ14: 54.18 | DA14: 0.65 | DB14: 0 | DC14: 0 | DD14: 21.84 | DE14: 15.4 | DF14: 0 | DG14: 15.48 | DH14: 0 | DI14: 77.52 | DJ14: 3.3 | DK14: 8.4 | DL14: 0.427 | DM14: 0 | DN14: 7.24 | DO14: 0.6095 | DP14: 0 | DQ14: 15.5655 | DR14: 127.9 | DS14: 0 | DT14: 127.9 | DU14: 0 | DV14: 21.84 | DW14: 0 | DX14: 2.55 | DY14: 0.375 | DZ14: 1.87 | EA14: 4.2 | EB14: 4.56 | EC14: 5.52 | ED14: 0 | EE14: 17.84 | EF14: 0 | EG14: 0 | EH14: 0 | EI14: 0.87 | EJ14: 1.56 | EK14: 0 | EL14: 0 | EM14: 8.88 | EN14: 29.91 | EO14: 17.28 | EP14: 16.44 | EQ14: 0 | ER14: 16.68 | ES14: 5.928 | ET14: 14.496 | EU14: 65.1 | EV14: 32.48 | EW14: 3.3 | EX14: 0 | EY14: 0.76 | EZ14: 0 | FA14: 12.88 | FB14: 158.7 | FC14: 23.82 | FD14: 15.48 | FE14: 142.14 | FF14: 34.02 | FG14: 0 | FH14: 33 | FI14: 50.7 | FJ14: 62.94 | FK14: 177.3 | FL14: 73.56 | FM14: 0.34 | FN14: 0.06 | FO14: 2.73 | FP14: 0 | FQ14: 46.7 | FR14: 24.2 | FS14: 26.205 | FT14: 5.36 | FU14: 14.97 | FV14: 12.853 | FW14: 12.72 | FX14: 48.6 | FY14: 1.38 | FZ14: 70.36 | GA14: 4.755 | GB14: 4.96 | GC14: 0.28 | GD14: 15.9 | GE14: 48.6 | GF14: 5.24 | GG14: 0.24 | GH14: 1.185 | GI14: 2.31 | GJ14: 0.68 | GK14: 4.06 | GL14: 12 | GM14: 1219.6 | GN14: 1.84 | GO14: 0.28 | GP14: 0 | GQ14: 0 | GR14: 56 | GS14: 61.2 | GT14: 1.92 | GU14: 21.42 | GV14: 0.28 | GW14: 0 | GX14: 29.55 | GY14: 0.28 | GZ14: 0 | HA14: 8.94 | HB14: 44.34 | HC14: 3.54 | HD14: 25.12 | HE14: 48.48 | HF14: 0 | HG14: 0 | HH14: 32.575 | HI14: 25.1 | HJ14: 0.966 | HK14: 3.12 | HL14: 5.2 | HM14: 3.45 | HN14: 8.92 | HO14: 11.48 | HP14: 0.06 | HQ14: 0 | HR14: 0 | HS14: 0 | HT14: 0 | HU14: 0 | HV14: 0 | HW14: 0 | HX14: 0 | HY14: 0 | HZ14: 0 | IA14: 0 | IB14: 0 | IC14: 0 | ID14: 0 | IE14: 0 | IF14: 0 | IG14: 0 | IH14: 0 | II14: 0 | IJ14: 0 | IK14: 0 | IL14: 0 | IM14: 0 | IN14: 4.9 | IO14: 0 | IP14: 0 | IQ14: 0 | IR14: 5.19 | IS14: 4.53 | IT14: 10.89 | IU14: 21.312 | IV14: 129.3 | IW14: 74.46 | IX14: 46.68 | IY14: 9.12 | IZ14: 9.09 | JA14: 0 | JB14: 38.34 | JC14: 0.0425 | JD14: 26.12 | JE14: 12.52 | JF14: 11.448 | JG14: 26.16 | JH14: 0 | JI14: 2.79 | JJ14: 29.88 | JK14: 6.06 | JL14: 61.7 | JM14: 46.44 | JN14: 13.2 | JO14: 0 | JP14: 0.4 | JQ14: 5.1 | JR14: 0.01 | JS14: 0 | JT14: 39.96 | JU14: 0.04 | JV14: 4.34 | JW14: 0.75 | JX14: 16.16 | JY14: 69.48 | JZ14: 101.96 | KA14: 9.63 | KB14: 60.96 | KC14: 29.26 | KD14: 0 | KE14: 0.02 | KF14: 3.17 | KG14: 9.8 | KH14: 5.28 | KI14: 5.8 | KJ14: 30.24 | KK14: 39.16 | KL14: 33.54 | KM14: 60.84 | KN14: 4.77 | KO14: 81.2 | KP14: 0 | KQ14: 11.97 | KR14: 0.74 | KS14: 0 | KT14: 8.5 | KU14: 4.2 | KV14: 0 | KW14: 5.06 | KX14: 0 | KY14: 31.2 | KZ14: 137.36 | LA14: 16.83 | LB14: 6.69 | LC14: 15 | LD14: 0.42 | LE14: 5.85 | LF14: 0.555 | LG14: 0 | LH14: 135 | LI14: 0 | LJ14: 16.87 | LK14: 0.95 | LL14: 0 | LM14: 0.555 | LN14: 4.2 | LO14: 25.56 | LP14: 30.68 | LQ14: 46.88 | LR14: 12.78 | LS14: 49.65 | LT14: 7.35 | LU14: 11.229 | LV14: 11.1 | LW14: 17.25 | LX14: 10.68 | LY14: 14.415 | LZ14: 7.785 | MA14: 7.11 | MB14: 0 | MC14: 0 | MD14: 51.12 | ME14: 51.12 | MF14: 0 | MG14: 0 | MH14: 20 | MI14: 0 | MJ14: 0 | MK14: 0 | ML14: 82.86 | MM14: 0.8 | MN14: 11.1 | MO14: 2.2 | MP14: 0 | MQ14: 1.92 | MR14: 0 | MS14: 18.48 | MT14: 12.8 | MU14: 0 | MV14: 5.04 | MW14: 0 | MX14: 0 | MY14: 14.56 | MZ14: 0.08 | NA14: 0 | NB14: 1.86 | NC14: 0 | ND14: 1.95 | NE14: 4.32 | NF14: 5.165 | NG14: 20.04 | NH14: 8.385 | NI14: 0.077 | NJ14: 0 | NK14: 0 | NL14: 21.1 | NM14: 2.4 | NN14: 72.1 | NO14: 54.75 | NP14: 0 | NQ14: 72.24 | NR14: 0 | NS14: 4.483 | NT14: 20.55 | NU14: 16.375 | NV14: 7.1 | NW14: 2.16 | NX14: 0 | NY14: 0 | NZ14: 0 | OA14: ='Прием от ВЭ'!BT7 -> 17874.972 | OB14: 8.14 | OC14: 0.407 | OD14: 0 | OE14: 5.31 | OF14: 5.75 | OG14: 0 | OH14: 0 | OI14: 32.1 | OJ14: 32.98 | OK14: 36 | OL14: 3.08 | OM14: 0.82 | ON14: 7.75 | OO14: 0.36 | OP14: 6.66 | OQ14: 20 | OR14: 60 | OS14: 670 | OT14: 56 | OU14: 19 | OV14: 14.76 | OW14: 20.84 | OX14: =SUM(DW14:OW14) -> 24334.013
A15: =$A$14+TIME(1,0,0) -> 43817.042 | B15: 80.6 | C15: 126.78 | D15: 0 | E15: 0.78 | F15: 3.048 | G15: 33.048 | H15: 3.84 | I15: 0 | J15: 38.4 | K15: 33.48 | L15: 5.62 | M15: 21.18 | N15: 35 | O15: 0 | P15: 0 | Q15: 0 | R15: 0 | S15: 0 | T15: 21.84 | U15: 2.68 | V15: 0.3 | W15: 0.42 | X15: 4.5 | Y15: 0.5 | Z15: 0.495 | AA15: 0 | AB15: 49.08 | AC15: 16.42 | AD15: 16.18 | AE15: 6.28 | AF15: 0 | AG15: 0 | AH15: 9.72 | AI15: 67.62 | AJ15: 23.865 | AK15: 30.405 | AL15: 14.22 | AM15: 35.26 | AN15: 9.66 | AO15: 36.16 | AP15: 53.12 | AQ15: 3.18 | AR15: 17.1 | AS15: 11.12 | AT15: 102.56 | AU15: 0.225 | AV15: 0 | AW15: 120 | AX15: 0 | AY15: 0 | AZ15: 0 | BA15: 0 | BB15: 0 | BC15: 0 | BD15: 0 | BE15: 0 | BF15: 0 | BG15: 0 | BH15: 66.36 | BI15: 0.414 | BJ15: 0.549 | BK15: 0.539 | BL15: 0.0535 | BM15: 0.0045 | BN15: 34.32 | BO15: 0.6145 | BP15: 0.518 | BR15: 0.576 | BS15: 8.94 | BT15: 79.08 | BU15: 0.6275 | BV15: 70 | BW15: 63.92 | BX15: 295.2 | BY15: 0 | BZ15: 52.2 | CA15: 10.92 | CB15: 18.66 | CC15: 0 | CD15: 0 | CE15: 1.74 | CF15: 6.88 | CG15: 0 | CH15: 38.68 | CI15: 43.26 | CJ15: 16.8 | CK15: 0 | CL15: 0 | CM15: 3.758 | CN15: 131.28 | CO15: 135.04 | CP15: 65.64 | CQ15: 0 | CR15: 0 | CS15: 85 | CT15: 8.415 | CU15: 12.44 | CV15: 104.22 | CW15: 0 | CX15: 41.88 | CY15: 64.32 | CZ15: 47.52 | DA15: 0.617 | DB15: 0 | DC15: 0 | DD15: 20.56 | DE15: 12.86 | DF15: 0 | DG15: 15.96 | DH15: 0.06 | DI15: 63 | DJ15: 3.3 | DK15: 8.25 | DL15: 0.409 | DM15: 0 | DN15: 7.24 | DO15: 0.5045 | DP15: 0 | DQ15: 11.3195 | DR15: 127.7 | DS15: 0 | DT15: 127.7 | DU15: 0 | DV15: 20.56 | DW15: 0 | DX15: 2.52 | DY15: 0.345 | DZ15: 1.78 | EA15: 5.76 | EB15: 3.72 | EC15: 5.52 | ED15: 0 | EE15: 17.76 | EF15: 0 | EG15: 0 | EH15: 0 | EI15: 0.82 | EJ15: 1.52 | EK15: 0 | EL15: 0 | EM15: 9.48 | EN15: 25.14 | EO15: 14.36 | EP15: 14.84 | EQ15: 0 | ER15: 16.74 | ES15: 5.808 | ET15: 14.256 | EU15: 67.86 | EV15: 29.32 | EW15: 3.27 | EX15: 0 | EY15: 0.78 | EZ15: 0 | FA15: 13.24 | FB15: 129.1 | FC15: 23.1 | FD15: 13.32 | FE15: 140.82 | FF15: 33.18 | FG15: 0 | FH15: 30.66 | FI15: 40.08 | FJ15: 54.3 | FK15: 165.6 | FL15: 57 | FM15: 0.33 | FN15: 0.12 | FO15: 2.295 | FP15: 0 | FQ15: 34.8 | FR15: 35.7 | FS15: 25.335 | FT15: 5.7 | FU15: 14.64 | FV15: 12.794 | FW15: 13.05 | FX15: 46.56 | FY15: 1.38 | FZ15: 67.16 | GA15: 4.665 | GB15: 5.12 | GC15: 0.42 | GD15: 15.06 | GE15: 46.56 | GF15: 5.04 | GG15: 0.84 | GH15: 1.68 | GI15: 2.31 | GJ15: 0.67 | GK15: 4.12 | GL15: 11.46 | GM15: 1153.2 | GN15: 1.68 | GO15: 0.24 | GP15: 0 | GQ15: 0 | GR15: 52.4 | GS15: 55.8 | GT15: 1.68 | GU15: 7.38 | GV15: 0.1 | GW15: 0 | GX15: 28.2 | GY15: 0.1 | GZ15: 0 | HA15: 7.62 | HB15: 42.96 | HC15: 3.33 | HD15: 23.08 | HE15: 47.36 | HF15: 0 | HG15: 0 | HH15: 30.25 | HI15: 22.9 | HJ15: 0.963 | HK15: 2.88 | HL15: 2.3 | HM15: 3.255 | HN15: 8.24 | HO15: 10 | HP15: 0.045 | HQ15: 0 | HR15: 0 | HS15: 0 | HT15: 0 | HU15: 0 | HV15: 0 | HW15: 0 | HX15: 0 | HY15: 0 | HZ15: 0 | IA15: 0 | IB15: 0 | IC15: 0 | ID15: 0 | IE15: 0 | IF15: 0 | IG15: 0 | IH15: 0 | II15: 0 | IJ15: 0 | IK15: 0 | IL15: 0 | IM15: 0 | IN15: 4.7 | IO15: 0 | IP15: 0 | IQ15: 0 | IR15: 5.07 | IS15: 4.53 | IT15: 9.09 | IU15: 20.82 | IV15: 117 | IW15: 67.56 | IX15: 45.33 | IY15: 9.3 | IZ15: 8.94 | JA15: 0 | JB15: 38.28 | JC15: 0.043 | JD15: 23.48 | JE15: 12.04 | JF15: 10.272 | JG15: 24.312 | JH15: 0 | JI15: 2.76 | JJ15: 26.4 | JK15: 6.03 | JL15: 93.7 | JM15: 46.14 | JN15: 12.6 | JO15: 0 | JP15: 0.425 | JQ15: 5.07 | JR15: 0.02 | JS15: 0 | JT15: 37.98 | JU15: 0.04 | JV15: 3.98 | JW15: 0.78 | JX15: 15.26 | JY15: 57.32 | JZ15: 115.68 | KA15: 10.425 | KB15: 53.56 | KC15: 27.28 | KD15: 0 | KE15: 0.02 | KF15: 3.13 | KG15: 9.84 | KH15: 6.46 | KI15: 5.77 | KJ15: 29.72 | KK15: 39.44 | KL15: 28.74 | KM15: 59.28 | KN15: 4.68 | KO15: 77.64 | KP15: 0 | KQ15: 16.08 | KR15: 0.72 | KS15: 0 | KT15: 6.86 | KU15: 4.2 | KV15: 0 | KW15: 5.06 | KX15: 0 | KY15: 26.8 | KZ15: 136.04 | LA15: 16.04 | LB15: 7.38 | LC15: 14.24 | LD15: 0.46 | LE15: 6.11 | LF15: 0.6225 | LG15: 0 | LH15: 140 | LI15: 0 | LJ15: 21.3 | LK15: 0.94 | LL15: 0 | LM15: 0.6225 | LN15: 1.56 | LO15: 23.48 | LP15: 27.04 | LQ15: 41.28 | LR15: 11.88 | LS15: 44.4 | LT15: 7.05 | LU15: 11.558 | LV15: 10.41 | LW15: 16.77 | LX15: 10.545 | LY15: 14.04 | LZ15: 6.795 | MA15: 6.63 | MB15: 0 | MC15: 0 | MD15: 38.16 | ME15: 38.16 | MF15: 0 | MG15: 0 | MH15: 15.1 | MI15: 0 | MJ15: 0 | MK15: 0 | ML15: 84.12 | MM15: 0.72 | MN15: 11.1 | MO15: 1.96 | MP15: 0 | MQ15: 1.92 | MR15: 0 | MS15: 18.45 | MT15: 12.92 | MU15: 0 | MV15: 5.12 | MW15: 0 | MX15: 0 | MY15: 15.08 | MZ15: 0.04 | NA15: 0 | NB15: 1.2 | NC15: 0 | ND15: 1.95 | NE15: 4.35 | NF15: 5.074 | NG15: 20.91 | NH15: 7.38 | NI15: 0.209 | NJ15: 0 | NK15: 0 | NL15: 21.38 | NM15: 2.4 | NN15: 59.62 | NO15: 49.05 | NP15: 0 | NQ15: 63.36 | NR15: 0 | NS15: 3.146 | NT15: 18.84 | NU15: 12.6 | NV15: 5.32 | NW15: 1.95 | NX15: 0 | NY15: 0 | NZ15: 0 | OA15: ='Прием от ВЭ'!BT8 -> 16903.287 | OB15: 7.14 | OC15: 0.357 | OD15: 0 | OE15: 5.24 | OF15: 5.85 | OG15: 0 | OH15: 0 | OI15: 27.1 | OJ15: 33.64 | OK15: 36 | OL15: 2.84 | OM15: 0.76 | ON15: 7.67 | OO15: 0.36 | OP15: 6.3 | OQ15: 0 | OR15: 70 | OS15: 670 | OT15: 56 | OU15: 18 | OV15: 11.84 | OW15: 19.52 | OX15: =SUM(DW15:OW15) -> 23027.114
A16: =$A$15+TIME(1,0,0) -> 43817.083 | B16: 82.4 | C16: 122.16 | D16: 0 | E16: 0.78 | F16: 3 | G16: 33.048 | H16: 3.93 | I16: 0 | J16: 32.52 | K16: 30.27 | L16: 5.14 | M16: 22.92 | N16: 30.44 | O16: 0 | P16: 0 | Q16: 0 | R16: 0 | S16: 0 | T16: 22.29 | U16: 2.22 | V16: 0.36 | W16: 0.28 | X16: 4.56 | Y16: 0.5 | Z16: 0.495 | AA16: 0 | AB16: 50.04 | AC16: 16.44 | AD16: 16.2 | AE16: 5.76 | AF16: 0 | AG16: 0 | AH16: 9.72 | AI16: 67.56 | AJ16: 22.395 | AK16: 30.645 | AL16: 9.9 | AM16: 33.28 | AN16: 9.16 | AO16: 33.76 | AP16: 52.66 | AQ16: 3.2 | AR16: 13.38 | AS16: 11.08 | AT16: 102.48 | AU16: 0.225 | AV16: 0 | AW16: 120 | AX16: 0 | AY16: 0 | AZ16: 0 | BA16: 0 | BB16: 0 | BC16: 0 | BD16: 0 | BE16: 0 | BF16: 0 | BG16: 0 | BH16: 66.36 | BI16: 0.415 | BJ16: 0.464 | BK16: 0.4555 | BL16: 0.0335 | BM16: 0.004 | BN16: 32.79 | BO16: 0.6115 | BP16: 0.504 | BR16: 0.525 | BS16: 10.5 | BT16: 76.5 | BU16: 0.702 | BV16: 70.32 | BW16: 63.64 | BX16: 293.2 | BY16: 0 | BZ16: 52.02 | CA16: 10.86 | CB16: 18.96 | CC16: 0 | CD16: 0 | CE16: 1.68 | CF16: 6.96 | CG16: 0 | CH16: 38.6 | CI16: 43.36 | CJ16: 16.08 | CK16: 0 | CL16: 0 | CM16: 3.622 | CN16: 131.2 | CO16: 132.4 | CP16: 62.82 | CQ16: 0 | CR16: 0 | CS16: 82.4 | CT16: 7.515 | CU16: 12.36 | CV16: 87.12 | CW16: 0 | CX16: 43.02 | CY16: 59.16 | CZ16: 46.32 | DA16: 0.6045 | DB16: 0 | DC16: 0 | DD16: 18.48 | DE16: 10.76 | DF16: 0 | DG16: 16.38 | DH16: 0.06 | DI16: 54.6 | DJ16: 3.3 | DK16: 8.1 | DL16: 0.3765 | DM16: 0 | DN16: 7.28 | DO16: 0.4375 | DP16: 0 | DQ16: 5.1425 | DR16: 127.6 | DS16: 0 | DT16: 127.6 | DU16: 0 | DV16: 18.48 | DW16: 0 | DX16: 2.52 | DY16: 0.345 | DZ16: 1.6 | EA16: 5.46 | EB16: 6.69 | EC16: 6.48 | ED16: 0 | EE16: 20.36 | EF16: 0 | EG16: 0 | EH16: 0 | EI16: 0.88 | EJ16: 1.56 | EK16: 0 | EL16: 0 | EM16: 9.3 | EN16: 23.25 | EO16: 13.04 | EP16: 14.24 | EQ16: 0 | ER16: 16.32 | ES16: 5.256 | ET16: 14.208 | EU16: 57.3 | EV16: 25.56 | EW16: 3.3 | EX16: 0 | EY16: 0.76 | EZ16: 0 | FA16: 13.64 | FB16: 108.9 | FC16: 23.04 | FD16: 12.96 | FE16: 140.04 | FF16: 33.06 | FG16: 0 | FH16: 28.98 | FI16: 35.64 | FJ16: 51.72 | FK16: 159.2 | FL16: 49.5 | FM16: 0.34 | FN16: 0.08 | FO16: 2.16 | FP16: 0 | FQ16: 19.3 | FR16: 33 | FS16: 23.4 | FT16: 4.6 | FU16: 14.94 | FV16: 12.792 | FW16: 12.69 | FX16: 46.32 | FY16: 1.32 | FZ16: 64.08 | GA16: 4.605 | GB16: 4.92 | GC16: 0.28 | GD16: 14.34 | GE16: 46.32 | GF16: 5.2 | GG16: 0.84 | GH16: 0.99 | GI16: 2.28 | GJ16: 0.66 | GK16: 4.15 | GL16: 11.16 | GM16: 1149.6 | GN16: 1.32 | GO16: 0.2 | GP16: 0 | GQ16: 0 | GR16: 51.8 | GS16: 51.3 | GT16: 1.52 | GU16: 10.86 | GV16: 0.09 | GW16: 0 | GX16: 24.15 | GY16: 0.09 | GZ16: 0 | HA16: 6.96 | HB16: 42.9 | HC16: 3.24 | HD16: 22.76 | HE16: 45.36 | HF16: 0 | HG16: 0 | HH16: 30.475 | HI16: 21.25 | HJ16: 0.961 | HK16: 2.84 | HL16: 5.02 | HM16: 2.235 | HN16: 9.48 | HO16: 9.88 | HP16: 0.06 | HQ16: 0 | HR16: 0 | HS16: 0 | HT16: 0 | HU16: 0 | HV16: 0 | HW16: 0 | HX16: 0 | HY16: 0 | HZ16: 0 | IA16: 0 | IB16: 0 | IC16: 0 | ID16: 0 | IE16: 0 | IF16: 0 | IG16: 0 | IH16: 0 | II16: 0 | IJ16: 0 | IK16: 0 | IL16: 0 | IM16: 0 | IN16: 4.6 | IO16: 0 | IP16: 0 | IQ16: 0 | IR16: 5.1 | IS16: 4.44 | IT16: 8.4 | IU16: 17.172 | IV16: 106.2 | IW16: 71.88 | IX16: 46.02 | IY16: 17.52 | IZ16: 7.98 | JA16: 0 | JB16: 38.25 | JC16: 0.0425 | JD16: 24.28 | JE16: 9.64 | JF16: 10.824 | JG16: 26.832 | JH16: 0 | JI16: 2.76 | JJ16: 22.84 | JK16: 6.09 | JL16: 60.1 | JM16: 46.56 | JN16: 12.58 | JO16: 0 | JP16: 0.375 | JQ16: 5.13 | JR16: 0.01 | JS16: 0 | JT16: 38.28 | JU16: 0.04 | JV16: 4.02 | JW16: 0.705 | JX16: 15.7 | JY16: 56.48 | JZ16: 109.56 | KA16: 10.17 | KB16: 54.48 | KC16: 29.28 | KD16: 0 | KE16: 0.02 | KF16: 3.1 | KG16: 9.88 | KH16: 6.28 | KI16: 5.41 | KJ16: 28.52 | KK16: 38.48 | KL16: 27 | KM16: 63.6 | KN16: 4.53 | KO16: 76.8 | KP16: 0 | KQ16: 15.36 | KR16: 0.68 | KS16: 0 | KT16: 9.64 | KU16: 4.23 | KV16: 0 | KW16: 5.04 | KX16: 0 | KY16: 25.48 | KZ16: 135.6 | LA16: 15.14 | LB16: 7.05 | LC16: 13.8 | LD16: 0.42 | LE16: 5.81 | LF16: 1.05 | LG16: 0 | LH16: 136.9 | LI16: 0 | LJ16: 25.64 | LK16: 0.91 | LL16: 0 | LM16: 1.05 | LN16: 1.14 | LO16: 19.8 | LP16: 21.52 | LQ16: 39.24 | LR16: 11.25 | LS16: 40.98 | LT16: 6.42 | LU16: 13.784 | LV16: 10.77 | LW16: 16.14 | LX16: 9.09 | LY16: 14.115 | LZ16: 6.615 | MA16: 6.27 | MB16: 0 | MC16: 0 | MD16: 12.54 | ME16: 12.54 | MF16: 0 | MG16: 0 | MH16: 15 | MI16: 0 | MJ16: 0 | MK16: 0 | ML16: 86.28 | MM16: 2.16 | MN16: 11.1 | MO16: 2.2 | MP16: 0 | MQ16: 0.96 | MR16: 0 | MS16: 18.45 | MT16: 12.88 | MU16: 0 | MV16: 5 | MW16: 0 | MX16: 0 | MY16: 15.04 | MZ16: 0.08 | NA16: 0 | NB16: 1.74 | NC16: 0 | ND16: 1.77 | NE16: 4.26 | NF16: 5.062 | NG16: 20.13 | NH16: 8.235 | NI16: 0.118 | NJ16: 0 | NK16: 0 | NL16: 21.1 | NM16: 2.43 | NN16: 55.44 | NO16: 45.72 | NP16: 0 | NQ16: 59.52 | NR16: 0 | NS16: 2.873 | NT16: 17.67 | NU16: 9.825 | NV16: 4.94 | NW16: 1.8 | NX16: 0 | NY16: 0 | NZ16: 0 | OA16: ='Прием от ВЭ'!BT9 -> 16608.353 | OB16: 6.24 | OC16: 0.312 | OD16: 0 | OE16: 5.75 | OF16: 5.11 | OG16: 0 | OH16: 0 | OI16: 26.7 | OJ16: 32.93 | OK16: 35 | OL16: 2.9 | OM16: 0.76 | ON16: 7.37 | OO16: 0.36 | OP16: 5.94 | OQ16: 20 | OR16: 60 | OS16: 650 | OT16: 56 | OU16: 19 | OV16: 10.68 | OW16: 19.12 | OX16: =SUM(DW16:OW16) -> 22498.51
A17: =$A$16+TIME(1,0,0) -> 43817.125 | B17: 87 | C17: 121.68 | D17: 0 | E17: 0.84 | F17: 3.048 | G17: 32.736 | H17: 4.07 | I17: 0 | J17: 31.98 | K17: 28.56 | L17: 4.76 | M17: 24.06 | N17: 28.44 | O17: 0 | P17: 0 | Q17: 0 | R17: 0 | S17: 0 | T17: 20.865 | U17: 6.2 | V17: 0.42 | W17: 0.42 | X17: 6.86 | Y17: 0.48 | Z17: 0.51 | AA17: 0 | AB17: 46.8 | AC17: 16.44 | AD17: 16.22 | AE17: 4.52 | AF17: 0 | AG17: 0 | AH17: 9.78 | AI17: 67.5 | AJ17: 21.57 | AK17: 29.76 | AL17: 10.08 | AM17: 27.16 | AN17: 9.08 | AO17: 33.5 | AP17: 49.22 | AQ17: 3.18 | AR17: 13.28 | AS17: 11.04 | AT17: 102.48 | AU17: 0.24 | AV17: 0 | AW17: 120 | AX17: 0 | AY17: 0 | AZ17: 0 | BA17: 0 | BB17: 0 | BC17: 0 | BD17: 0 | BE17: 0 | BF17: 0 | BG17: 0 | BH17: 65.04 | BI17: 0.42 | BJ17: 0.423 | BK17: 0.4105 | BL17: 0.051 | BM17: 0.0035 | BN17: 32.85 | BO17: 0.611 | BP17: 0.504 | BR17: 0.517 | BS17: 8.16 | BT17: 78.3 | BU17: 0.707 | BV17: 70.68 | BW17: 63.04 | BX17: 304.2 | BY17: 0 | BZ17: 52.38 | CA17: 10.74 | CB17: 18.8 | CC17: 0 | CD17: 0 | CE17: 1.74 | CF17: 6.76 | CG17: 0 | CH17: 38.56 | CI17: 43.82 | CJ17: 15.68 | CK17: 0 | CL17: 0 | CM17: 3.681 | CN17: 131.52 | CO17: 132.24 | CP17: 62.46 | CQ17: 0 | CR17: 0 | CS17: 75.6 | CT17: 4.725 | CU17: 12.44 | CV17: 82.32 | CW17: 0 | CX17: 42.48 | CY17: 59.82 | CZ17: 45.06 | DA17: 0.5845 | DB17: 0 | DC17: 0 | DD17: 21.36 | DE17: 10.08 | DF17: 0 | DG17: 15.84 | DH17: 0.06 | DI17: 49.98 | DJ17: 3.15 | DK17: 8.25 | DL17: 0.3065 | DM17: 0 | DN17: 7.28 | DO17: 0.341 | DP17: 0 | DQ17: 13.0245 | DR17: 127.9 | DS17: 0 | DT17: 127.9 | DU17: 0 | DV17: 21.36 | DW17: 0 | DX17: 2.505 | DY17: 0.3 | DZ17: 1.9 | EA17: 5.52 | EB17: 6.99 | EC17: 5.64 | ED17: 0 | EE17: 21.04 | EF17: 0 | EG17: 0 | EH17: 0 | EI17: 0.84 | EJ17: 1.52 | EK17: 0 | EL17: 0 | EM17: 8.88 | EN17: 22.44 | EO17: 12.48 | EP17: 14.32 | EQ17: 0 | ER17: 16.62 | ES17: 5.376 | ET17: 14.232 | EU17: 51.12 | EV17: 24.64 | EW17: 3.27 | EX17: 0 | EY17: 0.78 | EZ17: 0 | FA17: 12.84 | FB17: 98.3 | FC17: 22.86 | FD17: 12.66 | FE17: 139.68 | FF17: 33.06 | FG17: 0 | FH17: 29.46 | FI17: 33.36 | FJ17: 49.08 | FK17: 158.3 | FL17: 44.64 | FM17: 0.33 | FN17: 0.04 | FO17: 2.205 | FP17: 0 | FQ17: 21.5 | FR17: 36.4 | FS17: 21.495 | FT17: 5.4 | FU17: 13.89 | FV17: 12.76 | FW17: 13.23 | FX17: 53.1 | FY17: 1.38 | FZ17: 59.28 | GA17: 4.635 | GB17: 4.96 | GC17: 0.42 | GD17: 13.44 | GE17: 53.1 | GF17: 5.2 | GG17: 0.9 | GH17: 2.655 | GI17: 2.31 | GJ17: 0.66 | GK17: 4.12 | GL17: 10.86 | GM17: 1144.4 | GN17: 1.12 | GO17: 0.16 | GP17: 0 | GQ17: 0 | GR17: 51.5 | GS17: 49.9 | GT17: 1.48 | GU17: 13.2 | GV17: 0.09 | GW17: 0 | GX17: 23.52 | GY17: 0.09 | GZ17: 0 | HA17: 7.02 | HB17: 41.94 | HC17: 3.315 | HD17: 21.04 | HE17: 44.36 | HF17: 0 | HG17: 0 | HH17: 29.025 | HI17: 20.025 | HJ17: 0.956 | HK17: 3.44 | HL17: 4.74 | HM17: 1.845 | HN17: 8.88 | HO17: 9.84 | HP17: 0.045 | HQ17: 0 | HR17: 0 | HS17: 0 | HT17: 0 | HU17: 0 | HV17: 0 | HW17: 0 | HX17: 0 | HY17: 0 | HZ17: 0 | IA17: 0 | IB17: 0 | IC17: 0 | ID17: 0 | IE17: 0 | IF17: 0 | IG17: 0 | IH17: 0 | II17: 0 | IJ17: 0 | IK17: 0 | IL17: 0 | IM17: 0 | IN17: 4.5 | IO17: 0 | IP17: 0 | IQ17: 0 | IR17: 5.07 | IS17: 4.35 | IT17: 7.77 | IU17: 17.664 | IV17: 102 | IW17: 40.62 | IX17: 46.05 | IY17: 20.82 | IZ17: 8.565 | JA17: 0 | JB17: 38.19 | JC17: 0.043 | JD17: 24.24 | JE17: 9.84 | JF17: 11.544 | JG17: 26.496 | JH17: 0 | JI17: 2.76 | JJ17: 23.76 | JK17: 6.09 | JL17: 94.4 | JM17: 46.38 | JN17: 12.06 | JO17: 0 | JP17: 0.425 | JQ17: 5.1 | JR17: 0.01 | JS17: 0 | JT17: 39.18 | JU17: 0.04 | JV17: 5.18 | JW17: 0.84 | JX17: 14.14 | JY17: 52.96 | JZ17: 114.92 | KA17: 9.42 | KB17: 62.6 | KC17: 28.24 | KD17: 0 | KE17: 0.02 | KF17: 2.92 | KG17: 10.36 | KH17: 4.7 | KI17: 3.83 | KJ17: 28.16 | KK17: 38 | KL17: 26.88 | KM17: 69.68 | KN17: 4.71 | KO17: 75.76 | KP17: 0 | KQ17: 11.82 | KR17: 0.7 | KS17: 0 | KT17: 9.12 | KU17: 4.14 | KV17: 0 | KW17: 5.04 | KX17: 0 | KY17: 24.12 | KZ17: 132.28 | LA17: 15.79 | LB17: 6.09 | LC17: 13.64 | LD17: 0.43 | LE17: 5.9 | LF17: 0.4425 | LG17: 0 | LH17: 134.7 | LI17: 0 | LJ17: 19.23 | LK17: 0.87 | LL17: 0 | LM17: 0.4425 | LN17: 1.08 | LO17: 19.44 | LP17: 21.96 | LQ17: 38.56 | LR17: 11.25 | LS17: 40.86 | LT17: 6.75 | LU17: 13.728 | LV17: 10.845 | LW17: 16.5 | LX17: 9.495 | LY17: 13.725 | LZ17: 6.57 | MA17: 6.3 | MB17: 0 | MC17: 0 | MD17: 11.7 | ME17: 11.7 | MF17: 0 | MG17: 0 | MH17: 20.8 | MI17: 0 | MJ17: 0 | MK17: 0 | ML17: 71.1 | MM17: 1.64 | MN17: 11.1 | MO17: 2.32 | MP17: 0 | MQ17: 0.96 | MR17: 0 | MS17: 18.42 | MT17: 12.92 | MU17: 0 | MV17: 5.12 | MW17: 0 | MX17: 0 | MY17: 15 | MZ17: 0.04 | NA17: 0 | NB17: 1.77 | NC17: 0 | ND17: 1.86 | NE17: 4.23 | NF17: 5.078 | NG17: 17.97 | NH17: 7.35 | NI17: 0.201 | NJ17: 0 | NK17: 0 | NL17: 21.66 | NM17: 2.43 | NN17: 53.68 | NO17: 46.41 | NP17: 0 | NQ17: 56.8 | NR17: 0 | NS17: 3.013 | NT17: 16.17 | NU17: 10.5 | NV17: 5.17 | NW17: 2.01 | NX17: 0 | NY17: 0 | NZ17: 0 | OA17: ='Прием от ВЭ'!BT10 -> 16501.052 | OB17: 6.18 | OC17: 0.309 | OD17: 0 | OE17: 7.52 | OF17: 3.09 | OG17: 0 | OH17: 0 | OI17: 41.6 | OJ17: 32.88 | OK17: 36 | OL17: 2.88 | OM17: 0.72 | ON17: 7.45 | OO17: 0.36 | OP17: 5.4 | OQ17: 0 | OR17: 60 | OS17: 660 | OT17: 56 | OU17: 19 | OV17: 10.56 | OW17: 19.76 | OX17: =SUM(DW17:OW17) -> 22343.842
A18: =$A$17+TIME(1,0,0) -> 43817.167 | B18: 83.4 | C18: 125.04 | D18: 0 | E18: 0.78 | F18: 2.928 | G18: 3.2664 | H18: 3.83 | I18: 0 | J18: 31.68 | K18: 28.23 | L18: 7.28 | M18: 27.48 | N18: 31.44 | O18: 0 | P18: 0 | Q18: 0 | R18: 0 | S18: 0 | T18: 20.235 | U18: 3.5 | V18: 0.4 | W18: 0.28 | X18: 4.82 | Y18: 0.48 | Z18: 0.495 | AA18: 0 | AB18: 47.52 | AC18: 16.48 | AD18: 16.3 | AE18: 4.52 | AF18: 0 | AG18: 0 | AH18: 9.9 | AI18: 67.56 | AJ18: 21.315 | AK18: 30.855 | AL18: 9.72 | AM18: 24.52 | AN18: 9.16 | AO18: 34.42 | AP18: 47.44 | AQ18: 3.16 | AR18: 13.36 | AS18: 11.08 | AT18: 102.4 | AU18: 0.225 | AV18: 0 | AW18: 120 | AX18: 0 | AY18: 0 | AZ18: 0 | BA18: 0 | BB18: 0 | BC18: 0 | BD18: 0 | BE18: 0 | BF18: 0 | BG18: 0 | BH18: 65.04 | BI18: 0.4085 | BJ18: 0.4515 | BK18: 0.388 | BL18: 0.033 | BM18: 0.004 | BN18: 31.98 | BO18: 0.6015 | BP18: 0.496 | BR18: 0.502 | BS18: 7.26 | BT18: 70.74 | BU18: 0.7505 | BV18: 70.2 | BW18: 62.28 | BX18: 390.4 | BY18: 0 | BZ18: 51.48 | CA18: 10.56 | CB18: 18.78 | CC18: 0 | CD18: 0 | CE18: 1.74 | CF18: 6.8 | CG18: 0 | CH18: 42.8 | CI18: 43.56 | CJ18: 14.16 | CK18: 0 | CL18: 0 | CM18: 3.854 | CN18: 125.84 | CO18: 131.76 | CP18: 61.38 | CQ18: 0 | CR18: 0 | CS18: 77 | CT18: 4.095 | CU18: 12.4 | CV18: 72.06 | CW18: 0 | CX18: 40.8 | CY18: 60.06 | CZ18: 45.24 | DA18: 0.5875 | DB18: 0 | DC18: 0 | DD18: 20.52 | DE18: 9.08 | DF18: 0 | DG18: 15.66 | DH18: 0 | DI18: 50.88 | DJ18: 3.3 | DK18: 7.8 | DL18: 0.3265 | DM18: 0 | DN18: 7.28 | DO18: 0.3295 | DP18: 0 | DQ18: 13.488 | DR18: 127.6 | DS18: 0 | DT18: 127.6 | DU18: 0 | DV18: 20.52 | DW18: 0 | DX18: 2.49 | DY18: 0.345 | DZ18: 1.69 | EA18: 5.64 | EB18: 7.44 | EC18: 5.58 | ED18: 0 | EE18: 17.88 | EF18: 0 | EG18: 0 | EH18: 0 | EI18: 0.84 | EJ18: 1.56 | EK18: 0 | EL18: 0 | EM18: 8.76 | EN18: 22.05 | EO18: 17.56 | EP18: 14.28 | EQ18: 0 | ER18: 16.2 | ES18: 5.424 | ET18: 14.064 | EU18: 51.9 | EV18: 24.64 | EW18: 3.21 | EX18: 0 | EY18: 0.76 | EZ18: 0 | FA18: 13.16 | FB18: 94.7 | FC18: 22.5 | FD18: 11.7 | FE18: 139.5 | FF18: 31.8 | FG18: 0 | FH18: 29.1 | FI18: 31.86 | FJ18: 48 | FK18: 157.3 | FL18: 44.82 | FM18: 0.33 | FN18: 0.11 | FO18: 2.265 | FP18: 0 | FQ18: 31.9 | FR18: 82.5 | FS18: 21.69 | FT18: 6.84 | FU18: 14.31 | FV18: 12.594 | FW18: 12.47 | FX18: 66.66 | FY18: 1.32 | FZ18: 61.76 | GA18: 4.62 | GB18: 4.72 | GC18: 0.28 | GD18: 13.74 | GE18: 66.66 | GF18: 5.36 | GG18: 0.84 | GH18: 3 | GI18: 2.28 | GJ18: 0.62 | GK18: 4.03 | GL18: 11.46 | GM18: 1160.4 | GN18: 1.08 | GO18: 0.16 | GP18: 0 | GQ18: 0 | GR18: 51 | GS18: 48.3 | GT18: 1.36 | GU18: 7.74 | GV18: 0.03 | GW18: 0 | GX18: 23.46 | GY18: 0.03 | GZ18: 0 | HA18: 6.9 | HB18: 41.94 | HC18: 3.315 | HD18: 20.04 | HE18: 43.52 | HF18: 0 | HG18: 0 | HH18: 28.7 | HI18: 18.675 | HJ18: 0.945 | HK18: 6.72 | HL18: 4.86 | HM18: 1.815 | HN18: 8.36 | HO18: 9.84 | HP18: 0.06 | HQ18: 0 | HR18: 0 | HS18: 0 | HT18: 0 | HU18: 0 | HV18: 0 | HW18: 0 | HX18: 0 | HY18: 0 | HZ18: 0 | IA18: 0 | IB18: 0 | IC18: 0 | ID18: 0 | IE18: 0 | IF18: 0 | IG18: 0 | IH18: 0 | II18: 0 | IJ18: 0 | IK18: 0 | IL18: 0 | IM18: 0 | IN18: 4.5 | IO18: 0 | IP18: 0 | IQ18: 0 | IR18: 5.01 | IS18: 4.47 | IT18: 8.4 | IU18: 21.708 | IV18: 99.48 | IW18: 37.26 | IX18: 44.55 | IY18: 21.18 | IZ18: 8.04 | JA18: 0 | JB18: 38.19 | JC18: 0.043 | JD18: 24.28 | JE18: 10.36 | JF18: 13.296 | JG18: 25.248 | JH18: 0 | JI18: 2.79 | JJ18: 22.2 | JK18: 7.2 | JL18: 71.9 | JM18: 47.7 | JN18: 11.84 | JO18: 0 | JP18: 0.425 | JQ18: 5.13 | JR18: 0.01 | JS18: 0 | JT18: 38.82 | JU18: 0.02 | JV18: 5.7 | JW18: 0.765 | JX18: 15.48 | JY18: 58.56 | JZ18: 113.04 | KA18: 9.525 | KB18: 59.56 | KC18: 28.1 | KD18: 0 | KE18: 0.02 | KF18: 2.79 | KG18: 9.8 | KH18: 7.14 | KI18: 3.54 | KJ18: 27.84 | KK18: 38.24 | KL18: 26.76 | KM18: 67.28 | KN18: 4.59 | KO18: 75.08 | KP18: 0 | KQ18: 14.19 | KR18: 0.69 | KS18: 0 | KT18: 7.02 | KU18: 4.2 | KV18: 0 | KW18: 5.06 | KX18: 0 | KY18: 24.4 | KZ18: 146.6 | LA18: 15.01 | LB18: 6.99 | LC18: 13.88 | LD18: 0.46 | LE18: 5.52 | LF18: 0.405 | LG18: 0 | LH18: 140.6 | LI18: 0 | LJ18: 29.78 | LK18: 0.93 | LL18: 0 | LM18: 0.405 | LN18: 1.14 | LO18: 19.24 | LP18: 22.04 | LQ18: 38.6 | LR18: 12.12 | LS18: 40.14 | LT18: 5.31 | LU18: 9.629 | LV18: 10.08 | LW18: 16.29 | LX18: 9.51 | LY18: 13.44 | LZ18: 5.985 | MA18: 6.6 | MB18: 0 | MC18: 0 | MD18: 14.58 | ME18: 14.58 | MF18: 0 | MG18: 0 | MH18: 18.6 | MI18: 0 | MJ18: 0 | MK18: 0 | ML18: 81.96 | MM18: 0.8 | MN18: 11.1 | MO18: 1.92 | MP18: 0 | MQ18: 0.96 | MR18: 0 | MS18: 18.45 | MT18: 12.92 | MU18: 0 | MV18: 5.08 | MW18: 0 | MX18: 0 | MY18: 14.8 | MZ18: 0.08 | NA18: 0 | NB18: 1.2 | NC18: 0 | ND18: 1.92 | NE18: 4.08 | NF18: 5.027 | NG18: 18.27 | NH18: 8.505 | NI18: 0.104 | NJ18: 0 | NK18: 0 | NL18: 21.54 | NM18: 2.4 | NN18: 54.14 | NO18: 45.63 | NP18: 0 | NQ18: 60 | NR18: 0 | NS18: 2.921 | NT18: 16.35 | NU18: 9.15 | NV18: 4.94 | NW18: 1.74 | NX18: 0 | NY18: 0 | NZ18: 0 | OA18: ='Прием от ВЭ'!BT11 -> 16649.202 | OB18: 5.02 | OC18: 0.251 | OD18: 0 | OE18: 5.49 | OF18: 3.19 | OG18: 0 | OH18: 0 | OI18: 40.2 | OJ18: 33.46 | OK18: 35 | OL18: 2.97 | OM18: 0.72 | ON18: 8.06 | OO18: 0.36 | OP18: 5.04 | OQ18: 10 | OR18: 60 | OS18: 660 | OT18: 56 | OU18: 19 | OV18: 10.12 | OW18: 19.2 | OX18: =SUM(DW18:OW18) -> 22599.516
A19: =$A$18+TIME(1,0,0) -> 43817.208 | B19: 80 | C19: 92.52 | D19: 0 | E19: 0.78 | F19: 2.976 | G19: 32.544 | H19: 4.15 | I19: 0 | J19: 32.04 | K19: 28.05 | L19: 8.28 | M19: 24.24 | N19: 29.32 | O19: 0 | P19: 0 | Q19: 0 | R19: 0 | S19: 0 | T19: 20.82 | U19: 3.16 | V19: 0.38 | W19: 0.4 | X19: 4.5 | Y19: 0.48 | Z19: 0.495 | AA19: 0 | AB19: 49.5 | AC19: 16.46 | AD19: 16.24 | AE19: 4.56 | AF19: 0 | AG19: 0 | AH19: 9.78 | AI19: 67.56 | AJ19: 22.185 | AK19: 31.32 | AL19: 10.8 | AM19: 23.26 | AN19: 8.94 | AO19: 32.4 | AP19: 48.58 | AQ19: 3.16 | AR19: 13.8 | AS19: 11.08 | AT19: 102.16 | AU19: 0.225 | AV19: 0 | AW19: 120 | AX19: 0 | AY19: 0 | AZ19: 0 | BA19: 0 | BB19: 0 | BC19: 0 | BD19: 0 | BE19: 0 | BF19: 0 | BG19: 0 | BH19: 69.84 | BI19: 0.409 | BJ19: 0.487 | BK19: 0.3935 | BL19: 0.03 | BM19: 0.004 | BN19: 33 | BO19: 0.6105 | BP19: 0.5005 | BR19: 0.6655 | BS19: 7.2 | BT19: 71.4 | BU19: 0.7145 | BV19: 69.96 | BW19: 62.84 | BX19: 307.2 | BY19: 0 | BZ19: 51.48 | CA19: 10.56 | CB19: 19.02 | CC19: 0 | CD19: 0 | CE19: 1.68 | CF19: 6.88 | CG19: 0 | CH19: 42.48 | CI19: 43.9 | CJ19: 15.68 | CK19: 0 | CL19: 0 | CM19: 3.789 | CN19: 126.8 | CO19: 127.2 | CP19: 58.56 | CQ19: 0 | CR19: 0 | CS19: 71.8 | CT19: 4.275 | CU19: 12.36 | CV19: 78 | CW19: 0 | CX19: 41.34 | CY19: 61.74 | CZ19: 45.84 | DA19: 0.583 | DB19: 0 | DC19: 0 | DD19: 19.52 | DE19: 9.24 | DF19: 0 | DG19: 15.72 | DH19: 0.06 | DI19: 61.14 | DJ19: 3.15 | DK19: 7.8 | DL19: 0.302 | DM19: 0 | DN19: 7.28 | DO19: 0.3305 | DP19: 0 | DQ19: 5.708 | DR19: 127.4 | DS19: 0 | DT19: 127.4 | DU19: 0 | DV19: 19.52 | DW19: 0 | DX19: 2.685 | DY19: 0.375 | DZ19: 2.94 | EA19: 5.52 | EB19: 7.14 | EC19: 5.88 | ED19: 0 | EE19: 18.04 | EF19: 0 | EG19: 0 | EH19: 0 | EI19: 0.87 | EJ19: 1.52 | EK19: 0 | EL19: 0 | EM19: 8.88 | EN19: 21.96 | EO19: 22.28 | EP19: 14.72 | EQ19: 0 | ER19: 16.14 | ES19: 5.376 | ET19: 14.52 | EU19: 53.58 | EV19: 24.64 | EW19: 3.24 | EX19: 0 | EY19: 0.84 | EZ19: 0 | FA19: 12.8 | FB19: 91.5 | FC19: 22.5 | FD19: 12.3 | FE19: 138.96 | FF19: 32.46 | FG19: 0 | FH19: 28.02 | FI19: 32.88 | FJ19: 47.58 | FK19: 159.6 | FL19: 46.38 | FM19: 0.34 | FN19: 0.12 | FO19: 2.265 | FP19: 0 | FQ19: 48.7 | FR19: 84.8 | FS19: 21.54 | FT19: 7.44 | FU19: 13.53 | FV19: 12.528 | FW19: 13.05 | FX19: 67.92 | FY19: 1.32 | FZ19: 59.64 | GA19: 4.485 | GB19: 4.96 | GC19: 0.4 | GD19: 15.06 | GE19: 67.92 | GF19: 5.88 | GG19: 0.84 | GH19: 2.67 | GI19: 2.37 | GJ19: 0.63 | GK19: 4.34 | GL19: 11.94 | GM19: 1211.6 | GN19: 1 | GO19: 0.12 | GP19: 0 | GQ19: 0 | GR19: 50.5 | GS19: 54.9 | GT19: 1.36 | GU19: 19.02 | GV19: 0.04 | GW19: 0 | GX19: 25.05 | GY19: 0.04 | GZ19: 0 | HA19: 6.84 | HB19: 43.44 | HC19: 3.315 | HD19: 20.72 | HE19: 43.72 | HF19: 0 | HG19: 0 | HH19: 28.625 | HI19: 20.025 | HJ19: 0.944 | HK19: 19 | HL19: 2.02 | HM19: 1.785 | HN19: 8.44 | HO19: 9.96 | HP19: 0.045 | HQ19: 0 | HR19: 0 | HS19: 0 | HT19: 0 | HU19: 0 | HV19: 0 | HW19: 0 | HX19: 0 | HY19: 0 | HZ19: 0 | IA19: 0 | IB19: 0 | IC19: 0 | ID19: 0 | IE19: 0 | IF19: 0 | IG19: 0 | IH19: 0 | II19: 0 | IJ19: 0 | IK19: 0 | IL19: 0 | IM19: 0 | IN19: 4.4 | IO19: 0 | IP19: 0 | IQ19: 0 | IR19: 4.98 | IS19: 4.32 | IT19: 10.26 | IU19: 30.372 | IV19: 98.52 | IW19: 38.7 | IX19: 45 | IY19: 20.58 | IZ19: 8.58 | JA19: 0 | JB19: 38.13 | JC19: 0.043 | JD19: 24.12 | JE19: 9.88 | JF19: 14.508 | JG19: 25.848 | JH19: 0 | JI19: 2.775 | JJ19: 23.84 | JK19: 7.35 | JL19: 106.5 | JM19: 46.26 | JN19: 13.22 | JO19: 0 | JP19: 0.425 | JQ19: 5.13 | JR19: 0.01 | JS19: 0 | JT19: 40.68 | JU19: 0.04 | JV19: 5.36 | JW19: 0.825 | JX19: 14.1 | JY19: 58.08 | JZ19: 111.68 | KA19: 10.425 | KB19: 58.92 | KC19: 29.64 | KD19: 0 | KE19: 0.02 | KF19: 2.71 | KG19: 10.04 | KH19: 4.88 | KI19: 4.29 | KJ19: 27.88 | KK19: 41.64 | KL19: 26.4 | KM19: 67.76 | KN19: 4.89 | KO19: 74.66 | KP19: 0 | KQ19: 14.82 | KR19: 0.72 | KS19: 0 | KT19: 8.75 | KU19: 4.17 | KV19: 0 | KW19: 5.04 | KX19: 0 | KY19: 24.08 | KZ19: 147.84 | LA19: 15.61 | LB19: 7.29 | LC19: 13.84 | LD19: 0.42 | LE19: 5.66 | LF19: 0.585 | LG19: 0 | LH19: 148.5 | LI19: 0 | LJ19: 34.26 | LK19: 0.86 | LL19: 0 | LM19: 0.585 | LN19: 1.08 | LO19: 23.36 | LP19: 27.56 | LQ19: 41.96 | LR19: 11.52 | LS19: 45 | LT19: 6 | LU19: 8.924 | LV19: 10.56 | LW19: 11.52 | LX19: 8.685 | LY19: 13.83 | LZ19: 6.645 | MA19: 8.4 | MB19: 0 | MC19: 0 | MD19: 18.12 | ME19: 18.12 | MF19: 0 | MG19: 0 | MH19: 50.2 | MI19: 0 | MJ19: 0 | MK19: 0 | ML19: 110.28 | MM19: 0.84 | MN19: 11.1 | MO19: 2.32 | MP19: 0 | MQ19: 0.96 | MR19: 0 | MS19: 18.51 | MT19: 12.92 | MU19: 0 | MV19: 5.12 | MW19: 0 | MX19: 0 | MY19: 14.56 | MZ19: 0 | NA19: 0 | NB19: 1.44 | NC19: 0 | ND19: 4.65 | NE19: 4.17 | NF19: 5.036 | NG19: 18.39 | NH19: 6.66 | NI19: 0.184 | NJ19: 0 | NK19: 0 | NL19: 22.32 | NM19: 2.4 | NN19: 56.12 | NO19: 47.58 | NP19: 0 | NQ19: 58.8 | NR19: 0 | NS19: 2.889 | NT19: 15.93 | NU19: 9.625 | NV19: 4.93 | NW19: 1.74 | NX19: 0 | NY19: 0 | NZ19: 0 | OA19: ='Прием от ВЭ'!BT12 -> 17661.399 | OB19: 4.19 | OC19: 0.2095 | OD19: 0 | OE19: 2.91 | OF19: 3 | OG19: 0 | OH19: 0 | OI19: 34.6 | OJ19: 36.48 | OK19: 35 | OL19: 2.99 | OM19: 0.76 | ON19: 7.54 | OO19: 0.36 | OP19: 6.12 | OQ19: 10 | OR19: 70 | OS19: 720 | OT19: 56 | OU19: 19 | OV19: 10.72 | OW19: 19.2 | OX19: =SUM(DW19:OW19) -> 23946.461
A20: =$A$19+TIME(1,0,0) -> 43817.25 | B20: 84.8 | C20: 105.12 | D20: 0 | E20: 0.78 | F20: 3.288 | G20: 32.592 | H20: 3.98 | I20: 0 | J20: 41.16 | K20: 32.88 | L20: 5.74 | M20: 27 | N20: 31.68 | O20: 0 | P20: 0 | Q20: 0 | R20: 0 | S20: 0 | T20: 22.08 | U20: 3.1 | V20: 0.44 | W20: 0.28 | X20: 4.48 | Y20: 0.5 | Z20: 0.495 | AA20: 0 | AB20: 48.84 | AC20: 16.38 | AD20: 16.14 | AE20: 4.52 | AF20: 0 | AG20: 0 | AH20: 9.9 | AI20: 67.56 | AJ20: 22.53 | AK20: 30.735 | AL20: 9.6 | AM20: 33.7 | AN20: 9.28 | AO20: 33.76 | AP20: 45.08 | AQ20: 3.16 | AR20: 14.36 | AS20: 11.12 | AT20: 101.92 | AU20: 0.225 | AV20: 0 | AW20: 120 | AX20: 0 | AY20: 0 | AZ20: 0 | BA20: 0 | BB20: 0 | BC20: 0 | BD20: 0 | BE20: 0 | BF20: 0 | BG20: 0 | BH20: 67.14 | BI20: 0.4135 | BJ20: 0.5745 | BK20: 0.4325 | BL20: 0.0235 | BM20: 0.005 | BN20: 33.78 | BO20: 0.606 | BP20: 0.52 | BR20: 0.758 | BS20: 11.1 | BT20: 78.48 | BU20: 0.763 | BV20: 70.12 | BW20: 62.64 | BX20: 302.2 | BY20: 0 | BZ20: 52.2 | CA20: 10.62 | CB20: 18.66 | CC20: 0 | CD20: 0 | CE20: 1.74 | CF20: 6.68 | CG20: 0 | CH20: 44.88 | CI20: 43.52 | CJ20: 15.6 | CK20: 0 | CL20: 0 | CM20: 3.894 | CN20: 126.88 | CO20: 127.76 | CP20: 59.94 | CQ20: 0 | CR20: 0 | CS20: 82.3 | CT20: 7.275 | CU20: 12.44 | CV20: 72 | CW20: 0 | CX20: 43.08 | CY20: 61.98 | CZ20: 66.54 | DA20: 0.607 | DB20: 0 | DC20: 0 | DD20: 24.72 | DE20: 9.46 | DF20: 0 | DG20: 17.1 | DH20: 0.06 | DI20: 65.1 | DJ20: 3.3 | DK20: 8.1 | DL20: 0.3185 | DM20: 0 | DN20: 7.28 | DO20: 0.3615 | DP20: 0 | DQ20: 12.655 | DR20: 126.2 | DS20: 0 | DT20: 126.2 | DU20: 0 | DV20: 24.72 | DW20: 0 | DX20: 2.595 | DY20: 0.375 | DZ20: 2.72 | EA20: 5.58 | EB20: 7.11 | EC20: 5.58 | ED20: 0 | EE20: 21 | EF20: 0 | EG20: 0 | EH20: 0 | EI20: 0.84 | EJ20: 1.52 | EK20: 0 | EL20: 0 | EM20: 9.18 | EN20: 24.84 | EO20: 23.56 | EP20: 34.68 | EQ20: 0 | ER20: 16.26 | ES20: 5.832 | ET20: 14.52 | EU20: 69.6 | EV20: 26.12 | EW20: 3.21 | EX20: 0 | EY20: 0.86 | EZ20: 0 | FA20: 13.2 | FB20: 98.4 | FC20: 46.68 | FD20: 14.16 | FE20: 138.84 | FF20: 33.96 | FG20: 0 | FH20: 30.24 | FI20: 38.04 | FJ20: 52.02 | FK20: 166.6 | FL20: 52.32 | FM20: 0.34 | FN20: 0.06 | FO20: 2.205 | FP20: 0 | FQ20: 51.5 | FR20: 67.7 | FS20: 22.11 | FT20: 7.52 | FU20: 11.955 | FV20: 12.533 | FW20: 12.4 | FX20: 67.62 | FY20: 1.32 | FZ20: 65.16 | GA20: 5.43 | GB20: 4.88 | GC20: 0.28 | GD20: 14.7 | GE20: 67.62 | GF20: 6 | GG20: 0.84 | GH20: 1.935 | GI20: 2.34 | GJ20: 0.65 | GK20: 4.19 | GL20: 12.84 | GM20: 1116.8 | GN20: 0.96 | GO20: 0.16 | GP20: 0 | GQ20: 0 | GR20: 50 | GS20: 61.9 | GT20: 1.44 | GU20: 12.96 | GV20: 0.01 | GW20: 0 | GX20: 30.72 | GY20: 0.01 | GZ20: 0 | HA20: 18.78 | HB20: 46.56 | HC20: 3.075 | HD20: 25.4 | HE20: 48.24 | HF20: 0 | HG20: 0 | HH20: 31.3 | HI20: 26.5 | HJ20: 0.943 | HK20: 21.64 | HL20: 2.42 | HM20: 2.085 | HN20: 9.24 | HO20: 10 | HP20: 0.06 | HQ20: 0 | HR20: 0 | HS20: 0 | HT20: 0 | HU20: 0 | HV20: 0 | HW20: 0 | HX20: 0 | HY20: 0 | HZ20: 0 | IA20: 0 | IB20: 0 | IC20: 0 | ID20: 0 | IE20: 0 | IF20: 0 | IG20: 0 | IH20: 0 | II20: 0 | IJ20: 0 | IK20: 0 | IL20: 0 | IM20: 0 | IN20: 4.7 | IO20: 0 | IP20: 0 | IQ20: 0 | IR20: 4.92 | IS20: 4.47 | IT20: 12.6 | IU20: 35.868 | IV20: 115.68 | IW20: 36.12 | IX20: 44.76 | IY20: 19.62 | IZ20: 8.565 | JA20: 0 | JB20: 38.16 | JC20: 0.043 | JD20: 26.68 | JE20: 15.4 | JF20: 30.96 | JG20: 26.976 | JH20: 0 | JI20: 2.76 | JJ20: 28 | JK20: 6.84 | JL20: 95.8 | JM20: 47.88 | JN20: 14.74 | JO20: 0.3 | JP20: 0.45 | JQ20: 5.85 | JR20: 0 | JS20: 0 | JT20: 41.04 | JU20: 0.02 | JV20: 5.42 | JW20: 0.735 | JX20: 15.56 | JY20: 58.04 | JZ20: 120.76 | KA20: 10.05 | KB20: 56.68 | KC20: 27.36 | KD20: 0 | KE20: 0.02 | KF20: 2.66 | KG20: 9.88 | KH20: 6.38 | KI20: 4.03 | KJ20: 28.96 | KK20: 41.6 | KL20: 28.62 | KM20: 69.92 | KN20: 4.44 | KO20: 80.3 | KP20: 0 | KQ20: 13.26 | KR20: 0.73 | KS20: 0 | KT20: 9.94 | KU20: 4.2 | KV20: 0 | KW20: 5.08 | KX20: 0 | KY20: 32.2 | KZ20: 156.84 | LA20: 15.4 | LB20: 6.39 | LC20: 13.92 | LD20: 0.43 | LE20: 5.53 | LF20: 0.87 | LG20: 0 | LH20: 236 | LI20: 0 | LJ20: 24.26 | LK20: 0.86 | LL20: 0 | LM20: 0.87 | LN20: 1.08 | LO20: 26.32 | LP20: 46.92 | LQ20: 42.52 | LR20: 11.58 | LS20: 46.38 | LT20: 6 | LU20: 9.962 | LV20: 10.44 | LW20: 0 | LX20: 9.315 | LY20: 15.105 | LZ20: 7.29 | MA20: 14.43 | MB20: 0 | MC20: 0 | MD20: 25.56 | ME20: 25.56 | MF20: 0 | MG20: 0 | MH20: 56.9 | MI20: 0 | MJ20: 0 | MK20: 0 | ML20: 112.56 | MM20: 0.68 | MN20: 11.1 | MO20: 2.2 | MP20: 0 | MQ20: 7.68 | MR20: 0 | MS20: 18.57 | MT20: 12.84 | MU20: 0 | MV20: 5.16 | MW20: 0 | MX20: 0 | MY20: 15.24 | MZ20: 0 | NA20: 0 | NB20: 2.13 | NC20: 0 | ND20: 5.01 | NE20: 4.41 | NF20: 4.955 | NG20: 19.68 | NH20: 6.825 | NI20: 0.14 | NJ20: 0 | NK20: 0 | NL20: 26.52 | NM20: 2.4 | NN20: 63.9 | NO20: 49.56 | NP20: 0 | NQ20: 64.48 | NR20: 0 | NS20: 3.006 | NT20: 18.9 | NU20: 10.25 | NV20: 4.91 | NW20: 1.5 | NX20: 0 | NY20: 0 | NZ20: 0 | OA20: ='Прием от ВЭ'!BT13 -> 19173.14 | OB20: 4.38 | OC20: 0.219 | OD20: 0 | OE20: 2.76 | OF20: 3.73 | OG20: 0 | OH20: 0 | OI20: 29.8 | OJ20: 39.12 | OK20: 36 | OL20: 2.85 | OM20: 1.25 | ON20: 10.43 | OO20: 0.36 | OP20: 4.32 | OQ20: 10 | OR20: 70 | OS20: 720 | OT20: 57 | OU20: 19 | OV20: 13.36 | OW20: 22.24 | OX20: =SUM(DW20:OW20) -> 25743.097
A21: =$A$20+TIME(1,0,0) -> 43817.292 | B21: 81.8 | C21: 67.08 | D21: 0 | E21: 0.78 | F21: 5.52 | G21: 36.936 | H21: 3.89 | I21: 0 | J21: 31.08 | K21: 36.24 | L21: 5.36 | M21: 29.52 | N21: 30.56 | O21: 0 | P21: 0 | Q21: 0 | R21: 0 | S21: 0 | T21: 23.145 | U21: 3.1 | V21: 0.4 | W21: 0.42 | X21: 4.22 | Y21: 0.48 | Z21: 0.495 | AA21: 0 | AB21: 48.96 | AC21: 16.36 | AD21: 16.06 | AE21: 4.48 | AF21: 0 | AG21: 0 | AH21: 9.72 | AI21: 67.56 | AJ21: 25.935 | AK21: 30.39 | AL21: 10.74 | AM21: 28.14 | AN21: 9.64 | AO21: 34.3 | AP21: 45.02 | AQ21: 3.12 | AR21: 16.86 | AS21: 11.16 | AT21: 101.8 | AU21: 0.24 | AV21: 0 | AW21: 120 | AX21: 0 | AY21: 0 | AZ21: 0 | BA21: 0 | BB21: 0 | BC21: 0 | BD21: 0 | BE21: 0 | BF21: 0 | BG21: 0 | BH21: 68.1 | BI21: 0.455 | BJ21: 0.76 | BK21: 0.5715 | BL21: 0.0475 | BM21: 0.004 | BN21: 38.16 | BO21: 0.765 | BP21: 0.512 | BR21: 0.935 | BS21: 16.02 | BT21: 94.38 | BU21: 0.8205 | BV21: 69.92 | BW21: 63.96 | BX21: 359.2 | BY21: 0 | BZ21: 80.46 | CA21: 11.46 | CB21: 18.4 | CC21: 0 | CD21: 0 | CE21: 1.68 | CF21: 6.76 | CG21: 0 | CH21: 40.64 | CI21: 42.92 | CJ21: 16.64 | CK21: 0 | CL21: 0 | CM21: 2.296 | CN21: 129.52 | CO21: 128.56 | CP21: 63.12 | CQ21: 0 | CR21: 0 | CS21: 97.5 | CT21: 9.465 | CU21: 13.76 | CV21: 89.28 | CW21: 0 | CX21: 47.82 | CY21: 77.1 | CZ21: 78.72 | DA21: 0.6445 | DB21: 0 | DC21: 0 | DD21: 22.96 | DE21: 10 | DF21: 0 | DG21: 17.58 | DH21: 0 | DI21: 76.92 | DJ21: 3.3 | DK21: 7.65 | DL21: 0.3135 | DM21: 0 | DN21: 7.2 | DO21: 0.3415 | DP21: 0 | DQ21: 5.712 | DR21: 126.7 | DS21: 0 | DT21: 126.7 | DU21: 0 | DV21: 22.96 | DW21: 0 | DX21: 2.73 | DY21: 0.81 | DZ21: 2.53 | EA21: 5.94 | EB21: 8.7 | EC21: 5.4 | ED21: 0 | EE21: 20.44 | EF21: 0 | EG21: 0 | EH21: 0 | EI21: 0.37 | EJ21: 1.48 | EK21: 0 | EL21: 0 | EM21: 9.18 | EN21: 29.37 | EO21: 25.84 | EP21: 43.56 | EQ21: 0 | ER21: 17.1 | ES21: 6.12 | ET21: 14.232 | EU21: 68.22 | EV21: 32.44 | EW21: 8.85 | EX21: 0 | EY21: 0.84 | EZ21: 0 | FA21: 22.6 | FB21: 129.7 | FC21: 75.3 | FD21: 15.9 | FE21: 142.2 | FF21: 36.42 | FG21: 0 | FH21: 32.76 | FI21: 48.18 | FJ21: 61.92 | FK21: 168.7 | FL21: 59.58 | FM21: 0.34 | FN21: 0.22 | FO21: 2.235 | FP21: 0 | FQ21: 57.9 | FR21: 40 | FS21: 23.325 | FT21: 6.04 | FU21: 13.005 | FV21: 12.544 | FW21: 13.49 | FX21: 66.9 | FY21: 1.32 | FZ21: 65.04 | GA21: 4.59 | GB21: 5.04 | GC21: 0.42 | GD21: 22.14 | GE21: 66.9 | GF21: 6.48 | GG21: 1.74 | GH21: 1.665 | GI21: 2.37 | GJ21: 0.49 | GK21: 5.86 | GL21: 12.48 | GM21: 1114.8 | GN21: 1.4 | GO21: 0.16 | GP21: 0 | GQ21: 0 | GR21: 72.7 | GS21: 78.2 | GT21: 1.36 | GU21: 11.46 | GV21: 0 | GW21: 0 | GX21: 33.3 | GY21: 0 | GZ21: 0 | HA21: 19.38 | HB21: 49.86 | HC21: 1.665 | HD21: 29.8 | HE21: 46.32 | HF21: 0 | HG21: 0 | HH21: 32.725 | HI21: 28.55 | HJ21: 0.942 | HK21: 25.48 | HL21: 4.16 | HM21: 2.13 | HN21: 14.92 | HO21: 10.88 | HP21: 0.375 | HQ21: 0 | HR21: 0 | HS21: 0 | HT21: 0 | HU21: 0 | HV21: 0 | HW21: 0 | HX21: 0 | HY21: 0 | HZ21: 0 | IA21: 0 | IB21: 0 | IC21: 0 | ID21: 0 | IE21: 0 | IF21: 0 | IG21: 0 | IH21: 0 | II21: 0 | IJ21: 0 | IK21: 0 | IL21: 0 | IM21: 0 | IN21: 4.5 | IO21: 0 | IP21: 0 | IQ21: 0 | IR21: 4.95 | IS21: 4.71 | IT21: 13.71 | IU21: 34.26 | IV21: 132 | IW21: 49.5 | IX21: 54.54 | IY21: 8.85 | IZ21: 9.555 | JA21: 0 | JB21: 38.16 | JC21: 0.043 | JD21: 25.96 | JE21: 14.92 | JF21: 28.2 | JG21: 28.464 | JH21: 0 | JI21: 4.005 | JJ21: 36.2 | JK21: 7.59 | JL21: 49.8 | JM21: 49.8 | JN21: 17.2 | JO21: 1.26 | JP21: 0.425 | JQ21: 6.27 | JR21: 0.01 | JS21: 0 | JT21: 41.58 | JU21: 0.04 | JV21: 6.3 | JW21: 0.945 | JX21: 15.04 | JY21: 60.8 | JZ21: 117.4 | KA21: 10.035 | KB21: 63.36 | KC21: 29.22 | KD21: 0 | KE21: 0.02 | KF21: 2.9 | KG21: 10.12 | KH21: 8 | KI21: 3.93 | KJ21: 28.96 | KK21: 41.96 | KL21: 29.1 | KM21: 74 | KN21: 4.11 | KO21: 85.62 | KP21: 0 | KQ21: 12.96 | KR21: 0.69 | KS21: 0 | KT21: 7.55 | KU21: 5.16 | KV21: 0 | KW21: 5.1 | KX21: 0 | KY21: 41.44 | KZ21: 166.92 | LA21: 15.49 | LB21: 6.45 | LC21: 16.32 | LD21: 0.45 | LE21: 6.11 | LF21: 0.5025 | LG21: 0 | LH21: 251.8 | LI21: 0 | LJ21: 30.58 | LK21: 0.85 | LL21: 0 | LM21: 0.5025 | LN21: 3.36 | LO21: 27.4 | LP21: 52.76 | LQ21: 44.24 | LR21: 11.7 | LS21: 48.75 | LT21: 7.14 | LU21: 12.14 | LV21: 9.93 | LW21: 27.12 | LX21: 11.295 | LY21: 17.1 | LZ21: 10.41 | MA21: 20.58 | MB21: 0 | MC21: 0 | MD21: 98.04 | ME21: 98.04 | MF21: 0 | MG21: 0 | MH21: 43.6 | MI21: 0 | MJ21: 0 | MK21: 0 | ML21: 119.64 | MM21: 0.64 | MN21: 11.2 | MO21: 2 | MP21: 0 | MQ21: 12.96 | MR21: 0 | MS21: 18.66 | MT21: 12.92 | MU21: 0 | MV21: 6.88 | MW21: 0 | MX21: 0 | MY21: 15.4 | MZ21: 0 | NA21: 0 | NB21: 1.2 | NC21: 0 | ND21: 17.67 | NE21: 4.92 | NF21: 4.389 | NG21: 21.72 | NH21: 7.92 | NI21: 0.179 | NJ21: 0 | NK21: 0 | NL21: 30.44 | NM21: 2.37 | NN21: 84.94 | NO21: 56.67 | NP21: 0 | NQ21: 97.6 | NR21: 0 | NS21: 3.031 | NT21: 24.96 | NU21: 12.3 | NV21: 7.04 | NW21: 1.77 | NX21: 0 | NY21: 0 | NZ21: 0 | OA21: ='Прием от ВЭ'!BT14 -> 21334.29 | OB21: 3.97 | OC21: 0.1985 | OD21: 0 | OE21: 3.9 | OF21: 7.84 | OG21: 0 | OH21: 0 | OI21: 24.3 | OJ21: 38.01 | OK21: 36 | OL21: 3.3 | OM21: 2.88 | ON21: 11.9 | OO21: 0.54 | OP21: 3.78 | OQ21: 10 | OR21: 70 | OS21: 1020 | OT21: 61 | OU21: 19 | OV21: 15.84 | OW21: 24.16 | OX21: =SUM(DW21:OW21) -> 28751.643
A22: =$A$21+TIME(1,0,0) -> 43817.333 | B22: 83.8 | C22: 75.06 | D22: 0 | E22: 20.76 | F22: 9.696 | G22: 61.92 | H22: 4.42 | I22: 0 | J22: 27.42 | K22: 35.88 | L22: 5.1 | M22: 25.5 | N22: 29.64 | O22: 0 | P22: 0 | Q22: 0 | R22: 0 | S22: 0 | T22: 26.175 | U22: 3.02 | V22: 0.38 | W22: 2.08 | X22: 6.92 | Y22: 0.7 | Z22: 0.555 | AA22: 0 | AB22: 52.32 | AC22: 16.3 | AD22: 16 | AE22: 4.56 | AF22: 0 | AG22: 0 | AH22: 9.54 | AI22: 67.62 | AJ22: 26.58 | AK22: 29.745 | AL22: 9.72 | AM22: 23.92 | AN22: 9.78 | AO22: 39.44 | AP22: 49.6 | AQ22: 3.14 | AR22: 17.72 | AS22: 11.24 | AT22: 101.88 | AU22: 0.225 | AV22: 19.2 | AW22: 199.2 | AX22: 0 | AY22: 0 | AZ22: 0 | BA22: 0 | BB22: 0 | BC22: 0 | BD22: 0 | BE22: 0 | BF22: 0 | BG22: 0 | BH22: 97.5 | BI22: 0.512 | BJ22: 0.832 | BK22: 0.7265 | BL22: 0.0705 | BM22: 0.0045 | BN22: 47.67 | BO22: 0.782 | BP22: 0.5515 | BR22: 1.113 | BS22: 19.35 | BT22: 108.54 | BU22: 0.8295 | BV22: 70.24 | BW22: 63.8 | BX22: 278.4 | BY22: 0 | BZ22: 121.86 | CA22: 13.38 | CB22: 18.4 | CC22: 0 | CD22: 0 | CE22: 1.5 | CF22: 6.64 | CG22: 0 | CH22: 39.64 | CI22: 41.92 | CJ22: 16 | CK22: 0 | CL22: 0 | CM22: 4.304 | CN22: 132.24 | CO22: 131.12 | CP22: 70.38 | CQ22: 0 | CR22: 0 | CS22: 96.7 | CT22: 14.115 | CU22: 13.76 | CV22: 121.44 | CW22: 0 | CX22: 58.86 | CY22: 85.32 | CZ22: 92.1 | DA22: 0.7125 | DB22: 0 | DC22: 0 | DD22: 41.8 | DE22: 12.34 | DF22: 0 | DG22: 15.66 | DH22: 0.06 | DI22: 100.32 | DJ22: 3.15 | DK22: 7.8 | DL22: 0.504 | DM22: 0 | DN22: 7.28 | DO22: 0.519 | DP22: 0 | DQ22: 18.5005 | DR22: 127.4 | DS22: 0 | DT22: 127.4 | DU22: 0 | DV22: 41.8 | DW22: 0 | DX22: 2.58 | DY22: 1.605 | DZ22: 3.42 | EA22: 4.98 | EB22: 9.66 | EC22: 5.76 | ED22: 0 | EE22: 23 | EF22: 0 | EG22: 0 | EH22: 0 | EI22: 0.17 | EJ22: 1.56 | EK22: 0 | EL22: 0 | EM22: 10.98 | EN22: 35.25 | EO22: 27.56 | EP22: 41.48 | EQ22: 0 | ER22: 16.74 | ES22: 6.336 | ET22: 13.92 | EU22: 93.36 | EV22: 38.64 | EW22: 11.91 | EX22: 0 | EY22: 0.88 | EZ22: 0 | FA22: 62.72 | FB22: 144.1 | FC22: 69.48 | FD22: 24.66 | FE22: 144.48 | FF22: 38.58 | FG22: 0 | FH22: 37.44 | FI22: 52.8 | FJ22: 73.68 | FK22: 181.3 | FL22: 88.98 | FM22: 0.34 | FN22: 0.22 | FO22: 2.73 | FP22: 0 | FQ22: 44.5 | FR22: 56.4 | FS22: 24.885 | FT22: 5.94 | FU22: 14.025 | FV22: 12.734 | FW22: 12.59 | FX22: 74.76 | FY22: 1.56 | FZ22: 69.68 | GA22: 5.25 | GB22: 5.04 | GC22: 2.08 | GD22: 21.24 | GE22: 74.76 | GF22: 6.4 | GG22: 3.9 | GH22: 2.73 | GI22: 2.34 | GJ22: 0.47 | GK22: 6.68 | GL22: 15.66 | GM22: 1179.2 | GN22: 2.32 | GO22: 0.16 | GP22: 0 | GQ22: 0 | GR22: 85.4 | GS22: 89.3 | GT22: 3 | GU22: 15.18 | GV22: 0.19 | GW22: 0 | GX22: 34.11 | GY22: 0.19 | GZ22: 0 | HA22: 21.6 | HB22: 52.08 | HC22: 1.23 | HD22: 31.24 | HE22: 58.24 | HF22: 0 | HG22: 0 | HH22: 35.5 | HI22: 29.625 | HJ22: 0.953 | HK22: 28.44 | HL22: 3.98 | HM22: 2.055 | HN22: 19.48 | HO22: 10.76 | HP22: 13.47 | HQ22: 0 | HR22: 0 | HS22: 0 | HT22: 0 | HU22: 0 | HV22: 0 | HW22: 0 | HX22: 0 | HY22: 0 | HZ22: 0 | IA22: 0 | IB22: 0 | IC22: 0 | ID22: 0 | IE22: 0 | IF22: 0 | IG22: 0 | IH22: 0 | II22: 0 | IJ22: 0 | IK22: 0 | IL22: 0 | IM22: 0 | IN22: 4.6 | IO22: 0 | IP22: 0 | IQ22: 0 | IR22: 5.04 | IS22: 6.03 | IT22: 17.67 | IU22: 34.332 | IV22: 147.54 | IW22: 68.1 | IX22: 48.99 | IY22: 11.37 | IZ22: 10.245 | JA22: 0 | JB22: 38.28 | JC22: 0.043 | JD22: 26.36 | JE22: 14.84 | JF22: 40.368 | JG22: 28.488 | JH22: 0 | JI22: 8.7 | JJ22: 40.16 | JK22: 6.27 | JL22: 15.2 | JM22: 63.36 | JN22: 20.82 | JO22: 17.34 | JP22: 0.525 | JQ22: 5.55 | JR22: 0.01 | JS22: 0 | JT22: 38.64 | JU22: 5.72 | JV22: 8.92 | JW22: 0.84 | JX22: 15.7 | JY22: 60.36 | JZ22: 104.48 | KA22: 9.96 | KB22: 61.72 | KC22: 27.76 | KD22: 0 | KE22: 0.02 | KF22: 4.3 | KG22: 10.44 | KH22: 6.06 | KI22: 3.86 | KJ22: 33.28 | KK22: 43.4 | KL22: 27.06 | KM22: 73 | KN22: 4.2 | KO22: 83.06 | KP22: 0 | KQ22: 15.21 | KR22: 0.7 | KS22: 0 | KT22: 8.02 | KU22: 5.73 | KV22: 0 | KW22: 4.52 | KX22: 0 | KY22: 37.64 | KZ22: 161.56 | LA22: 16.24 | LB22: 7.53 | LC22: 17.84 | LD22: 0.42 | LE22: 6.65 | LF22: 0.3525 | LG22: 0 | LH22: 256 | LI22: 0 | LJ22: 38.21 | LK22: 0.85 | LL22: 0 | LM22: 0.3525 | LN22: 4.26 | LO22: 28.12 | LP22: 55.48 | LQ22: 52.08 | LR22: 16.38 | LS22: 59.64 | LT22: 8.97 | LU22: 12.6 | LV22: 12.9 | LW22: 31.74 | LX22: 11.565 | LY22: 18.66 | LZ22: 12.75 | MA22: 23.79 | MB22: 0 | MC22: 0 | MD22: 132.3 | ME22: 132.3 | MF22: 0 | MG22: 0 | MH22: 39.1 | MI22: 0 | MJ22: 0 | MK22: 0 | ML22: 135.42 | MM22: 1.52 | MN22: 11.2 | MO22: 3 | MP22: 0 | MQ22: 11.52 | MR22: 0 | MS22: 18.06 | MT22: 12.92 | MU22: 0 | MV22: 12.56 | MW22: 0 | MX22: 0 | MY22: 15.32 | MZ22: 0 | NA22: 0 | NB22: 2.28 | NC22: 0 | ND22: 25.68 | NE22: 3.75 | NF22: 4.009 | NG22: 21.12 | NH22: 8.685 | NI22: 0.125 | NJ22: 0 | NK22: 0 | NL22: 34.12 | NM22: 2.43 | NN22: 87.14 | NO22: 64.08 | NP22: 0 | NQ22: 93.52 | NR22: 0 | NS22: 2.927 | NT22: 30.06 | NU22: 16.25 | NV22: 7.69 | NW22: 1.65 | NX22: 0 | NY22: 0 | NZ22: 0 | OA22: ='Прием от ВЭ'!BT15 -> 23242.247 | OB22: 4.36 | OC22: 0.218 | OD22: 0 | OE22: 3.8 | OF22: 11.92 | OG22: 0 | OH22: 0 | OI22: 43.1 | OJ22: 36 | OK22: 37 | OL22: 5.9 | OM22: 4.66 | ON22: 14.05 | OO22: 0.36 | OP22: 5.22 | OQ22: 20 | OR22: 80 | OS22: 1250 | OT22: 70 | OU22: 20 | OV22: 20.96 | OW22: 20.72 | OX22: =SUM(DW22:OW22) -> 31503.65
A23: =$A$22+TIME(1,0,0) -> 43817.375 | B23: 147.6 | C23: 97.14 | D23: 0 | E23: 55.38 | F23: 9.264 | G23: 58.224 | H23: 5.16 | I23: 0 | J23: 26.76 | K23: 32.49 | L23: 6.76 | M23: 23.88 | N23: 31.6 | O23: 0 | P23: 0 | Q23: 0 | R23: 0 | S23: 0 | T23: 25.245 | U23: 15.86 | V23: 0.42 | W23: 17.78 | X23: 13.62 | Y23: 3.96 | Z23: 0.48 | AA23: 0 | AB23: 97.38 | AC23: 16.14 | AD23: 15.74 | AE23: 9.28 | AF23: 0 | AG23: 0 | AH23: 9.6 | AI23: 67.56 | AJ23: 25.23 | AK23: 28.545 | AL23: 16.56 | AM23: 23.88 | AN23: 10.84 | AO23: 38.68 | AP23: 43.64 | AQ23: 3.1 | AR23: 17.34 | AS23: 11.44 | AT23: 101.88 | AU23: 0.225 | AV23: 19.2 | AW23: 199.2 | AX23: 0 | AY23: 0 | AZ23: 0 | BA23: 0 | BB23: 0 | BC23: 0 | BD23: 0 | BE23: 0 | BF23: 0 | BG23: 0 | BH23: 84.78 | BI23: 0.4405 | BJ23: 0.772 | BK23: 0.7385 | BL23: 0.051 | BM23: 0.007 | BN23: 55.26 | BO23: 0.991 | BP23: 0.55 | BR23: 1.212 | BS23: 24.6 | BT23: 105.54 | BU23: 0.847 | BV23: 70.04 | BW23: 64.2 | BX23: 387 | BY23: 0 | BZ23: 231.66 | CA23: 21.66 | CB23: 17.96 | CC23: 0 | CD23: 0 | CE23: 0.9 | CF23: 6.68 | CG23: 0 | CH23: 40.76 | CI23: 41.84 | CJ23: 16.08 | CK23: 0 | CL23: 0 | CM23: 5.141 | CN23: 132.08 | CO23: 133.52 | CP23: 68.46 | CQ23: 0 | CR23: 0 | CS23: 137.5 | CT23: 10.29 | CU23: 28.84 | CV23: 150.72 | CW23: 0 | CX23: 64.74 | CY23: 83.1 | CZ23: 101.16 | DA23: 0.6985 | DB23: 0 | DC23: 0 | DD23: 73 | DE23: 16.58 | DF23: 0 | DG23: 17.22 | DH23: 0 | DI23: 102.18 | DJ23: 4.35 | DK23: 7.95 | DL23: 0.514 | DM23: 0 | DN23: 7.32 | DO23: 0.621 | DP23: 0 | DQ23: 5.1505 | DR23: 131.6 | DS23: 0 | DT23: 131.6 | DU23: 0 | DV23: 73 | DW23: 0 | DX23: 2.505 | DY23: 1.05 | DZ23: 3.68 | EA23: 4.8 | EB23: 11.28 | EC23: 5.64 | ED23: 0 | EE23: 24.64 | EF23: 0 | EG23: 0 | EH23: 0 | EI23: 0.12 | EJ23: 1.52 | EK23: 0 | EL23: 0 | EM23: 13.44 | EN23: 36.54 | EO23: 29.76 | EP23: 44.52 | EQ23: 0 | ER23: 13.56 | ES23: 8.04 | ET23: 13.608 | EU23: 78.06 | EV23: 39.28 | EW23: 4.59 | EX23: 0 | EY23: 0.86 | EZ23: 0 | FA23: 66.08 | FB23: 161.6 | FC23: 66.96 | FD23: 40.86 | FE23: 144.06 | FF23: 43.56 | FG23: 0 | FH23: 42.6 | FI23: 48.3 | FJ23: 73.2 | FK23: 178.3 | FL23: 113.16 | FM23: 0.31 | FN23: 0.18 | FO23: 3.075 | FP23: 0 | FQ23: 44.3 | FR23: 58.8 | FS23: 24.765 | FT23: 4.66 | FU23: 13.35 | FV23: 12.771 | FW23: 12.93 | FX23: 58.14 | FY23: 1.5 | FZ23: 61.44 | GA23: 4.65 | GB23: 4.92 | GC23: 17.78 | GD23: 18.9 | GE23: 58.14 | GF23: 7 | GG23: 6.6 | GH23: 2.16 | GI23: 2.31 | GJ23: 0.46 | GK23: 7.4 | GL23: 15 | GM23: 1578.4 | GN23: 1.8 | GO23: 0.12 | GP23: 0 | GQ23: 0 | GR23: 94.5 | GS23: 84.8 | GT23: 1.52 | GU23: 8.34 | GV23: 0.69 | GW23: 0 | GX23: 30.3 | GY23: 0.69 | GZ23: 0 | HA23: 22.32 | HB23: 46.92 | HC23: 3.87 | HD23: 35.88 | HE23: 58.28 | HF23: 0 | HG23: 0 | HH23: 34.05 | HI23: 32.6 | HJ23: 0.946 | HK23: 36.4 | HL23: 3.9 | HM23: 1.845 | HN23: 20.4 | HO23: 10.52 | HP23: 11.235 | HQ23: 0 | HR23: 0 | HS23: 0 | HT23: 0 | HU23: 0 | HV23: 0 | HW23: 0 | HX23: 0 | HY23: 0 | HZ23: 0 | IA23: 0 | IB23: 0 | IC23: 0 | ID23: 0 | IE23: 0 | IF23: 0 | IG23: 0 | IH23: 0 | II23: 0 | IJ23: 0 | IK23: 0 | IL23: 0 | IM23: 0 | IN23: 4.6 | IO23: 0 | IP23: 0 | IQ23: 0 | IR23: 4.98 | IS23: 5.13 | IT23: 16.02 | IU23: 37.776 | IV23: 149.46 | IW23: 115.2 | IX23: 40.17 | IY23: 23.01 | IZ23: 10.785 | JA23: 0 | JB23: 38.34 | JC23: 0.043 | JD23: 27.32 | JE23: 14 | JF23: 38.76 | JG23: 24.864 | JH23: 0 | JI23: 8.34 | JJ23: 41.68 | JK23: 6.15 | JL23: 93.6 | JM23: 97.68 | JN23: 19.26 | JO23: 90.48 | JP23: 0.45 | JQ23: 5.13 | JR23: 0 | JS23: 0 | JT23: 38.94 | JU23: 30.6 | JV23: 5.54 | JW23: 0.81 | JX23: 14.52 | JY23: 60.88 | JZ23: 102.28 | KA23: 11.355 | KB23: 60.6 | KC23: 29.9 | KD23: 0 | KE23: 0.02 | KF23: 5.97 | KG23: 10.76 | KH23: 8.68 | KI23: 5.39 | KJ23: 33.12 | KK23: 44.72 | KL23: 23.22 | KM23: 62.16 | KN23: 4.2 | KO23: 83.62 | KP23: 0 | KQ23: 12.63 | KR23: 0.7 | KS23: 0 | KT23: 9.93 | KU23: 8.79 | KV23: 0 | KW23: 25.24 | KX23: 0 | KY23: 33.52 | KZ23: 157.76 | LA23: 16.23 | LB23: 8.19 | LC23: 15.84 | LD23: 0.8 | LE23: 6.46 | LF23: 0.285 | LG23: 0 | LH23: 229.6 | LI23: 0 | LJ23: 45.12 | LK23: 0.92 | LL23: 0 | LM23: 0.285 | LN23: 4.2 | LO23: 24.24 | LP23: 49.76 | LQ23: 46.96 | LR23: 15.15 | LS23: 58.47 | LT23: 6.9 | LU23: 8.242 | LV23: 12.855 | LW23: 27.69 | LX23: 10.95 | LY23: 19.29 | LZ23: 11.73 | MA23: 29.85 | MB23: 0 | MC23: 0 | MD23: 121.92 | ME23: 121.92 | MF23: 0 | MG23: 0 | MH23: 32.3 | MI23: 0 | MJ23: 0 | MK23: 0 | ML23: 143.94 | MM23: 1.92 | MN23: 11.1 | MO23: 10.56 | MP23: 0 | MQ23: 6.72 | MR23: 0 | MS23: 17.34 | MT23: 12.92 | MU23: 0 | MV23: 39.2 | MW23: 0 | MX23: 0 | MY23: 38.64 | MZ23: 0.04 | NA23: 0 | NB23: 1.41 | NC23: 0 | ND23: 25.05 | NE23: 6.93 | NF23: 3.791 | NG23: 19.53 | NH23: 8.055 | NI23: 0.196 | NJ23: 0 | NK23: 0 | NL23: 30.22 | NM23: 2.61 | NN23: 77.66 | NO23: 58.68 | NP23: 0 | NQ23: 92.64 | NR23: 0 | NS23: 2.741 | NT23: 22.8 | NU23: 16.675 | NV23: 6.62 | NW23: 2.28 | NX23: 0 | NY23: 0 | NZ23: 0 | OA23: ='Прием от ВЭ'!BT16 -> 23554.298 | OB23: 4.4 | OC23: 0.22 | OD23: 0 | OE23: 4.78 | OF23: 12.07 | OG23: 0 | OH23: 0 | OI23: 46.3 | OJ23: 33.21 | OK23: 36 | OL23: 6.75 | OM23: 7.49 | ON23: 12.69 | OO23: 0.36 | OP23: 16.38 | OQ23: 10 | OR23: 90 | OS23: 1310 | OT23: 71 | OU23: 21 | OV23: 24.2 | OW23: 24.8 | OX23: =SUM(DW23:OW23) -> 32549.496
A24: =$A$23+TIME(1,0,0) -> 43817.417 | B24: 167.6 | C24: 146.22 | D24: 0 | E24: 48.42 | F24: 9.744 | G24: 53.592 | H24: 6.18 | I24: 0 | J24: 25.74 | K24: 35.49 | L24: 6.46 | M24: 19.98 | N24: 28.76 | O24: 0 | P24: 0 | Q24: 0 | R24: 0 | S24: 0 | T24: 24.705 | U24: 16.62 | V24: 0.38 | W24: 28.24 | X24: 7.06 | Y24: 4.08 | Z24: 0.75 | AA24: 0 | AB24: 111.96 | AC24: 16.14 | AD24: 15.74 | AE24: 5.2 | AF24: 0 | AG24: 0 | AH24: 8.7 | AI24: 67.68 | AJ24: 25.665 | AK24: 27.645 | AL24: 13.5 | AM24: 29.84 | AN24: 10.76 | AO24: 37.86 | AP24: 42.06 | AQ24: 3.28 | AR24: 15.12 | AS24: 10.72 | AT24: 102.12 | AU24: 0.015 | AV24: 19.2 | AW24: 199.2 | AX24: 0 | AY24: 0 | AZ24: 0 | BA24: 0 | BB24: 0 | BC24: 0 | BD24: 0 | BE24: 0 | BF24: 0 | BG24: 0 | BH24: 102.72 | BI24: 0.4655 | BJ24: 0.771 | BK24: 0.744 | BL24: 0.066 | BM24: 0.0065 | BN24: 56.67 | BO24: 0.9145 | BP24: 0.542 | BR24: 1.163 | BS24: 21.51 | BT24: 108.54 | BU24: 0.5685 | BV24: 71.64 | BW24: 65.44 | BX24: 347.6 | BY24: 0 | BZ24: 240.12 | CA24: 23.58 | CB24: 18.86 | CC24: 0 | CD24: 0 | CE24: 0.3 | CF24: 7.2 | CG24: 0 | CH24: 38.48 | CI24: 41.76 | CJ24: 16.72 | CK24: 0 | CL24: 0 | CM24: 3.743 | CN24: 132.32 | CO24: 133.6 | CP24: 74.7 | CQ24: 0 | CR24: 0 | CS24: 144.8 | CT24: 8.445 | CU24: 28.16 | CV24: 128.16 | CW24: 0 | CX24: 68.46 | CY24: 78.96 | CZ24: 102.42 | DA24: 0.6935 | DB24: 0 | DC24: 0 | DD24: 77.84 | DE24: 16.42 | DF24: 0 | DG24: 21.66 | DH24: 0.06 | DI24: 106.68 | DJ24: 10.65 | DK24: 8.4 | DL24: 0.393 | DM24: 0 | DN24: 11.52 | DO24: 0.502 | DP24: 0 | DQ24: 26.36 | DR24: 131 | DS24: 0 | DT24: 131 | DU24: 0 | DV24: 77.84 | DW24: 0 | DX24: 2.055 | DY24: 0.285 | DZ24: 4.51 | EA24: 3.9 | EB24: 8.94 | EC24: 6.48 | ED24: 0 | EE24: 24.52 | EF24: 0 | EG24: 0 | EH24: 0 | EI24: 0.03 | EJ24: 1.52 | EK24: 0 | EL24: 0 | EM24: 14.22 | EN24: 37.29 | EO24: 30.12 | EP24: 47.88 | EQ24: 0 | ER24: 13.2 | ES24: 6.72 | ET24: 13.44 | EU24: 78.12 | EV24: 36.16 | EW24: 3.54 | EX24: 0 | EY24: 0.84 | EZ24: 0 | FA24: 74.72 | FB24: 153.5 | FC24: 54.54 | FD24: 45.48 | FE24: 142.8 | FF24: 54.6 | FG24: 0 | FH24: 42.48 | FI24: 46.56 | FJ24: 76.44 | FK24: 183.2 | FL24: 108.18 | FM24: 0.02 | FN24: 0.17 | FO24: 2.73 | FP24: 0 | FQ24: 49.3 | FR24: 55.8 | FS24: 25.11 | FT24: 5.46 | FU24: 7.35 | FV24: 0.158 | FW24: 12.6 | FX24: 58.92 | FY24: 3 | FZ24: 59.36 | GA24: 5.115 | GB24: 6.16 | GC24: 28.24 | GD24: 11.88 | GE24: 58.92 | GF24: 5.56 | GG24: 6.9 | GH24: 2.085 | GI24: 2.64 | GJ24: 0.47 | GK24: 7.24 | GL24: 14.58 | GM24: 1763.2 | GN24: 2.32 | GO24: 0.12 | GP24: 0 | GQ24: 0 | GR24: 96.5 | GS24: 86 | GT24: 0.68 | GU24: 16.38 | GV24: 0.2 | GW24: 0 | GX24: 30.99 | GY24: 0.2 | GZ24: 0 | HA24: 18 | HB24: 49.92 | HC24: 3.75 | HD24: 35.8 | HE24: 61.2 | HF24: 0 | HG24: 0 | HH24: 31.525 | HI24: 29.55 | HJ24: 0.952 | HK24: 40.04 | HL24: 5.6 | HM24: 0.915 | HN24: 21.04 | HO24: 10.4 | HP24: 12.675 | HQ24: 0 | HR24: 0 | HS24: 0 | HT24: 0 | HU24: 0 | HV24: 0 | HW24: 0 | HX24: 0 | HY24: 0 | HZ24: 0 | IA24: 0 | IB24: 0 | IC24: 0 | ID24: 0 | IE24: 0 | IF24: 0 | IG24: 0 | IH24: 0 | II24: 0 | IJ24: 0 | IK24: 0 | IL24: 0 | IM24: 0 | IN24: 6.2 | IO24: 0 | IP24: 0 | IQ24: 0 | IR24: 4.92 | IS24: 3.63 | IT24: 16.53 | IU24: 34.356 | IV24: 138.72 | IW24: 97.44 | IX24: 37.32 | IY24: 27.87 | IZ24: 10.5 | JA24: 0 | JB24: 38.31 | JC24: 0.0425 | JD24: 27.72 | JE24: 11.04 | JF24: 31.968 | JG24: 25.896 | JH24: 0 | JI24: 8.04 | JJ24: 41.32 | JK24: 6.42 | JL24: 83.7 | JM24: 97.26 | JN24: 14.62 | JO24: 89.28 | JP24: 0.45 | JQ24: 5.13 | JR24: 0 | JS24: 0 | JT24: 38.82 | JU24: 26.74 | JV24: 5.06 | JW24: 1.185 | JX24: 15.86 | JY24: 64.08 | JZ24: 108.72 | KA24: 13.89 | KB24: 63.56 | KC24: 29.78 | KD24: 0 | KE24: 0.02 | KF24: 6.27 | KG24: 10.36 | KH24: 5.72 | KI24: 7.05 | KJ24: 31.52 | KK24: 42.56 | KL24: 27 | KM24: 65.96 | KN24: 4.14 | KO24: 80.82 | KP24: 0 | KQ24: 14.97 | KR24: 0.73 | KS24: 0 | KT24: 8.45 | KU24: 9.06 | KV24: 0 | KW24: 36.88 | KX24: 0 | KY24: 37.44 | KZ24: 156.8 | LA24: 16.37 | LB24: 7.38 | LC24: 18.44 | LD24: 1.59 | LE24: 6.04 | LF24: 0.72 | LG24: 0 | LH24: 193.1 | LI24: 0 | LJ24: 48.62 | LK24: 1.53 | LL24: 0 | LM24: 0.72 | LN24: 5.1 | LO24: 21.56 | LP24: 54.52 | LQ24: 45.72 | LR24: 14.91 | LS24: 61.11 | LT24: 8.82 | LU24: 10.763 | LV24: 15.435 | LW24: 28.41 | LX24: 14.58 | LY24: 17.61 | LZ24: 11.64 | MA24: 25.62 | MB24: 0 | MC24: 0 | MD24: 157.14 | ME24: 157.14 | MF24: 0 | MG24: 0 | MH24: 21.2 | MI24: 0 | MJ24: 0 | MK24: 0 | ML24: 125.7 | MM24: 1.2 | MN24: 11.4 | MO24: 10.44 | MP24: 0 | MQ24: 4.8 | MR24: 0 | MS24: 17.1 | MT24: 12.92 | MU24: 0 | MV24: 63.36 | MW24: 0 | MX24: 0 | MY24: 18.24 | MZ24: 7.92 | NA24: 0 | NB24: 1.2 | NC24: 0 | ND24: 23.28 | NE24: 7.17 | NF24: 2.87 | NG24: 16.68 | NH24: 7.245 | NI24: 0.121 | NJ24: 0 | NK24: 0 | NL24: 28.18 | NM24: 2.37 | NN24: 76.72 | NO24: 53.64 | NP24: 0 | NQ24: 80.32 | NR24: 0 | NS24: 3.378 | NT24: 23.79 | NU24: 17.1 | NV24: 7.08 | NW24: 3.3 | NX24: 0 | NY24: 0 | NZ24: 0 | OA24: ='Прием от ВЭ'!BT17 -> 23341.121 | OB24: 3.67 | OC24: 0.1835 | OD24: 0 | OE24: 3.58 | OF24: 12.85 | OG24: 0 | OH24: 0 | OI24: 41.4 | OJ24: 32.78 | OK24: 37 | OL24: 5.78 | OM24: 12 | ON24: 11.68 | OO24: 0.36 | OP24: 11.7 | OQ24: 20 | OR24: 70 | OS24: 1150 | OT24: 77 | OU24: 24 | OV24: 25.52 | OW24: 29.04 | OX24: =SUM(DW24:OW24) -> 32339.099
A25: =$A$24+TIME(1,0,0) -> 43817.458 | B25: 177.4 | C25: 136.98 | D25: 0 | E25: 42.06 | F25: 9.624 | G25: 58.704 | H25: 5.69 | I25: 0 | J25: 25.68 | K25: 34.35 | L25: 5.86 | M25: 18.96 | N25: 28.36 | O25: 0 | P25: 0 | Q25: 0 | R25: 0 | S25: 0 | T25: 24.3 | U25: 15.68 | V25: 0.38 | W25: 25.32 | X25: 7.14 | Y25: 3.98 | Z25: 0.84 | AA25: 0 | AB25: 108.66 | AC25: 16.18 | AD25: 15.76 | AE25: 5.52 | AF25: 0 | AG25: 0 | AH25: 8.4 | AI25: 67.5 | AJ25: 25.845 | AK25: 27.405 | AL25: 16.08 | AM25: 36.78 | AN25: 10.6 | AO25: 36.54 | AP25: 45.2 | AQ25: 3.08 | AR25: 14.8 | AS25: 10.68 | AT25: 101.96 | AU25: 0 | AV25: 19.2 | AW25: 199.2 | AX25: 0 | AY25: 0 | AZ25: 0 | BA25: 0 | BB25: 0 | BC25: 0 | BD25: 0 | BE25: 0 | BF25: 0 | BG25: 0 | BH25: 133.14 | BI25: 0.493 | BJ25: 0.7935 | BK25: 0.7425 | BL25: 0.064 | BM25: 0.007 | BN25: 57.33 | BO25: 0.9155 | BP25: 0.5375 | BR25: 1.07 | BS25: 21.06 | BT25: 102.84 | BU25: 0.2165 | BV25: 71.72 | BW25: 63.8 | BX25: 390 | BY25: 0 | BZ25: 225 | CA25: 22.68 | CB25: 19.12 | CC25: 0 | CD25: 0 | CE25: 0.24 | CF25: 7.44 | CG25: 0 | CH25: 39.24 | CI25: 41.54 | CJ25: 16.24 | CK25: 0 | CL25: 0 | CM25: 3.693 | CN25: 131.2 | CO25: 133.2 | CP25: 69 | CQ25: 0 | CR25: 0 | CS25: 143.5 | CT25: 7.59 | CU25: 30 | CV25: 126.96 | CW25: 0 | CX25: 63.9 | CY25: 75.54 | CZ25: 98.22 | DA25: 0.683 | DB25: 0 | DC25: 0 | DD25: 115 | DE25: 17.76 | DF25: 0 | DG25: 18.96 | DH25: 0.06 | DI25: 104.04 | DJ25: 30.9 | DK25: 8.25 | DL25: 0.373 | DM25: 0 | DN25: 9.44 | DO25: 0.497 | DP25: 0 | DQ25: 21.398 | DR25: 129.8 | DS25: 0 | DT25: 129.8 | DU25: 0 | DV25: 115 | DW25: 0 | DX25: 1.635 | DY25: 0.135 | DZ25: 4.26 | EA25: 4.74 | EB25: 5.94 | EC25: 6.48 | ED25: 0 | EE25: 23.36 | EF25: 0 | EG25: 0 | EH25: 0 | EI25: 0.04 | EJ25: 1.52 | EK25: 0 | EL25: 0 | EM25: 15.48 | EN25: 35.22 | EO25: 24.84 | EP25: 40.28 | EQ25: 0 | ER25: 16.44 | ES25: 6.768 | ET25: 13.344 | EU25: 84 | EV25: 46.12 | EW25: 5.37 | EX25: 0 | EY25: 0.8 | EZ25: 0 | FA25: 65.36 | FB25: 145.9 | FC25: 59.22 | FD25: 46.56 | FE25: 140.94 | FF25: 75.12 | FG25: 0 | FH25: 40.02 | FI25: 47.22 | FJ25: 74.52 | FK25: 173.6 | FL25: 93.18 | FM25: 0.03 | FN25: 0.08 | FO25: 3.975 | FP25: 0 | FQ25: 45.2 | FR25: 40.7 | FS25: 23.835 | FT25: 4 | FU25: 6.405 | FV25: 0.02 | FW25: 13.42 | FX25: 46.2 | FY25: 3.66 | FZ25: 59.08 | GA25: 6.84 | GB25: 6.48 | GC25: 25.32 | GD25: 10.32 | GE25: 46.2 | GF25: 5.56 | GG25: 6.9 | GH25: 1.215 | GI25: 3.84 | GJ25: 0.48 | GK25: 6.79 | GL25: 15.24 | GM25: 1376 | GN25: 2.32 | GO25: 0.04 | GP25: 0 | GQ25: 0 | GR25: 97.6 | GS25: 78.4 | GT25: 1.44 | GU25: 18.18 | GV25: 0.33 | GW25: 0 | GX25: 28.83 | GY25: 0.33 | GZ25: 0 | HA25: 14.22 | HB25: 51.6 | HC25: 3.195 | HD25: 34.28 | HE25: 59.6 | HF25: 0 | HG25: 0 | HH25: 30.05 | HI25: 26.175 | HJ25: 0.953 | HK25: 31.32 | HL25: 6.44 | HM25: 0.78 | HN25: 17.84 | HO25: 9.44 | HP25: 13.89 | HQ25: 0 | HR25: 0 | HS25: 0 | HT25: 0 | HU25: 0 | HV25: 0 | HW25: 0 | HX25: 0 | HY25: 0 | HZ25: 0 | IA25: 0 | IB25: 0 | IC25: 0 | ID25: 0 | IE25: 0 | IF25: 0 | IG25: 0 | IH25: 0 | II25: 0 | IJ25: 0 | IK25: 0 | IL25: 0 | IM25: 0 | IN25: 7.5 | IO25: 0 | IP25: 0 | IQ25: 0 | IR25: 4.92 | IS25: 3.99 | IT25: 16.08 | IU25: 35.34 | IV25: 134.22 | IW25: 82.68 | IX25: 44.43 | IY25: 26.37 | IZ25: 11.055 | JA25: 0 | JB25: 38.31 | JC25: 0.043 | JD25: 28.56 | JE25: 14.12 | JF25: 30.024 | JG25: 25.632 | JH25: 0 | JI25: 8.01 | JJ25: 37.36 | JK25: 6.6 | JL25: 86 | JM25: 88.38 | JN25: 12.12 | JO25: 78.12 | JP25: 0.425 | JQ25: 5.1 | JR25: 0 | JS25: 0 | JT25: 38.34 | JU25: 31.56 | JV25: 4.3 | JW25: 1.56 | JX25: 15.46 | JY25: 59.64 | JZ25: 109.32 | KA25: 11.715 | KB25: 62.28 | KC25: 30.3 | KD25: 0 | KE25: 0.02 | KF25: 4.07 | KG25: 9.72 | KH25: 7.56 | KI25: 5.39 | KJ25: 31 | KK25: 44.48 | KL25: 21.66 | KM25: 63.88 | KN25: 4.41 | KO25: 79.68 | KP25: 0 | KQ25: 14.07 | KR25: 0.7 | KS25: 0 | KT25: 7.26 | KU25: 8.97 | KV25: 0 | KW25: 18.54 | KX25: 0 | KY25: 33.32 | KZ25: 157.28 | LA25: 15.31 | LB25: 7.2 | LC25: 18.56 | LD25: 1.72 | LE25: 7.12 | LF25: 0.5325 | LG25: 0 | LH25: 165.2 | LI25: 0 | LJ25: 50.83 | LK25: 1.47 | LL25: 0 | LM25: 0.5325 | LN25: 4.56 | LO25: 23.56 | LP25: 46.36 | LQ25: 45.96 | LR25: 13.02 | LS25: 61.8 | LT25: 8.28 | LU25: 13.26 | LV25: 14.715 | LW25: 31.68 | LX25: 13.17 | LY25: 15.45 | LZ25: 8.76 | MA25: 23.97 | MB25: 0 | MC25: 0 | MD25: 139.68 | ME25: 139.68 | MF25: 0 | MG25: 0 | MH25: 20.6 | MI25: 0 | MJ25: 0 | MK25: 0 | ML25: 99.66 | MM25: 3 | MN25: 12.1 | MO25: 9.48 | MP25: 0 | MQ25: 10.08 | MR25: 0 | MS25: 17.19 | MT25: 12.88 | MU25: 0 | MV25: 59.88 | MW25: 0 | MX25: 0 | MY25: 13.92 | MZ25: 18.72 | NA25: 0 | NB25: 2.52 | NC25: 0 | ND25: 19.74 | NE25: 8.22 | NF25: 2.585 | NG25: 18.18 | NH25: 6.975 | NI25: 0.15 | NJ25: 0 | NK25: 0 | NL25: 29.78 | NM25: 2.4 | NN25: 76.56 | NO25: 52.32 | NP25: 0 | NQ25: 74.32 | NR25: 0 | NS25: 4.628 | NT25: 20.88 | NU25: 20.525 | NV25: 7.28 | NW25: 3.27 | NX25: 0 | NY25: 0 | NZ25: 0 | OA25: ='Прием от ВЭ'!BT18 -> 23336.888 | OB25: 4.39 | OC25: 0.2195 | OD25: 0 | OE25: 4.54 | OF25: 12.3 | OG25: 0 | OH25: 0 | OI25: 38.2 | OJ25: 31.01 | OK25: 39 | OL25: 6 | OM25: 11.67 | ON25: 10.65 | OO25: 0.36 | OP25: 7.74 | OQ25: 10 | OR25: 60 | OS25: 940 | OT25: 73 | OU25: 24 | OV25: 24.16 | OW25: 33.84 | OX25: =SUM(DW25:OW25) -> 31453.519
A26: =$A$25+TIME(1,0,0) -> 43817.5 | B26: 157 | C26: 123 | D26: 0 | E26: 39.06 | F26: 9.312 | G26: 38.352 | H26: 7.21 | I26: 0 | J26: 27.72 | K26: 33.36 | L26: 5.18 | M26: 21.42 | N26: 26.92 | O26: 0 | P26: 0 | Q26: 0 | R26: 0 | S26: 0 | T26: 22.95 | U26: 8.24 | V26: 0.44 | W26: 15.28 | X26: 12.78 | Y26: 1.72 | Z26: 1.86 | AA26: 0 | AB26: 97.26 | AC26: 16.28 | AD26: 15.96 | AE26: 6.2 | AF26: 0 | AG26: 0 | AH26: 8.58 | AI26: 67.38 | AJ26: 25.23 | AK26: 28.215 | AL26: 16.86 | AM26: 25.98 | AN26: 11.3 | AO26: 36.4 | AP26: 50.42 | AQ26: 3.1 | AR26: 14.4 | AS26: 10.6 | AT26: 102.08 | AU26: 0 | AV26: 19.2 | AW26: 199.2 | AX26: 0 | AY26: 0 | AZ26: 0 | BA26: 0 | BB26: 0 | BC26: 0 | BD26: 0 | BE26: 0 | BF26: 0 | BG26: 0 | BH26: 104.82 | BI26: 0.4715 | BJ26: 0.774 | BK26: 0.677 | BL26: 0.0465 | BM26: 0.006 | BN26: 55.14 | BO26: 0.793 | BP26: 0.5205 | BR26: 0.92 | BS26: 21.54 | BT26: 104.4 | BU26: 0.1655 | BV26: 72.36 | BW26: 62.4 | BX26: 333.2 | BY26: 0 | BZ26: 216.72 | CA26: 20.4 | CB26: 19.44 | CC26: 0 | CD26: 0 | CE26: 0.24 | CF26: 6.88 | CG26: 0 | CH26: 40.04 | CI26: 41.32 | CJ26: 16.16 | CK26: 0 | CL26: 0 | CM26: 3.392 | CN26: 131.04 | CO26: 132.24 | CP26: 66.96 | CQ26: 0 | CR26: 0 | CS26: 137.2 | CT26: 11.025 | CU26: 20.64 | CV26: 115.2 | CW26: 0 | CX26: 63.12 | CY26: 78.12 | CZ26: 91.14 | DA26: 0.653 | DB26: 0 | DC26: 0 | DD26: 94.08 | DE26: 14.62 | DF26: 0 | DG26: 17.16 | DH26: 0 | DI26: 98.82 | DJ26: 34.65 | DK26: 8.85 | DL26: 0.3525 | DM26: 0 | DN26: 8.44 | DO26: 0.4995 | DP26: 0 | DQ26: 0.7295 | DR26: 128.2 | DS26: 0 | DT26: 128.2 | DU26: 0 | DV26: 94.08 | DW26: 0 | DX26: 1.62 | DY26: 0.3 | DZ26: 3.19 | EA26: 5.34 | EB26: 7.17 | EC26: 6.9 | ED26: 0 | EE26: 22.32 | EF26: 0 | EG26: 0 | EH26: 0 | EI26: 0.06 | EJ26: 1.56 | EK26: 0 | EL26: 0 | EM26: 12.66 | EN26: 34.98 | EO26: 26.12 | EP26: 40.52 | EQ26: 0 | ER26: 13.14 | ES26: 6.816 | ET26: 13.704 | EU26: 74.58 | EV26: 42.44 | EW26: 14.94 | EX26: 0 | EY26: 1.24 | EZ26: 0 | FA26: 64.32 | FB26: 135 | FC26: 58.92 | FD26: 52.14 | FE26: 140.88 | FF26: 63.96 | FG26: 0 | FH26: 43.92 | FI26: 47.82 | FJ26: 71.82 | FK26: 165.3 | FL26: 107.34 | FM26: 0.03 | FN26: 0.22 | FO26: 2.955 | FP26: 0 | FQ26: 39.5 | FR26: 38.6 | FS26: 27.015 | FT26: 5.88 | FU26: 6.165 | FV26: 0.02 | FW26: 12.67 | FX26: 54.6 | FY26: 2.64 | FZ26: 60.72 | GA26: 6.87 | GB26: 6.36 | GC26: 15.28 | GD26: 9.96 | GE26: 54.6 | GF26: 6.12 | GG26: 3.24 | GH26: 1.83 | GI26: 3.78 | GJ26: 0.5 | GK26: 3.17 | GL26: 15.54 | GM26: 1694.4 | GN26: 1.88 | GO26: 0.2 | GP26: 0 | GQ26: 0 | GR26: 93.9 | GS26: 71.5 | GT26: 1.08 | GU26: 7.8 | GV26: 0.27 | GW26: 0 | GX26: 32.37 | GY26: 0.27 | GZ26: 0 | HA26: 12.9 | HB26: 52.5 | HC26: 3.21 | HD26: 36.12 | HE26: 57.96 | HF26: 0 | HG26: 0 | HH26: 30.425 | HI26: 27 | HJ26: 0.953 | HK26: 23.44 | HL26: 4.8 | HM26: 0.51 | HN26: 17.08 | HO26: 10.84 | HP26: 11.04 | HQ26: 0 | HR26: 0 | HS26: 0 | HT26: 0 | HU26: 0 | HV26: 0 | HW26: 0 | HX26: 0 | HY26: 0 | HZ26: 0 | IA26: 0 | IB26: 0 | IC26: 0 | ID26: 0 | IE26: 0 | IF26: 0 | IG26: 0 | IH26: 0 | II26: 0 | IJ26: 0 | IK26: 0 | IL26: 0 | IM26: 0 | IN26: 6.8 | IO26: 0 | IP26: 0 | IQ26: 0 | IR26: 4.92 | IS26: 3.18 | IT26: 17.28 | IU26: 30.456 | IV26: 123.12 | IW26: 91.92 | IX26: 34.56 | IY26: 27.81 | IZ26: 9.81 | JA26: 0 | JB26: 38.31 | JC26: 0.043 | JD26: 29.84 | JE26: 15.84 | JF26: 29.04 | JG26: 26.208 | JH26: 0 | JI26: 8.235 | JJ26: 35.2 | JK26: 7.44 | JL26: 83.3 | JM26: 79.86 | JN26: 11.54 | JO26: 84.72 | JP26: 0.475 | JQ26: 5.13 | JR26: 0.02 | JS26: 0 | JT26: 42.3 | JU26: 24.06 | JV26: 3.62 | JW26: 0.825 | JX26: 16.94 | JY26: 55.4 | JZ26: 106.84 | KA26: 11.58 | KB26: 63.2 | KC26: 29.86 | KD26: 0 | KE26: 0.02 | KF26: 3.11 | KG26: 10 | KH26: 7.74 | KI26: 5.49 | KJ26: 33.52 | KK26: 43.32 | KL26: 22.68 | KM26: 72.48 | KN26: 5.73 | KO26: 81.92 | KP26: 0 | KQ26: 11.31 | KR26: 0.71 | KS26: 0 | KT26: 8.63 | KU26: 9.27 | KV26: 0 | KW26: 25 | KX26: 0 | KY26: 31.24 | KZ26: 156.88 | LA26: 17.04 | LB26: 7.2 | LC26: 16.64 | LD26: 1.51 | LE26: 6.22 | LF26: 0.9975 | LG26: 0 | LH26: 170.2 | LI26: 0 | LJ26: 46.99 | LK26: 1.61 | LL26: 0 | LM26: 0.9975 | LN26: 3.48 | LO26: 24.48 | LP26: 45.88 | LQ26: 47.96 | LR26: 11.43 | LS26: 53.88 | LT26: 7.53 | LU26: 13.516 | LV26: 14.31 | LW26: 29.58 | LX26: 12.225 | LY26: 16.725 | LZ26: 10.71 | MA26: 25.68 | MB26: 0 | MC26: 0 | MD26: 112.74 | ME26: 112.74 | MF26: 0 | MG26: 0 | MH26: 25.7 | MI26: 0 | MJ26: 0 | MK26: 0.06 | ML26: 109.74 | MM26: 3 | MN26: 11.6 | MO26: 10.8 | MP26: 0 | MQ26: 10.08 | MR26: 0 | MS26: 17.22 | MT26: 12.84 | MU26: 0 | MV26: 46.4 | MW26: 0 | MX26: 0 | MY26: 13.84 | MZ26: 12.44 | NA26: 0 | NB26: 2.4 | NC26: 0 | ND26: 18.3 | NE26: 7.17 | NF26: 3.898 | NG26: 17.67 | NH26: 6.825 | NI26: 0.109 | NJ26: 0 | NK26: 0 | NL26: 31.2 | NM26: 2.4 | NN26: 79.18 | NO26: 54.24 | NP26: 0 | NQ26: 77.36 | NR26: 0 | NS26: 4.529 | NT26: 22.71 | NU26: 19.1 | NV26: 7.29 | NW26: 3.6 | NX26: 0 | NY26: 0 | NZ26: 0 | OA26: ='Прием от ВЭ'!BT19 -> 22686.569 | OB26: 3.33 | OC26: 0.1665 | OD26: 0 | OE26: 4.21 | OF26: 11.78 | OG26: 0 | OH26: 0 | OI26: 40.3 | OJ26: 29.95 | OK26: 39 | OL26: 3.5 | OM26: 9.6 | ON26: 11.17 | OO26: 0.36 | OP26: 11.34 | OQ26: 20 | OR26: 90 | OS26: 1250 | OT26: 71 | OU26: 22 | OV26: 25.48 | OW26: 21.92 | OX26: =SUM(DW26:OW26) -> 31336.112
A27: =$A$26+TIME(1,0,0) -> 43817.542 | B27: 123.8 | C27: 119.82 | D27: 0 | E27: 35.16 | F27: 10.944 | G27: 51.36 | H27: 8.55 | I27: 0 | J27: 34.08 | K27: 41.28 | L27: 5.36 | M27: 20.22 | N27: 27.6 | O27: 0 | P27: 0 | Q27: 0 | R27: 0 | S27: 0 | T27: 22.68 | U27: 4.8 | V27: 0.38 | W27: 8.2 | X27: 5.74 | Y27: 0.54 | Z27: 0.765 | AA27: 0 | AB27: 110.58 | AC27: 16.38 | AD27: 16.12 | AE27: 7.8 | AF27: 0 | AG27: 0 | AH27: 8.4 | AI27: 67.44 | AJ27: 25.35 | AK27: 27.57 | AL27: 19.74 | AM27: 24.12 | AN27: 11.82 | AO27: 37.76 | AP27: 42.84 | AQ27: 3.1 | AR27: 13.16 | AS27: 10.72 | AT27: 101.88 | AU27: 0 | AV27: 19.2 | AW27: 199.2 | AX27: 0 | AY27: 0 | AZ27: 0 | BA27: 0 | BB27: 0 | BC27: 0 | BD27: 0 | BE27: 0 | BF27: 0 | BG27: 0 | BH27: 92.34 | BI27: 0.541 | BJ27: 0.8055 | BK27: 0.7095 | BL27: 0.0645 | BM27: 0.004 | BN27: 60.12 | BO27: 0.7225 | BP27: 0.5205 | BR27: 0.948 | BS27: 19.56 | BT27: 105.12 | BU27: 0.1995 | BV27: 71.92 | BW27: 62.6 | BX27: 352 | BY27: 0 | BZ27: 202.14 | CA27: 17.52 | CB27: 20.08 | CC27: 0 | CD27: 0 | CE27: 0.24 | CF27: 7.32 | CG27: 0 | CH27: 36.96 | CI27: 41.34 | CJ27: 16.16 | CK27: 0 | CL27: 0 | CM27: 2.749 | CN27: 130.56 | CO27: 132.32 | CP27: 65.88 | CQ27: 0 | CR27: 0 | CS27: 140.4 | CT27: 8.715 | CU27: 17.12 | CV27: 120.84 | CW27: 0 | CX27: 61.38 | CY27: 79.62 | CZ27: 73.5 | DA27: 0.647 | DB27: 0 | DC27: 0 | DD27: 101.32 | DE27: 13.42 | DF27: 0 | DG27: 18.78 | DH27: 0 | DI27: 94.92 | DJ27: 12.75 | DK27: 7.95 | DL27: 0.363 | DM27: 0 | DN27: 8.4 | DO27: 0.496 | DP27: 0 | DQ27: 18.478 | DR27: 126 | DS27: 0 | DT27: 126 | DU27: 0 | DV27: 101.32 | DW27: 0 | DX27: 1.59 | DY27: 0.45 | DZ27: 2.67 | EA27: 4.62 | EB27: 7.32 | EC27: 6.84 | ED27: 0 | EE27: 22.24 | EF27: 0 | EG27: 0 | EH27: 0 | EI27: 0.04 | EJ27: 3.08 | EK27: 0 | EL27: 0 | EM27: 14.76 | EN27: 35.34 | EO27: 28.24 | EP27: 36.68 | EQ27: 0 | ER27: 22.56 | ES27: 6.912 | ET27: 13.416 | EU27: 86.82 | EV27: 37.92 | EW27: 5.34 | EX27: 0 | EY27: 2.1 | EZ27: 0 | FA27: 59.52 | FB27: 135 | FC27: 56.4 | FD27: 46.62 | FE27: 140.64 | FF27: 56.58 | FG27: 0 | FH27: 40.74 | FI27: 51.78 | FJ27: 73.62 | FK27: 166 | FL27: 114.18 | FM27: 0.02 | FN27: 0.19 | FO27: 2.73 | FP27: 0 | FQ27: 19.2 | FR27: 54.4 | FS27: 25.065 | FT27: 5.58 | FU27: 7.005 | FV27: 0.02 | FW27: 12.66 | FX27: 50.76 | FY27: 3.18 | FZ27: 60 | GA27: 5.43 | GB27: 5.24 | GC27: 8.2 | GD27: 9.84 | GE27: 50.76 | GF27: 4.72 | GG27: 4.56 | GH27: 2.91 | GI27: 2.52 | GJ27: 0.51 | GK27: 0 | GL27: 15.12 | GM27: 1551.6 | GN27: 2.28 | GO27: 0.04 | GP27: 0 | GQ27: 0 | GR27: 89.2 | GS27: 73.6 | GT27: 2.04 | GU27: 14.34 | GV27: 0.4 | GW27: 0 | GX27: 30.39 | GY27: 0.4 | GZ27: 0 | HA27: 14.4 | HB27: 53.34 | HC27: 3.045 | HD27: 31 | HE27: 55.88 | HF27: 0 | HG27: 0 | HH27: 32.775 | HI27: 26.375 | HJ27: 0.961 | HK27: 22.68 | HL27: 1.76 | HM27: 1.2 | HN27: 13.16 | HO27: 9.44 | HP27: 0.15 | HQ27: 0 | HR27: 0 | HS27: 0 | HT27: 0 | HU27: 0 | HV27: 0 | HW27: 0 | HX27: 0 | HY27: 0 | HZ27: 0 | IA27: 0 | IB27: 0 | IC27: 0 | ID27: 0 | IE27: 0 | IF27: 0 | IG27: 0 | IH27: 0 | II27: 0 | IJ27: 0 | IK27: 0 | IL27: 0 | IM27: 0 | IN27: 6.8 | IO27: 0 | IP27: 0 | IQ27: 0 | IR27: 5.31 | IS27: 3.84 | IT27: 15.51 | IU27: 33.672 | IV27: 128.76 | IW27: 105.06 | IX27: 34.83 | IY27: 27.45 | IZ27: 9.33 | JA27: 0 | JB27: 38.28 | JC27: 0.0425 | JD27: 27.36 | JE27: 11.84 | JF27: 26.256 | JG27: 26.4 | JH27: 0 | JI27: 8.22 | JJ27: 37.08 | JK27: 5.79 | JL27: 130.2 | JM27: 71.04 | JN27: 10.64 | JO27: 18.84 | JP27: 0.5 | JQ27: 5.43 | JR27: 0.01 | JS27: 0 | JT27: 40.74 | JU27: 4.6 | JV27: 4.32 | JW27: 0.735 | JX27: 15.5 | JY27: 65.16 | JZ27: 114.44 | KA27: 11.415 | KB27: 60.28 | KC27: 28.08 | KD27: 0 | KE27: 0.02 | KF27: 3.81 | KG27: 9.6 | KH27: 5.48 | KI27: 5.43 | KJ27: 37.88 | KK27: 44.52 | KL27: 25.92 | KM27: 68 | KN27: 5.67 | KO27: 79.02 | KP27: 0 | KQ27: 10.71 | KR27: 0.72 | KS27: 0 | KT27: 8.84 | KU27: 9.57 | KV27: 0 | KW27: 6.34 | KX27: 0 | KY27: 32.72 | KZ27: 154.56 | LA27: 16.21 | LB27: 7.11 | LC27: 15.72 | LD27: 1.47 | LE27: 5.78 | LF27: 0.3825 | LG27: 0 | LH27: 191.9 | LI27: 0 | LJ27: 54.33 | LK27: 1.39 | LL27: 0 | LM27: 0.3825 | LN27: 3.48 | LO27: 23.8 | LP27: 41.24 | LQ27: 48.96 | LR27: 11.16 | LS27: 52.5 | LT27: 8.13 | LU27: 13.199 | LV27: 15.84 | LW27: 30.21 | LX27: 13.245 | LY27: 17.985 | LZ27: 12.03 | MA27: 24.96 | MB27: 0 | MC27: 0 | MD27: 104.7 | ME27: 104.7 | MF27: 0 | MG27: 0 | MH27: 47.2 | MI27: 0 | MJ27: 0 | MK27: 0 | ML27: 114.54 | MM27: 1.76 | MN27: 11.1 | MO27: 2.64 | MP27: 0 | MQ27: 9.12 | MR27: 0 | MS27: 17.16 | MT27: 12.88 | MU27: 0 | MV27: 4.68 | MW27: 0 | MX27: 0 | MY27: 12.16 | MZ27: 13.12 | NA27: 0 | NB27: 1.2 | NC27: 0 | ND27: 18.42 | NE27: 6.96 | NF27: 3.766 | NG27: 17.79 | NH27: 7.245 | NI27: 0.178 | NJ27: 0 | NK27: 0 | NL27: 27.72 | NM27: 2.4 | NN27: 79.68 | NO27: 58.08 | NP27: 0 | NQ27: 82.72 | NR27: 0 | NS27: 3.719 | NT27: 26.61 | NU27: 19.075 | NV27: 7.83 | NW27: 6.54 | NX27: 0 | NY27: 0 | NZ27: 0 | OA27: ='Прием от ВЭ'!BT20 -> 23192.981 | OB27: 4.06 | OC27: 0.203 | OD27: 0 | OE27: 3.88 | OF27: 13.38 | OG27: 0 | OH27: 0 | OI27: 37.2 | OJ27: 33.36 | OK27: 39 | OL27: 5.19 | OM27: 12.76 | ON27: 10.7 | OO27: 0.36 | OP27: 11.88 | OQ27: 20 | OR27: 80 | OS27: 1180 | OT27: 66 | OU27: 23 | OV27: 30.28 | OW27: 26.74 | OX27: =SUM(DW27:OW27) -> 31531.746
A28: =$A$27+TIME(1,0,0) -> 43817.583 | B28: 145.4 | C28: 112.92 | D28: 0 | E28: 7.02 | F28: 10.896 | G28: 49.8 | H28: 7.16 | I28: 0 | J28: 31.74 | K28: 47.1 | L28: 7.26 | M28: 17.82 | N28: 30.12 | O28: 0 | P28: 0 | Q28: 0 | R28: 0 | S28: 0 | T28: 25.905 | U28: 12.74 | V28: 0.38 | W28: 18.9 | X28: 11.62 | Y28: 2.84 | Z28: 0.405 | AA28: 0 | AB28: 98.82 | AC28: 16.22 | AD28: 15.9 | AE28: 7.64 | AF28: 0 | AG28: 0 | AH28: 8.4 | AI28: 67.44 | AJ28: 23.79 | AK28: 30.45 | AL28: 17.94 | AM28: 23.06 | AN28: 11.44 | AO28: 37.46 | AP28: 38.1 | AQ28: 3.06 | AR28: 15.3 | AS28: 10.64 | AT28: 101.76 | AU28: 0 | AV28: 19.2 | AW28: 199.2 | AX28: 0 | AY28: 0 | AZ28: 0 | BA28: 0 | BB28: 0 | BC28: 0 | BD28: 0 | BE28: 0 | BF28: 0 | BG28: 0 | BH28: 101.52 | BI28: 0.5585 | BJ28: 0.8395 | BK28: 0.7245 | BL28: 0.0605 | BM28: 0.0065 | BN28: 61.56 | BO28: 0.6975 | BP28: 0.5015 | BR28: 0.8675 | BS28: 19.98 | BT28: 106.02 | BU28: 0.166 | BV28: 73.12 | BW28: 63.08 | BX28: 337.6 | BY28: 0 | BZ28: 211.14 | CA28: 18.06 | CB28: 19.58 | CC28: 0 | CD28: 0 | CE28: 0.3 | CF28: 6.76 | CG28: 0 | CH28: 40.28 | CI28: 41 | CJ28: 16.72 | CK28: 0 | CL28: 0 | CM28: 2.871 | CN28: 130.8 | CO28: 131.84 | CP28: 63.42 | CQ28: 0 | CR28: 0 | CS28: 132 | CT28: 9.525 | CU28: 25.76 | CV28: 122.16 | CW28: 0 | CX28: 59.52 | CY28: 79.86 | CZ28: 72.9 | DA28: 0.6145 | DB28: 0 | DC28: 0 | DD28: 109.96 | DE28: 11.14 | DF28: 0 | DG28: 22.56 | DH28: 0 | DI28: 98.22 | DJ28: 2.25 | DK28: 7.95 | DL28: 0.3805 | DM28: 0 | DN28: 8.24 | DO28: 0.5155 | DP28: 0 | DQ28: 4.7865 | DR28: 126.8 | DS28: 0 | DT28: 126.8 | DU28: 0 | DV28: 109.96 | DW28: 0 | DX28: 1.755 | DY28: 0.36 | DZ28: 2.51 | EA28: 3.12 | EB28: 9.33 | EC28: 6.84 | ED28: 0 | EE28: 21.56 | EF28: 0 | EG28: 0 | EH28: 0 | EI28: 0.29 | EJ28: 8 | EK28: 0 | EL28: 0 | EM28: 17.52 | EN28: 34.02 | EO28: 31.28 | EP28: 28.24 | EQ28: 0 | ER28: 21.3 | ES28: 7.2 | ET28: 13.56 | EU28: 81.66 | EV28: 37.52 | EW28: 3.69 | EX28: 0 | EY28: 1.78 | EZ28: 0 | FA28: 51.84 | FB28: 141.2 | FC28: 55.8 | FD28: 44.82 | FE28: 140.22 | FF28: 54.66 | FG28: 0 | FH28: 45.48 | FI28: 50.94 | FJ28: 76.02 | FK28: 172.1 | FL28: 97.98 | FM28: 0.03 | FN28: 0.31 | FO28: 2.04 | FP28: 0 | FQ28: 19.4 | FR28: 59.7 | FS28: 23.7 | FT28: 5.56 | FU28: 6.885 | FV28: 0.02 | FW28: 12.89 | FX28: 50.7 | FY28: 1.5 | FZ28: 60.6 | GA28: 4.995 | GB28: 5.24 | GC28: 18.9 | GD28: 11.82 | GE28: 50.7 | GF28: 5.64 | GG28: 6.54 | GH28: 1.785 | GI28: 2.31 | GJ28: 0.32 | GK28: 0 | GL28: 12.42 | GM28: 1196.4 | GN28: 2.32 | GO28: 0.04 | GP28: 0 | GQ28: 0 | GR28: 90.7 | GS28: 69.3 | GT28: 1 | GU28: 9.84 | GV28: 0.72 | GW28: 0 | GX28: 35.28 | GY28: 0.72 | GZ28: 0 | HA28: 13.74 | HB28: 50.82 | HC28: 3 | HD28: 33.12 | HE28: 60.64 | HF28: 0 | HG28: 0 | HH28: 31.4 | HI28: 25.575 | HJ28: 0.953 | HK28: 23.8 | HL28: 5.58 | HM28: 0.885 | HN28: 11.2 | HO28: 10.6 | HP28: 12.12 | HQ28: 0 | HR28: 0 | HS28: 0 | HT28: 0 | HU28: 0 | HV28: 0 | HW28: 0 | HX28: 0 | HY28: 0 | HZ28: 0 | IA28: 0 | IB28: 0 | IC28: 0 | ID28: 0 | IE28: 0 | IF28: 0 | IG28: 0 | IH28: 0 | II28: 0 | IJ28: 0 | IK28: 0 | IL28: 0 | IM28: 0 | IN28: 6.3 | IO28: 0 | IP28: 0 | IQ28: 0 | IR28: 5.1 | IS28: 3.03 | IT28: 16.02 | IU28: 34.32 | IV28: 136.32 | IW28: 82.5 | IX28: 35.64 | IY28: 24.75 | IZ28: 9.9 | JA28: 0 | JB28: 38.31 | JC28: 0.043 | JD28: 27.84 | JE28: 16.16 | JF28: 22.272 | JG28: 24.36 | JH28: 0 | JI28: 8.25 | JJ28: 35.64 | JK28: 5.91 | JL28: 93.7 | JM28: 64.8 | JN28: 11.38 | JO28: 90.6 | JP28: 0.475 | JQ28: 5.46 | JR28: 0.02 | JS28: 0 | JT28: 40.62 | JU28: 38.22 | JV28: 3.58 | JW28: 0.885 | JX28: 16.84 | JY28: 55.48 | JZ28: 96.88 | KA28: 10.41 | KB28: 54.76 | KC28: 29.32 | KD28: 0 | KE28: 0.02 | KF28: 3.58 | KG28: 9.6 | KH28: 7.66 | KI28: 3.86 | KJ28: 37.56 | KK28: 43.6 | KL28: 21.84 | KM28: 72.8 | KN28: 4.53 | KO28: 76.36 | KP28: 0 | KQ28: 13.2 | KR28: 0.69 | KS28: 0 | KT28: 8.52 | KU28: 8.97 | KV28: 0 | KW28: 38.76 | KX28: 0 | KY28: 38.44 | KZ28: 146.96 | LA28: 16.62 | LB28: 7.05 | LC28: 15.72 | LD28: 1.62 | LE28: 4.71 | LF28: 0.4125 | LG28: 0 | LH28: 175.9 | LI28: 0 | LJ28: 41.2 | LK28: 1.25 | LL28: 0 | LM28: 0.4125 | LN28: 3 | LO28: 22.52 | LP28: 38.88 | LQ28: 45.12 | LR28: 10.92 | LS28: 52.59 | LT28: 9.6 | LU28: 11.362 | LV28: 15.315 | LW28: 26.43 | LX28: 15.375 | LY28: 18.585 | LZ28: 9.915 | MA28: 25.14 | MB28: 0 | MC28: 0 | MD28: 96.54 | ME28: 96.54 | MF28: 0 | MG28: 0 | MH28: 35.9 | MI28: 0 | MJ28: 0 | MK28: 0 | ML28: 108.36 | MM28: 0.8 | MN28: 11.2 | MO28: 10.04 | MP28: 0 | MQ28: 7.2 | MR28: 0 | MS28: 17.1 | MT28: 12.72 | MU28: 0 | MV28: 65.2 | MW28: 0 | MX28: 0 | MY28: 13.08 | MZ28: 1.76 | NA28: 0 | NB28: 1.86 | NC28: 0 | ND28: 10.56 | NE28: 6.57 | NF28: 3.862 | NG28: 17.55 | NH28: 6.285 | NI28: 0.093 | NJ28: 0 | NK28: 0 | NL28: 25.66 | NM28: 2.4 | NN28: 77.46 | NO28: 56.34 | NP28: 0 | NQ28: 85.04 | NR28: 0 | NS28: 4.351 | NT28: 24.3 | NU28: 17.45 | NV28: 6.18 | NW28: 6.3 | NX28: 0 | NY28: 0 | NZ28: 0 | OA28: ='Прием от ВЭ'!BT21 -> 23297.816 | OB28: 7.12 | OC28: 0.356 | OD28: 0 | OE28: 40.01 | OF28: 13.91 | OG28: 0 | OH28: 0 | OI28: 38.8 | OJ28: 36.67 | OK28: 39 | OL28: 5.51 | OM28: 8.84 | ON28: 13.16 | OO28: 0.54 | OP28: 10.44 | OQ28: 20 | OR28: 60 | OS28: 1030 | OT28: 57 | OU28: 21 | OV28: 32.32 | OW28: 28.56 | OX28: =SUM(DW28:OW28) -> 31158.798
A29: =$A$28+TIME(1,0,0) -> 43817.625 | B29: 164.4 | C29: 102 | D29: 0 | E29: 24.3 | F29: 8.784 | G29: 57.096 | H29: 6.46 | I29: 0 | J29: 30.72 | K29: 43.56 | L29: 11.24 | M29: 19.02 | N29: 30.92 | O29: 0 | P29: 0 | Q29: 0 | R29: 0 | S29: 0 | T29: 24.915 | U29: 13.9 | V29: 0.46 | W29: 15.44 | X29: 7.06 | Y29: 15.48 | Z29: 0.405 | AA29: 0 | AB29: 111.06 | AC29: 16.22 | AD29: 15.84 | AE29: 5.92 | AF29: 0 | AG29: 0 | AH29: 8.46 | AI29: 67.44 | AJ29: 23.655 | AK29: 29.625 | AL29: 17.82 | AM29: 36.08 | AN29: 11.7 | AO29: 35.06 | AP29: 39.4 | AQ29: 3.08 | AR29: 15.06 | AS29: 10.28 | AT29: 101.76 | AU29: 0 | AV29: 19.2 | AW29: 199.2 | AX29: 0 | AY29: 0 | AZ29: 0 | BA29: 0 | BB29: 0 | BC29: 0 | BD29: 0 | BE29: 0 | BF29: 0 | BG29: 0 | BH29: 99.96 | BI29: 0.5145 | BJ29: 0.769 | BK29: 0.7465 | BL29: 0.0635 | BM29: 0.0085 | BN29: 63.84 | BO29: 0.7075 | BP29: 0.502 | BR29: 0.8835 | BS29: 21.15 | BT29: 106.44 | BU29: 0.241 | BV29: 71.36 | BW29: 62.52 | BX29: 370.4 | BY29: 0 | BZ29: 234 | CA29: 16.98 | CB29: 20.02 | CC29: 0 | CD29: 0 | CE29: 0.54 | CF29: 6.84 | CG29: 0 | CH29: 39.48 | CI29: 41.5 | CJ29: 16.32 | CK29: 0 | CL29: 0 | CM29: 3.041 | CN29: 130.64 | CO29: 132.08 | CP29: 66.78 | CQ29: 0 | CR29: 0 | CS29: 137.7 | CT29: 10.485 | CU29: 24.44 | CV29: 108.36 | CW29: 0 | CX29: 58.92 | CY29: 86.94 | CZ29: 70.74 | DA29: 0.67 | DB29: 0 | DC29: 0 | DD29: 94.32 | DE29: 12.02 | DF29: 0 | DG29: 20.7 | DH29: 0 | DI29: 89.76 | DJ29: 30.45 | DK29: 7.8 | DL29: 0.342 | DM29: 0 | DN29: 10.16 | DO29: 0.492 | DP29: 0 | DQ29: 48.0575 | DR29: 128.3 | DS29: 0 | DT29: 128.3 | DU29: 0 | DV29: 94.32 | DW29: 0 | DX29: 1.695 | DY29: 1.23 | DZ29: 1.32 | EA29: 3.42 | EB29: 9.24 | EC29: 5.76 | ED29: 0 | EE29: 21.8 | EF29: 0 | EG29: 0 | EH29: 0 | EI29: 0.05 | EJ29: 3.4 | EK29: 0 | EL29: 0 | EM29: 16.68 | EN29: 35.34 | EO29: 24.24 | EP29: 24.44 | EQ29: 0 | ER29: 16.44 | ES29: 6.936 | ET29: 13.392 | EU29: 83.4 | EV29: 38.84 | EW29: 11.22 | EX29: 0 | EY29: 1.98 | EZ29: 0 | FA29: 48.92 | FB29: 143.7 | FC29: 54.12 | FD29: 40.5 | FE29: 143.7 | FF29: 57.3 | FG29: 0 | FH29: 44.1 | FI29: 56.1 | FJ29: 79.74 | FK29: 178.5 | FL29: 102.24 | FM29: 0.03 | FN29: 0.31 | FO29: 2.895 | FP29: 0 | FQ29: 24.2 | FR29: 48.5 | FS29: 23.775 | FT29: 6.84 | FU29: 6.045 | FV29: 0.02 | FW29: 12.43 | FX29: 65.82 | FY29: 3 | FZ29: 60.04 | GA29: 5.805 | GB29: 6.12 | GC29: 15.44 | GD29: 12.66 | GE29: 65.82 | GF29: 5.64 | GG29: 5.22 | GH29: 1.485 | GI29: 2.37 | GJ29: 0.09 | GK29: 3.84 | GL29: 12.12 | GM29: 1476 | GN29: 1.92 | GO29: 0.04 | GP29: 0 | GQ29: 0 | GR29: 85.9 | GS29: 78.3 | GT29: 0.64 | GU29: 7.26 | GV29: 0.67 | GW29: 0 | GX29: 42.63 | GY29: 0.67 | GZ29: 0 | HA29: 12.48 | HB29: 41.94 | HC29: 3.06 | HD29: 30.6 | HE29: 62.16 | HF29: 0 | HG29: 0 | HH29: 33.825 | HI29: 27.35 | HJ29: 0.948 | HK29: 20.36 | HL29: 6.06 | HM29: 0.825 | HN29: 10.96 | HO29: 10.52 | HP29: 11.205 | HQ29: 0 | HR29: 0 | HS29: 0 | HT29: 0 | HU29: 0 | HV29: 0 | HW29: 0 | HX29: 0 | HY29: 0 | HZ29: 0 | IA29: 0 | IB29: 0 | IC29: 0 | ID29: 0 | IE29: 0 | IF29: 0 | IG29: 0 | IH29: 0 | II29: 0 | IJ29: 0 | IK29: 0 | IL29: 0 | IM29: 0 | IN29: 4.6 | IO29: 0 | IP29: 0 | IQ29: 0 | IR29: 4.95 | IS29: 2.97 | IT29: 18.36 | IU29: 34.296 | IV29: 138.42 | IW29: 69 | IX29: 33.15 | IY29: 15.39 | IZ29: 10.005 | JA29: 0 | JB29: 38.28 | JC29: 0.0425 | JD29: 31.88 | JE29: 14.8 | JF29: 22.056 | JG29: 28.296 | JH29: 0 | JI29: 8.31 | JJ29: 36.84 | JK29: 6.03 | JL29: 76.4 | JM29: 73.62 | JN29: 12.74 | JO29: 89.04 | JP29: 0.475 | JQ29: 5.79 | JR29: 0.01 | JS29: 0 | JT29: 40.02 | JU29: 26.56 | JV29: 4.04 | JW29: 0.975 | JX29: 16.98 | JY29: 60.48 | JZ29: 103.48 | KA29: 10.89 | KB29: 57.64 | KC29: 27.42 | KD29: 0 | KE29: 0.02 | KF29: 3.29 | KG29: 9.68 | KH29: 7.22 | KI29: 5.36 | KJ29: 35.48 | KK29: 40.4 | KL29: 21.96 | KM29: 72.4 | KN29: 7.26 | KO29: 78.22 | KP29: 0 | KQ29: 14.97 | KR29: 0.73 | KS29: 0 | KT29: 8.37 | KU29: 9.18 | KV29: 0 | KW29: 36.62 | KX29: 0 | KY29: 40.8 | KZ29: 152.92 | LA29: 16.45 | LB29: 5.88 | LC29: 17.84 | LD29: 1.43 | LE29: 3.44 | LF29: 0.3375 | LG29: 0 | LH29: 174.9 | LI29: 0 | LJ29: 30.58 | LK29: 1.29 | LL29: 0 | LM29: 0.3375 | LN29: 5.7 | LO29: 21.92 | LP29: 36.24 | LQ29: 47 | LR29: 11.34 | LS29: 52.53 | LT29: 9.84 | LU29: 12.279 | LV29: 15.51 | LW29: 29.67 | LX29: 13.875 | LY29: 17.97 | LZ29: 10.29 | MA29: 21.87 | MB29: 0 | MC29: 0 | MD29: 95.1 | ME29: 95.1 | MF29: 0 | MG29: 0 | MH29: 37.6 | MI29: 0 | MJ29: 0 | MK29: 0 | ML29: 100.38 | MM29: 1.92 | MN29: 11.4 | MO29: 9.88 | MP29: 0 | MQ29: 10.08 | MR29: 0 | MS29: 17.25 | MT29: 12.76 | MU29: 0 | MV29: 54.24 | MW29: 0 | MX29: 0 | MY29: 11.92 | MZ29: 14.6 | NA29: 0 | NB29: 1.89 | NC29: 0 | ND29: 7.74 | NE29: 7.86 | NF29: 3.974 | NG29: 18 | NH29: 6.45 | NI29: 0.167 | NJ29: 0 | NK29: 0 | NL29: 27.02 | NM29: 2.4 | NN29: 74.84 | NO29: 55.38 | NP29: 0 | NQ29: 88.32 | NR29: 0 | NS29: 4.398 | NT29: 20.16 | NU29: 18.1 | NV29: 6.14 | NW29: 3.66 | NX29: 0 | NY29: 0 | NZ29: 0 | OA29: ='Прием от ВЭ'!BT22 -> 23156.126 | OB29: 5.6 | OC29: 0.28 | OD29: 0 | OE29: 22.73 | OF29: 13.82 | OG29: 0 | OH29: 0 | OI29: 45.8 | OJ29: 34.51 | OK29: 40 | OL29: 5.76 | OM29: 10.18 | ON29: 14.4 | OO29: 0.36 | OP29: 8.28 | OQ29: 10 | OR29: 70 | OS29: 1160 | OT29: 61 | OU29: 24 | OV29: 30.72 | OW29: 30.4 | OX29: =SUM(DW29:OW29) -> 31416.911
A30: =$A$29+TIME(1,0,0) -> 43817.667 | B30: 164 | C30: 91.8 | D30: 0 | E30: 56.46 | F30: 8.496 | G30: 55.944 | H30: 8.11 | I30: 0 | J30: 30.18 | K30: 45.18 | L30: 11.8 | M30: 24.24 | N30: 36.88 | O30: 0 | P30: 0 | Q30: 0 | R30: 0 | S30: 0 | T30: 25.44 | U30: 11.76 | V30: 0.38 | W30: 10.06 | X30: 9.42 | Y30: 11.42 | Z30: 0.48 | AA30: 0 | AB30: 113.58 | AC30: 16.12 | AD30: 15.68 | AE30: 6.32 | AF30: 0 | AG30: 0 | AH30: 8.76 | AI30: 67.56 | AJ30: 27.3 | AK30: 30.345 | AL30: 18.18 | AM30: 28.02 | AN30: 11.64 | AO30: 38.12 | AP30: 42.48 | AQ30: 3.14 | AR30: 15.02 | AS30: 10.64 | AT30: 101.8 | AU30: 0.045 | AV30: 19.2 | AW30: 199.2 | AX30: 0 | AY30: 0 | AZ30: 0 | BA30: 0 | BB30: 0 | BC30: 0 | BD30: 0 | BE30: 0 | BF30: 0 | BG30: 0 | BH30: 106.92 | BI30: 0.506 | BJ30: 0.791 | BK30: 0.8235 | BL30: 0.068 | BM30: 0.0075 | BN30: 64.32 | BO30: 0.7135 | BP30: 0.51 | BR30: 1.0025 | BS30: 19.32 | BT30: 121.44 | BU30: 0.6145 | BV30: 73.48 | BW30: 62.08 | BX30: 311.4 | BY30: 0 | BZ30: 220.32 | CA30: 18.36 | CB30: 19.04 | CC30: 0 | CD30: 0 | CE30: 1.14 | CF30: 6.72 | CG30: 0 | CH30: 44.44 | CI30: 43.02 | CJ30: 16.48 | CK30: 0 | CL30: 0 | CM30: 3.25 | CN30: 131.04 | CO30: 131.84 | CP30: 70.8 | CQ30: 0 | CR30: 0 | CS30: 129.4 | CT30: 11.475 | CU30: 21.56 | CV30: 103.08 | CW30: 0 | CX30: 58.44 | CY30: 88.2 | CZ30: 70.56 | DA30: 0.7235 | DB30: 0 | DC30: 0 | DD30: 76.6 | DE30: 11.54 | DF30: 0 | DG30: 19.2 | DH30: 0 | DI30: 85.02 | DJ30: 37.65 | DK30: 7.65 | DL30: 0.351 | DM30: 0 | DN30: 8.4 | DO30: 0.514 | DP30: 0 | DQ30: 1.8735 | DR30: 128.2 | DS30: 0 | DT30: 128.2 | DU30: 0 | DV30: 76.6 | DW30: 0 | DX30: 1.77 | DY30: 1.2 | DZ30: 1.59 | EA30: 3.48 | EB30: 11.37 | EC30: 5.7 | ED30: 0 | EE30: 20.44 | EF30: 0 | EG30: 0 | EH30: 0 | EI30: 0.13 | EJ30: 3.12 | EK30: 0 | EL30: 0 | EM30: 15.18 | EN30: 41.55 | EO30: 22.4 | EP30: 27.96 | EQ30: 0 | ER30: 11.82 | ES30: 7.008 | ET30: 13.728 | EU30: 107.94 | EV30: 40.56 | EW30: 8.85 | EX30: 0 | EY30: 5.96 | EZ30: 0 | FA30: 27.12 | FB30: 141.5 | FC30: 54 | FD30: 41.82 | FE30: 141.96 | FF30: 57.3 | FG30: 0 | FH30: 44.34 | FI30: 63.6 | FJ30: 89.52 | FK30: 171.6 | FL30: 110.52 | FM30: 0.05 | FN30: 0.32 | FO30: 2.355 | FP30: 0 | FQ30: 25 | FR30: 71.4 | FS30: 26.82 | FT30: 9.92 | FU30: 9.33 | FV30: 11.636 | FW30: 13.38 | FX30: 84.78 | FY30: 3.78 | FZ30: 65.52 | GA30: 5.385 | GB30: 6.24 | GC30: 10.06 | GD30: 18.84 | GE30: 84.78 | GF30: 7.12 | GG30: 5.52 | GH30: 3.6 | GI30: 2.28 | GJ30: 0.13 | GK30: 8.18 | GL30: 13.5 | GM30: 1540.8 | GN30: 1.76 | GO30: 0.08 | GP30: 0 | GQ30: 0 | GR30: 87 | GS30: 80.6 | GT30: 1.28 | GU30: 22.26 | GV30: 1 | GW30: 0 | GX30: 42.51 | GY30: 1 | GZ30: 0 | HA30: 16.8 | HB30: 43.56 | HC30: 4.05 | HD30: 36.84 | HE30: 65.92 | HF30: 0 | HG30: 0 | HH30: 33.725 | HI30: 30.675 | HJ30: 0.947 | HK30: 17.32 | HL30: 5.4 | HM30: 0.72 | HN30: 10.8 | HO30: 10.08 | HP30: 9.84 | HQ30: 0 | HR30: 0 | HS30: 0 | HT30: 0 | HU30: 0 | HV30: 0 | HW30: 0 | HX30: 0 | HY30: 0 | HZ30: 0 | IA30: 0 | IB30: 0 | IC30: 0 | ID30: 0 | IE30: 0 | IF30: 0 | IG30: 0 | IH30: 0 | II30: 0 | IJ30: 0 | IK30: 0 | IL30: 0 | IM30: 0 | IN30: 5.6 | IO30: 0 | IP30: 0 | IQ30: 0 | IR30: 5.49 | IS30: 3.18 | IT30: 15.81 | IU30: 31.656 | IV30: 155.46 | IW30: 64.8 | IX30: 40.29 | IY30: 14.19 | IZ30: 9.24 | JA30: 0 | JB30: 38.28 | JC30: 0.043 | JD30: 35.44 | JE30: 16.84 | JF30: 24.888 | JG30: 32.112 | JH30: 0 | JI30: 8.28 | JJ30: 40.04 | JK30: 6.42 | JL30: 88.2 | JM30: 62.58 | JN30: 17.14 | JO30: 26.04 | JP30: 0.475 | JQ30: 5.97 | JR30: 0.02 | JS30: 0 | JT30: 42.78 | JU30: 29.2 | JV30: 4.44 | JW30: 0.825 | JX30: 18.2 | JY30: 62.24 | JZ30: 109.28 | KA30: 10.545 | KB30: 58.4 | KC30: 28.74 | KD30: 0 | KE30: 0.02 | KF30: 3.54 | KG30: 9.96 | KH30: 6 | KI30: 5.38 | KJ30: 36.84 | KK30: 40.56 | KL30: 22.62 | KM30: 73.32 | KN30: 8.34 | KO30: 86.82 | KP30: 0 | KQ30: 11.91 | KR30: 0.71 | KS30: 0 | KT30: 8.52 | KU30: 9.24 | KV30: 0 | KW30: 15.78 | KX30: 0 | KY30: 39.52 | KZ30: 145.88 | LA30: 17.15 | LB30: 6.24 | LC30: 18.6 | LD30: 1.47 | LE30: 3.86 | LF30: 1.1325 | LG30: 0 | LH30: 159 | LI30: 0 | LJ30: 20.63 | LK30: 1.23 | LL30: 0 | LM30: 1.1325 | LN30: 6.96 | LO30: 22.08 | LP30: 37.48 | LQ30: 48.08 | LR30: 11.88 | LS30: 49.65 | LT30: 10.17 | LU30: 14.396 | LV30: 14.865 | LW30: 31.26 | LX30: 14.82 | LY30: 17.43 | LZ30: 12.765 | MA30: 19.77 | MB30: 0 | MC30: 0 | MD30: 36.72 | ME30: 36.72 | MF30: 0 | MG30: 0 | MH30: 16.7 | MI30: 0 | MJ30: 0 | MK30: 0 | ML30: 96.9 | MM30: 3 | MN30: 11.2 | MO30: 9.52 | MP30: 0 | MQ30: 11.52 | MR30: 0 | MS30: 17.61 | MT30: 12.84 | MU30: 0 | MV30: 52.08 | MW30: 0 | MX30: 0 | MY30: 12.16 | MZ30: 13.6 | NA30: 0 | NB30: 1.2 | NC30: 0 | ND30: 6.99 | NE30: 6.96 | NF30: 4.264 | NG30: 19.08 | NH30: 7.335 | NI30: 0.109 | NJ30: 0 | NK30: 0 | NL30: 30.04 | NM30: 2.43 | NN30: 79.2 | NO30: 55.68 | NP30: 0 | NQ30: 94.48 | NR30: 0 | NS30: 4.101 | NT30: 23.07 | NU30: 19.25 | NV30: 7.34 | NW30: 4.35 | NX30: 0 | NY30: 0 | NZ30: 0 | OA30: ='Прием от ВЭ'!BT23 -> 24218.564 | OB30: 5.54 | OC30: 0.277 | OD30: 0 | OE30: 5.38 | OF30: 13.04 | OG30: 0 | OH30: 0 | OI30: 52.1 | OJ30: 37.73 | OK30: 39 | OL30: 7.24 | OM30: 18.33 | ON30: 11.81 | OO30: 0.36 | OP30: 7.2 | OQ30: 10 | OR30: 90 | OS30: 1370 | OT30: 60 | OU30: 24 | OV30: 29.12 | OW30: 28.96 | OX30: =SUM(DW30:OW30) -> 32755.174
A31: =$A$30+TIME(1,0,0) -> 43817.708 | B31: 151.6 | C31: 88.92 | D31: 0 | E31: 43.56 | F31: 4.992 | G31: 33.768 | H31: 7.68 | I31: 0 | J31: 34.5 | K31: 43.89 | L31: 10.36 | M31: 30.54 | N31: 34.84 | O31: 0 | P31: 0 | Q31: 0 | R31: 0 | S31: 0 | T31: 27.18 | U31: 14.42 | V31: 0.38 | W31: 5.34 | X31: 8.04 | Y31: 4.28 | Z31: 0.435 | AA31: 0 | AB31: 111.6 | AC31: 16.06 | AD31: 15.58 | AE31: 7.68 | AF31: 0 | AG31: 0 | AH31: 9.72 | AI31: 67.5 | AJ31: 34.23 | AK31: 32.1 | AL31: 20.46 | AM31: 23.66 | AN31: 12.42 | AO31: 38.64 | AP31: 47.54 | AQ31: 3.44 | AR31: 14.3 | AS31: 10.72 | AT31: 101.76 | AU31: 0.24 | AV31: 19.2 | AW31: 199.2 | AX31: 0 | AY31: 0 | AZ31: 0 | BA31: 0 | BB31: 0 | BC31: 0 | BD31: 0 | BE31: 0 | BF31: 0 | BG31: 0 | BH31: 84 | BI31: 0.505 | BJ31: 0.9185 | BK31: 0.922 | BL31: 0.064 | BM31: 0.0065 | BN31: 69.75 | BO31: 0.801 | BP31: 0.543 | BR31: 1.1635 | BS31: 23.94 | BT31: 133.5 | BU31: 0.8285 | BV31: 73.4 | BW31: 63.36 | BX31: 277 | BY31: 0 | BZ31: 205.56 | CA31: 19.5 | CB31: 18.46 | CC31: 0 | CD31: 0 | CE31: 1.02 | CF31: 8.12 | CG31: 0 | CH31: 45.24 | CI31: 44.52 | CJ31: 14.64 | CK31: 0 | CL31: 0 | CM31: 4.871 | CN31: 132.56 | CO31: 132.48 | CP31: 66.42 | CQ31: 0 | CR31: 0 | CS31: 118.8 | CT31: 11.58 | CU31: 14.6 | CV31: 112.26 | CW31: 0 | CX31: 60.72 | CY31: 90.42 | CZ31: 60.96 | DA31: 0.8085 | DB31: 0 | DC31: 0 | DD31: 56.44 | DE31: 15.12 | DF31: 0 | DG31: 18.18 | DH31: 0 | DI31: 103.74 | DJ31: 31.2 | DK31: 7.65 | DL31: 0.433 | DM31: 0 | DN31: 8.48 | DO31: 0.528 | DP31: 0 | DQ31: 26.1945 | DR31: 128.1 | DS31: 0 | DT31: 128.1 | DU31: 0 | DV31: 56.44 | DW31: 0 | DX31: 1.845 | DY31: 0.795 | DZ31: 2.09 | EA31: 4.32 | EB31: 10.71 | EC31: 6.12 | ED31: 0 | EE31: 20.92 | EF31: 0 | EG31: 0 | EH31: 0 | EI31: 0.16 | EJ31: 2.84 | EK31: 0 | EL31: 0 | EM31: 13.86 | EN31: 46.29 | EO31: 23 | EP31: 24.52 | EQ31: 0 | ER31: 9.36 | ES31: 6.96 | ET31: 14.136 | EU31: 99.48 | EV31: 45.16 | EW31: 3.24 | EX31: 0 | EY31: 6.24 | EZ31: 0 | FA31: 30.96 | FB31: 159.1 | FC31: 52.8 | FD31: 38.04 | FE31: 141.42 | FF31: 57.54 | FG31: 0 | FH31: 43.62 | FI31: 69.9 | FJ31: 94.38 | FK31: 189.3 | FL31: 113.94 | FM31: 0.33 | FN31: 0.57 | FO31: 2.55 | FP31: 0 | FQ31: 42 | FR31: 85 | FS31: 29.235 | FT31: 7.82 | FU31: 14.37 | FV31: 12.782 | FW31: 12.37 | FX31: 71.28 | FY31: 3.18 | FZ31: 86.64 | GA31: 5.145 | GB31: 5.52 | GC31: 5.34 | GD31: 22.86 | GE31: 71.28 | GF31: 8.24 | GG31: 2.1 | GH31: 3.3 | GI31: 2.34 | GJ31: 0.67 | GK31: 7.37 | GL31: 15.42 | GM31: 1670.8 | GN31: 2.28 | GO31: 0.08 | GP31: 0 | GQ31: 0 | GR31: 81 | GS31: 86.8 | GT31: 2.44 | GU31: 17.04 | GV31: 1.18 | GW31: 0 | GX31: 40.59 | GY31: 1.18 | GZ31: 0 | HA31: 19.02 | HB31: 52.38 | HC31: 4.26 | HD31: 37.88 | HE31: 72.52 | HF31: 0 | HG31: 0 | HH31: 35.775 | HI31: 33.75 | HJ31: 0.947 | HK31: 12.68 | HL31: 5.28 | HM31: 1.275 | HN31: 9.92 | HO31: 18 | HP31: 0.255 | HQ31: 0 | HR31: 0 | HS31: 0 | HT31: 0 | HU31: 0 | HV31: 0 | HW31: 0 | HX31: 0 | HY31: 0 | HZ31: 0 | IA31: 0 | IB31: 0 | IC31: 0 | ID31: 0 | IE31: 0 | IF31: 0 | IG31: 0 | IH31: 0 | II31: 0 | IJ31: 0 | IK31: 0 | IL31: 0 | IM31: 0 | IN31: 6.1 | IO31: 0 | IP31: 0 | IQ31: 0 | IR31: 5.46 | IS31: 4.62 | IT31: 14.49 | IU31: 35.448 | IV31: 168.42 | IW31: 67.44 | IX31: 52.23 | IY31: 25.95 | IZ31: 10.455 | JA31: 0 | JB31: 38.25 | JC31: 0.0425 | JD31: 30.56 | JE31: 19.76 | JF31: 24.048 | JG31: 36.984 | JH31: 0 | JI31: 8.235 | JJ31: 44.76 | JK31: 6.75 | JL31: 83.9 | JM31: 79.62 | JN31: 22.64 | JO31: 0 | JP31: 0.5 | JQ31: 5.82 | JR31: 0.01 | JS31: 0 | JT31: 44.7 | JU31: 19.4 | JV31: 6.52 | JW31: 0.945 | JX31: 17.28 | JY31: 69.84 | JZ31: 93.88 | KA31: 10.59 | KB31: 60.44 | KC31: 28.76 | KD31: 0 | KE31: 0.03 | KF31: 3.69 | KG31: 13.68 | KH31: 9.56 | KI31: 5.29 | KJ31: 34.32 | KK31: 43.88 | KL31: 24.66 | KM31: 67.96 | KN31: 8.07 | KO31: 91.24 | KP31: 0 | KQ31: 16.35 | KR31: 0.72 | KS31: 0 | KT31: 8.66 | KU31: 9.15 | KV31: 0 | KW31: 28.22 | KX31: 0 | KY31: 41.2 | KZ31: 168.64 | LA31: 16.35 | LB31: 6.42 | LC31: 20.32 | LD31: 1.53 | LE31: 3.5 | LF31: 1.0575 | LG31: 0 | LH31: 159.2 | LI31: 0 | LJ31: 21.54 | LK31: 1.24 | LL31: 0 | LM31: 1.0575 | LN31: 5.04 | LO31: 29.16 | LP31: 43.92 | LQ31: 45.12 | LR31: 13.17 | LS31: 52.26 | LT31: 8.94 | LU31: 16.253 | LV31: 13.845 | LW31: 37.2 | LX31: 18.525 | LY31: 20.13 | LZ31: 14.4 | MA31: 15 | MB31: 0 | MC31: 0 | MD31: 63.9 | ME31: 63.9 | MF31: 0 | MG31: 0 | MH31: 21.8 | MI31: 0 | MJ31: 0 | MK31: 0 | ML31: 98.1 | MM31: 1.76 | MN31: 11.1 | MO31: 8.8 | MP31: 0 | MQ31: 13.92 | MR31: 0 | MS31: 18.12 | MT31: 12.88 | MU31: 0 | MV31: 5.2 | MW31: 0 | MX31: 0 | MY31: 14.44 | MZ31: 15.8 | NA31: 0 | NB31: 1.92 | NC31: 0 | ND31: 7.35 | NE31: 5.61 | NF31: 5.279 | NG31: 25.26 | NH31: 8.01 | NI31: 0.2 | NJ31: 0 | NK31: 0 | NL31: 25.54 | NM31: 2.4 | NN31: 91.8 | NO31: 63.03 | NP31: 0 | NQ31: 111.28 | NR31: 0 | NS31: 3.124 | NT31: 29.58 | NU31: 20.075 | NV31: 7.43 | NW31: 3.6 | NX31: 0 | NY31: 0 | NZ31: 0 | OA31: ='Прием от ВЭ'!BT24 -> 24217.743 | OB31: 5.89 | OC31: 0.2945 | OD31: 0 | OE31: 4.04 | OF31: 9.23 | OG31: 0 | OH31: 0 | OI31: 46.9 | OJ31: 37.92 | OK31: 41 | OL31: 7.96 | OM31: 3.84 | ON31: 12.39 | OO31: 0.36 | OP31: 18.36 | OQ31: 20 | OR31: 60 | OS31: 890 | OT31: 55 | OU31: 19 | OV31: 30.48 | OW31: 33.12 | OX31: =SUM(DW31:OW31) -> 32618.171
A32: =$A$31+TIME(1,0,0) -> 43817.75 | B32: 127.2 | C32: 75.12 | D32: 0 | E32: 36.18 | F32: 4.752 | G32: 30.912 | H32: 9.11 | I32: 0 | J32: 32.46 | K32: 46.29 | L32: 9.8 | M32: 35.16 | N32: 36.32 | O32: 0 | P32: 0 | Q32: 0 | R32: 0 | S32: 0 | T32: 30.645 | U32: 3.36 | V32: 0.36 | W32: 1.02 | X32: 4.18 | Y32: 1 | Z32: 0.39 | AA32: 0 | AB32: 119.52 | AC32: 16.16 | AD32: 15.76 | AE32: 6.36 | AF32: 0 | AG32: 0 | AH32: 9.72 | AI32: 67.5 | AJ32: 35.76 | AK32: 32.205 | AL32: 18.48 | AM32: 23.92 | AN32: 12.2 | AO32: 41.98 | AP32: 47.52 | AQ32: 3.3 | AR32: 16.82 | AS32: 11.08 | AT32: 101.72 | AU32: 0.225 | AV32: 19.2 | AW32: 199.2 | AX32: 0 | AY32: 0 | AZ32: 0 | BA32: 0 | BB32: 0 | BC32: 0 | BD32: 0 | BE32: 0 | BF32: 0 | BG32: 0 | BH32: 80.34 | BI32: 0.5185 | BJ32: 1.0825 | BK32: 1.049 | BL32: 0.0695 | BM32: 0.007 | BN32: 71.04 | BO32: 0.794 | BP32: 0.5415 | BR32: 1.222 | BS32: 24.42 | BT32: 141.42 | BU32: 0.8335 | BV32: 73.52 | BW32: 63.36 | BX32: 317.2 | BY32: 0 | BZ32: 112.5 | CA32: 15.48 | CB32: 17.84 | CC32: 0 | CD32: 0 | CE32: 1.2 | CF32: 8.72 | CG32: 0 | CH32: 44.48 | CI32: 44.22 | CJ32: 16.4 | CK32: 0 | CL32: 0 | CM32: 3.614 | CN32: 132.72 | CO32: 133.84 | CP32: 66.42 | CQ32: 0 | CR32: 0 | CS32: 130.4 | CT32: 14.835 | CU32: 13.08 | CV32: 131.76 | CW32: 0 | CX32: 67.92 | CY32: 94.74 | CZ32: 66.48 | DA32: 0.855 | DB32: 0 | DC32: 0 | DD32: 30.84 | DE32: 20.24 | DF32: 0 | DG32: 17.34 | DH32: 0 | DI32: 111.3 | DJ32: 4.8 | DK32: 7.95 | DL32: 0.4825 | DM32: 0 | DN32: 8.68 | DO32: 0.6135 | DP32: 0 | DQ32: 31.4245 | DR32: 128.9 | DS32: 0 | DT32: 128.9 | DU32: 0 | DV32: 30.84 | DW32: 0 | DX32: 1.86 | DY32: 0.96 | DZ32: 2.87 | EA32: 4.2 | EB32: 12.27 | EC32: 6.48 | ED32: 0 | EE32: 18.8 | EF32: 0 | EG32: 0 | EH32: 0 | EI32: 0.15 | EJ32: 2.84 | EK32: 0 | EL32: 0 | EM32: 13.38 | EN32: 49.38 | EO32: 25 | EP32: 26.32 | EQ32: 0 | ER32: 9.54 | ES32: 6.792 | ET32: 14.448 | EU32: 120.9 | EV32: 47.76 | EW32: 3.27 | EX32: 0 | EY32: 6.56 | EZ32: 0 | FA32: 21.64 | FB32: 166 | FC32: 51.36 | FD32: 35.04 | FE32: 143.94 | FF32: 61.2 | FG32: 0 | FH32: 46.68 | FI32: 73.92 | FJ32: 99.48 | FK32: 199.5 | FL32: 113.1 | FM32: 0.34 | FN32: 0.27 | FO32: 2.67 | FP32: 0 | FQ32: 46.2 | FR32: 79.2 | FS32: 32.805 | FT32: 8.16 | FU32: 13.755 | FV32: 12.864 | FW32: 13.24 | FX32: 70.62 | FY32: 1.38 | FZ32: 87.88 | GA32: 5.415 | GB32: 5.24 | GC32: 1.02 | GD32: 24.12 | GE32: 70.62 | GF32: 8.12 | GG32: 5.34 | GH32: 2.655 | GI32: 2.28 | GJ32: 0.98 | GK32: 2.88 | GL32: 14.76 | GM32: 1280.8 | GN32: 2.84 | GO32: 0.28 | GP32: 0 | GQ32: 0 | GR32: 76.8 | GS32: 92.8 | GT32: 2.6 | GU32: 14.88 | GV32: 0.54 | GW32: 0 | GX32: 44.79 | GY32: 0.54 | GZ32: 0 | HA32: 17.76 | HB32: 49.14 | HC32: 9.84 | HD32: 38.76 | HE32: 77.84 | HF32: 0 | HG32: 0 | HH32: 38.95 | HI32: 38.375 | HJ32: 0.954 | HK32: 11.52 | HL32: 5.98 | HM32: 1.83 | HN32: 10.36 | HO32: 24.6 | HP32: 0.135 | HQ32: 0 | HR32: 0 | HS32: 0 | HT32: 0 | HU32: 0 | HV32: 0 | HW32: 0 | HX32: 0 | HY32: 0 | HZ32: 0 | IA32: 0 | IB32: 0 | IC32: 0 | ID32: 0 | IE32: 0 | IF32: 0 | IG32: 0 | IH32: 0 | II32: 0 | IJ32: 0 | IK32: 0 | IL32: 0 | IM32: 0 | IN32: 5.9 | IO32: 0 | IP32: 0 | IQ32: 0 | IR32: 5.82 | IS32: 4.71 | IT32: 16.17 | IU32: 43.008 | IV32: 176.22 | IW32: 48.9 | IX32: 52.35 | IY32: 31.35 | IZ32: 10.845 | JA32: 0 | JB32: 38.28 | JC32: 0.0425 | JD32: 30.48 | JE32: 19.48 | JF32: 21.504 | JG32: 29.04 | JH32: 0 | JI32: 8.25 | JJ32: 46.64 | JK32: 7.2 | JL32: 71.8 | JM32: 72.9 | JN32: 22.54 | JO32: 0 | JP32: 0.475 | JQ32: 6.09 | JR32: 0.02 | JS32: 0 | JT32: 48.18 | JU32: 0.02 | JV32: 6.02 | JW32: 0.93 | JX32: 17.92 | JY32: 67.16 | JZ32: 94.52 | KA32: 10.845 | KB32: 74.08 | KC32: 27.76 | KD32: 0 | KE32: 0.02 | KF32: 4.74 | KG32: 15.32 | KH32: 8.12 | KI32: 3.97 | KJ32: 34.04 | KK32: 40.84 | KL32: 23.46 | KM32: 72.64 | KN32: 8.55 | KO32: 94.66 | KP32: 0 | KQ32: 18.21 | KR32: 0.74 | KS32: 0 | KT32: 9.01 | KU32: 9.54 | KV32: 0 | KW32: 38.6 | KX32: 0 | KY32: 46.96 | KZ32: 169.08 | LA32: 18.4 | LB32: 6.42 | LC32: 22.84 | LD32: 1.34 | LE32: 4.01 | LF32: 1.1025 | LG32: 0 | LH32: 234.4 | LI32: 0 | LJ32: 24.22 | LK32: 1.32 | LL32: 0 | LM32: 1.1025 | LN32: 3.42 | LO32: 28.04 | LP32: 41.04 | LQ32: 48.72 | LR32: 14.43 | LS32: 52.47 | LT32: 8.19 | LU32: 15.726 | LV32: 13.485 | LW32: 42.63 | LX32: 20.325 | LY32: 22.215 | LZ32: 15.78 | MA32: 13.83 | MB32: 0 | MC32: 0 | MD32: 46.44 | ME32: 46.44 | MF32: 0 | MG32: 0 | MH32: 46 | MI32: 0 | MJ32: 0 | MK32: 0 | ML32: 108.36 | MM32: 1.32 | MN32: 11 | MO32: 1.16 | MP32: 0 | MQ32: 12.96 | MR32: 0 | MS32: 18.21 | MT32: 12.92 | MU32: 0 | MV32: 4.92 | MW32: 0 | MX32: 0 | MY32: 15.32 | MZ32: 7.8 | NA32: 0 | NB32: 2.04 | NC32: 0 | ND32: 3.39 | NE32: 4.17 | NF32: 5.081 | NG32: 25.47 | NH32: 10.215 | NI32: 0.071 | NJ32: 0 | NK32: 0 | NL32: 24.1 | NM32: 2.4 | NN32: 100.66 | NO32: 64.35 | NP32: 0 | NQ32: 114.64 | NR32: 0 | NS32: 3.494 | NT32: 32.01 | NU32: 21.775 | NV32: 7.23 | NW32: 4.47 | NX32: 0 | NY32: 0 | NZ32: 0 | OA32: ='Прием от ВЭ'!BT25 -> 24471.329 | OB32: 7.03 | OC32: 0.3515 | OD32: 0 | OE32: 4.83 | OF32: 6.47 | OG32: 0 | OH32: 0 | OI32: 39.9 | OJ32: 40.85 | OK32: 42 | OL32: 19.86 | OM32: 1.73 | ON32: 11.5 | OO32: 0.36 | OP32: 10.26 | OQ32: 0 | OR32: 80 | OS32: 1040 | OT32: 50 | OU32: 19 | OV32: 32.44 | OW32: 37.92 | OX32: =SUM(DW32:OW32) -> 32787.02
A33: =$A$32+TIME(1,0,0) -> 43817.792 | B33: 108.4 | C33: 75.12 | D33: 0 | E33: 33.48 | F33: 5.28 | G33: 24.696 | H33: 5.31 | I33: 0 | J33: 36.12 | K33: 47.49 | L33: 9.12 | M33: 33.18 | N33: 34.32 | O33: 0 | P33: 0 | Q33: 0 | R33: 0 | S33: 0 | T33: 29.565 | U33: 3.28 | V33: 0.44 | W33: 0.86 | X33: 3.92 | Y33: 0.5 | Z33: 0.405 | AA33: 0 | AB33: 93.3 | AC33: 16.26 | AD33: 15.9 | AE33: 6.56 | AF33: 0 | AG33: 0 | AH33: 9.6 | AI33: 67.62 | AJ33: 32.535 | AK33: 32.295 | AL33: 19.08 | AM33: 31.38 | AN33: 12.48 | AO33: 40.3 | AP33: 50.58 | AQ33: 3.42 | AR33: 16.06 | AS33: 11.2 | AT33: 101.76 | AU33: 0.225 | AV33: 19.2 | AW33: 199.2 | AX33: 0 | AY33: 0 | AZ33: 0 | BA33: 0 | BB33: 0 | BC33: 0 | BD33: 0 | BE33: 0 | BF33: 0 | BG33: 0 | BH33: 83.1 | BI33: 0.534 | BJ33: 1.169 | BK33: 1.1795 | BL33: 0.084 | BM33: 0.004 | BN33: 72.87 | BO33: 0.799 | BP33: 0.5665 | BR33: 1.213 | BS33: 25.2 | BT33: 145.32 | BU33: 0.8475 | BV33: 73.04 | BW33: 63.08 | BX33: 342.4 | BY33: 0 | BZ33: 88.56 | CA33: 13.5 | CB33: 17.68 | CC33: 0 | CD33: 0 | CE33: 1.32 | CF33: 7.96 | CG33: 0 | CH33: 45.4 | CI33: 44.46 | CJ33: 17.28 | CK33: 0 | CL33: 0 | CM33: 5.38 | CN33: 132.88 | CO33: 134 | CP33: 69 | CQ33: 0 | CR33: 0 | CS33: 133.1 | CT33: 16.62 | CU33: 13.4 | CV33: 140.22 | CW33: 0 | CX33: 64.56 | CY33: 98.88 | CZ33: 66 | DA33: 0.894 | DB33: 0 | DC33: 0 | DD33: 25.76 | DE33: 26.52 | DF33: 0 | DG33: 15.6 | DH33: 0 | DI33: 105.36 | DJ33: 3.9 | DK33: 7.8 | DL33: 0.514 | DM33: 0 | DN33: 8.4 | DO33: 0.704 | DP33: 0 | DQ33: 3.0315 | DR33: 130.3 | DS33: 0 | DT33: 130.3 | DU33: 0 | DV33: 25.76 | DW33: 0 | DX33: 1.83 | DY33: 1.035 | DZ33: 4.32 | EA33: 4.8 | EB33: 8.79 | EC33: 6.72 | ED33: 0 | EE33: 19.52 | EF33: 0 | EG33: 0 | EH33: 0 | EI33: 0.32 | EJ33: 3.08 | EK33: 0 | EL33: 0 | EM33: 15.78 | EN33: 50.94 | EO33: 27.24 | EP33: 24.8 | EQ33: 0 | ER33: 11.64 | ES33: 6.648 | ET33: 14.616 | EU33: 118.74 | EV33: 49.64 | EW33: 3.33 | EX33: 0 | EY33: 5.6 | EZ33: 0 | FA33: 15.96 | FB33: 182.5 | FC33: 51.84 | FD33: 35.82 | FE33: 147.42 | FF33: 54.78 | FG33: 0 | FH33: 47.28 | FI33: 80.76 | FJ33: 103.44 | FK33: 204.1 | FL33: 124.08 | FM33: 0.33 | FN33: 0.29 | FO33: 2.685 | FP33: 0 | FQ33: 61.4 | FR33: 38.9 | FS33: 32.97 | FT33: 8.04 | FU33: 14.58 | FV33: 12.847 | FW33: 12.43 | FX33: 57.9 | FY33: 1.38 | FZ33: 89.12 | GA33: 6.255 | GB33: 5.24 | GC33: 0.86 | GD33: 24.18 | GE33: 57.9 | GF33: 9.28 | GG33: 7.08 | GH33: 4.11 | GI33: 2.34 | GJ33: 0.99 | GK33: 0 | GL33: 18.18 | GM33: 1278 | GN33: 2.72 | GO33: 0.44 | GP33: 0 | GQ33: 0 | GR33: 78.1 | GS33: 93.2 | GT33: 2.44 | GU33: 9.3 | GV33: 0.68 | GW33: 0 | GX33: 46.56 | GY33: 0.68 | GZ33: 0 | HA33: 15.72 | HB33: 49.74 | HC33: 5.22 | HD33: 38.72 | HE33: 75.36 | HF33: 0 | HG33: 0 | HH33: 39.55 | HI33: 44.425 | HJ33: 0.954 | HK33: 9.4 | HL33: 7.66 | HM33: 1.89 | HN33: 8.2 | HO33: 21.24 | HP33: 0.405 | HQ33: 0 | HR33: 0 | HS33: 0 | HT33: 0 | HU33: 0 | HV33: 0 | HW33: 0 | HX33: 0 | HY33: 0 | HZ33: 0 | IA33: 0 | IB33: 0 | IC33: 0 | ID33: 0 | IE33: 0 | IF33: 0 | IG33: 0 | IH33: 0 | II33: 0 | IJ33: 0 | IK33: 0 | IL33: 0 | IM33: 0 | IN33: 5.9 | IO33: 0 | IP33: 0 | IQ33: 0 | IR33: 6.03 | IS33: 4.5 | IT33: 20.13 | IU33: 38.436 | IV33: 177.3 | IW33: 67.2 | IX33: 41.82 | IY33: 29.28 | IZ33: 10.14 | JA33: 0 | JB33: 38.31 | JC33: 0.043 | JD33: 26.76 | JE33: 16.64 | JF33: 21.672 | JG33: 27.504 | JH33: 0 | JI33: 7.71 | JJ33: 48.4 | JK33: 9.09 | JL33: 84.7 | JM33: 83.46 | JN33: 22.68 | JO33: 0 | JP33: 0.475 | JQ33: 6.06 | JR33: 0.01 | JS33: 0 | JT33: 48.84 | JU33: 0.02 | JV33: 5.1 | JW33: 0.72 | JX33: 16.36 | JY33: 69.6 | JZ33: 108.2 | KA33: 10.35 | KB33: 74.84 | KC33: 29.36 | KD33: 0 | KE33: 0.02 | KF33: 3.75 | KG33: 16.32 | KH33: 9.16 | KI33: 5.81 | KJ33: 32.04 | KK33: 39.32 | KL33: 29.82 | KM33: 80.36 | KN33: 8.25 | KO33: 101.48 | KP33: 0 | KQ33: 14.46 | KR33: 0.72 | KS33: 0 | KT33: 8.14 | KU33: 7.71 | KV33: 0 | KW33: 15.6 | KX33: 0 | KY33: 46.36 | KZ33: 162.8 | LA33: 16.89 | LB33: 7.14 | LC33: 20.88 | LD33: 1.11 | LE33: 3.57 | LF33: 2.13 | LG33: 0 | LH33: 245.8 | LI33: 0 | LJ33: 25.46 | LK33: 1.18 | LL33: 0 | LM33: 2.13 | LN33: 1.56 | LO33: 28.4 | LP33: 38.72 | LQ33: 45.88 | LR33: 14.22 | LS33: 54.78 | LT33: 9.51 | LU33: 14.586 | LV33: 12.705 | LW33: 37.77 | LX33: 17.55 | LY33: 22.035 | LZ33: 17.13 | MA33: 9.18 | MB33: 0 | MC33: 0 | MD33: 81.24 | ME33: 81.24 | MF33: 0 | MG33: 0 | MH33: 36.2 | MI33: 0 | MJ33: 0 | MK33: 0 | ML33: 108.24 | MM33: 3.04 | MN33: 11.1 | MO33: 1.16 | MP33: 0 | MQ33: 12.96 | MR33: 0 | MS33: 18.18 | MT33: 12.92 | MU33: 0 | MV33: 5.12 | MW33: 0 | MX33: 0 | MY33: 15.76 | MZ33: 10.36 | NA33: 0 | NB33: 1.2 | NC33: 0 | ND33: 2.19 | NE33: 4.32 | NF33: 4.753 | NG33: 25.5 | NH33: 11.115 | NI33: 0.231 | NJ33: 0 | NK33: 0 | NL33: 22.84 | NM33: 2.37 | NN33: 106.08 | NO33: 67.89 | NP33: 0 | NQ33: 115.84 | NR33: 0 | NS33: 3.49 | NT33: 32.4 | NU33: 21.65 | NV33: 7.93 | NW33: 4.05 | NX33: 0 | NY33: 0 | NZ33: 0 | OA33: ='Прием от ВЭ'!BT26 -> 23613.214 | OB33: 8.59 | OC33: 0.4295 | OD33: 0 | OE33: 5.05 | OF33: 4.05 | OG33: 0 | OH33: 0 | OI33: 32 | OJ33: 40.85 | OK33: 42 | OL33: 15.05 | OM33: 1.01 | ON33: 10.43 | OO33: 0.36 | OP33: 10.62 | OQ33: 10 | OR33: 50 | OS33: 660 | OT33: 49 | OU33: 19 | OV33: 32.16 | OW33: 41.68 | OX33: =SUM(DW33:OW33) -> 31594.199
A34: =$A$33+TIME(1,0,0) -> 43817.833 | B34: 98 | C34: 58.02 | D34: 0 | E34: 18.9 | F34: 5.304 | G34: 25.152 | H34: 4.88 | I34: 0 | J34: 44.94 | K34: 46.38 | L34: 8.28 | M34: 35.34 | N34: 37.96 | O34: 0 | P34: 0 | Q34: 0 | R34: 0 | S34: 0 | T34: 27.645 | U34: 2.64 | V34: 0.38 | W34: 1.04 | X34: 4.1 | Y34: 0.44 | Z34: 0.42 | AA34: 0 | AB34: 58.98 | AC34: 16.56 | AD34: 16.1 | AE34: 4.44 | AF34: 0 | AG34: 0 | AH34: 10.14 | AI34: 67.56 | AJ34: 33.975 | AK34: 31.425 | AL34: 11.64 | AM34: 29.6 | AN34: 11.7 | AO34: 45.44 | AP34: 53.28 | AQ34: 3.08 | AR34: 17.96 | AS34: 11.24 | AT34: 101.88 | AU34: 0.225 | AV34: 0 | AW34: 120 | AX34: 0 | AY34: 0 | AZ34: 0 | BA34: 0 | BB34: 0 | BC34: 0 | BD34: 0 | BE34: 0 | BF34: 0 | BG34: 0 | BH34: 72.84 | BI34: 0.565 | BJ34: 1.202 | BK34: 1.288 | BL34: 0.0835 | BM34: 0.005 | BN34: 69.09 | BO34: 0.8195 | BP34: 0.571 | BR34: 1.128 | BS34: 27.63 | BT34: 147.66 | BU34: 0.746 | BV34: 73.16 | BW34: 69.32 | BX34: 364.8 | BY34: 0 | BZ34: 66.24 | CA34: 13.08 | CB34: 17.72 | CC34: 0 | CD34: 0 | CE34: 1.26 | CF34: 7.32 | CG34: 0 | CH34: 41.52 | CI34: 44.64 | CJ34: 18 | CK34: 0 | CL34: 0 | CM34: 6.244 | CN34: 132.96 | CO34: 134.24 | CP34: 66.12 | CQ34: 0 | CR34: 0 | CS34: 137.4 | CT34: 16.605 | CU34: 13.2 | CV34: 134.88 | CW34: 0 | CX34: 61.14 | CY34: 105.6 | CZ34: 70.26 | DA34: 0.884 | DB34: 0 | DC34: 0 | DD34: 25.36 | DE34: 26.44 | DF34: 0 | DG34: 14.28 | DH34: 0 | DI34: 110.16 | DJ34: 4.05 | DK34: 7.65 | DL34: 0.5135 | DM34: 0 | DN34: 8.08 | DO34: 0.7095 | DP34: 0 | DQ34: 25.6915 | DR34: 130.1 | DS34: 0 | DT34: 130.1 | DU34: 0 | DV34: 25.36 | DW34: 0 | DX34: 1.77 | DY34: 0.645 | DZ34: 4.41 | EA34: 4.56 | EB34: 8.31 | EC34: 6.6 | ED34: 0 | EE34: 18.12 | EF34: 0 | EG34: 0 | EH34: 0 | EI34: 0.88 | EJ34: 2.84 | EK34: 0 | EL34: 0 | EM34: 14.82 | EN34: 49.65 | EO34: 27.04 | EP34: 24.6 | EQ34: 0 | ER34: 14.94 | ES34: 6.696 | ET34: 14.424 | EU34: 125.46 | EV34: 50.28 | EW34: 3.33 | EX34: 0 | EY34: 5.04 | EZ34: 0 | FA34: 14.6 | FB34: 194.2 | FC34: 51.78 | FD34: 35.4 | FE34: 147.54 | FF34: 44.52 | FG34: 0 | FH34: 45.24 | FI34: 86.58 | FJ34: 103.92 | FK34: 204.1 | FL34: 105.24 | FM34: 0.34 | FN34: 0.25 | FO34: 4.725 | FP34: 0 | FQ34: 44.6 | FR34: 36.3 | FS34: 28.875 | FT34: 6.76 | FU34: 13.965 | FV34: 12.882 | FW34: 12.82 | FX34: 53.58 | FY34: 1.38 | FZ34: 90.72 | GA34: 6.42 | GB34: 5.2 | GC34: 1.04 | GD34: 24.06 | GE34: 53.58 | GF34: 7.8 | GG34: 3.66 | GH34: 4.38 | GI34: 2.34 | GJ34: 1.2 | GK34: 0 | GL34: 19.38 | GM34: 1380 | GN34: 2.6 | GO34: 0.52 | GP34: 0 | GQ34: 0 | GR34: 80.6 | GS34: 88.7 | GT34: 3.72 | GU34: 8.94 | GV34: 0.68 | GW34: 0 | GX34: 46.95 | GY34: 0.68 | GZ34: 0 | HA34: 14.58 | HB34: 49.5 | HC34: 5.115 | HD34: 37.2 | HE34: 76.12 | HF34: 0 | HG34: 0 | HH34: 39.325 | HI34: 44.275 | HJ34: 0.963 | HK34: 8.6 | HL34: 7.3 | HM34: 2.1 | HN34: 9.4 | HO34: 17.48 | HP34: 0.09 | HQ34: 0 | HR34: 0 | HS34: 0 | HT34: 0 | HU34: 0 | HV34: 0 | HW34: 0 | HX34: 0 | HY34: 0 | HZ34: 0 | IA34: 0 | IB34: 0 | IC34: 0 | ID34: 0 | IE34: 0 | IF34: 0 | IG34: 0 | IH34: 0 | II34: 0 | IJ34: 0 | IK34: 0 | IL34: 0 | IM34: 0 | IN34: 6.7 | IO34: 0 | IP34: 0 | IQ34: 0 | IR34: 5.91 | IS34: 4.5 | IT34: 20.28 | IU34: 34.788 | IV34: 179.28 | IW34: 66.06 | IX34: 44.61 | IY34: 27 | IZ34: 10.11 | JA34: 0 | JB34: 38.31 | JC34: 0.0425 | JD34: 26 | JE34: 18.76 | JF34: 20.448 | JG34: 30 | JH34: 0 | JI34: 2.745 | JJ34: 50.48 | JK34: 8.46 | JL34: 21.6 | JM34: 71.34 | JN34: 23.72 | JO34: 0 | JP34: 0.55 | JQ34: 5.31 | JR34: 0.01 | JS34: 0 | JT34: 52.08 | JU34: 0.02 | JV34: 7.52 | JW34: 0.885 | JX34: 17.18 | JY34: 65.6 | JZ34: 121.84 | KA34: 9.495 | KB34: 75.36 | KC34: 29.04 | KD34: 0 | KE34: 0.02 | KF34: 4.7 | KG34: 11.72 | KH34: 8.88 | KI34: 5.66 | KJ34: 29.24 | KK34: 39.24 | KL34: 27.36 | KM34: 83.48 | KN34: 7.77 | KO34: 101.72 | KP34: 0 | KQ34: 17.64 | KR34: 0.74 | KS34: 0 | KT34: 6.89 | KU34: 8.61 | KV34: 0 | KW34: 21.1 | KX34: 0 | KY34: 53.44 | KZ34: 152.48 | LA34: 16.95 | LB34: 8.43 | LC34: 20.88 | LD34: 0.34 | LE34: 4.04 | LF34: 0.795 | LG34: 0 | LH34: 251.5 | LI34: 0 | LJ34: 25.88 | LK34: 1.4 | LL34: 0 | LM34: 0.795 | LN34: 1.38 | LO34: 29.76 | LP34: 40.08 | LQ34: 50.2 | LR34: 13.26 | LS34: 53.91 | LT34: 9.33 | LU34: 14.434 | LV34: 12.585 | LW34: 36.09 | LX34: 17.85 | LY34: 21.51 | LZ34: 18.27 | MA34: 8.34 | MB34: 0 | MC34: 0 | MD34: 87.48 | ME34: 87.48 | MF34: 0 | MG34: 0 | MH34: 47 | MI34: 0 | MJ34: 0 | MK34: 0 | ML34: 109.14 | MM34: 2.04 | MN34: 11 | MO34: 1.6 | MP34: 0 | MQ34: 11.52 | MR34: 0 | MS34: 18.18 | MT34: 12.92 | MU34: 0 | MV34: 4.96 | MW34: 0 | MX34: 0 | MY34: 15.64 | MZ34: 0 | NA34: 0 | NB34: 1.98 | NC34: 0 | ND34: 2.19 | NE34: 4.62 | NF34: 4.629 | NG34: 26.82 | NH34: 9.75 | NI34: 0.068 | NJ34: 0 | NK34: 0 | NL34: 19.64 | NM34: 2.4 | NN34: 114.12 | NO34: 74.88 | NP34: 0 | NQ34: 101.28 | NR34: 0 | NS34: 3.707 | NT34: 32.55 | NU34: 23.675 | NV34: 7.59 | NW34: 3.51 | NX34: 0 | NY34: 0 | NZ34: 0 | OA34: ='Прием от ВЭ'!BT27 -> 22973.854 | OB34: 7.82 | OC34: 0.391 | OD34: 0 | OE34: 4.23 | OF34: 3.74 | OG34: 0 | OH34: 0 | OI34: 44 | OJ34: 41.81 | OK34: 39 | OL34: 13.46 | OM34: 1.25 | ON34: 11.96 | OO34: 0.36 | OP34: 6.12 | OQ34: 0 | OR34: 70 | OS34: 830 | OT34: 47 | OU34: 19 | OV34: 28.32 | OW34: 38.24 | OX34: =SUM(DW34:OW34) -> 31136.886
A35: =$A$34+TIME(1,0,0) -> 43817.875 | B35: 87 | C35: 116.58 | D35: 0 | E35: 0.84 | F35: 5.088 | G35: 24.888 | H35: 4.56 | I35: 0 | J35: 39.78 | K35: 45.96 | L35: 6.96 | M35: 34.74 | N35: 42.36 | O35: 0 | P35: 0 | Q35: 0 | R35: 0 | S35: 0 | T35: 25.245 | U35: 2.92 | V35: 0.44 | W35: 1.02 | X35: 4.12 | Y35: 0.46 | Z35: 0.405 | AA35: 0 | AB35: 53.88 | AC35: 16.4 | AD35: 16 | AE35: 5.84 | AF35: 0 | AG35: 0 | AH35: 9.96 | AI35: 67.62 | AJ35: 28.575 | AK35: 33.12 | AL35: 10.92 | AM35: 21.06 | AN35: 10.4 | AO35: 46.4 | AP35: 57.16 | AQ35: 3.08 | AR35: 20.46 | AS35: 11.2 | AT35: 102 | AU35: 0.24 | AV35: 0 | AW35: 120 | AX35: 0 | AY35: 0 | AZ35: 0 | BA35: 0 | BB35: 0 | BC35: 0 | BD35: 0 | BE35: 0 | BF35: 0 | BG35: 0 | BH35: 73.98 | BI35: 0.5145 | BJ35: 1.1945 | BK35: 1.2875 | BL35: 0.106 | BM35: 0.004 | BN35: 56.28 | BO35: 0.7745 | BP35: 0.57 | BR35: 1.114 | BS35: 27.18 | BT35: 149.88 | BU35: 0.763 | BV35: 71.96 | BW35: 63.64 | BX35: 294 | BY35: 0 | BZ35: 66.06 | CA35: 12.12 | CB35: 18 | CC35: 0 | CD35: 0 | CE35: 1.32 | CF35: 6.88 | CG35: 0 | CH35: 42.12 | CI35: 44.8 | CJ35: 13.76 | CK35: 0 | CL35: 0 | CM35: 5.515 | CN35: 132.72 | CO35: 134.24 | CP35: 64.8 | CQ35: 0 | CR35: 0 | CS35: 125.8 | CT35: 15.375 | CU35: 13.32 | CV35: 127.86 | CW35: 0 | CX35: 60.66 | CY35: 98.7 | CZ35: 66.96 | DA35: 0.8865 | DB35: 0 | DC35: 0 | DD35: 26.2 | DE35: 22.02 | DF35: 0 | DG35: 16.5 | DH35: 0 | DI35: 101.52 | DJ35: 3.75 | DK35: 7.95 | DL35: 0.488 | DM35: 0 | DN35: 8.12 | DO35: 0.6995 | DP35: 0 | DQ35: 19.494 | DR35: 130.2 | DS35: 0 | DT35: 130.2 | DU35: 0 | DV35: 26.2 | DW35: 0 | DX35: 1.77 | DY35: 0.645 | DZ35: 4.3 | EA35: 3.78 | EB35: 7.65 | EC35: 9.06 | ED35: 0 | EE35: 18.48 | EF35: 0 | EG35: 0 | EH35: 0 | EI35: 0.83 | EJ35: 2.88 | EK35: 0 | EL35: 0 | EM35: 14.04 | EN35: 50.43 | EO35: 28.52 | EP35: 22.2 | EQ35: 0 | ER35: 14.82 | ES35: 6.456 | ET35: 14.448 | EU35: 134.16 | EV35: 45.88 | EW35: 3.21 | EX35: 0 | EY35: 5.28 | EZ35: 0 | FA35: 14.32 | FB35: 197 | FC35: 44.76 | FD35: 29.16 | FE35: 152.1 | FF35: 40.2 | FG35: 0 | FH35: 46.38 | FI35: 85.5 | FJ35: 106.98 | FK35: 203.7 | FL35: 109.26 | FM35: 0.34 | FN35: 0.15 | FO35: 4.05 | FP35: 0 | FQ35: 44.7 | FR35: 27.6 | FS35: 30.93 | FT35: 7.22 | FU35: 13.35 | FV35: 12.933 | FW35: 13.16 | FX35: 47.82 | FY35: 1.44 | FZ35: 88.12 | GA35: 7.965 | GB35: 5.16 | GC35: 1.02 | GD35: 25.44 | GE35: 47.82 | GF35: 7.28 | GG35: 2.52 | GH35: 6.9 | GI35: 2.34 | GJ35: 1.27 | GK35: 2.11 | GL35: 20.34 | GM35: 1246.4 | GN35: 2.2 | GO35: 0.24 | GP35: 0 | GQ35: 0 | GR35: 69.9 | GS35: 87.9 | GT35: 3.32 | GU35: 25.02 | GV35: 0.48 | GW35: 0 | GX35: 50.07 | GY35: 0.48 | GZ35: 0 | HA35: 14.58 | HB35: 50.22 | HC35: 6.6 | HD35: 36.96 | HE35: 74.12 | HF35: 0 | HG35: 0 | HH35: 39 | HI35: 39.45 | HJ35: 0.964 | HK35: 8.32 | HL35: 3.72 | HM35: 1.83 | HN35: 9.84 | HO35: 11.72 | HP35: 0.06 | HQ35: 0 | HR35: 0 | HS35: 0 | HT35: 0 | HU35: 0 | HV35: 0 | HW35: 0 | HX35: 0 | HY35: 0 | HZ35: 0 | IA35: 0 | IB35: 0 | IC35: 0 | ID35: 0 | IE35: 0 | IF35: 0 | IG35: 0 | IH35: 0 | II35: 0 | IJ35: 0 | IK35: 0 | IL35: 0 | IM35: 0 | IN35: 7 | IO35: 0 | IP35: 0 | IQ35: 0 | IR35: 5.88 | IS35: 4.35 | IT35: 17.46 | IU35: 40.104 | IV35: 181.44 | IW35: 82.44 | IX35: 42.72 | IY35: 28.17 | IZ35: 9.87 | JA35: 0 | JB35: 38.34 | JC35: 0.043 | JD35: 27.36 | JE35: 18 | JF35: 19.032 | JG35: 29.664 | JH35: 0 | JI35: 2.76 | JJ35: 50.2 | JK35: 6.57 | JL35: 85.7 | JM35: 79.68 | JN35: 20.3 | JO35: 0 | JP35: 0.6 | JQ35: 6.27 | JR35: 0.01 | JS35: 0 | JT35: 47.7 | JU35: 0.02 | JV35: 5.38 | JW35: 0.855 | JX35: 18.3 | JY35: 69.48 | JZ35: 114.76 | KA35: 10.455 | KB35: 71.92 | KC35: 29.18 | KD35: 0 | KE35: 0.02 | KF35: 5.04 | KG35: 10.08 | KH35: 5.84 | KI35: 6.94 | KJ35: 27.48 | KK35: 40.76 | KL35: 32.46 | KM35: 83.36 | KN35: 6.72 | KO35: 96.82 | KP35: 0 | KQ35: 14.67 | KR35: 0.74 | KS35: 0 | KT35: 9.7 | KU35: 9.51 | KV35: 0 | KW35: 5.08 | KX35: 0 | KY35: 52.8 | KZ35: 149.88 | LA35: 16.62 | LB35: 11.4 | LC35: 19.56 | LD35: 0.35 | LE35: 3.59 | LF35: 0.66 | LG35: 0 | LH35: 187.2 | LI35: 0 | LJ35: 30.02 | LK35: 1.18 | LL35: 0 | LM35: 0.66 | LN35: 1.14 | LO35: 28.28 | LP35: 38.12 | LQ35: 47.68 | LR35: 12.42 | LS35: 54.93 | LT35: 9.03 | LU35: 14.16 | LV35: 12.075 | LW35: 34.05 | LX35: 16.2 | LY35: 20.565 | LZ35: 13.365 | MA35: 8.07 | MB35: 0 | MC35: 0 | MD35: 66 | ME35: 66 | MF35: 0 | MG35: 0 | MH35: 36.5 | MI35: 0 | MJ35: 0 | MK35: 0 | ML35: 123.48 | MM35: 1.04 | MN35: 11 | MO35: 1.84 | MP35: 0 | MQ35: 10.08 | MR35: 0 | MS35: 18.42 | MT35: 12.88 | MU35: 0 | MV35: 5.12 | MW35: 0 | MX35: 0 | MY35: 15.76 | MZ35: 0 | NA35: 0 | NB35: 1.59 | NC35: 0 | ND35: 1.86 | NE35: 5.43 | NF35: 4.75 | NG35: 23.43 | NH35: 8.145 | NI35: 0.216 | NJ35: 0 | NK35: 0 | NL35: 19.56 | NM35: 2.43 | NN35: 108.54 | NO35: 85.08 | NP35: 0 | NQ35: 99.28 | NR35: 0 | NS35: 3.182 | NT35: 33.42 | NU35: 23.125 | NV35: 7.7 | NW35: 3.33 | NX35: 0 | NY35: 0 | NZ35: 0 | OA35: ='Прием от ВЭ'!BT28 -> 21766.298 | OB35: 6.47 | OC35: 0.3235 | OD35: 0 | OE35: 3.1 | OF35: 3.19 | OG35: 0 | OH35: 0 | OI35: 43.6 | OJ35: 38.44 | OK35: 38 | OL35: 6.5 | OM35: 1.05 | ON35: 10.64 | OO35: 0.36 | OP35: 6.12 | OQ35: 10 | OR35: 90 | OS35: 1010 | OT35: 44 | OU35: 18 | OV35: 31.56 | OW35: 33.8 | OX35: =SUM(DW35:OW35) -> 29895.448
A36: =$A$35+TIME(1,0,0) -> 43817.917 | B36: 93.4 | C36: 98.94 | D36: 0 | E36: 0.78 | F36: 5.016 | G36: 24.648 | H36: 6.54 | I36: 0 | J36: 43.2 | K36: 44.46 | L36: 6.46 | M36: 33.12 | N36: 42.6 | O36: 0 | P36: 0 | Q36: 0 | R36: 0 | S36: 0 | T36: 24.195 | U36: 2.78 | V36: 0.38 | W36: 0.88 | X36: 4.14 | Y36: 0.44 | Z36: 0.405 | AA36: 0 | AB36: 53.04 | AC36: 16.38 | AD36: 16.12 | AE36: 7.88 | AF36: 0 | AG36: 0 | AH36: 10.26 | AI36: 67.56 | AJ36: 27.735 | AK36: 33.315 | AL36: 13.32 | AM36: 22.3 | AN36: 9.48 | AO36: 43.46 | AP36: 53.78 | AQ36: 3.04 | AR36: 22.02 | AS36: 11.2 | AT36: 101.68 | AU36: 0.225 | AV36: 0 | AW36: 120 | AX36: 0 | AY36: 0 | AZ36: 0 | BA36: 0 | BB36: 0 | BC36: 0 | BD36: 0 | BE36: 0 | BF36: 0 | BG36: 0 | BH36: 73.8 | BI36: 0.527 | BJ36: 1.147 | BK36: 1.1495 | BL36: 0.095 | BM36: 0.0045 | BN36: 52.8 | BO36: 0.7765 | BP36: 0.5295 | BR36: 1.0405 | BS36: 24.12 | BT36: 137.76 | BU36: 0.7515 | BV36: 71 | BW36: 63.68 | BX36: 279.4 | BY36: 0 | BZ36: 55.62 | CA36: 10.68 | CB36: 17.82 | CC36: 0 | CD36: 0 | CE36: 1.2 | CF36: 7.12 | CG36: 0 | CH36: 41.96 | CI36: 44.68 | CJ36: 16.72 | CK36: 0 | CL36: 0 | CM36: 5.061 | CN36: 133.44 | CO36: 134.4 | CP36: 66.9 | CQ36: 0 | CR36: 0 | CS36: 115.7 | CT36: 14.13 | CU36: 13.56 | CV36: 137.82 | CW36: 0 | CX36: 62.4 | CY36: 94.38 | CZ36: 63.6 | DA36: 0.864 | DB36: 0 | DC36: 0 | DD36: 25.68 | DE36: 20.6 | DF36: 0 | DG36: 14.22 | DH36: 0 | DI36: 95.88 | DJ36: 3.9 | DK36: 7.95 | DL36: 0.4705 | DM36: 0 | DN36: 8.12 | DO36: 0.693 | DP36: 0 | DQ36: 7.0145 | DR36: 129 | DS36: 0 | DT36: 129 | DU36: 0 | DV36: 25.68 | DW36: 0 | DX36: 4.095 | DY36: 0.525 | DZ36: 4.37 | EA36: 4.2 | EB36: 5.46 | EC36: 6.48 | ED36: 0 | EE36: 18.08 | EF36: 0 | EG36: 0 | EH36: 0 | EI36: 0.8 | EJ36: 2.84 | EK36: 0 | EL36: 0 | EM36: 10.98 | EN36: 47.16 | EO36: 24.6 | EP36: 21.52 | EQ36: 0 | ER36: 17.88 | ES36: 6.264 | ET36: 14.352 | EU36: 123.9 | EV36: 43.24 | EW36: 2.91 | EX36: 0 | EY36: 5 | EZ36: 0 | FA36: 13.04 | FB36: 194.1 | FC36: 36.84 | FD36: 25.08 | FE36: 147.78 | FF36: 38.58 | FG36: 0 | FH36: 44.58 | FI36: 79.02 | FJ36: 100.8 | FK36: 194 | FL36: 93.36 | FM36: 0.34 | FN36: 0.3 | FO36: 3.255 | FP36: 0 | FQ36: 44.6 | FR36: 31 | FS36: 30.555 | FT36: 6.22 | FU36: 13.245 | FV36: 12.906 | FW36: 12.61 | FX36: 49.38 | FY36: 1.38 | FZ36: 88.92 | GA36: 5.265 | GB36: 5.28 | GC36: 0.88 | GD36: 20.88 | GE36: 49.38 | GF36: 6.64 | GG36: 0.84 | GH36: 5.73 | GI36: 2.37 | GJ36: 1.17 | GK36: 3.48 | GL36: 17.46 | GM36: 1177.2 | GN36: 3.16 | GO36: 0.2 | GP36: 0 | GQ36: 0 | GR36: 63.4 | GS36: 88.2 | GT36: 2.8 | GU36: 22.02 | GV36: 0.47 | GW36: 0 | GX36: 45.66 | GY36: 0.47 | GZ36: 0 | HA36: 13.02 | HB36: 46.5 | HC36: 7.32 | HD36: 35.72 | HE36: 68.44 | HF36: 0 | HG36: 0 | HH36: 40.5 | HI36: 34.675 | HJ36: 0.967 | HK36: 6.28 | HL36: 3.64 | HM36: 2.82 | HN36: 9.88 | HO36: 17 | HP36: 0.06 | HQ36: 0 | HR36: 0 | HS36: 0 | HT36: 0 | HU36: 0 | HV36: 0 | HW36: 0 | HX36: 0 | HY36: 0 | HZ36: 0 | IA36: 0 | IB36: 0 | IC36: 0 | ID36: 0 | IE36: 0 | IF36: 0 | IG36: 0 | IH36: 0 | II36: 0 | IJ36: 0 | IK36: 0 | IL36: 0 | IM36: 0 | IN36: 6.8 | IO36: 0 | IP36: 0 | IQ36: 0 | IR36: 6.03 | IS36: 4.23 | IT36: 15.66 | IU36: 37.536 | IV36: 165.66 | IW36: 60.78 | IX36: 47.73 | IY36: 22.44 | IZ36: 9.645 | JA36: 0 | JB36: 38.31 | JC36: 0.0425 | JD36: 29.04 | JE36: 14.72 | JF36: 15.36 | JG36: 27.264 | JH36: 0 | JI36: 2.79 | JJ36: 44.2 | JK36: 6.27 | JL36: 92.1 | JM36: 55.38 | JN36: 17.36 | JO36: 0 | JP36: 0.55 | JQ36: 5.52 | JR36: 0.02 | JS36: 0 | JT36: 42.72 | JU36: 0.04 | JV36: 4.92 | JW36: 0.87 | JX36: 20.4 | JY36: 74.72 | JZ36: 125.12 | KA36: 10.245 | KB36: 72.6 | KC36: 29.76 | KD36: 0 | KE36: 0.02 | KF36: 2.95 | KG36: 9.92 | KH36: 9.1 | KI36: 5.6 | KJ36: 27.12 | KK36: 39.36 | KL36: 36 | KM36: 59.6 | KN36: 5.1 | KO36: 96 | KP36: 0 | KQ36: 17.28 | KR36: 0.71 | KS36: 0 | KT36: 9.15 | KU36: 6.51 | KV36: 0 | KW36: 5.1 | KX36: 0 | KY36: 45.64 | KZ36: 145.48 | LA36: 16.6 | LB36: 13.44 | LC36: 18.2 | LD36: 0.34 | LE36: 3.93 | LF36: 0.96 | LG36: 0 | LH36: 178.7 | LI36: 0 | LJ36: 20.04 | LK36: 1.11 | LL36: 0 | LM36: 0.96 | LN36: 3.96 | LO36: 28.2 | LP36: 37.76 | LQ36: 43.44 | LR36: 11.28 | LS36: 54 | LT36: 7.8 | LU36: 13.559 | LV36: 10.44 | LW36: 27.3 | LX36: 13.815 | LY36: 18.465 | LZ36: 14.595 | MA36: 8.79 | MB36: 0 | MC36: 0 | MD36: 60.48 | ME36: 60.48 | MF36: 0 | MG36: 0 | MH36: 22.5 | MI36: 0 | MJ36: 0 | MK36: 0 | ML36: 112.86 | MM36: 3.04 | MN36: 11 | MO36: 2.08 | MP36: 0 | MQ36: 6.72 | MR36: 0 | MS36: 18.3 | MT36: 12.88 | MU36: 0 | MV36: 5.04 | MW36: 0 | MX36: 0 | MY36: 15.6 | MZ36: 0 | NA36: 0 | NB36: 1.2 | NC36: 0 | ND36: 2.01 | NE36: 5.97 | NF36: 4.715 | NG36: 22.74 | NH36: 8.625 | NI36: 0.048 | NJ36: 0 | NK36: 0 | NL36: 19.7 | NM36: 2.4 | NN36: 98.84 | NO36: 74.1 | NP36: 0 | NQ36: 88.08 | NR36: 0 | NS36: 3.455 | NT36: 29.22 | NU36: 21.45 | NV36: 8.64 | NW36: 3.96 | NX36: 0 | NY36: 0 | NZ36: 0 | OA36: ='Прием от ВЭ'!BT29 -> 20630.015 | OB36: 7.38 | OC36: 0.369 | OD36: 0 | OE36: 4.01 | OF36: 3.37 | OG36: 0 | OH36: 0 | OI36: 35.5 | OJ36: 43.25 | OK36: 39 | OL36: 4.27 | OM36: 0.96 | ON36: 8.94 | OO36: 0.54 | OP36: 6.12 | OQ36: 10 | OR36: 70 | OS36: 800 | OT36: 44 | OU36: 19 | OV36: 26.6 | OW36: 27.22 | OX36: =SUM(DW36:OW36) -> 28118.158
A37: =$A$36+TIME(1,0,0) -> 43817.958 | B37: 85 | C37: 112.74 | D37: 0 | E37: 0.78 | F37: 5.016 | G37: 24.144 | H37: 6.01 | I37: 0 | J37: 40.5 | K37: 39.63 | L37: 5.22 | M37: 30.78 | N37: 41.36 | O37: 0 | P37: 0 | Q37: 0 | R37: 0 | S37: 0 | T37: 24.345 | U37: 2.76 | V37: 0.4 | W37: 1.02 | X37: 4.12 | Y37: 0.48 | Z37: 0.405 | AA37: 0 | AB37: 51.72 | AC37: 16.5 | AD37: 16.3 | AE37: 4.48 | AF37: 0 | AG37: 0 | AH37: 9.96 | AI37: 67.68 | AJ37: 25.92 | AK37: 33.405 | AL37: 10.98 | AM37: 31.46 | AN37: 9.1 | AO37: 42.88 | AP37: 44.96 | AQ37: 3.06 | AR37: 18.98 | AS37: 11.2 | AT37: 101.84 | AU37: 0.225 | AV37: 0 | AW37: 120 | AX37: 0 | AY37: 0 | AZ37: 0 | BA37: 0 | BB37: 0 | BC37: 0 | BD37: 0 | BE37: 0 | BF37: 0 | BG37: 0 | BH37: 67.32 | BI37: 0.526 | BJ37: 0.927 | BK37: 0.8955 | BL37: 0.118 | BM37: 0.0075 | BN37: 48.66 | BO37: 0.6245 | BP37: 0.5175 | BR37: 0.834 | BS37: 21.9 | BT37: 112.92 | BU37: 0.6925 | BV37: 71.36 | BW37: 63.32 | BX37: 378 | BY37: 0 | BZ37: 52.02 | CA37: 10.5 | CB37: 17.9 | CC37: 0 | CD37: 0 | CE37: 1.5 | CF37: 7.16 | CG37: 0 | CH37: 41.24 | CI37: 44.98 | CJ37: 17.12 | CK37: 0 | CL37: 0 | CM37: 4.295 | CN37: 129.6 | CO37: 134.24 | CP37: 69.42 | CQ37: 0 | CR37: 0 | CS37: 113.1 | CT37: 13.02 | CU37: 13.8 | CV37: 126.24 | CW37: 0 | CX37: 61.32 | CY37: 81.3 | CZ37: 57.72 | DA37: 0.7815 | DB37: 0 | DC37: 0 | DD37: 23.6 | DE37: 18.36 | DF37: 0 | DG37: 15.06 | DH37: 0 | DI37: 93 | DJ37: 3.9 | DK37: 8.25 | DL37: 0.4755 | DM37: 0 | DN37: 8.16 | DO37: 0.6785 | DP37: 0 | DQ37: 15.3515 | DR37: 129 | DS37: 0 | DT37: 129 | DU37: 0 | DV37: 23.6 | DW37: 0 | DX37: 4.665 | DY37: 0.48 | DZ37: 4.17 | EA37: 4.8 | EB37: 6.99 | EC37: 7.14 | ED37: 0 | EE37: 18.04 | EF37: 0 | EG37: 0 | EH37: 0 | EI37: 0.83 | EJ37: 2.88 | EK37: 0 | EL37: 0 | EM37: 10.2 | EN37: 36.96 | EO37: 21.36 | EP37: 19.88 | EQ37: 0 | ER37: 17.22 | ES37: 6.096 | ET37: 14.328 | EU37: 104.1 | EV37: 37.56 | EW37: 2.97 | EX37: 0 | EY37: 5.08 | EZ37: 0 | FA37: 13.08 | FB37: 185.8 | FC37: 27.12 | FD37: 19.44 | FE37: 146.16 | FF37: 39.3 | FG37: 0 | FH37: 38.22 | FI37: 65.52 | FJ37: 77.46 | FK37: 182.8 | FL37: 74.28 | FM37: 0.33 | FN37: 0.13 | FO37: 2.865 | FP37: 0 | FQ37: 36.6 | FR37: 32.8 | FS37: 28.485 | FT37: 5.72 | FU37: 14.07 | FV37: 12.936 | FW37: 12.91 | FX37: 59.34 | FY37: 1.44 | FZ37: 80.72 | GA37: 4.935 | GB37: 5.16 | GC37: 1.02 | GD37: 19.08 | GE37: 59.34 | GF37: 6 | GG37: 2.04 | GH37: 4.245 | GI37: 2.28 | GJ37: 0.96 | GK37: 3.49 | GL37: 14.1 | GM37: 1315.2 | GN37: 1.76 | GO37: 0.16 | GP37: 0 | GQ37: 0 | GR37: 59.1 | GS37: 80.7 | GT37: 1.6 | GU37: 13.74 | GV37: 0.48 | GW37: 0 | GX37: 43.68 | GY37: 0.48 | GZ37: 0 | HA37: 10.26 | HB37: 42.48 | HC37: 4.815 | HD37: 28.56 | HE37: 62.32 | HF37: 0 | HG37: 0 | HH37: 36.025 | HI37: 26.6 | HJ37: 0.97 | HK37: 4.8 | HL37: 3.36 | HM37: 3.375 | HN37: 8.6 | HO37: 7.64 | HP37: 0.045 | HQ37: 0 | HR37: 0 | HS37: 0 | HT37: 0 | HU37: 0 | HV37: 0 | HW37: 0 | HX37: 0 | HY37: 0 | HZ37: 0 | IA37: 0 | IB37: 0 | IC37: 0 | ID37: 0 | IE37: 0 | IF37: 0 | IG37: 0 | IH37: 0 | II37: 0 | IJ37: 0 | IK37: 0 | IL37: 0 | IM37: 0 | IN37: 7 | IO37: 0 | IP37: 0 | IQ37: 0 | IR37: 5.67 | IS37: 4.26 | IT37: 12.15 | IU37: 25.164 | IV37: 149.94 | IW37: 72.06 | IX37: 45.84 | IY37: 21.48 | IZ37: 9.375 | JA37: 0 | JB37: 38.34 | JC37: 0.0425 | JD37: 26.48 | JE37: 14.4 | JF37: 13.776 | JG37: 28.512 | JH37: 0 | JI37: 2.775 | JJ37: 41.04 | JK37: 6.12 | JL37: 92.4 | JM37: 49.44 | JN37: 15.12 | JO37: 0 | JP37: 0.65 | JQ37: 5.43 | JR37: 0.01 | JS37: 0 | JT37: 42.72 | JU37: 0.04 | JV37: 4.6 | JW37: 1.035 | JX37: 18.56 | JY37: 65.96 | JZ37: 114.12 | KA37: 10.08 | KB37: 69.88 | KC37: 30 | KD37: 0 | KE37: 0.02 | KF37: 2.77 | KG37: 10.24 | KH37: 6.46 | KI37: 7.39 | KJ37: 27 | KK37: 39.92 | KL37: 32.64 | KM37: 63.4 | KN37: 4.2 | KO37: 90.6 | KP37: 0 | KQ37: 17.31 | KR37: 0.72 | KS37: 0 | KT37: 6.16 | KU37: 4.53 | KV37: 0 | KW37: 4.98 | KX37: 0 | KY37: 38.04 | KZ37: 141.92 | LA37: 17.14 | LB37: 12.6 | LC37: 17.56 | LD37: 0.35 | LE37: 3.61 | LF37: 1.065 | LG37: 0 | LH37: 170.4 | LI37: 0 | LJ37: 19.81 | LK37: 0.95 | LL37: 0 | LM37: 1.065 | LN37: 4.98 | LO37: 26.32 | LP37: 33.2 | LQ37: 50.24 | LR37: 11.28 | LS37: 50.34 | LT37: 6.87 | LU37: 12.706 | LV37: 10.485 | LW37: 17.13 | LX37: 12.015 | LY37: 15.9 | LZ37: 14.01 | MA37: 9.69 | MB37: 0 | MC37: 0 | MD37: 57.12 | ME37: 57.12 | MF37: 0 | MG37: 0 | MH37: 15.9 | MI37: 0 | MJ37: 0 | MK37: 0 | ML37: 93.06 | MM37: 1.92 | MN37: 11 | MO37: 1.76 | MP37: 0 | MQ37: 1.44 | MR37: 0 | MS37: 18.27 | MT37: 12.84 | MU37: 0 | MV37: 5.04 | MW37: 0 | MX37: 0 | MY37: 15.52 | MZ37: 0 | NA37: 0 | NB37: 1.47 | NC37: 0 | ND37: 1.92 | NE37: 5.4 | NF37: 4.711 | NG37: 21.42 | NH37: 9.105 | NI37: 0.252 | NJ37: 0 | NK37: 0 | NL37: 19.38 | NM37: 2.46 | NN37: 85.7 | NO37: 65.82 | NP37: 0 | NQ37: 78.16 | NR37: 0 | NS37: 3.168 | NT37: 23.28 | NU37: 21.35 | NV37: 8.44 | NW37: 3.78 | NX37: 0 | NY37: 0 | NZ37: 0 | OA37: ='Прием от ВЭ'!BT30 -> 19201.837 | OB37: 6.19 | OC37: 0.3095 | OD37: 0 | OE37: 5.56 | OF37: 4.58 | OG37: 0 | OH37: 0 | OI37: 29.8 | OJ37: 39.51 | OK37: 39 | OL37: 15.54 | OM37: 1.1 | ON37: 9.82 | OO37: 0.36 | OP37: 6.12 | OQ37: 10 | OR37: 70 | OS37: 780 | OT37: 44 | OU37: 18 | OV37: 20.88 | OW37: 21.32 | OX37: =SUM(DW37:OW37) -> 26395.893

Sheet Таблица №2
A1: ПО "Череповецкое" АО "Вологдаоблэнерго"
A2: наименование предприятия | G2: наименование источника питания
A4: Череповецкий р-н, п. Ясная Поляна
A5: ул. Механизаторов, д.5
A6: адрес
A7: Таблица № 2
A9: почасовых записей показаний электрических счетчиков по сторонним потребителям
A10: в режимный день 18 декабря 2019 г.
A12: часы суток | B12: Активная энергия
B13: Оборонэнерго | E13: Электросеть
B14: расчетный коэф. | E14: расчетный коэф. | H14: расчетный коэф.
B15: показания счетчика | C15: разность | D15: расход эл.энергии за час | E15: показания счетчика | F15: разность | G15: расход эл.энергии за час | H15: показания счетчика | I15: разность | J15: расход эл.энергии за час | L15: Сумма
A16: 1 | B16: 11 | C16: 12 | D16: 13 | E16: 11 | F16: 12 | G16: 13 | H16: 11 | I16: 12 | J16: 13
A17: 0 | B17: ТП-400 кВА Питино-2 | E17: ТП-17 п. Кадуй | H17: ТП-19 п. Кадуй
A18: 1 | D18: 172 | G18: 0 | J18: 0 | L18: =SUM(B18:J18) -> 172
A19: 2 | D19: 153 | G19: 0 | J19: 0 | L19: =SUM(B19:J19) -> 153
A20: 3 | D20: 138 | G20: 0 | J20: 0 | L20: =SUM(B20:J20) -> 138
A21: 4 | D21: 119 | G21: 0 | J21: 0 | L21: =SUM(B21:J21) -> 119
A22: 5 | D22: 120 | G22: 0 | J22: 0 | L22: =SUM(B22:J22) -> 120
A23: 6 | D23: 137 | G23: 0 | J23: 0 | L23: =SUM(B23:J23) -> 137
A24: 7 | D24: 144 | G24: 0 | J24: 0 | L24: =SUM(B24:J24) -> 144
A25: 8 | D25: 152 | G25: 0 | J25: 0 | L25: =SUM(B25:J25) -> 152
A26: 9 | D26: 190 | G26: 0 | J26: 0 | L26: =SUM(B26:J26) -> 190
A27: 10 | D27: 227 | G27: 0 | J27: 0 | L27: =SUM(B27:J27) -> 227
A28: 11 | D28: 224 | G28: 0 | J28: 0 | L28: =SUM(B28:J28) -> 224
A29: 12 | D29: 221 | G29: 0 | J29: 0 | L29: =SUM(B29:J29) -> 221
... A41: 24 | D41: 197 | G41: 0 | J41: 0 | L41: =SUM(B41:J41) -> 197
A42: Итого | D42: =SUM(D18:D41) -> 4300 | G42: =SUM(G18:G41) -> 0 | J42: =SUM(J18:J41) -> 0 | L42: =SUM(B42:J42) -> 4300
A43: 1. При наличии на предприятии отклонений от нормальных режимов электропотребления (временное
A44: изменение схем питания, остановка на ремонт, резкое снижениеэл.потребления и т.д.)
A45: последние необходимо перечислить.
A46: 2. При наличии нескольких источников питания и большого количества вводов таблица
A47: составляется самим предприятием с соблюдением всех пунктов настоящей таблицы.
A49: Главный инженер АО "Вологдаоблэнерго" А.А. Михалин

Sheet Таблица №3 (Свод)
E2: Таблица № 3
B4: сводных данных режимного дня 18 декабря 2019 г.
B6: о потреблении электрической энергии по АО "Вологдаоблэнерго"
B8: ПО "Череповецкое"
B11: часы суток | C11: Активная энергия | F11: Реактивная энергия
C12: Суммарный расход эл.энергии по всем вводам | D12: Суммарный расход эл.энергии всеми сторонними потребителями | E12: Расход эл.энергии предприятием (2-3) | F12: Суммарный расход эл.энергии по всем вводам | G12: Суммарный расход эл.энергии всеми сторонними потребителями | H12: Расход эл.энергии предприятием (5-6) | K12: прием | L12: отдача | M12: разность
B13: 1 | C13: 2 | D13: 3 | E13: 4 | F13: 5 | G13: 6 | H13: 7
B14: 1 | E14: =M14 -> 24162.013 | K14: ='Таблица №1 (Прием ТП+ВЭ)'!OX14 -> 24334.013 | L14: ='Таблица №2'!L18 -> 172 | M14: =K14-L14 -> 24162.013
B15: 2 | E15: =M15 -> 22874.114 | K15: ='Таблица №1 (Прием ТП+ВЭ)'!OX15 -> 23027.114 | L15: ='Таблица №2'!L19 -> 153 | M15: =K15-L15 -> 22874.114
B16: 3 | E16: =M16 -> 22360.51 | K16: ='Таблица №1 (Прием ТП+ВЭ)'!OX16 -> 22498.51 | L16: ='Таблица №2'!L20 -> 138 | M16: =K16-L16 -> 22360.51
B17: 4 | E17: =M17 -> 22224.842 | K17: ='Таблица №1 (Прием ТП+ВЭ)'!OX17 -> 22343.842 | L17: ='Таблица №2'!L21 -> 119 | M17: =K17-L17 -> 22224.842
B18: 5 | E18: =M18 -> 22479.516 | K18: ='Таблица №1 (Прием ТП+ВЭ)'!OX18 -> 22599.516 | L18: ='Таблица №2'!L22 -> 120 | M18: =K18-L18 -> 22479.516
B19: 6 | E19: =M19 -> 23809.461 | K19: ='Таблица №1 (Прием ТП+ВЭ)'!OX19 -> 23946.461 | L19: ='Таблица №2'!L23 -> 137 | M19: =K19-L19 -> 23809.461
B20: 7 | E20: =M20 -> 25599.097 | K20: ='Таблица №1 (Прием ТП+ВЭ)'!OX20 -> 25743.097 | L20: ='Таблица №2'!L24 -> 144 | M20: =K20-L20 -> 25599.097
B21: 8 | E21: =M21 -> 28599.643 | K21: ='Таблица №1 (Прием ТП+ВЭ)'!OX21 -> 28751.643 | L21: ='Таблица №2'!L25 -> 152 | M21: =K21-L21 -> 28599.643
B22: 9 | E22: =M22 -> 31313.65 | K22: ='Таблица №1 (Прием ТП+ВЭ)'!OX22 -> 31503.65 | L22: ='Таблица №2'!L26 -> 190 | M22: =K22-L22 -> 31313.65
B23: 10 | E23: =M23 -> 32322.496 | K23: ='Таблица №1 (Прием ТП+ВЭ)'!OX23 -> 32549.496 | L23: ='Таблица №2'!L27 -> 227 | M23: =K23-L23 -> 32322.496
B24: 11 | E24: =M24 -> 32115.099 | K24: ='Таблица №1 (Прием ТП+ВЭ)'!OX24 -> 32339.099 | L24: ='Таблица №2'!L28 -> 224 | M24: =K24-L24 -> 32115.099
B25: 12 | E25: =M25 -> 31232.519 | K25: ='Таблица №1 (Прием ТП+ВЭ)'!OX25 -> 31453.519 | L25: ='Таблица №2'!L29 -> 221 | M25: =K25-L25 -> 31232.519
... B37: 24 | E37: =M37 -> 26198.893 | K37: ='Таблица №1 (Прием ТП+ВЭ)'!OX37 -> 26395.893 | L37: ='Таблица №2'!L41 -> 197 | M37: =K37-L37 -> 26198.893
B38: Итого | E38: =SUM(E14:E37) -> 687534.48
B41: Главный инженер _______________________ А.А. Михалин

Sheet Прием от ВЭ
A6: Время | B6: 10 Борисово-Суда-Льнозавод 1 ао RS | C6: 10 Борисово-Суда-Льнозавод 2 ао RS | D6: 10 Борисово-Суда-Поселок ао RS | E6: 10 Пяжелка Пяжелка ао RS | F6: 10 Пяжелка-Колошма ао RS | G6: 10 Бабаево р.-Горсеть 1 ао | H6: 10 Бабаево р.-Горсеть 3 ао | I6: 10 Бабаево р.-Горсеть 4 ао | J6: 10 Енюково-КУФ 3 ао | K6: 10 Ирдоматка-Промкомбинат ао | L6: 10 Ирдоматка-Романда | M6: 10 Вешняки - Парус 1 ао RS | N6: 10 Вешняки - Парус 2 ао RS | O6: 10 Искра-Садовая ао RS | P6: 10 Искра-Газовая 1 ао RS | Q6: 10 Климовская-КУФ 1 ао RS | R6: 10 Климовская-КУФ 2 ао RS | S6: 10 Климовская-Поселок ао RS | T6: 10 Климовская-ПТФ 2 ао RS | U6: 10 Климовская-ПТФ 3 ао RS | V6: 10 Климовская-ПТФ 4 ао RS | W6: 10 Новые Углы-Подсобное хоз. 1 ао | X6: 10 Новые Углы-Подсобное хоз. 2 ао | Y6: 10 Нелазское-Нелазское 2 ао | Z6: 10 Суда-Котельная ао | AA6: 10 Суда-Межное | AB6: 10 Суда-ЛПБ | AC6: 10 Шексна-АБЗ ао | AD6: 10 Шексна-ПМК 22 ао | AE6: 6 Шексна-Битумная ао | AF6: 6 Шексна-Горсеть 1 ао | AG6: 6 Шексна-Горсеть 2 ао | AH6: 6 Шексна-Горсеть 3 ао | AI6: 6 Шексна-Горсеть 4 ао | AJ6: 10 Нифантово-Парк 1 ао | AK6: 10 Нифантово-Парк 2 ао | AL6: 10 Нифантово-Поселок ао | AM6: 10 Нифантово-Льнозавод | AN6: 10 Поселковая- "База ГРЭС" (А) | AO6: 10 Поселковая-Поселок-6 (А) | AP6: 10 Поселковая-Поселок-1(А) | AQ6: 10 Андога-Поселок ао | AR6: 10 Кадуй-Доз 1 ао RS | AS6: 10 Кадуй-Доз 2 ао RS | AT6: 10 Поселковая-Микрорайон 1-1 ао | AU6: 10 Поселковая-МКР 2-1 ао | AV6: 10 Хохлово-Котельная 1 ао | AW6: 10 Хохлово-Котельная 2 ао | AX6: 10 Хохлово-Поселок 1 ао | AY6: 10 Хохлово-Поселок 3 ао | AZ6: 10 Хохлово-Поселок 5 ао | BA6: 10 Хохлово-Торф 1 ао | BB6: 10 Хохлово-Фабрика ао | BC6: 10 Хохлово-Газовая ао | BD6: 10 Сазоново-Агрострой ао | BE6: 10 Сазоново-Завод 1 ао | BF6: 10 Сазоново-Центральная ао | BG6: 10 Чагода -Дедово поле ао | BH6: 10 Чагода-Котельная ао | BI6: 10 Чагода-Леспромхоз ао | BJ6: 10 Чагода-Сазоново ао | BK6: 10 Чагода-ЭТС 1 ао | BL6: 10 Чагода-ЭТС 2 ао | BM6: 10 Чагода-ЭТС 3 ао | BN6: 10 Чагода-ЭТС 4 ао | BO6: ПУС 10 кВ оп.25 К-с Нелазское-ПС 110 кВ Нелазское ап | BP6: ПКУ "Ретранслятор 6" | BQ6: ПУС 22 Городище | BR6: ПКУ Берег | BS6: ПУС 75 Городище
A7: 00 - 01 | B7: 43.95 | C7: 251.4 | D7: 358.35 | E7: 129.2 | F7: 22.2 | G7: 1417.6 | H7: 905.6 | I7: 665.6 | J7: 0 | K7: 126 | L7: 147.2 | M7: 0 | N7: 82.2 | O7: 265.9736 | P7: 443.48795 | Q7: 14.1 | R7: 17.7 | S7: 189.6 | T7: 12 | U7: 193.6 | V7: 24.6 | W7: 327.2 | X7: 220 | Y7: 68 | Z7: 115.2 | AA7: 427.2 | AB7: 261.6 | AC7: 49.8 | AD7: 4.8 | AE7: 0 | AF7: 960.48 | AG7: 1483.2 | AH7: 0 | AI7: 1226.88 | AJ7: 1306.8 | AK7: 668.8 | AL7: 227.2 | AM7: 1.6 | AN7: 82 | AO7: 142 | AP7: 198.4 | AQ7: 75.45 | AR7: 0 | AS7: 51.8 | AT7: 88.8 | AU7: 95.2 | AV7: 339.6 | AW7: 2 | AX7: 117.6 | AY7: 58.8 | AZ7: 207.2 | BA7: 55.8 | BB7: 182.4 | BC7: 266.4 | BD7: 215 | BE7: 16 | BF7: 675.6 | BG7: 189.6 | BH7: 13.2 | BI7: 166.2 | BJ7: 185.4 | BK7: 186 | BL7: 127.8 | BM7: 0 | BN7: 431.2 | BO7: 59.85 | BP7: 81.15 | BQ7: 450.6 | BR7: 454.8 | BS7: 0 | BT7: =SUM(B7:BS7) -> 17874.972
A8: 01 - 02 | B8: 42.9 | C8: 237 | D8: 348 | E8: 128.4 | F8: 21.4 | G8: 1344 | H8: 859.2 | I8: 624.8 | J8: 0 | K8: 125.2 | L8: 151.8 | M8: 0 | N8: 82 | O8: 237.79662 | P8: 377.24051 | Q8: 14.1 | R8: 17.4 | S8: 185 | T8: 11.2 | U8: 190.4 | V8: 28.2 | W8: 325.6 | X8: 196.8 | Y8: 64.6 | Z8: 115.6 | AA8: 442.8 | AB8: 251.2 | AC8: 47.4 | AD8: 5.2 | AE8: 0 | AF8: 914.4 | AG8: 1349.28 | AH8: 0 | AI8: 1206.72 | AJ8: 1171.2 | AK8: 628.8 | AL8: 209.6 | AM8: 1.6 | AN8: 85.6 | AO8: 130.8 | AP8: 185.6 | AQ8: 70.2 | AR8: 0 | AS8: 50.2 | AT8: 78 | AU8: 86.8 | AV8: 328.4 | AW8: 2 | AX8: 103.2 | AY8: 57.6 | AZ8: 194.8 | BA8: 56.4 | BB8: 150 | BC8: 249.6 | BD8: 199.6 | BE8: 15.7 | BF8: 616.5 | BG8: 174 | BH8: 13.2 | BI8: 150 | BJ8: 170.4 | BK8: 169.8 | BL8: 128.4 | BM8: 0 | BN8: 401.6 | BO8: 60.45 | BP8: 76.2 | BQ8: 513 | BR8: 428.4 | BS8: 0 | BT8: =SUM(B8:BS8) -> 16903.287
A9: 02 - 03 | B9: 41.7 | C9: 239.55 | D9: 295.8 | E9: 125.2 | F9: 21 | G9: 1310.4 | H9: 835.2 | I9: 604 | J9: 0 | K9: 128.6 | L9: 149.6 | M9: 0 | N9: 82.6 | O9: 240.26305 | P9: 415.29018 | Q9: 13.5 | R9: 17.4 | S9: 188.2 | T9: 11.6 | U9: 181.6 | V9: 27.6 | W9: 321.6 | X9: 178 | Y9: 78.8 | Z9: 115.2 | AA9: 446.4 | AB9: 251.6 | AC9: 46.8 | AD9: 6 | AE9: 0 | AF9: 895.68 | AG9: 1324.8 | AH9: 0 | AI9: 1170.72 | AJ9: 1147.2 | AK9: 647.2 | AL9: 202.8 | AM9: 1.6 | AN9: 81.2 | AO9: 124.8 | AP9: 176 | AQ9: 69 | AR9: 0 | AS9: 49.2 | AT9: 74.4 | AU9: 79.6 | AV9: 340.8 | AW9: 2 | AX9: 115.6 | AY9: 59.6 | AZ9: 191.6 | BA9: 54.6 | BB9: 147.6 | BC9: 210 | BD9: 200.4 | BE9: 16.2 | BF9: 622.2 | BG9: 157.2 | BH9: 13.8 | BI9: 148.2 | BJ9: 163.2 | BK9: 163.8 | BL9: 127.8 | BM9: 0 | BN9: 385.6 | BO9: 58.65 | BP9: 74.7 | BQ9: 493.5 | BR9: 443.6 | BS9: 0 | BT9: =SUM(B9:BS9) -> 16608.353
A10: 03 - 04 | B10: 40.95 | C10: 229.8 | D10: 304.35 | E10: 122.2 | F10: 21.2 | G10: 1289.6 | H10: 821.6 | I10: 612.8 | J10: 0 | K10: 129.2 | L10: 140.4 | M10: 0 | N10: 80.6 | O10: 236.24471 | P10: 378.4668 | Q10: 13.8 | R10: 17.1 | S10: 186.4 | T10: 9.2 | U10: 183.2 | V10: 26.4 | W10: 306.8 | X10: 192.8 | Y10: 69.4 | Z10: 115.2 | AA10: 430.8 | AB10: 243.6 | AC10: 48 | AD10: 5.6 | AE10: 0 | AF10: 891.36 | AG10: 1310.4 | AH10: 0 | AI10: 1162.08 | AJ10: 1263.6 | AK10: 680.8 | AL10: 200.2 | AM10: 1.6 | AN10: 72 | AO10: 118.4 | AP10: 172 | AQ10: 68.7 | AR10: 0 | AS10: 48.2 | AT10: 73.2 | AU10: 79.2 | AV10: 340.4 | AW10: 1.6 | AX10: 114 | AY10: 58.4 | AZ10: 189.2 | BA10: 54 | BB10: 151.2 | BC10: 183.6 | BD10: 195.4 | BE10: 16.2 | BF10: 615 | BG10: 157.2 | BH10: 13.8 | BI10: 145.2 | BJ10: 163.8 | BK10: 159.6 | BL10: 126.6 | BM10: 0 | BN10: 382.4 | BO10: 59.85 | BP10: 76.05 | BQ10: 474.9 | BR10: 425.2 | BS10: 0 | BT10: =SUM(B10:BS10) -> 16501.052
A11: 04 - 05 | B11: 41.1 | C11: 235.65 | D11: 295.95 | E11: 123.9 | F11: 20.5 | G11: 1308.8 | H11: 815.2 | I11: 619.2 | J11: 0 | K11: 133.8 | L11: 146.8 | M11: 0 | N11: 80.4 | O11: 240.96973 | P11: 399.09204 | Q11: 16.5 | R11: 15.6 | S11: 186.2 | T11: 9.6 | U11: 181.6 | V11: 25.2 | W11: 314.8 | X11: 202.8 | Y11: 76.8 | Z11: 114.8 | AA11: 417.6 | AB11: 251.6 | AC11: 48.6 | AD11: 5.2 | AE11: 0 | AF11: 888.48 | AG11: 1324.8 | AH11: 0 | AI11: 1164.96 | AJ11: 1280.4 | AK11: 659.2 | AL11: 213.4 | AM11: 2 | AN11: 74.8 | AO11: 120.4 | AP11: 180.8 | AQ11: 68.85 | AR11: 0 | AS11: 49 | AT11: 73.2 | AU11: 79.2 | AV11: 342.8 | AW11: 2 | AX11: 118.8 | AY11: 58.4 | AZ11: 192.4 | BA11: 54 | BB11: 151.2 | BC11: 226.8 | BD11: 197.6 | BE11: 16.2 | BF11: 624.6 | BG11: 156.6 | BH11: 13.8 | BI11: 150.6 | BJ11: 162 | BK11: 159.6 | BL11: 127.2 | BM11: 0 | BN11: 379.2 | BO11: 60.15 | BP11: 77.1 | BQ11: 440.4 | BR11: 430 | BS11: 0 | BT11: =SUM(B11:BS11) -> 16649.202
A12: 05 - 06 | B12: 41.1 | C12: 243.3 | D12: 340.8 | E12: 132.1 | F12: 23.1 | G12: 1367.2 | H12: 861.6 | I12: 644 | J12: 0 | K12: 132 | L12: 147 | M12: 0 | N12: 80.8 | O12: 263.27161 | P12: 393.32779 | Q12: 17.4 | R12: 15 | S12: 187.4 | T12: 10 | U12: 194.4 | V12: 28.2 | W12: 366.4 | X12: 270.8 | Y12: 65.8 | Z12: 115.2 | AA12: 468 | AB12: 274.8 | AC12: 51.6 | AD12: 6 | AE12: 0 | AF12: 997.92 | AG12: 1450.08 | AH12: 0 | AI12: 1224 | AJ12: 1354.8 | AK12: 693.6 | AL12: 221.4 | AM12: 1.6 | AN12: 70 | AO12: 144.8 | AP12: 228.8 | AQ12: 77.25 | AR12: 0 | AS12: 49 | AT12: 74.4 | AU12: 81.6 | AV12: 334.8 | AW12: 2 | AX12: 116.8 | AY12: 56.8 | AZ12: 212.4 | BA12: 52.8 | BB12: 148.8 | BC12: 207.6 | BD12: 225.8 | BE12: 16 | BF12: 680.4 | BG12: 157.8 | BH12: 13.8 | BI12: 155.4 | BJ12: 166.2 | BK12: 164.4 | BL12: 126 | BM12: 0 | BN12: 400 | BO12: 60.75 | BP12: 80.4 | BQ12: 435.4 | BR12: 437.2 | BS12: 0 | BT12: =SUM(B12:BS12) -> 17661.399
A13: 06 - 07 | B13: 44.85 | C13: 258.3 | D13: 359.1 | E13: 141.9 | F13: 22.5 | G13: 1593.6 | H13: 996 | I13: 742.4 | J13: 0 | K13: 132.6 | L13: 134.2 | M13: 0 | N13: 81 | O13: 272.52768 | P13: 345.41234 | Q13: 16.8 | R13: 15.9 | S13: 197.6 | T13: 10 | U13: 251.2 | V13: 31.2 | W13: 416.4 | X13: 309.2 | Y13: 67 | Z13: 115.2 | AA13: 586.8 | AB13: 285.6 | AC13: 56.4 | AD13: 6 | AE13: 0 | AF13: 1180.8 | AG13: 1684.8 | AH13: 0 | AI13: 1288.8 | AJ13: 1232.4 | AK13: 592.8 | AL13: 270.6 | AM13: 1.6 | AN13: 90.4 | AO13: 172 | AP13: 281.6 | AQ13: 72 | AR13: 0 | AS13: 56 | AT13: 96 | AU13: 100.4 | AV13: 200.8 | AW13: 1.6 | AX13: 88.8 | AY13: 62.8 | AZ13: 253.6 | BA13: 57 | BB13: 171.6 | BC13: 186 | BD13: 251.8 | BE13: 16.4 | BF13: 793.2 | BG13: 199.8 | BH13: 13.8 | BI13: 178.2 | BJ13: 185.4 | BK13: 211.2 | BL13: 127.2 | BM13: 0 | BN13: 528.8 | BO13: 58.8 | BP13: 95.85 | BQ13: 450.6 | BR13: 430 | BS13: 0 | BT13: =SUM(B13:BS13) -> 19173.14
A14: 07 - 08 | B14: 44.4 | C14: 283.2 | D14: 428.55 | E14: 176.3 | F14: 21.8 | G14: 1796.8 | H14: 1141.6 | I14: 884 | J14: 0 | K14: 137.6 | L14: 146.8 | M14: 0 | N14: 84.2 | O14: 265.16994 | P14: 389.33023 | Q14: 16.8 | R14: 17.1 | S14: 223.4 | T14: 10 | U14: 271.2 | V14: 32.4 | W14: 441.2 | X14: 320.4 | Y14: 77.6 | Z14: 114.4 | AA14: 631.2 | AB14: 312 | AC14: 70.8 | AD14: 6.4 | AE14: 0 | AF14: 1337.76 | AG14: 1931.04 | AH14: 0 | AI14: 1254.24 | AJ14: 1320 | AK14: 695.2 | AL14: 335.6 | AM14: 1.6 | AN14: 96.8 | AO14: 210.4 | AP14: 320.8 | AQ14: 72.45 | AR14: 0 | AS14: 84.4 | AT14: 122.4 | AU14: 113.2 | AV14: 119.2 | AW14: 2 | AX14: 75.2 | AY14: 58.8 | AZ14: 298.8 | BA14: 60.6 | BB14: 158.4 | BC14: 192 | BD14: 289.4 | BE14: 17.4 | BF14: 948.6 | BG14: 247.2 | BH14: 14.4 | BI14: 198.6 | BJ14: 230.4 | BK14: 276 | BL14: 128.4 | BM14: 0 | BN14: 683.2 | BO14: 114.6 | BP14: 90.15 | BQ14: 467.2 | BR14: 423.2 | BS14: 0 | BT14: =SUM(B14:BS14) -> 21334.29
A15: 08 - 09 | B15: 44.7 | C15: 411 | D15: 443.55 | E15: 185.8 | F15: 24.4 | G15: 1773.6 | H15: 1246.4 | I15: 910.4 | J15: 0 | K15: 149 | L15: 148.6 | M15: 0 | N15: 82.8 | O15: 258.76135 | P15: 665.15573 | Q15: 22.5 | R15: 18.6 | S15: 247.8 | T15: 10.4 | U15: 294.4 | V15: 33.6 | W15: 470 | X15: 348.8 | Y15: 80.8 | Z15: 114 | AA15: 657.6 | AB15: 382.4 | AC15: 81.6 | AD15: 19.2 | AE15: 0 | AF15: 1448.64 | AG15: 2237.76 | AH15: 0 | AI15: 1550.88 | AJ15: 1158 | AK15: 621.6 | AL15: 352.8 | AM15: 1.6 | AN15: 95.6 | AO15: 216 | AP15: 343.2 | AQ15: 86.1 | AR15: 0 | AS15: 83.2 | AT15: 144 | AU15: 120.4 | AV15: 178.8 | AW15: 2 | AX15: 146.8 | AY15: 62.4 | AZ15: 298.4 | BA15: 61.8 | BB15: 256.8 | BC15: 411.6 | BD15: 264.2 | BE15: 22.2 | BF15: 1077.9 | BG15: 227.4 | BH15: 14.4 | BI15: 219.6 | BJ15: 202.8 | BK15: 306 | BL15: 129 | BM15: 0 | BN15: 714.4 | BO15: 86.85 | BP15: 88.95 | BQ15: 467.9 | BR15: 416.4 | BS15: 0 | BT15: =SUM(B15:BS15) -> 23242.247
A16: 09 - 10 | B16: 39 | C16: 426.15 | D16: 456.3 | E16: 170.4 | F16: 18 | G16: 1708 | H16: 1260 | I16: 932 | J16: 0 | K16: 189.8 | L16: 136.2 | M16: 0 | N16: 83.6 | O16: 275.77701 | P16: 728.61111 | Q16: 17.4 | R16: 18.6 | S16: 245.6 | T16: 12.8 | U16: 298.4 | V16: 35.4 | W16: 441.6 | X16: 299.2 | Y16: 91.8 | Z16: 114.8 | AA16: 664.8 | AB16: 373.2 | AC16: 90 | AD16: 17.6 | AE16: 0 | AF16: 1509.12 | AG16: 2219.04 | AH16: 0 | AI16: 1569.6 | AJ16: 1132.8 | AK16: 614.4 | AL16: 341.2 | AM16: 1.6 | AN16: 83.6 | AO16: 226.8 | AP16: 338.4 | AQ16: 91.95 | AR16: 0 | AS16: 90 | AT16: 158.4 | AU16: 146.4 | AV16: 317.2 | AW16: 2 | AX16: 164.8 | AY16: 74.4 | AZ16: 297.6 | BA16: 63 | BB16: 333.6 | BC16: 421.2 | BD16: 234.2 | BE16: 37.8 | BF16: 1087.5 | BG16: 223.8 | BH16: 14.4 | BI16: 213 | BJ16: 198.6 | BK16: 304.2 | BL16: 127.8 | BM16: 0 | BN16: 719.2 | BO16: 69.75 | BP16: 114.6 | BQ16: 462.9 | BR16: 404.4 | BS16: 0 | BT16: =SUM(B16:BS16) -> 23554.298
A17: 10 - 11 | B17: 40.05 | C17: 405.3 | D17: 435 | E17: 164.9 | F17: 15.7 | G17: 1704 | H17: 1307.2 | I17: 936.8 | J17: 0 | K17: 195.8 | L17: 138.2 | M17: 0 | N17: 84 | O17: 284.0285 | P17: 707.54245 | Q17: 15.3 | R17: 18.9 | S17: 234.4 | T17: 15.6 | U17: 265.6 | V17: 37.8 | W17: 480.8 | X17: 278 | Y17: 89.4 | Z17: 114.4 | AA17: 616.8 | AB17: 336.8 | AC17: 79.8 | AD17: 19.6 | AE17: 0 | AF17: 1484.64 | AG17: 2203.2 | AH17: 0 | AI17: 1589.76 | AJ17: 1183.2 | AK17: 660.8 | AL17: 354.6 | AM17: 1.2 | AN17: 12 | AO17: 221.2 | AP17: 335.2 | AQ17: 85.35 | AR17: 0 | AS17: 89 | AT17: 158.4 | AU17: 152.8 | AV17: 337.6 | AW17: 1.6 | AX17: 136.4 | AY17: 75.2 | AZ17: 290 | BA17: 72 | BB17: 346.8 | BC17: 403.2 | BD17: 216.2 | BE17: 44 | BF17: 1017.3 | BG17: 219 | BH17: 13.8 | BI17: 195.6 | BJ17: 198.6 | BK17: 291.6 | BL17: 127.8 | BM17: 0 | BN17: 712.8 | BO17: 79.95 | BP17: 117 | BQ17: 474 | BR17: 417.6 | BS17: 0 | BT17: =SUM(B17:BS17) -> 23341.121
A18: 11 - 12 | B18: 42.6 | C18: 408.15 | D18: 435.15 | E18: 153.9 | F18: 16.3 | G18: 1728.8 | H18: 1300.8 | I18: 919.2 | J18: 0 | K18: 175.6 | L18: 146.4 | M18: 0 | N18: 82.8 | O18: 285.15086 | P18: 632.69711 | Q18: 15.3 | R18: 18.3 | S18: 230.8 | T18: 17.2 | U18: 243.2 | V18: 34.8 | W18: 446.4 | X18: 270 | Y18: 85.8 | Z18: 114.8 | AA18: 597.6 | AB18: 362.8 | AC18: 75 | AD18: 21.6 | AE18: 0 | AF18: 1643.04 | AG18: 2168.64 | AH18: 0 | AI18: 1604.16 | AJ18: 1278 | AK18: 657.6 | AL18: 332 | AM18: 0.8 | AN18: 29.2 | AO18: 205.2 | AP18: 310.4 | AQ18: 75.6 | AR18: 0 | AS18: 87.4 | AT18: 157.2 | AU18: 153.2 | AV18: 334.4 | AW18: 2 | AX18: 158 | AY18: 66 | AZ18: 281.6 | BA18: 69 | BB18: 368.4 | BC18: 418.8 | BD18: 231.8 | BE18: 28 | BF18: 1006.8 | BG18: 216 | BH18: 13.8 | BI18: 192 | BJ18: 199.8 | BK18: 289.2 | BL18: 128.4 | BM18: 0 | BN18: 684.8 | BO18: 57.75 | BP18: 131.85 | BQ18: 478.1 | BR18: 416.8 | BS18: 0 | BT18: =SUM(B18:BS18) -> 23336.888
... A30: 23 - 00 | B30: 42.45 | C30: 269.25 | D30: 363.15 | E30: 142.4 | F30: 25.7 | G30: 1495.2 | H30: 1004 | I30: 770.4 | J30: 0 | K30: 126.6 | L30: 155.8 | M30: 0 | N30: 82 | O30: 302.69307 | P30: 470.94441 | Q30: 21.3 | R30: 17.7 | S30: 210.6 | T30: 11.6 | U30: 212 | V30: 31.8 | W30: 355.6 | X30: 241.6 | Y30: 89.2 | Z30: 116.8 | AA30: 466.8 | AB30: 275.6 | AC30: 55.2 | AD30: 4.8 | AE30: 0 | AF30: 1074.24 | AG30: 1615.68 | AH30: 0 | AI30: 1442.88 | AJ30: 1310.4 | AK30: 635.2 | AL30: 258.2 | AM30: 2.8 | AN30: 88.4 | AO30: 170.8 | AP30: 226.4 | AQ30: 66.45 | AR30: 0 | AS30: 58.6 | AT30: 111.6 | AU30: 115.6 | AV30: 259.2 | AW30: 2 | AX30: 116.8 | AY30: 62.4 | AZ30: 237.6 | BA30: 61.8 | BB30: 206.4 | BC30: 250.8 | BD30: 216.8 | BE30: 16.2 | BF30: 728.7 | BG30: 214.8 | BH30: 14.4 | BI30: 181.2 | BJ30: 183.6 | BK30: 214.8 | BL30: 129 | BM30: 0 | BN30: 500.8 | BO30: 68.55 | BP30: 89.85 | BQ30: 480.1 | BR30: 427.6 | BS30: 0 | BT30: =SUM(B30:BS30) -> 19201.837
A31: Сумма | B31: =SUM(B7:B30) -> 1050.9 | C31: =SUM(C7:C30) -> 7493.55 | D31: =SUM(D7:D30) -> 9467.7 | E31: =SUM(E7:E30) -> 3730.2 | F31: =SUM(F7:F30) -> 559.2 | G31: =SUM(G7:G30) -> 39837.6 | H31: =SUM(H7:H30) -> 27771.2 | I31: =SUM(I7:I30) -> 20272.8 | ... BS31: =SUM(BS7:BS30) -> 0
A32: Общая сумма | C32: =SUM(B31:BS31) -> 509606.6
