Workbook

Sheet Таблица №1 (Прием ТП+ВЭ)
C1: ПО "Череповецкое" АО "Вологдаоблэнерго"
C2: наименование предприятия | V2: наименование источника питания
C4: Череповецкий р-н, п. Ясная Поляна, ул. Механизаторов, д.5 | O4: Таблица № 1
C5: адрес
I6: почасовых записей показаний электрических счетчиков
I7: в режимный день 18 декабря 2019 г.
B9: Активная энергия | C9: Активная энергия | D9: Активная энергия | E9: Активная энергия | F9: Активная энергия | G9: Активная энергия | H9: Активная энергия | I9: Активная энергия | J9: Активная энергия | K9: Активная энергия | L9: Активная энергия | M9: Активная энергия | N9: Активная энергия | O9: Активная энергия | P9: Активная энергия | Q9: Активная энергия | R9: Активная энергия | S9: Активная энергия | T9: Активная энергия | U9: Активная энергия | V9: Активная энергия | W9: Активная энергия | X9: Активная энергия | Y9: Активная энергия | Z9: Активная энергия | AA9: Активная энергия | AB9: Активная энергия | AC9: Активная энергия | AD9: Активная энергия | AE9: Активная энергия | AF9: Активная энергия | AG9: Активная энергия | AH9: Активная энергия | AI9: Активная энергия | AJ9: Активная энергия | AK9: Активная энергия | AL9: Активная энергия | AM9: Активная энергия | AN9: Активная энергия | AO9: Активная энергия | AP9: Активная энергия | AQ9: Активная энергия | AR9: Активная энергия | AS9: Активная энергия | AT9: Активная энергия | AU9: Активная энергия | AV9: Активная энергия | AW9: Активная энергия | AX9: Активная энергия | AY9: Активная энергия | AZ9: Активная энергия | BA9: Активная энергия | BB9: Активная энергия | BC9: Активная энергия | BD9: Активная энергия | BE9: Активная энергия | BF9: Активная энергия | BG9: Активная энергия | BH9: Активная энергия | BI9: Активная энергия | BJ9: Активная энергия | BK9: Активная энергия | BL9: Активная энергия | BM9: Активная энергия | BN9: Активная энергия | BO9: Активная энергия | BP9: Активная энергия | BR9: Активная энергия | BS9: Активная энергия | BT9: Активная энергия | BU9: Активная энергия | BV9: Активная энергия | BW9: Активная энергия | BX9: Активная энергия | BY9: Активная энергия | BZ9: Активная энергия | CA9: Активная энергия | CB9: Активная энергия | CC9: Активная энергия | CD9: Активная энергия | CE9: Активная энергия | CF9: Активная энергия | CG9: Активная энергия | CH9: Активная энергия | CI9: Активная энергия | CJ9: Активная энергия | CK9: Активная энергия | CL9: Активная энергия | CM9: Активная энергия | CN9: Активная энергия | CO9: Активная энергия | CP9: Активная энергия | CQ9: Активная энергия | CR9: Активная энергия | CS9: Активная энергия | CT9: Активная энергия | CU9: Активная энергия | CV9: Активная энергия | CW9: Активная энергия | CX9: Активная энергия | CY9: Активная энергия | CZ9: Активная энергия | DA9: Активная энергия | DB9: Активная энергия | DC9: Активная энергия | DD9: Активная энергия | DE9: Активная энергия | DF9: Активная энергия | DG9: Активная энергия | DH9: Активная энергия | DI9: Активная энергия | DJ9: Активная энергия | DK9: Активная энергия | DL9: Активная энергия | DM9: Активная энергия | DN9: Активная энергия | DO9: Активная энергия | DP9: Активная энергия | DQ9: Активная энергия | DR9: Активная энергия | DS9: Активная энергия | DT9: Активная энергия | DU9: Активная энергия | DV9: Активная энергия | DW9: Активная энергия | DX9: Активная энергия | DY9: Активная энергия | DZ9: Активная энергия | EA9: Активная энергия | EB9: Активная энергия | EC9: Активная энергия | ED9: Активная энергия | EE9: Активная энергия | EF9: Активная энергия | EG9: Активная энергия | EH9: Активная энергия | EI9: Активная энергия | EJ9: Активная энергия | EK9: Активная энергия | EL9: Активная энергия | EM9: Активная энергия | EN9: Активная энергия | EO9: Активная энергия | EP9: Активная энергия | EQ9: Активная энергия | ER9: Активная энергия | ES9: Активная энергия | ET9: Активная энергия | EU9: Активная энергия | EV9: Активная энергия | EW9: Активная энергия | EX9: Активная энергия | EY9: Активная энергия | EZ9: Активная энергия | FA9: Активная энергия | FB9: Активная энергия | FC9: Активная энергия | FD9: Активная энергия | FE9: Активная энергия | FF9: Активная энергия | FG9: Активная энергия | FH9: Активная энергия | FI9: Активная энергия | FJ9: Активная энергия | FK9: Активная энергия | FL9: Активная энергия | FM9: Активная энергия | FN9: Активная энергия | FO9: Активная энергия | FP9: Активная энергия | FQ9: Активная энергия | FR9: Активная энергия | FS9: Активная энергия | FT9: Активная энергия | FU9: Активная энергия | FV9: Активная энергия | FW9: Активная энергия | FX9: Активная энергия | FY9: Активная энергия | FZ9: Активная энергия | GA9: Активная энергия | GB9: Активная энергия | GC9: Активная энергия | GD9: Активная энергия | GE9: Активная энергия | GF9: Активная энергия | GG9: Активная энергия | GH9: Активная энергия | GI9: Активная энергия | GJ9: Активная энергия | GK9: Активная энергия | GL9: Активная энергия | GM9: Активная энергия | GN9: Активная энергия | GO9: Активная энергия | GP9: Активная энергия | GQ9: Активная энергия | GR9: Активная энергия | GS9: Активная энергия | GT9: Активная энергия | GU9: Активная энергия | GV9: Активная энергия | GW9: Активная энергия | GX9: Активная энергия | GY9: Активная энергия | GZ9: Активная энергия | HA9: Активная энергия | HB9: Активная энергия | HC9: Активная энергия | HD9: Активная энергия | HE9: Активная энергия | HF9: Активная энергия | HG9: Активная энергия | HH9: Активная энергия | HI9: Активная энергия | HJ9: Активная энергия | HK9: Активная энергия | HL9: Активная энергия | HM9: Активная энергия | HN9: Активная энергия | HO9: Активная энергия | HP9: Активная энергия | HQ9: Активная энергия | HR9: Активная энергия | HS9: Активная энергия | HT9: Активная энергия | HU9: Активная энергия | HV9: Активная энергия | HW9: Активная энергия | HX9: Активная энергия | HY9: Активная энергия | HZ9: Активная энергия | IA9: Активная энергия | IB9: Активная энергия | IC9: Активная энергия | ID9: Активная энергия | IE9: Активная энергия | IF9: Активная энергия | IG9: Активная энергия | IH9: Активная энергия | II9: Активная энергия | IJ9: Активная энергия | IK9: Активная энергия | IL9: Активная энергия | IM9: Активная энергия | IN9: Активная энергия | IO9: Активная энергия | IP9: Активная энергия | IQ9: Активная энергия | IR9: Активная энергия | IS9: Активная энергия | IT9: Активная энергия | IU9: Активная энергия | IV9: Активная энергия | IW9: Активная энергия | IX9: Активная энергия | IY9: Активная энергия | IZ9: Активная энергия | JA9: Активная энергия | JB9: Активная энергия | JC9: Активная энергия | JD9: Активная энергия | JE9: Активная энергия | JF9: Активная энергия | JG9: Активная энергия | JH9: Активная энергия | JI9: Активная энергия | JJ9: Активная энергия | JK9: Активная энергия | JL9: Активная энергия | JM9: Активная энергия | JN9: Активная энергия | JO9: Активная энергия | JP9: Активная энергия | JQ9: Активная энергия | JR9: Активная энергия | JS9: Активная энергия | JT9: Активная энергия | JU9: Активная энергия | JV9: Активная энергия | JW9: Активная энергия | JX9: Активная энергия | JY9: Активная энергия | JZ9: Активная энергия | KA9: Активная энергия | KB9: Активная энергия | KC9: Активная энергия | KD9: Активная энергия | KE9: Активная энергия | KF9: Активная энергия | KG9: Активная энергия | KH9: Активная энергия | KI9: Активная энергия | KJ9: Активная энергия | KK9: Активная энергия | KL9: Активная энергия | KM9: Активная энергия | KN9: Активная энергия | KO9: Активная энергия | KP9: Активная энергия | KQ9: Активная энергия | KR9: Активная энергия | KS9: Активная энергия | KT9: Активная энергия | KU9: Активная энергия | KV9: Активная энергия | KW9: Активная энергия | KX9: Активная энергия | KY9: Активная энергия | KZ9: Активная энергия | LA9: Активная энергия | LB9: Активная энергия | LC9: Активная энергия | LD9: Активная энергия | LE9: Активная энергия | LF9: Активная энергия | LG9: Активная энергия | LH9: Активная энергия | LI9: Активная энергия | LJ9: Активная энергия | LK9: Активная энергия | LL9: Активная энергия | LM9: Активная энергия | LN9: Активная энергия | LO9: Активная энергия | LP9: Активная энергия | LQ9: Активная энергия | LR9: Активная энергия | LS9: Активная энергия | LT9: Активная энергия | LU9: Активная энергия | LV9: Активная энергия | LW9: Активная энергия | LX9: Активная энергия | LY9: Активная энергия | LZ9: Активная энергия | MA9: Активная энергия | MB9: Активная энергия | MC9: Активная энергия | MD9: Активная энергия | ME9: Активная энергия | MF9: Активная энергия | MG9: Активная энергия | MH9: Активная энергия | MI9: Активная энергия | MJ9: Активная энергия | MK9: Активная энергия | ML9: Активная энергия | MM9: Активная энергия | MN9: Активная энергия | MO9: Активная энергия | MP9: Активная энергия | MQ9: Активная энергия | MR9: Активная энергия | MS9: Активная энергия | MT9: Активная энергия | MU9: Активная энергия | MV9: Активная энергия | MW9: Активная энергия | MX9: Активная энергия | MY9: Активная энергия | MZ9: Активная энергия | NA9: Активная энергия | NB9: Активная энергия | NC9: Активная энергия | ND9: Активная энергия | NE9: Активная энергия | NF9: Активная энергия | NG9: Активная энергия | NH9: Активная энергия | NI9: Активная энергия | NJ9: Активная энергия | NK9: Активная энергия | NL9: Активная энергия | NM9: Активная энергия | NN9: Активная энергия | NO9: Активная энергия | NP9: Активная энергия | NQ9: Активная энергия | NR9: Активная энергия | NS9: Активная энергия | NT9: Активная энергия | NU9: Активная энергия | NV9: Активная энергия | NW9: Активная энергия | NX9: Активная энергия | NY9: Активная энергия | NZ9: Активная энергия | OA9: Активная энергия | OB9: Активная энергия | OC9: Активная энергия | OD9: Активная энергия | OE9: Активная энергия | OF9: Активная энергия | OG9: Активная энергия | OH9: Активная энергия | OI9: Активная энергия | OJ9: Активная энергия | OK9: Активная энергия | OL9: Активная энергия | OM9: Активная энергия | ON9: Активная энергия | OO9: Активная энергия | OP9: Активная энергия | OQ9: Активная энергия | OR9: Активная энергия | OS9: Активная энергия | OT9: Активная энергия | OU9: Активная энергия | OV9: Активная энергия | OW9: Активная энергия
B10: Расх. Эл. энергии за час | C10: Расх. Эл. энергии за час | D10: Расх. Эл. энергии за час | E10: Расх. Эл. энергии за час | F10: Расх. Эл. энергии за час | G10: Расх. Эл. энергии за час | H10: Расх. Эл. энергии за час | I10: Расх. Эл. энергии за час | J10: Расх. Эл. энергии за час | K10: Расх. Эл. энергии за час | L10: Расх. Эл. энергии за час | M10: Расх. Эл. энергии за час | N10: Расх. Эл. энергии за час | O10: Расх. Эл. энергии за час | P10: Расх. Эл. энергии за час | Q10: Расх. Эл. энергии за час | R10: Расх. Эл. энергии за час | S10: Расх. Эл. энергии за час | T10: Расх. Эл. энергии за час | U10: Расх. Эл. энергии за час | V10: Расх. Эл. энергии за час | W10: Расх. Эл. энергии за час | X10: Расх. Эл. энергии за час | Y10: Расх. Эл. энергии за час | Z10: Расх. Эл. энергии за час | AA10: Расх. Эл. энергии за час | AB10: Расх. Эл. энергии за час | AC10: Расх. Эл. энергии за час | AD10: Расх. Эл. энергии за час | AE10: Расх. Эл. энергии за час | AF10: Расх. Эл. энергии за час | AG10: Расх. Эл. энергии за час | AH10: Расх. Эл. энергии за час | AI10: Расх. Эл. энергии за час | AJ10: Расх. Эл. энергии за час | AK10: Расх. Эл. энергии за час | AL10: Расх. Эл. энергии за час | AM10: Расх. Эл. энергии за час | AN10: Расх. Эл. энергии за час | AO10: Расх. Эл. энергии за час | AP10: Расх. Эл. энергии за час | AQ10: Расх. Эл. энергии за час | AR10: Расх. Эл. энергии за час | AS10: Расх. Эл. энергии за час | AT10: Расх. Эл. энергии за час | AU10: Расх. Эл. энергии за час | AV10: Расх. Эл. энергии за час | AW10: Расх. Эл. энергии за час | AX10: Расх. Эл. энергии за час | AY10: Расх. Эл. энергии за час | AZ10: Расх. Эл. энергии за час | BA10: Расх. Эл. энергии за час | BB10: Расх. Эл. энергии за час | BC10: Расх. Эл. энергии за час | BD10: Расх. Эл. энергии за час | BE10: Расх. Эл. энергии за час | BF10: Расх. Эл. энергии за час | BG10: Расх. Эл. энергии за час | BH10: Расх. Эл. энергии за час | BI10: Расх. Эл. энергии за час | BJ10: Расх. Эл. энергии за час | BK10: Расх. Эл. энергии за час | BL10: Расх. Эл. энергии за час | BM10: Расх. Эл. энергии за час | BN10: Расх. Эл. энергии за час | BO10: Расх. Эл. энергии за час | BP10: Расх. Эл. энергии за час | BR10: Расх. Эл. энергии за час | BS10: Расх. Эл. энергии за час | BT10: Расх. Эл. энергии за час | BU10: Расх. Эл. энергии за час | BV10: Расх. Эл. энергии за час | BW10: Расх. Эл. энергии за час | BX10: Расх. Эл. энергии за час | BY10: Расх. Эл. энергии за час | BZ10: Расх. Эл. энергии за час | CA10: Расх. Эл. энергии за час | CB10: Расх. Эл. энергии за час | CC10: Расх. Эл. энергии за час | CD10: Расх. Эл. энергии за час | CE10: Расх. Эл. энергии за час | CF10: Расх. Эл. энергии за час | CG10: Расх. Эл. энергии за час | CH10: Расх. Эл. энергии за час | CI10: Расх. Эл. энергии за час | CJ10: Расх. Эл. энергии за час | CK10: Расх. Эл. энергии за час | CL10: Расх. Эл. энергии за час | CM10: Расх. Эл. энергии за час | CN10: Расх. Эл. энергии за час | CO10: Расх. Эл. энергии за час | CP10: Расх. Эл. энергии за час | CQ10: Расх. Эл. энергии за час | CR10: Расх. Эл. энергии за час | CS10: Расх. Эл. энергии за час | CT10: Расх. Эл. энергии за час | CU10: Расх. Эл. энергии за час | CV10: Расх. Эл. энергии за час | CW10: Расх. Эл. энергии за час | CX10: Расх. Эл. энергии за час | CY10: Расх. Эл. энергии за час | CZ10: Расх. Эл. энергии за час | DA10: Расх. Эл. энергии за час | DB10: Расх. Эл. энергии за час | DC10: Расх. Эл. энергии за час | DD10: Расх. Эл. энергии за час | DE10: Расх. Эл. энергии за час | DF10: Расх. Эл. энергии за час | DG10: Расх. Эл. энергии за час | DH10: Расх. Эл. энергии за час | DI10: Расх. Эл. энергии за час | DJ10: Расх. Эл. энергии за час | DK10: Расх. Эл. энергии за час | DL10: Расх. Эл. энергии за час | DM10: Расх. Эл. энергии за час | DN10: Расх. Эл. энергии за час | DO10: Расх. Эл. энергии за час | DP10: Расх. Эл. энергии за час | DQ10: Расх. Эл. энергии за час | DR10: Расх. Эл. энергии за час | DS10: Расх. Эл. энергии за час | DT10: Расх. Эл. энергии за час | DU10: Расх. Эл. энергии за час | DV10: Расх. Эл. энергии за час | DW10: Расх. Эл. энергии за час | DX10: Расх. Эл. энергии за час | DY10: Расх. Эл. энергии за час | DZ10: Расх. Эл. энергии за час | EA10: Расх. Эл. энергии за час | EB10: Расх. Эл. энергии за час | EC10: Расх. Эл. энергии за час | ED10: Расх. Эл. энергии за час | EE10: Расх. Эл. энергии за час | EF10: Расх. Эл. энергии за час | EG10: Расх. Эл. энергии за час | EH10: Расх. Эл. энергии за час | EI10: Расх. Эл. энергии за час | EJ10: Расх. Эл. энергии за час | EK10: Расх. Эл. энергии за час | EL10: Расх. Эл. энергии за час | EM10: Расх. Эл. энергии за час | EN10: Расх. Эл. энергии за час | EO10: Расх. Эл. энергии за час | EP10: Расх. Эл. энергии за час | EQ10: Расх. Эл. энергии за час | ER10: Расх. Эл. энергии за час | ES10: Расх. Эл. энергии за час | ET10: Расх. Эл. энергии за час | EU10: Расх. Эл. энергии за час | EV10: Расх. Эл. энергии за час | EW10: Расх. Эл. энергии за час | EX10: Расх. Эл. энергии за час | EY10: Расх. Эл. энергии за час | EZ10: Расх. Эл. энергии за час | FA10: Расх. Эл. энергии за час | FB10: Расх. Эл. энергии за час | FC10: Расх. Эл. энергии за час | FD10: Расх. Эл. энергии за час | FE10: Расх. Эл. энергии за час | FF10: Расх. Эл. энергии за час | FG10: Расх. Эл. энергии за час | FH10: Расх. Эл. энергии за час | FI10: Расх. Эл. энергии за час | FJ10: Расх. Эл. энергии за час | FK10: Расх. Эл. энергии за час | FL10: Расх. Эл. энергии за час | FM10: Расх. Эл. энергии за час | FN10: Расх. Эл. энергии за час | FO10: Расх. Эл. энергии за час | FP10: Расх. Эл. энергии за час | FQ10: Расх. Эл. энергии за час | FR10: Расх. Эл. энергии за час | FS10: Расх. Эл. энергии за час | FT10: Расх. Эл. энергии за час | FU10: Расх. Эл. энергии за час | FV10: Расх. Эл. энергии за час | FW10: Расх. Эл. энергии за час | FX10: Расх. Эл. энергии за час | FY10: Расх. Эл. энергии за час | FZ10: Расх. Эл. энергии за час | GA10: Расх. Эл. энергии за час | GB10: Расх. Эл. энергии за час | GC10: Расх. Эл. энергии за час | GD10: Расх. Эл. энергии за час | GE10: Расх. Эл. энергии за час | GF10: Расх. Эл. энергии за час | GG10: Расх. Эл. энергии за час | GH10: Расх. Эл. энергии за час | GI10: Расх. Эл. энергии за час | GJ10: Расх. Эл. энергии за час | GK10: Расх. Эл. энергии за час | GL10: Расх. Эл. энергии за час | GM10: Расх. Эл. энергии за час | GN10: Расх. Эл. энергии за час | GO10: Расх. Эл. энергии за час | GP10: Расх. Эл. энергии за час | GQ10: Расх. Эл. энергии за час | GR10: Расх. Эл. энергии за час | GS10: Расх. Эл. энергии за час | GT10: Расх. Эл. энергии за час | GU10: Расх. Эл. энергии за час | GV10: Расх. Эл. энергии за час | GW10: Расх. Эл. энергии за час | GX10: Расх. Эл. энергии за час | GY10: Расх. Эл. энергии за час | GZ10: Расх. Эл. энергии за час | HA10: Расх. Эл. энергии за час | HB10: Расх. Эл. энергии за час | HC10: Расх. Эл. энергии за час | HD10: Расх. Эл. энергии за час | HE10: Расх. Эл. энергии за час | HF10: Расх. Эл. энергии за час | HG10: Расх. Эл. энергии за час | HH10: Расх. Эл. энергии за час | HI10: Расх. Эл. энергии за час | HJ10: Расх. Эл. энергии за час | HK10: Расх. Эл. энергии за час | HL10: Расх. Эл. энергии за час | HM10: Расх. Эл. энергии за час | HN10: Расх. Эл. энергии за час | HO10: Расх. Эл. энергии за час | HP10: Расх. Эл. энергии за час | HQ10: Расх. Эл. энергии за час | HR10: Расх. Эл. энергии за час | HS10: Расх. Эл. энергии за час | HT10: Расх. Эл. энергии за час | HU10: Расх. Эл. энергии за час | HV10: Расх. Эл. энергии за час | HW10: Расх. Эл. энергии за час | HX10: Расх. Эл. энергии за час | HY10: Расх. Эл. энергии за час | HZ10: Расх. Эл. энергии за час | IA10: Расх. Эл. энергии за час | IB10: Расх. Эл. энергии за час | IC10: Расх. Эл. энергии за час | ID10: Расх. Эл. энергии за час | IE10: Расх. Эл. энергии за час | IF10: Расх. Эл. энергии за час | IG10: Расх. Эл. энергии за час | IH10: Расх. Эл. энергии за час | II10: Расх. Эл. энергии за час | IJ10: Расх. Эл. энергии за час | IK10: Расх. Эл. энергии за час | IL10: Расх. Эл. энергии за час | IM10: Расх. Эл. энергии за час | IN10: Расх. Эл. энергии за час | IO10: Расх. Эл. энергии за час | IP10: Расх. Эл. энергии за час | IQ10: Расх. Эл. энергии за час | IR10: Расх. Эл. энергии за час | IS10: Расх. Эл. энергии за час | IT10: Расх. Эл. энергии за час | IU10: Расх. Эл. энергии за час | IV10: Расх. Эл. энергии за час | IW10: Расх. Эл. энергии за час | IX10: Расх. Эл. энергии за час | IY10: Расх. Эл. энергии за час | IZ10: Расх. Эл. энергии за час | JA10: Расх. Эл. энергии за час | JB10: Расх. Эл. энергии за час | JC10: Расх. Эл. энергии за час | JD10: Расх. Эл. энергии за час | JE10: Расх. Эл. энергии за час | JF10: Расх. Эл. энергии за час | JG10: Расх. Эл. энергии за час | JH10: Расх. Эл. энергии за час | JI10: Расх. Эл. энергии за час | JJ10: Расх. Эл. энергии за час | JK10: Расх. Эл. энергии за час | JL10: Расх. Эл. энергии за час | JM10: Расх. Эл. энергии за час | JN10: Расх. Эл. энергии за час | JO10: Расх. Эл. энергии за час | JP10: Расх. Эл. энергии за час | JQ10: Расх. Эл. энергии за час | JR10: Расх. Эл. энергии за час | JS10: Расх. Эл. энергии за час | JT10: Расх. Эл. энергии за час | JU10: Расх. Эл. энергии за час | JV10: Расх. Эл. энергии за час | JW10: Расх. Эл. энергии за час | JX10: Расх. Эл. энергии за час | JY10: Расх. Эл. энергии за час | JZ10: Расх. Эл. энергии за час | KA10: Расх. Эл. энергии за час | KB10: Расх. Эл. энергии за час | KC10: Расх. Эл. энергии за час | KD10: Расх. Эл. энергии за час | KE10: Расх. Эл. энергии за час | KF10: Расх. Эл. энергии за час | KG10: Расх. Эл. энергии за час | KH10: Расх. Эл. энергии за час | KI10: Расх. Эл. энергии за час | KJ10: Расх. Эл. энергии за час | KK10: Расх. Эл. энергии за час | KL10: Расх. Эл. энергии за час | KM10: Расх. Эл. энергии за час | KN10: Расх. Эл. энергии за час | KO10: Расх. Эл. энергии за час | KP10: Расх. Эл. энергии за час | KQ10: Расх. Эл. энергии за час | KR10: Расх. Эл. энергии за час | KS10: Расх. Эл. энергии за час | KT10: Расх. Эл. энергии за час | KU10: Расх. Эл. энергии за час | KV10: Расх. Эл. энергии за час | KW10: Расх. Эл. энергии за час | KX10: Расх. Эл. энергии за час | KY10: Расх. Эл. энергии за час | KZ10: Расх. Эл. энергии за час | LA10: Расх. Эл. энергии за час | LB10: Расх. Эл. энергии за час | LC10: Расх. Эл. энергии за час | LD10: Расх. Эл. энергии за час | LE10: Расх. Эл. энергии за час | LF10: Расх. Эл. энергии за час | LG10: Расх. Эл. энергии за час | LH10: Расх. Эл. энергии за час | LI10: Расх. Эл. энергии за час | LJ10: Расх. Эл. энергии за час | LK10: Расх. Эл. энергии за час | LL10: Расх. Эл. энергии за час | LM10: Расх. Эл. энергии за час | LN10: Расх. Эл. энергии за час | LO10: Расх. Эл. энергии за час | LP10: Расх. Эл. энергии за час | LQ10: Расх. Эл. энергии за час | LR10: Расх. Эл. энергии за час | LS10: Расх. Эл. энергии за час | LT10: Расх. Эл. энергии за час | LU10: Расх. Эл. энергии за час | LV10: Расх. Эл. энергии за час | LW10: Расх. Эл. энергии за час | LX10: Расх. Эл. энергии за час | LY10: Расх. Эл. энергии за час | LZ10: Расх. Эл. энергии за час | MA10: Расх. Эл. энергии за час | MB10: Расх. Эл. энергии за час | MC10: Расх. Эл. энергии за час | MD10: Расх. Эл. энергии за час | ME10: Расх. Эл. энергии за час | MF10: Расх. Эл. энергии за час | MG10: Расх. Эл. энергии за час | MH10: Расх. Эл. энергии за час | MI10: Расх. Эл. энергии за час | MJ10: Расх. Эл. энергии за час | MK10: Расх. Эл. энергии за час | ML10: Расх. Эл. энергии за час | MM10: Расх. Эл. энергии за час | MN10: Расх. Эл. энергии за час | MO10: Расх. Эл. энергии за час | MP10: Расх. Эл. энергии за час | MQ10: Расх. Эл. энергии за час | MR10: Расх. Эл. энергии за час | MS10: Расх. Эл. энергии за час | MT10: Расх. Эл. энергии за час | MU10: Расх. Эл. энергии за час | MV10: Расх. Эл. энергии за час | MW10: Расх. Эл. энергии за час | MX10: Расх. Эл. энергии за час | MY10: Расх. Эл. энергии за час | MZ10: Расх. Эл. энергии за час | NA10: Расх. Эл. энергии за час | NB10: Расх. Эл. энергии за час | NC10: Расх. Эл. энергии за час | ND10: Расх. Эл. энергии за час | NE10: Расх. Эл. энергии за час | NF10: Расх. Эл. энергии за час | NG10: Расх. Эл. энергии за час | NH10: Расх. Эл. энергии за час | NI10: Расх. Эл. энергии за час | NJ10: Расх. Эл. энергии за час | NK10: Расх. Эл. энергии за час | NL10: Расх. Эл. энергии за час | NM10: Расх. Эл. энергии за час | NN10: Расх. Эл. энергии за час | NO10: Расх. Эл. энергии за час | NP10: Расх. Эл. энергии за час | NQ10: Расх. Эл. энергии за час | NR10: Расх. Эл. энергии за час | NS10: Расх. Эл. энергии за час | NT10: Расх. Эл. энергии за час | NU10: Расх. Эл. энергии за час | NV10: Расх. Эл. энергии за час | NW10: Расх. Эл. энергии за час | NX10: Расх. Эл. энергии за час | NY10: Расх. Эл. энергии за час | NZ10: Расх. Эл. энергии за час | OA10: Расх. Эл. энергии за час | OB10: Расх. Эл. энергии за час | OC10: Расх. Эл. энергии за час | OD10: Расх. Эл. энергии за час | OE10: Расх. Эл. энергии за час | OF10: Расх. Эл. энергии за час | OG10: Расх. Эл. энергии за час | OH10: Расх. Эл. энергии за час | OI10: Расх. Эл. энергии за час | OJ10: Расх. Эл. энергии за час | OK10: Расх. Эл. энергии за час | OL10: Расх. Эл. энергии за час | OM10: Расх. Эл. энергии за час | ON10: Расх. Эл. энергии за час | OO10: Расх. Эл. энергии за час | OP10: Расх. Эл. энергии за час | OQ10: Расх. Эл. энергии за час | OR10: Расх. Эл. энергии за час | OS10: Расх. Эл. энергии за час | OT10: Расх. Эл. энергии за час | OU10: Расх. Эл. энергии за час | OV10: Расх. Эл. энергии за час | OW10: Расх. Эл. энергии за час
A11: Часы суток | B11: Автоспецмаш | C11: Автоспецмаш секц.2 | D11: РП Сельхозхимия | E11: Промтехоснастка | F11: ТП 108.1 ВВ1 | G11: ТП 108.1 ВВ2 | H11: ТП Спирин | I11: ТП-1, Сад №1ЧМК | J11: ТП-1, ВВ | K11: ТП-6 Сад №1 ЧМХС | L11: ТП-9, ВВ | M11: ТП-2, ВВ | N11: ТП-10, ВВ | O11: ТП-3, ВВ | P11: Здание картофелехранилища № 10, ВВ1 | Q11: Здание картофелехранилища № 10, ВВ3 | R11: Здание картофелехранилища № 10, ВВ2 | S11: ТП-3, Овощехранилище | T11: ТП-9, д.Кошта, Жил.район, ВВ | U11: ТП-68, Птичник, цех 13 | V11: ТП-68, Птичник, цех 8 | W11: ТП-68, Цех сортировки | X11: ТП-68, Птичник, цех 6 | Y11: ТП-68, Птичник, цех 14 | Z11: ТП-68, Птичник, цех 10 | AA11: ТП-22, ВВ-1 | AB11: ТП-22, ВВ-2 | AC11: ТП Водозабор, ВВ1 | AD11: ТП Водозабор, ВВ2 | AE11: ТП-26 КОС, ВВ2 | AF11: ТП-26 КОС, ВВ1 | AG11: ТП-11, 2*400кВА, Климовское, Жилой фонд, ВВ1 | AH11: ТП-5, ВВ1 | AI11: ТП-5, ВВ2 | AJ11: КТП-160кВА, Коттеджи-2, ВВ | AK11: ТП-12, АТЦ, ВВ | AL11: ТП-22, Санубойный цех | AM11: ТП-451, Фидер-1 | AN11: ТП-451, Фидер-2 | AO11: ТП-451, Фидер-3 | AP11: ТП-451, Фидер-4 | AQ11: ТП-451, Фидер-5 | AR11: ТП-451, Фидер-6 | AS11: Суда 2, Котельная | AT11: Суда 1, Котельная | AU11: ООО "Экспо Лес" | AV11: ТП Коопзаготпром, ВВ1 | AW11: ТП Коопзаготпром, ВВ2 | AX11: ООО Техно Пак | AY11: Полимертрейд, ВВ1 | AZ11: Полимертрейд, ВВ2 | BA11: Логинов | BB11: Консервы | BC11: Котельная | BD11: Убойный цех, Банкова | BE11: Пилорама | BF11: Холодильник | BG11: Контора | BH11: ТП-15, ПС Нелазское, Шулма, ВВ2 | BI11: ТП-12 ст.Поселковая | BJ11: Кадуй, (ТП-15) | BK11: ТП-16, п.Кадуй, Т-1 | BL11: КТП ФЖП ВВ1 | BM11: КТП ФЖП ВВ2 | BN11: КТП ДОЗ Поселок Т-1 | BO11: КТП-160 Школа | BP11: КТП Посёлок | BR11: ТП-2, Хохлово, Т-1 | BS11: ТП-5, п.Хохлово, Д/сад 2 | BT11: ТП-1, п.Хохлово, ТП1 ВВ | BU11: Хохлово ТП-4 ВВ | BV11: ТП-8, п.Хохлово, Газовая котельная | BW11: ТП-59 Новая котельная ВВ | BX11: Нифантово ТП-142 Биотек | BY11: Зона 12 ЦТАО жилзона | BZ11: Зона 12 ЦТАО | CA11: ТП-42 ВВ | CB11: Вешняки Биоочистка Водоканал | CC11: Вешняки водоочистка, Водоканал, ВВ1 | CD11: ТП Котельная, ДОЛ "Жемчужина Мологи" ВВ1 | CE11: ТП Котельная, ДОЛ "Жемчужина Мологи" ВВ2 | CF11: п/л Янтарь, ВВ1 | CG11: Парус, Жилая зона, ВВ1 | CH11: Парус, Жилая зона, ВВ2 | CI11: Вешняки водоочистка, Водоканал, ВВ2 | CJ11: ТП-111, ВВ | CK11: ТП Льнозавод ВВ1 | CL11: ТП Льнозавод ВВ2 | CM11: КТП-138 д.Обухово ВВ | CN11: ТП-58 Газпромтепло энерго, котельная, ВВ1 | CO11: ТП-58 Газпромтепло энерго, котельная, ВВ2 | CP11: ТП-98, Переселенченский пер, ВВ | CQ11: ТП-31, ВВ1 | CR11: ТП-31, ВВ2 | CS11: ТП-92, ВВ | CT11: ТП-31, п.Сазоново, ВВ | CU11: ТП-38, ВВ | CV11: ТП-27, п Сазоново, ВВ1 | CW11: ТП-27, п Сазоново, ВВ2 | CX11: ТП-32, п.Сазоново, ВВ | CY11: ТП-30, п.Сазоново, ВВ | CZ11: ТП-34, п.Сазоново, ВВ | DA11: ТП-35, п.Сазоново, ВВ | DB11: ТП-55, п.Сазоново, ВВ1 | DC11: ТП-55, п.Сазоново, ВВ2 | DD11: ТП-52, Белокрестский маслозавод, ВВ | DE11: ТП-36, п.Сазоново,ул.Авиации,ВВ | DF11: п.Сазоново, Русджам | DG11: ТП-41, ввод 1 | DH11: ТП-41, ввод 2 | DI11: ТП-37, ул.Строителей, ВВ | DJ11: ТП-39, Доломит, компрессорная, ВВ1 | DK11: ТП-39, Доломит, компрессорная, ВВ1 | DL11: ТП-59, ВВ | DM11: ТП Торфобрикетный завод, ВВ | DN11: ТП-46, Главные очистные | DO11: ТП-16, п.Чагода, Школа №2 ВВ1 | DP11: ТП 58/2 Котельная ЖКХ ВВ резерв | DQ11: ТП-47 Эмшер | DR11: ТП-58, Котельная ЖКХ ВВ осн. | DS11: ТП-13, 400+160кВА ОАО "Стройэнерго", ВВ2 | DT11: ТП-58, Котельная ЖКХ ВВ осн. | DU11: ТП-64, База ЖКХ | DV11: ТП-52, Белокрестский маслозавод, ВВ | DW11: ТП-6, Сад №2 ОАО "Аммофос" | DX11: Сад Броды | DY11: КТП 100 кВА Сад "Водник" | DZ11: ТП СНТ №11 ЧМХС, ВВ | EA11: ТП-2, Сад №1 "Аммофос" | EB11: ТП-3, Сад №9 "Череповецагрострой" | EC11: ТП-4, ВВ | ED11: ТП-5, Сад ЧСПЗ-3 | EE11: Сад № 2 ЧСПЗ | EF11: ТП-23, Малечкино, площадка, ВВ | EG11: ЦРП Парфеново, Киселево ВВ 10кВ | EH11: ЦРП Парфеново, ВВ Парфеново | EI11: КТП-63кВА, д.Афонино, ВВ | EJ11: КТП 250кВА Ферма Курилово | EK11: ТП Дачи | EL11: ТП-4, п.Малечкино, ВВ | EM11: ТП-5, п.Малечкино, ВВ | EN11: ТП-7, 160кВА, п.Малечкино, ВВ | EO11: ТП-8, 2*250кВА, п.Малечкино, ВВ1 | EP11: ТП-8, 2*250кВА, п.Малечкино, ВВ2 | EQ11: ТП-9 400 кВА В-1 Малечкино | ER11: ТП-9 400 кВА В-2 Малечкино | ES11: ТП-10, Котельная, Малечкино, ВВ2 | ET11: ТП-10, Котельная, Малечкино, ВВ1 | EU11: ТП-12, 400кВА, п.Малечкино, ВВ | EV11: ТП-14, 2*250кВА, п.Малечкино, ВВ | EW11: ТП-15, Кормоцех, Малечкино, ВВ1 | EX11: ТП-15, Кормоцех, Малечкино, ВВ2 | EY11: КТП 100 кВА Сад "Кальнинское" | EZ11: ТП-2, 250кВА "Аникор+", ВВ1 | FA11: ТП 250кВА "Аникор+", ВВ2 | FB11: ТП-2 Поселок, ВВ new | FC11: ТП 400 Школа В-1 Тоншалово | FD11: ТП 400 Школа В-2 Тоншалово | FE11: ТП 400 Очистные В-1 Тоншалово | FF11: ТП 400 Очистные В-2 Тоншалово | FG11: ТП 400 ПМК-1 В-1 | FH11: ТП 400 ПМК-1 В-2 | FI11: ТП 400 Детский сад В-1 Тоншалово | FJ11: ТП 400 Детский сад В-2 Тоншалово | FK11: ТП 250 Мелиоводстрой | FL11: ТП-250 кВА пилорама "Карат-плюс" | FM11: КТП-63кВА, д. Ново-Дубровка, ВВ | FN11: КТП-63 кВА Сад №6 Северсталь | FO11: КТП-63кВА, Хлебаево, Деревня | FP11: ВЛ-0,4, Угольная котельная (ЧерЭТС) | FQ11: ЗАО Ботово КТПБ-Фенево, ВВ1 | FR11: ЗАО Ботово КТПБ-Фенево, ВВ2 | FS11: КТП-100кВА, д.Ботово, ВВ | FT11: КТП-100кВА, Новое Ботово, ВВ | FU11: АЗС №43 Лукойл | FV11: Уличное освещение через р.Ягорба | FW11: КТП-63кВА, "Артскважина", д. Шурово, ВВ | FX11: КТП 400 кВА Комплекс д.Яганово | FY11: Машинный двор Яганово | FZ11: КТП-250кВА, д. Яганово | GA11: КТП-100кВА, Очистные Яганово | GB11: КЗС-2 Яганово, ВВ | GC11: ТП-1 Водозабор Подъем-1 | GD11: КТП 400 Поселок Поповка | GE11: ТП 100 кВА Курьяково | GF11: ТП 250 кВА Козлово | GG11: ТП 63 кВА Погорелка | GH11: КТП 250 кВА ДОРА-2 | GI11: КТП Сад. "Синтез", ВВ | GJ11: КТП 100 "ЭСПА" | GK11: КТП-63 кВА АО ВОЭК Механизаторов д.5 | GL11: КТП 400кВА Н-Васильевское | GM11: ООО "Ботово" ЦРП к-с "Петриневский" | GN11: КТНП 630 кВА № 2 "Свинокомплекс" | GO11: КТНП 250 кВА Свиноферма Сосновка | GP11: ТП 400 кВА ЦРП "Сосновка" В-1 | GQ11: ТП 400 кВА ЦРП "Сосновка" В-2 | GR11: КТП 630 кВА Жилая зона В-1 п.Коротово | GS11: КТП 630 кВА Жилая зона В-2 п.Коротово | GT11: КТП 250 кВА "Лесничество-1" | GU11: КТП 160кВА Сушильный завод п.Клопузово | GV11: КТП Ферма Соловьева | GW11: ТП-3 Общежитие В-1 Шухободь | GX11: ТП-3 Общежитие В-2 Шухободь | GY11: ТП-2х250 кВА Училище ПУ-41 В-1 | GZ11: ТП-2х250 кВА Училище ПУ-41 В-2 | HA11: ТП-1 Котельная Шухободь 400 кВА В-1 | HB11: ТП-1 Котельная Шухободь 400 кВА В-2 | HC11: ТП 160 кВА Очистные Шухободь | HD11: ТП Жилая зона 250 кВА В-1 Шухободь | HE11: ТП Жилая зона Шухободь 250 кВА В-2 | HF11: ЗАО Шухободское Комплекс, Т-2 | HG11: ЗАО Шухободское Комплекс, Т-1 | HH11: ВЛ-0,04кВ, Абаканово 4-х эт.дома | HI11: ВЛ-0,4кВ, п.Абаканово, 3-х эт.дома | HJ11: КТП 160кВА Шухободский водовод-2 | HK11: ТП 250 кВА Детский сад п.Абаканово | HL11: КТП 160 кВА "Мастерские" Абаканово | HM11: КТП 100 кВА АВМ "Алексино" | HN11: ТП 63 кВА Шухтовское лесничество | HO11: ТП ЦРП"Маслово-2" 2*250 кВА | HP11: ИП Задесенец А.В. | HQ11: ЗАО "Ботово" ТП-5 Ввод-1 | HR11: ЗАО "Ботово" ТП-5 Ввод-2 | HS11: ТП-9 ЗАО Ботово, ВВ1 | HT11: ЗАО "Ботово" ТП-Колбасный цех Ввод-1 | HU11: ЗАО "Ботово" ТП-Колбасный цех Ввод-2 | HV11: ЗАО "Ботово" ТП-7 Ввод-1 | HW11: ЗАО "Ботово" ТП-7 Ввод-2 | HX11: ЗАО "Ботово" ТП-6 Ввод-1 | HY11: ЗАО "Ботово" ТП-6 Ввод-2 | HZ11: ЗАО "Ботово" ТП-4 Ввод-1 | IA11: ЗАО "Ботово" ТП-4 Ввод-2 | IB11: ЗАО "Ботово" ТП-Воздуходувка Ввод-2 | IC11: ЗАО "Ботово" ТП-Воздуходувка Ввод-1 | ID11: ЗАО "Ботово" ТП-Очистные Ввод-1 | IE11: ЗАО "Ботово" ТП-Очистные Ввод-2 | IF11: ЗАО "Ботово" ТП-1 Ввод-1 | IG11: ЗАО "Ботово" ТП-1 Ввод-2 | IH11: ЗАО "Ботово" ТП-2 Ввод-1 | II11: ЗАО "Ботово" ТП-2 Ввод-2 | IJ11: ЗАО "Ботово" ТП-3 Ввод-1 | IK11: ЗАО "Ботово" ТП-3 Ввод-2 | IL11: ЗАО "Ботово" ТП-8 Ввод-1 | IM11: ЗАО "Ботово" КТП-Котельная Ввод-1 | IN11: ЗАО "Ботово" КТП-Котельная Ввод-2 | IO11: ЗАО "Ботово" КТП-Холодильник Ввод-1 | IP11: ЗАО "Ботово" КТП-Холодильник Ввод-2 | IQ11: ЗАО "Ботово" ТП "Борисово" | IR11: КТП-2 250кВа Сад №3 ЧМК | IS11: КТП-1 160 кВА Сад ЧМК-3 | IT11: КТП 160 кВА Сад"Заря" | IU11: КТП 160 кВА Сад "Заря-2" | IV11: ТП-Поселок Шулма | IW11: ТП Школа Шулма | IX11: КТП 250 Шулма ул.Олимпийская | IY11: ТП 400 кВА РММ Нелазское | IZ11: КТП-63 кВА "Плешаново" сад "Ива" | JA11: Газ котел Шулма №1 | JB11: Газ котел Шулма №2 | JC11: КТП Вауч, ВВ | JD11: КТП 160 кВА Дарвинский заповедник | JE11: КТП 100 кВА Борок-2 | JF11: ТП-400кВА, Домозерово, Школа, ВВ1 | JG11: ТП-400кВА, Домозерово, Школа, ВВ2 | JH11: Домозерово, Водозабор, ВВ1 | JI11: Домозерово, Водозабор, ВВ2 | JJ11: КТП 250 кВА Детский сад д.Домозерово | JK11: КТП 160 кВА Очистные Домозерово | JL11: КТПН 10/0,4 кВ "СЗМК" Н-Домозерово | JM11: ТП 400 "РММ" Домозерово | JN11: ТП 100 Детский сад п.Батран | JO11: ТП 400 Льнозавод п.Батран | JP11: КТП-63 кВА сады "Гоша" | JQ11: МТП 40 кВА "Сады Гоша-2" | JR11: ТП-63 Очистные п.Шалимово | JS11: ТП 400 Котельная В-1 Шалимово | JT11: ТП 400 Котельная В-2 Шалимово | JU11: КТП-63 кВА Водозабор Шалимово | JV11: КТП 250 кВа "Зашекснинское" | JW11: КТП-100 "Сады Петраково" | JX11: ТП Жары СЗСК (A+) | JY11: КТП-250кВА, СНТ "Березка", ВВ | JZ11: КТП-160 "Сад Пенек" | KA11: КТП 63 кВА "Кацитадзе" | KB11: КТП-250 кВА "Ивушка" | KC11: СНТ Харламовское, ВВ | KD11: КТП-25 кВА, Паршин, ВВ | KE11: КТП п Кривец, Дачи Аммофос, ВВ | KF11: ТП 100 Детский дом п.Кривец | KG11: КТП-160 кВА, Лесничество-2, ВВ | KH11: КТП-60кВА, Маслозавод, ВВ | KI11: КТП КНС-14 Ирдоматка | KJ11: ТП-209 250 кВА Тепловая Ирдоматка | KK11: КТП 250кВА Сад №4 д.Нова | KL11: КТП 400 кВА "Дачи" д.Пулово-Борисово | KM11: ТП-210, ВВ | KN11: п.Суда, Сад Черкесиха | KO11: ДНТ Шексна | KP11: КТП 250 кВА Сад "Энергетик-3" | KQ11: КТП-160 кВА "Кооп. сад №3 Энергетик" В-2 | KR11: КТП 160 кВА САд "Кит-1" | KS11: КТП 160кВА "Кадуйремдорстрой" | KT11: КТП-63 кВА д.Якимово | KU11: КТП-250 Агрофирма "Северагрогаз" ВВ1 | KV11: КТП-250 Агрофирма "Северагрогаз" ВВ2 | KW11: ТП 250 кВА ООО"Курс-лес" | KX11: КТП 250кВА Малая Руковицкая | KY11: ТП 400 кВА п.Нижние В-1 | KZ11: ТП 400 кВА п.Нижние В-2 | LA11: КТП-100 кВА Сад "Диана" | LB11: КТП-400 "Строитель" ВЛ-10кВ "Уйта" | LC11: КТП Хуторок ВВ | LD11: КТП 63 кВА Столовая с.Никольское | LE11: КТП-100 кВА "Грищи" | LF11: КТП-63 кВА д.Красное Плоское | LG11: ТП 400 кВА Комплекс"Андога" В-1 | LH11: ТП 400 кВА Комплекс"Андога" В-2 | LI11: ТП 400 кВА Комплекс"Чуприно" В-1 | LJ11: ТП 400 кВА Комплекс"Чуприно" В-2 | LK11: КТП-63 кВА п.Красная Заря | LL11: Мастерские ЭТС Кадуй | LM11: КТП Марыгино ВВ | LN11: п.Чебсара, ТП-70, "Леспромхоз" | LO11: п.Чебсара, ТП 61 ВВ | LP11: п.Чебсара, ТП 62 ВВ | LQ11: ТП-63 Первомайская ВВ | LR11: ТП-64 Дом культуры ВВ | LS11: ТП-65 Школа ВВ | LT11: КТП-74 Зеркальный цех ВВ | LU11: ЧЕБСАРА ТП-66 "Ретраслятор.Телевышка." (А) | LV11: ЧЕБСАРА ТП-67 "Баня" (А) | LW11: ЧЕБСАРА ТП-68 "Торговый центр" (А) | LX11: ЧЕБСАРА ТП-75 "Ул.Батулиных" (А) | LY11: КТП-76 Лечебная ВВ | LZ11: ЧЕБСАРА ТП-69 "Ул.Комсомольская" (А) | MA11: ТП-95 "Шекснинское АТП" (А) | MB11: КТП-105 "Сельхозхимия" (А) | MC11: КТП-106 "Летний лагерь" (А) | MD11: КТП-107-ввод 1 "Комплекс "Пача" (А) | ME11: КТП-107-ввод 2 "Комплекс "Пача" (А) | MF11: ТП-108 ввод1 "Екимовское" (А) | MG11: ТП-108 ввод2 "Екимовское" (А) | MH11: ТП-109 "Ферма"Лёво" (А) | MI11: КТП-110, СПК "Любомирово", Зерносушка | MJ11: КТП-111, Нифантово, ДОЦ "Кедр" | MK11: ТП-112 ввод 1,"Комплекс"Чаромское" (А) | ML11: ТП-112 ввод 2,"Комплекс"Чаромское" (А) | MM11: КТП-115, Чуровское, "Склад сена" ВВ | MN11: ТП-116 "Зернокомплекс" с.Чуровское (А) | MO11: КТП-117 ПСК"Пилорама ПСК"Демидово" (А) | MP11: КТП-118, КЗС "Демидово" | MQ11: КТП-119 "СТ"Веснянка" (А) | MR11: КТП-128 ввод 1 "Котельная Чуровское"(А) | MS11: КТП-128 ввод 2 "Котельная Чуровское"(А) | MT11: КТП-129 ввод1, "Котельная д."Прогресс"(А) | MU11: КТП-129 ввод 2, "Котельная д."Прогресс"(А) | MV11: КТП-134 "Карьер-2" | MW11: КТП-103, Котельная Покровское, ВВ | MX11: ТП-113 Бекон | MY11: КТП-135 "Карьер-1" | MZ11: КТП-137 "Экскаватор" | NA11: КТП-132 "Дробилка" | NB11: ТП-123 Водозабор Дурасово | NC11: КТП-136 "Карьер-4" | ND11: КТП-126 "Котельная д.Чернеево" | NE11: КТП-101 "Льносемстанция (ДРСУ)" (А) | NF11: ТП-120 "АЗС ЧП Шерстакова" (А) | NG11: КТП-122 "Покровское-Низы" (А) | NH11: КТП 124 Дурасово Водозабор №2 ВВ | NI11: КТП-130 "СТ-Легенда" | NJ11: КТП-131 "Природа" | NK11: КТП-133 "Полянка" | NL11: КТП-125 "Дом престарелых д.Княже" | NM11: ТП-102 "Котельная ввод 1" | NN11: ТП-53, Нифантово, ВВ | NO11: ТП-54, Нифантово, ВВ | NP11: ТП-127 Котельная ВВ | NQ11: ТП-57, пос.Смердомский ВВ | NR11: ТП-68, Очистные-1, ПМК-19 | NS11: ТП-43, Станция Огарево | NT11: ТП-66,ул.Зеленая | NU11: ТП-62, ул.Октября | NV11: КТП-63 кВА "Водозабор" (Мегрино) | NW11: ВЛ-23, д.Бараново | NX11: ТП-62 "Скважина" ВЛ-10кВ Володино | NY11: ТП-49 "Боровая" | NZ11: ТП-56 "КНС" | OB11: КТП Шайма ВВ | OC11: КТП Оношево ВВ | OD11: Офис | OE11: ТП-107 > Пр. база (ул. Механизаторов, 3а) | OF11: ТП-107 > Цех ТМХ | OG11: ТП-17 п. Кадуй > яч. 2 отдача (ф. ТП-18 яч.1) | OH11: ТП-19 п. Кадуй > яч. 6 отдача (ф. ТП-18 яч.1) | OI11: ТП-451 | OJ11: ТП-59 | OK11: ТП Жилзона (ПЛ Жемчужина Мологи) | OL11: ТП-Кадуйагропромэнерго | OM11: ТП-Кадуймежхозлес | ON11: ТП-Кадуйское ДЭУ | OO11: Я Ч.31.1 | OP11: Я Ч.24.3 | OQ11: Яч.12-Водозабор-1 | OR11: Яч.19-Водозабор-2 | OS11: Яч.23-Производственный | OT11: КНС | OU11: Пищекомбинат | OV11: ТП-66 "Устюженский тракт" | OW11: ТП-31 "Устюженский тракт | OX11: Сумма
B12: 15604835 | C12: 15744525 | D12: 09315652 | E12: 15650790 | F12: 06045518 | G12: 06045499 | H12: 26614298 | I12: 11188386 | J12: 11143167 | K12: 11131128 | L12: 25629954 | M12: 26614349 | N12: 25630027 | O12: 26614428 | P12: 19098673 | Q12: 21810065 | R12: 10198022 | S12: 18700983 | T12: 16944597 | U12: 19103656 | V12: 21147798 | W12: 21147797 | X12: 21151582 | Y12: 21151429 | Z12: 19095149 | AA12: 19103452 | AB12: 21147795 | AC12: 24396102 | AD12: 24396037 | AE12: 19103420 | AF12: 07949314 | AG12: 21151528 | AH12: 25630142 | AI12: 26043556 | AJ12: 11130995 | AK12: 13098178 | AL12: 19103699 | AM12: 19491916 | AN12: 19491935 | AO12: 19489905 | AP12: 19491917 | AQ12: 19491932 | AR12: 19489947 | AS12: 11143159 | AT12: 10176564 | AU12: 26614181 | AV12: 07949445 | AW12: 09254494 | AX12: 20307061 | AY12: 09254468 | AZ12: 09274341 | BA12: 05595888 | BB12: 17617966 | BC12: 18751137 | BD12: 19514648 | BE12: 19476705 | BF12: 19453496 | BG12: 21180670 | BH12: 15743859 | BI12: 11145203 | BJ12: 11145216 | BK12: 11139012 | BL12: 11143162 | BM12: 19093142 | BN12: 11131143 | BO12: 11131019 | BP12: 11143130 | BR12: 11143165 | BS12: 11131125 | BT12: 11143154 | BU12: 11143160 | BV12: 11139043 | BW12: 19104140 | BX12: 13098541 | BY12: 20143711 | BZ12: 20143706 | CA12: 15650536 | CB12: 15650803 | CC12: 15650752 | CD12: 18430777 | CE12: 15744201 | CF12: 13098189 | CG12: 15575405 | CH12: 14758675 | CI12: 15650808 | CJ12: 11131009 | CK12: 11086268 | CL12: 13139426 | CM12: 15662731 | CN12: 19104173 | CO12: 19104341 | CP12: 13139451 | CQ12: 25630048 | CR12: 25630026 | CS12: 11196696 | CT12: 15744415 | CU12: 13067980 | CV12: 13149107 | CW12: 13149279 | CX12: 13149282 | CY12: 13149252 | CZ12: 13149090 | DA12: 11143104 | DB12: 13149097 | DC12: 13148467 | DD12: 17493769 | DE12: 16946415 | DF12: 13028160 | DG12: 13154223 | DH12: 13149106 | DI12: 13065596 | DJ12: 18430647 | DK12: 18430412 | DL12: 11131116 | DM12: 21744284 | DN12: 10176570 | DO12: 11130997 | DP12: 15650375 | DQ12: 15650823 | DR12: 11086431 | DS12: 15744491 | DT12: 11086431 | DU12: 23977115 | DV12: 17493769 | DW12: 11086419 | DX12: 13125918 | DY12: 7942401 | DZ12: 7937270 | EA12: 11086376 | EB12: 11086402 | EC12: 26049102 | ED12: 11086412 | EE12: 26049122 | EF12: 19099845 | EG12: 15620552 | EH12: 18427883 | EI12: 15749411 | EJ12: 17493808 | EK12: 13153670 | EL12: 19103962 | EM12: 19104010 | EN12: 19470592 | EO12: 21147965 | EP12: 19470602 | EQ12: 15628412 | ER12: 16944787 | ES12: 15628416 | ET12: 15628449 | EU12: 19470578 | EV12: 19470606 | EW12: 13097932 | EX12: 13125890 | EY12: 13098182 | EZ12: 15599740 | FA12: 15650762 | FB12: 11130965 | FC12: 11143161 | FD12: 11131015 | FE12: 13098198 | FF12: 13098175 | FG12: 15743786 | FH12: 15628391 | FI12: 11131000 | FJ12: 11143152 | FK12: 15743892 | FL12: 25503859 | FM12: 18430596 | FN12: 18430372 | FO12: 26614137 | FP12: 19103702 | FQ12: 15628224 | FR12: 21733293 | FS12: 15744345 | FT12: 16937093 | FU12: 10176352 | FV12: 15659478 | FW12: 19465112 | FX12: 15628210 | FY12: 15650590 | FZ12: 15745908 | GA12: 15745902 | GB12: 15741185 | GC12: 6249453 | GD12: 15650744 | GE12: 15650798 | GF12: 16944802 | GG12: 15744283 | GH12: 16944944 | GI12: 13097943 | GJ12: 13098209 | GK12: 10176561 | GL12: 13155095 | GM12: 15628418 | GN12: 11086110 | GO12: 19103638 | GP12: 10176388 | GQ12: 11086240 | GR12: 16949718 | GS12: 16949805 | GT12: 15745835 | GU12: 15744386 | GV12: 19103631 | GW12: 15744464 | GX12: 15744566 | GY12: 16949907 | GZ12: 16927659 | HA12: 16937055 | HB12: 16927460 | HC12: 9254347 | HD12: 16945045 | HE12: 16949798 | HF12: 19103635 | HG12: 11086450 | HH12: 15744541 | HI12: 16927818 | HJ12: 19094522 | HK12: 15741183 | HL12: 15650528 | HM12: 19103428 | HN12: 16944662 | HO12: 19103991 | HP12: 19103454 | HQ12: 10190682 | HR12: 09272994 | HS12: 13159676 | HT12: 004226 | HU12: 338711 | HV12: 11130751 | HW12: 11139045 | HX12: 09334602 | HY12: 09334707 | HZ12: 07949185 | IA12: 11130976 | IB12: 09288561 | IC12: 10190345 | ID12: 11131093 | IE12: 11130727 | IF12: 13531370 | IG12: 13531364 | IH12: 10190969 | II12: 11078932 | IJ12: 13532096 | IK12: 13537601 | IL12: 13167880 | IM12: 13534023 | IN12: 13522131 | IO12: 11131081 | IP12: 11131088 | IQ12: 11130750 | IR12: 15650825 | IS12: 18430343 | IT12: 15650747 | IU12: 18430649 | IV12: 21252614 | IW12: 16944786 | IX12: 16927658 | IY12: 19465107 | IZ12: 16949003 | JA12: 15650775 | JB12: 15650755 | JC12: 19103443 | JD12: 15743788 | JE12: 15743798 | JF12: 21733686 | JG12: 11131113 | JH12: 11088242 | JI12: 11086103 | JJ12: 15741193 | JK12: 11086147 | JL12: 13093574 | JM12: 15743801 | JN12: 15741191 | JO12: 11086311 | JP12: 28773147 | JQ12: 21748971 | JR12: 15650745 | JS12: 15743714 | JT12: 15744344 | JU12: 15650829 | JV12: 11143150 | JW12: 11131131 | JX12: 26039780 | JY12: 19470560 | JZ12: 15745844 | KA12: 19099768 | KB12: 16944596 | KC12: 17493842 | KD12: 19103469 | KE12: 19093106 | KF12: 19093382 | KG12: 16949987 | KH12: 19093181 | KI12: 15628405 | KJ12: 15749450 | KK12: 16927688 | KL12: 11131007 | KM12: 25418334 | KN12: 15744339 | KO12: 21733685 | KP12: 11143155 | KQ12: 11131013 | KR12: 11131124 | KS12: 11143103 | KT12: 11130991 | KU12: 11131149 | KV12: 11130940 | KW12: 11130934 | KX12: 13125931 | KY12: 11145223 | KZ12: 11145381 | LA12: 11130959 | LB12: 11131001 | LC12: 11139032 | LD12: 11130958 | LE12: 11130994 | LF12: 11130929 | LG12: 19090796 | LH12: 19090578 | LI12: 11139007 | LJ12: 11172285 | LK12: 11143149 | LL12: 19094473 | LM12: 19093082 | LN12: 11086238 | LO12: 16949968 | LP12: 16949803 | LQ12: 19470559 | LR12: 19470545 | LS12: 19470552 | LT12: 16949905 | LU12: 17661498 | LV12: 19488470 | LW12: 19489987 | LX12: 19481600 | LY12: 19488462 | LZ12: 11113885 | MA12: 11086266 | MB12: 11086432 | MC12: 11086482 | MD12: 11086444 | ME12: 11086392 | MF12: 11086452 | MG12: 11086106 | MH12: 11086326 | MI12: 11086320 | MJ12: 11086390 | MK12: 11086264 | ML12: 11086254 | MM12: 11086263 | MN12: 11086448 | MO12: 11086358 | MP12: 11086361 | MQ12: 11086372 | MR12: 11086414 | MS12: 11086239 | MT12: 11086387 | MU12: 11086395 | MV12: 11086314 | MW12: 11086265 | MX12: 13126280 | MY12: 13125994 | MZ12: 13098217 | NA12: 13098148 | NB12: 13098213 | NC12: 15650415 | ND12: 13097956 | NE12: 13098097 | NF12: 15662727 | NG12: 15619222 | NH12: 13097949 | NI12: 15666442 | NJ12: 15619232 | NK12: 15662744 | NL12: 19103608 | NM12: 19103596 | NN12: 11143107 | NO12: 21147742 | NP12: 10176316 | NQ12: 15744543 | NR12: 13126330 | NS12: 19094520 | NT12: 16944667 | NU12: 16944811 | NV12: 10176353 | NW12: 15650771 | OA12: Вологдаэнерго (голова) | OB12: Оборонэнерго | OD12: Электросеть | OO12: ФосАгро ГПП-5 | OQ12: ШРГСиС | OT12: СЖД | OV12: РЖД
B13: 2000 | C13: 120 | D13: 4000 | E13: 120 | F13: 120 | G13: 120 | H13: 1 | I13: 1 | J13: 120 | K13: 60 | L13: 60 | M13: 120 | N13: 80 | O13: 40 | P13: 1 | Q13: 1 | R13: 1 | S13: 150 | T13: 30 | U13: 40 | V13: 40 | W13: 40 | X13: 40 | Y13: 40 | Z13: 30 | AA13: 120 | AB13: 120 | AC13: 40 | AD13: 40 | AE13: 80 | AF13: 80 | AG13: 120 | AH13: 120 | AI13: 120 | AJ13: 30 | AK13: 30 | AL13: 120 | AM13: 40 | AN13: 40 | AO13: 40 | AP13: 40 | AQ13: 40 | AR13: 40 | AS13: 80 | AT13: 80 | AU13: 30 | AV13: 120 | AW13: 120 | AX13: 30 | AY13: 60 | AZ13: 40 | BA13: 120 | BB13: 80 | BC13: 30 | BD13: 30 | BE13: 30 | BF13: 30 | BG13: 30 | BH13: 120 | BI13: 1 | BJ13: 1 | BK13: 1 | BL13: 1 | BM13: 1 | BN13: 60 | BO13: 1 | BP13: 1 | BR13: 1 | BS13: 60 | BT13: 120 | BU13: 1 | BV13: 80 | BW13: 80 | BX13: 400 | BY13: 1800 | BZ13: 1800 | CA13: 120 | CB13: 40 | CC13: 40 | CD13: 120 | CE13: 120 | CF13: 80 | CG13: 80 | CH13: 80 | CI13: 40 | CJ13: 80 | CK13: 300 | CL13: 300 | CM13: 1 | CN13: 160 | CO13: 160 | CP13: 120 | CQ13: 200 | CR13: 200 | CS13: 200 | CT13: 30 | CU13: 80 | CV13: 120 | CW13: 120 | CX13: 120 | CY13: 120 | CZ13: 120 | DA13: 1 | DB13: 120 | DC13: 120 | DD13: 80 | DE13: 40 | DF13: 20 | DG13: 120 | DH13: 120 | DI13: 120 | DJ13: 300 | DK13: 300 | DL13: 1 | DM13: 160 | DN13: 80 | DO13: 1 | DP13: 160 | DQ13: 1 | DR13: 200 | DS13: 60 | DT13: 200 | DU13: 50 | DV13: 80 | DW13: 40 | DX13: 30 | DY13: 30 | DZ13: 20 | EA13: 120 | EB13: 60 | EC13: 120 | ED13: 60 | EE13: 80 | EF13: 20 | EG13: 0 | EH13: 3000 | EI13: 20 | EJ13: 80 | EK13: 60 | EL13: 120 | EM13: 120 | EN13: 60 | EO13: 80 | EP13: 80 | EQ13: 120 | ER13: 120 | ES13: 120 | ET13: 120 | EU13: 120 | EV13: 80 | EW13: 60 | EX13: 60 | EY13: 40 | EZ13: 80 | FA13: 80 | FB13: 200 | FC13: 120 | FD13: 120 | FE13: 120 | FF13: 120 | FG13: 120 | FH13: 120 | FI13: 120 | FJ13: 120 | FK13: 200 | FL13: 120 | FM13: 20 | FN13: 20 | FO13: 30 | FP13: 40 | FQ13: 200 | FR13: 200 | FS13: 30 | FT13: 40 | FU13: 30 | FV13: 1 | FW13: 20 | FX13: 120 | FY13: 120 | FZ13: 80 | GA13: 30 | GB13: 80 | GC13: 40 | GD13: 120 | GE13: 30 | GF13: 80 | GG13: 30 | GH13: 30 | GI13: 60 | GJ13: 20 | GK13: 20 | GL13: 120 | GM13: 120 | GN13: 200 | GO13: 80 | GP13: 120 | GQ13: 120 | GR13: 200 | GS13: 200 | GT13: 80 | GU13: 120 | GV13: 20 | GW13: 60 | GX13: 60 | GY13: 80 | GZ13: 80 | HA13: 120 | HB13: 120 | HC13: 60 | HD13: 80 | HE13: 80 | HF13: 120 | HG13: 120 | HH13: 40 | HI13: 30 | HJ13: 1 | HK13: 80 | HL13: 60 | HM13: 30 | HN13: 30 | HO13: 80 | HP13: 30 | HQ13: 200 | HR13: 200 | HS13: 200 | HT13: 120 | HU13: 160 | HV13: 120 | HW13: 120 | HX13: 200 | HY13: 200 | HZ13: 120 | IA13: 120 | IB13: 300 | IC13: 300 | ID13: 200 | IE13: 200 | IF13: 120 | IG13: 120 | IH13: 200 | II13: 200 | IJ13: 120 | IK13: 120 | IL13: 200 | IM13: 200 | IN13: 200 | IO13: 80 | IP13: 80 | IQ13: 60 | IR13: 60 | IS13: 60 | IT13: 60 | IU13: 60 | IV13: 120 | IW13: 120 | IX13: 60 | IY13: 60 | IZ13: 30 | JA13: 60 | JB13: 60 | JC13: 1 | JD13: 80 | JE13: 80 | JF13: 120 | JG13: 120 | JH13: 30 | JI13: 30 | JJ13: 80 | JK13: 60 | JL13: 200 | JM13: 120 | JN13: 40 | JO13: 120 | JP13: 20 | JQ13: 20 | JR13: 20 | JS13: 120 | JT13: 120 | JU13: 40 | JV13: 40 | JW13: 30 | JX13: 40 | JY13: 80 | JZ13: 80 | KA13: 30 | KB13: 80 | KC13: 40 | KD13: 20 | KE13: 20 | KF13: 20 | KG13: 80 | KH13: 40 | KI13: 20 | KJ13: 80 | KK13: 80 | KL13: 120 | KM13: 80 | KN13: 60 | KO13: 40 | KP13: 60 | KQ13: 60 | KR13: 20 | KS13: 60 | KT13: 20 | KU13: 60 | KV13: 60 | KW13: 40 | KX13: 80 | KY13: 80 | KZ13: 80 | LA13: 20 | LB13: 60 | LC13: 80 | LD13: 20 | LE13: 20 | LF13: 15 | LG13: 200 | LH13: 200 | LI13: 80 | LJ13: 120 | LL13: 1 | LM13: 30 | LN13: 120 | LO13: 80 | LP13: 80 | LQ13: 80 | LR13: 60 | LS13: 60 | LT13: 60 | LU13: 1 | LV13: 30 | LW13: 60 | LX13: 30 | LY13: 30 | LZ13: 30 | MA13: 60 | MB13: 80 | MC13: 60 | MD13: 120 | ME13: 120 | MF13: 120 | MG13: 120 | MH13: 200 | MI13: 120 | MJ13: 80 | MK13: 120 | ML13: 120 | MM13: 80 | MN13: 200 | MO13: 80 | MP13: 120 | MQ13: 30 | MR13: 60 | MS13: 60 | MT13: 80 | MU13: 80 | MV13: 80 | MW13: 60 | MX13: 1 | MY13: 80 | MZ13: 60 | NA13: 80 | NB13: 60 | NC13: 200 | ND13: 60 | NE13: 60 | NF13: 1 | NG13: 60 | NH13: 30 | NI13: 1 | NJ13: 30 | NK13: 1 | NL13: 40 | NM13: 60 | NN13: 40 | NO13: 60 | NP13: 40 | NQ13: 160 | NR13: 1 | NS13: 1 | NT13: 60 | NU13: 50 | NV13: 20 | NW13: 60 | NX13: 20 | NY13: 80 | NZ13: 60 | OB13: 20 | OC13: 1
A14: 43817 | B14: 85.8 | C14: 124.74 | D14: 0 | E14: 0.78 | F14: 3.048 | G14: 33.048 | H14: 4.06 | I14: 0 | J14: 29.58 | K14: 36 | L14: 6.42 | M14: 24.18 | N14: 36.84 | O14: 0 | P14: 0 | Q14: 0 | R14: 0 | S14: 0 | T14: 22.365 | U14: 2.62 | V14: 0.32 | W14: 0.28 | X14: 4.5 | Y14: 0.44 | Z14: 0.495 | AA14: 0 | AB14: 48.24 | AC14: 16.44 | AD14: 16.2 | AE14: 6.44 | AF14: 0 | AG14: 0 | AH14: 9.72 | AI14: 67.56 | AJ14: 25.965 | AK14: 32.295 | AL14: 10.74 | AM14: 27.12 | AN14: 10.64 | AO14: 38 | AP14: 53.8 | AQ14: 3.22 | AR14: 17.84 | AS14: 11.12 | AT14: 102.6 | AU14: 0.24 | AV14: 0 | AW14: 120 | AX14: 0 | AY14: 0 | AZ14: 0 | BA14: 0 | BB14: 0 | BC14: 0 | BD14: 0 | BE14: 0 | BF14: 0 | BG14: 0 | BH14: 68.28 | BI14: 0.434 | BJ14: 0.701 | BK14: 0.6715 | BL14: 0.074 | BM14: 0.011 | BN14: 38.73 | BO14: 0.6505 | BP14: 0.516 | BR14: 0.653 | BS14: 17.67 | BT14: 99.72 | BU14: 0.6405 | BV14: 69.8 | BW14: 63.36 | BX14: 317.8 | BY14: 0 | BZ14: 52.2 | CA14: 12.3 | CB14: 18.46 | CC14: 0 | CD14: 0 | CE14: 1.68 | CF14: 6.96 | CG14: 0 | CH14: 39.28 | CI14: 42.96 | CJ14: 17.84 | CK14: 0 | CL14: 0 | CM14: 4.053 | CN14: 134.24 | CO14: 136.24 | CP14: 70.5 | CQ14: 0 | CR14: 0 | CS14: 90.9 | CT14: 10.215 | CU14: 12.84 | CV14: 113.7 | CW14: 0 | CX14: 46.86 | CY14: 70.02 | CZ14: 54.18 | DA14: 0.65 | DB14: 0 | DC14: 0 | DD14: 21.84 | DE14: 15.4 | DF14: 0 | DG14: 15.48 | DH14: 0 | DI14: 77.52 | DJ14: 3.3 | DK14: 8.4 | DL14: 0.427 | DM14: 0 | DN14: 7.24 | DO14: 0.6095 | DP14: 0 | DQ14: 15.5655 | DR14: 127.9 | DS14: 0 | DT14: 127.9 | DU14: 0 | DV14: 21.84 | DW14: 0 | DX14: 2.55 | DY14: 0.375 | DZ14: 1.87 | EA14: 4.2 | EB14: 4.56 | EC14: 5.52 | ED14: 0 | EE14: 17.84 | EF14: 0 | EG14: 0 | EH14: 0 | EI14: 0.87 | EJ14: 1.56 | EK14: 0 | EL14: 0 | EM14: 8.88 | EN14: 29.91 | EO14: 17.28 | EP14: 16.44 | EQ14: 0 | ER14: 16.68 | ES14: 5.928 | ET14: 14.496 | EU14: 65.1 | EV14: 32.48 | EW14: 3.3 | EX14: 0 | EY14: 0.76 | EZ14: 0 | FA14: 12.88 | FB14: 158.7 | FC14: 23.82 | FD14: 15.48 | FE14: 142.14 | FF14: 34.02 | FG14: 0 | FH14: 33 | FI14: 50.7 | FJ14: 62.94 | FK14: 177.3 | FL14: 73.56 | FM14: 0.34 | FN14: 0.06 | FO14: 2.73 | FP14: 0 | FQ14: 46.7 | FR14: 24.2 | FS14: 26.205 | FT14: 5.36 | FU14: 14.97 | FV14: 12.853 | FW14: 12.72 | FX14: 48.6 | FY14: 1.38 | FZ14: 70.36 | GA14: 4.755 | GB14: 4.96 | GC14: 0.28 | GD14: 15.9 | GE14: 48.6 | GF14: 5.24 | GG14: 0.24 | GH14: 1.185 | GI14: 2.31 | GJ14: 0.68 | GK14: 4.06 | GL14: 12 | GM14: 1219.6 | GN14: 1.84 | GO14: 0.28 | GP14: 0 | GQ14: 0 | GR14: 56 | GS14: 61.2 | GT14: 1.92 | GU14: 21.42 | GV14: 0.28 | GW14: 0 | GX14: 29.55 | GY14: 0.28 | GZ14: 0 | HA14: 8.94 | HB14: 44.34 | HC14: 3.54 | HD14: 25.12 | HE14: 48.48 | HF14: 0 | HG14: 0 | HH14: 32.575 | HI14: 25.1 | HJ14: 0.966 | HK14: 3.12 | HL14: 5.2 | HM14: 3.45 | HN14: 8.92 | HO14: 11.48 | HP14: 0.06 | HQ14: 0 | HR14: 0 | HS14: 0 | HT14: 0 | HU14: 0 | HV14: 0 | HW14: 0 | HX14: 0 | HY14: 0 | HZ14: 0 | IA14: 0 | IB14: 0 | IC14: 0 | ID14: 0 | IE14: 0 | IF14: 0 | IG14: 0 | IH14: 0 | II14: 0 | IJ14: 0 | IK14: 0 | IL14: 0 | IM14: 0 | IN14: 4.9 | IO14: 0 | IP14: 0 | IQ14: 0 | IR14: 5.19 | IS14: 4.53 | IT14: 10.89 | IU14: 21.312 | IV14: 129.3 | IW14: 74.46 | IX14: 46.68 | IY14: 9.12 | IZ14: 9.09 | JA14: 0 | JB14: 38.34 | JC14: 0.0425 | JD14: 26.12 | JE14: 12.52 | JF14: 11.448 | JG14: 26.16 | JH14: 0 | JI14: 2.79 | JJ14: 29.88 | JK14: 6.06 | JL14: 61.7 | JM14: 46.44 | JN14: 13.2 | JO14: 0 | JP14: 0.4 | JQ14: 5.1 | JR14: 0.01 | JS14: 0 | JT14: 39.96 | JU14: 0.04 | JV14: 4.34 | JW14: 0.75 | JX14: 16.16 | JY14: 69.48 | JZ14: 101.96 | KA14: 9.63 | KB14: 60.96 | KC14: 29.26 | KD14: 0 | KE14: 0.02 | KF14: 3.17 | KG14: 9.8 | KH14: 5.28 | KI14: 5.8 | KJ14: 30.24 | KK14: 39.16 | KL14: 33.54 | KM14: 60.84 | KN14: 4.77 | KO14: 81.2 | KP14: 0 | KQ14: 11.97 | KR14: 0.74 | KS14: 0 | KT14: 8.5 | KU14: 4.2 | KV14: 0 | KW14: 5.06 | KX14: 0 | KY14: 31.2 | KZ14: 137.36 | LA14: 16.83 | LB14: 6.69 | LC14: 15 | LD14: 0.42 | LE14: 5.85 | LF14: 0.555 | LG14: 0 | LH14: 135 | LI14: 0 | LJ14: 16.87 | LK14: 0.95 | LL14: 0 | LM14: 0.555 | LN14: 4.2 | LO14: 25.56 | LP14: 30.68 | LQ14: 46.88 | LR14: 12.78 | LS14: 49.65 | LT14: 7.35 | LU14: 11.229 | LV14: 11.1 | LW14: 17.25 | LX14: 10.68 | LY14: 14.415 | LZ14: 7.785 | MA14: 7.11 | MB14: 0 | MC14: 0 | MD14: 51.12 | ME14: 51.12 | MF14: 0 | MG14: 0 | MH14: 20 | MI14: 0 | MJ14: 0 | MK14: 0 | ML14: 82.86 | MM14: 0.8 | MN14: 11.1 | MO14: 2.2 | MP14: 0 | MQ14: 1.92 | MR14: 0 | MS14: 18.48 | MT14: 12.8 | MU14: 0 | MV14: 5.04 | MW14: 0 | MX14: 0 | MY14: 14.56 | MZ14: 0.08 | NA14: 0 | NB14: 1.86 | NC14: 0 | ND14: 1.95 | NE14: 4.32 | NF14: 5.165 | NG14: 20.04 | NH14: 8.385 | NI14: 0.077 | NJ14: 0 | NK14: 0 | NL14: 21.1 | NM14: 2.4 | NN14: 72.1 | NO14: 54.75 | NP14: 0 | NQ14: 72.24 | NR14: 0 | NS14: 4.483 | NT14: 20.55 | NU14: 16.375 | NV14: 7.1 | NW14: 2.16 | NX14: 0 | NY14: 0 | NZ14: 0 | OA14: ='Прием от ВЭ'!BT7 -> 17874.972 | OB14: 8.14 | OC14: 0.407 | OD14: 0 | OE14: 5.31 | OF14: 5.75 | OG14: 0 | OH14: 0 | OI14: 32.1 | OJ14: 32.98 | OK14: 36 | OL14: 3.08 | OM14: 0.82 | ON14: 7.75 | OO14: 0.36 | OP14: 6.66 | OQ14: 20 | OR14: 60 | OS14: 670 | OT14: 56 | OU14: 19 | OV14: 14.76 | OW14: 20.84 | OX14: =SUM(DW14:OW14) -> 24334.013
A15: =$A$14+TIME(1,0,0) -> 43817.042 | B15: 80.6 | C15: 126.78 | D15: 0 | E15: 0.78 | F15: 3.048 | G15: 33.048 | H15: 3.84 | I15: 0 | J15: 38.4 | K15: 33.48 | L15: 5.62 | M15: 21.18 | N15: 35 | O15: 0 | P15: 0 | Q15: 0 | R15: 0 | S15: 0 | T15: 21.84 | U15: 2.68 | V15: 0.3 | W15: 0.42 | X15: 4.5 | Y15: 0.5 | Z15: 0.495 | AA15: 0 | AB15: 49.08 | AC15: 16.42 | AD15: 16.18 | AE15: 6.28 | AF15: 0 | AG15: 0 | AH15: 9.72 | AI15: 67.62 | AJ15: 23.865 | AK15: 30.405 | AL15: 14.22 | AM15: 35.26 | AN15: 9.66 | AO15: 36.16 | AP15: 53.12 | AQ15: 3.18 | AR15: 17.1 | AS15: 11.12 | AT15: 102.56 | AU15: 0.225 | AV15: 0 | AW15: 120 | AX15: 0 | AY15: 0 | AZ15: 0 | BA15: 0 | BB15: 0 | BC15: 0 | BD15: 0 | BE15: 0 | BF15: 0 | BG15: 0 | BH15: 66.36 | BI15: 0.414 | BJ15: 0.549 | BK15: 0.539 | BL15: 0.0535 | BM15: 0.0045 | BN15: 34.32 | BO15: 0.6145 | BP15: 0.518 | BR15: 0.576 | BS15: 8.94 | BT15: 79.08 | BU15: 0.6275 | BV15: 70 | BW15: 63.92 | BX15: 295.2 | BY15: 0 | BZ15: 52.2 | CA15: 10.92 | CB15: 18.66 | CC15: 0 | CD15: 0 | CE15: 1.74 | CF15: 6.88 | CG15: 0 | CH15: 38.68 | CI15: 43.26 | CJ15: 16.8 | CK15: 0 | CL15: 0 | CM15: 3.758 | CN15: 131.28 | CO15: 135.04 | CP15: 65.64 | CQ15: 0 | CR15: 0 | CS15: 85 | CT15: 8.415 | CU15: 12.44 | CV15: 104.22 | CW15: 0 | CX15: 41.88 | CY15: 64.32 | CZ15: 47.52 | DA15: 0.617 | DB15: 0 | DC15: 0 | DD15: 20.56 | DE15: 12.86 | DF15: 0 | DG15: 15.96 | DH15: 0.06 | DI15: 63 | DJ15: 3.3 | DK15: 8.25 | DL15: 0.409 | DM15: 0 | DN15: 7.24 | DO15: 0.5045 | DP15: 0 | DQ15: 11.3195 | DR15: 127.7 | DS15: 0 | DT15: 127.7 | DU15: 0 | DV15: 20.56 | DW15: 0 | DX15: 2.52 | DY15: 0.345 | DZ15: 1.78 | EA15: 5.76 | EB15: 3.72 | EC15: 5.52 | ED15: 0 | EE15: 17.76 | EF15: 0 | EG15: 0 | EH15: 0 | EI15: 0.82 | EJ15: 1.52 | EK15: 0 | EL15: 0 | EM15: 9.48 | EN15: 25.14 | EO15: 14.36 | EP15: 14.84 | EQ15: 0 | ER15: 16.74 | ES15: 5.808 | ET15: 14.256 | EU15: 67.86 | EV15: 29.32 | EW15: 3.27 | EX15: 0 | EY15: 0.78 | EZ15: 0 | FA15: 13.24 | FB15: 129.1 | FC15: 23.1 | FD15: 13.32 | FE15: 140.82 | FF15: 33.18 | FG15: 0 | FH15: 30.66 | FI15: 40.08 | FJ15: 54.3 | FK15: 165.6 | FL15: 57 | FM15: 0.33 | FN15: 0.12 | FO15: 2.295 | FP15: 0 | FQ15: 34.8 | FR15: 35.7 | FS15: 25.335 | FT15: 5.7 | FU15: 14.64 | FV15: 12.794 | FW15: 13.05 | FX15: 46.56 | FY15: 1.38 | FZ15: 67.16 | GA15: 4.665 | GB15: 5.12 | GC15: 0.42 | GD15: 15.06 | GE15: 46.56 | GF15: 5.04 | GG15: 0.84 | GH15: 1.68 | GI15: 2.31 | GJ15: 0.67 | GK15: 4.12 | GL15: 11.46 | GM15: 1153.2 | GN15: 1.68 | GO15: 0.24 | GP15: 0 | GQ15: 0 | GR15: 52.4 | GS15: 55.8 | GT15: 1.68 | GU15: 7.38 | GV15: 0.1 | GW15: 0 | GX15: 28.2 | GY15: 0.1 | GZ15: 0 | HA15: 7.62 | HB15: 42.96 | HC15: 3.33 | HD15: 23.08 | HE15: 47.36 | HF15: 0 | HG15: 0 | HH15: 30.25 | HI15: 22.9 | HJ15: 0.963 | HK15: 2.88 | HL15: 2.3 | HM15: 3.255 | HN15: 8.24 | HO15: 10 | HP15: 0.045 | HQ15: 0 | HR15: 0 | HS15: 0 | HT15: 0 | HU15: 0 | HV15: 0 | HW15: 0 | HX15: 0 | HY15: 0 | HZ15: 0 | IA15: 0 | IB15: 0 | IC15: 0 | ID15: 0 | IE15: 0 | IF15: 0 | IG15: 0 | IH15: 0 | II15: 0 | IJ15: 0 | IK15: 0 | IL15: 0 | IM15: 0 | IN15: 4.7 | IO15: 0 | IP15: 0 | IQ15: 0 | IR15: 5.07 | IS15: 4.53 | IT15: 9.09 | IU15: 20.82 | IV15: 117 | IW15: 67.56 | IX15: 45.33 | IY15: 9.3 | IZ15: 8.94 | JA15: 0 | JB15: 38.28 | JC15: 0.043 | JD15: 23.48 | JE15: 12.04 | JF15: 10.272 | JG15: 24.312 | JH15: 0 | JI15: 2.76 | JJ15: 26.4 | JK15: 6.03 | JL15: 93.7 | JM15: 46.14 | JN15: 12.6 | JO15: 0 | JP15: 0.425 | JQ15: 5.07 | JR15: 0.02 | JS15: 0 | JT15: 37.98 | JU15: 0.04 | JV15: 3.98 | JW15: 0.78 | JX15: 15.26 | JY15: 57.32 | JZ15: 115.68 | KA15: 10.425 | KB15: 53.56 | KC15: 27.28 | KD15: 0 | KE15: 0.02 | KF15: 3.13 | KG15: 9.84 | KH15: 6.46 | KI15: 5.77 | KJ15: 29.72 | KK15: 39.44 | KL15: 28.74 | KM15: 59.28 | KN15: 4.68 | KO15: 77.64 | KP15: 0 | KQ15: 16.08 | KR15: 0.72 | KS15: 0 | KT15: 6.86 | KU15: 4.2 | KV15: 0 | KW15: 5.06 | KX15: 0 | KY15: 26.8 | KZ15: 136.04 | LA15: 16.04 | LB15: 7.38 | LC15: 14.24 | LD15: 0.46 | LE15: 6.11 | LF15: 0.6225 | LG15: 0 | LH15: 140 | LI15: 0 | LJ15: 21.3 | LK15: 0.94 | LL15: 0 | LM15: 0.6225 | LN15: 1.56 | LO15: 23.48 | LP15: 27.04 | LQ15: 41.28 | LR15: 11.88 | LS15: 44.4 | LT15: 7.05 | LU15: 11.558 | LV15: 10.41 | LW15: 16.77 | LX15: 10.545 | LY15: 14.04 | LZ15: 6.795 | MA15: 6.63 | MB15: 0 | MC15: 0 | MD15: 38.16 | ME15: 38.16 | MF15: 0 | MG15: 0 | MH15: 15.1 | MI15: 0 | MJ15: 0 | MK15: 0 | ML15: 84.12 | MM15: 0.72 | MN15: 11.1 | MO15: 1.96 | MP15: 0 | MQ15: 1.92 | MR15: 0 | MS15: 18.45 | MT15: 12.92 | MU15: 0 | MV15: 5.12 | MW15: 0 | MX15: 0 | MY15: 15.08 | MZ15: 0.04 | NA15: 0 | NB15: 1.2 | NC15: 0 | ND15: 1.95 | NE15: 4.35 | NF15: 5.074 | NG15: 20.91 | NH15: 7.38 | NI15: 0.209 | NJ15: 0 | NK15: 0 | NL15: 21.38 | NM15: 2.4 | NN15: 59.62 | NO15: 49.05 | NP15: 0 | NQ15: 63.36 | NR15: 0 | NS15: 3.146 | NT15: 18.84 | NU15: 12.6 | NV15: 5.32 | NW15: 1.95 | NX15: 0 | NY15: 0 | NZ15: 0 | OA15: ='Прием от ВЭ'!BT8 -> 16903.287 | OB15: 7.14 | OC15: 0.357 | OD15: 0 | OE15: 5.24 | OF15: 5.85 | OG15: 0 | OH15: 0 | OI15: 27.1 | OJ15: 33.64 | OK15: 36 | OL15: 2.84 | OM15: 0.76 | ON15: 7.67 | OO15: 0.36 | OP15: 6.3 | OQ15: 0 | OR15: 70 | OS15: 670 | OT15: 56 | OU15: 18 | OV15: 11.84 | OW15: 19.52 | OX15: =SUM(DW15:OW15) -> 23027.114
