Workbook

Sheet Содержание книги
B2: № листа | C2: Центр питания | D2: Электросетевой участок
B3: 1-7 | C3: ПС Абаканово | D3: ЭСУ "Череповец"
B4: 8 | C4: ПС Аксеново
B5: 9-11 | C5: ПС Батран
B6: 12-18 | C6: ПС Домозерово
B7: 19-24 | C7: ПС Енюково
B8: 25-32 | C8: ПС Загородная
B9: 33-36 | C9: ПС Ирдоматка
B10: 37-38 | C10: ПС Искра
B11: 39-41 | C11: ПС Климовская
B12: 42-54 | C12: ПС Малечкино
B13: 55-65 | C13: ПС Нелазское
B14: 66-70 | C14: ПС Новые углы
B15: 71-74 | C15: ПС Петринево
... B22: 98-110 | C22: МУП "Электросеть"
B23: 111-119 | D23: ЭСУ "Бабаево"
B24: 120-121 | C24: ПС Великое | D24: ЭСУ "Кадуй"
B25: 122 | C25: ПС Вешняки
B26: 123-130 | C26: ПС Кадуй
B27: 131-137 | C27: ПС Коротово
B28: 138-139 | C28: ПС Никольское
B29: 140-141 | C29: ПС Поселковая
B30: 142 | C30: ПС Суда
B31: 143-145 | C31: ПС Ягница
B32: 146-154 | C32: КВЛ-10 кВ
B33: 155-167 | D33: ЭСУ "Чагода"
B34: 168 | C34: ПС Газ | D34: ЭСУ "Шексна"
B35: 169 | C35: ПС Нестерово
B36: 170-171 | C36: ПС Нифантово
B37: 172 | C37: ПС Поток
B38: 173 | C38: РП-Ершово
B39: 174-179 | C39: РП-Пача
B40: 180-181 | C40: ПС Чаромское
B41: 182-189 | C41: ПС Чебсара
B42: 190-196 | C42: ПС Чуровское
B43: 197-199 | C43: ПС Шексна
B44: 200-208 | C44: КВЛ-10 кВ

Sheet 1
B1: АО "Вологдаоблэнерго" | J1: код 900151 | M1: ПС Абакаеово ф, Осеевская
B2: наименование предприятия | M2: наименование источника питания
M3: ТП-Лесопильных цех (д,Заручьевье)
B4: ул, Горького, 99 | I4: Таблица № 1
B5: адрес
A6: почасовых записей показаний электрических счетчиков
A7: в режимный день 18 ИЮНЯ 2025г.
A8: 1630 | B8: 1628
A9: часы суток | B9: Активная энергия | J9: Реактивная энергия
B10: =M3 -> ТП-Лесопильных цех (д,Заручьевье) | F10: =M4 -> 0 | J10: =B10 -> ТП-Лесопильных цех (д,Заручьевье) | M10: =F10 -> 0
B11: Расчет, Коэф, | E11: 30 | F11: Расчет, Коэф, | I11: 120 | J11: Расчет, Коэф, | L11: =E11 -> 30 | M11: Расчет, Коэф, | O11: =I11 -> 120
B12: показания счетчика | C12: разность | E12: расход эл,энергии за час | F12: показания счетчика | G12: разность | I12: расход эл,энергии за час | J12: показания счетчика | K12: разность | L12: расход эл,энергии за час | M12: показания счетчика | N12: разность | O12: расход эл,энергии за час
A13: 1 | B13: 2 | C13: 3 | E13: 4 | F13: 5 | G13: 6 | I13: 7 | J13: 8 | K13: 9 | L13: 10 | M13: 11 | N13: 12 | O13: 13
A14: 0 | E14: 0.34373225 | I14: 0
A15: 1 | E15: 0.12105976 | I15: 0
A16: 2 | E16: 0.11710659 | I16: 0
A17: 3 | E17: 0.10782889 | I17: 0
A18: 4 | E18: 0.0917367 | I18: 0
A19: 5 | E19: 0.093903158 | I19: 0
A20: 6 | E20: 0.26710312 | I20: 0
A21: 7 | E21: 0.71774611 | I21: 0
A22: 8 | E22: 6.7655747 | I22: 0
A23: 9 | E23: 7.2890809 | I23: 0
A24: 10 | E24: 7.6239497 | I24: 0
A25: 11 | E25: 9.2690302 | I25: 0
... A37: 23 | E37: 0.41987417 | I37: 0
A38: 24
A39: Итого | E39: =SUM(E15:E38) -> 67.561036 | I39: =SUM(I15:I38) -> 0 | L39: =SUM(L15:L38) -> 0 | O39: =SUM(O15:O38) -> 0
A40: 1, При наличии на предприятии отклонений от нормальных режимов электропотребления (временное изменение схем питания, остановка на ремонт, резкое снижение
A41: эл,потребления и т,д,) последние необходимо перечислить,
A42: Главный инженер АО "Вологдаоблэнерго" А.В. Чурляев
A43: составляется самим предприятием с соблюдением всех пунктов настоящей таблицы,

Sheet 2
B1: АО "Вологдаоблэнерго" | J1: код 900151 | M1: ПС Абаканово, ф, Алексино
B2: наименование предприятия | M2: наименование источника питания
M3: ТП-Поселок (3,4 этажные дома)
B4: ул, Горького, 99 | I4: Таблица № 1 | M4: ТП-211
B5: адрес
A6: почасовых записей показаний электрических счетчиков
A7: в режимный день 18 ИЮНЯ 2025г.
A8: 1630 | B8: 1628
A9: часы суток | B9: Активная энергия | J9: Реактивная энергия
B10: =M3 -> ТП-Поселок (3,4 этажные дома) | F10: =M4 -> ТП-211 | J10: =B10 -> ТП-Поселок (3,4 этажные дома) | M10: =F10 -> ТП-211
B11: Расчет, Коэф, | E11: 50 | F11: Расчет, Коэф, | I11: 80 | J11: Расчет, Коэф, | L11: =E11 -> 50 | M11: Расчет, Коэф, | O11: =I11 -> 80
B12: показания счетчика | C12: разность | E12: расход эл,энергии за час | F12: показания счетчика | G12: разность | I12: расход эл,энергии за час | J12: показания счетчика | K12: разность | L12: расход эл,энергии за час | M12: показания счетчика | N12: разность | O12: расход эл,энергии за час
A13: 1 | B13: 2 | C13: 3 | E13: 4 | F13: 5 | G13: 6 | I13: 7 | J13: 8 | K13: 9 | L13: 10 | M13: 11 | N13: 12 | O13: 13
A14: 0 | E14: 35.598018 | I14: 0.87118345
A15: 1 | E15: 25.267345 | I15: 1.0140048
A16: 2 | E16: 26.366726 | I16: 0.69554215
A17: 3 | E17: 23.460951 | I17: 0.88060256
A18: 4 | E18: 22.78128 | I18: 0.74918305
A19: 5 | E19: 24.070509 | I19: 0.485688
A20: 6 | E20: 24.615386 | I20: 1.9901801
A21: 7 | E21: 23.92487 | I21: 11.786147
A22: 8 | E22: 30.377879 | I22: 13.142838
A23: 9 | E23: 35.451574 | I23: 15.569026
A24: 10 | E24: 48.171807 | I24: 23.172435
A25: 11 | E25: 47.029064 | I25: 11.68284
... A37: 23 | E37: 39.442725 | I37: 0.65493687
A38: 24
A39: Итого | E39: =SUM(E15:E38) -> 868.95671 | I39: =SUM(I15:I38) -> 128.93067 | L39: =SUM(L15:L38) -> 0 | O39: =SUM(O15:O38) -> 0
A40: 1, При наличии на предприятии отклонений от нормальных режимов электропотребления (временное изменение схем питания, остановка на ремонт, резкое снижение
A41: эл,потребления и т,д,) последние необходимо перечислить,
A42: Главный инженер АО "Вологдаоблэнерго" А.В. Чурляев
A43: составляется самим предприятием с соблюдением всех пунктов настоящей таблицы,

Sheet 3
B1: АО "Вологдаоблэнерго" | J1: код 900151 | M1: ПС Абаканово, ф, Алексино
B2: наименование предприятия | M2: наименование источника питания
M3: КТП "Мастерские" с, Абаканово
B4: ул, Горького, 99 | I4: Таблица № 1 | M4: ТП-242
B5: адрес
A6: почасовых записей показаний электрических счетчиков
A7: в режимный день 18 ИЮНЯ 2025г.
A8: 1630 | B8: 1628
A9: часы суток | B9: Активная энергия | J9: Реактивная энергия
B10: =M3 -> КТП "Мастерские" с, Абаканово | F10: =M4 -> ТП-242 | J10: =B10 -> КТП "Мастерские" с, Абаканово | M10: =F10 -> ТП-242
B11: Расчет, Коэф, | E11: 40 | F11: Расчет, Коэф, | I11: 30 | J11: Расчет, Коэф, | L11: =E11 -> 40 | M11: Расчет, Коэф, | O11: =I11 -> 30
B12: показания счетчика | C12: разность | E12: расход эл,энергии за час | F12: показания счетчика | G12: разность | I12: расход эл,энергии за час | J12: показания счетчика | K12: разность | L12: расход эл,энергии за час | M12: показания счетчика | N12: разность | O12: расход эл,энергии за час
A13: 1 | B13: 2 | C13: 3 | E13: 4 | F13: 5 | G13: 6 | I13: 7 | J13: 8 | K13: 9 | L13: 10 | M13: 11 | N13: 12 | O13: 13
A14: 0 | E14: 0 | I14: 1.1494782
A15: 1 | E15: 0 | I15: 0.71297214
A16: 2 | E16: 0 | I16: 0.74988138
A17: 3 | E17: 0 | I17: 0.63043138
A18: 4 | E18: 0 | I18: 0.66489995
A19: 5 | E19: 0 | I19: 0.66143037
A20: 6 | E20: 0 | I20: 0.74631755
A21: 7 | E21: 0 | I21: 0.52886556
A22: 8 | E22: 0 | I22: 0.51077849
A23: 9 | E23: 0 | I23: 0.64079832
A24: 10 | E24: 0 | I24: 1.0891357
A25: 11 | E25: 0 | I25: 1.8707027
... A37: 23 | E37: 0 | I37: 1.3130225
A38: 24
A39: Итого | E39: =SUM(E15:E38) -> 0 | I39: =SUM(I15:I38) -> 25.185101 | L39: =SUM(L15:L38) -> 0 | O39: =SUM(O15:O38) -> 0
A40: 1, При наличии на предприятии отклонений от нормальных режимов электропотребления (временное изменение схем питания, остановка на ремонт, резкое снижение
A41: эл,потребления и т,д,) последние необходимо перечислить,
A42: Главный инженер АО "Вологдаоблэнерго" А.В. Чурляев
A43: составляется самим предприятием с соблюдением всех пунктов настоящей таблицы,

Sheet 4
B1: АО "Вологдаоблэнерго" | J1: код 900151 | M1: ПС Абаканово, ф, Слабеево
B2: наименование предприятия | M2: наименование источника питания
M3: ТП-249
B4: ул, Горького, 99 | I4: Таблица № 1
B5: адрес
A6: почасовых записей показаний электрических счетчиков
A7: в режимный день 18 ИЮНЯ 2025г.
A8: 1630 | B8: 1628
A9: часы суток | B9: Активная энергия | J9: Реактивная энергия
B10: =M3 -> ТП-249 | F10: =M4 -> 0 | J10: =B10 -> ТП-249 | M10: =F10 -> 0
B11: Расчет, Коэф, | E11: 1 | F11: Расчет, Коэф, | I11: 120 | J11: Расчет, Коэф, | L11: =E11 -> 1 | M11: Расчет, Коэф, | O11: =I11 -> 120
B12: показания счетчика | C12: разность | E12: расход эл,энергии за час | F12: показания счетчика | G12: разность | I12: расход эл,энергии за час | J12: показания счетчика | K12: разность | L12: расход эл,энергии за час | M12: показания счетчика | N12: разность | O12: расход эл,энергии за час
A13: 1 | B13: 2 | C13: 3 | E13: 4 | F13: 5 | G13: 6 | I13: 7 | J13: 8 | K13: 9 | L13: 10 | M13: 11 | N13: 12 | O13: 13
A14: 0 | E14: 0 | I14: 0
A15: 1 | E15: 0 | I15: 0
A16: 2 | E16: 0 | I16: 0
A17: 3 | E17: 0 | I17: 0
A18: 4 | E18: 0 | I18: 0
A19: 5 | E19: 0 | I19: 0
A20: 6 | E20: 0 | I20: 0
A21: 7 | E21: 0 | I21: 0
A22: 8 | E22: 0 | I22: 0
A23: 9 | E23: 0 | I23: 0
A24: 10 | E24: 0 | I24: 0
A25: 11 | E25: 0 | I25: 0
... A37: 23 | E37: 0 | I37: 0
A38: 24
A39: Итого | E39: =SUM(E15:E38) -> 0 | I39: =SUM(I15:I38) -> 0 | L39: =SUM(L15:L38) -> 0 | O39: =SUM(O15:O38) -> 0
A40: 1, При наличии на предприятии отклонений от нормальных режимов электропотребления (временное изменение схем питания, остановка на ремонт, резкое снижение
A41: эл,потребления и т,д,) последние необходимо перечислить,
A42: Главный инженер АО "Вологдаоблэнерго" А.В. Чурляев
A43: составляется самим предприятием с соблюдением всех пунктов настоящей таблицы,

Sheet 5
B1: АО "Вологдаоблэнерго" | J1: код 900151 | M1: ПС Абаканово ф, Покров
B2: наименование предприятия | M2: наименование источника питания
M3: КТП Шухтовское Лесничество
B4: ул, Горького, 99 | I4: Таблица № 1
B5: адрес
A6: почасовых записей показаний электрических счетчиков
A7: в режимный день 18 ИЮНЯ 2025г.
A8: 1630 | B8: 1628
A9: часы суток | B9: Активная энергия | J9: Реактивная энергия
B10: =M3 -> КТП Шухтовское Лесничество | F10: =M4 -> 0 | J10: =B10 -> КТП Шухтовское Лесничество | M10: =F10 -> 0
B11: Расчет, Коэф, | E11: 30 | F11: Расчет, Коэф, | I11: 120 | J11: Расчет, Коэф, | L11: =E11 -> 30 | M11: Расчет, Коэф, | O11: =I11 -> 120
B12: показания счетчика | C12: разность | E12: расход эл,энергии за час | F12: показания счетчика | G12: разность | I12: расход эл,энергии за час | J12: показания счетчика | K12: разность | L12: расход эл,энергии за час | M12: показания счетчика | N12: разность | O12: расход эл,энергии за час
A13: 1 | B13: 2 | C13: 3 | E13: 4 | F13: 5 | G13: 6 | I13: 7 | J13: 8 | K13: 9 | L13: 10 | M13: 11 | N13: 12 | O13: 13
A14: 0 | E14: 6.795626 | I14: 0
A15: 1 | E15: 5.537708 | I15: 0
A16: 2 | E16: 5.848232 | I16: 0
A17: 3 | E17: 6.1952596 | I17: 0
A18: 4 | E18: 5.4308126 | I18: 0
A19: 5 | E19: 5.233536 | I19: 0
A20: 6 | E20: 4.4202948 | I20: 0
A21: 7 | E21: 4.6540169 | I21: 0
A22: 8 | E22: 8.913234 | I22: 0
A23: 9 | E23: 11.558103 | I23: 0
A24: 10 | E24: 15.927145 | I24: 0
A25: 11 | E25: 16.928854 | I25: 0
... A37: 23 | E37: 6.285389 | I37: 0
A38: 24
A39: Итого | E39: =SUM(E15:E38) -> 188.17072 | I39: =SUM(I15:I38) -> 0 | L39: =SUM(L15:L38) -> 0 | O39: =SUM(O15:O38) -> 0
A40: 1, При наличии на предприятии отклонений от нормальных режимов электропотребления (временное изменение схем питания, остановка на ремонт, резкое снижение
A41: эл,потребления и т,д,) последние необходимо перечислить,
A42: Главный инженер АО "Вологдаоблэнерго" А.В. Чурляев
A43: составляется самим предприятием с соблюдением всех пунктов настоящей таблицы,

Sheet 6
B1: АО "Вологдаоблэнерго" | J1: код 900151 | M1: ПС Абаканово, ф, Маслово
B2: наименование предприятия | M2: наименование источника питания
M3: ЦРП-Маслово
B4: ул, Горького, 99 | I4: Таблица № 1
B5: адрес
A6: почасовых записей показаний электрических счетчиков
A7: в режимный день 18 ИЮНЯ 2025г.
A8: 1630 | B8: 1628
A9: часы суток | B9: Активная энергия | J9: Реактивная энергия
B10: =M3 -> ЦРП-Маслово | F10: =M4 -> 0 | J10: =B10 -> ЦРП-Маслово | M10: =F10 -> 0
B11: Расчет, Коэф, | E11: 80 | F11: Расчет, Коэф, | I11: 120 | J11: Расчет, Коэф, | L11: =E11 -> 80 | M11: Расчет, Коэф, | O11: =I11 -> 120
B12: показания счетчика | C12: разность | E12: расход эл,энергии за час | F12: показания счетчика | G12: разность | I12: расход эл,энергии за час | J12: показания счетчика | K12: разность | L12: расход эл,энергии за час | M12: показания счетчика | N12: разность | O12: расход эл,энергии за час
A13: 1 | B13: 2 | C13: 3 | E13: 4 | F13: 5 | G13: 6 | I13: 7 | J13: 8 | K13: 9 | L13: 10 | M13: 11 | N13: 12 | O13: 13
A14: 0 | E14: 7.6174227 | I14: 0
A15: 1 | E15: 5.0907181 | I15: 0
A16: 2 | E16: 5.3088319 | I16: 0
A17: 3 | E17: 5.8815756 | I17: 0
A18: 4 | E18: 5.6509807 | I18: 0
A19: 5 | E19: 5.0582501 | I19: 0
A20: 6 | E20: 4.27365 | I20: 0
A21: 7 | E21: 4.0898936 | I21: 0
A22: 8 | E22: 4.7792139 | I22: 0
A23: 9 | E23: 3.3938578 | I23: 0
A24: 10 | E24: 4.4346169 | I24: 0
A25: 11 | E25: 4.8276199 | I25: 0
... A37: 23 | E37: 5.7255568 | I37: 0
A38: 24
A39: Итого | E39: =SUM(E15:E38) -> 118.46632 | I39: =SUM(I15:I38) -> 0 | L39: =SUM(L15:L38) -> 0 | O39: =SUM(O15:O38) -> 0
A40: 1, При наличии на предприятии отклонений от нормальных режимов электропотребления (временное изменение схем питания, остановка на ремонт, резкое снижение
A41: эл,потребления и т,д,) последние необходимо перечислить,
A42: Главный инженер АО "Вологдаоблэнерго" А.В. Чурляев
A43: составляется самим предприятием с соблюдением всех пунктов настоящей таблицы,

Sheet 7
B1: АО "Вологдаоблэнерго" | J1: код 900151 | M1: ПС Абаканово, ф,Шухободь
B2: наименование предприятия | M2: наименование источника питания
M3: ТП-227
B4: ул, Горького, 99 | I4: Таблица № 1
B5: адрес
A6: почасовых записей показаний электрических счетчиков
A7: в режимный день 18 ИЮНЯ 2025г.
A8: 1630 | B8: 1628
A9: часы суток | B9: Активная энергия | J9: Реактивная энергия
B10: =M3 -> ТП-227 | F10: =M4 | J10: =B10 -> ТП-227 | M10: =F10
B11: Расчет, Коэф, | E11: 60 | F11: Расчет, Коэф, | I11: 120 | J11: Расчет, Коэф, | L11: =E11 -> 60 | M11: Расчет, Коэф, | O11: =I11 -> 120
B12: показания счетчика | C12: разность | E12: расход эл,энергии за час | F12: показания счетчика | G12: разность | I12: расход эл,энергии за час | J12: показания счетчика | K12: разность | L12: расход эл,энергии за час | M12: показания счетчика | N12: разность | O12: расход эл,энергии за час
A13: 1 | B13: 2 | C13: 3 | E13: 4 | F13: 5 | G13: 6 | I13: 7 | J13: 8 | K13: 9 | L13: 10 | M13: 11 | N13: 12 | O13: 13
A14: 0 | E14: 3.8047604 | I14: 0
A15: 1 | E15: 2.1977002 | I15: 0
A16: 2 | E16: 2.3634238 | I16: 0
A17: 3 | E17: 2.1173672 | I17: 0
A18: 4 | E18: 2.0273811 | I18: 0
A19: 5 | E19: 2.0752598 | I19: 0
A20: 6 | E20: 1.7361703 | I20: 0
A21: 7 | E21: 1.5488206 | I21: 0
A22: 8 | E22: 0.9946739 | I22: 0
A23: 9 | E23: 0.72979808 | I23: 0
A24: 10 | E24: 3.0214732 | I24: 0
A25: 11 | E25: 3.0172624 | I25: 0
... A37: 23 | E37: 4.6567862 | I37: 0
A38: 24
A39: Итого | E39: =SUM(E15:E38) -> 62.095112 | I39: =SUM(I15:I38) -> 0 | L39: =SUM(L15:L38) -> 0 | O39: =SUM(O15:O38) -> 0
A40: 1, При наличии на предприятии отклонений от нормальных режимов электропотребления (временное изменение схем питания, остановка на ремонт, резкое снижение
A41: эл,потребления и т,д,) последние необходимо перечислить,
A42: Главный инженер АО "Вологдаоблэнерго" А.В. Чурляев
A43: составляется самим предприятием с соблюдением всех пунктов настоящей таблицы,

Sheet 8
B1: АО "Вологдаоблэнерго" | J1: код 900151 | M1: ПС Аксеново ф, Шалимово
B2: наименование предприятия | M2: наименование источника питания
M3: ТП-23 В-1
B4: ул, Горького, 99 | I4: Таблица № 1 | M4: КТП-Очистные
B5: адрес
A6: почасовых записей показаний электрических счетчиков
A7: в режимный день 18 ИЮНЯ 2025г.
A8: 1630 | B8: 1628
A9: часы суток | B9: Активная энергия | J9: Реактивная энергия
B10: =M3 -> ТП-23 В-1 | F10: =M4 -> КТП-Очистные | J10: =B10 -> ТП-23 В-1 | M10: =F10 -> КТП-Очистные
B11: Расчет, Коэф, | E11: 120 | F11: Расчет, Коэф, | I11: 20 | J11: Расчет, Коэф, | L11: =E11 -> 120 | M11: Расчет, Коэф, | O11: =I11 -> 20
B12: показания счетчика | C12: разность | E12: расход эл,энергии за час | F12: показания счетчика | G12: разность | I12: расход эл,энергии за час | J12: показания счетчика | K12: разность | L12: расход эл,энергии за час | M12: показания счетчика | N12: разность | O12: расход эл,энергии за час
A13: 1 | B13: 2 | C13: 3 | E13: 4 | F13: 5 | G13: 6 | I13: 7 | J13: 8 | K13: 9 | L13: 10 | M13: 11 | N13: 12 | O13: 13
A14: 0 | E14: 6.5849089 | I14: 6.8404034
A15: 1 | E15: 9.6102824 | I15: 3.9343387
A16: 2 | E16: 12.008748 | I16: 4.6427439
A17: 3 | E17: 9.4889419 | I17: 4.1148156
A18: 4 | E18: 7.8526615 | I18: 3.9157301
A19: 5 | E19: 7.8878653 | I19: 4.2433794
A20: 6 | E20: 6.5990183 | I20: 3.6074634
A21: 7 | E21: 7.7969893 | I21: 3.3323567
A22: 8 | E22: 12.688813 | I22: 3.9571891
A23: 9 | E23: 12.459967 | I23: 3.6739104
A24: 10 | E24: 14.334431 | I24: 5.0217352
A25: 11 | E25: 17.862194 | I25: 5.0979666
... A37: 23 | E37: 14.12304 | I37: 5.2394949
A38: 24
A39: Итого | E39: =SUM(E15:E38) -> 289.94478 | I39: =SUM(I15:I38) -> 111.60094 | L39: =SUM(L15:L38) -> 0 | O39: =SUM(O15:O38) -> 0
A40: 1, При наличии на предприятии отклонений от нормальных режимов электропотребления (временное изменение схем питания, остановка на ремонт, резкое снижение
A41: эл,потребления и т,д,) последние необходимо перечислить,
A42: Главный инженер АО "Вологдаоблэнерго" А.В. Чурляев
A43: составляется самим предприятием с соблюдением всех пунктов настоящей таблицы,

Sheet 9
B1: АО "Вологдаоблэнерго" | J1: код 900151 | M1: ПС Батран, ф, Гоша
B2: наименование предприятия | M2: наименование источника питания
M3: ТП-72
B4: ул, Горького, 99 | I4: Таблица № 1 | M4: МТП Гоша-2
B5: адрес
A6: почасовых записей показаний электрических счетчиков
A7: в режимный день 18 ИЮНЯ 2025г.
A8: 1630 | B8: 1628
A9: часы суток | B9: Активная энергия | J9: Реактивная энергия
B10: =M3 -> ТП-72 | F10: =M4 -> МТП Гоша-2 | J10: =B10 -> ТП-72 | M10: =F10 -> МТП Гоша-2
B11: Расчет, Коэф, | E11: 50 | F11: Расчет, Коэф, | I11: 20 | J11: Расчет, Коэф, | L11: =E11 -> 50 | M11: Расчет, Коэф, | O11: =I11 -> 20
B12: показания счетчика | C12: разность | E12: расход эл,энергии за час | F12: показания счетчика | G12: разность | I12: расход эл,энергии за час | J12: показания счетчика | K12: разность | L12: расход эл,энергии за час | M12: показания счетчика | N12: разность | O12: расход эл,энергии за час
A13: 1 | B13: 2 | C13: 3 | E13: 4 | F13: 5 | G13: 6 | I13: 7 | J13: 8 | K13: 9 | L13: 10 | M13: 11 | N13: 12 | O13: 13
A14: 0 | E14: 4.8991722 | I14: 0
A15: 1 | E15: 1.6296506 | I15: 0
A16: 2 | E16: 3.3712502 | I16: 0
A17: 3 | E17: 3.381906 | I17: 0
A18: 4 | E18: 2.9814427 | I18: 0
A19: 5 | E19: 1.78416 | I19: 0
A20: 6 | E20: 1.4140754 | I20: 0
A21: 7 | E21: 1.6369648 | I21: 0
A22: 8 | E22: 2.061036 | I22: 0
A23: 9 | E23: 2.6403264 | I23: 0
A24: 10 | E24: 4.0013049 | I24: 0
A25: 11 | E25: 4.0029015 | I25: 0
... A37: 23 | E37: 4.0237941 | I37: 0
A38: 24
A39: Итого | E39: =SUM(E15:E38) -> 66.463058 | I39: =SUM(I15:I38) -> 0 | L39: =SUM(L15:L38) -> 0 | O39: =SUM(O15:O38) -> 0
A40: 1, При наличии на предприятии отклонений от нормальных режимов электропотребления (временное изменение схем питания, остановка на ремонт, резкое снижение
A41: эл,потребления и т,д,) последние необходимо перечислить,
A42: Главный инженер АО "Вологдаоблэнерго" А.В. Чурляев
A43: составляется самим предприятием с соблюдением всех пунктов настоящей таблицы,

Sheet 10
B1: АО "Вологдаоблэнерго" | J1: код 900151 | M1: ПС Батран, ф,Льнозавод
B2: наименование предприятия | M2: наименование источника питания
M3: КТП-Льнозавод
B4: ул, Горького, 99 | I4: Таблица № 1 | M4: КТП-Детский сад
B5: адрес
A6: почасовых записей показаний электрических счетчиков
A7: в режимный день 18 ИЮНЯ 2025г.
A8: 1630 | B8: 1628
A9: часы суток | B9: Активная энергия | J9: Реактивная энергия
B10: =M3 -> КТП-Льнозавод | F10: =M4 -> КТП-Детский сад | J10: =B10 -> КТП-Льнозавод | M10: =F10 -> КТП-Детский сад
B11: Расчет, Коэф, | E11: 120 | F11: Расчет, Коэф, | I11: 40 | J11: Расчет, Коэф, | L11: =E11 -> 120 | M11: Расчет, Коэф, | O11: =I11 -> 40
B12: показания счетчика | C12: разность | E12: расход эл,энергии за час | F12: показания счетчика | G12: разность | I12: расход эл,энергии за час | J12: показания счетчика | K12: разность | L12: расход эл,энергии за час | M12: показания счетчика | N12: разность | O12: расход эл,энергии за час
A13: 1 | B13: 2 | C13: 3 | E13: 4 | F13: 5 | G13: 6 | I13: 7 | J13: 8 | K13: 9 | L13: 10 | M13: 11 | N13: 12 | O13: 13
A14: 0 | E14: 0 | I14: 7.7599859
A15: 1 | E15: 0 | I15: 3.9039186
A16: 2 | E16: 0 | I16: 4.9267569
A17: 3 | E17: 0 | I17: 4.6164922
A18: 4 | E18: 0 | I18: 3.5086739
A19: 5 | E19: 0 | I19: 3.4509411
A20: 6 | E20: 0 | I20: 2.7548283
A21: 7 | E21: 0 | I21: 3.3948132
A22: 8 | E22: 0 | I22: 6.165186
A23: 9 | E23: 0 | I23: 5.8858512
A24: 10 | E24: 0 | I24: 7.7137351
A25: 11 | E25: 0 | I25: 8.4644269
... A37: 23 | E37: 0 | I37: 8.3252552
A38: 24
A39: Итого | E39: =SUM(E15:E38) -> 0 | I39: =SUM(I15:I38) -> 152.9008 | L39: =SUM(L15:L38) -> 0 | O39: =SUM(O15:O38) -> 0
A40: 1, При наличии на предприятии отклонений от нормальных режимов электропотребления (временное изменение схем питания, остановка на ремонт, резкое снижение
A41: эл,потребления и т,д,) последние необходимо перечислить,
A42: Главный инженер АО "Вологдаоблэнерго" А.В. Чурляев
A43: составляется самим предприятием с соблюдением всех пунктов настоящей таблицы,

Sheet 11
B1: АО "Вологдаоблэнерго" | J1: код 900151 | M1: ПС Батран, ф,Гоша
B2: наименование предприятия | M2: наименование источника питания
M3: КТП-ДНТ Ульяновский
B4: ул, Горького, 99 | I4: Таблица № 1
B5: адрес
A6: почасовых записей показаний электрических счетчиков
A7: в режимный день 18 ИЮНЯ 2025г.
A8: 1630 | B8: 1628
A9: часы суток | B9: Активная энергия | J9: Реактивная энергия
B10: =M3 -> КТП-ДНТ Ульяновский | F10: =M4 -> 0 | J10: =B10 -> КТП-ДНТ Ульяновский | M10: =F10 -> 0
B11: Расчет, Коэф, | E11: 60 | F11: Расчет, Коэф, | I11: 120 | J11: Расчет, Коэф, | L11: =E11 -> 60 | M11: Расчет, Коэф, | O11: =I11 -> 120
B12: показания счетчика | C12: разность | E12: расход эл,энергии за час | F12: показания счетчика | G12: разность | I12: расход эл,энергии за час | J12: показания счетчика | K12: разность | L12: расход эл,энергии за час | M12: показания счетчика | N12: разность | O12: расход эл,энергии за час
A13: 1 | B13: 2 | C13: 3 | E13: 4 | F13: 5 | G13: 6 | I13: 7 | J13: 8 | K13: 9 | L13: 10 | M13: 11 | N13: 12 | O13: 13
A14: 0 | E14: 0.86229382 | I14: 0
A15: 1 | E15: 0.63983187 | I15: 0
A16: 2 | E16: 0.77450038 | I16: 0
A17: 3 | E17: 0.67352209 | I17: 0
A18: 4 | E18: 0.61176912 | I18: 0
A19: 5 | E19: 0.64519295 | I19: 0
A20: 6 | E20: 0.46654867 | I20: 0
A21: 7 | E21: 0.73285656 | I21: 0
A22: 8 | E22: 1.2949597 | I22: 0
A23: 9 | E23: 1.374229 | I23: 0
A24: 10 | E24: 2.0169445 | I24: 0
A25: 11 | E25: 1.8157762 | I25: 0
... A37: 23 | E37: 0.69188631 | I37: 0
A38: 24
A39: Итого | E39: =SUM(E15:E38) -> 27.473308 | I39: =SUM(I15:I38) -> 0 | L39: =SUM(L15:L38) -> 0 | O39: =SUM(O15:O38) -> 0
A40: 1, При наличии на предприятии отклонений от нормальных режимов электропотребления (временное изменение схем питания, остановка на ремонт, резкое снижение
A41: эл,потребления и т,д,) последние необходимо перечислить,
A42: Главный инженер АО "Вологдаоблэнерго" А.В. Чурляев
A43: составляется самим предприятием с соблюдением всех пунктов настоящей таблицы,

Sheet 12
B1: АО "Вологдаоблэнерго" | J1: код 900151 | M1: ПС Домозерово, ф,Дом-2
B2: наименование предприятия | M2: наименование источника питания
M3: ТП-Водозабор (встроен) В-1
B4: ул, Горького, 99 | I4: Таблица № 1 | M4: ТП-Водозабор (встроен) В-2
B5: адрес
A6: почасовых записей показаний электрических счетчиков
A7: в режимный день 18 ИЮНЯ 2025г.
A8: 1630 | B8: 1628
A9: часы суток | B9: Активная энергия | J9: Реактивная энергия
B10: =M3 -> ТП-Водозабор (встроен) В-1 | F10: =M4 -> ТП-Водозабор (встроен) В-2 | J10: =B10 -> ТП-Водозабор (встроен) В-1 | M10: =F10 -> ТП-Водозабор (встроен) В-2
B11: Расчет, Коэф, | E11: 20 | F11: Расчет, Коэф, | I11: 20 | J11: Расчет, Коэф, | L11: =E11 -> 20 | M11: Расчет, Коэф, | O11: =I11 -> 20
B12: показания счетчика | C12: разность | E12: расход эл,энергии за час | F12: показания счетчика | G12: разность | I12: расход эл,энергии за час | J12: показания счетчика | K12: разность | L12: расход эл,энергии за час | M12: показания счетчика | N12: разность | O12: расход эл,энергии за час
A13: 1 | B13: 2 | C13: 3 | E13: 4 | F13: 5 | G13: 6 | I13: 7 | J13: 8 | K13: 9 | L13: 10 | M13: 11 | N13: 12 | O13: 13
A14: 0 | E14: 0 | I14: 1.2180435
A15: 1 | E15: 0 | I15: 0.95696705
A16: 2 | E16: 0 | I16: 1.0867846
A17: 3 | E17: 0 | I17: 1.0006847
A18: 4 | E18: 0 | I18: 0.98018115
A19: 5 | E19: 0 | I19: 0.95220411
A20: 6 | E20: 0 | I20: 0.77512279
A21: 7 | E21: 0 | I21: 1.5463021
A22: 8 | E22: 0 | I22: 5.1734991
A23: 9 | E23: 0 | I23: 5.1026533
A24: 10 | E24: 0 | I24: 6.7534219
A25: 11 | E25: 0 | I25: 6.8954504
... A37: 23 | E37: 0 | I37: 0.9194306
A38: 24
A39: Итого | E39: =SUM(E15:E38) -> 0 | I39: =SUM(I15:I38) -> 70.178722 | L39: =SUM(L15:L38) -> 0 | O39: =SUM(O15:O38) -> 0
A40: 1, При наличии на предприятии отклонений от нормальных режимов электропотребления (временное изменение схем питания, остановка на ремонт, резкое снижение
A41: эл,потребления и т,д,) последние необходимо перечислить,
A42: Главный инженер АО "Вологдаоблэнерго" А.В. Чурляев
A43: составляется самим предприятием с соблюдением всех пунктов настоящей таблицы,

Sheet 13
B1: АО "Вологдаоблэнерго" | J1: код 900151 | M1: ПС Домозерово, ф,Дом-2
B2: наименование предприятия | M2: наименование источника питания
M3: ТП-Школа ПС Домозерово В-1
B4: ул, Горького, 99 | I4: Таблица № 1 | M4: ТП-Школа ПС Домозерово В-2
B5: адрес
A6: почасовых записей показаний электрических счетчиков
A7: в режимный день 18 ИЮНЯ 2025г.
A8: 1630 | B8: 1628
A9: часы суток | B9: Активная энергия | J9: Реактивная энергия
B10: =M3 -> ТП-Школа ПС Домозерово В-1 | F10: =M4 -> ТП-Школа ПС Домозерово В-2 | J10: =B10 -> ТП-Школа ПС Домозерово В-1 | M10: =F10 -> ТП-Школа ПС Домозерово В-2
B11: Расчет, Коэф, | E11: 120 | F11: Расчет, Коэф, | I11: 120 | J11: Расчет, Коэф, | L11: =E11 -> 120 | M11: Расчет, Коэф, | O11: =I11 -> 120
B12: показания счетчика | C12: разность | E12: расход эл,энергии за час | F12: показания счетчика | G12: разность | I12: расход эл,энергии за час | J12: показания счетчика | K12: разность | L12: расход эл,энергии за час | M12: показания счетчика | N12: разность | O12: расход эл,энергии за час
A13: 1 | B13: 2 | C13: 3 | E13: 4 | F13: 5 | G13: 6 | I13: 7 | J13: 8 | K13: 9 | L13: 10 | M13: 11 | N13: 12 | O13: 13
A14: 0 | E14: 7.547886 | I14: 16.242731
A15: 1 | E15: 6.1088617 | I15: 12.776461
A16: 2 | E16: 6.8645752 | I16: 12.98925
A17: 3 | E17: 6.2423122 | I17: 11.671987
A18: 4 | E18: 4.6675633 | I18: 11.672272
A19: 5 | E19: 4.4172045 | I19: 10.276136
A20: 6 | E20: 3.5697547 | I20: 9.7665472
A21: 7 | E21: 3.6748601 | I21: 9.1629735
A22: 8 | E22: 4.5163572 | I22: 20.044023
A23: 9 | E23: 4.1438291 | I23: 19.978668
A24: 10 | E24: 5.2278512 | I24: 26.420323
A25: 11 | E25: 5.5614181 | I25: 27.691228
... A37: 23 | E37: 5.5270708 | I37: 13.935041
A38: 24
A39: Итого | E39: =SUM(E15:E38) -> 126.50813 | I39: =SUM(I15:I38) -> 416.51022 | L39: =SUM(L15:L38) -> 0 | O39: =SUM(O15:O38) -> 0
A40: 1, При наличии на предприятии отклонений от нормальных режимов электропотребления (временное изменение схем питания, остановка на ремонт, резкое снижение
A41: эл,потребления и т,д,) последние необходимо перечислить,
A42: Главный инженер АО "Вологдаоблэнерго" А.В. Чурляев
A43: составляется самим предприятием с соблюдением всех пунктов настоящей таблицы,

Sheet 14
B1: АО "Вологдаоблэнерго" | J1: код 900151 | M1: ПС Домозерово, ф,Дом-2
B2: наименование предприятия | M2: наименование источника питания
M3: КТП "Очистные" ПС Домозерово
B4: ул, Горького, 99 | I4: Таблица № 1 | M4: ТП "Детский сад" ПС Домозерово
B5: адрес
A6: почасовых записей показаний электрических счетчиков
A7: в режимный день 18 ИЮНЯ 2025г.
A8: 1630 | B8: 1628
A9: часы суток | B9: Активная энергия | J9: Реактивная энергия
B10: =M3 -> КТП "Очистные" ПС Домозерово | F10: =M4 -> ТП "Детский сад" ПС Домозерово | J10: =B10 -> КТП "Очистные" ПС Домозерово | M10: =F10 -> ТП "Детский сад" ПС Домозерово
B11: Расчет, Коэф, | E11: 60 | F11: Расчет, Коэф, | I11: 80 | J11: Расчет, Коэф, | L11: =E11 -> 60 | M11: Расчет, Коэф, | O11: =I11 -> 80
B12: показания счетчика | C12: разность | E12: расход эл,энергии за час | F12: показания счетчика | G12: разность | I12: расход эл,энергии за час | J12: показания счетчика | K12: разность | L12: расход эл,энергии за час | M12: показания счетчика | N12: разность | O12: расход эл,энергии за час
A13: 1 | B13: 2 | C13: 3 | E13: 4 | F13: 5 | G13: 6 | I13: 7 | J13: 8 | K13: 9 | L13: 10 | M13: 11 | N13: 12 | O13: 13
A14: 0 | E14: 0.2749858 | I14: 21.037467
A15: 1 | E15: 0.2383946 | I15: 12.62436
A16: 2 | E16: 0.22995475 | I16: 14.14269
A17: 3 | E17: 0.18036832 | I17: 11.581258
A18: 4 | E18: 0.19081234 | I18: 10.338726
A19: 5 | E19: 0.18780632 | I19: 10.940761
A20: 6 | E20: 0.38965632 | I20: 10.767922
A21: 7 | E21: 1.0577311 | I21: 13.458369
A22: 8 | E22: 0.66670034 | I22: 17.730884
A23: 9 | E23: 0.59807843 | I23: 18.037286
A24: 10 | E24: 0.50592109 | I24: 20.049465
A25: 11 | E25: 0.27034671 | I25: 19.632321
... A37: 23 | E37: 0.19848597 | I37: 19.698486
A38: 24
A39: Итого | E39: =SUM(E15:E38) -> 12.747238 | I39: =SUM(I15:I38) -> 405.61765 | L39: =SUM(L15:L38) -> 0 | O39: =SUM(O15:O38) -> 0
A40: 1, При наличии на предприятии отклонений от нормальных режимов электропотребления (временное изменение схем питания, остановка на ремонт, резкое снижение
A41: эл,потребления и т,д,) последние необходимо перечислить,
A42: Главный инженер АО "Вологдаоблэнерго" А.В. Чурляев
A43: составляется самим предприятием с соблюдением всех пунктов настоящей таблицы,

Sheet 15
B1: АО "Вологдаоблэнерго" | J1: код 900151 | M1: ПС Домозерово, ф, Починок
B2: наименование предприятия | M2: наименование источника питания
M3: КТП-Коттеджи
B4: ул, Горького, 99 | I4: Таблица № 1 | M4: КТП-118 (Горизонт)
B5: адрес
A6: почасовых записей показаний электрических счетчиков
A7: в режимный день 18 ИЮНЯ 2025г.
A8: 1630 | B8: 1628
A9: часы суток | B9: Активная энергия | J9: Реактивная энергия
B10: =M3 -> КТП-Коттеджи | F10: =M4 -> КТП-118 (Горизонт) | J10: =B10 -> КТП-Коттеджи | M10: =F10 -> КТП-118 (Горизонт)
B11: Расчет, Коэф, | E11: 60 | F11: Расчет, Коэф, | I11: 80 | J11: Расчет, Коэф, | L11: =E11 -> 60 | M11: Расчет, Коэф, | O11: =I11 -> 80
B12: показания счетчика | C12: разность | E12: расход эл,энергии за час | F12: показания счетчика | G12: разность | I12: расход эл,энергии за час | J12: показания счетчика | K12: разность | L12: расход эл,энергии за час | M12: показания счетчика | N12: разность | O12: расход эл,энергии за час
A13: 1 | B13: 2 | C13: 3 | E13: 4 | F13: 5 | G13: 6 | I13: 7 | J13: 8 | K13: 9 | L13: 10 | M13: 11 | N13: 12 | O13: 13
A14: 0 | E14: 5.537645 | I14: 19.488696
A15: 1 | E15: 3.7696147 | I15: 8.3351196
A16: 2 | E16: 4.113635 | I16: 13.725365
A17: 3 | E17: 4.0543661 | I17: 8.7953517
A18: 4 | E18: 3.6768069 | I18: 7.1222335
A19: 5 | E19: 2.854656 | I19: 7.781233
A20: 6 | E20: 2.8532898 | I20: 7.12275
A21: 7 | E21: 3.0462656 | I21: 8.8406174
A22: 8 | E22: 4.1149032 | I22: 8.7268446
A23: 9 | E23: 4.1580691 | I23: 14.714628
A24: 10 | E24: 5.3309092 | I24: 15.664816
A25: 11 | E25: 6.1310773 | I25: 17.16058
... A37: 23 | E37: 4.3132528 | I37: 13.219649
A38: 24
A39: Итого | E39: =SUM(E15:E38) -> 107.27584 | I39: =SUM(I15:I38) -> 318.68524 | L39: =SUM(L15:L38) -> 0 | O39: =SUM(O15:O38) -> 0
A40: 1, При наличии на предприятии отклонений от нормальных режимов электропотребления (временное изменение схем питания, остановка на ремонт, резкое снижение
A41: эл,потребления и т,д,) последние необходимо перечислить,
A42: Главный инженер АО "Вологдаоблэнерго" А.В. Чурляев
A43: составляется самим предприятием с соблюдением всех пунктов настоящей таблицы,

Sheet 16
B1: АО "Вологдаоблэнерго" | J1: код 900151 | M1: ПС Домозерово, ф, Жары
B2: наименование предприятия | M2: наименование источника питания
M3: ТП-79
B4: ул, Горького, 99 | I4: Таблица № 1
B5: адрес
A6: почасовых записей показаний электрических счетчиков
A7: в режимный день 18 ИЮНЯ 2025г.
A8: 1630 | B8: 1628
A9: часы суток | B9: Активная энергия | J9: Реактивная энергия
B10: =M3 -> ТП-79 | F10: =M4 -> 0 | J10: =B10 -> ТП-79 | M10: =F10 -> 0
B11: Расчет, Коэф, | E11: 40 | F11: Расчет, Коэф, | I11: 120 | J11: Расчет, Коэф, | L11: =E11 -> 40 | M11: Расчет, Коэф, | O11: =I11 -> 120
B12: показания счетчика | C12: разность | E12: расход эл,энергии за час | F12: показания счетчика | G12: разность | I12: расход эл,энергии за час | J12: показания счетчика | K12: разность | L12: расход эл,энергии за час | M12: показания счетчика | N12: разность | O12: расход эл,энергии за час
A13: 1 | B13: 2 | C13: 3 | E13: 4 | F13: 5 | G13: 6 | I13: 7 | J13: 8 | K13: 9 | L13: 10 | M13: 11 | N13: 12 | O13: 13
A14: 0 | E14: 7.6332264 | I14: 0
A15: 1 | E15: 3.8614959 | I15: 0
A16: 2 | E16: 4.386174 | I16: 0
A17: 3 | E17: 4.0778924 | I17: 0
A18: 4 | E18: 3.6939311 | I18: 0
A19: 5 | E19: 3.9564531 | I19: 0
A20: 6 | E20: 3.1842882 | I20: 0
A21: 7 | E21: 2.8609108 | I21: 0
A22: 8 | E22: 3.3096056 | I22: 0
A23: 9 | E23: 3.192125 | I23: 0
A24: 10 | E24: 4.2160091 | I24: 0
A25: 11 | E25: 5.1816454 | I25: 0
... A37: 23 | E37: 4.7585739 | I37: 0
A38: 24
A39: Итого | E39: =SUM(E15:E38) -> 93.239685 | I39: =SUM(I15:I38) -> 0 | L39: =SUM(L15:L38) -> 0 | O39: =SUM(O15:O38) -> 0
A40: 1, При наличии на предприятии отклонений от нормальных режимов электропотребления (временное изменение схем питания, остановка на ремонт, резкое снижение
A41: эл,потребления и т,д,) последние необходимо перечислить,
A42: Главный инженер АО "Вологдаоблэнерго" А.В. Чурляев
A43: составляется самим предприятием с соблюдением всех пунктов настоящей таблицы,

Sheet 17
B1: АО "Вологдаоблэнерго" | K1: код 900151 | N1: ПС Домозерово, ф, Дом-2
B2: наименование предприятия | N2: наименование источника питания
N3: ТП-74
B4: ул, Горького, 99 | J4: Таблица № 1 | N4: ТП-СЗМК-2(не баланс)
B5: адрес
A6: почасовых записей показаний электрических счетчиков
A7: в режимный день 18 ИЮНЯ 2025г.
A8: 1630 | B8: 1628
A9: часы суток | B9: Активная энергия | K9: Реактивная энергия
B10: =N3 -> ТП-74 | F10: =N4 -> ТП-СЗМК-2(не баланс) | K10: =B10 -> ТП-74 | N10: =F10 -> ТП-СЗМК-2(не баланс)
B11: Расчет, Коэф, | E11: 120 | F11: Расчет, Коэф, | J11: 200 | K11: Расчет, Коэф, | M11: =E11 -> 120 | N11: Расчет, Коэф, | P11: =J11 -> 200
B12: показания счетчика | C12: разность | E12: расход эл,энергии за час | F12: показания счетчика | G12: разность | J12: расход эл,энергии за час | K12: показания счетчика | L12: разность | M12: расход эл,энергии за час | N12: показания счетчика | O12: разность | P12: расход эл,энергии за час
A13: 1 | B13: 2 | C13: 3 | E13: 4 | F13: 5 | G13: 6 | J13: 7 | K13: 8 | L13: 9 | M13: 10 | N13: 11 | O13: 12 | P13: 13
A14: 0 | E14: 24.35501 | I14: 0 | J14: 0
A15: 1 | E15: 20.4144 | I15: 0 | J15: 0.3
A16: 2 | E16: 21.393422 | I16: 0 | J16: 0.3
A17: 3 | E17: 20.586005 | I17: 0 | J17: 0.3
A18: 4 | E18: 18.553289 | I18: 0 | J18: 0.2
A19: 5 | E19: 19.492418 | I19: 0 | J19: 0
A20: 6 | E20: 14.966881 | I20: 0 | J20: 0
A21: 7 | E21: 14.202461 | I21: 0 | J21: 0.5
A22: 8 | E22: 17.327625 | I22: 0 | J22: 1
A23: 9 | E23: 29.711537 | I23: 0 | J23: 1
A24: 10 | E24: 51.040287 | I24: 0 | J24: 1
A25: 11 | E25: 46.789686 | I25: 0 | J25: 1.1
... A37: 23 | E37: 19.642091 | I37: 0 | J37: 0
A38: 24
A39: Итого | E39: =SUM(E15:E38) -> 647.0644 | J39: =SUM(J15:J38) -> 8.6 | M39: =SUM(M15:M38) -> 0 | P39: =SUM(P15:P38) -> 0
A40: 1, При наличии на предприятии отклонений от нормальных режимов электропотребления (временное изменение схем питания, остановка на ремонт, резкое снижение
A41: эл,потребления и т,д,) последние необходимо перечислить,
A42: Главный инженер АО "Вологдаоблэнерго" А.В. Чурляев
A43: составляется самим предприятием с соблюдением всех пунктов настоящей таблицы,

Sheet 18
B1: АО "Вологдаоблэнерго" | J1: код 900151 | M1: ПС Домозерово, ф, Починок
B2: наименование предприятия | M2: наименование источника питания
M3: КТП-Бомк
B4: ул, Горького, 99 | I4: Таблица № 1
B5: адрес
A6: почасовых записей показаний электрических счетчиков
A7: в режимный день 18 ИЮНЯ 2025г.
A8: 1630 | B8: 1628
A9: часы суток | B9: Активная энергия | J9: Реактивная энергия
B10: =M3 -> КТП-Бомк | F10: =M4 -> 0 | J10: =B10 -> КТП-Бомк | M10: =F10 -> 0
B11: Расчет, Коэф, | E11: 80 | F11: Расчет, Коэф, | I11: 120 | J11: Расчет, Коэф, | L11: =E11 -> 80 | M11: Расчет, Коэф, | O11: =I11 -> 120
B12: показания счетчика | C12: разность | E12: расход эл,энергии за час | F12: показания счетчика | G12: разность | I12: расход эл,энергии за час | J12: показания счетчика | K12: разность | L12: расход эл,энергии за час | M12: показания счетчика | N12: разность | O12: расход эл,энергии за час
A13: 1 | B13: 2 | C13: 3 | E13: 4 | F13: 5 | G13: 6 | I13: 7 | J13: 8 | K13: 9 | L13: 10 | M13: 11 | N13: 12 | O13: 13
A14: 0 | E14: 23.965381 | I14: 0
A15: 1 | E15: 14.161612 | I15: 0
A16: 2 | E16: 13.344355 | I16: 0
A17: 3 | E17: 11.716643 | I17: 0
A18: 4 | E18: 10.035485 | I18: 0
A19: 5 | E19: 11.71974 | I19: 0
A20: 6 | E20: 11.586995 | I20: 0
A21: 7 | E21: 10.026674 | I21: 0
A22: 8 | E22: 15.383412 | I22: 0
A23: 9 | E23: 18.06935 | I23: 0
A24: 10 | E24: 27.16461 | I24: 0
A25: 11 | E25: 28.122232 | I25: 0
... A37: 23 | E37: 24.214774 | I37: 0
A38: 24
A39: Итого | E39: =SUM(E15:E38) -> 501.86529 | I39: =SUM(I15:I38) -> 0 | L39: =SUM(L15:L38) -> 0 | O39: =SUM(O15:O38) -> 0
A40: 1, При наличии на предприятии отклонений от нормальных режимов электропотребления (временное изменение схем питания, остановка на ремонт, резкое снижение
A41: эл,потребления и т,д,) последние необходимо перечислить,
A42: Главный инженер АО "Вологдаоблэнерго" А.В. Чурляев
A43: составляется самим предприятием с соблюдением всех пунктов настоящей таблицы,

Sheet 19
B1: АО "Вологдаоблэнерго" | J1: код 900151 | M1: ПС Енюково, ф,Борисово
B2: наименование предприятия | M2: наименование источника питания
M3: ТП-Ферма Фенево В-1
B4: ул, Горького, 99 | I4: Таблица № 1 | M4: ТП-Ферма Фенево В-2
B5: адрес
A6: почасовых записей показаний электрических счетчиков
A7: в режимный день 18 ИЮНЯ 2025г.
A8: 1630 | B8: 1628
A9: часы суток | B9: Активная энергия | J9: Реактивная энергия
B10: =M3 -> ТП-Ферма Фенево В-1 | F10: =M4 -> ТП-Ферма Фенево В-2 | J10: =B10 -> ТП-Ферма Фенево В-1 | M10: =F10 -> ТП-Ферма Фенево В-2
B11: Расчет, Коэф, | E11: 200 | F11: Расчет, Коэф, | I11: 200 | J11: Расчет, Коэф, | L11: =E11 -> 200 | M11: Расчет, Коэф, | O11: =I11 -> 200
B12: показания счетчика | C12: разность | E12: расход эл,энергии за час | F12: показания счетчика | G12: разность | I12: расход эл,энергии за час | J12: показания счетчика | K12: разность | L12: расход эл,энергии за час | M12: показания счетчика | N12: разность | O12: расход эл,энергии за час
A13: 1 | B13: 2 | C13: 3 | E13: 4 | F13: 5 | G13: 6 | I13: 7 | J13: 8 | K13: 9 | L13: 10 | M13: 11 | N13: 12 | O13: 13
A14: 0 | E14: 14.371564 | I14: 7.179197
A15: 1 | E15: 7.9038054 | I15: 6.0206536
A16: 2 | E16: 8.7489858 | I16: 12.896511
A17: 3 | E17: 8.5180735 | I17: 26.351365
A18: 4 | E18: 7.6625627 | I18: 42.828298
A19: 5 | E19: 19.102772 | I19: 46.395985
A20: 6 | E20: 15.396106 | I20: 32.62848
A21: 7 | E21: 14.158589 | I21: 15.009708
A22: 8 | E22: 15.433082 | I22: 20.55062
A23: 9 | E23: 14.329568 | I23: 25.513266
A24: 10 | E24: 22.565049 | I24: 25.842574
A25: 11 | E25: 20.228384 | I25: 17.620813
... A37: 23 | E37: 17.390656 | I37: 5.2898747
A38: 24
A39: Итого | E39: =SUM(E15:E38) -> 404.4184 | I39: =SUM(I15:I38) -> 560.97528 | L39: =SUM(L15:L38) -> 0 | O39: =SUM(O15:O38) -> 0
A40: 1, При наличии на предприятии отклонений от нормальных режимов электропотребления (временное изменение схем питания, остановка на ремонт, резкое снижение
A41: эл,потребления и т,д,) последние необходимо перечислить,
A42: Главный инженер АО "Вологдаоблэнерго" А.В. Чурляев
A43: составляется самим предприятием с соблюдением всех пунктов настоящей таблицы,

Sheet 20
B1: АО "Вологдаоблэнерго" | J1: код 900151 | M1: ПС Енюково, ф, Яганово
B2: наименование предприятия | M2: наименование источника питания
M3: КТП-КЗС-2
B4: ул, Горького, 99 | I4: Таблица № 1
B5: адрес
A6: почасовых записей показаний электрических счетчиков
A7: в режимный день 18 ИЮНЯ 2025г.
A8: 1630 | B8: 1628
A9: часы суток | B9: Активная энергия | J9: Реактивная энергия
B10: =M3 -> КТП-КЗС-2 | F10: =M4 -> 0 | J10: =B10 -> КТП-КЗС-2 | M10: =F10 -> 0
B11: Расчет, Коэф, | E11: 80 | F11: Расчет, Коэф, | I11: 120 | J11: Расчет, Коэф, | L11: =E11 -> 80 | M11: Расчет, Коэф, | O11: =I11 -> 120
B12: показания счетчика | C12: разность | E12: расход эл,энергии за час | F12: показания счетчика | G12: разность | I12: расход эл,энергии за час | J12: показания счетчика | K12: разность | L12: расход эл,энергии за час | M12: показания счетчика | N12: разность | O12: расход эл,энергии за час
A13: 1 | B13: 2 | C13: 3 | E13: 4 | F13: 5 | G13: 6 | I13: 7 | J13: 8 | K13: 9 | L13: 10 | M13: 11 | N13: 12 | O13: 13
A14: 0 | E14: 3.161744 | I14: 0
A15: 1 | E15: 2.4840531 | I15: 0
A16: 2 | E16: 2.7824643 | I16: 0
A17: 3 | E17: 2.4563747 | I17: 0
A18: 4 | E18: 2.3729226 | I18: 0
A19: 5 | E19: 2.4289617 | I19: 0
A20: 6 | E20: 2.0113432 | I20: 0
A21: 7 | E21: 2.0539925 | I21: 0
A22: 8 | E22: 2.3888755 | I22: 0
A23: 9 | E23: 2.8894047 | I23: 0
A24: 10 | E24: 3.462035 | I24: 0
A25: 11 | E25: 3.5359853 | I25: 0
... A37: 23 | E37: 2.6927467 | I37: 0
A38: 24
A39: Итого | E39: =SUM(E15:E38) -> 67.897685 | I39: =SUM(I15:I38) -> 0 | L39: =SUM(L15:L38) -> 0 | O39: =SUM(O15:O38) -> 0
A40: 1, При наличии на предприятии отклонений от нормальных режимов электропотребления (временное изменение схем питания, остановка на ремонт, резкое снижение
A41: эл,потребления и т,д,) последние необходимо перечислить,
A42: Главный инженер АО "Вологдаоблэнерго" А.В. Чурляев
A43: составляется самим предприятием с соблюдением всех пунктов настоящей таблицы,

Sheet 21
B1: АО "Вологдаоблэнерго" | J1: код 900151 | M1: ПС Енюково ф, Соболево
B2: наименование предприятия | M2: наименование источника питания
M3: ТП-323
B4: ул, Горького, 99 | I4: Таблица № 1
B5: адрес
A6: почасовых записей показаний электрических счетчиков
A7: в режимный день 18 ИЮНЯ 2025г.
A8: 1630 | B8: 1628
A9: часы суток | B9: Активная энергия | J9: Реактивная энергия
B10: =M3 -> ТП-323 | F10: =M4 -> 0 | J10: =B10 -> ТП-323 | M10: =F10 -> 0
B11: Расчет, Коэф, | E11: 20 | F11: Расчет, Коэф, | I11: 120 | J11: Расчет, Коэф, | L11: =E11 -> 20 | M11: Расчет, Коэф, | O11: =I11 -> 120
B12: показания счетчика | C12: разность | E12: расход эл,энергии за час | F12: показания счетчика | G12: разность | I12: расход эл,энергии за час | J12: показания счетчика | K12: разность | L12: расход эл,энергии за час | M12: показания счетчика | N12: разность | O12: расход эл,энергии за час
A13: 1 | B13: 2 | C13: 3 | E13: 4 | F13: 5 | G13: 6 | I13: 7 | J13: 8 | K13: 9 | L13: 10 | M13: 11 | N13: 12 | O13: 13
A14: 0 | E14: 3.1697282 | I14: 0
A15: 1 | E15: 2.6220561 | I15: 0
A16: 2 | E16: 2.9976033 | I16: 0
A17: 3 | E17: 2.7403105 | I17: 0
A18: 4 | E18: 2.5521277 | I18: 0
A19: 5 | E19: 2.6187243 | I19: 0
A20: 6 | E20: 2.1253884 | I20: 0
A21: 7 | E21: 0.3988335 | I21: 0
A22: 8 | E22: 1.0466113 | I22: 0
A23: 9 | E23: 2.8130586 | I23: 0
A24: 10 | E24: 3.4697627 | I24: 0
A25: 11 | E25: 3.7111917 | I25: 0
... A37: 23 | E37: 2.4808176 | I37: 0
A38: 24
A39: Итого | E39: =SUM(E15:E38) -> 59.955273 | I39: =SUM(I15:I38) -> 0 | L39: =SUM(L15:L38) -> 0 | O39: =SUM(O15:O38) -> 0
A40: 1, При наличии на предприятии отклонений от нормальных режимов электропотребления (временное изменение схем питания, остановка на ремонт, резкое снижение
A41: эл,потребления и т,д,) последние необходимо перечислить,
A42: Главный инженер АО "Вологдаоблэнерго" А.В. Чурляев
A43: составляется самим предприятием с соблюдением всех пунктов настоящей таблицы,

Sheet 22
B1: АО "Вологдаоблэнерго" | J1: код 900151 | M1: ПС Енюково, ф, Ботово
B2: наименование предприятия | M2: наименование источника питания
M3: ТП-Новое Ботово
B4: ул, Горького, 99 | I4: Таблица № 1 | M4: КТП- д,Ботово
B5: адрес
A6: почасовых записей показаний электрических счетчиков
A7: в режимный день 18 ИЮНЯ 2025г.
A8: 1630 | B8: 1628
A9: часы суток | B9: Активная энергия | J9: Реактивная энергия
B10: =M3 -> ТП-Новое Ботово | F10: =M4 -> КТП- д,Ботово | J10: =B10 -> ТП-Новое Ботово | M10: =F10 -> КТП- д,Ботово
B11: Расчет, Коэф, | E11: 40 | F11: Расчет, Коэф, | I11: 40 | J11: Расчет, Коэф, | L11: =E11 -> 40 | M11: Расчет, Коэф, | O11: =I11 -> 40
B12: показания счетчика | C12: разность | E12: расход эл,энергии за час | F12: показания счетчика | G12: разность | I12: расход эл,энергии за час | J12: показания счетчика | K12: разность | L12: расход эл,энергии за час | M12: показания счетчика | N12: разность | O12: расход эл,энергии за час
A13: 1 | B13: 2 | C13: 3 | E13: 4 | F13: 5 | G13: 6 | I13: 7 | J13: 8 | K13: 9 | L13: 10 | M13: 11 | N13: 12 | O13: 13
A14: 0 | E14: 5.0460157 | I14: 8.7481338
A15: 1 | E15: 3.4500738 | I15: 5.3330316
A16: 2 | E16: 2.9115477 | I16: 5.3795838
A17: 3 | E17: 1.214981 | I17: 2.8519515
A18: 4 | E18: 1.2235382 | I18: 2.6876942
A19: 5 | E19: 1.0120674 | I19: 2.6457215
A20: 6 | E20: 0.70500688 | I20: 1.7675942
A21: 7 | E21: 1.4158589 | I21: 2.2892323
A22: 8 | E22: 2.3770493 | I22: 3.781553
A23: 9 | E23: 2.4195828 | I23: 5.9540844
A24: 10 | E24: 2.0555833 | I24: 9.4625981
A25: 11 | E25: 0.97159956 | I25: 10.306968
... A37: 23 | E37: 2.4683512 | I37: 5.1009506
A38: 24
A39: Итого | E39: =SUM(E15:E38) -> 45.634228 | I39: =SUM(I15:I38) -> 147.19598 | L39: =SUM(L15:L38) -> 0 | O39: =SUM(O15:O38) -> 0
A40: 1, При наличии на предприятии отклонений от нормальных режимов электропотребления (временное изменение схем питания, остановка на ремонт, резкое снижение
A41: эл,потребления и т,д,) последние необходимо перечислить,
A42: Главный инженер АО "Вологдаоблэнерго" А.В. Чурляев
A43: составляется самим предприятием с соблюдением всех пунктов настоящей таблицы,

Sheet 23
B1: АО "Вологдаоблэнерго" | J1: код 900151 | M1: ПС Енюково, ф, Борисово
B2: наименование предприятия | M2: наименование источника питания
M3: КТП-100 АЗС №43
B4: ул, Горького, 99 | I4: Таблица № 1
B5: адрес
A6: почасовых записей показаний электрических счетчиков
A7: в режимный день 18 ИЮНЯ 2025г.
A8: 1630 | B8: 1628
A9: часы суток | B9: Активная энергия | J9: Реактивная энергия
B10: =M3 -> КТП-100 АЗС №43 | F10: =M4 -> 0 | J10: =B10 -> КТП-100 АЗС №43 | M10: =F10 -> 0
B11: Расчет, Коэф, | E11: 30 | F11: Расчет, Коэф, | I11: 40 | J11: Расчет, Коэф, | L11: =E11 -> 30 | M11: Расчет, Коэф, | O11: =I11 -> 40
B12: показания счетчика | C12: разность | E12: расход эл,энергии за час | F12: показания счетчика | G12: разность | I12: расход эл,энергии за час | J12: показания счетчика | K12: разность | L12: расход эл,энергии за час | M12: показания счетчика | N12: разность | O12: расход эл,энергии за час
A13: 1 | B13: 2 | C13: 3 | E13: 4 | F13: 5 | G13: 6 | I13: 7 | J13: 8 | K13: 9 | L13: 10 | M13: 11 | N13: 12 | O13: 13
A14: 0 | E14: 9.4421174 | I14: 0
A15: 1 | E15: 7.2790284 | I15: 0
A16: 2 | E16: 7.9902623 | I16: 0
A17: 3 | E17: 8.7399396 | I17: 0
A18: 4 | E18: 7.8343524 | I18: 0
A19: 5 | E19: 5.814327 | I19: 0
A20: 6 | E20: 2.6033416 | I20: 0
A21: 7 | E21: 3.4788252 | I21: 0
A22: 8 | E22: 4.8356989 | I22: 0
A23: 9 | E23: 4.7816123 | I23: 0
A24: 10 | E24: 6.4356757 | I24: 0
A25: 11 | E25: 6.144969 | I25: 0
... A37: 23 | E37: 6.9861817 | I37: 0
A38: 24
A39: Итого | E39: =SUM(E15:E38) -> 123.55644 | I39: =SUM(I15:I38) -> 0 | L39: =SUM(L15:L38) -> 0 | O39: =SUM(O15:O38) -> 0
A40: 1, При наличии на предприятии отклонений от нормальных режимов электропотребления (временное изменение схем питания, остановка на ремонт, резкое снижение
A41: эл,потребления и т,д,) последние необходимо перечислить,
A42: Главный инженер АО "Вологдаоблэнерго" А.В. Чурляев
A43: составляется самим предприятием с соблюдением всех пунктов настоящей таблицы,

Sheet 24
B1: АО "Вологдаоблэнерго" | J1: код 900151 | M1: ПС Енюково, ф, Борисово
B2: наименование предприятия | M2: наименование источника питания
M3: КТП-100 АЗС №43
B4: ул, Горького, 99 | I4: Таблица № 1 | M4: ТП- "Освещение дороги" (Аэропорт)
B5: адрес
A6: почасовых записей показаний электрических счетчиков
A7: в режимный день 18 ИЮНЯ 2025г.
A8: 1630 | B8: 1628
A9: часы суток | B9: Активная энергия | J9: Реактивная энергия
B10: =M3 -> КТП-100 АЗС №43 | F10: =M4 -> ТП- "Освещение дороги" (Аэропорт) | J10: =B10 -> КТП-100 АЗС №43 | M10: =F10 -> ТП- "Освещение дороги" (Аэропорт)
B11: Расчет, Коэф, | E11: 30 | F11: Расчет, Коэф, | I11: 1 | J11: Расчет, Коэф, | L11: =E11 -> 30 | M11: Расчет, Коэф, | O11: =I11 -> 1
B12: показания счетчика | C12: разность | E12: расход эл,энергии за час | F12: показания счетчика | G12: разность | I12: расход эл,энергии за час | J12: показания счетчика | K12: разность | L12: расход эл,энергии за час | M12: показания счетчика | N12: разность | O12: расход эл,энергии за час
A13: 1 | B13: 2 | C13: 3 | E13: 4 | F13: 5 | G13: 6 | I13: 7 | J13: 8 | K13: 9 | L13: 10 | M13: 11 | N13: 12 | O13: 13
A14: 0 | E14: 9.4421174 | I14: 9.4200744
A15: 1 | E15: 7.2790284 | I15: 7.4871581
A16: 2 | E16: 7.9902623 | I16: 8.4993802
A17: 3 | E17: 8.7399396 | I17: 6.2102495
A18: 4 | E18: 7.8343524 | I18: 0.011862065
A19: 5 | E19: 5.814327 | I19: 0.0121422
A20: 6 | E20: 2.6033416 | I20: 0.010474632
A21: 7 | E21: 3.4788252 | I21: 0.0095699481
A22: 8 | E22: 4.8356989 | I22: 0.011948035
A23: 9 | E23: 4.7816123 | I23: 0.011273304
A24: 10 | E24: 6.4356757 | I24: 0.014053364
A25: 11 | E25: 6.144969 | I25: 0.01448286
... A37: 23 | E37: 6.9861817 | I37: 5.5058779
A38: 24
A39: Итого | E39: =SUM(E15:E38) -> 123.55644 | I39: =SUM(I15:I38) -> 27.948642 | L39: =SUM(L15:L38) -> 0 | O39: =SUM(O15:O38) -> 0
A40: 1, При наличии на предприятии отклонений от нормальных режимов электропотребления (временное изменение схем питания, остановка на ремонт, резкое снижение
A41: эл,потребления и т,д,) последние необходимо перечислить,
A42: Главный инженер АО "Вологдаоблэнерго" А.В. Чурляев
A43: составляется самим предприятием с соблюдением всех пунктов настоящей таблицы,

Sheet 25
B1: АО "Вологдаоблэнерго" | J1: код 900151 | M1: ПС Загородная, ф, Тоншалово-2
B2: наименование предприятия | M2: наименование источника питания
M3: ТП-4 очистные В-1; ТП-4 очистные В-2
B4: ул, Горького, 99 | I4: Таблица № 1
B5: адрес
A6: почасовых записей показаний электрических счетчиков
A7: в режимный день 18 ИЮНЯ 2025г.
A8: 1630 | B8: 1628
A9: часы суток | B9: Активная энергия | J9: Реактивная энергия
B10: ТП-4 очистные В-1 | F10: ТП-4 очистные В-2 | J10: ТП-4 очистные В-1 | M10: ТП-4 очистные В-2
B11: Расчет, Коэф, | E11: 120 | F11: Расчет, Коэф, | I11: 120 | J11: Расчет, Коэф, | L11: =E11 -> 120 | M11: Расчет, Коэф, | O11: =I11 -> 120
B12: показания счетчика | C12: разность | E12: расход эл,энергии за час | F12: показания счетчика | G12: разность | I12: расход эл,энергии за час | J12: показания счетчика | K12: разность | L12: расход эл,энергии за час | M12: показания счетчика | N12: разность | O12: расход эл,энергии за час
A13: 1 | B13: 2 | C13: 3 | E13: 4 | F13: 5 | G13: 6 | I13: 7 | J13: 8 | K13: 9 | L13: 10 | M13: 11 | N13: 12 | O13: 13
A14: 0 | E14: 34.68614 | I14: 16.591205
A15: 1 | E15: 26.402202 | I15: 9.4302448
A16: 2 | E16: 33.062383 | I16: 9.702813
A17: 3 | E17: 30.395983 | I17: 8.6459161
A18: 4 | E18: 28.122803 | I18: 7.7465527
A19: 5 | E19: 27.825384 | I19: 8.1135459
A20: 6 | E20: 21.255124 | I20: 7.265205
A21: 7 | E21: 22.170044 | I21: 5.6210853
A22: 8 | E22: 28.144791 | I22: 7.4699114
A23: 9 | E23: 27.283768 | I23: 9.0423763
A24: 10 | E24: 35.395738 | I24: 15.271322
A25: 11 | E25: 34.720242 | I25: 17.920125
... A37: 23 | E37: 30.154599 | I37: 12.922408
A38: 24
A39: Итого | E39: =SUM(E15:E38) -> 698.25148 | I39: =SUM(I15:I38) -> 345.68495 | L39: =SUM(L15:L38) -> 0 | O39: =SUM(O15:O38) -> 0
A40: 1, При наличии на предприятии отклонений от нормальных режимов электропотребления (временное изменение схем питания, остановка на ремонт, резкое снижение
A41: эл,потребления и т,д,) последние необходимо перечислить,
A42: Главный инженер АО "Вологдаоблэнерго" А.В. Чурляев
A43: составляется самим предприятием с соблюдением всех пунктов настоящей таблицы,

Sheet 26
B1: АО "Вологдаоблэнерго" | J1: код 900151 | M1: ПС Загородная, ф, Тоншалово-2
B2: наименование предприятия | M2: наименование источника питания
M3: ТП-3 Школа В-1; ТП-3 Школа В-2
B4: ул, Горького, 99 | I4: Таблица № 1
B5: адрес
A6: почасовых записей показаний электрических счетчиков
A7: в режимный день 18 ИЮНЯ 2025г.
A8: 1630 | B8: 1628
A9: часы суток | B9: Активная энергия | J9: Реактивная энергия
B10: ТП-3 Школа В-1 | F10: ТП-3 Школа В-2 | J10: ТП-3 Школа В-1 | M10: ТП-3 Школа В-2
B11: Расчет, Коэф, | E11: 120 | F11: Расчет, Коэф, | I11: 120 | J11: Расчет, Коэф, | L11: =E11 -> 120 | M11: Расчет, Коэф, | O11: =I11 -> 120
B12: показания счетчика | C12: разность | E12: расход эл,энергии за час | F12: показания счетчика | G12: разность | I12: расход эл,энергии за час | J12: показания счетчика | K12: разность | L12: расход эл,энергии за час | M12: показания счетчика | N12: разность | O12: расход эл,энергии за час
A13: 1 | B13: 2 | C13: 3 | E13: 4 | F13: 5 | G13: 6 | I13: 7 | J13: 8 | K13: 9 | L13: 10 | M13: 11 | N13: 12 | O13: 13
A14: 0 | E14: 34.193062 | I14: 0
A15: 1 | E15: 25.59762 | I15: 0
A16: 2 | E16: 29.195737 | I16: 0
A17: 3 | E17: 26.380827 | I17: 0
A18: 4 | E18: 24.937704 | I18: 0
A19: 5 | E19: 25.181071 | I19: 0
A20: 6 | E20: 22.77604 | I20: 0
A21: 7 | E21: 21.722775 | I21: 0
A22: 8 | E22: 33.148628 | I22: 0
A23: 9 | E23: 37.066623 | I23: 0
A24: 10 | E24: 57.693742 | I24: 0
A25: 11 | E25: 62.469401 | I25: 0
... A37: 23 | E37: 31.63561 | I37: 0
A38: 24
A39: Итого | E39: =SUM(E15:E38) -> 955.16204 | I39: =SUM(I15:I38) -> 0 | L39: =SUM(L15:L38) -> 0 | O39: =SUM(O15:O38) -> 0
A40: 1, При наличии на предприятии отклонений от нормальных режимов электропотребления (временное изменение схем питания, остановка на ремонт, резкое снижение
A41: эл,потребления и т,д,) последние необходимо перечислить,
A42: Главный инженер АО "Вологдаоблэнерго" А.В. Чурляев
A43: составляется самим предприятием с соблюдением всех пунктов настоящей таблицы,

Sheet 27
B1: АО "Вологдаоблэнерго" | J1: код 900151 | M1: ПС Загородная, ф, Тоншалово-2
B2: наименование предприятия | M2: наименование источника питания
M3: ТП-5 ПМК-1 В-1
B4: ул, Горького, 99 | I4: Таблица № 1 | M4: ТП-5 ПМК-1 В-2
B5: адрес
A6: почасовых записей показаний электрических счетчиков
A7: в режимный день 18 ИЮНЯ 2025г.
A8: 1630 | B8: 1628
A9: часы суток | B9: Активная энергия | J9: Реактивная энергия
B10: =M3 -> ТП-5 ПМК-1 В-1 | F10: =M4 -> ТП-5 ПМК-1 В-2 | J10: =B10 -> ТП-5 ПМК-1 В-1 | M10: =F10 -> ТП-5 ПМК-1 В-2
B11: Расчет, Коэф, | E11: 120 | F11: Расчет, Коэф, | I11: 120 | J11: Расчет, Коэф, | L11: =E11 -> 120 | M11: Расчет, Коэф, | O11: =I11 -> 120
B12: показания счетчика | C12: разность | E12: расход эл,энергии за час | F12: показания счетчика | G12: разность | I12: расход эл,энергии за час | J12: показания счетчика | K12: разность | L12: расход эл,энергии за час | M12: показания счетчика | N12: разность | O12: расход эл,энергии за час
A13: 1 | B13: 2 | C13: 3 | E13: 4 | F13: 5 | G13: 6 | I13: 7 | J13: 8 | K13: 9 | L13: 10 | M13: 11 | N13: 12 | O13: 13
A14: 0 | E14: 11.340794 | I14: 38.990299
A15: 1 | E15: 7.4498313 | I15: 25.035779
A16: 2 | E16: 8.1080343 | I16: 24.448307
A17: 3 | E17: 7.2147327 | I17: 22.239218
A18: 4 | E18: 6.7518211 | I18: 19.883318
A19: 5 | E19: 6.6107823 | I19: 29.432693
A20: 6 | E20: 6.3601967 | I20: 34.880526
A21: 7 | E21: 5.9232942 | I21: 36.156271
A22: 8 | E22: 8.1437805 | I22: 38.639945
A23: 9 | E23: 8.8430168 | I23: 37.066623
A24: 10 | E24: 11.448807 | I24: 47.331728
A25: 11 | E25: 11.489735 | I25: 56.656947
... A37: 23 | E37: 10.336539 | I37: 36.636161
A38: 24
A39: Итого | E39: =SUM(E15:E38) -> 220.36729 | I39: =SUM(I15:I38) -> 873.80384 | L39: =SUM(L15:L38) -> 0 | O39: =SUM(O15:O38) -> 0
A40: 1, При наличии на предприятии отклонений от нормальных режимов электропотребления (временное изменение схем питания, остановка на ремонт, резкое снижение
A41: эл,потребления и т,д,) последние необходимо перечислить,
A42: Главный инженер АО "Вологдаоблэнерго" А.В. Чурляев
A43: составляется самим предприятием с соблюдением всех пунктов настоящей таблицы,

Sheet 28
B1: АО "Вологдаоблэнерго" | J1: код 900151 | M1: ПС Загородная, ф, Тоншалово-2
B2: наименование предприятия | M2: наименование источника питания
M3: ТП-6 Детский сад В-1
B4: ул, Горького, 99 | I4: Таблица № 1 | M4: ТП-6 Детский сад В-2
B5: адрес
A6: почасовых записей показаний электрических счетчиков
A7: в режимный день 18 ИЮНЯ 2025г.
A8: 1630 | B8: 1628
A9: часы суток | B9: Активная энергия | J9: Реактивная энергия
B10: =M3 -> ТП-6 Детский сад В-1 | F10: =M4 -> ТП-6 Детский сад В-2 | J10: =B10 -> ТП-6 Детский сад В-1 | M10: =F10 -> ТП-6 Детский сад В-2
B11: Расчет, Коэф, | E11: 120 | F11: Расчет, Коэф, | I11: 120 | J11: Расчет, Коэф, | L11: =E11 -> 120 | M11: Расчет, Коэф, | O11: =I11 -> 120
B12: показания счетчика | C12: разность | E12: расход эл,энергии за час | F12: показания счетчика | G12: разность | I12: расход эл,энергии за час | J12: показания счетчика | K12: разность | L12: расход эл,энергии за час | M12: показания счетчика | N12: разность | O12: расход эл,энергии за час
A13: 1 | B13: 2 | C13: 3 | E13: 4 | F13: 5 | G13: 6 | I13: 7 | J13: 8 | K13: 9 | L13: 10 | M13: 11 | N13: 12 | O13: 13
A14: 0 | E14: 40.641004 | I14: 30.897973
A15: 1 | E15: 27.38558 | I15: 21.354941
A16: 2 | E16: 28.156682 | I16: 21.057539
A17: 3 | E17: 26.02009 | I17: 18.652763
A18: 4 | E18: 23.044259 | I18: 16.272256
A19: 5 | E19: 22.326415 | I19: 17.22403
A20: 6 | E20: 18.640656 | I20: 15.498266
A21: 7 | E21: 20.924943 | I21: 17.963296
A22: 8 | E22: 29.965671 | I22: 22.079968
A23: 9 | E23: 31.370638 | I23: 21.516584
A24: 10 | E24: 42.272518 | I24: 28.781289
A25: 11 | E25: 49.415517 | I25: 30.645731
... A37: 23 | E37: 43.544768 | I37: 28.111906
A38: 24
A39: Итого | E39: =SUM(E15:E38) -> 893.78423 | I39: =SUM(I15:I38) -> 605.14053 | L39: =SUM(L15:L38) -> 0 | O39: =SUM(O15:O38) -> 0
A40: 1, При наличии на предприятии отклонений от нормальных режимов электропотребления (временное изменение схем питания, остановка на ремонт, резкое снижение
A41: эл,потребления и т,д,) последние необходимо перечислить,
A42: Главный инженер АО "Вологдаоблэнерго" А.В. Чурляев
A43: составляется самим предприятием с соблюдением всех пунктов настоящей таблицы,

Sheet 29
B1: АО "Вологдаоблэнерго" | J1: код 900151 | M1: ПС Загородная, ф, Тоншалово-2
B2: наименование предприятия | M2: наименование источника питания
M3: ТП-2 Поселок
B4: ул, Горького, 99 | I4: Таблица № 1
B5: адрес
A6: почасовых записей показаний электрических счетчиков
A7: в режимный день 18 ИЮНЯ 2025г.
A8: 1630 | B8: 1628
A9: часы суток | B9: Активная энергия | J9: Реактивная энергия
B10: =M3 -> ТП-2 Поселок | F10: =M4 -> 0 | J10: =B10 -> ТП-2 Поселок | M10: =F10 -> 0
B11: Расчет, Коэф, | E11: 200 | F11: Расчет, Коэф, | I11: 120 | J11: Расчет, Коэф, | L11: =E11 -> 200 | M11: Расчет, Коэф, | O11: =I11 -> 120
B12: показания счетчика | C12: разность | E12: расход эл,энергии за час | F12: показания счетчика | G12: разность | I12: расход эл,энергии за час | J12: показания счетчика | K12: разность | L12: расход эл,энергии за час | M12: показания счетчика | N12: разность | O12: расход эл,энергии за час
A13: 1 | B13: 2 | C13: 3 | E13: 4 | F13: 5 | G13: 6 | I13: 7 | J13: 8 | K13: 9 | L13: 10 | M13: 11 | N13: 12 | O13: 13
A14: 0 | E14: 89.10172 | I14: 0
A15: 1 | E15: 62.255757 | I15: 0
A16: 2 | E16: 63.989878 | I16: 0
A17: 3 | E17: 57.482599 | I17: 0
A18: 4 | E18: 50.614195 | I18: 0
A19: 5 | E19: 51.1334 | I19: 0
A20: 6 | E20: 46.130281 | I20: 0
A21: 7 | E21: 50.952419 | I21: 0
A22: 8 | E22: 66.932891 | I22: 0
A23: 9 | E23: 68.351821 | I23: 0
A24: 10 | E24: 91.784079 | I24: 0
A25: 11 | E25: 98.290341 | I25: 0
... A37: 23 | E37: 84.00028 | I37: 0
A38: 24
