Workbook

Sheet Содержание книги
B2: № листа | C2: Центр питания | D2: Электросетевой участок
B3: 1-7 | C3: ПС Абаканово | D3: ЭСУ "Череповец"
B4: 8 | C4: ПС Аксеново
B5: 9-11 | C5: ПС Батран
B6: 12-18 | C6: ПС Домозерово
B7: 19-24 | C7: ПС Енюково
B8: 25-32 | C8: ПС Загородная
B9: 33-36 | C9: ПС Ирдоматка
B10: 37-38 | C10: ПС Искра
B11: 39-41 | C11: ПС Климовская
B12: 42-54 | C12: ПС Малечкино
B13: 55-65 | C13: ПС Нелазское
B14: 66-70 | C14: ПС Новые углы
B15: 71-74 | C15: ПС Петринево
... B22: 98-110 | C22: МУП "Электросеть"
B23: 111-119 | D23: ЭСУ "Бабаево"
B24: 120-121 | C24: ПС Великое | D24: ЭСУ "Кадуй"
B25: 122 | C25: ПС Вешняки
B26: 123-130 | C26: ПС Кадуй
B27: 131-137 | C27: ПС Коротово
B28: 138-139 | C28: ПС Никольское
B29: 140-141 | C29: ПС Поселковая
B30: 142 | C30: ПС Суда
B31: 143-145 | C31: ПС Ягница
B32: 146-154 | C32: КВЛ-10 кВ
B33: 155-167 | D33: ЭСУ "Чагода"
B34: 168 | C34: ПС Газ | D34: ЭСУ "Шексна"
B35: 169 | C35: ПС Нестерово
B36: 170-171 | C36: ПС Нифантово
B37: 172 | C37: ПС Поток
B38: 173 | C38: РП-Ершово
B39: 174-179 | C39: РП-Пача
B40: 180-181 | C40: ПС Чаромское
B41: 182-189 | C41: ПС Чебсара
B42: 190-196 | C42: ПС Чуровское
B43: 197-199 | C43: ПС Шексна
B44: 200-208 | C44: КВЛ-10 кВ

Sheet 1
B1: АО "Вологдаоблэнерго" | J1: код 900151 | M1: ПС Абакаеово ф, Осеевская
B2: наименование предприятия | M2: наименование источника питания
M3: ТП-Лесопильных цех (д,Заручьевье)
B4: ул, Горького, 99 | I4: Таблица № 1
B5: адрес
A6: почасовых записей показаний электрических счетчиков
A7: в режимный день 18 ИЮНЯ 2025г.
A8: 1630 | B8: 1628
A9: часы суток | B9: Активная энергия | J9: Реактивная энергия
B10: =M3 -> ТП-Лесопильных цех (д,Заручьевье) | F10: =M4 -> 0 | J10: =B10 -> ТП-Лесопильных цех (д,Заручьевье) | M10: =F10 -> 0
B11: Расчет, Коэф, | E11: 30 | F11: Расчет, Коэф, | I11: 120 | J11: Расчет, Коэф, | L11: =E11 -> 30 | M11: Расчет, Коэф, | O11: =I11 -> 120
B12: показания счетчика | C12: разность | E12: расход эл,энергии за час | F12: показания счетчика | G12: разность | I12: расход эл,энергии за час | J12: показания счетчика | K12: разность | L12: расход эл,энергии за час | M12: показания счетчика | N12: разность | O12: расход эл,энергии за час
A13: 1 | B13: 2 | C13: 3 | E13: 4 | F13: 5 | G13: 6 | I13: 7 | J13: 8 | K13: 9 | L13: 10 | M13: 11 | N13: 12 | O13: 13
A14: 0 | E14: 0.34373225 | I14: 0
A15: 1 | E15: 0.12105976 | I15: 0
A16: 2 | E16: 0.11710659 | I16: 0
A17: 3 | E17: 0.10782889 | I17: 0
A18: 4 | E18: 0.0917367 | I18: 0
A19: 5 | E19: 0.093903158 | I19: 0
A20: 6 | E20: 0.26710312 | I20: 0
A21: 7 | E21: 0.71774611 | I21: 0
A22: 8 | E22: 6.7655747 | I22: 0
A23: 9 | E23: 7.2890809 | I23: 0
A24: 10 | E24: 7.6239497 | I24: 0
A25: 11 | E25: 9.2690302 | I25: 0
... A37: 23 | E37: 0.41987417 | I37: 0
A38: 24
A39: Итого | E39: =SUM(E15:E38) -> 67.561036 | I39: =SUM(I15:I38) -> 0 | L39: =SUM(L15:L38) -> 0 | O39: =SUM(O15:O38) -> 0
A40: 1, При наличии на предприятии отклонений от нормальных режимов электропотребления (временное изменение схем питания, остановка на ремонт, резкое снижение
A41: эл,потребления и т,д,) последние необходимо перечислить,
A42: Главный инженер АО "Вологдаоблэнерго" А.В. Чурляев
A43: составляется самим предприятием с соблюдением всех пунктов настоящей таблицы,

Sheet 2
B1: АО "Вологдаоблэнерго" | J1: код 900151 | M1: ПС Абаканово, ф, Алексино
B2: наименование предприятия | M2: наименование источника питания
M3: ТП-Поселок (3,4 этажные дома)
B4: ул, Горького, 99 | I4: Таблица № 1 | M4: ТП-211
B5: адрес
A6: почасовых записей показаний электрических счетчиков
A7: в режимный день 18 ИЮНЯ 2025г.
A8: 1630 | B8: 1628
A9: часы суток | B9: Активная энергия | J9: Реактивная энергия
B10: =M3 -> ТП-Поселок (3,4 этажные дома) | F10: =M4 -> ТП-211 | J10: =B10 -> ТП-Поселок (3,4 этажные дома) | M10: =F10 -> ТП-211
B11: Расчет, Коэф, | E11: 50 | F11: Расчет, Коэф, | I11: 80 | J11: Расчет, Коэф, | L11: =E11 -> 50 | M11: Расчет, Коэф, | O11: =I11 -> 80
B12: показания счетчика | C12: разность | E12: расход эл,энергии за час | F12: показания счетчика | G12: разность | I12: расход эл,энергии за час | J12: показания счетчика | K12: разность | L12: расход эл,энергии за час | M12: показания счетчика | N12: разность | O12: расход эл,энергии за час
A13: 1 | B13: 2 | C13: 3 | E13: 4 | F13: 5 | G13: 6 | I13: 7 | J13: 8 | K13: 9 | L13: 10 | M13: 11 | N13: 12 | O13: 13
A14: 0 | E14: 35.598018 | I14: 0.87118345
A15: 1 | E15: 25.267345 | I15: 1.0140048
A16: 2 | E16: 26.366726 | I16: 0.69554215
A17: 3 | E17: 23.460951 | I17: 0.88060256
A18: 4 | E18: 22.78128 | I18: 0.74918305
A19: 5 | E19: 24.070509 | I19: 0.485688
A20: 6 | E20: 24.615386 | I20: 1.9901801
A21: 7 | E21: 23.92487 | I21: 11.786147
A22: 8 | E22: 30.377879 | I22: 13.142838
A23: 9 | E23: 35.451574 | I23: 15.569026
A24: 10 | E24: 48.171807 | I24: 23.172435
A25: 11 | E25: 47.029064 | I25: 11.68284
... A37: 23 | E37: 39.442725 | I37: 0.65493687
A38: 24
A39: Итого | E39: =SUM(E15:E38) -> 868.95671 | I39: =SUM(I15:I38) -> 128.93067 | L39: =SUM(L15:L38) -> 0 | O39: =SUM(O15:O38) -> 0
A40: 1, При наличии на предприятии отклонений от нормальных режимов электропотребления (временное изменение схем питания, остановка на ремонт, резкое снижение
A41: эл,потребления и т,д,) последние необходимо перечислить,
A42: Главный инженер АО "Вологдаоблэнерго" А.В. Чурляев
A43: составляется самим предприятием с соблюдением всех пунктов настоящей таблицы,

Sheet 3
B1: АО "Вологдаоблэнерго" | J1: код 900151 | M1: ПС Абаканово, ф, Алексино
B2: наименование предприятия | M2: наименование источника питания
M3: КТП "Мастерские" с, Абаканово
B4: ул, Горького, 99 | I4: Таблица № 1 | M4: ТП-242
B5: адрес
A6: почасовых записей показаний электрических счетчиков
A7: в режимный день 18 ИЮНЯ 2025г.
A8: 1630 | B8: 1628
A9: часы суток | B9: Активная энергия | J9: Реактивная энергия
B10: =M3 -> КТП "Мастерские" с, Абаканово | F10: =M4 -> ТП-242 | J10: =B10 -> КТП "Мастерские" с, Абаканово | M10: =F10 -> ТП-242
B11: Расчет, Коэф, | E11: 40 | F11: Расчет, Коэф, | I11: 30 | J11: Расчет, Коэф, | L11: =E11 -> 40 | M11: Расчет, Коэф, | O11: =I11 -> 30
B12: показания счетчика | C12: разность | E12: расход эл,энергии за час | F12: показания счетчика | G12: разность | I12: расход эл,энергии за час | J12: показания счетчика | K12: разность | L12: расход эл,энергии за час | M12: показания счетчика | N12: разность | O12: расход эл,энергии за час
A13: 1 | B13: 2 | C13: 3 | E13: 4 | F13: 5 | G13: 6 | I13: 7 | J13: 8 | K13: 9 | L13: 10 | M13: 11 | N13: 12 | O13: 13
A14: 0 | E14: 0 | I14: 1.1494782
A15: 1 | E15: 0 | I15: 0.71297214
A16: 2 | E16: 0 | I16: 0.74988138
A17: 3 | E17: 0 | I17: 0.63043138
A18: 4 | E18: 0 | I18: 0.66489995
A19: 5 | E19: 0 | I19: 0.66143037
A20: 6 | E20: 0 | I20: 0.74631755
A21: 7 | E21: 0 | I21: 0.52886556
A22: 8 | E22: 0 | I22: 0.51077849
A23: 9 | E23: 0 | I23: 0.64079832
A24: 10 | E24: 0 | I24: 1.0891357
A25: 11 | E25: 0 | I25: 1.8707027
... A37: 23 | E37: 0 | I37: 1.3130225
A38: 24
A39: Итого | E39: =SUM(E15:E38) -> 0 | I39: =SUM(I15:I38) -> 25.185101 | L39: =SUM(L15:L38) -> 0 | O39: =SUM(O15:O38) -> 0
A40: 1, При наличии на предприятии отклонений от нормальных режимов электропотребления (временное изменение схем питания, остановка на ремонт, резкое снижение
A41: эл,потребления и т,д,) последние необходимо перечислить,
A42: Главный инженер АО "Вологдаоблэнерго" А.В. Чурляев
A43: составляется самим предприятием с соблюдением всех пунктов настоящей таблицы,

Sheet 4
B1: АО "Вологдаоблэнерго" | J1: код 900151 | M1: ПС Абаканово, ф, Слабеево
B2: наименование предприятия | M2: наименование источника питания
M3: ТП-249
B4: ул, Горького, 99 | I4: Таблица № 1
B5: адрес
A6: почасовых записей показаний электрических счетчиков
A7: в режимный день 18 ИЮНЯ 2025г.
A8: 1630 | B8: 1628
A9: часы суток | B9: Активная энергия | J9: Реактивная энергия
B10: =M3 -> ТП-249 | F10: =M4 -> 0 | J10: =B10 -> ТП-249 | M10: =F10 -> 0
B11: Расчет, Коэф, | E11: 1 | F11: Расчет, Коэф, | I11: 120 | J11: Расчет, Коэф, | L11: =E11 -> 1 | M11: Расчет, Коэф, | O11: =I11 -> 120
B12: показания счетчика | C12: разность | E12: расход эл,энергии за час | F12: показания счетчика | G12: разность | I12: расход эл,энергии за час | J12: показания счетчика | K12: разность | L12: расход эл,энергии за час | M12: показания счетчика | N12: разность | O12: расход эл,энергии за час
A13: 1 | B13: 2 | C13: 3 | E13: 4 | F13: 5 | G13: 6 | I13: 7 | J13: 8 | K13: 9 | L13: 10 | M13: 11 | N13: 12 | O13: 13
A14: 0 | E14: 0 | I14: 0
A15: 1 | E15: 0 | I15: 0
A16: 2 | E16: 0 | I16: 0
A17: 3 | E17: 0 | I17: 0
A18: 4 | E18: 0 | I18: 0
A19: 5 | E19: 0 | I19: 0
A20: 6 | E20: 0 | I20: 0
A21: 7 | E21: 0 | I21: 0
A22: 8 | E22: 0 | I22: 0
A23: 9 | E23: 0 | I23: 0
A24: 10 | E24: 0 | I24: 0
A25: 11 | E25: 0 | I25: 0
... A37: 23 | E37: 0 | I37: 0
A38: 24
A39: Итого | E39: =SUM(E15:E38) -> 0 | I39: =SUM(I15:I38) -> 0 | L39: =SUM(L15:L38) -> 0 | O39: =SUM(O15:O38) -> 0
A40: 1, При наличии на предприятии отклонений от нормальных режимов электропотребления (временное изменение схем питания, остановка на ремонт, резкое снижение
A41: эл,потребления и т,д,) последние необходимо перечислить,
A42: Главный инженер АО "Вологдаоблэнерго" А.В. Чурляев
A43: составляется самим предприятием с соблюдением всех пунктов настоящей таблицы,

Sheet 5
B1: АО "Вологдаоблэнерго" | J1: код 900151 | M1: ПС Абаканово ф, Покров
B2: наименование предприятия | M2: наименование источника питания
M3: КТП Шухтовское Лесничество
B4: ул, Горького, 99 | I4: Таблица № 1
B5: адрес
A6: почасовых записей показаний электрических счетчиков
A7: в режимный день 18 ИЮНЯ 2025г.
A8: 1630 | B8: 1628
A9: часы суток | B9: Активная энергия | J9: Реактивная энергия
B10: =M3 -> КТП Шухтовское Лесничество | F10: =M4 -> 0 | J10: =B10 -> КТП Шухтовское Лесничество | M10: =F10 -> 0
B11: Расчет, Коэф, | E11: 30 | F11: Расчет, Коэф, | I11: 120 | J11: Расчет, Коэф, | L11: =E11 -> 30 | M11: Расчет, Коэф, | O11: =I11 -> 120
B12: показания счетчика | C12: разность | E12: расход эл,энергии за час | F12: показания счетчика | G12: разность | I12: расход эл,энергии за час | J12: показания счетчика | K12: разность | L12: расход эл,энергии за час | M12: показания счетчика | N12: разность | O12: расход эл,энергии за час
A13: 1 | B13: 2 | C13: 3 | E13: 4 | F13: 5 | G13: 6 | I13: 7 | J13: 8 | K13: 9 | L13: 10 | M13: 11 | N13: 12 | O13: 13
A14: 0 | E14: 6.795626 | I14: 0
A15: 1 | E15: 5.537708 | I15: 0
A16: 2 | E16: 5.848232 | I16: 0
A17: 3 | E17: 6.1952596 | I17: 0
A18: 4 | E18: 5.4308126 | I18: 0
A19: 5 | E19: 5.233536 | I19: 0
A20: 6 | E20: 4.4202948 | I20: 0
A21: 7 | E21: 4.6540169 | I21: 0
A22: 8 | E22: 8.913234 | I22: 0
A23: 9 | E23: 11.558103 | I23: 0
A24: 10 | E24: 15.927145 | I24: 0
A25: 11 | E25: 16.928854 | I25: 0
... A37: 23 | E37: 6.285389 | I37: 0
A38: 24
A39: Итого | E39: =SUM(E15:E38) -> 188.17072 | I39: =SUM(I15:I38) -> 0 | L39: =SUM(L15:L38) -> 0 | O39: =SUM(O15:O38) -> 0
A40: 1, При наличии на предприятии отклонений от нормальных режимов электропотребления (временное изменение схем питания, остановка на ремонт, резкое снижение
A41: эл,потребления и т,д,) последние необходимо перечислить,
A42: Главный инженер АО "Вологдаоблэнерго" А.В. Чурляев
A43: составляется самим предприятием с соблюдением всех пунктов настоящей таблицы,

Sheet 6
B1: АО "Вологдаоблэнерго" | J1: код 900151 | M1: ПС Абаканово, ф, Маслово
B2: наименование предприятия | M2: наименование источника питания
M3: ЦРП-Маслово
B4: ул, Горького, 99 | I4: Таблица № 1
B5: адрес
A6: почасовых записей показаний электрических счетчиков
A7: в режимный день 18 ИЮНЯ 2025г.
A8: 1630 | B8: 1628
A9: часы суток | B9: Активная энергия | J9: Реактивная энергия
B10: =M3 -> ЦРП-Маслово | F10: =M4 -> 0 | J10: =B10 -> ЦРП-Маслово | M10: =F10 -> 0
B11: Расчет, Коэф, | E11: 80 | F11: Расчет, Коэф, | I11: 120 | J11: Расчет, Коэф, | L11: =E11 -> 80 | M11: Расчет, Коэф, | O11: =I11 -> 120
B12: показания счетчика | C12: разность | E12: расход эл,энергии за час | F12: показания счетчика | G12: разность | I12: расход эл,энергии за час | J12: показания счетчика | K12: разность | L12: расход эл,энергии за час | M12: показания счетчика | N12: разность | O12: расход эл,энергии за час
A13: 1 | B13: 2 | C13: 3 | E13: 4 | F13: 5 | G13: 6 | I13: 7 | J13: 8 | K13: 9 | L13: 10 | M13: 11 | N13: 12 | O13: 13
A14: 0 | E14: 7.6174227 | I14: 0
A15: 1 | E15: 5.0907181 | I15: 0
A16: 2 | E16: 5.3088319 | I16: 0
A17: 3 | E17: 5.8815756 | I17: 0
A18: 4 | E18: 5.6509807 | I18: 0
A19: 5 | E19: 5.0582501 | I19: 0
A20: 6 | E20: 4.27365 | I20: 0
A21: 7 | E21: 4.0898936 | I21: 0
A22: 8 | E22: 4.7792139 | I22: 0
A23: 9 | E23: 3.3938578 | I23: 0
A24: 10 | E24: 4.4346169 | I24: 0
A25: 11 | E25: 4.8276199 | I25: 0
... A37: 23 | E37: 5.7255568 | I37: 0
A38: 24
A39: Итого | E39: =SUM(E15:E38) -> 118.46632 | I39: =SUM(I15:I38) -> 0 | L39: =SUM(L15:L38) -> 0 | O39: =SUM(O15:O38) -> 0
A40: 1, При наличии на предприятии отклонений от нормальных режимов электропотребления (временное изменение схем питания, остановка на ремонт, резкое снижение
A41: эл,потребления и т,д,) последние необходимо перечислить,
A42: Главный инженер АО "Вологдаоблэнерго" А.В. Чурляев
A43: составляется самим предприятием с соблюдением всех пунктов настоящей таблицы,

Sheet 7
B1: АО "Вологдаоблэнерго" | J1: код 900151 | M1: ПС Абаканово, ф,Шухободь
B2: наименование предприятия | M2: наименование источника питания
M3: ТП-227
B4: ул, Горького, 99 | I4: Таблица № 1
B5: адрес
A6: почасовых записей показаний электрических счетчиков
A7: в режимный день 18 ИЮНЯ 2025г.
A8: 1630 | B8: 1628
A9: часы суток | B9: Активная энергия | J9: Реактивная энергия
B10: =M3 -> ТП-227 | F10: =M4 | J10: =B10 -> ТП-227 | M10: =F10
B11: Расчет, Коэф, | E11: 60 | F11: Расчет, Коэф, | I11: 120 | J11: Расчет, Коэф, | L11: =E11 -> 60 | M11: Расчет, Коэф, | O11: =I11 -> 120
B12: показания счетчика | C12: разность | E12: расход эл,энергии за час | F12: показания счетчика | G12: разность | I12: расход эл,энергии за час | J12: показания счетчика | K12: разность | L12: расход эл,энергии за час | M12: показания счетчика | N12: разность | O12: расход эл,энергии за час
A13: 1 | B13: 2 | C13: 3 | E13: 4 | F13: 5 | G13: 6 | I13: 7 | J13: 8 | K13: 9 | L13: 10 | M13: 11 | N13: 12 | O13: 13
A14: 0 | E14: 3.8047604 | I14: 0
A15: 1 | E15: 2.1977002 | I15: 0
A16: 2 | E16: 2.3634238 | I16: 0
A17: 3 | E17: 2.1173672 | I17: 0
A18: 4 | E18: 2.0273811 | I18: 0
A19: 5 | E19: 2.0752598 | I19: 0
A20: 6 | E20: 1.7361703 | I20: 0
A21: 7 | E21: 1.5488206 | I21: 0
A22: 8 | E22: 0.9946739 | I22: 0
A23: 9 | E23: 0.72979808 | I23: 0
A24: 10 | E24: 3.0214732 | I24: 0
A25: 11 | E25: 3.0172624 | I25: 0
... A37: 23 | E37: 4.6567862 | I37: 0
A38: 24
A39: Итого | E39: =SUM(E15:E38) -> 62.095112 | I39: =SUM(I15:I38) -> 0 | L39: =SUM(L15:L38) -> 0 | O39: =SUM(O15:O38) -> 0
A40: 1, При наличии на предприятии отклонений от нормальных режимов электропотребления (временное изменение схем питания, остановка на ремонт, резкое снижение
A41: эл,потребления и т,д,) последние необходимо перечислить,
A42: Главный инженер АО "Вологдаоблэнерго" А.В. Чурляев
A43: составляется самим предприятием с соблюдением всех пунктов настоящей таблицы,

Sheet 8
B1: АО "Вологдаоблэнерго" | J1: код 900151 | M1: ПС Аксеново ф, Шалимово
B2: наименование предприятия | M2: наименование источника питания
M3: ТП-23 В-1
B4: ул, Горького, 99 | I4: Таблица № 1 | M4: КТП-Очистные
B5: адрес
A6: почасовых записей показаний электрических счетчиков
A7: в режимный день 18 ИЮНЯ 2025г.
A8: 1630 | B8: 1628
A9: часы суток | B9: Активная энергия | J9: Реактивная энергия
B10: =M3 -> ТП-23 В-1 | F10: =M4 -> КТП-Очистные | J10: =B10 -> ТП-23 В-1 | M10: =F10 -> КТП-Очистные
B11: Расчет, Коэф, | E11: 120 | F11: Расчет, Коэф, | I11: 20 | J11: Расчет, Коэф, | L11: =E11 -> 120 | M11: Расчет, Коэф, | O11: =I11 -> 20
B12: показания счетчика | C12: разность | E12: расход эл,энергии за час | F12: показания счетчика | G12: разность | I12: расход эл,энергии за час | J12: показания счетчика | K12: разность | L12: расход эл,энергии за час | M12: показания счетчика | N12: разность | O12: расход эл,энергии за час
A13: 1 | B13: 2 | C13: 3 | E13: 4 | F13: 5 | G13: 6 | I13: 7 | J13: 8 | K13: 9 | L13: 10 | M13: 11 | N13: 12 | O13: 13
A14: 0 | E14: 6.5849089 | I14: 6.8404034
A15: 1 | E15: 9.6102824 | I15: 3.9343387
A16: 2 | E16: 12.008748 | I16: 4.6427439
A17: 3 | E17: 9.4889419 | I17: 4.1148156
A18: 4 | E18: 7.8526615 | I18: 3.9157301
A19: 5 | E19: 7.8878653 | I19: 4.2433794
A20: 6 | E20: 6.5990183 | I20: 3.6074634
A21: 7 | E21: 7.7969893 | I21: 3.3323567
A22: 8 | E22: 12.688813 | I22: 3.9571891
A23: 9 | E23: 12.459967 | I23: 3.6739104
A24: 10 | E24: 14.334431 | I24: 5.0217352
A25: 11 | E25: 17.862194 | I25: 5.0979666
... A37: 23 | E37: 14.12304 | I37: 5.2394949
A38: 24
A39: Итого | E39: =SUM(E15:E38) -> 289.94478 | I39: =SUM(I15:I38) -> 111.60094 | L39: =SUM(L15:L38) -> 0 | O39: =SUM(O15:O38) -> 0
A40: 1, При наличии на предприятии отклонений от нормальных режимов электропотребления (временное изменение схем питания, остановка на ремонт, резкое снижение
A41: эл,потребления и т,д,) последние необходимо перечислить,
A42: Главный инженер АО "Вологдаоблэнерго" А.В. Чурляев
A43: составляется самим предприятием с соблюдением всех пунктов настоящей таблицы,

Sheet 9
B1: АО "Вологдаоблэнерго" | J1: код 900151 | M1: ПС Батран, ф, Гоша
B2: наименование предприятия | M2: наименование источника питания
M3: ТП-72
B4: ул, Горького, 99 | I4: Таблица № 1 | M4: МТП Гоша-2
B5: адрес
A6: почасовых записей показаний электрических счетчиков
A7: в режимный день 18 ИЮНЯ 2025г.
A8: 1630 | B8: 1628
A9: часы суток | B9: Активная энергия | J9: Реактивная энергия
B10: =M3 -> ТП-72 | F10: =M4 -> МТП Гоша-2 | J10: =B10 -> ТП-72 | M10: =F10 -> МТП Гоша-2
B11: Расчет, Коэф, | E11: 50 | F11: Расчет, Коэф, | I11: 20 | J11: Расчет, Коэф, | L11: =E11 -> 50 | M11: Расчет, Коэф, | O11: =I11 -> 20
B12: показания счетчика | C12: разность | E12: расход эл,энергии за час | F12: показания счетчика | G12: разность | I12: расход эл,энергии за час | J12: показания счетчика | K12: разность | L12: расход эл,энергии за час | M12: показания счетчика | N12: разность | O12: расход эл,энергии за час
A13: 1 | B13: 2 | C13: 3 | E13: 4 | F13: 5 | G13: 6 | I13: 7 | J13: 8 | K13: 9 | L13: 10 | M13: 11 | N13: 12 | O13: 13
A14: 0 | E14: 4.8991722 | I14: 0
A15: 1 | E15: 1.6296506 | I15: 0
A16: 2 | E16: 3.3712502 | I16: 0
A17: 3 | E17: 3.381906 | I17: 0
A18: 4 | E18: 2.9814427 | I18: 0
A19: 5 | E19: 1.78416 | I19: 0
A20: 6 | E20: 1.4140754 | I20: 0
A21: 7 | E21: 1.6369648 | I21: 0
A22: 8 | E22: 2.061036 | I22: 0
A23: 9 | E23: 2.6403264 | I23: 0
A24: 10 | E24: 4.0013049 | I24: 0
A25: 11 | E25: 4.0029015 | I25: 0
... A37: 23 | E37: 4.0237941 | I37: 0
A38: 24
A39: Итого | E39: =SUM(E15:E38) -> 66.463058 | I39: =SUM(I15:I38) -> 0 | L39: =SUM(L15:L38) -> 0 | O39: =SUM(O15:O38) -> 0
A40: 1, При наличии на предприятии отклонений от нормальных режимов электропотребления (временное изменение схем питания, остановка на ремонт, резкое снижение
A41: эл,потребления и т,д,) последние необходимо перечислить,
A42: Главный инженер АО "Вологдаоблэнерго" А.В. Чурляев
A43: составляется самим предприятием с соблюдением всех пунктов настоящей таблицы,

Sheet 10
B1: АО "Вологдаоблэнерго" | J1: код 900151 | M1: ПС Батран, ф,Льнозавод
B2: наименование предприятия | M2: наименование источника питания
M3: КТП-Льнозавод
B4: ул, Горького, 99 | I4: Таблица № 1 | M4: КТП-Детский сад
B5: адрес
A6: почасовых записей показаний электрических счетчиков
A7: в режимный день 18 ИЮНЯ 2025г.
A8: 1630 | B8: 1628
A9: часы суток | B9: Активная энергия | J9: Реактивная энергия
B10: =M3 -> КТП-Льнозавод | F10: =M4 -> КТП-Детский сад | J10: =B10 -> КТП-Льнозавод | M10: =F10 -> КТП-Детский сад
B11: Расчет, Коэф, | E11: 120 | F11: Расчет, Коэф, | I11: 40 | J11: Расчет, Коэф, | L11: =E11 -> 120 | M11: Расчет, Коэф, | O11: =I11 -> 40
B12: показания счетчика | C12: разность | E12: расход эл,энергии за час | F12: показания счетчика | G12: разность | I12: расход эл,энергии за час | J12: показания счетчика | K12: разность | L12: расход эл,энергии за час | M12: показания счетчика | N12: разность | O12: расход эл,энергии за час
A13: 1 | B13: 2 | C13: 3 | E13: 4 | F13: 5 | G13: 6 | I13: 7 | J13: 8 | K13: 9 | L13: 10 | M13: 11 | N13: 12 | O13: 13
A14: 0 | E14: 0 | I14: 7.7599859
A15: 1 | E15: 0 | I15: 3.9039186
A16: 2 | E16: 0 | I16: 4.9267569
A17: 3 | E17: 0 | I17: 4.6164922
A18: 4 | E18: 0 | I18: 3.5086739
A19: 5 | E19: 0 | I19: 3.4509411
A20: 6 | E20: 0 | I20: 2.7548283
A21: 7 | E21: 0 | I21: 3.3948132
A22: 8 | E22: 0 | I22: 6.165186
A23: 9 | E23: 0 | I23: 5.8858512
A24: 10 | E24: 0 | I24: 7.7137351
A25: 11 | E25: 0 | I25: 8.4644269
... A37: 23 | E37: 0 | I37: 8.3252552
A38: 24
A39: Итого | E39: =SUM(E15:E38) -> 0 | I39: =SUM(I15:I38) -> 152.9008 | L39: =SUM(L15:L38) -> 0 | O39: =SUM(O15:O38) -> 0
A40: 1, При наличии на предприятии отклонений от нормальных режимов электропотребления (временное изменение схем питания, остановка на ремонт, резкое снижение
A41: эл,потребления и т,д,) последние необходимо перечислить,
A42: Главный инженер АО "Вологдаоблэнерго" А.В. Чурляев
A43: составляется самим предприятием с соблюдением всех пунктов настоящей таблицы,

Sheet 11
B1: АО "Вологдаоблэнерго" | J1: код 900151 | M1: ПС Батран, ф,Гоша
B2: наименование предприятия | M2: наименование источника питания
M3: КТП-ДНТ Ульяновский
B4: ул, Горького, 99 | I4: Таблица № 1
B5: адрес
A6: почасовых записей показаний электрических счетчиков
A7: в режимный день 18 ИЮНЯ 2025г.
A8: 1630 | B8: 1628
A9: часы суток | B9: Активная энергия | J9: Реактивная энергия
B10: =M3 -> КТП-ДНТ Ульяновский | F10: =M4 -> 0 | J10: =B10 -> КТП-ДНТ Ульяновский | M10: =F10 -> 0
B11: Расчет, Коэф, | E11: 60 | F11: Расчет, Коэф, | I11: 120 | J11: Расчет, Коэф, | L11: =E11 -> 60 | M11: Расчет, Коэф, | O11: =I11 -> 120
B12: показания счетчика | C12: разность | E12: расход эл,энергии за час | F12: показания счетчика | G12: разность | I12: расход эл,энергии за час | J12: показания счетчика | K12: разность | L12: расход эл,энергии за час | M12: показания счетчика | N12: разность | O12: расход эл,энергии за час
A13: 1 | B13: 2 | C13: 3 | E13: 4 | F13: 5 | G13: 6 | I13: 7 | J13: 8 | K13: 9 | L13: 10 | M13: 11 | N13: 12 | O13: 13
A14: 0 | E14: 0.86229382 | I14: 0
A15: 1 | E15: 0.63983187 | I15: 0
A16: 2 | E16: 0.77450038 | I16: 0
A17: 3 | E17: 0.67352209 | I17: 0
A18: 4 | E18: 0.61176912 | I18: 0
A19: 5 | E19: 0.64519295 | I19: 0
A20: 6 | E20: 0.46654867 | I20: 0
A21: 7 | E21: 0.73285656 | I21: 0
A22: 8 | E22: 1.2949597 | I22: 0
A23: 9 | E23: 1.374229 | I23: 0
A24: 10 | E24: 2.0169445 | I24: 0
A25: 11 | E25: 1.8157762 | I25: 0
... A37: 23 | E37: 0.69188631 | I37: 0
A38: 24
A39: Итого | E39: =SUM(E15:E38) -> 27.473308 | I39: =SUM(I15:I38) -> 0 | L39: =SUM(L15:L38) -> 0 | O39: =SUM(O15:O38) -> 0
A40: 1, При наличии на предприятии отклонений от нормальных режимов электропотребления (временное изменение схем питания, остановка на ремонт, резкое снижение
A41: эл,потребления и т,д,) последние необходимо перечислить,
A42: Главный инженер АО "Вологдаоблэнерго" А.В. Чурляев
A43: составляется самим предприятием с соблюдением всех пунктов настоящей таблицы,

Sheet 12
B1: АО "Вологдаоблэнерго" | J1: код 900151 | M1: ПС Домозерово, ф,Дом-2
B2: наименование предприятия | M2: наименование источника питания
M3: ТП-Водозабор (встроен) В-1
B4: ул, Горького, 99 | I4: Таблица № 1 | M4: ТП-Водозабор (встроен) В-2
B5: адрес
A6: почасовых записей показаний электрических счетчиков
A7: в режимный день 18 ИЮНЯ 2025г.
A8: 1630 | B8: 1628
A9: часы суток | B9: Активная энергия | J9: Реактивная энергия
B10: =M3 -> ТП-Водозабор (встроен) В-1 | F10: =M4 -> ТП-Водозабор (встроен) В-2 | J10: =B10 -> ТП-Водозабор (встроен) В-1 | M10: =F10 -> ТП-Водозабор (встроен) В-2
B11: Расчет, Коэф, | E11: 20 | F11: Расчет, Коэф, | I11: 20 | J11: Расчет, Коэф, | L11: =E11 -> 20 | M11: Расчет, Коэф, | O11: =I11 -> 20
B12: показания счетчика | C12: разность | E12: расход эл,энергии за час | F12: показания счетчика | G12: разность | I12: расход эл,энергии за час | J12: показания счетчика | K12: разность | L12: расход эл,энергии за час | M12: показания счетчика | N12: разность | O12: расход эл,энергии за час
A13: 1 | B13: 2 | C13: 3 | E13: 4 | F13: 5 | G13: 6 | I13: 7 | J13: 8 | K13: 9 | L13: 10 | M13: 11 | N13: 12 | O13: 13
A14: 0 | E14: 0 | I14: 1.2180435
A15: 1 | E15: 0 | I15: 0.95696705
A16: 2 | E16: 0 | I16: 1.0867846
A17: 3 | E17: 0 | I17: 1.0006847
A18: 4 | E18: 0 | I18: 0.98018115
A19: 5 | E19: 0 | I19: 0.95220411
A20: 6 | E20: 0 | I20: 0.77512279
A21: 7 | E21: 0 | I21: 1.5463021
A22: 8 | E22: 0 | I22: 5.1734991
A23: 9 | E23: 0 | I23: 5.1026533
A24: 10 | E24: 0 | I24: 6.7534219
A25: 11 | E25: 0 | I25: 6.8954504
... A37: 23 | E37: 0 | I37: 0.9194306
A38: 24
A39: Итого | E39: =SUM(E15:E38) -> 0 | I39: =SUM(I15:I38) -> 70.178722 | L39: =SUM(L15:L38) -> 0 | O39: =SUM(O15:O38) -> 0
A40: 1, При наличии на предприятии отклонений от нормальных режимов электропотребления (временное изменение схем питания, остановка на ремонт, резкое снижение
A41: эл,потребления и т,д,) последние необходимо перечислить,
A42: Главный инженер АО "Вологдаоблэнерго" А.В. Чурляев
A43: составляется самим предприятием с соблюдением всех пунктов настоящей таблицы,

Sheet 13
B1: АО "Вологдаоблэнерго" | J1: код 900151 | M1: ПС Домозерово, ф,Дом-2
B2: наименование предприятия | M2: наименование источника питания
M3: ТП-Школа ПС Домозерово В-1
B4: ул, Горького, 99 | I4: Таблица № 1 | M4: ТП-Школа ПС Домозерово В-2
B5: адрес
A6: почасовых записей показаний электрических счетчиков
A7: в режимный день 18 ИЮНЯ 2025г.
A8: 1630 | B8: 1628
A9: часы суток | B9: Активная энергия | J9: Реактивная энергия
B10: =M3 -> ТП-Школа ПС Домозерово В-1 | F10: =M4 -> ТП-Школа ПС Домозерово В-2 | J10: =B10 -> ТП-Школа ПС Домозерово В-1 | M10: =F10 -> ТП-Школа ПС Домозерово В-2
B11: Расчет, Коэф, | E11: 120 | F11: Расчет, Коэф, | I11: 120 | J11: Расчет, Коэф, | L11: =E11 -> 120 | M11: Расчет, Коэф, | O11: =I11 -> 120
B12: показания счетчика | C12: разность | E12: расход эл,энергии за час | F12: показания счетчика | G12: разность | I12: расход эл,энергии за час | J12: показания счетчика | K12: разность | L12: расход эл,энергии за час | M12: показания счетчика | N12: разность | O12: расход эл,энергии за час
A13: 1 | B13: 2 | C13: 3 | E13: 4 | F13: 5 | G13: 6 | I13: 7 | J13: 8 | K13: 9 | L13: 10 | M13: 11 | N13: 12 | O13: 13
A14: 0 | E14: 7.547886 | I14: 16.242731
A15: 1 | E15: 6.1088617 | I15: 12.776461
A16: 2 | E16: 6.8645752 | I16: 12.98925
A17: 3 | E17: 6.2423122 | I17: 11.671987
A18: 4 | E18: 4.6675633 | I18: 11.672272
A19: 5 | E19: 4.4172045 | I19: 10.276136
A20: 6 | E20: 3.5697547 | I20: 9.7665472
A21: 7 | E21: 3.6748601 | I21: 9.1629735
A22: 8 | E22: 4.5163572 | I22: 20.044023
A23: 9 | E23: 4.1438291 | I23: 19.978668
A24: 10 | E24: 5.2278512 | I24: 26.420323
A25: 11 | E25: 5.5614181 | I25: 27.691228
... A37: 23 | E37: 5.5270708 | I37: 13.935041
A38: 24
A39: Итого | E39: =SUM(E15:E38) -> 126.50813 | I39: =SUM(I15:I38) -> 416.51022 | L39: =SUM(L15:L38) -> 0 | O39: =SUM(O15:O38) -> 0
A40: 1, При наличии на предприятии отклонений от нормальных режимов электропотребления (временное изменение схем питания, остановка на ремонт, резкое снижение
A41: эл,потребления и т,д,) последние необходимо перечислить,
A42: Главный инженер АО "Вологдаоблэнерго" А.В. Чурляев
A43: составляется самим предприятием с соблюдением всех пунктов настоящей таблицы,

Sheet 14
B1: АО "Вологдаоблэнерго" | J1: код 900151 | M1: ПС Домозерово, ф,Дом-2
B2: наименование предприятия | M2: наименование источника питания
M3: КТП "Очистные" ПС Домозерово
B4: ул, Горького, 99 | I4: Таблица № 1 | M4: ТП "Детский сад" ПС Домозерово
B5: адрес
A6: почасовых записей показаний электрических счетчиков
A7: в режимный день 18 ИЮНЯ 2025г.
A8: 1630 | B8: 1628
A9: часы суток | B9: Активная энергия | J9: Реактивная энергия
B10: =M3 -> КТП "Очистные" ПС Домозерово | F10: =M4 -> ТП "Детский сад" ПС Домозерово | J10: =B10 -> КТП "Очистные" ПС Домозерово | M10: =F10 -> ТП "Детский сад" ПС Домозерово
B11: Расчет, Коэф, | E11: 60 | F11: Расчет, Коэф, | I11: 80 | J11: Расчет, Коэф, | L11: =E11 -> 60 | M11: Расчет, Коэф, | O11: =I11 -> 80
B12: показания счетчика | C12: разность | E12: расход эл,энергии за час | F12: показания счетчика | G12: разность | I12: расход эл,энергии за час | J12: показания счетчика | K12: разность | L12: расход эл,энергии за час | M12: показания счетчика | N12: разность | O12: расход эл,энергии за час
A13: 1 | B13: 2 | C13: 3 | E13: 4 | F13: 5 | G13: 6 | I13: 7 | J13: 8 | K13: 9 | L13: 10 | M13: 11 | N13: 12 | O13: 13
A14: 0 | E14: 0.2749858 | I14: 21.037467
A15: 1 | E15: 0.2383946 | I15: 12.62436
A16: 2 | E16: 0.22995475 | I16: 14.14269
A17: 3 | E17: 0.18036832 | I17: 11.581258
A18: 4 | E18: 0.19081234 | I18: 10.338726
A19: 5 | E19: 0.18780632 | I19: 10.940761
A20: 6 | E20: 0.38965632 | I20: 10.767922
A21: 7 | E21: 1.0577311 | I21: 13.458369
A22: 8 | E22: 0.66670034 | I22: 17.730884
A23: 9 | E23: 0.59807843 | I23: 18.037286
A24: 10 | E24: 0.50592109 | I24: 20.049465
A25: 11 | E25: 0.27034671 | I25: 19.632321
... A37: 23 | E37: 0.19848597 | I37: 19.698486
A38: 24
A39: Итого | E39: =SUM(E15:E38) -> 12.747238 | I39: =SUM(I15:I38) -> 405.61765 | L39: =SUM(L15:L38) -> 0 | O39: =SUM(O15:O38) -> 0
A40: 1, При наличии на предприятии отклонений от нормальных режимов электропотребления (временное изменение схем питания, остановка на ремонт, резкое снижение
A41: эл,потребления и т,д,) последние необходимо перечислить,
A42: Главный инженер АО "Вологдаоблэнерго" А.В. Чурляев
A43: составляется самим предприятием с соблюдением всех пунктов настоящей таблицы,

Sheet 15
B1: АО "Вологдаоблэнерго" | J1: код 900151 | M1: ПС Домозерово, ф, Починок
B2: наименование предприятия | M2: наименование источника питания
M3: КТП-Коттеджи
B4: ул, Горького, 99 | I4: Таблица № 1 | M4: КТП-118 (Горизонт)
B5: адрес
A6: почасовых записей показаний электрических счетчиков
A7: в режимный день 18 ИЮНЯ 2025г.
A8: 1630 | B8: 1628
A9: часы суток | B9: Активная энергия | J9: Реактивная энергия
B10: =M3 -> КТП-Коттеджи | F10: =M4 -> КТП-118 (Горизонт) | J10: =B10 -> КТП-Коттеджи | M10: =F10 -> КТП-118 (Горизонт)
B11: Расчет, Коэф, | E11: 60 | F11: Расчет, Коэф, | I11: 80 | J11: Расчет, Коэф, | L11: =E11 -> 60 | M11: Расчет, Коэф, | O11: =I11 -> 80
B12: показания счетчика | C12: разность | E12: расход эл,энергии за час | F12: показания счетчика | G12: разность | I12: расход эл,энергии за час | J12: показания счетчика | K12: разность | L12: расход эл,энергии за час | M12: показания счетчика | N12: разность | O12: расход эл,энергии за час
A13: 1 | B13: 2 | C13: 3 | E13: 4 | F13: 5 | G13: 6 | I13: 7 | J13: 8 | K13: 9 | L13: 10 | M13: 11 | N13: 12 | O13: 13
A14: 0 | E14: 5.537645 | I14: 19.488696
A15: 1 | E15: 3.7696147 | I15: 8.3351196
A16: 2 | E16: 4.113635 | I16: 13.725365
A17: 3 | E17: 4.0543661 | I17: 8.7953517
A18: 4 | E18: 3.6768069 | I18: 7.1222335
A19: 5 | E19: 2.854656 | I19: 7.781233
A20: 6 | E20: 2.8532898 | I20: 7.12275
A21: 7 | E21: 3.0462656 | I21: 8.8406174
A22: 8 | E22: 4.1149032 | I22: 8.7268446
A23: 9 | E23: 4.1580691 | I23: 14.714628
A24: 10 | E24: 5.3309092 | I24: 15.664816
A25: 11 | E25: 6.1310773 | I25: 17.16058
... A37: 23 | E37: 4.3132528 | I37: 13.219649
A38: 24
A39: Итого | E39: =SUM(E15:E38) -> 107.27584 | I39: =SUM(I15:I38) -> 318.68524 | L39: =SUM(L15:L38) -> 0 | O39: =SUM(O15:O38) -> 0
A40: 1, При наличии на предприятии отклонений от нормальных режимов электропотребления (временное изменение схем питания, остановка на ремонт, резкое снижение
A41: эл,потребления и т,д,) последние необходимо перечислить,
A42: Главный инженер АО "Вологдаоблэнерго" А.В. Чурляев
A43: составляется самим предприятием с соблюдением всех пунктов настоящей таблицы,

Sheet 16
B1: АО "Вологдаоблэнерго" | J1: код 900151 | M1: ПС Домозерово, ф, Жары
B2: наименование предприятия | M2: наименование источника питания
M3: ТП-79
B4: ул, Горького, 99 | I4: Таблица № 1
B5: адрес
A6: почасовых записей показаний электрических счетчиков
A7: в режимный день 18 ИЮНЯ 2025г.
A8: 1630 | B8: 1628
A9: часы суток | B9: Активная энергия | J9: Реактивная энергия
B10: =M3 -> ТП-79 | F10: =M4 -> 0 | J10: =B10 -> ТП-79 | M10: =F10 -> 0
B11: Расчет, Коэф, | E11: 40 | F11: Расчет, Коэф, | I11: 120 | J11: Расчет, Коэф, | L11: =E11 -> 40 | M11: Расчет, Коэф, | O11: =I11 -> 120
B12: показания счетчика | C12: разность | E12: расход эл,энергии за час | F12: показания счетчика | G12: разность | I12: расход эл,энергии за час | J12: показания счетчика | K12: разность | L12: расход эл,энергии за час | M12: показания счетчика | N12: разность | O12: расход эл,энергии за час
A13: 1 | B13: 2 | C13: 3 | E13: 4 | F13: 5 | G13: 6 | I13: 7 | J13: 8 | K13: 9 | L13: 10 | M13: 11 | N13: 12 | O13: 13
A14: 0 | E14: 7.6332264 | I14: 0
A15: 1 | E15: 3.8614959 | I15: 0
A16: 2 | E16: 4.386174 | I16: 0
A17: 3 | E17: 4.0778924 | I17: 0
A18: 4 | E18: 3.6939311 | I18: 0
A19: 5 | E19: 3.9564531 | I19: 0
A20: 6 | E20: 3.1842882 | I20: 0
A21: 7 | E21: 2.8609108 | I21: 0
A22: 8 | E22: 3.3096056 | I22: 0
A23: 9 | E23: 3.192125 | I23: 0
A24: 10 | E24: 4.2160091 | I24: 0
A25: 11 | E25: 5.1816454 | I25: 0
... A37: 23 | E37: 4.7585739 | I37: 0
A38: 24
A39: Итого | E39: =SUM(E15:E38) -> 93.239685 | I39: =SUM(I15:I38) -> 0 | L39: =SUM(L15:L38) -> 0 | O39: =SUM(O15:O38) -> 0
A40: 1, При наличии на предприятии отклонений от нормальных режимов электропотребления (временное изменение схем питания, остановка на ремонт, резкое снижение
A41: эл,потребления и т,д,) последние необходимо перечислить,
A42: Главный инженер АО "Вологдаоблэнерго" А.В. Чурляев
A43: составляется самим предприятием с соблюдением всех пунктов настоящей таблицы,

Sheet 17
B1: АО "Вологдаоблэнерго" | K1: код 900151 | N1: ПС Домозерово, ф, Дом-2
B2: наименование предприятия | N2: наименование источника питания
N3: ТП-74
B4: ул, Горького, 99 | J4: Таблица № 1 | N4: ТП-СЗМК-2(не баланс)
B5: адрес
A6: почасовых записей показаний электрических счетчиков
A7: в режимный день 18 ИЮНЯ 2025г.
A8: 1630 | B8: 1628
A9: часы суток | B9: Активная энергия | K9: Реактивная энергия
B10: =N3 -> ТП-74 | F10: =N4 -> ТП-СЗМК-2(не баланс) | K10: =B10 -> ТП-74 | N10: =F10 -> ТП-СЗМК-2(не баланс)
B11: Расчет, Коэф, | E11: 120 | F11: Расчет, Коэф, | J11: 200 | K11: Расчет, Коэф, | M11: =E11 -> 120 | N11: Расчет, Коэф, | P11: =J11 -> 200
B12: показания счетчика | C12: разность | E12: расход эл,энергии за час | F12: показания счетчика | G12: разность | J12: расход эл,энергии за час | K12: показания счетчика | L12: разность | M12: расход эл,энергии за час | N12: показания счетчика | O12: разность | P12: расход эл,энергии за час
A13: 1 | B13: 2 | C13: 3 | E13: 4 | F13: 5 | G13: 6 | J13: 7 | K13: 8 | L13: 9 | M13: 10 | N13: 11 | O13: 12 | P13: 13
A14: 0 | E14: 24.35501 | I14: 0 | J14: 0
A15: 1 | E15: 20.4144 | I15: 0 | J15: 0.3
A16: 2 | E16: 21.393422 | I16: 0 | J16: 0.3
A17: 3 | E17: 20.586005 | I17: 0 | J17: 0.3
A18: 4 | E18: 18.553289 | I18: 0 | J18: 0.2
A19: 5 | E19: 19.492418 | I19: 0 | J19: 0
A20: 6 | E20: 14.966881 | I20: 0 | J20: 0
A21: 7 | E21: 14.202461 | I21: 0 | J21: 0.5
A22: 8 | E22: 17.327625 | I22: 0 | J22: 1
A23: 9 | E23: 29.711537 | I23: 0 | J23: 1
A24: 10 | E24: 51.040287 | I24: 0 | J24: 1
A25: 11 | E25: 46.789686 | I25: 0 | J25: 1.1
... A37: 23 | E37: 19.642091 | I37: 0 | J37: 0
A38: 24
A39: Итого | E39: =SUM(E15:E38) -> 647.0644 | J39: =SUM(J15:J38) -> 8.6 | M39: =SUM(M15:M38) -> 0 | P39: =SUM(P15:P38) -> 0
A40: 1, При наличии на предприятии отклонений от нормальных режимов электропотребления (временное изменение схем питания, остановка на ремонт, резкое снижение
A41: эл,потребления и т,д,) последние необходимо перечислить,
A42: Главный инженер АО "Вологдаоблэнерго" А.В. Чурляев
A43: составляется самим предприятием с соблюдением всех пунктов настоящей таблицы,

Sheet 18
B1: АО "Вологдаоблэнерго" | J1: код 900151 | M1: ПС Домозерово, ф, Починок
B2: наименование предприятия | M2: наименование источника питания
M3: КТП-Бомк
B4: ул, Горького, 99 | I4: Таблица № 1
B5: адрес
A6: почасовых записей показаний электрических счетчиков
A7: в режимный день 18 ИЮНЯ 2025г.
A8: 1630 | B8: 1628
A9: часы суток | B9: Активная энергия | J9: Реактивная энергия
B10: =M3 -> КТП-Бомк | F10: =M4 -> 0 | J10: =B10 -> КТП-Бомк | M10: =F10 -> 0
B11: Расчет, Коэф, | E11: 80 | F11: Расчет, Коэф, | I11: 120 | J11: Расчет, Коэф, | L11: =E11 -> 80 | M11: Расчет, Коэф, | O11: =I11 -> 120
B12: показания счетчика | C12: разность | E12: расход эл,энергии за час | F12: показания счетчика | G12: разность | I12: расход эл,энергии за час | J12: показания счетчика | K12: разность | L12: расход эл,энергии за час | M12: показания счетчика | N12: разность | O12: расход эл,энергии за час
A13: 1 | B13: 2 | C13: 3 | E13: 4 | F13: 5 | G13: 6 | I13: 7 | J13: 8 | K13: 9 | L13: 10 | M13: 11 | N13: 12 | O13: 13
A14: 0 | E14: 23.965381 | I14: 0
A15: 1 | E15: 14.161612 | I15: 0
A16: 2 | E16: 13.344355 | I16: 0
A17: 3 | E17: 11.716643 | I17: 0
A18: 4 | E18: 10.035485 | I18: 0
A19: 5 | E19: 11.71974 | I19: 0
A20: 6 | E20: 11.586995 | I20: 0
A21: 7 | E21: 10.026674 | I21: 0
A22: 8 | E22: 15.383412 | I22: 0
A23: 9 | E23: 18.06935 | I23: 0
A24: 10 | E24: 27.16461 | I24: 0
A25: 11 | E25: 28.122232 | I25: 0
... A37: 23 | E37: 24.214774 | I37: 0
A38: 24
A39: Итого | E39: =SUM(E15:E38) -> 501.86529 | I39: =SUM(I15:I38) -> 0 | L39: =SUM(L15:L38) -> 0 | O39: =SUM(O15:O38) -> 0
A40: 1, При наличии на предприятии отклонений от нормальных режимов электропотребления (временное изменение схем питания, остановка на ремонт, резкое снижение
A41: эл,потребления и т,д,) последние необходимо перечислить,
A42: Главный инженер АО "Вологдаоблэнерго" А.В. Чурляев
A43: составляется самим предприятием с соблюдением всех пунктов настоящей таблицы,

Sheet 19
B1: АО "Вологдаоблэнерго" | J1: код 900151 | M1: ПС Енюково, ф,Борисово
B2: наименование предприятия | M2: наименование источника питания
M3: ТП-Ферма Фенево В-1
B4: ул, Горького, 99 | I4: Таблица № 1 | M4: ТП-Ферма Фенево В-2
B5: адрес
A6: почасовых записей показаний электрических счетчиков
A7: в режимный день 18 ИЮНЯ 2025г.
A8: 1630 | B8: 1628
A9: часы суток | B9: Активная энергия | J9: Реактивная энергия
B10: =M3 -> ТП-Ферма Фенево В-1 | F10: =M4 -> ТП-Ферма Фенево В-2 | J10: =B10 -> ТП-Ферма Фенево В-1 | M10: =F10 -> ТП-Ферма Фенево В-2
B11: Расчет, Коэф, | E11: 200 | F11: Расчет, Коэф, | I11: 200 | J11: Расчет, Коэф, | L11: =E11 -> 200 | M11: Расчет, Коэф, | O11: =I11 -> 200
B12: показания счетчика | C12: разность | E12: расход эл,энергии за час | F12: показания счетчика | G12: разность | I12: расход эл,энергии за час | J12: показания счетчика | K12: разность | L12: расход эл,энергии за час | M12: показания счетчика | N12: разность | O12: расход эл,энергии за час
A13: 1 | B13: 2 | C13: 3 | E13: 4 | F13: 5 | G13: 6 | I13: 7 | J13: 8 | K13: 9 | L13: 10 | M13: 11 | N13: 12 | O13: 13
A14: 0 | E14: 14.371564 | I14: 7.179197
A15: 1 | E15: 7.9038054 | I15: 6.0206536
A16: 2 | E16: 8.7489858 | I16: 12.896511
A17: 3 | E17: 8.5180735 | I17: 26.351365
A18: 4 | E18: 7.6625627 | I18: 42.828298
A19: 5 | E19: 19.102772 | I19: 46.395985
A20: 6 | E20: 15.396106 | I20: 32.62848
A21: 7 | E21: 14.158589 | I21: 15.009708
A22: 8 | E22: 15.433082 | I22: 20.55062
A23: 9 | E23: 14.329568 | I23: 25.513266
A24: 10 | E24: 22.565049 | I24: 25.842574
A25: 11 | E25: 20.228384 | I25: 17.620813
... A37: 23 | E37: 17.390656 | I37: 5.2898747
A38: 24
A39: Итого | E39: =SUM(E15:E38) -> 404.4184 | I39: =SUM(I15:I38) -> 560.97528 | L39: =SUM(L15:L38) -> 0 | O39: =SUM(O15:O38) -> 0
A40: 1, При наличии на предприятии отклонений от нормальных режимов электропотребления (временное изменение схем питания, остановка на ремонт, резкое снижение
A41: эл,потребления и т,д,) последние необходимо перечислить,
A42: Главный инженер АО "Вологдаоблэнерго" А.В. Чурляев
A43: составляется самим предприятием с соблюдением всех пунктов настоящей таблицы,

Sheet 20
B1: АО "Вологдаоблэнерго" | J1: код 900151 | M1: ПС Енюково, ф, Яганово
B2: наименование предприятия | M2: наименование источника питания
M3: КТП-КЗС-2
B4: ул, Горького, 99 | I4: Таблица № 1
B5: адрес
A6: почасовых записей показаний электрических счетчиков
A7: в режимный день 18 ИЮНЯ 2025г.
A8: 1630 | B8: 1628
A9: часы суток | B9: Активная энергия | J9: Реактивная энергия
B10: =M3 -> КТП-КЗС-2 | F10: =M4 -> 0 | J10: =B10 -> КТП-КЗС-2 | M10: =F10 -> 0
B11: Расчет, Коэф, | E11: 80 | F11: Расчет, Коэф, | I11: 120 | J11: Расчет, Коэф, | L11: =E11 -> 80 | M11: Расчет, Коэф, | O11: =I11 -> 120
B12: показания счетчика | C12: разность | E12: расход эл,энергии за час | F12: показания счетчика | G12: разность | I12: расход эл,энергии за час | J12: показания счетчика | K12: разность | L12: расход эл,энергии за час | M12: показания счетчика | N12: разность | O12: расход эл,энергии за час
A13: 1 | B13: 2 | C13: 3 | E13: 4 | F13: 5 | G13: 6 | I13: 7 | J13: 8 | K13: 9 | L13: 10 | M13: 11 | N13: 12 | O13: 13
A14: 0 | E14: 3.161744 | I14: 0
A15: 1 | E15: 2.4840531 | I15: 0
A16: 2 | E16: 2.7824643 | I16: 0
A17: 3 | E17: 2.4563747 | I17: 0
A18: 4 | E18: 2.3729226 | I18: 0
A19: 5 | E19: 2.4289617 | I19: 0
A20: 6 | E20: 2.0113432 | I20: 0
A21: 7 | E21: 2.0539925 | I21: 0
A22: 8 | E22: 2.3888755 | I22: 0
A23: 9 | E23: 2.8894047 | I23: 0
A24: 10 | E24: 3.462035 | I24: 0
A25: 11 | E25: 3.5359853 | I25: 0
... A37: 23 | E37: 2.6927467 | I37: 0
A38: 24
A39: Итого | E39: =SUM(E15:E38) -> 67.897685 | I39: =SUM(I15:I38) -> 0 | L39: =SUM(L15:L38) -> 0 | O39: =SUM(O15:O38) -> 0
A40: 1, При наличии на предприятии отклонений от нормальных режимов электропотребления (временное изменение схем питания, остановка на ремонт, резкое снижение
A41: эл,потребления и т,д,) последние необходимо перечислить,
A42: Главный инженер АО "Вологдаоблэнерго" А.В. Чурляев
A43: составляется самим предприятием с соблюдением всех пунктов настоящей таблицы,

Sheet 21
B1: АО "Вологдаоблэнерго" | J1: код 900151 | M1: ПС Енюково ф, Соболево
B2: наименование предприятия | M2: наименование источника питания
M3: ТП-323
B4: ул, Горького, 99 | I4: Таблица № 1
B5: адрес
A6: почасовых записей показаний электрических счетчиков
A7: в режимный день 18 ИЮНЯ 2025г.
A8: 1630 | B8: 1628
A9: часы суток | B9: Активная энергия | J9: Реактивная энергия
B10: =M3 -> ТП-323 | F10: =M4 -> 0 | J10: =B10 -> ТП-323 | M10: =F10 -> 0
B11: Расчет, Коэф, | E11: 20 | F11: Расчет, Коэф, | I11: 120 | J11: Расчет, Коэф, | L11: =E11 -> 20 | M11: Расчет, Коэф, | O11: =I11 -> 120
B12: показания счетчика | C12: разность | E12: расход эл,энергии за час | F12: показания счетчика | G12: разность | I12: расход эл,энергии за час | J12: показания счетчика | K12: разность | L12: расход эл,энергии за час | M12: показания счетчика | N12: разность | O12: расход эл,энергии за час
A13: 1 | B13: 2 | C13: 3 | E13: 4 | F13: 5 | G13: 6 | I13: 7 | J13: 8 | K13: 9 | L13: 10 | M13: 11 | N13: 12 | O13: 13
A14: 0 | E14: 3.1697282 | I14: 0
A15: 1 | E15: 2.6220561 | I15: 0
A16: 2 | E16: 2.9976033 | I16: 0
A17: 3 | E17: 2.7403105 | I17: 0
A18: 4 | E18: 2.5521277 | I18: 0
A19: 5 | E19: 2.6187243 | I19: 0
A20: 6 | E20: 2.1253884 | I20: 0
A21: 7 | E21: 0.3988335 | I21: 0
A22: 8 | E22: 1.0466113 | I22: 0
A23: 9 | E23: 2.8130586 | I23: 0
A24: 10 | E24: 3.4697627 | I24: 0
A25: 11 | E25: 3.7111917 | I25: 0
... A37: 23 | E37: 2.4808176 | I37: 0
A38: 24
A39: Итого | E39: =SUM(E15:E38) -> 59.955273 | I39: =SUM(I15:I38) -> 0 | L39: =SUM(L15:L38) -> 0 | O39: =SUM(O15:O38) -> 0
A40: 1, При наличии на предприятии отклонений от нормальных режимов электропотребления (временное изменение схем питания, остановка на ремонт, резкое снижение
A41: эл,потребления и т,д,) последние необходимо перечислить,
A42: Главный инженер АО "Вологдаоблэнерго" А.В. Чурляев
A43: составляется самим предприятием с соблюдением всех пунктов настоящей таблицы,

Sheet 22
B1: АО "Вологдаоблэнерго" | J1: код 900151 | M1: ПС Енюково, ф, Ботово
B2: наименование предприятия | M2: наименование источника питания
M3: ТП-Новое Ботово
B4: ул, Горького, 99 | I4: Таблица № 1 | M4: КТП- д,Ботово
B5: адрес
A6: почасовых записей показаний электрических счетчиков
A7: в режимный день 18 ИЮНЯ 2025г.
A8: 1630 | B8: 1628
A9: часы суток | B9: Активная энергия | J9: Реактивная энергия
B10: =M3 -> ТП-Новое Ботово | F10: =M4 -> КТП- д,Ботово | J10: =B10 -> ТП-Новое Ботово | M10: =F10 -> КТП- д,Ботово
B11: Расчет, Коэф, | E11: 40 | F11: Расчет, Коэф, | I11: 40 | J11: Расчет, Коэф, | L11: =E11 -> 40 | M11: Расчет, Коэф, | O11: =I11 -> 40
B12: показания счетчика | C12: разность | E12: расход эл,энергии за час | F12: показания счетчика | G12: разность | I12: расход эл,энергии за час | J12: показания счетчика | K12: разность | L12: расход эл,энергии за час | M12: показания счетчика | N12: разность | O12: расход эл,энергии за час
A13: 1 | B13: 2 | C13: 3 | E13: 4 | F13: 5 | G13: 6 | I13: 7 | J13: 8 | K13: 9 | L13: 10 | M13: 11 | N13: 12 | O13: 13
A14: 0 | E14: 5.0460157 | I14: 8.7481338
A15: 1 | E15: 3.4500738 | I15: 5.3330316
A16: 2 | E16: 2.9115477 | I16: 5.3795838
A17: 3 | E17: 1.214981 | I17: 2.8519515
A18: 4 | E18: 1.2235382 | I18: 2.6876942
A19: 5 | E19: 1.0120674 | I19: 2.6457215
A20: 6 | E20: 0.70500688 | I20: 1.7675942
A21: 7 | E21: 1.4158589 | I21: 2.2892323
A22: 8 | E22: 2.3770493 | I22: 3.781553
A23: 9 | E23: 2.4195828 | I23: 5.9540844
A24: 10 | E24: 2.0555833 | I24: 9.4625981
A25: 11 | E25: 0.97159956 | I25: 10.306968
... A37: 23 | E37: 2.4683512 | I37: 5.1009506
A38: 24
A39: Итого | E39: =SUM(E15:E38) -> 45.634228 | I39: =SUM(I15:I38) -> 147.19598 | L39: =SUM(L15:L38) -> 0 | O39: =SUM(O15:O38) -> 0
A40: 1, При наличии на предприятии отклонений от нормальных режимов электропотребления (временное изменение схем питания, остановка на ремонт, резкое снижение
A41: эл,потребления и т,д,) последние необходимо перечислить,
A42: Главный инженер АО "Вологдаоблэнерго" А.В. Чурляев
A43: составляется самим предприятием с соблюдением всех пунктов настоящей таблицы,

Sheet 23
B1: АО "Вологдаоблэнерго" | J1: код 900151 | M1: ПС Енюково, ф, Борисово
B2: наименование предприятия | M2: наименование источника питания
M3: КТП-100 АЗС №43
B4: ул, Горького, 99 | I4: Таблица № 1
B5: адрес
A6: почасовых записей показаний электрических счетчиков
A7: в режимный день 18 ИЮНЯ 2025г.
A8: 1630 | B8: 1628
A9: часы суток | B9: Активная энергия | J9: Реактивная энергия
B10: =M3 -> КТП-100 АЗС №43 | F10: =M4 -> 0 | J10: =B10 -> КТП-100 АЗС №43 | M10: =F10 -> 0
B11: Расчет, Коэф, | E11: 30 | F11: Расчет, Коэф, | I11: 40 | J11: Расчет, Коэф, | L11: =E11 -> 30 | M11: Расчет, Коэф, | O11: =I11 -> 40
B12: показания счетчика | C12: разность | E12: расход эл,энергии за час | F12: показания счетчика | G12: разность | I12: расход эл,энергии за час | J12: показания счетчика | K12: разность | L12: расход эл,энергии за час | M12: показания счетчика | N12: разность | O12: расход эл,энергии за час
A13: 1 | B13: 2 | C13: 3 | E13: 4 | F13: 5 | G13: 6 | I13: 7 | J13: 8 | K13: 9 | L13: 10 | M13: 11 | N13: 12 | O13: 13
A14: 0 | E14: 9.4421174 | I14: 0
A15: 1 | E15: 7.2790284 | I15: 0
A16: 2 | E16: 7.9902623 | I16: 0
A17: 3 | E17: 8.7399396 | I17: 0
A18: 4 | E18: 7.8343524 | I18: 0
A19: 5 | E19: 5.814327 | I19: 0
A20: 6 | E20: 2.6033416 | I20: 0
A21: 7 | E21: 3.4788252 | I21: 0
A22: 8 | E22: 4.8356989 | I22: 0
A23: 9 | E23: 4.7816123 | I23: 0
A24: 10 | E24: 6.4356757 | I24: 0
A25: 11 | E25: 6.144969 | I25: 0
... A37: 23 | E37: 6.9861817 | I37: 0
A38: 24
A39: Итого | E39: =SUM(E15:E38) -> 123.55644 | I39: =SUM(I15:I38) -> 0 | L39: =SUM(L15:L38) -> 0 | O39: =SUM(O15:O38) -> 0
A40: 1, При наличии на предприятии отклонений от нормальных режимов электропотребления (временное изменение схем питания, остановка на ремонт, резкое снижение
A41: эл,потребления и т,д,) последние необходимо перечислить,
A42: Главный инженер АО "Вологдаоблэнерго" А.В. Чурляев
A43: составляется самим предприятием с соблюдением всех пунктов настоящей таблицы,

Sheet 24
B1: АО "Вологдаоблэнерго" | J1: код 900151 | M1: ПС Енюково, ф, Борисово
B2: наименование предприятия | M2: наименование источника питания
M3: КТП-100 АЗС №43
B4: ул, Горького, 99 | I4: Таблица № 1 | M4: ТП- "Освещение дороги" (Аэропорт)
B5: адрес
A6: почасовых записей показаний электрических счетчиков
A7: в режимный день 18 ИЮНЯ 2025г.
A8: 1630 | B8: 1628
A9: часы суток | B9: Активная энергия | J9: Реактивная энергия
B10: =M3 -> КТП-100 АЗС №43 | F10: =M4 -> ТП- "Освещение дороги" (Аэропорт) | J10: =B10 -> КТП-100 АЗС №43 | M10: =F10 -> ТП- "Освещение дороги" (Аэропорт)
B11: Расчет, Коэф, | E11: 30 | F11: Расчет, Коэф, | I11: 1 | J11: Расчет, Коэф, | L11: =E11 -> 30 | M11: Расчет, Коэф, | O11: =I11 -> 1
B12: показания счетчика | C12: разность | E12: расход эл,энергии за час | F12: показания счетчика | G12: разность | I12: расход эл,энергии за час | J12: показания счетчика | K12: разность | L12: расход эл,энергии за час | M12: показания счетчика | N12: разность | O12: расход эл,энергии за час
A13: 1 | B13: 2 | C13: 3 | E13: 4 | F13: 5 | G13: 6 | I13: 7 | J13: 8 | K13: 9 | L13: 10 | M13: 11 | N13: 12 | O13: 13
A14: 0 | E14: 9.4421174 | I14: 9.4200744
A15: 1 | E15: 7.2790284 | I15: 7.4871581
A16: 2 | E16: 7.9902623 | I16: 8.4993802
A17: 3 | E17: 8.7399396 | I17: 6.2102495
A18: 4 | E18: 7.8343524 | I18: 0.011862065
A19: 5 | E19: 5.814327 | I19: 0.0121422
A20: 6 | E20: 2.6033416 | I20: 0.010474632
A21: 7 | E21: 3.4788252 | I21: 0.0095699481
A22: 8 | E22: 4.8356989 | I22: 0.011948035
A23: 9 | E23: 4.7816123 | I23: 0.011273304
A24: 10 | E24: 6.4356757 | I24: 0.014053364
A25: 11 | E25: 6.144969 | I25: 0.01448286
... A37: 23 | E37: 6.9861817 | I37: 5.5058779
A38: 24
A39: Итого | E39: =SUM(E15:E38) -> 123.55644 | I39: =SUM(I15:I38) -> 27.948642 | L39: =SUM(L15:L38) -> 0 | O39: =SUM(O15:O38) -> 0
A40: 1, При наличии на предприятии отклонений от нормальных режимов электропотребления (временное изменение схем питания, остановка на ремонт, резкое снижение
A41: эл,потребления и т,д,) последние необходимо перечислить,
A42: Главный инженер АО "Вологдаоблэнерго" А.В. Чурляев
A43: составляется самим предприятием с соблюдением всех пунктов настоящей таблицы,

Sheet 25
B1: АО "Вологдаоблэнерго" | J1: код 900151 | M1: ПС Загородная, ф, Тоншалово-2
B2: наименование предприятия | M2: наименование источника питания
M3: ТП-4 очистные В-1; ТП-4 очистные В-2
B4: ул, Горького, 99 | I4: Таблица № 1
B5: адрес
A6: почасовых записей показаний электрических счетчиков
A7: в режимный день 18 ИЮНЯ 2025г.
A8: 1630 | B8: 1628
A9: часы суток | B9: Активная энергия | J9: Реактивная энергия
B10: ТП-4 очистные В-1 | F10: ТП-4 очистные В-2 | J10: ТП-4 очистные В-1 | M10: ТП-4 очистные В-2
B11: Расчет, Коэф, | E11: 120 | F11: Расчет, Коэф, | I11: 120 | J11: Расчет, Коэф, | L11: =E11 -> 120 | M11: Расчет, Коэф, | O11: =I11 -> 120
B12: показания счетчика | C12: разность | E12: расход эл,энергии за час | F12: показания счетчика | G12: разность | I12: расход эл,энергии за час | J12: показания счетчика | K12: разность | L12: расход эл,энергии за час | M12: показания счетчика | N12: разность | O12: расход эл,энергии за час
A13: 1 | B13: 2 | C13: 3 | E13: 4 | F13: 5 | G13: 6 | I13: 7 | J13: 8 | K13: 9 | L13: 10 | M13: 11 | N13: 12 | O13: 13
A14: 0 | E14: 34.68614 | I14: 16.591205
A15: 1 | E15: 26.402202 | I15: 9.4302448
A16: 2 | E16: 33.062383 | I16: 9.702813
A17: 3 | E17: 30.395983 | I17: 8.6459161
A18: 4 | E18: 28.122803 | I18: 7.7465527
A19: 5 | E19: 27.825384 | I19: 8.1135459
A20: 6 | E20: 21.255124 | I20: 7.265205
A21: 7 | E21: 22.170044 | I21: 5.6210853
A22: 8 | E22: 28.144791 | I22: 7.4699114
A23: 9 | E23: 27.283768 | I23: 9.0423763
A24: 10 | E24: 35.395738 | I24: 15.271322
A25: 11 | E25: 34.720242 | I25: 17.920125
... A37: 23 | E37: 30.154599 | I37: 12.922408
A38: 24
A39: Итого | E39: =SUM(E15:E38) -> 698.25148 | I39: =SUM(I15:I38) -> 345.68495 | L39: =SUM(L15:L38) -> 0 | O39: =SUM(O15:O38) -> 0
A40: 1, При наличии на предприятии отклонений от нормальных режимов электропотребления (временное изменение схем питания, остановка на ремонт, резкое снижение
A41: эл,потребления и т,д,) последние необходимо перечислить,
A42: Главный инженер АО "Вологдаоблэнерго" А.В. Чурляев
A43: составляется самим предприятием с соблюдением всех пунктов настоящей таблицы,

Sheet 26
B1: АО "Вологдаоблэнерго" | J1: код 900151 | M1: ПС Загородная, ф, Тоншалово-2
B2: наименование предприятия | M2: наименование источника питания
M3: ТП-3 Школа В-1; ТП-3 Школа В-2
B4: ул, Горького, 99 | I4: Таблица № 1
B5: адрес
A6: почасовых записей показаний электрических счетчиков
A7: в режимный день 18 ИЮНЯ 2025г.
A8: 1630 | B8: 1628
A9: часы суток | B9: Активная энергия | J9: Реактивная энергия
B10: ТП-3 Школа В-1 | F10: ТП-3 Школа В-2 | J10: ТП-3 Школа В-1 | M10: ТП-3 Школа В-2
B11: Расчет, Коэф, | E11: 120 | F11: Расчет, Коэф, | I11: 120 | J11: Расчет, Коэф, | L11: =E11 -> 120 | M11: Расчет, Коэф, | O11: =I11 -> 120
B12: показания счетчика | C12: разность | E12: расход эл,энергии за час | F12: показания счетчика | G12: разность | I12: расход эл,энергии за час | J12: показания счетчика | K12: разность | L12: расход эл,энергии за час | M12: показания счетчика | N12: разность | O12: расход эл,энергии за час
A13: 1 | B13: 2 | C13: 3 | E13: 4 | F13: 5 | G13: 6 | I13: 7 | J13: 8 | K13: 9 | L13: 10 | M13: 11 | N13: 12 | O13: 13
A14: 0 | E14: 34.193062 | I14: 0
A15: 1 | E15: 25.59762 | I15: 0
A16: 2 | E16: 29.195737 | I16: 0
A17: 3 | E17: 26.380827 | I17: 0
A18: 4 | E18: 24.937704 | I18: 0
A19: 5 | E19: 25.181071 | I19: 0
A20: 6 | E20: 22.77604 | I20: 0
A21: 7 | E21: 21.722775 | I21: 0
A22: 8 | E22: 33.148628 | I22: 0
A23: 9 | E23: 37.066623 | I23: 0
A24: 10 | E24: 57.693742 | I24: 0
A25: 11 | E25: 62.469401 | I25: 0
... A37: 23 | E37: 31.63561 | I37: 0
A38: 24
A39: Итого | E39: =SUM(E15:E38) -> 955.16204 | I39: =SUM(I15:I38) -> 0 | L39: =SUM(L15:L38) -> 0 | O39: =SUM(O15:O38) -> 0
A40: 1, При наличии на предприятии отклонений от нормальных режимов электропотребления (временное изменение схем питания, остановка на ремонт, резкое снижение
A41: эл,потребления и т,д,) последние необходимо перечислить,
A42: Главный инженер АО "Вологдаоблэнерго" А.В. Чурляев
A43: составляется самим предприятием с соблюдением всех пунктов настоящей таблицы,

Sheet 27
B1: АО "Вологдаоблэнерго" | J1: код 900151 | M1: ПС Загородная, ф, Тоншалово-2
B2: наименование предприятия | M2: наименование источника питания
M3: ТП-5 ПМК-1 В-1
B4: ул, Горького, 99 | I4: Таблица № 1 | M4: ТП-5 ПМК-1 В-2
B5: адрес
A6: почасовых записей показаний электрических счетчиков
A7: в режимный день 18 ИЮНЯ 2025г.
A8: 1630 | B8: 1628
A9: часы суток | B9: Активная энергия | J9: Реактивная энергия
B10: =M3 -> ТП-5 ПМК-1 В-1 | F10: =M4 -> ТП-5 ПМК-1 В-2 | J10: =B10 -> ТП-5 ПМК-1 В-1 | M10: =F10 -> ТП-5 ПМК-1 В-2
B11: Расчет, Коэф, | E11: 120 | F11: Расчет, Коэф, | I11: 120 | J11: Расчет, Коэф, | L11: =E11 -> 120 | M11: Расчет, Коэф, | O11: =I11 -> 120
B12: показания счетчика | C12: разность | E12: расход эл,энергии за час | F12: показания счетчика | G12: разность | I12: расход эл,энергии за час | J12: показания счетчика | K12: разность | L12: расход эл,энергии за час | M12: показания счетчика | N12: разность | O12: расход эл,энергии за час
A13: 1 | B13: 2 | C13: 3 | E13: 4 | F13: 5 | G13: 6 | I13: 7 | J13: 8 | K13: 9 | L13: 10 | M13: 11 | N13: 12 | O13: 13
A14: 0 | E14: 11.340794 | I14: 38.990299
A15: 1 | E15: 7.4498313 | I15: 25.035779
A16: 2 | E16: 8.1080343 | I16: 24.448307
A17: 3 | E17: 7.2147327 | I17: 22.239218
A18: 4 | E18: 6.7518211 | I18: 19.883318
A19: 5 | E19: 6.6107823 | I19: 29.432693
A20: 6 | E20: 6.3601967 | I20: 34.880526
A21: 7 | E21: 5.9232942 | I21: 36.156271
A22: 8 | E22: 8.1437805 | I22: 38.639945
A23: 9 | E23: 8.8430168 | I23: 37.066623
A24: 10 | E24: 11.448807 | I24: 47.331728
A25: 11 | E25: 11.489735 | I25: 56.656947
... A37: 23 | E37: 10.336539 | I37: 36.636161
A38: 24
A39: Итого | E39: =SUM(E15:E38) -> 220.36729 | I39: =SUM(I15:I38) -> 873.80384 | L39: =SUM(L15:L38) -> 0 | O39: =SUM(O15:O38) -> 0
A40: 1, При наличии на предприятии отклонений от нормальных режимов электропотребления (временное изменение схем питания, остановка на ремонт, резкое снижение
A41: эл,потребления и т,д,) последние необходимо перечислить,
A42: Главный инженер АО "Вологдаоблэнерго" А.В. Чурляев
A43: составляется самим предприятием с соблюдением всех пунктов настоящей таблицы,

Sheet 28
B1: АО "Вологдаоблэнерго" | J1: код 900151 | M1: ПС Загородная, ф, Тоншалово-2
B2: наименование предприятия | M2: наименование источника питания
M3: ТП-6 Детский сад В-1
B4: ул, Горького, 99 | I4: Таблица № 1 | M4: ТП-6 Детский сад В-2
B5: адрес
A6: почасовых записей показаний электрических счетчиков
A7: в режимный день 18 ИЮНЯ 2025г.
A8: 1630 | B8: 1628
A9: часы суток | B9: Активная энергия | J9: Реактивная энергия
B10: =M3 -> ТП-6 Детский сад В-1 | F10: =M4 -> ТП-6 Детский сад В-2 | J10: =B10 -> ТП-6 Детский сад В-1 | M10: =F10 -> ТП-6 Детский сад В-2
B11: Расчет, Коэф, | E11: 120 | F11: Расчет, Коэф, | I11: 120 | J11: Расчет, Коэф, | L11: =E11 -> 120 | M11: Расчет, Коэф, | O11: =I11 -> 120
B12: показания счетчика | C12: разность | E12: расход эл,энергии за час | F12: показания счетчика | G12: разность | I12: расход эл,энергии за час | J12: показания счетчика | K12: разность | L12: расход эл,энергии за час | M12: показания счетчика | N12: разность | O12: расход эл,энергии за час
A13: 1 | B13: 2 | C13: 3 | E13: 4 | F13: 5 | G13: 6 | I13: 7 | J13: 8 | K13: 9 | L13: 10 | M13: 11 | N13: 12 | O13: 13
A14: 0 | E14: 40.641004 | I14: 30.897973
A15: 1 | E15: 27.38558 | I15: 21.354941
A16: 2 | E16: 28.156682 | I16: 21.057539
A17: 3 | E17: 26.02009 | I17: 18.652763
A18: 4 | E18: 23.044259 | I18: 16.272256
A19: 5 | E19: 22.326415 | I19: 17.22403
A20: 6 | E20: 18.640656 | I20: 15.498266
A21: 7 | E21: 20.924943 | I21: 17.963296
A22: 8 | E22: 29.965671 | I22: 22.079968
A23: 9 | E23: 31.370638 | I23: 21.516584
A24: 10 | E24: 42.272518 | I24: 28.781289
A25: 11 | E25: 49.415517 | I25: 30.645731
... A37: 23 | E37: 43.544768 | I37: 28.111906
A38: 24
A39: Итого | E39: =SUM(E15:E38) -> 893.78423 | I39: =SUM(I15:I38) -> 605.14053 | L39: =SUM(L15:L38) -> 0 | O39: =SUM(O15:O38) -> 0
A40: 1, При наличии на предприятии отклонений от нормальных режимов электропотребления (временное изменение схем питания, остановка на ремонт, резкое снижение
A41: эл,потребления и т,д,) последние необходимо перечислить,
A42: Главный инженер АО "Вологдаоблэнерго" А.В. Чурляев
A43: составляется самим предприятием с соблюдением всех пунктов настоящей таблицы,

Sheet 29
B1: АО "Вологдаоблэнерго" | J1: код 900151 | M1: ПС Загородная, ф, Тоншалово-2
B2: наименование предприятия | M2: наименование источника питания
M3: ТП-2 Поселок
B4: ул, Горького, 99 | I4: Таблица № 1
B5: адрес
A6: почасовых записей показаний электрических счетчиков
A7: в режимный день 18 ИЮНЯ 2025г.
A8: 1630 | B8: 1628
A9: часы суток | B9: Активная энергия | J9: Реактивная энергия
B10: =M3 -> ТП-2 Поселок | F10: =M4 -> 0 | J10: =B10 -> ТП-2 Поселок | M10: =F10 -> 0
B11: Расчет, Коэф, | E11: 200 | F11: Расчет, Коэф, | I11: 120 | J11: Расчет, Коэф, | L11: =E11 -> 200 | M11: Расчет, Коэф, | O11: =I11 -> 120
B12: показания счетчика | C12: разность | E12: расход эл,энергии за час | F12: показания счетчика | G12: разность | I12: расход эл,энергии за час | J12: показания счетчика | K12: разность | L12: расход эл,энергии за час | M12: показания счетчика | N12: разность | O12: расход эл,энергии за час
A13: 1 | B13: 2 | C13: 3 | E13: 4 | F13: 5 | G13: 6 | I13: 7 | J13: 8 | K13: 9 | L13: 10 | M13: 11 | N13: 12 | O13: 13
A14: 0 | E14: 89.10172 | I14: 0
A15: 1 | E15: 62.255757 | I15: 0
A16: 2 | E16: 63.989878 | I16: 0
A17: 3 | E17: 57.482599 | I17: 0
A18: 4 | E18: 50.614195 | I18: 0
A19: 5 | E19: 51.1334 | I19: 0
A20: 6 | E20: 46.130281 | I20: 0
A21: 7 | E21: 50.952419 | I21: 0
A22: 8 | E22: 66.932891 | I22: 0
A23: 9 | E23: 68.351821 | I23: 0
A24: 10 | E24: 91.784079 | I24: 0
A25: 11 | E25: 98.290341 | I25: 0
... A37: 23 | E37: 84.00028 | I37: 0
A38: 24
A39: Итого | E39: =SUM(E15:E38) -> 1746.3211 | I39: =SUM(I15:I38) -> 0 | L39: =SUM(L15:L38) -> 0 | O39: =SUM(O15:O38) -> 0
A40: 1, При наличии на предприятии отклонений от нормальных режимов электропотребления (временное изменение схем питания, остановка на ремонт, резкое снижение
A41: эл,потребления и т,д,) последние необходимо перечислить,
A42: Главный инженер АО "Вологдаоблэнерго" А.В. Чурляев
A43: составляется самим предприятием с соблюдением всех пунктов настоящей таблицы,

Sheet 30
B1: АО "Вологдаоблэнерго" | J1: код 900151 | M1: ПС Загородная, ф, Солманское
B2: наименование предприятия | M2: наименование источника питания
M3: ТП-Котельная ПМК-2 В-1
B4: ул, Горького, 99 | I4: Таблица № 1 | M4: ТП-Котельная ПМК-2 В-2
B5: адрес
A6: почасовых записей показаний электрических счетчиков
A7: в режимный день 18 ИЮНЯ 2025г.
A8: 1630 | B8: 1628
A9: часы суток | B9: Активная энергия | J9: Реактивная энергия
B10: =M3 -> ТП-Котельная ПМК-2 В-1 | F10: =M4 -> ТП-Котельная ПМК-2 В-2 | J10: =B10 -> ТП-Котельная ПМК-2 В-1 | M10: =F10 -> ТП-Котельная ПМК-2 В-2
B11: Расчет, Коэф, | E11: 80 | F11: Расчет, Коэф, | I11: 80 | J11: Расчет, Коэф, | L11: =E11 -> 80 | M11: Расчет, Коэф, | O11: =I11 -> 80
B12: показания счетчика | C12: разность | E12: расход эл,энергии за час | F12: показания счетчика | G12: разность | I12: расход эл,энергии за час | J12: показания счетчика | K12: разность | L12: расход эл,энергии за час | M12: показания счетчика | N12: разность | O12: расход эл,энергии за час
A13: 1 | B13: 2 | C13: 3 | E13: 4 | F13: 5 | G13: 6 | I13: 7 | J13: 8 | K13: 9 | L13: 10 | M13: 11 | N13: 12 | O13: 13
A14: 0 | E14: 4.2733425 | I14: 0
A15: 1 | E15: 3.476588 | I15: 0
A16: 2 | E16: 3.8155455 | I16: 0
A17: 3 | E17: 3.7119277 | I17: 0
A18: 4 | E18: 3.3269843 | I18: 0
A19: 5 | E19: 3.8162243 | I19: 0
A20: 6 | E20: 6.7875617 | I20: 0
A21: 7 | E21: 19.156014 | I21: 0
A22: 8 | E22: 29.85097 | I22: 0
A23: 9 | E23: 16.698729 | I23: 0
A24: 10 | E24: 21.998198 | I24: 0
A25: 11 | E25: 18.293461 | I25: 0
... A37: 23 | E37: 3.2877419 | I37: 0
A38: 24
A39: Итого | E39: =SUM(E15:E38) -> 229.80706 | I39: =SUM(I15:I38) -> 0 | L39: =SUM(L15:L38) -> 0 | O39: =SUM(O15:O38) -> 0
A40: 1, При наличии на предприятии отклонений от нормальных режимов электропотребления (временное изменение схем питания, остановка на ремонт, резкое снижение
A41: эл,потребления и т,д,) последние необходимо перечислить,
A42: Главный инженер АО "Вологдаоблэнерго" А.В. Чурляев
A43: составляется самим предприятием с соблюдением всех пунктов настоящей таблицы,

Sheet 31
B1: АО "Вологдаоблэнерго" | J1: код 900151 | M1: ПС Загородная, ф,Парфеново
B2: наименование предприятия | M2: наименование источника питания
M3: ТП-69 (КТПН-23)
B4: ул, Горького, 99 | I4: Таблица № 1
B5: адрес
A6: почасовых записей показаний электрических счетчиков
A7: в режимный день 18 ИЮНЯ 2025г.
A8: 1630 | B8: 1628
A9: часы суток | B9: Активная энергия | J9: Реактивная энергия
B10: =M3 -> ТП-69 (КТПН-23) | F10: =M4 -> 0 | J10: =B10 -> ТП-69 (КТПН-23) | M10: =F10 -> 0
B11: Расчет, Коэф, | E11: 20 | F11: Расчет, Коэф, | I11: 120 | J11: Расчет, Коэф, | L11: =E11 -> 20 | M11: Расчет, Коэф, | O11: =I11 -> 120
B12: показания счетчика | C12: разность | E12: расход эл,энергии за час | F12: показания счетчика | G12: разность | I12: расход эл,энергии за час | J12: показания счетчика | K12: разность | L12: расход эл,энергии за час | M12: показания счетчика | N12: разность | O12: расход эл,энергии за час
A13: 1 | B13: 2 | C13: 3 | E13: 4 | F13: 5 | G13: 6 | I13: 7 | J13: 8 | K13: 9 | L13: 10 | M13: 11 | N13: 12 | O13: 13
A14: 0 | E14: 0 | I14: 0
A15: 1 | E15: 0 | I15: 0
A16: 2 | E16: 0 | I16: 0
A17: 3 | E17: 0 | I17: 0
A18: 4 | E18: 0 | I18: 0
A19: 5 | E19: 0 | I19: 0
A20: 6 | E20: 0 | I20: 0
A21: 7 | E21: 0 | I21: 0
A22: 8 | E22: 0 | I22: 0
A23: 9 | E23: 0 | I23: 0
A24: 10 | E24: 0 | I24: 0
A25: 11 | E25: 0 | I25: 0
... A37: 23 | E37: 0 | I37: 0
A38: 24
A39: Итого | E39: =SUM(E15:E38) -> 0 | I39: =SUM(I15:I38) -> 0 | L39: =SUM(L15:L38) -> 0 | O39: =SUM(O15:O38) -> 0
A40: 1, При наличии на предприятии отклонений от нормальных режимов электропотребления (временное изменение схем питания, остановка на ремонт, резкое снижение
A41: эл,потребления и т,д,) последние необходимо перечислить,
A42: Главный инженер АО "Вологдаоблэнерго" А.В. Чурляев
A43: составляется самим предприятием с соблюдением всех пунктов настоящей таблицы,

Sheet 32
B1: АО "Вологдаоблэнерго" | J1: код 900151 | M1: ПС Загородная, ф,Солнаское
B2: наименование предприятия | M2: наименование источника питания
M3: ТП Северо-Западный т,д,
B4: ул, Горького, 99 | I4: Таблица № 1 | M4: КТП- Мелиоводстрой
B5: адрес
A6: почасовых записей показаний электрических счетчиков
A7: в режимный день 18 ИЮНЯ 2025г.
A8: 1630 | B8: 1628
A9: часы суток | B9: Активная энергия | J9: Реактивная энергия
B10: =M3 -> ТП Северо-Западный т,д, | F10: =M4 -> КТП- Мелиоводстрой | J10: =B10 -> ТП Северо-Западный т,д, | M10: =F10 -> КТП- Мелиоводстрой
B11: Расчет, Коэф, | E11: 120 | F11: Расчет, Коэф, | I11: 200 | J11: Расчет, Коэф, | L11: =E11 -> 120 | M11: Расчет, Коэф, | O11: =I11 -> 200
B12: показания счетчика | C12: разность | E12: расход эл,энергии за час | F12: показания счетчика | G12: разность | I12: расход эл,энергии за час | J12: показания счетчика | K12: разность | L12: расход эл,энергии за час | M12: показания счетчика | N12: разность | O12: расход эл,энергии за час
A13: 1 | B13: 2 | C13: 3 | E13: 4 | F13: 5 | G13: 6 | I13: 7 | J13: 8 | K13: 9 | L13: 10 | M13: 11 | N13: 12 | O13: 13
A14: 0 | E14: 1.580872 | I14: 62.047621
A15: 1 | E15: 1.3173009 | I15: 38.633584
A16: 2 | E16: 1.3338618 | I16: 41.036987
A17: 3 | E17: 1.3074252 | I17: 36.318185
A18: 4 | E18: 1.2235382 | I18: 33.488482
A19: 5 | E19: 0.56928789 | I19: 30.751719
A20: 6 | E20: 0.46654867 | I20: 24.866777
A21: 7 | E21: 0.41877517 | I21: 29.858238
A22: 8 | E22: 1.2062638 | I22: 35.891897
A23: 9 | E23: 1.9027787 | I23: 48.985471
A24: 10 | E24: 2.6428928 | I24: 63.489974
A25: 11 | E25: 2.8670151 | I25: 67.844152
... A37: 23 | E37: 1.0845785 | I37: 56.979507
A38: 24
A39: Итого | E39: =SUM(E15:E38) -> 50.844556 | I39: =SUM(I15:I38) -> 1196.8649 | L39: =SUM(L15:L38) -> 0 | O39: =SUM(O15:O38) -> 0
A40: 1, При наличии на предприятии отклонений от нормальных режимов электропотребления (временное изменение схем питания, остановка на ремонт, резкое снижение
A41: эл,потребления и т,д,) последние необходимо перечислить,
A42: Главный инженер АО "Вологдаоблэнерго" А.В. Чурляев
A43: составляется самим предприятием с соблюдением всех пунктов настоящей таблицы,

Sheet 33
B1: АО "Вологдаоблэнерго" | J1: код 900151 | M1: ПС Ирдоматка, ф, Ирдоматка-1
B2: наименование предприятия | M2: наименование источника питания
M3: ТП-25
B4: ул, Горького, 99 | I4: Таблица № 1 | M4: ТП-80
B5: адрес
A6: почасовых записей показаний электрических счетчиков
A7: в режимный день 18 ИЮНЯ 2025г.
A8: 1630 | B8: 1628
A9: часы суток | B9: Активная энергия | J9: Реактивная энергия
B10: =M3 -> ТП-25 | F10: =M4 -> ТП-80 | J10: =B10 -> ТП-25 | M10: =F10 -> ТП-80
B11: Расчет, Коэф, | E11: 20 | F11: Расчет, Коэф, | I11: 40 | J11: Расчет, Коэф, | L11: =E11 -> 20 | M11: Расчет, Коэф, | O11: =I11 -> 40
B12: показания счетчика | C12: разность | E12: расход эл,энергии за час | F12: показания счетчика | G12: разность | I12: расход эл,энергии за час | J12: показания счетчика | K12: разность | L12: расход эл,энергии за час | M12: показания счетчика | N12: разность | O12: расход эл,энергии за час
A13: 1 | B13: 2 | C13: 3 | E13: 4 | F13: 5 | G13: 6 | I13: 7 | J13: 8 | K13: 9 | L13: 10 | M13: 11 | N13: 12 | O13: 13
A14: 0 | E14: 2.2994502 | I14: 30.184893
A15: 1 | E15: 2.6136492 | I15: 19.405517
A16: 2 | E16: 1.270429 | I16: 21.532826
A17: 3 | E17: 1.8559638 | I17: 20.587421
A18: 4 | E18: 0.99075636 | I18: 17.530883
A19: 5 | E19: 1.0767562 | I19: 20.053802
A20: 6 | E20: 0.92700496 | I20: 19.000983
A21: 7 | E21: 1.4506027 | I21: 21.607936
A22: 8 | E22: 1.045453 | I22: 26.405157
A23: 9 | E23: 1.0561306 | I23: 25.608199
A24: 10 | E24: 3.1776216 | I24: 34.696193
A25: 11 | E25: 2.5023163 | I25: 34.485298
... A37: 23 | E37: 1.9403276 | I37: 28.25045
A38: 24
A39: Итого | E39: =SUM(E15:E38) -> 44.862065 | I39: =SUM(I15:I38) -> 653.10198 | L39: =SUM(L15:L38) -> 0 | O39: =SUM(O15:O38) -> 0
A40: 1, При наличии на предприятии отклонений от нормальных режимов электропотребления (временное изменение схем питания, остановка на ремонт, резкое снижение
A41: эл,потребления и т,д,) последние необходимо перечислить,
A42: Главный инженер АО "Вологдаоблэнерго" А.В. Чурляев
A43: составляется самим предприятием с соблюдением всех пунктов настоящей таблицы,

Sheet 34
B1: АО "Вологдаоблэнерго" | J1: код 900151 | M1: ПС Ирдоматка, ф, Ирдоматка-1
B2: наименование предприятия | M2: наименование источника питания
M3: ТП-209 Тепловая
B4: ул, Горького, 99 | I4: Таблица № 1 | M4: КТП-210 Ирдоматка
B5: адрес
A6: почасовых записей показаний электрических счетчиков
A7: в режимный день 18 ИЮНЯ 2025г.
A8: 1630 | B8: 1628
A9: часы суток | B9: Активная энергия | J9: Реактивная энергия
B10: =M3 -> ТП-209 Тепловая | F10: =M4 -> КТП-210 Ирдоматка | J10: =B10 -> ТП-209 Тепловая | M10: =F10 -> КТП-210 Ирдоматка
B11: Расчет, Коэф, | E11: 80 | F11: Расчет, Коэф, | I11: 80 | J11: Расчет, Коэф, | L11: =E11 -> 80 | M11: Расчет, Коэф, | O11: =I11 -> 80
B12: показания счетчика | C12: разность | E12: расход эл,энергии за час | F12: показания счетчика | G12: разность | I12: расход эл,энергии за час | J12: показания счетчика | K12: разность | L12: расход эл,энергии за час | M12: показания счетчика | N12: разность | O12: расход эл,энергии за час
A13: 1 | B13: 2 | C13: 3 | E13: 4 | F13: 5 | G13: 6 | I13: 7 | J13: 8 | K13: 9 | L13: 10 | M13: 11 | N13: 12 | O13: 13
A14: 0 | E14: 19.849549 | I14: 26.006439
A15: 1 | E15: 14.998994 | I15: 18.556288
A16: 2 | E16: 14.365075 | I16: 18.315943
A17: 3 | E17: 11.501748 | I17: 12.915504
A18: 4 | E18: 11.301961 | I18: 9.9391618
A19: 5 | E19: 9.2651116 | I19: 12.372263
A20: 6 | E20: 8.7567926 | I20: 10.097546
A21: 7 | E21: 8.8244996 | I21: 14.223965
A22: 8 | E22: 15.675822 | I22: 26.046716
A23: 9 | E23: 15.23676 | I23: 23.590871
A24: 10 | E24: 29.418374 | I24: 29.043618
A25: 11 | E25: 32.892184 | I25: 29.995612
... A37: 23 | E37: 18.270888 | I37: 30.278235
A38: 24
A39: Итого | E39: =SUM(E15:E38) -> 499.89255 | I39: =SUM(I15:I38) -> 569.37648 | L39: =SUM(L15:L38) -> 0 | O39: =SUM(O15:O38) -> 0
A40: 1, При наличии на предприятии отклонений от нормальных режимов электропотребления (временное изменение схем питания, остановка на ремонт, резкое снижение
A41: эл,потребления и т,д,) последние необходимо перечислить,
A42: Главный инженер АО "Вологдаоблэнерго" А.В. Чурляев
A43: составляется самим предприятием с соблюдением всех пунктов настоящей таблицы,

Sheet 35
B1: АО "Вологдаоблэнерго" | J1: код 900151 | M1: ПС Ирдоматка ф,Даргун
B2: наименование предприятия | M2: наименование источника питания
M3: ТП-113
B4: ул, Горького, 99 | I4: Таблица № 1
B5: адрес
A6: почасовых записей показаний электрических счетчиков
A7: в режимный день 18 ИЮНЯ 2025г.
A8: 1630 | B8: 1628
A9: часы суток | B9: Активная энергия | J9: Реактивная энергия
B10: =M3 -> ТП-113 | F10: =M4 -> 0 | J10: =B10 -> ТП-113 | M10: =F10 -> 0
B11: Расчет, Коэф, | E11: 80 | F11: Расчет, Коэф, | I11: 120 | J11: Расчет, Коэф, | L11: =E11 -> 80 | M11: Расчет, Коэф, | O11: =I11 -> 120
B12: показания счетчика | C12: разность | E12: расход эл,энергии за час | F12: показания счетчика | G12: разность | I12: расход эл,энергии за час | J12: показания счетчика | K12: разность | L12: расход эл,энергии за час | M12: показания счетчика | N12: разность | O12: расход эл,энергии за час
A13: 1 | B13: 2 | C13: 3 | E13: 4 | F13: 5 | G13: 6 | I13: 7 | J13: 8 | K13: 9 | L13: 10 | M13: 11 | N13: 12 | O13: 13
A14: 0 | E14: 0 | I14: 0
A15: 1 | E15: 0 | I15: 0
A16: 2 | E16: 0 | I16: 0
A17: 3 | E17: 0 | I17: 0
A18: 4 | E18: 0 | I18: 0
A19: 5 | E19: 0 | I19: 0
A20: 6 | E20: 0 | I20: 0
A21: 7 | E21: 0 | I21: 0
A22: 8 | E22: 0 | I22: 0
A23: 9 | E23: 0 | I23: 0
A24: 10 | E24: 0 | I24: 0
A25: 11 | E25: 0 | I25: 0
... A37: 23 | E37: 0 | I37: 0
A38: 24
A39: Итого | E39: =SUM(E15:E38) -> 0 | I39: =SUM(I15:I38) -> 0 | L39: =SUM(L15:L38) -> 0 | O39: =SUM(O15:O38) -> 0
A40: 1, При наличии на предприятии отклонений от нормальных режимов электропотребления (временное изменение схем питания, остановка на ремонт, резкое снижение
A41: эл,потребления и т,д,) последние необходимо перечислить,
A42: Главный инженер АО "Вологдаоблэнерго" А.В. Чурляев
A43: составляется самим предприятием с соблюдением всех пунктов настоящей таблицы,

Sheet 36
B1: АО "Вологдаоблэнерго" | J1: код 900151 | M1: ПС Ирдоматка, ф, Ирдоматка-1
B2: наименование предприятия | M2: наименование источника питания
M3: КТП-400 Дачи "Пулово Борисово"
B4: ул, Горького, 99 | I4: Таблица № 1
B5: адрес
A6: почасовых записей показаний электрических счетчиков
A7: в режимный день 18 ИЮНЯ 2025г.
A8: 1630 | B8: 1628
A9: часы суток | B9: Активная энергия | J9: Реактивная энергия
B10: =M3 -> КТП-400 Дачи "Пулово Борисово" | F10: =M4 -> 0 | J10: =B10 -> КТП-400 Дачи "Пулово Борисово" | M10: =F10 -> 0
B11: Расчет, Коэф, | E11: 60 | F11: Расчет, Коэф, | I11: 120 | J11: Расчет, Коэф, | L11: =E11 -> 60 | M11: Расчет, Коэф, | O11: =I11 -> 120
B12: показания счетчика | C12: разность | E12: расход эл,энергии за час | F12: показания счетчика | G12: разность | I12: расход эл,энергии за час | J12: показания счетчика | K12: разность | L12: расход эл,энергии за час | M12: показания счетчика | N12: разность | O12: расход эл,энергии за час
A13: 1 | B13: 2 | C13: 3 | E13: 4 | F13: 5 | G13: 6 | I13: 7 | J13: 8 | K13: 9 | L13: 10 | M13: 11 | N13: 12 | O13: 13
A14: 0 | E14: 0 | I14: 0
A15: 1 | E15: 0 | I15: 0
A16: 2 | E16: 0 | I16: 0
A17: 3 | E17: 0 | I17: 0
A18: 4 | E18: 0 | I18: 0
A19: 5 | E19: 0 | I19: 0
A20: 6 | E20: 0 | I20: 0
A21: 7 | E21: 0 | I21: 0
A22: 8 | E22: 0 | I22: 0
A23: 9 | E23: 0 | I23: 0
A24: 10 | E24: 0 | I24: 0
A25: 11 | E25: 0 | I25: 0
... A37: 23 | E37: 0 | I37: 0
A38: 24
A39: Итого | E39: =SUM(E15:E38) -> 0 | I39: =SUM(I15:I38) -> 0 | L39: =SUM(L15:L38) -> 0 | O39: =SUM(O15:O38) -> 0
A40: 1, При наличии на предприятии отклонений от нормальных режимов электропотребления (временное изменение схем питания, остановка на ремонт, резкое снижение
A41: эл,потребления и т,д,) последние необходимо перечислить,
A42: Главный инженер АО "Вологдаоблэнерго" А.В. Чурляев
A43: составляется самим предприятием с соблюдением всех пунктов настоящей таблицы,

Sheet 37
B1: АО "Вологдаоблэнерго" | J1: код 900151 | M1: ПС Искра, ф, Оросительная
B2: наименование предприятия | M2: наименование источника питания
M3: КТП-3 Сад №9 "ЧереповецАгроСтрой"
B4: ул, Горького, 99 | I4: Таблица № 1 | M4: КТП-2 Сад №1 "Аммофос"
B5: адрес
A6: почасовых записей показаний электрических счетчиков
A7: в режимный день 18 ИЮНЯ 2025г.
A8: 1630 | B8: 1628
A9: часы суток | B9: Активная энергия | J9: Реактивная энергия
B10: =M3 -> КТП-3 Сад №9 "ЧереповецАгроСтрой" | F10: =M4 -> КТП-2 Сад №1 "Аммофос" | J10: =B10 -> КТП-3 Сад №9 "ЧереповецАгроСтрой" | M10: =F10 -> КТП-2 Сад №1 "Аммофос"
B11: Расчет, Коэф, | E11: 60 | F11: Расчет, Коэф, | I11: 120 | J11: Расчет, Коэф, | L11: =E11 -> 60 | M11: Расчет, Коэф, | O11: =I11 -> 120
B12: показания счетчика | C12: разность | E12: расход эл,энергии за час | F12: показания счетчика | G12: разность | I12: расход эл,энергии за час | J12: показания счетчика | K12: разность | L12: расход эл,энергии за час | M12: показания счетчика | N12: разность | O12: расход эл,энергии за час
A13: 1 | B13: 2 | C13: 3 | E13: 4 | F13: 5 | G13: 6 | I13: 7 | J13: 8 | K13: 9 | L13: 10 | M13: 11 | N13: 12 | O13: 13
A14: 0 | E14: 0 | I14: 58.998479
A15: 1 | E15: 0 | I15: 24.564267
A16: 2 | E16: 0 | I16: 25.082989
A17: 3 | E17: 0 | I17: 21.334599
A18: 4 | E18: 0 | I18: 19.853351
A19: 5 | E19: 0 | I19: 21.357491
A20: 6 | E20: 0 | I20: 20.017022
A21: 7 | E21: 0 | I21: 23.723398
A22: 8 | E22: 0 | I22: 31.399436
A23: 9 | E23: 0 | I23: 35.599907
A24: 10 | E24: 0 | I24: 45.158142
A25: 11 | E25: 0 | I25: 48.13137
... A37: 23 | E37: 0 | I37: 55.694824
A38: 24
A39: Итого | E39: =SUM(E15:E38) -> 0 | I39: =SUM(I15:I38) -> 987.95165 | L39: =SUM(L15:L38) -> 0 | O39: =SUM(O15:O38) -> 0
A40: 1, При наличии на предприятии отклонений от нормальных режимов электропотребления (временное изменение схем питания, остановка на ремонт, резкое снижение
A41: эл,потребления и т,д,) последние необходимо перечислить,
A42: Главный инженер АО "Вологдаоблэнерго" А.В. Чурляев
A43: составляется самим предприятием с соблюдением всех пунктов настоящей таблицы,

Sheet 38
B1: АО "Вологдаоблэнерго" | J1: код 900151 | M1: ПС Искра, ф, Оросительная
B2: наименование предприятия | M2: наименование источника питания
M3: КТП-10 ЧМХС и №2 ЧСПЗ
B4: ул, Горького, 99 | I4: Таблица № 1 | M4: КТП Сад Вера
B5: адрес
A6: почасовых записей показаний электрических счетчиков
A7: в режимный день 18 ИЮНЯ 2025г.
A8: 1630 | B8: 1628
A9: часы суток | B9: Активная энергия | J9: Реактивная энергия
B10: =M3 -> КТП-10 ЧМХС и №2 ЧСПЗ | F10: =M4 -> КТП Сад Вера | J10: =B10 -> КТП-10 ЧМХС и №2 ЧСПЗ | M10: =F10 -> КТП Сад Вера
B11: Расчет, Коэф, | E11: 80 | F11: Расчет, Коэф, | I11: 20 | J11: Расчет, Коэф, | L11: =E11 -> 80 | M11: Расчет, Коэф, | O11: =I11 -> 20
B12: показания счетчика | C12: разность | E12: расход эл,энергии за час | F12: показания счетчика | G12: разность | I12: расход эл,энергии за час | J12: показания счетчика | K12: разность | L12: расход эл,энергии за час | M12: показания счетчика | N12: разность | O12: расход эл,энергии за час
A13: 1 | B13: 2 | C13: 3 | E13: 4 | F13: 5 | G13: 6 | I13: 7 | J13: 8 | K13: 9 | L13: 10 | M13: 11 | N13: 12 | O13: 13
A14: 0 | E14: 0 | I14: 12.519229
A15: 1 | E15: 0 | I15: 6.4389306
A16: 2 | E16: 0 | I16: 6.7235742
A17: 3 | E17: 0 | I17: 6.511122
A18: 4 | E18: 0 | I18: 6.3930287
A19: 5 | E19: 0 | I19: 6.2372564
A20: 6 | E20: 0 | I20: 5.8238956
A21: 7 | E21: 0 | I21: 7.7365476
A22: 8 | E22: 0 | I22: 12.330372
A23: 9 | E23: 0 | I23: 11.202104
A24: 10 | E24: 0 | I24: 15.989605
A25: 11 | E25: 0 | I25: 17.315063
... A37: 23 | E37: 0 | I37: 11.587345
A38: 24
A39: Итого | E39: =SUM(E15:E38) -> 0 | I39: =SUM(I15:I38) -> 268.49966 | L39: =SUM(L15:L38) -> 0 | O39: =SUM(O15:O38) -> 0
A40: 1, При наличии на предприятии отклонений от нормальных режимов электропотребления (временное изменение схем питания, остановка на ремонт, резкое снижение
A41: эл,потребления и т,д,) последние необходимо перечислить,
A42: Главный инженер АО "Вологдаоблэнерго" А.В. Чурляев
A43: составляется самим предприятием с соблюдением всех пунктов настоящей таблицы,

Sheet 39
B1: АО "Вологдаоблэнерго" | J1: код 900151 | M1: ПС Климовская, ф,Лохта
B2: наименование предприятия | M2: наименование источника питания
M3: КТПН-400 Животноводческий комплекс
B4: ул, Горького, 99 | I4: Таблица № 1 | M4: КТП-Деревня
B5: адрес
A6: почасовых записей показаний электрических счетчиков
A7: в режимный день 18 ИЮНЯ 2025г.
A8: 1630 | B8: 1628
A9: часы суток | B9: Активная энергия | J9: Реактивная энергия
B10: =M3 -> КТПН-400 Животноводческий комплекс | F10: =M4 -> КТП-Деревня | J10: =B10 -> КТПН-400 Животноводческий комплекс | M10: =F10 -> КТП-Деревня
B11: Расчет, Коэф, | E11: 120 | F11: Расчет, Коэф, | I11: 80 | J11: Расчет, Коэф, | L11: =E11 -> 120 | M11: Расчет, Коэф, | O11: =I11 -> 80
B12: показания счетчика | C12: разность | E12: расход эл,энергии за час | F12: показания счетчика | G12: разность | I12: расход эл,энергии за час | J12: показания счетчика | K12: разность | L12: расход эл,энергии за час | M12: показания счетчика | N12: разность | O12: расход эл,энергии за час
A13: 1 | B13: 2 | C13: 3 | E13: 4 | F13: 5 | G13: 6 | I13: 7 | J13: 8 | K13: 9 | L13: 10 | M13: 11 | N13: 12 | O13: 13
A14: 0 | E14: 13.317649 | I14: 42.242718
A15: 1 | E15: 12.909549 | I15: 24.396956
A16: 2 | E16: 25.429429 | I16: 26.314678
A17: 3 | E17: 17.788907 | I17: 24.46474
A18: 4 | E18: 19.057535 | I18: 18.060306
A19: 5 | E19: 30.134306 | I19: 19.335495
A20: 6 | E20: 23.327434 | I20: 16.273389
A21: 7 | E21: 22.85316 | I21: 18.954542
A22: 8 | E22: 24.338147 | I22: 24.775445
A23: 9 | E23: 20.437252 | I23: 27.540088
A24: 10 | E24: 22.673238 | I24: 37.350717
A25: 11 | E25: 20.881427 | I25: 39.972693
... A37: 23 | E37: 11.444174 | I37: 39.517883
A38: 24
A39: Итого | E39: =SUM(E15:E38) -> 540.64449 | I39: =SUM(I15:I38) -> 725.88707 | L39: =SUM(L15:L38) -> 0 | O39: =SUM(O15:O38) -> 0
A40: 1, При наличии на предприятии отклонений от нормальных режимов электропотребления (временное изменение схем питания, остановка на ремонт, резкое снижение
A41: эл,потребления и т,д,) последние необходимо перечислить,
A42: Главный инженер АО "Вологдаоблэнерго" А.В. Чурляев
A43: составляется самим предприятием с соблюдением всех пунктов настоящей таблицы,

Sheet 40
B1: АО "Вологдаоблэнерго" | J1: код 900151 | M1: ПС Климовская, ф, Лохта
B2: наименование предприятия | M2: наименование источника питания
M3: ТП-325
B4: ул, Горького, 99 | I4: Таблица № 1
B5: адрес
A6: почасовых записей показаний электрических счетчиков
A7: в режимный день 18 ИЮНЯ 2025г.
A8: 1630 | B8: 1628
A9: часы суток | B9: Активная энергия | J9: Реактивная энергия
B10: =M3 -> ТП-325 | F10: =M4 -> 0 | J10: =B10 -> ТП-325 | M10: =F10 -> 0
B11: Расчет, Коэф, | E11: 120 | F11: Расчет, Коэф, | I11: 200 | J11: Расчет, Коэф, | L11: =E11 -> 120 | M11: Расчет, Коэф, | O11: =I11 -> 200
B12: показания счетчика | C12: разность | E12: расход эл,энергии за час | F12: показания счетчика | G12: разность | I12: расход эл,энергии за час | J12: показания счетчика | K12: разность | L12: расход эл,энергии за час | M12: показания счетчика | N12: разность | O12: расход эл,энергии за час
A13: 1 | B13: 2 | C13: 3 | E13: 4 | F13: 5 | G13: 6 | I13: 7 | J13: 8 | K13: 9 | L13: 10 | M13: 11 | N13: 12 | O13: 13
A14: 0 | E14: 0.3832417 | I14: 0
A15: 1 | E15: 0.26346018 | I15: 0
A16: 2 | E16: 0.34422239 | I16: 0
A17: 3 | E17: 0.31695157 | I17: 0
A18: 4 | E18: 0.29661533 | I18: 0
A19: 5 | E19: 0.26566768 | I19: 0
A20: 6 | E20: 0.2799292 | I20: 0
A21: 7 | E21: 0.20938759 | I21: 0
A22: 8 | E22: 0.28382679 | I22: 0
A23: 9 | E23: 3.1712978 | I23: 0
A24: 10 | E24: 3.9875224 | I24: 0
A25: 11 | E25: 6.8808362 | I25: 0
... A37: 23 | E37: 0.29919408 | I37: 0
A38: 24
A39: Итого | E39: =SUM(E15:E38) -> 29.89526 | I39: =SUM(I15:I38) -> 0 | L39: =SUM(L15:L38) -> 0 | O39: =SUM(O15:O38) -> 0
A40: 1, При наличии на предприятии отклонений от нормальных режимов электропотребления (временное изменение схем питания, остановка на ремонт, резкое снижение
A41: эл,потребления и т,д,) последние необходимо перечислить,
A42: Главный инженер АО "Вологдаоблэнерго" А.В. Чурляев
A43: составляется самим предприятием с соблюдением всех пунктов настоящей таблицы,

Sheet 41
B1: АО "Вологдаоблэнерго" | J1: код 900151 | M1: ПС Климовская, ф, Лохта
B2: наименование предприятия | M2: наименование источника питания
M3: КТП-Деревня
B4: ул, Горького, 99 | I4: Таблица № 1 | M4: ТП-321
B5: адрес
A6: почасовых записей показаний электрических счетчиков
A7: в режимный день 18 ИЮНЯ 2025г.
A8: 1630 | B8: 1628
A9: часы суток | B9: Активная энергия | J9: Реактивная энергия
B10: =M3 -> КТП-Деревня | F10: =M4 -> ТП-321 | J10: =B10 -> КТП-Деревня | M10: =F10 -> ТП-321
B11: Расчет, Коэф, | E11: 80 | F11: Расчет, Коэф, | I11: 30 | J11: Расчет, Коэф, | L11: =E11 -> 80 | M11: Расчет, Коэф, | O11: =I11 -> 30
B12: показания счетчика | C12: разность | E12: расход эл,энергии за час | F12: показания счетчика | G12: разность | I12: расход эл,энергии за час | J12: показания счетчика | K12: разность | L12: расход эл,энергии за час | M12: показания счетчика | N12: разность | O12: расход эл,энергии за час
A13: 1 | B13: 2 | C13: 3 | E13: 4 | F13: 5 | G13: 6 | I13: 7 | J13: 8 | K13: 9 | L13: 10 | M13: 11 | N13: 12 | O13: 13
A14: 0 | E14: 41.811669 | I14: 3.3395366
A15: 1 | E15: 24.148007 | I15: 2.5001556
A16: 2 | E16: 26.046161 | I16: 2.8039043
A17: 3 | E17: 24.2151 | I17: 2.6017803
A18: 4 | E18: 17.876017 | I18: 2.4067505
A19: 5 | E19: 19.138194 | I19: 2.5690339
A20: 6 | E20: 16.107334 | I20: 3.6137481
A21: 7 | E21: 18.761128 | I21: 3.2940769
A22: 8 | E22: 24.522634 | I22: 3.082593
A23: 9 | E23: 27.259066 | I23: 2.6254931
A24: 10 | E24: 36.969588 | I24: 1.6161368
A25: 11 | E25: 39.564808 | I25: 1.3275955
... A37: 23 | E37: 39.114639 | I37: 4.1185453
A38: 24
A39: Итого | E39: =SUM(E15:E38) -> 718.48006 | I39: =SUM(I15:I38) -> 78.103044 | L39: =SUM(L15:L38) -> 0 | O39: =SUM(O15:O38) -> 0
A40: 1, При наличии на предприятии отклонений от нормальных режимов электропотребления (временное изменение схем питания, остановка на ремонт, резкое снижение
A41: эл,потребления и т,д,) последние необходимо перечислить,
A42: Главный инженер АО "Вологдаоблэнерго" А.В. Чурляев
A43: составляется самим предприятием с соблюдением всех пунктов настоящей таблицы,

Sheet 42
B1: АО "Вологдаоблэнерго" | J1: код 900151 | M1: ПС "Малечкино" ф,Птицефабрика
B2: наименование предприятия | M2: наименование источника питания
M3: _________________________________
B4: ул, Горького, 99 | I4: Таблица № 1 | M4: ТП-1 ЦРП Малечкино; ТП-5 АВМ
B5: адрес
A6: почасовых записей показаний электрических счетчиков
A7: в режимный день 18 ИЮНЯ 2025г.
A8: 1630 | B8: 1628
A9: часы суток | B9: Активная энергия | J9: Реактивная энергия
B10: ТП-1 ЦРП Малечкино | F10: ТП-5 АВМ | J10: ТП-1 ЦРП Малечкино | M10: ТП-5 АВМ
B11: Расчет, Коэф, | E11: 30 | F11: Расчет, Коэф, | I11: 120 | J11: Расчет, Коэф, | L11: =E11 -> 30 | M11: Расчет, Коэф, | O11: =I11 -> 120
B12: показания счетчика | C12: разность | E12: расход эл,энергии за час | F12: показания счетчика | G12: разность | I12: расход эл,энергии за час | J12: показания счетчика | K12: разность | L12: расход эл,энергии за час | M12: показания счетчика | N12: разность | O12: расход эл,энергии за час
A13: 1 | B13: 2 | C13: 3 | E13: 4 | F13: 5 | G13: 6 | I13: 7 | J13: 8 | K13: 9 | L13: 10 | M13: 11 | N13: 12 | O13: 13
A14: 0 | E14: 2.3705672 | I14: 8.0148878
A15: 1 | E15: 2.0362872 | I15: 4.2588202
A16: 2 | E16: 2.6970002 | I16: 4.364527
A17: 3 | E17: 2.5356126 | I17: 3.7625746
A18: 4 | E18: 0.58711488 | I18: 3.2364708
A19: 5 | E19: 1.5274914 | I19: 3.3742535
A20: 6 | E20: 1.1522096 | I20: 2.7401638
A21: 7 | E21: 0.20147259 | I21: 2.7803218
A22: 8 | E22: 1.027531 | I22: 3.484047
A23: 9 | E23: 7.4047806 | I23: 3.8305499
A24: 10 | E24: 12.304501 | I24: 6.3146447
A25: 11 | E25: 16.12425 | I25: 7.7628128
... A37: 23 | E37: 1.5268151 | I37: 6.2269382
A38: 24
A39: Итого | E39: =SUM(E15:E38) -> 130.98286 | I39: =SUM(I15:I38) -> 140.4316 | L39: =SUM(L15:L38) -> 0 | O39: =SUM(O15:O38) -> 0
A40: 1, При наличии на предприятии отклонений от нормальных режимов электропотребления (временное изменение схем питания, остановка на ремонт, резкое снижение
A41: эл,потребления и т,д,) последние необходимо перечислить,
A42: Главный инженер АО "Вологдаоблэнерго" А.В. Чурляев
A43: составляется самим предприятием с соблюдением всех пунктов настоящей таблицы,

Sheet 43
B1: АО "Вологдаоблэнерго" | J1: код 900151 | M1: ПС Малечкино, ф, Поселок
B2: наименование предприятия | M2: наименование источника питания
M3: ТП-8 ПС Малечкино В-1; В-2
B4: ул, Горького, 99 | I4: Таблица № 1
B5: адрес
A6: почасовых записей показаний электрических счетчиков
A7: в режимный день 18 ИЮНЯ 2025г.
A8: 1630 | B8: 1628
A9: часы суток | B9: Активная энергия | J9: Реактивная энергия
B10: ТП-8 ПС Малечкино В-1 | F10: ТП-8 ПС Малечкино В-2 | J10: ТП-8 ПС Малечкино В-1 | M10: ТП-8 ПС Малечкино В-2
B11: Расчет, Коэф, | E11: 80 | F11: Расчет, Коэф, | I11: 80 | J11: Расчет, Коэф, | L11: =E11 -> 80 | M11: Расчет, Коэф, | O11: =I11 -> 80
B12: показания счетчика | C12: разность | E12: расход эл,энергии за час | F12: показания счетчика | G12: разность | I12: расход эл,энергии за час | J12: показания счетчика | K12: разность | L12: расход эл,энергии за час | M12: показания счетчика | N12: разность | O12: расход эл,энергии за час
A13: 1 | B13: 2 | C13: 3 | E13: 4 | F13: 5 | G13: 6 | I13: 7 | J13: 8 | K13: 9 | L13: 10 | M13: 11 | N13: 12 | O13: 13
A14: 0 | E14: 11.960302 | I14: 8.4924254
A15: 1 | E15: 9.7543125 | I15: 5.3742255
A16: 2 | E16: 8.5622659 | I16: 5.5527449
A17: 3 | E17: 7.0683468 | I17: 4.6431772
A18: 4 | E18: 6.1255652 | I18: 5.3441724
A19: 5 | E19: 12.089719 | I19: 4.2433794
A20: 6 | E20: 10.910377 | I20: 7.0976108
A21: 7 | E21: 10.790872 | I21: 12.999012
A22: 8 | E22: 11.7951 | I22: 13.754578
A23: 9 | E23: 15.1798 | I23: 11.372983
A24: 10 | E24: 17.863387 | I24: 15.439962
A25: 11 | E25: 16.439655 | I25: 18.679671
... A37: 23 | E37: 13.822766 | I37: 9.6326099
A38: 24
A39: Итого | E39: =SUM(E15:E38) -> 304.95145 | I39: =SUM(I15:I38) -> 230.83358 | L39: =SUM(L15:L38) -> 0 | O39: =SUM(O15:O38) -> 0
A40: 1, При наличии на предприятии отклонений от нормальных режимов электропотребления (временное изменение схем питания, остановка на ремонт, резкое снижение
A41: эл,потребления и т,д,) последние необходимо перечислить,
A42: Главный инженер АО "Вологдаоблэнерго" А.В. Чурляев
A43: составляется самим предприятием с соблюдением всех пунктов настоящей таблицы,

Sheet 44
B1: АО "Вологдаоблэнерго" | J1: код 900151 | M1: ПС Малечкино, ф, Поселок
B2: наименование предприятия | M2: наименование источника питания
M3: ТП-105; КТП-Дачи п,Малечкино
B4: ул, Горького, 99 | I4: Таблица № 1
B5: адрес
A6: почасовых записей показаний электрических счетчиков
A7: в режимный день 18 ИЮНЯ 2025г.
A8: 1630 | B8: 1628
A9: часы суток | B9: Активная энергия | J9: Реактивная энергия
B10: ТП-105 | F10: КТП-Дачи п,Малечкино | J10: ТП-105 | M10: КТП-Дачи п,Малечкино
B11: Расчет, Коэф, | E11: 80 | F11: Расчет, Коэф, | I11: 60 | J11: Расчет, Коэф, | L11: =E11 -> 80 | M11: Расчет, Коэф, | O11: =I11 -> 60
B12: показания счетчика | C12: разность | E12: расход эл,энергии за час | F12: показания счетчика | G12: разность | I12: расход эл,энергии за час | J12: показания счетчика | K12: разность | L12: расход эл,энергии за час | M12: показания счетчика | N12: разность | O12: расход эл,энергии за час
A13: 1 | B13: 2 | C13: 3 | E13: 4 | F13: 5 | G13: 6 | I13: 7 | J13: 8 | K13: 9 | L13: 10 | M13: 11 | N13: 12 | O13: 13
A14: 0 | E14: 19.249006 | I14: 2.3231559
A15: 1 | E15: 13.732522 | I15: 0.9886547
A16: 2 | E16: 14.648969 | I16: 1.1012751
A17: 3 | E17: 11.841572 | I17: 1.0407121
A18: 4 | E18: 11.326425 | I18: 0.94896519
A19: 5 | E19: 11.844318 | I19: 0.99693853
A20: 6 | E20: 10.809821 | I20: 0.79607205
A21: 7 | E21: 10.537017 | I21: 0.76559585
A22: 8 | E22: 13.644656 | I22: 0.88415458
A23: 9 | E23: 15.545293 | I23: 0.92559757
A24: 10 | E24: 21.798328 | I24: 1.1867285
A25: 11 | E25: 21.853026 | I25: 1.222997
... A37: 23 | E37: 18.118206 | I37: 1.7884814
A38: 24
A39: Итого | E39: =SUM(E15:E38) -> 402.25873 | I39: =SUM(I15:I38) -> 34.171641 | L39: =SUM(L15:L38) -> 0 | O39: =SUM(O15:O38) -> 0
A40: 1, При наличии на предприятии отклонений от нормальных режимов электропотребления (временное изменение схем питания, остановка на ремонт, резкое снижение
A41: эл,потребления и т,д,) последние необходимо перечислить,
A42: Главный инженер АО "Вологдаоблэнерго" А.В. Чурляев
A43: составляется самим предприятием с соблюдением всех пунктов настоящей таблицы,

Sheet 45
B1: АО "Вологдаоблэнерго" | J1: код 900151 | M1: ПС Малечкино, ф, Поселок
B2: наименование предприятия | M2: наименование источника питания
M3: ТП-35; ТП-103
B4: ул, Горького, 99 | I4: Таблица № 1
B5: адрес
A6: почасовых записей показаний электрических счетчиков
A7: в режимный день 18 ИЮНЯ 2025г.
A8: 1630 | B8: 1628
A9: часы суток | B9: Активная энергия | J9: Реактивная энергия
B10: ТП-35 | F10: ТП-103 | J10: ТП-35 | M10: ТП-103
B11: Расчет, Коэф, | E11: 30 | F11: Расчет, Коэф, | I11: 120 | J11: Расчет, Коэф, | L11: =E11 -> 30 | M11: Расчет, Коэф, | O11: =I11 -> 120
B12: показания счетчика | C12: разность | E12: расход эл,энергии за час | F12: показания счетчика | G12: разность | I12: расход эл,энергии за час | J12: показания счетчика | K12: разность | L12: расход эл,энергии за час | M12: показания счетчика | N12: разность | O12: расход эл,энергии за час
A13: 1 | B13: 2 | C13: 3 | E13: 4 | F13: 5 | G13: 6 | I13: 7 | J13: 8 | K13: 9 | L13: 10 | M13: 11 | N13: 12 | O13: 13
A14: 0 | E14: 3.7454962 | I14: 61.253876
A15: 1 | E15: 2.0735364 | I15: 41.553917
A16: 2 | E16: 2.1008212 | I16: 42.254186
A17: 3 | E17: 1.7383323 | I17: 42.316956
A18: 4 | E18: 1.7491131 | I18: 35.211603
A19: 5 | E19: 1.8530223 | I19: 35.092236
A20: 6 | E20: 3.8651393 | I20: 31.851262
A21: 7 | E21: 1.9643578 | I21: 35.648561
A22: 8 | E22: 3.6202546 | I22: 46.238895
A23: 9 | E23: 7.1199813 | I23: 46.009319
A24: 10 | E24: 7.9011133 | I24: 61.291403
A25: 11 | E25: 9.944897 | I25: 62.179744
... A37: 23 | E37: 4.567722 | I37: 61.241635
A38: 24
A39: Итого | E39: =SUM(E15:E38) -> 120.34236 | I39: =SUM(I15:I38) -> 1293.8687 | L39: =SUM(L15:L38) -> 0 | O39: =SUM(O15:O38) -> 0
A40: 1, При наличии на предприятии отклонений от нормальных режимов электропотребления (временное изменение схем питания, остановка на ремонт, резкое снижение
A41: эл,потребления и т,д,) последние необходимо перечислить,
A42: Главный инженер АО "Вологдаоблэнерго" А.В. Чурляев
A43: составляется самим предприятием с соблюдением всех пунктов настоящей таблицы,

Sheet 46
B1: АО "Вологдаоблэнерго" | J1: код 900151 | M1: ПС Малечкино, ф, Поселок
B2: наименование предприятия | M2: наименование источника питания
M3: ТП-3 ПС Малечкино; ТП-97
B4: ул, Горького, 99 | I4: Таблица № 1
B5: адрес
A6: почасовых записей показаний электрических счетчиков
A7: в режимный день 18 ИЮНЯ 2025г.
A8: 1630 | B8: 1628
A9: часы суток | B9: Активная энергия | J9: Реактивная энергия
B10: ТП-3 ПС Малечкино | F10: ТП-97 | J10: ТП-3 ПС Малечкино | M10: ТП-97
B11: Расчет, Коэф, | E11: 120 | F11: Расчет, Коэф, | I11: 60 | J11: Расчет, Коэф, | L11: =E11 -> 120 | M11: Расчет, Коэф, | O11: =I11 -> 60
B12: показания счетчика | C12: разность | E12: расход эл,энергии за час | F12: показания счетчика | G12: разность | I12: расход эл,энергии за час | J12: показания счетчика | K12: разность | L12: расход эл,энергии за час | M12: показания счетчика | N12: разность | O12: расход эл,энергии за час
A13: 1 | B13: 2 | C13: 3 | E13: 4 | F13: 5 | G13: 6 | I13: 7 | J13: 8 | K13: 9 | L13: 10 | M13: 11 | N13: 12 | O13: 13
A14: 0 | E14: 30.096721 | I14: 31.894994
A15: 1 | E15: 17.432605 | I15: 19.278767
A16: 2 | E16: 18.754088 | I16: 19.283906
A17: 3 | E17: 16.640938 | I17: 16.427241
A18: 4 | E18: 15.162242 | I18: 15.118514
A19: 5 | E19: 26.548301 | I19: 16.326786
A20: 6 | E20: 19.797055 | I20: 14.574403
A21: 7 | E21: 18.108357 | I21: 14.530203
A22: 8 | E22: 21.850566 | I22: 20.932957
A23: 9 | E23: 26.258491 | I23: 23.837697
A24: 10 | E24: 36.163989 | I24: 33.681228
A25: 11 | E25: 32.22919 | I25: 30.819525
... A37: 23 | E37: 26.505511 | I37: 29.011184
A38: 24 | P38: 1
A39: Итого | E39: =SUM(E15:E38) -> 557.46897 | I39: =SUM(I15:I38) -> 608.71262 | L39: =SUM(L15:L38) -> 0 | O39: =SUM(O15:O38) -> 0
A40: 1, При наличии на предприятии отклонений от нормальных режимов электропотребления (временное изменение схем питания, остановка на ремонт, резкое снижение
A41: эл,потребления и т,д,) последние необходимо перечислить,
A42: Главный инженер АО "Вологдаоблэнерго" А.В. Чурляев
A43: составляется самим предприятием с соблюдением всех пунктов настоящей таблицы,

Sheet 47
B1: АО "Вологдаоблэнерго" | J1: код 900151 | M1: ПС Малечкино, ф, Поселок
B2: наименование предприятия | M2: наименование источника питания
M3: ТП-15 Кормоцех В-1; В-2
B4: ул, Горького, 99 | I4: Таблица № 1
B5: адрес
A6: почасовых записей показаний электрических счетчиков
A7: в режимный день 18 ИЮНЯ 2025г.
A8: 1630 | B8: 1628
A9: часы суток | B9: Активная энергия | J9: Реактивная энергия
B10: ТП-15 Кормоцех В-1 | F10: ТП-15 Кормоцех В-2 | J10: ТП-15 Кормоцех В-1 | M10: ТП-15 Кормоцех В-2
B11: Расчет, Коэф, | E11: 60 | F11: Расчет, Коэф, | I11: 60 | J11: Расчет, Коэф, | L11: =E11 -> 60 | M11: Расчет, Коэф, | O11: =I11 -> 60
B12: показания счетчика | C12: разность | E12: расход эл,энергии за час | F12: показания счетчика | G12: разность | I12: расход эл,энергии за час | J12: показания счетчика | K12: разность | L12: расход эл,энергии за час | M12: показания счетчика | N12: разность | O12: расход эл,энергии за час
A13: 1 | B13: 2 | C13: 3 | E13: 4 | F13: 5 | G13: 6 | I13: 7 | J13: 8 | K13: 9 | L13: 10 | M13: 11 | N13: 12 | O13: 13
A14: 0 | E14: 6.5427655 | I14: 0
A15: 1 | E15: 4.8796395 | I15: 0
A16: 2 | E16: 5.578532 | I16: 0
A17: 3 | E17: 5.136576 | I17: 0
A18: 4 | E18: 4.8070031 | I18: 0
A19: 5 | E19: 4.9580867 | I19: 0
A20: 6 | E20: 4.0536827 | I20: 0
A21: 7 | E21: 9.51958 | I21: 0
A22: 8 | E22: 20.753737 | I22: 0
A23: 9 | E23: 4.9127871 | I23: 0
A24: 10 | E24: 5.2465891 | I24: 0
A25: 11 | E25: 5.3103819 | I25: 0
... A37: 23 | E37: 5.1148307 | I37: 0
A38: 24
A39: Итого | E39: =SUM(E15:E38) -> 163.45657 | I39: =SUM(I15:I38) -> 0 | L39: =SUM(L15:L38) -> 0 | O39: =SUM(O15:O38) -> 0
A40: 1, При наличии на предприятии отклонений от нормальных режимов электропотребления (временное изменение схем питания, остановка на ремонт, резкое снижение
A41: эл,потребления и т,д,) последние необходимо перечислить,
A42: Главный инженер АО "Вологдаоблэнерго" А.В. Чурляев
A43: составляется самим предприятием с соблюдением всех пунктов настоящей таблицы,

Sheet 48
B1: АО "Вологдаоблэнерго" | J1: код 900151 | M1: ПС Малечкино, ф, Парфеново-1
B2: наименование предприятия | M2: наименование источника питания
M3: ЦРП-Парфеново
B4: ул, Горького, 99 | I4: Таблица № 1
B5: адрес
A6: почасовых записей показаний электрических счетчиков
A7: в режимный день 18 ИЮНЯ 2025г.
A8: 1630 | B8: 1628
A9: часы суток | B9: Активная энергия | J9: Реактивная энергия
B10: ЦРП-Парфеново В-1 | F10: ЦРП-Парфеново В-2 | J10: ЦРП-Парфеново В-1 | M10: ЦРП-Парфеново В-2
B11: Расчет, Коэф, | E11: 4000 | F11: Расчет, Коэф, | I11: 3000 | J11: Расчет, Коэф, | L11: =E11 -> 4000 | M11: Расчет, Коэф, | O11: =I11 -> 3000
B12: показания счетчика | C12: разность | E12: расход эл,энергии за час | F12: показания счетчика | G12: разность | I12: расход эл,энергии за час | J12: показания счетчика | K12: разность | L12: расход эл,энергии за час | M12: показания счетчика | N12: разность | O12: расход эл,энергии за час
A13: 1 | B13: 2 | C13: 3 | E13: 4 | F13: 5 | G13: 6 | I13: 7 | J13: 8 | K13: 9 | L13: 10 | M13: 11 | N13: 12 | O13: 13
A14: 0 | E14: 360.95837 | I14: 0
A15: 1 | E15: 304.94643 | I15: 0
A16: 2 | E16: 334.42802 | I16: 0
A17: 3 | E17: 321.00332 | I17: 0
A18: 4 | E18: 286.2185 | I18: 0
A19: 5 | E19: 297.4852 | I19: 0
A20: 6 | E20: 249.71523 | I20: 0
A21: 7 | E21: 242.97595 | I21: 0
A22: 8 | E22: 356.05144 | I22: 0
A23: 9 | E23: 656.46228 | I23: 0
A24: 10 | E24: 825.08859 | I24: 0
A25: 11 | E25: 872.19 | I25: 0
... A37: 23 | E37: 288.05912 | I37: 0
A38: 24
A39: Итого | E39: =SUM(E15:E38) -> 10460.847 | I39: =SUM(I15:I38) -> 0 | L39: =SUM(L15:L38) -> 0 | O39: =SUM(O15:O38) -> 0
A40: 1, При наличии на предприятии отклонений от нормальных режимов электропотребления (временное изменение схем питания, остановка на ремонт, резкое снижение
A41: эл,потребления и т,д,) последние необходимо перечислить,
A42: Главный инженер АО "Вологдаоблэнерго" А.В. Чурляев
A43: составляется самим предприятием с соблюдением всех пунктов настоящей таблицы,

Sheet 49
B1: АО "Вологдаоблэнерго" | J1: код 900151 | M1: ПС Малечкино, ф, Киселево
B2: наименование предприятия | M2: наименование источника питания
M3: ЦРП-Парфеново
B4: ул, Горького, 99 | I4: Таблица № 1
B5: адрес
A6: почасовых записей показаний электрических счетчиков
A7: в режимный день 18 ИЮНЯ 2025г.
A8: 1630 | B8: 1628
A9: часы суток | B9: Активная энергия | J9: Реактивная энергия
B10: ЦРП-Парфеново В ф,Киселево | J10: ЦРП-Парфеново В ф,Киселево
B11: Расчет, Коэф, | E11: 6000 | F11: Расчет, Коэф, | J11: Расчет, Коэф, | L11: =E11 -> 6000 | M11: Расчет, Коэф, | O11: =I11 -> 0
B12: показания счетчика | C12: разность | E12: расход эл,энергии за час | F12: показания счетчика | G12: разность | I12: расход эл,энергии за час | J12: показания счетчика | K12: разность | L12: расход эл,энергии за час | M12: показания счетчика | N12: разность | O12: расход эл,энергии за час
A13: 1 | B13: 2 | C13: 3 | E13: 4 | F13: 5 | G13: 6 | I13: 7 | J13: 8 | K13: 9 | L13: 10 | M13: 11 | N13: 12 | O13: 13
A14: 0 | E14: 0 | I14: 0
A15: 1 | E15: 0 | I15: 0
A16: 2 | E16: 0 | I16: 0
A17: 3 | E17: 0 | I17: 0
A18: 4 | E18: 0 | I18: 0
A19: 5 | E19: 0 | I19: 0
A20: 6 | E20: 0 | I20: 0
A21: 7 | E21: 0 | I21: 0
A22: 8 | E22: 0 | I22: 0
A23: 9 | E23: 0 | I23: 0
A24: 10 | E24: 0 | I24: 0
A25: 11 | E25: 0 | I25: 0
... A37: 23 | E37: 0 | I37: 0
A38: 24
A39: Итого | E39: =SUM(E15:E38) -> 0 | I39: =SUM(I15:I38) -> 0 | L39: =SUM(L15:L38) -> 0 | O39: =SUM(O15:O38) -> 0
A40: 1, При наличии на предприятии отклонений от нормальных режимов электропотребления (временное изменение схем питания, остановка на ремонт, резкое снижение
A41: эл,потребления и т,д,) последние необходимо перечислить,
A42: Главный инженер АО "Вологдаоблэнерго" А.В. Чурляев
A43: составляется самим предприятием с соблюдением всех пунктов настоящей таблицы,

Sheet 50
B1: АО "Вологдаоблэнерго" | J1: код 900151 | M1: ПС Малечкино, ф, Киселево
B2: наименование предприятия | M2: наименование источника питания
M3: ТП-51; КТП-250 Курилово-ферма
B4: ул, Горького, 99 | I4: Таблица № 1
B5: адрес
A6: почасовых записей показаний электрических счетчиков
A7: в режимный день 18 ИЮНЯ 2025г.
A8: 1630 | B8: 1628
A9: часы суток | B9: Активная энергия | J9: Реактивная энергия
B10: ТП-51 | F10: КТП-250 Курилово-ферма | J10: ТП-51 | M10: КТП-250 Курилово-ферма
B11: Расчет, Коэф, | E11: 120 | F11: Расчет, Коэф, | I11: 30 | J11: Расчет, Коэф, | L11: =E11 -> 120 | M11: Расчет, Коэф, | O11: =I11 -> 30
B12: показания счетчика | C12: разность | E12: расход эл,энергии за час | F12: показания счетчика | G12: разность | I12: расход эл,энергии за час | J12: показания счетчика | K12: разность | L12: расход эл,энергии за час | M12: показания счетчика | N12: разность | O12: расход эл,энергии за час
A13: 1 | B13: 2 | C13: 3 | E13: 4 | F13: 5 | G13: 6 | I13: 7 | J13: 8 | K13: 9 | L13: 10 | M13: 11 | N13: 12 | O13: 13
A14: 0 | E14: 0 | I14: 4.1300549
A15: 1 | E15: 0 | I15: 3.1941152
A16: 2 | E16: 0 | I16: 3.7095582
A17: 3 | E17: 0 | I17: 3.3623007
A18: 4 | E18: 0 | I18: 3.1965143
A19: 5 | E19: 0 | I19: 3.2208783
A20: 6 | E20: 0 | I20: 2.7234044
A21: 7 | E21: 0 | I21: 2.6997327
A22: 8 | E22: 0 | I22: 3.1064891
A23: 9 | E23: 0 | I23: 3.1802583
A24: 10 | E24: 0 | I24: 3.9349418
A25: 11 | E25: 0 | I25: 4.377042
... A37: 23 | E37: 0 | I37: 3.4258236
A38: 24
A39: Итого | E39: =SUM(E15:E38) -> 0 | I39: =SUM(I15:I38) -> 90.14828 | L39: =SUM(L15:L38) -> 0 | O39: =SUM(O15:O38) -> 0
A40: 1, При наличии на предприятии отклонений от нормальных режимов электропотребления (временное изменение схем питания, остановка на ремонт, резкое снижение
A41: эл,потребления и т,д,) последние необходимо перечислить,
A42: Главный инженер АО "Вологдаоблэнерго" А.В. Чурляев
A43: составляется самим предприятием с соблюдением всех пунктов настоящей таблицы,

Sheet 51
B1: АО "Вологдаоблэнерго" | J1: код 900151 | M1: ПС Малечкино, ф, Тепл, комбинат
B2: наименование предприятия | M2: наименование источника питания
M3: ТП-33; КТП-400 Пилорама Карат плюс
B4: ул, Горького, 99 | I4: Таблица № 1
B5: адрес
A6: почасовых записей показаний электрических счетчиков
A7: в режимный день 18 ИЮНЯ 2025г.
A8: 1630 | B8: 1628
A9: часы суток | B9: Активная энергия | J9: Реактивная энергия
B10: ТП-33 | F10: КТП-400 Пилорама Карат плюс | J10: ТП-33 | M10: КТП-400 Пилорама Карат плюс
B11: Расчет, Коэф, | E11: 30 | F11: Расчет, Коэф, | I11: 120 | J11: Расчет, Коэф, | L11: =E11 -> 30 | M11: Расчет, Коэф, | O11: =I11 -> 120
B12: показания счетчика | C12: разность | E12: расход эл,энергии за час | F12: показания счетчика | G12: разность | I12: расход эл,энергии за час | J12: показания счетчика | K12: разность | L12: расход эл,энергии за час | M12: показания счетчика | N12: разность | O12: расход эл,энергии за час
A13: 1 | B13: 2 | C13: 3 | E13: 4 | F13: 5 | G13: 6 | I13: 7 | J13: 8 | K13: 9 | L13: 10 | M13: 11 | N13: 12 | O13: 13
A14: 0 | E14: 26.566157 | I14: 26.735652
A15: 1 | E15: 9.7716954 | I15: 21.628723
A16: 2 | E16: 11.852606 | I16: 18.849192
A17: 3 | E17: 9.5542928 | I17: 15.738769
A18: 4 | E18: 9.2715225 | I18: 14.908743
A19: 5 | E19: 10.229184 | I19: 15.475553
A20: 6 | E20: 10.495582 | I20: 14.316727
A21: 7 | E21: 11.866736 | I21: 16.742372
A22: 8 | E22: 11.685178 | I22: 23.599758
A23: 9 | E23: 17.337154 | I23: 48.202273
A24: 10 | E24: 23.562806 | I24: 65.038967
A25: 11 | E25: 25.763398 | I25: 61.696982
... A37: 23 | E37: 27.724418 | I37: 21.461777
A38: 24
A39: Итого | E39: =SUM(E15:E38) -> 507.13935 | I39: =SUM(I15:I38) -> 917.89375 | L39: =SUM(L15:L38) -> 0 | O39: =SUM(O15:O38) -> 0
A40: 1, При наличии на предприятии отклонений от нормальных режимов электропотребления (временное изменение схем питания, остановка на ремонт, резкое снижение
A41: эл,потребления и т,д,) последние необходимо перечислить,
A42: Главный инженер АО "Вологдаоблэнерго" А.В. Чурляев
A43: составляется самим предприятием с соблюдением всех пунктов настоящей таблицы,

Sheet 52
B1: АО "Вологдаоблэнерго" | J1: код 900151 | M1: ПС Малечкино, ф,Котельная
B2: наименование предприятия | M2: наименование источника питания
M3: ТП-47 В-1
B4: ул, Горького, 99 | I4: Таблица № 1 | M4: ТП-47 В-2
B5: адрес
A6: почасовых записей показаний электрических счетчиков
A7: в режимный день 18 ИЮНЯ 2025г.
A8: 1630 | B8: 1628
A9: часы суток | B9: Активная энергия | J9: Реактивная энергия
B10: =M3 -> ТП-47 В-1 | F10: =M4 -> ТП-47 В-2 | J10: =B10 -> ТП-47 В-1 | M10: =F10 -> ТП-47 В-2
B11: Расчет, Коэф, | E11: 120 | F11: Расчет, Коэф, | I11: 120 | J11: Расчет, Коэф, | L11: =E11 -> 120 | M11: Расчет, Коэф, | O11: =I11 -> 120
B12: показания счетчика | C12: разность | E12: расход эл,энергии за час | F12: показания счетчика | G12: разность | I12: расход эл,энергии за час | J12: показания счетчика | K12: разность | L12: расход эл,энергии за час | M12: показания счетчика | N12: разность | O12: расход эл,энергии за час
A13: 1 | B13: 2 | C13: 3 | E13: 4 | F13: 5 | G13: 6 | I13: 7 | J13: 8 | K13: 9 | L13: 10 | M13: 11 | N13: 12 | O13: 13
A14: 0 | E14: 0 | I14: 27.180924
A15: 1 | E15: 0 | I15: 19.970825
A16: 2 | E16: 0 | I16: 24.17009
A17: 3 | E17: 0 | I17: 20.782221
A18: 4 | E18: 0 | I18: 19.448792
A19: 5 | E19: 0 | I19: 21.089084
A20: 6 | E20: 0 | I20: 16.290148
A21: 7 | E21: 0 | I21: 17.250083
A22: 8 | E22: 0 | I22: 20.015348
A23: 9 | E23: 0 | I23: 18.725551
A24: 10 | E24: 0 | I24: 25.858189
A25: 11 | E25: 0 | I25: 24.54362
... A37: 23 | E37: 0 | I37: 21.854739
A38: 24
A39: Итого | E39: =SUM(E15:E38) -> 0 | I39: =SUM(I15:I38) -> 509.74558 | L39: =SUM(L15:L38) -> 0 | O39: =SUM(O15:O38) -> 0
A40: 1, При наличии на предприятии отклонений от нормальных режимов электропотребления (временное изменение схем питания, остановка на ремонт, резкое снижение
A41: эл,потребления и т,д,) последние необходимо перечислить,
A42: Главный инженер АО "Вологдаоблэнерго" А.В. Чурляев
A43: составляется самим предприятием с соблюдением всех пунктов настоящей таблицы,

Sheet 53
B1: АО "Вологдаоблэнерго" | J1: код 900151 | M1: ПС Малечкино, ф,Птицефабрика
B2: наименование предприятия | M2: наименование источника питания
M3: ТП-9 В-1
B4: ул, Горького, 99 | I4: Таблица № 1
B5: адрес
A6: почасовых записей показаний электрических счетчиков
A7: в режимный день 18 ИЮНЯ 2025г.
A8: 1630 | B8: 1628
A9: часы суток | B9: Активная энергия | J9: Реактивная энергия
B10: =M3 -> ТП-9 В-1 | F10: =M4 -> 0 | J10: =B10 -> ТП-9 В-1 | M10: =F10 -> 0
B11: Расчет, Коэф, | E11: 40 | F11: Расчет, Коэф, | I11: 120 | J11: Расчет, Коэф, | L11: =E11 -> 40 | M11: Расчет, Коэф, | O11: =I11 -> 120
B12: показания счетчика | C12: разность | E12: расход эл,энергии за час | F12: показания счетчика | G12: разность | I12: расход эл,энергии за час | J12: показания счетчика | K12: разность | L12: расход эл,энергии за час | M12: показания счетчика | N12: разность | O12: расход эл,энергии за час
A13: 1 | B13: 2 | C13: 3 | E13: 4 | F13: 5 | G13: 6 | I13: 7 | J13: 8 | K13: 9 | L13: 10 | M13: 11 | N13: 12 | O13: 13
A14: 0 | E14: 0 | I14: 0
A15: 1 | E15: 0 | I15: 0
A16: 2 | E16: 0 | I16: 0
A17: 3 | E17: 0 | I17: 0
A18: 4 | E18: 0 | I18: 0
A19: 5 | E19: 0 | I19: 0
A20: 6 | E20: 0 | I20: 0
A21: 7 | E21: 0 | I21: 0
A22: 8 | E22: 0 | I22: 0
A23: 9 | E23: 0 | I23: 0
A24: 10 | E24: 0 | I24: 0
A25: 11 | E25: 0 | I25: 0
... A37: 23 | E37: 0 | I37: 0
A38: 24
A39: Итого | E39: =SUM(E15:E38) -> 0 | I39: =SUM(I15:I38) -> 0 | L39: =SUM(L15:L38) -> 0 | O39: =SUM(O15:O38) -> 0
A40: 1, При наличии на предприятии отклонений от нормальных режимов электропотребления (временное изменение схем питания, остановка на ремонт, резкое снижение
A41: эл,потребления и т,д,) последние необходимо перечислить,
A42: Главный инженер АО "Вологдаоблэнерго" А.В. Чурляев
A43: составляется самим предприятием с соблюдением всех пунктов настоящей таблицы,

Sheet 54
B1: АО "Вологдаоблэнерго" | J1: код 900151 | M1: ПС Малечкино, ф,Котельная
B2: наименование предприятия | M2: наименование источника питания
M3: ТП-9 В-2
B4: ул, Горького, 99 | I4: Таблица № 1
B5: адрес
A6: почасовых записей показаний электрических счетчиков
A7: в режимный день 18 ИЮНЯ 2025г.
A8: 1630 | B8: 1628
A9: часы суток | B9: Активная энергия | J9: Реактивная энергия
B10: =M3 -> ТП-9 В-2 | F10: =M4 -> 0 | J10: =B10 -> ТП-9 В-2 | M10: =F10 -> 0
B11: Расчет, Коэф, | E11: 40 | F11: Расчет, Коэф, | I11: 120 | J11: Расчет, Коэф, | L11: =E11 -> 40 | M11: Расчет, Коэф, | O11: =I11 -> 120
B12: показания счетчика | C12: разность | E12: расход эл,энергии за час | F12: показания счетчика | G12: разность | I12: расход эл,энергии за час | J12: показания счетчика | K12: разность | L12: расход эл,энергии за час | M12: показания счетчика | N12: разность | O12: расход эл,энергии за час
A13: 1 | B13: 2 | C13: 3 | E13: 4 | F13: 5 | G13: 6 | I13: 7 | J13: 8 | K13: 9 | L13: 10 | M13: 11 | N13: 12 | O13: 13
A14: 0 | E14: 4.5286394 | I14: 0
A15: 1 | E15: 2.9457357 | I15: 0
A16: 2 | E16: 3.2758498 | I16: 0
A17: 3 | E17: 2.9423671 | I17: 0
A18: 4 | E18: 2.6794251 | I18: 0
A19: 5 | E19: 2.9805384 | I19: 0
A20: 6 | E20: 3.3425621 | I20: 0
A21: 7 | E21: 3.7051632 | I21: 0
A22: 8 | E22: 6.2583806 | I22: 0
A23: 9 | E23: 5.6331645 | I23: 0
A24: 10 | E24: 7.1033539 | I24: 0
A25: 11 | E25: 6.517681 | I25: 0
... A37: 23 | E37: 3.9094693 | I37: 0
A38: 24
A39: Итого | E39: =SUM(E15:E38) -> 101.7804 | I39: =SUM(I15:I38) -> 0 | L39: =SUM(L15:L38) -> 0 | O39: =SUM(O15:O38) -> 0
A40: 1, При наличии на предприятии отклонений от нормальных режимов электропотребления (временное изменение схем питания, остановка на ремонт, резкое снижение
A41: эл,потребления и т,д,) последние необходимо перечислить,
A42: Главный инженер АО "Вологдаоблэнерго" А.В. Чурляев
A43: составляется самим предприятием с соблюдением всех пунктов настоящей таблицы,

Sheet 55
B1: АО "Вологдаоблэнерго" | J1: код 900151 | M1: ПС Нелазское, ф, Шулма
B2: наименование предприятия | M2: наименование источника питания
M3: ТП-244
B4: ул, Горького, 99 | I4: Таблица № 1 | M4: ТП-250
B5: адрес
A6: почасовых записей показаний электрических счетчиков
A7: в режимный день 18 ИЮНЯ 2025г.
A8: 1630 | B8: 1628
A9: часы суток | B9: Активная энергия | J9: Реактивная энергия
B10: =M3 -> ТП-244 | F10: =M4 -> ТП-250 | J10: =B10 -> ТП-244 | M10: =F10 -> ТП-250
B11: Расчет, Коэф, | E11: 60 | F11: Расчет, Коэф, | I11: 60 | J11: Расчет, Коэф, | L11: =E11 -> 60 | M11: Расчет, Коэф, | O11: =I11 -> 60
B12: показания счетчика | C12: разность | E12: расход эл,энергии за час | F12: показания счетчика | G12: разность | I12: расход эл,энергии за час | J12: показания счетчика | K12: разность | L12: расход эл,энергии за час | M12: показания счетчика | N12: разность | O12: расход эл,энергии за час
A13: 1 | B13: 2 | C13: 3 | E13: 4 | F13: 5 | G13: 6 | I13: 7 | J13: 8 | K13: 9 | L13: 10 | M13: 11 | N13: 12 | O13: 13
A14: 0 | E14: 5.1915422 | I14: 0
A15: 1 | E15: 4.153281 | I15: 0
A16: 2 | E16: 4.7268477 | I16: 0
A17: 3 | E17: 4.3523659 | I17: 0
A18: 4 | E18: 4.0731095 | I18: 0
A19: 5 | E19: 4.1693002 | I19: 0
A20: 6 | E20: 3.4880526 | I20: 0
A21: 7 | E21: 3.3545187 | I21: 0
A22: 8 | E22: 3.9786956 | I22: 0
A23: 9 | E23: 3.9515896 | I23: 0
A24: 10 | E24: 5.1763222 | I24: 0
A25: 11 | E25: 5.3586581 | I25: 0
... A37: 23 | E37: 4.2178268 | I37: 0
A38: 24
A39: Итого | E39: =SUM(E15:E38) -> 102.69646 | I39: =SUM(I15:I38) -> 0 | L39: =SUM(L15:L38) -> 0 | O39: =SUM(O15:O38) -> 0
A40: 1, При наличии на предприятии отклонений от нормальных режимов электропотребления (временное изменение схем питания, остановка на ремонт, резкое снижение
A41: эл,потребления и т,д,) последние необходимо перечислить,
A42: Главный инженер АО "Вологдаоблэнерго" А.В. Чурляев
A43: составляется самим предприятием с соблюдением всех пунктов настоящей таблицы,

Sheet 56
B1: АО "Вологдаоблэнерго" | J1: код 900151 | M1: ПС Нелазское, ф, Шулма
B2: наименование предприятия | M2: наименование источника питания
M3: ТП-218
B4: ул, Горького, 99 | I4: Таблица № 1 | M4: ТП-212
B5: адрес
A6: почасовых записей показаний электрических счетчиков
A7: в режимный день 18 ИЮНЯ 2025г.
A8: 1630 | B8: 1628
A9: часы суток | B9: Активная энергия | J9: Реактивная энергия
B10: =M3 -> ТП-218 | F10: =M4 -> ТП-212 | J10: =B10 -> ТП-218 | M10: =F10 -> ТП-212
B11: Расчет, Коэф, | E11: 120 | F11: Расчет, Коэф, | I11: 120 | J11: Расчет, Коэф, | L11: =E11 -> 120 | M11: Расчет, Коэф, | O11: =I11 -> 120
B12: показания счетчика | C12: разность | E12: расход эл,энергии за час | F12: показания счетчика | G12: разность | I12: расход эл,энергии за час | J12: показания счетчика | K12: разность | L12: расход эл,энергии за час | M12: показания счетчика | N12: разность | O12: расход эл,энергии за час
A13: 1 | B13: 2 | C13: 3 | E13: 4 | F13: 5 | G13: 6 | I13: 7 | J13: 8 | K13: 9 | L13: 10 | M13: 11 | N13: 12 | O13: 13
A14: 0 | E14: 77.564959 | I14: 4.9754255
A15: 1 | E15: 51.403836 | I15: 4.0915094
A16: 2 | E16: 53.741277 | I16: 5.8425541
A17: 3 | E17: 50.503129 | I17: 3.7145417
A18: 4 | E18: 46.235297 | I18: 3.581095
A19: 5 | E19: 47.252069 | I19: 2.5153526
A20: 6 | E20: 42.045174 | I20: 1.4077906
A21: 7 | E21: 47.446796 | I21: 3.0100005
A22: 8 | E22: 59.64459 | I22: 8.3301699
A23: 9 | E23: 65.076629 | I23: 10.195813
A24: 10 | E24: 82.35271 | I24: 13.191424
A25: 11 | E25: 87.186815 | I25: 17.611157
... A37: 23 | E37: 70.233497 | I37: 5.7584065
A38: 24
A39: Итого | E39: =SUM(E15:E38) -> 1575.9307 | I39: =SUM(I15:I38) -> 149.18581 | L39: =SUM(L15:L38) -> 0 | O39: =SUM(O15:O38) -> 0
A40: 1, При наличии на предприятии отклонений от нормальных режимов электропотребления (временное изменение схем питания, остановка на ремонт, резкое снижение
A41: эл,потребления и т,д,) последние необходимо перечислить,
A42: Главный инженер АО "Вологдаоблэнерго" А.В. Чурляев
A43: составляется самим предприятием с соблюдением всех пунктов настоящей таблицы,

Sheet 57
B1: АО "Вологдаоблэнерго" | J1: код 900151 | M1: ПС Нелазское, ф, К-с Нелазское-2
B2: наименование предприятия | M2: наименование источника питания
M3: ТП-14 В-1
B4: ул, Горького, 99 | I4: Таблица № 1 | M4: ТП-14 В-2
B5: адрес
A6: почасовых записей показаний электрических счетчиков
A7: в режимный день 18 ИЮНЯ 2025г.
A8: 1630 | B8: 1628
A9: часы суток | B9: Активная энергия | J9: Реактивная энергия
B10: =M3 -> ТП-14 В-1 | F10: =M4 -> ТП-14 В-2 | J10: =B10 -> ТП-14 В-1 | M10: =F10 -> ТП-14 В-2
B11: Расчет, Коэф, | E11: 120 | F11: Расчет, Коэф, | I11: 120 | J11: Расчет, Коэф, | L11: =E11 -> 120 | M11: Расчет, Коэф, | O11: =I11 -> 120
B12: показания счетчика | C12: разность | E12: расход эл,энергии за час | F12: показания счетчика | G12: разность | I12: расход эл,энергии за час | J12: показания счетчика | K12: разность | L12: расход эл,энергии за час | M12: показания счетчика | N12: разность | O12: расход эл,энергии за час
A13: 1 | B13: 2 | C13: 3 | E13: 4 | F13: 5 | G13: 6 | I13: 7 | J13: 8 | K13: 9 | L13: 10 | M13: 11 | N13: 12 | O13: 13
A14: 0 | E14: 0 | I14: 80.439272
A15: 1 | E15: 0 | I15: 69.586081
A16: 2 | E16: 0 | I16: 49.29655
A17: 3 | E17: 0 | I17: 51.795442
A18: 4 | E18: 0 | I18: 46.524267
A19: 5 | E19: 0 | I19: 36.349912
A20: 6 | E20: 0 | I20: 36.640264
A21: 7 | E21: 0 | I21: 32.034142
A22: 8 | E22: 0 | I22: 54.698103
A23: 9 | E23: 0 | I23: 61.303039
A24: 10 | E24: 0 | I24: 76.26292
A25: 11 | E25: 0 | I25: 82.262643
... A37: 23 | E37: 0 | I37: 54.485709
A38: 24
A39: Итого | E39: =SUM(E15:E38) -> 0 | I39: =SUM(I15:I38) -> 1410.0883 | L39: =SUM(L15:L38) -> 0 | O39: =SUM(O15:O38) -> 0
A40: 1, При наличии на предприятии отклонений от нормальных режимов электропотребления (временное изменение схем питания, остановка на ремонт, резкое снижение
A41: эл,потребления и т,д,) последние необходимо перечислить,
A42: Главный инженер АО "Вологдаоблэнерго" А.В. Чурляев
A43: составляется самим предприятием с соблюдением всех пунктов настоящей таблицы,

Sheet 58
B1: АО "Вологдаоблэнерго" | J1: код 900151 | M1: ПС Нелазское, ф, К-с Нелазское-2
B2: наименование предприятия | M2: наименование источника питания
M3: ТП-15 В-1
B4: ул, Горького, 99 | I4: Таблица № 1 | M4: ТП-15 В-2
B5: адрес
A6: почасовых записей показаний электрических счетчиков
A7: в режимный день 18 ИЮНЯ 2025г.
A8: 1630 | B8: 1628
A9: часы суток | B9: Активная энергия | J9: Реактивная энергия
B10: =M3 -> ТП-15 В-1 | F10: =M4 -> ТП-15 В-2 | J10: =B10 -> ТП-15 В-1 | M10: =F10 -> ТП-15 В-2
B11: Расчет, Коэф, | E11: 200 | F11: Расчет, Коэф, | I11: 120 | J11: Расчет, Коэф, | L11: =E11 -> 200 | M11: Расчет, Коэф, | O11: =I11 -> 120
B12: показания счетчика | C12: разность | E12: расход эл,энергии за час | F12: показания счетчика | G12: разность | I12: расход эл,энергии за час | J12: показания счетчика | K12: разность | L12: расход эл,энергии за час | M12: показания счетчика | N12: разность | O12: расход эл,энергии за час
A13: 1 | B13: 2 | C13: 3 | E13: 4 | F13: 5 | G13: 6 | I13: 7 | J13: 8 | K13: 9 | L13: 10 | M13: 11 | N13: 12 | O13: 13
A14: 0 | E14: 1.2643025 | I14: 31.169008
A15: 1 | E15: 0.86914699 | I15: 23.955864
A16: 2 | E16: 0.99363165 | I16: 24.778689
A17: 3 | E17: 1.0456134 | I17: 22.655502
A18: 4 | E18: 0.8562092 | I18: 21.351717
A19: 5 | E19: 0.87642947 | I19: 22.009335
A20: 6 | E20: 0.83797058 | I20: 19.608512
A21: 7 | E21: 0.70515407 | I21: 22.242574
A22: 8 | E22: 0.83636244 | I22: 28.101778
A23: 9 | E23: 0.94933084 | I23: 39.444696
A24: 10 | E24: 1.0930394 | I24: 69.985751
A25: 11 | E25: 1.1264446 | I25: 63.724583
... A37: 23 | E37: 0.89064217 | I37: 25.08912
A38: 24
A39: Итого | E39: =SUM(E15:E38) -> 22.550602 | I39: =SUM(I15:I38) -> 810.65131 | L39: =SUM(L15:L38) -> 0 | O39: =SUM(O15:O38) -> 0
A40: 1, При наличии на предприятии отклонений от нормальных режимов электропотребления (временное изменение схем питания, остановка на ремонт, резкое снижение
A41: эл,потребления и т,д,) последние необходимо перечислить,
A42: Главный инженер АО "Вологдаоблэнерго" А.В. Чурляев
A43: составляется самим предприятием с соблюдением всех пунктов настоящей таблицы,

Sheet 59
B1: АО "Вологдаоблэнерго" | J1: код 900151 | M1: ПС Нелазское, ф, Шулма очистные
B2: наименование предприятия | M2: наименование источника питания
M3: КТП-Ива
B4: ул, Горького, 99 | I4: Таблица № 1
B5: адрес
A6: почасовых записей показаний электрических счетчиков
A7: в режимный день 18 ИЮНЯ 2025г.
A8: 1630 | B8: 1628
A9: часы суток | B9: Активная энергия | J9: Реактивная энергия
B10: =M3 -> КТП-Ива | F10: =M4 -> 0 | J10: =B10 -> КТП-Ива | M10: =F10 -> 0
B11: Расчет, Коэф, | E11: 30 | F11: Расчет, Коэф, | I11: 120 | J11: Расчет, Коэф, | L11: =E11 -> 30 | M11: Расчет, Коэф, | O11: =I11 -> 120
B12: показания счетчика | C12: разность | E12: расход эл,энергии за час | F12: показания счетчика | G12: разность | I12: расход эл,энергии за час | J12: показания счетчика | K12: разность | L12: расход эл,энергии за час | M12: показания счетчика | N12: разность | O12: расход эл,энергии за час
A13: 1 | B13: 2 | C13: 3 | E13: 4 | F13: 5 | G13: 6 | I13: 7 | J13: 8 | K13: 9 | L13: 10 | M13: 11 | N13: 12 | O13: 13
A14: 0 | E14: 2.6905938 | I14: 0
A15: 1 | E15: 1.8810824 | I15: 0
A16: 2 | E16: 1.5756159 | I16: 0
A17: 3 | E17: 1.5782228 | I17: 0
A18: 4 | E18: 1.2292718 | I18: 0
A19: 5 | E19: 1.1737895 | I19: 0
A20: 6 | E20: 2.5767595 | I20: 0
A21: 7 | E21: 1.8283638 | I21: 0
A22: 8 | E22: 2.2492176 | I22: 0
A23: 9 | E23: 2.4652935 | I23: 0
A24: 10 | E24: 3.6187411 | I24: 0
A25: 11 | E25: 2.8845029 | I25: 0
... A37: 23 | E37: 2.0325727 | I37: 0
A38: 24
A39: Итого | E39: =SUM(E15:E38) -> 62.392999 | I39: =SUM(I15:I38) -> 0 | L39: =SUM(L15:L38) -> 0 | O39: =SUM(O15:O38) -> 0
A40: 1, При наличии на предприятии отклонений от нормальных режимов электропотребления (временное изменение схем питания, остановка на ремонт, резкое снижение
A41: эл,потребления и т,д,) последние необходимо перечислить,
A42: Главный инженер АО "Вологдаоблэнерго" А.В. Чурляев
A43: составляется самим предприятием с соблюдением всех пунктов настоящей таблицы,

Sheet 60
B1: АО "Вологдаоблэнерго" | J1: код 900151 | M1: ПС Нелазское, ф, Крутец
B2: наименование предприятия | M2: наименование источника питания
M3: КТП-1 "Сад-3 ЧМК"
B4: ул, Горького, 99 | I4: Таблица № 1 | M4: КТП-2 "Сад-3 ЧМК"
B5: адрес
A6: почасовых записей показаний электрических счетчиков
A7: в режимный день 18 ИЮНЯ 2025г.
A8: 1630 | B8: 1628
A9: часы суток | B9: Активная энергия | J9: Реактивная энергия
B10: =M3 -> КТП-1 "Сад-3 ЧМК" | F10: =M4 -> КТП-2 "Сад-3 ЧМК" | J10: =B10 -> КТП-1 "Сад-3 ЧМК" | M10: =F10 -> КТП-2 "Сад-3 ЧМК"
B11: Расчет, Коэф, | E11: 60 | F11: Расчет, Коэф, | I11: 60 | J11: Расчет, Коэф, | L11: =E11 -> 60 | M11: Расчет, Коэф, | O11: =I11 -> 60
B12: показания счетчика | C12: разность | E12: расход эл,энергии за час | F12: показания счетчика | G12: разность | I12: расход эл,энергии за час | J12: показания счетчика | K12: разность | L12: расход эл,энергии за час | M12: показания счетчика | N12: разность | O12: расход эл,энергии за час
A13: 1 | B13: 2 | C13: 3 | E13: 4 | F13: 5 | G13: 6 | I13: 7 | J13: 8 | K13: 9 | L13: 10 | M13: 11 | N13: 12 | O13: 13
A14: 0 | E14: 25.080601 | I14: 4.0655228
A15: 1 | E15: 11.491365 | I15: 2.5476871
A16: 2 | E16: 13.584364 | I16: 3.0212612
A17: 3 | E17: 11.782756 | I17: 2.7218625
A18: 4 | E18: 10.27451 | I18: 2.5472224
A19: 5 | E19: 10.066419 | I19: 3.6618319
A20: 6 | E20: 9.1600659 | I20: 3.0324061
A21: 7 | E21: 11.408386 | I21: 2.5536651
A22: 8 | E22: 17.886208 | I22: 4.2654484
A23: 9 | E23: 18.796751 | I23: 4.7525875
A24: 10 | E24: 27.099569 | I24: 4.0052086
A25: 11 | E25: 24.548447 | I25: 4.7069294
... A37: 23 | E37: 27.062798 | I37: 4.0807605
A38: 24
A39: Итого | E39: =SUM(E15:E38) -> 523.84981 | I39: =SUM(I15:I38) -> 102.10157 | L39: =SUM(L15:L38) -> 0 | O39: =SUM(O15:O38) -> 0
A40: 1, При наличии на предприятии отклонений от нормальных режимов электропотребления (временное изменение схем питания, остановка на ремонт, резкое снижение
A41: эл,потребления и т,д,) последние необходимо перечислить,
A42: Главный инженер АО "Вологдаоблэнерго" А.В. Чурляев
A43: составляется самим предприятием с соблюдением всех пунктов настоящей таблицы,

Sheet 61
B1: АО "Вологдаоблэнерго" | J1: код 900151 | M1: ПС Нелазское, ф, Цыково
B2: наименование предприятия | M2: наименование источника питания
M3: КТП-250кВА Зашекснинское
B4: ул, Горького, 99 | I4: Таблица № 1
B5: адрес
A6: почасовых записей показаний электрических счетчиков
A7: в режимный день 18 ИЮНЯ 2025г.
A8: 1630 | B8: 1628
A9: часы суток | B9: Активная энергия | J9: Реактивная энергия
B10: =M3 -> КТП-250кВА Зашекснинское | F10: =M4 -> 0 | J10: =B10 -> КТП-250кВА Зашекснинское | M10: =F10 -> 0
B11: Расчет, Коэф, | E11: 60 | F11: Расчет, Коэф, | I11: 120 | J11: Расчет, Коэф, | L11: =E11 -> 60 | M11: Расчет, Коэф, | O11: =I11 -> 120
B12: показания счетчика | C12: разность | E12: расход эл,энергии за час | F12: показания счетчика | G12: разность | I12: расход эл,энергии за час | J12: показания счетчика | K12: разность | L12: расход эл,энергии за час | M12: показания счетчика | N12: разность | O12: расход эл,энергии за час
A13: 1 | B13: 2 | C13: 3 | E13: 4 | F13: 5 | G13: 6 | I13: 7 | J13: 8 | K13: 9 | L13: 10 | M13: 11 | N13: 12 | O13: 13
A14: 0 | E14: 0 | I14: 0
A15: 1 | E15: 0 | I15: 0
A16: 2 | E16: 0 | I16: 0
A17: 3 | E17: 0 | I17: 0
A18: 4 | E18: 0 | I18: 0
A19: 5 | E19: 0 | I19: 0
A20: 6 | E20: 0 | I20: 0
A21: 7 | E21: 0 | I21: 0
A22: 8 | E22: 0 | I22: 0
A23: 9 | E23: 0 | I23: 0
A24: 10 | E24: 0 | I24: 0
A25: 11 | E25: 0 | I25: 0
... A37: 23 | E37: 0 | I37: 0
A38: 24
A39: Итого | E39: =SUM(E15:E38) -> 0 | I39: =SUM(I15:I38) -> 0 | L39: =SUM(L15:L38) -> 0 | O39: =SUM(O15:O38) -> 0
A40: 1, При наличии на предприятии отклонений от нормальных режимов электропотребления (временное изменение схем питания, остановка на ремонт, резкое снижение
A41: эл,потребления и т,д,) последние необходимо перечислить,
A42: Главный инженер АО "Вологдаоблэнерго" А.В. Чурляев
A43: составляется самим предприятием с соблюдением всех пунктов настоящей таблицы,

Sheet 62
B1: АО "Вологдаоблэнерго" | J1: код 900151 | M1: ПС Нелазское, ф, Починок
B2: наименование предприятия | M2: наименование источника питания
M3: КТП-Дачи "Березка"
B4: ул, Горького, 99 | I4: Таблица № 1 | M4: КТП-Пенек
B5: адрес
A6: почасовых записей показаний электрических счетчиков
A7: в режимный день 18 ИЮНЯ 2025г.
A8: 1630 | B8: 1628
A9: часы суток | B9: Активная энергия | J9: Реактивная энергия
B10: =M3 -> КТП-Дачи "Березка" | F10: =M4 -> КТП-Пенек | J10: =B10 -> КТП-Дачи "Березка" | M10: =F10 -> КТП-Пенек
B11: Расчет, Коэф, | E11: 80 | F11: Расчет, Коэф, | I11: 80 | J11: Расчет, Коэф, | L11: =E11 -> 80 | M11: Расчет, Коэф, | O11: =I11 -> 80
B12: показания счетчика | C12: разность | E12: расход эл,энергии за час | F12: показания счетчика | G12: разность | I12: расход эл,энергии за час | J12: показания счетчика | K12: разность | L12: расход эл,энергии за час | M12: показания счетчика | N12: разность | O12: расход эл,энергии за час
A13: 1 | B13: 2 | C13: 3 | E13: 4 | F13: 5 | G13: 6 | I13: 7 | J13: 8 | K13: 9 | L13: 10 | M13: 11 | N13: 12 | O13: 13
A14: 0 | E14: 29.268603 | I14: 31.782063
A15: 1 | E15: 14.651335 | I15: 14.525619
A16: 2 | E16: 10.958338 | I16: 13.881862
A17: 3 | E17: 11.188064 | I17: 11.607943
A18: 4 | E18: 9.1492069 | I18: 12.686166
A19: 5 | E19: 9.4403975 | I19: 10.301698
A20: 6 | E20: 9.0710316 | I20: 11.10311
A21: 7 | E21: 12.511448 | I21: 14.949266
A22: 8 | E22: 17.420235 | I22: 20.861269
A23: 9 | E23: 19.413816 | I23: 23.638338
A24: 10 | E24: 31.198467 | I24: 31.104778
A25: 11 | E25: 35.917492 | I25: 34.565758
... A37: 23 | E37: 30.052811 | I37: 37.155072
A38: 24
A39: Итого | E39: =SUM(E15:E38) -> 542.27784 | I39: =SUM(I15:I38) -> 576.31144 | L39: =SUM(L15:L38) -> 0 | O39: =SUM(O15:O38) -> 0
A40: 1, При наличии на предприятии отклонений от нормальных режимов электропотребления (временное изменение схем питания, остановка на ремонт, резкое снижение
A41: эл,потребления и т,д,) последние необходимо перечислить,
A42: Главный инженер АО "Вологдаоблэнерго" А.В. Чурляев
A43: составляется самим предприятием с соблюдением всех пунктов настоящей таблицы,

Sheet 63
B1: АО "Вологдаоблэнерго" | J1: код 900151 | M1: ПС Нелазское, ф, Починок
B2: наименование предприятия | M2: наименование источника питания
M3: КТП-Кацитадзе
B4: ул, Горького, 99 | I4: Таблица № 1 | M4: ТП-75
B5: адрес
A6: почасовых записей показаний электрических счетчиков
A7: в режимный день 18 ИЮНЯ 2025г.
A8: 1630 | B8: 1628
A9: часы суток | B9: Активная энергия | J9: Реактивная энергия
B10: =M3 -> КТП-Кацитадзе | F10: =M4 -> ТП-75 | J10: =B10 -> КТП-Кацитадзе | M10: =F10 -> ТП-75
B11: Расчет, Коэф, | E11: 30 | F11: Расчет, Коэф, | I11: 80 | J11: Расчет, Коэф, | L11: =E11 -> 30 | M11: Расчет, Коэф, | O11: 80
B12: показания счетчика | C12: разность | E12: расход эл,энергии за час | F12: показания счетчика | G12: разность | I12: расход эл,энергии за час | J12: показания счетчика | K12: разность | L12: расход эл,энергии за час | M12: показания счетчика | N12: разность | O12: расход эл,энергии за час
A13: 1 | B13: 2 | C13: 3 | E13: 4 | F13: 5 | G13: 6 | I13: 7 | J13: 8 | K13: 9 | L13: 10 | M13: 11 | N13: 12 | O13: 13
A14: 0 | E14: 3.4373225 | I14: 14.035733
A15: 1 | E15: 5.2614434 | I15: 8.5683407
A16: 2 | E16: 1.2242961 | I16: 9.1289908
A17: 3 | E17: 1.4801965 | I17: 9.0995598
A18: 4 | E18: 0.85315131 | I18: 7.8164765
A19: 5 | E19: 0.92025095 | I19: 8.6912589
A20: 6 | E20: 0.7620295 | I20: 6.8923081
A21: 7 | E21: 1.2617221 | I21: 8.2200818
A22: 8 | E22: 1.379998 | I22: 10.538167
A23: 9 | E23: 1.904595 | I23: 11.273304
A24: 10 | E24: 1.4170475 | I24: 17.832157
A25: 11 | E25: 3.2586434 | I25: 13.452967
... A37: 23 | E37: 2.7100969 | I37: 14.937599
A38: 24
A39: Итого | E39: =SUM(E15:E38) -> 54.432768 | I39: =SUM(I15:I38) -> 287.6318 | L39: =SUM(L15:L38) -> 0 | O39: =SUM(O15:O38) -> 0
A40: 1, При наличии на предприятии отклонений от нормальных режимов электропотребления (временное изменение схем питания, остановка на ремонт, резкое снижение
A41: эл,потребления и т,д,) последние необходимо перечислить,
A42: Главный инженер АО "Вологдаоблэнерго" А.В. Чурляев
A43: составляется самим предприятием с соблюдением всех пунктов настоящей таблицы,

Sheet 64
B1: АО "Вологдаоблэнерго" | J1: код 900151 | M1: ПС Нелазское, ф, к-сНелазское-1
B2: наименование предприятия | M2: наименование источника питания
M3: ТП-Мастерские Шулма
B4: ул, Горького, 99 | I4: Таблица № 1
B5: адрес
A6: почасовых записей показаний электрических счетчиков
A7: в режимный день 18 ИЮНЯ 2025г.
A8: 1630 | B8: 1628
A9: часы суток | B9: Активная энергия | J9: Реактивная энергия
B10: =M3 -> ТП-Мастерские Шулма | F10: =M4 -> 0 | J10: =B10 -> ТП-Мастерские Шулма | M10: =F10 -> 0
B11: Расчет, Коэф, | E11: 60 | F11: Расчет, Коэф, | I11: 120 | J11: Расчет, Коэф, | L11: =E11 -> 60 | M11: Расчет, Коэф, | O11: =I11 -> 120
B12: показания счетчика | C12: разность | E12: расход эл,энергии за час | F12: показания счетчика | G12: разность | I12: расход эл,энергии за час | J12: показания счетчика | K12: разность | L12: расход эл,энергии за час | M12: показания счетчика | N12: разность | O12: расход эл,энергии за час
A13: 1 | B13: 2 | C13: 3 | E13: 4 | F13: 5 | G13: 6 | I13: 7 | J13: 8 | K13: 9 | L13: 10 | M13: 11 | N13: 12 | O13: 13
A14: 0 | E14: 1.3892512 | I14: 0
A15: 1 | E15: 0.54573895 | I15: 0
A16: 2 | E16: 0.62390309 | I16: 0
A17: 3 | E17: 2.1592326 | I17: 0
A18: 4 | E18: 3.0588456 | I18: 0
A19: 5 | E19: 3.0741546 | I19: 0
A20: 6 | E20: 2.1616755 | I20: 0
A21: 7 | E21: 0.38886266 | I21: 0
A22: 8 | E22: 0.79826284 | I22: 0
A23: 9 | E23: 1.0923359 | I23: 0
A24: 10 | E24: 2.7819924 | I24: 0
A25: 11 | E25: 2.1741531 | I25: 0
... A37: 23 | E37: 1.1032782 | I37: 0
A38: 24
A39: Итого | E39: =SUM(E15:E38) -> 40.797836 | I39: =SUM(I15:I38) -> 0 | L39: =SUM(L15:L38) -> 0 | O39: =SUM(O15:O38) -> 0
A40: 1, При наличии на предприятии отклонений от нормальных режимов электропотребления (временное изменение схем питания, остановка на ремонт, резкое снижение
A41: эл,потребления и т,д,) последние необходимо перечислить,
A42: Главный инженер АО "Вологдаоблэнерго" А.В. Чурляев
A43: составляется самим предприятием с соблюдением всех пунктов настоящей таблицы,

Sheet 65
B1: АО "Вологдаоблэнерго" | J1: код 900151 | M1: ПС Нелазское, ф, Крутец
B2: наименование предприятия | M2: наименование источника питания
M3: КТП-Шулма, ул,Олимпийская
B4: ул, Горького, 99 | I4: Таблица № 1
B5: адрес
A6: почасовых записей показаний электрических счетчиков
A7: в режимный день 18 ИЮНЯ 2025г.
A8: 1630 | B8: 1628
A9: часы суток | B9: Активная энергия | J9: Реактивная энергия
B10: =M3 -> КТП-Шулма, ул,Олимпийская | F10: =M4 -> 0 | J10: =B10 -> КТП-Шулма, ул,Олимпийская | M10: =F10 -> 0
B11: Расчет, Коэф, | E11: 60 | F11: Расчет, Коэф, | I11: 120 | J11: Расчет, Коэф, | L11: =E11 -> 60 | M11: Расчет, Коэф, | O11: =I11 -> 120
B12: показания счетчика | C12: разность | E12: расход эл,энергии за час | F12: показания счетчика | G12: разность | I12: расход эл,энергии за час | J12: показания счетчика | K12: разность | L12: расход эл,энергии за час | M12: показания счетчика | N12: разность | O12: расход эл,энергии за час
A13: 1 | B13: 2 | C13: 3 | E13: 4 | F13: 5 | G13: 6 | I13: 7 | J13: 8 | K13: 9 | L13: 10 | M13: 11 | N13: 12 | O13: 13
A14: 0 | E14: 23.545412 | I14: 0
A15: 1 | E15: 13.681111 | I15: 0
A16: 2 | E16: 15.791202 | I16: 0
A17: 3 | E17: 11.786637 | I17: 0
A18: 4 | E18: 10.140537 | I18: 0
A19: 5 | E19: 10.380016 | I19: 0
A20: 6 | E20: 9.4709381 | I20: 0
A21: 7 | E21: 10.18521 | I21: 0
A22: 8 | E22: 13.020554 | I22: 0
A23: 9 | E23: 12.191878 | I23: 0
A24: 10 | E24: 16.94697 | I24: 0
A25: 11 | E25: 16.676471 | I25: 0
... A37: 23 | E37: 22.271259 | I37: 0
A38: 24
A39: Итого | E39: =SUM(E15:E38) -> 360.86611 | I39: =SUM(I15:I38) -> 0 | L39: =SUM(L15:L38) -> 0 | O39: =SUM(O15:O38) -> 0
A40: 1, При наличии на предприятии отклонений от нормальных режимов электропотребления (временное изменение схем питания, остановка на ремонт, резкое снижение
A41: эл,потребления и т,д,) последние необходимо перечислить,
A42: Главный инженер АО "Вологдаоблэнерго" А.В. Чурляев
A43: составляется самим предприятием с соблюдением всех пунктов настоящей таблицы,

Sheet 66
B1: АО "Вологдаоблэнерго" | J1: код 900151 | M1: ПС Новые Углы ф, Кораблево
B2: наименование предприятия | M2: наименование источника питания
M3: ТП-3 Общежитие В-1
B4: ул, Горького, 99 | I4: Таблица № 1 | M4: ТП-3 Общежитие В-2
B5: адрес
A6: почасовых записей показаний электрических счетчиков
A7: в режимный день 18 ИЮНЯ 2025г.
A8: 1630 | B8: 1628
A9: часы суток | B9: Активная энергия | J9: Реактивная энергия
B10: =M3 -> ТП-3 Общежитие В-1 | F10: =M4 -> ТП-3 Общежитие В-2 | J10: =B10 -> ТП-3 Общежитие В-1 | M10: =F10 -> ТП-3 Общежитие В-2
B11: Расчет, Коэф, | E11: 60 | F11: Расчет, Коэф, | I11: 60 | J11: Расчет, Коэф, | L11: =E11 -> 60 | M11: Расчет, Коэф, | O11: =I11 -> 60
B12: показания счетчика | C12: разность | E12: расход эл,энергии за час | F12: показания счетчика | G12: разность | I12: расход эл,энергии за час | J12: показания счетчика | K12: разность | L12: расход эл,энергии за час | M12: показания счетчика | N12: разность | O12: расход эл,энергии за час
A13: 1 | B13: 2 | C13: 3 | E13: 4 | F13: 5 | G13: 6 | I13: 7 | J13: 8 | K13: 9 | L13: 10 | M13: 11 | N13: 12 | O13: 13
A14: 0 | E14: 0 | I14: 13.445265
A15: 1 | E15: 0 | I15: 7.9168426
A16: 2 | E16: 0 | I16: 7.5292438
A17: 3 | E17: 0 | I17: 6.4203932
A18: 4 | E18: 0 | I18: 6.0384154
A19: 5 | E19: 0 | I19: 5.8742685
A20: 6 | E20: 0 | I20: 5.6437319
A21: 7 | E21: 0 | I21: 8.4678931
A22: 8 | E22: 0 | I22: 11.427101
A23: 9 | E23: 0 | I23: 11.53437
A24: 10 | E24: 0 | I24: 13.303851
A25: 11 | E25: 0 | I25: 16.162871
... A37: 23 | E37: 0 | I37: 13.587421
A38: 24
A39: Итого | E39: =SUM(E15:E38) -> 0 | I39: =SUM(I15:I38) -> 282.89434 | L39: =SUM(L15:L38) -> 0 | O39: =SUM(O15:O38) -> 0
A40: 1, При наличии на предприятии отклонений от нормальных режимов электропотребления (временное изменение схем питания, остановка на ремонт, резкое снижение
A41: эл,потребления и т,д,) последние необходимо перечислить,
A42: Главный инженер АО "Вологдаоблэнерго" А.В. Чурляев
A43: составляется самим предприятием с соблюдением всех пунктов настоящей таблицы,

Sheet 67
B1: АО "Вологдаоблэнерго" | J1: код 900151 | M1: ПС Новые Углы ф, Кораблево
B2: наименование предприятия | M2: наименование источника питания
M3: ТП-2 Училище В-1
B4: ул, Горького, 99 | I4: Таблица № 1 | M4: ТП-2 Училище В-2
B5: адрес
A6: почасовых записей показаний электрических счетчиков
A7: в режимный день 18 ИЮНЯ 2025г.
A8: 1630 | B8: 1628
A9: часы суток | B9: Активная энергия | J9: Реактивная энергия
B10: =M3 -> ТП-2 Училище В-1 | F10: =M4 -> ТП-2 Училище В-2 | J10: =B10 -> ТП-2 Училище В-1 | M10: =F10 -> ТП-2 Училище В-2
B11: Расчет, Коэф, | E11: 80 | F11: Расчет, Коэф, | I11: 80 | J11: Расчет, Коэф, | L11: =E11 -> 80 | M11: Расчет, Коэф, | O11: =I11 -> 80
B12: показания счетчика | C12: разность | E12: расход эл,энергии за час | F12: показания счетчика | G12: разность | I12: расход эл,энергии за час | J12: показания счетчика | K12: разность | L12: расход эл,энергии за час | M12: показания счетчика | N12: разность | O12: расход эл,энергии за час
A13: 1 | B13: 2 | C13: 3 | E13: 4 | F13: 5 | G13: 6 | I13: 7 | J13: 8 | K13: 9 | L13: 10 | M13: 11 | N13: 12 | O13: 13
A14: 0 | E14: 28.661738 | I14: 6.827497
A15: 1 | E15: 22.885882 | I15: 6.5707512
A16: 2 | E16: 25.664086 | I16: 5.7961846
A17: 3 | E17: 23.683144 | I17: 5.070136
A18: 4 | E18: 22.104875 | I18: 4.6649131
A19: 5 | E19: 22.757117 | I19: 4.9182301
A20: 6 | E20: 18.938135 | I20: 4.072537
A21: 7 | E21: 21.654274 | I21: 4.4968683
A22: 8 | E22: 27.958402 | I22: 7.7901187
A23: 9 | E23: 32.324715 | I23: 13.091272
A24: 10 | E24: 40.448703 | I24: 18.063257
A25: 11 | E25: 37.603941 | I25: 15.680109
... A37: 23 | E37: 23.350093 | I37: 6.1261787
A38: 24
A39: Итого | E39: =SUM(E15:E38) -> 620.7524 | I39: =SUM(I15:I38) -> 205.94474 | L39: =SUM(L15:L38) -> 0 | O39: =SUM(O15:O38) -> 0
A40: 1, При наличии на предприятии отклонений от нормальных режимов электропотребления (временное изменение схем питания, остановка на ремонт, резкое снижение
A41: эл,потребления и т,д,) последние необходимо перечислить,
A42: Главный инженер АО "Вологдаоблэнерго" А.В. Чурляев
A43: составляется самим предприятием с соблюдением всех пунктов настоящей таблицы,

Sheet 68
B1: АО "Вологдаоблэнерго" | J1: код 900151 | M1: ПС Новые Углы ф, Кораблево
B2: наименование предприятия | M2: наименование источника питания
M3: ТП-222 В-1
B4: ул, Горького, 99 | I4: Таблица № 1 | M4: ТП-222 В-2
B5: адрес
A6: почасовых записей показаний электрических счетчиков
A7: в режимный день 18 ИЮНЯ 2025г.
A8: 1630 | B8: 1628
A9: часы суток | B9: Активная энергия | J9: Реактивная энергия
B10: =M3 -> ТП-222 В-1 | F10: =M4 -> ТП-222 В-2 | J10: =B10 -> ТП-222 В-1 | M10: =F10 -> ТП-222 В-2
B11: Расчет, Коэф, | E11: 120 | F11: Расчет, Коэф, | I11: 120 | J11: Расчет, Коэф, | L11: =E11 -> 120 | M11: Расчет, Коэф, | O11: =I11 -> 120
B12: показания счетчика | C12: разность | E12: расход эл,энергии за час | F12: показания счетчика | G12: разность | I12: расход эл,энергии за час | J12: показания счетчика | K12: разность | L12: расход эл,энергии за час | M12: показания счетчика | N12: разность | O12: расход эл,энергии за час
A13: 1 | B13: 2 | C13: 3 | E13: 4 | F13: 5 | G13: 6 | I13: 7 | J13: 8 | K13: 9 | L13: 10 | M13: 11 | N13: 12 | O13: 13
A14: 0 | E14: 7.5858151 | I14: 26.135504
A15: 1 | E15: 3.8739123 | I15: 14.905871
A16: 2 | E16: 4.0029161 | I16: 16.693012
A17: 3 | E17: 3.5289453 | I17: 14.56997
A18: 4 | E18: 3.0823531 | I18: 13.635131
A19: 5 | E19: 4.2068615 | I19: 13.650389
A20: 6 | E20: 8.4216044 | I20: 12.883798
A21: 7 | E21: 7.7365476 | I21: 14.445585
A22: 8 | E22: 8.9610261 | I22: 18.280493
A23: 9 | E23: 10.751172 | I23: 21.431144
A24: 10 | E24: 12.085893 | I24: 26.982458
A25: 11 | E25: 10.234554 | I25: 24.910519
... A37: 23 | E37: 6.7179866 | I37: 28.565323
A38: 24
A39: Итого | E39: =SUM(E15:E38) -> 166.52217 | I39: =SUM(I15:I38) -> 526.53235 | L39: =SUM(L15:L38) -> 0 | O39: =SUM(O15:O38) -> 0
A40: 1, При наличии на предприятии отклонений от нормальных режимов электропотребления (временное изменение схем питания, остановка на ремонт, резкое снижение
A41: эл,потребления и т,д,) последние необходимо перечислить,
A42: Главный инженер АО "Вологдаоблэнерго" А.В. Чурляев
A43: составляется самим предприятием с соблюдением всех пунктов настоящей таблицы,

Sheet 69
B1: АО "Вологдаоблэнерго" | J1: код 900151 | M1: ПС Новые Углы ф, Кораблево
B2: наименование предприятия | M2: наименование источника питания
M3: ТП-Шухободь Жилзона В-1
B4: ул, Горького, 99 | I4: Таблица № 1 | M4: ТП-Шухободь Жилзона В-2
B5: адрес
A6: почасовых записей показаний электрических счетчиков
A7: в режимный день 18 ИЮНЯ 2025г.
A8: 1630 | B8: 1628
A9: часы суток | B9: Активная энергия | J9: Реактивная энергия
B10: =M3 -> ТП-Шухободь Жилзона В-1 | F10: =M4 -> ТП-Шухободь Жилзона В-2 | J10: =B10 -> ТП-Шухободь Жилзона В-1 | M10: =F10 -> ТП-Шухободь Жилзона В-2
B11: Расчет, Коэф, | E11: 80 | F11: Расчет, Коэф, | I11: 80 | J11: Расчет, Коэф, | L11: =E11 -> 80 | M11: Расчет, Коэф, | O11: =I11 -> 80
B12: показания счетчика | C12: разность | E12: расход эл,энергии за час | F12: показания счетчика | G12: разность | I12: расход эл,энергии за час | J12: показания счетчика | K12: разность | L12: расход эл,энергии за час | M12: показания счетчика | N12: разность | O12: расход эл,энергии за час
A13: 1 | B13: 2 | C13: 3 | E13: 4 | F13: 5 | G13: 6 | I13: 7 | J13: 8 | K13: 9 | L13: 10 | M13: 11 | N13: 12 | O13: 13
A14: 0 | E14: 29.458249 | I14: 33.169503
A15: 1 | E15: 18.376251 | I15: 21.0913
A16: 2 | E16: 18.680275 | I16: 22.431234
A17: 3 | E17: 16.050166 | I17: 18.786188
A18: 4 | E18: 14.726798 | I18: 17.830557
A19: 5 | E19: 15.17475 | I19: 17.944893
A20: 6 | E20: 12.52766 | I20: 17.555484
A21: 7 | E21: 13.982198 | I21: 18.334006
A22: 8 | E22: 22.127761 | I22: 24.899705
A23: 9 | E23: 23.258606 | I23: 32.372182
A24: 10 | E24: 33.915451 | I24: 32.603803
A25: 11 | E25: 34.50139 | I25: 36.046229
... A37: 23 | E37: 27.329991 | I37: 33.603299
A38: 24
A39: Итого | E39: =SUM(E15:E38) -> 596.09035 | L39: =SUM(L15:L38) -> 0 | O39: =SUM(O15:O38) -> 0
A40: 1, При наличии на предприятии отклонений от нормальных режимов электропотребления (временное изменение схем питания, остановка на ремонт, резкое снижение
A41: эл,потребления и т,д,) последние необходимо перечислить,
A42: Главный инженер АО "Вологдаоблэнерго" А.В. Чурляев
A43: составляется самим предприятием с соблюдением всех пунктов настоящей таблицы,

Sheet 70
B1: АО "Вологдаоблэнерго" | J1: код 900151 | M1: ПС Новые Углы ф, Кораблево
B2: наименование предприятия | M2: наименование источника питания
M3: ТП-К-с Шухободь В-1
B4: ул, Горького, 99 | I4: Таблица № 1 | M4: ТП-К-с Шухободь В-2
B5: адрес
A6: почасовых записей показаний электрических счетчиков
A7: в режимный день 18 ИЮНЯ 2025г.
A8: 1630 | B8: 1628
A9: часы суток | B9: Активная энергия | J9: Реактивная энергия
B10: =M3 -> ТП-К-с Шухободь В-1 | F10: =M4 -> ТП-К-с Шухободь В-2 | J10: =B10 -> ТП-К-с Шухободь В-1 | M10: =F10 -> ТП-К-с Шухободь В-2
B11: Расчет, Коэф, | E11: 120 | F11: Расчет, Коэф, | I11: 120 | J11: Расчет, Коэф, | L11: =E11 -> 120 | M11: Расчет, Коэф, | O11: =I11 -> 120
B12: показания счетчика | C12: разность | E12: расход эл,энергии за час | F12: показания счетчика | G12: разность | I12: расход эл,энергии за час | J12: показания счетчика | K12: разность | L12: расход эл,энергии за час | M12: показания счетчика | N12: разность | O12: расход эл,энергии за час
A13: 1 | B13: 2 | C13: 3 | E13: 4 | F13: 5 | G13: 6 | I13: 7 | J13: 8 | K13: 9 | L13: 10 | M13: 11 | N13: 12 | O13: 13
A14: 0 | E14: 58.278024 | I14: 0
A15: 1 | E15: 54.175173 | I15: 0
A16: 2 | E16: 56.29633 | I16: 0
A17: 3 | E17: 52.479338 | I17: 0
A18: 4 | E18: 50.183644 | I18: 0
A19: 5 | E19: 56.612336 | I19: 0
A20: 6 | E20: 56.713849 | I20: 0
A21: 7 | E21: 59.6923 | I21: 0
A22: 8 | E22: 81.022014 | I22: 0
A23: 9 | E23: 82.250024 | I23: 0
A24: 10 | E24: 105.47518 | I24: 0
A25: 11 | E25: 101.3414 | I25: 0
... A37: 23 | E37: 53.804966 | I37: 0
A38: 24
A39: Итого | E39: =SUM(E15:E38) -> 1605.2781 | I39: =SUM(I15:I38) -> 0 | L39: =SUM(L15:L38) -> 0 | O39: =SUM(O15:O38) -> 0
A40: 1, При наличии на предприятии отклонений от нормальных режимов электропотребления (временное изменение схем питания, остановка на ремонт, резкое снижение
A41: эл,потребления и т,д,) последние необходимо перечислить,
A42: Главный инженер АО "Вологдаоблэнерго" А.В. Чурляев
A43: составляется самим предприятием с соблюдением всех пунктов настоящей таблицы,

Sheet 71
B1: АО "Вологдаоблэнерго" | J1: код 900151 | M1: ПС Петринево, ф, Романово
B2: наименование предприятия | M2: наименование источника питания
M3: ТП-317
B4: ул, Горького, 99 | I4: Таблица № 1
B5: адрес
A6: почасовых записей показаний электрических счетчиков
A7: в режимный день 18 ИЮНЯ 2025г.
A8: 1630 | B8: 1628
A9: часы суток | B9: Активная энергия | J9: Реактивная энергия
B10: =M3 -> ТП-317 | F10: =M4 -> 0 | J10: =B10 -> ТП-317 | M10: =F10 -> 0
B11: Расчет, Коэф, | E11: 120 | F11: Расчет, Коэф, | I11: 120 | J11: Расчет, Коэф, | L11: =E11 -> 120 | M11: Расчет, Коэф, | O11: =I11 -> 120
B12: показания счетчика | C12: разность | E12: расход эл,энергии за час | F12: показания счетчика | G12: разность | I12: расход эл,энергии за час | J12: показания счетчика | K12: разность | L12: расход эл,энергии за час | M12: показания счетчика | N12: разность | O12: расход эл,энергии за час
A13: 1 | B13: 2 | C13: 3 | E13: 4 | F13: 5 | G13: 6 | I13: 7 | J13: 8 | K13: 9 | L13: 10 | M13: 11 | N13: 12 | O13: 13
A14: 0 | E14: 6.7324109 | I14: 0
A15: 1 | E15: 4.9541378 | I15: 0
A16: 2 | E16: 5.0675214 | I16: 0
A17: 3 | E17: 4.0778924 | I17: 0
A18: 4 | E18: 4.4767509 | I18: 0
A19: 5 | E19: 6.1976084 | I19: 0
A20: 6 | E20: 5.7191492 | I20: 0
A21: 7 | E21: 6.6788164 | I21: 0
A22: 8 | E22: 4.8389541 | I22: 0
A23: 9 | E23: 5.9451844 | I23: 0
A24: 10 | E24: 8.853619 | I24: 0
A25: 11 | E25: 8.0621252 | I25: 0
... A37: 23 | E37: 8.2448018 | I37: 0
A38: 24
A39: Итого | E39: =SUM(E15:E38) -> 169.6296 | I39: =SUM(I15:I38) -> 0 | L39: =SUM(L15:L38) -> 0 | O39: =SUM(O15:O38) -> 0
A40: 1, При наличии на предприятии отклонений от нормальных режимов электропотребления (временное изменение схем питания, остановка на ремонт, резкое снижение
A41: эл,потребления и т,д,) последние необходимо перечислить,
A42: Главный инженер АО "Вологдаоблэнерго" А.В. Чурляев
A43: составляется самим предприятием с соблюдением всех пунктов настоящей таблицы,

Sheet 72
B1: АО "Вологдаоблэнерго" | J1: код 900151 | M1: ПС Петринево, ф,Надпорожье
B2: наименование предприятия | M2: наименование источника питания
M3: КТП-Броды
B4: ул, Горького, 99 | I4: Таблица № 1 | M4: КТП-100 дачи "Водник"
B5: адрес
A6: почасовых записей показаний электрических счетчиков
A7: в режимный день 18 ИЮНЯ 2025г.
A8: 1630 | B8: 1628
A9: часы суток | B9: Активная энергия | J9: Реактивная энергия
B10: =M3 -> КТП-Броды | F10: =M4 -> КТП-100 дачи "Водник" | J10: =B10 -> КТП-Броды | M10: =F10 -> КТП-100 дачи "Водник"
B11: Расчет, Коэф, | E11: 30 | F11: Расчет, Коэф, | I11: 40 | J11: Расчет, Коэф, | L11: =E11 -> 30 | M11: Расчет, Коэф, | O11: =I11 -> 40
B12: показания счетчика | C12: разность | E12: расход эл,энергии за час | F12: показания счетчика | G12: разность | I12: расход эл,энергии за час | J12: показания счетчика | K12: разность | L12: расход эл,энергии за час | M12: показания счетчика | N12: разность | O12: расход эл,энергии за час
A13: 1 | B13: 2 | C13: 3 | E13: 4 | F13: 5 | G13: 6 | I13: 7 | J13: 8 | K13: 9 | L13: 10 | M13: 11 | N13: 12 | O13: 13
A14: 0 | E14: 8.45527 | I14: 4.0413232
A15: 1 | E15: 3.5567124 | I15: 1.8442213
A16: 2 | E16: 3.7972033 | I16: 1.8910052
A17: 3 | E17: 3.5855147 | I17: 1.7912257
A18: 4 | E18: 3.0310379 | I18: 1.6669323
A19: 5 | E19: 2.7515582 | I19: 1.8117441
A20: 6 | E20: 2.6048968 | I20: 1.531915
A21: 7 | E21: 2.6323011 | I21: 1.6621489
A22: 8 | E22: 4.7629683 | I22: 3.3872679
A23: 9 | E23: 5.8052368 | I23: 4.3342886
A24: 10 | E24: 5.1466859 | I24: 5.0123663
A25: 11 | E25: 6.6180265 | I25: 3.874165
... A37: 23 | E37: 7.2087073 | I37: 3.3061717
A38: 24
A39: Итого | E39: =SUM(E15:E38) -> 127.84801 | I39: =SUM(I15:I38) -> 82.486332 | L39: =SUM(L15:L38) -> 0 | O39: =SUM(O15:O38) -> 0
A40: 1, При наличии на предприятии отклонений от нормальных режимов электропотребления (временное изменение схем питания, остановка на ремонт, резкое снижение
A41: эл,потребления и т,д,) последние необходимо перечислить,
A42: Главный инженер АО "Вологдаоблэнерго" А.В. Чурляев
A43: составляется самим предприятием с соблюдением всех пунктов настоящей таблицы,

Sheet 73
B1: АО "Вологдаоблэнерго" | J1: код 900151 | M1: ПС Петринево, ф,Надпорожье
B2: наименование предприятия | M2: наименование источника питания
M3: КТП-Сад№11 ЧМХС
B4: ул, Горького, 99 | I4: Таблица № 1
B5: адрес
A6: почасовых записей показаний электрических счетчиков
A7: в режимный день 18 ИЮНЯ 2025г.
A8: 1630 | B8: 1628
A9: часы суток | B9: Активная энергия | J9: Реактивная энергия
B10: =M3 -> КТП-Сад№11 ЧМХС | F10: =M4 -> 0 | J10: =B10 -> КТП-Сад№11 ЧМХС | M10: =F10 -> 0
B11: Расчет, Коэф, | E11: 20 | F11: Расчет, Коэф, | I11: 120 | J11: Расчет, Коэф, | L11: =E11 -> 20 | M11: Расчет, Коэф, | O11: =I11 -> 120
B12: показания счетчика | C12: разность | E12: расход эл,энергии за час | F12: показания счетчика | G12: разность | I12: расход эл,энергии за час | J12: показания счетчика | K12: разность | L12: расход эл,энергии за час | M12: показания счетчика | N12: разность | O12: расход эл,энергии за час
A13: 1 | B13: 2 | C13: 3 | E13: 4 | F13: 5 | G13: 6 | I13: 7 | J13: 8 | K13: 9 | L13: 10 | M13: 11 | N13: 12 | O13: 13
A14: 0 | E14: 5.5969257 | I14: 0
A15: 1 | E15: 4.3345473 | I15: 0
A16: 2 | E16: 3.0980015 | I16: 0
A17: 3 | E17: 2.3573273 | I17: 0
A18: 4 | E18: 2.0824868 | I18: 0
A19: 5 | E19: 1.9798568 | I19: 0
A20: 6 | E20: 1.4100138 | I20: 0
A21: 7 | E21: 1.6850715 | I21: 0
A22: 8 | E22: 2.1996576 | I22: 0
A23: 9 | E23: 2.1083258 | I23: 0
A24: 10 | E24: 4.1729886 | I24: 0
A25: 11 | E25: 5.7101384 | I25: 0
... A37: 23 | E37: 4.5751761 | I37: 0
A38: 24
A39: Итого | E39: =SUM(E15:E38) -> 93.50545 | I39: =SUM(I15:I38) -> 0 | L39: =SUM(L15:L38) -> 0 | O39: =SUM(O15:O38) -> 0
A40: 1, При наличии на предприятии отклонений от нормальных режимов электропотребления (временное изменение схем питания, остановка на ремонт, резкое снижение
A41: эл,потребления и т,д,) последние необходимо перечислить,
A42: Главный инженер АО "Вологдаоблэнерго" А.В. Чурляев
A43: составляется самим предприятием с соблюдением всех пунктов настоящей таблицы,

Sheet 74
B1: АО "Вологдаоблэнерго" | J1: код 900151 | M1: ПС Поповка, ф, Привалино
B2: наименование предприятия | M2: наименование источника питания
M3: КТП-Погорелка
B4: ул, Горького, 99 | I4: Таблица № 1 | M4: КТП-Хлебаево
B5: адрес
A6: почасовых записей показаний электрических счетчиков
A7: в режимный день 18 ИЮНЯ 2025г.
A8: 1630 | B8: 1628
A9: часы суток | B9: Активная энергия | J9: Реактивная энергия
B10: =M3 -> КТП-Погорелка | F10: =M4 -> КТП-Хлебаево | J10: =B10 -> КТП-Погорелка | M10: =F10 -> КТП-Хлебаево
B11: Расчет, Коэф, | E11: 30 | F11: Расчет, Коэф, | I11: 30 | J11: Расчет, Коэф, | L11: =E11 -> 30 | M11: Расчет, Коэф, | O11: =I11 -> 30
B12: показания счетчика | C12: разность | E12: расход эл,энергии за час | F12: показания счетчика | G12: разность | I12: расход эл,энергии за час | J12: показания счетчика | K12: разность | L12: расход эл,энергии за час | M12: показания счетчика | N12: разность | O12: расход эл,энергии за час
A13: 1 | B13: 2 | C13: 3 | E13: 4 | F13: 5 | G13: 6 | I13: 7 | J13: 8 | K13: 9 | L13: 10 | M13: 11 | N13: 12 | O13: 13
A14: 0 | E14: 1.6119857 | I14: 0
A15: 1 | E15: 0.14899663 | I15: 0
A16: 2 | E16: 0.59617899 | I16: 0
A17: 3 | E17: 0.54894705 | I17: 0
A18: 4 | E18: 0.5504202 | I18: 0
A19: 5 | E19: 0.52585768 | I19: 0
A20: 6 | E20: 0.43993456 | I20: 0
A21: 7 | E21: 0.42309244 | I21: 0
A22: 8 | E22: 1.039479 | I22: 0
A23: 9 | E23: 2.3139939 | I23: 0
A24: 10 | E24: 5.1529 | I24: 0
A25: 11 | E25: 5.5517629 | I25: 0
... A37: 23 | E37: 0.5343853 | I37: 0
A38: 24
A39: Итого | E39: =SUM(E15:E38) -> 55.141074 | I39: =SUM(I15:I38) -> 0 | L39: =SUM(L15:L38) -> 0 | O39: =SUM(O15:O38) -> 0
A40: 1, При наличии на предприятии отклонений от нормальных режимов электропотребления (временное изменение схем питания, остановка на ремонт, резкое снижение
A41: эл,потребления и т,д,) последние необходимо перечислить,
A42: Главный инженер АО "Вологдаоблэнерго" А.В. Чурляев
A43: составляется самим предприятием с соблюдением всех пунктов настоящей таблицы,

Sheet 75
B1: АО "Вологдаоблэнерго" | J1: код 900151 | M1: ПС Поповка, ф, Привалино
B2: наименование предприятия | M2: наименование источника питания
M3: ТП-226
B4: ул, Горького, 99 | I4: Таблица № 1 | M4: ТП-257
B5: адрес
A6: почасовых записей показаний электрических счетчиков
A7: в режимный день 18 ИЮНЯ 2025г.
A8: 1630 | B8: 1628
A9: часы суток | B9: Активная энергия | J9: Реактивная энергия
B10: =M3 -> ТП-226 | F10: =M4 -> ТП-257 | J10: =B10 -> ТП-226 | M10: =F10 -> ТП-257
B11: Расчет, Коэф, | E11: 30 | F11: Расчет, Коэф, | I11: 30 | J11: Расчет, Коэф, | L11: =E11 -> 30 | M11: Расчет, Коэф, | O11: =I11 -> 30
B12: показания счетчика | C12: разность | E12: расход эл,энергии за час | F12: показания счетчика | G12: разность | I12: расход эл,энергии за час | J12: показания счетчика | K12: разность | L12: расход эл,энергии за час | M12: показания счетчика | N12: разность | O12: расход эл,энергии за час
A13: 1 | B13: 2 | C13: 3 | E13: 4 | F13: 5 | G13: 6 | I13: 7 | J13: 8 | K13: 9 | L13: 10 | M13: 11 | N13: 12 | O13: 13
A14: 0 | E14: 3.3543526 | I14: 0.33072705
A15: 1 | E15: 0.73567084 | I15: 0.41193946
A16: 2 | E16: 1.192358 | I16: 0.79697538
A17: 3 | E17: 0.64697331 | I17: 0.54704099
A18: 4 | E18: 1.6237396 | I18: 0.42453706
A19: 5 | E19: 1.8780632 | I19: 0.43456295
A20: 6 | E20: 1.3983634 | I20: 0.712275
A21: 7 | E21: 0.97462367 | I21: 0.24176711
A22: 8 | E22: 0.9946739 | I22: 0.31662292
A23: 9 | E23: 1.6197957 | I23: 0.32633248
A24: 10 | E24: 1.6864036 | I24: 0.46844545
A25: 11 | E25: 1.6775979 | I25: 0.44253182
... A37: 23 | E37: 3.6452712 | I37: 0.24560133
A38: 24
A39: Итого | E39: =SUM(E15:E38) -> 41.894232 | I39: =SUM(I15:I38) -> 8.7616677 | L39: =SUM(L15:L38) -> 0 | O39: =SUM(O15:O38) -> 0
A40: 1, При наличии на предприятии отклонений от нормальных режимов электропотребления (временное изменение схем питания, остановка на ремонт, резкое снижение
A41: эл,потребления и т,д,) последние необходимо перечислить,
A42: Главный инженер АО "Вологдаоблэнерго" А.В. Чурляев
A43: составляется самим предприятием с соблюдением всех пунктов настоящей таблицы,

Sheet 76
B1: АО "Вологдаоблэнерго" | J1: код 900151 | M1: ПС Поповка, ф, Аннино
B2: наименование предприятия | M2: наименование источника питания
M3: ТП-376
B4: ул, Горького, 99 | I4: Таблица № 1
B5: адрес
A6: почасовых записей показаний электрических счетчиков
A7: в режимный день 18 ИЮНЯ 2025г.
A8: 1630 | B8: 1628
A9: часы суток | B9: Активная энергия | J9: Реактивная энергия
B10: =M3 -> ТП-376 | F10: =M4 -> 0 | J10: =B10 -> ТП-376 | M10: =F10 -> 0
B11: Расчет, Коэф, | E11: 60 | F11: Расчет, Коэф, | I11: 120 | J11: Расчет, Коэф, | L11: =E11 -> 60 | M11: Расчет, Коэф, | O11: =I11 -> 120
B12: показания счетчика | C12: разность | E12: расход эл,энергии за час | F12: показания счетчика | G12: разность | I12: расход эл,энергии за час | J12: показания счетчика | K12: разность | L12: расход эл,энергии за час | M12: показания счетчика | N12: разность | O12: расход эл,энергии за час
A13: 1 | B13: 2 | C13: 3 | E13: 4 | F13: 5 | G13: 6 | I13: 7 | J13: 8 | K13: 9 | L13: 10 | M13: 11 | N13: 12 | O13: 13
A14: 0 | E14: 12.167924 | I14: 0
A15: 1 | E15: 7.2326092 | I15: 0
A16: 2 | E16: 8.0175132 | I16: 0
A17: 3 | E17: 8.3067725 | I17: 0
A18: 4 | E18: 7.8912037 | I18: 0
A19: 5 | E19: 9.5893383 | I19: 0
A20: 6 | E20: 7.4699626 | I20: 0
A21: 7 | E21: 7.6925011 | I21: 0
A22: 8 | E22: 10.188199 | I22: 0
A23: 9 | E23: 10.823522 | I23: 0
A24: 10 | E24: 13.987239 | I24: 0
A25: 11 | E25: 11.276926 | I25: 0
... A37: 23 | E37: 9.4246135 | I37: 0
A38: 24
A39: Итого | E39: =SUM(E15:E38) -> 230.66347 | I39: =SUM(I15:I38) -> 0 | L39: =SUM(L15:L38) -> 0 | O39: =SUM(O15:O38) -> 0
A40: 1, При наличии на предприятии отклонений от нормальных режимов электропотребления (временное изменение схем питания, остановка на ремонт, резкое снижение
A41: эл,потребления и т,д,) последние необходимо перечислить,
A42: Главный инженер АО "Вологдаоблэнерго" А.В. Чурляев
A43: составляется самим предприятием с соблюдением всех пунктов настоящей таблицы,

Sheet 77
B1: АО "Вологдаоблэнерго" | J1: код 900151 | M1: ПС Поповка, ф, Красково
B2: наименование предприятия | M2: наименование источника питания
M3: КТП-ЭСПА
B4: ул, Горького, 99 | I4: Таблица № 1 | M4: КТП-Ново-Дубровка
B5: адрес
A6: почасовых записей показаний электрических счетчиков
A7: в режимный день 18 ИЮНЯ 2025г.
A8: 1630 | B8: 1628
A9: часы суток | B9: Активная энергия | J9: Реактивная энергия
B10: =M3 -> КТП-ЭСПА | F10: =M4 -> КТП-Ново-Дубровка | J10: =B10 -> КТП-ЭСПА | M10: =F10 -> КТП-Ново-Дубровка
B11: Расчет, Коэф, | E11: 20 | F11: Расчет, Коэф, | I11: 20 | J11: Расчет, Коэф, | L11: =E11 -> 20 | M11: Расчет, Коэф, | O11: =I11 -> 20
B12: показания счетчика | C12: разность | E12: расход эл,энергии за час | F12: показания счетчика | G12: разность | I12: расход эл,энергии за час | J12: показания счетчика | K12: разность | L12: расход эл,энергии за час | M12: показания счетчика | N12: разность | O12: расход эл,энергии за час
A13: 1 | B13: 2 | C13: 3 | E13: 4 | F13: 5 | G13: 6 | I13: 7 | J13: 8 | K13: 9 | L13: 10 | M13: 11 | N13: 12 | O13: 13
A14: 0 | E14: 0.65470457 | I14: 0.56465594
A15: 1 | E15: 0.44537316 | I15: 0.44362711
A16: 2 | E16: 0.50916229 | I16: 0.50716615
A17: 3 | E17: 0.44901473 | I17: 0.39360266
A18: 4 | E18: 0.24099995 | I18: 0.19978215
A19: 5 | E19: 0.069579632 | I19: 0.16615642
A20: 6 | E20: 0.057022616 | I20: 0.12569559
A21: 7 | E21: 0.034897931 | I21: 0.271988
A22: 8 | E22: 0.065043639 | I22: 0.69298602
A23: 9 | E23: 0.076346058 | I23: 1.026464
A24: 10 | E24: 0.34002129 | I24: 0.9368909
A25: 11 | E25: 0.28670151 | I25: 0.47471596
... A37: 23 | E37: 0.50489001 | I37: 0.42822795
A38: 24
A39: Итого | E39: =SUM(E15:E38) -> 6.007609 | I39: =SUM(I15:I38) -> 12.930859 | L39: =SUM(L15:L38) -> 0 | O39: =SUM(O15:O38) -> 0
A40: 1, При наличии на предприятии отклонений от нормальных режимов электропотребления (временное изменение схем питания, остановка на ремонт, резкое снижение
A41: эл,потребления и т,д,) последние необходимо перечислить,
A42: Главный инженер АО "Вологдаоблэнерго" А.В. Чурляев
A43: составляется самим предприятием с соблюдением всех пунктов настоящей таблицы,

Sheet 78
B1: АО "Вологдаоблэнерго" | J1: код 900151 | M1: ПС Поповка, ф, Красково
B2: наименование предприятия | M2: наименование источника питания
M3: КТП-Козлово-2
B4: ул, Горького, 99 | I4: Таблица № 1 | M4: ТП-319
B5: адрес
A6: почасовых записей показаний электрических счетчиков
A7: в режимный день 18 ИЮНЯ 2025г.
A8: 1630 | B8: 1628
A9: часы суток | B9: Активная энергия | J9: Реактивная энергия
B10: =M3 -> КТП-Козлово-2 | F10: =M4 -> ТП-319 | J10: =B10 -> КТП-Козлово-2 | M10: =F10 -> ТП-319
B11: Расчет, Коэф, | E11: 60 | F11: Расчет, Коэф, | I11: 30 | J11: Расчет, Коэф, | L11: =E11 -> 60 | M11: Расчет, Коэф, | O11: =I11 -> 30
B12: показания счетчика | C12: разность | E12: расход эл,энергии за час | F12: показания счетчика | G12: разность | I12: расход эл,энергии за час | J12: показания счетчика | K12: разность | L12: расход эл,энергии за час | M12: показания счетчика | N12: разность | O12: расход эл,энергии за час
A13: 1 | B13: 2 | C13: 3 | E13: 4 | F13: 5 | G13: 6 | I13: 7 | J13: 8 | K13: 9 | L13: 10 | M13: 11 | N13: 12 | O13: 13
A14: 0 | E14: 4.7585844 | I14: 0
A15: 1 | E15: 3.5378939 | I15: 0
A16: 2 | E16: 4.3027799 | I16: 0
A17: 3 | E17: 2.5091999 | I17: 0
A18: 4 | E18: 2.3482047 | I18: 0
A19: 5 | E19: 2.2518499 | I19: 0
A20: 6 | E20: 2.5712016 | I20: 0
A21: 7 | E21: 3.1109013 | I21: 0
A22: 8 | E22: 3.9026183 | I22: 0
A23: 9 | E23: 4.0404683 | I23: 0
A24: 10 | E24: 7.0786251 | I24: 0
A25: 11 | E25: 4.714647 | I25: 0
... A37: 23 | E37: 4.4879112 | I37: 0
A38: 24
A39: Итого | E39: =SUM(E15:E38) -> 98.009702 | I39: =SUM(I15:I38) -> 0 | L39: =SUM(L15:L38) -> 0 | O39: =SUM(O15:O38) -> 0
A40: 1, При наличии на предприятии отклонений от нормальных режимов электропотребления (временное изменение схем питания, остановка на ремонт, резкое снижение
A41: эл,потребления и т,д,) последние необходимо перечислить,
A42: Главный инженер АО "Вологдаоблэнерго" А.В. Чурляев
A43: составляется самим предприятием с соблюдением всех пунктов настоящей таблицы,

Sheet 79
B1: АО "Вологдаоблэнерго" | J1: код 900151 | M1: ПС Поповка, ф,Привалино
B2: наименование предприятия | M2: наименование источника питания
M3: КТП-Поселок Поповка
B4: ул, Горького, 99 | I4: Таблица № 1
B5: адрес
A6: почасовых записей показаний электрических счетчиков
A7: в режимный день 18 ИЮНЯ 2025г.
A8: 1630 | B8: 1628
A9: часы суток | B9: Активная энергия | J9: Реактивная энергия
B10: =M3 -> КТП-Поселок Поповка | F10: =M4 -> 0 | J10: =B10 -> КТП-Поселок Поповка | M10: =F10 -> 0
B11: Расчет, Коэф, | E11: 40 | F11: Расчет, Коэф, | I11: 120 | J11: Расчет, Коэф, | L11: =E11 -> 40 | M11: Расчет, Коэф, | O11: =I11 -> 120
B12: показания счетчика | C12: разность | E12: расход эл,энергии за час | F12: показания счетчика | G12: разность | I12: расход эл,энергии за час | J12: показания счетчика | K12: разность | L12: расход эл,энергии за час | M12: показания счетчика | N12: разность | O12: расход эл,энергии за час
A13: 1 | B13: 2 | C13: 3 | E13: 4 | F13: 5 | G13: 6 | I13: 7 | J13: 8 | K13: 9 | L13: 10 | M13: 11 | N13: 12 | O13: 13
A14: 0 | E14: 14.946426 | I14: 0
A15: 1 | E15: 10.463133 | I15: 0
A16: 2 | E16: 11.53145 | I16: 0
A17: 3 | E17: 10.578259 | I17: 0
A18: 4 | E18: 10.566921 | I18: 0
A19: 5 | E19: 6.5278345 | I19: 0
A20: 6 | E20: 5.3497581 | I20: 0
A21: 7 | E21: 7.5080406 | I21: 0
A22: 8 | E22: 10.288721 | I22: 0
A23: 9 | E23: 12.720428 | I23: 0
A24: 10 | E24: 16.274655 | I24: 0
A25: 11 | E25: 17.488792 | I25: 0
... A37: 23 | E37: 11.032782 | I37: 0
A38: 24
A39: Итого | E39: =SUM(E15:E38) -> 291.90896 | I39: =SUM(I15:I38) -> 0 | L39: =SUM(L15:L38) -> 0 | O39: =SUM(O15:O38) -> 0
A40: 1, При наличии на предприятии отклонений от нормальных режимов электропотребления (временное изменение схем питания, остановка на ремонт, резкое снижение
A41: эл,потребления и т,д,) последние необходимо перечислить,
A42: Главный инженер АО "Вологдаоблэнерго" А.В. Чурляев
A43: составляется самим предприятием с соблюдением всех пунктов настоящей таблицы,

Sheet 80
B1: АО "Вологдаоблэнерго" | J1: код 900151 | M1: ПС РПП-1, ф, Шубацкое
B2: наименование предприятия | M2: наименование источника питания
M3: ТП-36
B4: ул, Горького, 99 | I4: Таблица № 1
B5: адрес
A6: почасовых записей показаний электрических счетчиков
A7: в режимный день 18 ИЮНЯ 2025г.
A8: 1630 | B8: 1628
A9: часы суток | B9: Активная энергия | J9: Реактивная энергия
B10: =M3 -> ТП-36 | F10: =M4 -> 0 | J10: =B10 -> ТП-36 | M10: =F10 -> 0
B11: Расчет, Коэф, | E11: 20 | F11: Расчет, Коэф, | I11: 40 | J11: Расчет, Коэф, | L11: =E11 -> 20 | M11: Расчет, Коэф, | O11: =I11 -> 40
B12: показания счетчика | C12: разность | E12: расход эл,энергии за час | F12: показания счетчика | G12: разность | I12: расход эл,энергии за час | J12: показания счетчика | K12: разность | L12: расход эл,энергии за час | M12: показания счетчика | N12: разность | O12: расход эл,энергии за час
A13: 1 | B13: 2 | C13: 3 | E13: 4 | F13: 5 | G13: 6 | I13: 7 | J13: 8 | K13: 9 | L13: 10 | M13: 11 | N13: 12 | O13: 13
A14: 0 | E14: 3.8883064 | I14: 0
A15: 1 | E15: 3.1427036 | I15: 0
A16: 2 | E16: 3.2485988 | I16: 0
A17: 3 | E17: 3.0836747 | I17: 0
A18: 4 | E18: 2.7436918 | I18: 0
A19: 5 | E19: 3.6560934 | I19: 0
A20: 6 | E20: 3.1051406 | I20: 0
A21: 7 | E21: 3.0411054 | I21: 0
A22: 8 | E22: 5.1620997 | I22: 0
A23: 9 | E23: 4.8215472 | I23: 0
A24: 10 | E24: 6.5454098 | I24: 0
A25: 11 | E25: 6.8489805 | I25: 0
... A37: 23 | E37: 3.3036013 | I37: 0
A38: 24
A39: Итого | E39: =SUM(E15:E38) -> 104.81512 | I39: =SUM(I15:I38) -> 0 | L39: =SUM(L15:L38) -> 0 | O39: =SUM(O15:O38) -> 0
A40: 1, При наличии на предприятии отклонений от нормальных режимов электропотребления (временное изменение схем питания, остановка на ремонт, резкое снижение
A41: эл,потребления и т,д,) последние необходимо перечислить,
A42: Главный инженер АО "Вологдаоблэнерго" А.В. Чурляев
A43: составляется самим предприятием с соблюдением всех пунктов настоящей таблицы,

Sheet 81
B1: АО "Вологдаоблэнерго" | J1: код 900151 | M1: ПС Суда, ф, Андога
B2: наименование предприятия | M2: наименование источника питания
M3: ТП-243
B4: ул, Горького, 99 | I4: Таблица № 1 | M4: КТП-63 Кривец-1
B5: адрес
A6: почасовых записей показаний электрических счетчиков
A7: в режимный день 18 ИЮНЯ 2025г.
A8: 1630 | B8: 1628
A9: часы суток | B9: Активная энергия | J9: Реактивная энергия
B10: =M3 -> ТП-243 | F10: =M4 -> КТП-63 Кривец-1 | J10: =B10 -> ТП-243 | M10: =F10 -> КТП-63 Кривец-1
B11: Расчет, Коэф, | E11: 60 | F11: Расчет, Коэф, | I11: 20 | J11: Расчет, Коэф, | L11: =E11 -> 60 | M11: Расчет, Коэф, | O11: =I11 -> 20
B12: показания счетчика | C12: разность | E12: расход эл,энергии за час | F12: показания счетчика | G12: разность | I12: расход эл,энергии за час | J12: показания счетчика | K12: разность | L12: расход эл,энергии за час | M12: показания счетчика | N12: разность | O12: расход эл,энергии за час
A13: 1 | B13: 2 | C13: 3 | E13: 4 | F13: 5 | G13: 6 | I13: 7 | J13: 8 | K13: 9 | L13: 10 | M13: 11 | N13: 12 | O13: 13
A14: 0 | E14: 7.9888115 | I14: 0
A15: 1 | E15: 3.6504173 | I15: 0
A16: 2 | E16: 4.5352187 | I16: 0
A17: 3 | E17: 4.0190766 | I17: 0
A18: 4 | E18: 3.1190478 | I18: 0
A19: 5 | E19: 3.211488 | I19: 0
A20: 6 | E20: 2.6396073 | I20: 0
A21: 7 | E21: 3.7322798 | I21: 0
A22: 8 | E22: 4.8568762 | I22: 0
A23: 9 | E23: 6.2655836 | I23: 0
A24: 10 | E24: 12.929094 | I24: 0
A25: 11 | E25: 10.451797 | I25: 0
... A37: 23 | E37: 8.0157795 | I37: 0
A38: 24
A39: Итого | E39: =SUM(E15:E38) -> 192.08713 | I39: =SUM(I15:I38) -> 0 | L39: =SUM(L15:L38) -> 0 | O39: =SUM(O15:O38) -> 0
A40: 1, При наличии на предприятии отклонений от нормальных режимов электропотребления (временное изменение схем питания, остановка на ремонт, резкое снижение
A41: эл,потребления и т,д,) последние необходимо перечислить,
A42: Главный инженер АО "Вологдаоблэнерго" А.В. Чурляев
A43: составляется самим предприятием с соблюдением всех пунктов настоящей таблицы,

Sheet 82
B1: АО "Вологдаоблэнерго" | J1: код 900151 | M1: ПС Суда, ф, Сойволовское
B2: наименование предприятия | M2: наименование источника питания
M3: КТП общества садоводов "Заря-2"
B4: ул, Горького, 99 | I4: Таблица № 1 | M4: КТП "Дачи"
B5: адрес
A6: почасовых записей показаний электрических счетчиков
A7: в режимный день 18 ИЮНЯ 2025г.
A8: 1630 | B8: 1628
A9: часы суток | B9: Активная энергия | J9: Реактивная энергия
B10: =M3 -> КТП общества садоводов "Заря-2" | F10: =M4 -> КТП "Дачи" | J10: =B10 -> КТП общества садоводов "Заря-2" | M10: =F10 -> КТП "Дачи"
B11: Расчет, Коэф, | E11: 40 | F11: Расчет, Коэф, | I11: 60 | J11: Расчет, Коэф, | L11: =E11 -> 40 | M11: Расчет, Коэф, | O11: =I11 -> 60
B12: показания счетчика | C12: разность | E12: расход эл,энергии за час | F12: показания счетчика | G12: разность | I12: расход эл,энергии за час | J12: показания счетчика | K12: разность | L12: расход эл,энергии за час | M12: показания счетчика | N12: разность | O12: расход эл,энергии за час
A13: 1 | B13: 2 | C13: 3 | E13: 4 | F13: 5 | G13: 6 | I13: 7 | J13: 8 | K13: 9 | L13: 10 | M13: 11 | N13: 12 | O13: 13
A14: 0 | E14: 19.884318 | I14: 9.8008138
A15: 1 | E15: 13.2309 | I15: 6.9015703
A16: 2 | E16: 14.776722 | I16: 6.5859148
A17: 3 | E17: 11.222046 | I17: 5.6038345
A18: 4 | E18: 10.802914 | I18: 4.8509602
A19: 5 | E19: 13.589665 | I19: 5.3681305
A20: 6 | E20: 15.906777 | I20: 5.3734864
A21: 7 | E21: 18.066047 | I21: 6.3463867
A22: 8 | E22: 20.466984 | I22: 8.1903779
A23: 9 | E23: 20.370267 | I23: 10.484172
A24: 10 | E24: 29.493326 | I24: 12.507494
A25: 11 | E25: 27.642952 | I25: 13.300093
... A37: 23 | E37: 23.879389 | I37: 9.8618378
A38: 24
A39: Итого | E39: =SUM(E15:E38) -> 495.92761 | I39: =SUM(I15:I38) -> 228.57459 | L39: =SUM(L15:L38) -> 0 | O39: =SUM(O15:O38) -> 0
A40: 1, При наличии на предприятии отклонений от нормальных режимов электропотребления (временное изменение схем питания, остановка на ремонт, резкое снижение
A41: эл,потребления и т,д,) последние необходимо перечислить,
A42: Главный инженер АО "Вологдаоблэнерго" А.В. Чурляев
A43: составляется самим предприятием с соблюдением всех пунктов настоящей таблицы,

Sheet 83
B1: АО "Вологдаоблэнерго" | J1: код 900151 | M1: ПС Суда, ф, Андога
B2: наименование предприятия | M2: наименование источника питания
M3: КТП-100 Детский дом
B4: ул, Горького, 99 | I4: Таблица № 1
B5: адрес
A6: почасовых записей показаний электрических счетчиков
A7: в режимный день 18 ИЮНЯ 2025г.
A8: 1630 | B8: 1628
A9: часы суток | B9: Активная энергия | J9: Реактивная энергия
B10: =M3 -> КТП-100 Детский дом | F10: =M4 -> 0 | J10: =B10 -> КТП-100 Детский дом | M10: =F10 -> 0
B11: Расчет, Коэф, | E11: 20 | F11: Расчет, Коэф, | I11: 200 | J11: Расчет, Коэф, | L11: =E11 -> 20 | M11: Расчет, Коэф, | O11: =I11 -> 200
B12: показания счетчика | C12: разность | E12: расход эл,энергии за час | F12: показания счетчика | G12: разность | I12: расход эл,энергии за час | J12: показания счетчика | K12: разность | L12: расход эл,энергии за час | M12: показания счетчика | N12: разность | O12: расход эл,энергии за час
A13: 1 | B13: 2 | C13: 3 | E13: 4 | F13: 5 | G13: 6 | I13: 7 | J13: 8 | K13: 9 | L13: 10 | M13: 11 | N13: 12 | O13: 13
A14: 0 | E14: 0.90700536 | I14: 0
A15: 1 | E15: 0.47673747 | I15: 0
A16: 2 | E16: 0.53641323 | I16: 0
A17: 3 | E17: 0.66295704 | I17: 0
A18: 4 | E18: 0.6649127 | I18: 0
A19: 5 | E19: 0.47061133 | I19: 0
A20: 6 | E20: 0.52875516 | I20: 0
A21: 7 | E21: 0.44071102 | I21: 0
A22: 8 | E22: 0.53927089 | I22: 0
A23: 9 | E23: 0.4204906 | I23: 0
A24: 10 | E24: 0.54094296 | I24: 0
A25: 11 | E25: 0.506506 | I25: 0
... A37: 23 | E37: 1.0072867 | I37: 0
A38: 24
A39: Итого | E39: =SUM(E15:E38) -> 13.321738 | I39: =SUM(I15:I38) -> 0 | L39: =SUM(L15:L38) -> 0 | O39: =SUM(O15:O38) -> 0
A40: 1, При наличии на предприятии отклонений от нормальных режимов электропотребления (временное изменение схем питания, остановка на ремонт, резкое снижение
A41: эл,потребления и т,д,) последние необходимо перечислить,
A42: Главный инженер АО "Вологдаоблэнерго" А.В. Чурляев
A43: составляется самим предприятием с соблюдением всех пунктов настоящей таблицы,

Sheet 84
B1: АО "Вологдаоблэнерго" | J1: код 900151 | M1: ПС Южная, ф, Матинга
B2: наименование предприятия | M2: наименование источника питания
M3: ТП-55
B4: ул, Горького, 99 | I4: Таблица № 1
B5: адрес
A6: почасовых записей показаний электрических счетчиков
A7: в режимный день 18 ИЮНЯ 2025г.
A8: 1630 | B8: 1628
A9: часы суток | B9: Активная энергия | J9: Реактивная энергия
B10: =M3 -> ТП-55 | F10: =M4 -> 0 | J10: =B10 -> ТП-55 | M10: =F10 -> 0
B11: Расчет, Коэф, | E11: 30 | F11: Расчет, Коэф, | I11: 120 | J11: Расчет, Коэф, | L11: =E11 -> 30 | M11: Расчет, Коэф, | O11: =I11 -> 120
B12: показания счетчика | C12: разность | E12: расход эл,энергии за час | F12: показания счетчика | G12: разность | I12: расход эл,энергии за час | J12: показания счетчика | K12: разность | L12: расход эл,энергии за час | M12: показания счетчика | N12: разность | O12: расход эл,энергии за час
A13: 1 | B13: 2 | C13: 3 | E13: 4 | F13: 5 | G13: 6 | I13: 7 | J13: 8 | K13: 9 | L13: 10 | M13: 11 | N13: 12 | O13: 13
A14: 0 | E14: 5.2863649 | I14: 0
A15: 1 | E15: 2.6353778 | I15: 0
A16: 2 | E16: 1.4585093 | I16: 0
A17: 3 | E17: 1.4115781 | I17: 0
A18: 4 | E18: 1.1375351 | I18: 0
A19: 5 | E19: 1.248912 | I19: 0
A20: 6 | E20: 1.0998364 | I20: 0
A21: 7 | E21: 1.4581579 | I21: 0
A22: 8 | E22: 1.6309068 | I22: 0
A23: 9 | E23: 2.1092945 | I23: 0
A24: 10 | E24: 3.4079407 | I24: 0
A25: 11 | E25: 3.2586434 | I25: 0
... A37: 23 | E37: 2.471532 | I37: 0
A38: 24
A39: Итого | E39: =SUM(E15:E38) -> 55.664889 | I39: =SUM(I15:I38) -> 0 | L39: =SUM(L15:L38) -> 0 | O39: =SUM(O15:O38) -> 0
A40: 1, При наличии на предприятии отклонений от нормальных режимов электропотребления (временное изменение схем питания, остановка на ремонт, резкое снижение
A41: эл,потребления и т,д,) последние необходимо перечислить,
A42: Главный инженер АО "Вологдаоблэнерго" А.В. Чурляев
A43: составляется самим предприятием с соблюдением всех пунктов настоящей таблицы,

Sheet 85
B1: АО "Вологдаоблэнерго" | J1: код 900151 | M1: ПС Юрочкино, ф, Фоминское
B2: наименование предприятия | M2: наименование источника питания
M3: ТП-15
B4: ул, Горького, 99 | I4: Таблица № 1 | M4: ТП-23 В-2
B5: адрес
A6: почасовых записей показаний электрических счетчиков
A7: в режимный день 18 ИЮНЯ 2025г.
A8: 1630 | B8: 1628
A9: часы суток | B9: Активная энергия | J9: Реактивная энергия
B10: =M3 -> ТП-15 | F10: =M4 -> ТП-23 В-2 | J10: =B10 -> ТП-15 | M10: =F10 -> ТП-23 В-2
B11: Расчет, Коэф, | E11: 40 | F11: Расчет, Коэф, | I11: 120 | J11: Расчет, Коэф, | L11: =E11 -> 40 | M11: Расчет, Коэф, | O11: =I11 -> 120
B12: показания счетчика | C12: разность | E12: расход эл,энергии за час | F12: показания счетчика | G12: разность | I12: расход эл,энергии за час | J12: показания счетчика | K12: разность | L12: расход эл,энергии за час | M12: показания счетчика | N12: разность | O12: расход эл,энергии за час
A13: 1 | B13: 2 | C13: 3 | E13: 4 | F13: 5 | G13: 6 | I13: 7 | J13: 8 | K13: 9 | L13: 10 | M13: 11 | N13: 12 | O13: 13
A14: 0 | E14: 0.11177883 | I14: 0
A15: 1 | E15: 0.075274337 | I15: 0
A16: 2 | E16: 0.1003982 | I16: 0
A17: 3 | E17: 0.079237893 | I17: 0
A18: 4 | E18: 0.06179486 | I18: 0
A19: 5 | E19: 0.075905053 | I19: 0
A20: 6 | E20: 0.051838741 | I20: 0
A21: 7 | E21: 0.049854187 | I21: 0
A22: 8 | E22: 0.14191339 | I22: 0
A23: 9 | E23: 15.163502 | I23: 0
A24: 10 | E24: 22.209572 | I24: 0
A25: 11 | E25: 14.940334 | I25: 0
... A37: 23 | E37: 0.0623321 | I37: 0
A38: 24
A39: Итого | E39: =SUM(E15:E38) -> 148.47137 | I39: =SUM(I15:I38) -> 0 | L39: =SUM(L15:L38) -> 0 | O39: =SUM(O15:O38) -> 0
A40: 1, При наличии на предприятии отклонений от нормальных режимов электропотребления (временное изменение схем питания, остановка на ремонт, резкое снижение
A41: эл,потребления и т,д,) последние необходимо перечислить,
A42: Главный инженер АО "Вологдаоблэнерго" А.В. Чурляев
A43: составляется самим предприятием с соблюдением всех пунктов настоящей таблицы,

Sheet 86
B1: АО "Вологдаоблэнерго" | J1: код 900151 | M1: ПС Енюково
B2: наименование предприятия | M2: наименование источника питания
M3: ф, КУФ-3
B4: ул, Горького, 99 | I4: Таблица № 1
B5: адрес
A6: почасовых записей показаний электрических счетчиков
A7: в режимный день 18 ИЮНЯ 2025г.
A8: 1630 | B8: 1628
A9: часы суток | B9: Активная энергия | J9: Реактивная энергия
B10: =M3 -> ф, КУФ-3 | F10: =M4 -> 0 | J10: =B10 -> ф, КУФ-3 | M10: =F10 -> 0
B11: Расчет, Коэф, | E11: 80 | F11: Расчет, Коэф, | I11: 30 | J11: Расчет, Коэф, | L11: =E11 -> 80 | M11: Расчет, Коэф, | O11: =I11 -> 30
B12: показания счетчика | C12: разность | E12: расход эл,энергии за час | F12: показания счетчика | G12: разность | I12: расход эл,энергии за час | J12: показания счетчика | K12: разность | L12: расход эл,энергии за час | M12: показания счетчика | N12: разность | O12: расход эл,энергии за час
A13: 1 | B13: 2 | C13: 3 | E13: 4 | F13: 5 | G13: 6 | I13: 7 | J13: 8 | K13: 9 | L13: 10 | M13: 11 | N13: 12 | O13: 13
A14: 0 | E14: 0 | I14: 0
A15: 1 | E15: 0 | I15: 0
A16: 2 | E16: 0 | I16: 0
A17: 3 | E17: 0 | I17: 0
A18: 4 | E18: 0 | I18: 0
A19: 5 | E19: 0 | I19: 0
A20: 6 | E20: 0 | I20: 0
A21: 7 | E21: 0 | I21: 0
A22: 8 | E22: 0 | I22: 0
A23: 9 | E23: 0 | I23: 0
A24: 10 | E24: 0 | I24: 0
A25: 11 | E25: 0 | I25: 0
... A37: 23 | E37: 0 | I37: 0
A38: 24
A39: Итого | E39: =SUM(E15:E38) -> 0 | I39: =SUM(I15:I38) -> 0 | L39: =SUM(L15:L38) -> 0 | O39: =SUM(O15:O38) -> 0
A40: 1, При наличии на предприятии отклонений от нормальных режимов электропотребления (временное изменение схем питания, остановка на ремонт, резкое снижение
A41: эл,потребления и т,д,) последние необходимо перечислить,
A42: Главный инженер АО "Вологдаоблэнерго" А.В. Чурляев
A43: составляется самим предприятием с соблюдением всех пунктов настоящей таблицы,

Sheet 87
B1: АО "Вологдаоблэнерго" | J1: код 900151 | M1: ПС Ирдоматка
B2: наименование предприятия | M2: наименование источника питания
M3: ф, Промкомбинат
B4: ул, Горького, 99 | I4: Таблица № 1 | M4: ф, Романда
B5: адрес
A6: почасовых записей показаний электрических счетчиков
A7: в режимный день 18 ИЮНЯ 2025г.
A8: 1630 | B8: 1628
A9: часы суток | B9: Активная энергия | J9: Реактивная энергия
B10: =M3 -> ф, Промкомбинат | F10: =M4 -> ф, Романда | J10: =B10 -> ф, Промкомбинат | M10: =F10 -> ф, Романда
B11: Расчет, Коэф, | E11: 80 | F11: Расчет, Коэф, | I11: 30 | J11: Расчет, Коэф, | L11: =E11 -> 80 | M11: Расчет, Коэф, | O11: =I11 -> 30
B12: показания счетчика | C12: разность | E12: расход эл,энергии за час | F12: показания счетчика | G12: разность | I12: расход эл,энергии за час | J12: показания счетчика | K12: разность | L12: расход эл,энергии за час | M12: показания счетчика | N12: разность | O12: расход эл,энергии за час
A13: 1 | B13: 2 | C13: 3 | E13: 4 | F13: 5 | G13: 6 | I13: 7 | J13: 8 | K13: 9 | L13: 10 | M13: 11 | N13: 12 | O13: 13
A14: 0 | E14: 199.8 | I14: 195.4
A15: 1 | E15: 180.8 | I15: 163.4
A16: 2 | E16: 200.4 | I16: 152
A17: 3 | E17: 172.6 | I17: 154
A18: 4 | E18: 157 | I18: 151.4
A19: 5 | E19: 165.2 | I19: 169.8
A20: 6 | E20: 148.4 | I20: 212
A21: 7 | E21: 140.2 | I21: 250.2
A22: 8 | E22: 173.2 | I22: 282
A23: 9 | E23: 187 | I23: 259.4
A24: 10 | E24: 233.8 | I24: 255
A25: 11 | E25: 232.4 | I25: 248
... A37: 23 | E37: 157.2 | I37: 218
A38: 24
A39: Итого | E39: =SUM(E15:E38) -> 4263.2 | I39: =SUM(I15:I38) -> 5405.6 | L39: =SUM(L15:L38) -> 0 | O39: =SUM(O15:O38) -> 0
A40: 1, При наличии на предприятии отклонений от нормальных режимов электропотребления (временное изменение схем питания, остановка на ремонт, резкое снижение
A41: эл,потребления и т,д,) последние необходимо перечислить,
A42: Главный инженер АО "Вологдаоблэнерго" А.В. Чурляев
A43: составляется самим предприятием с соблюдением всех пунктов настоящей таблицы,

Sheet 88
B1: АО "Вологдаоблэнерго" | J1: код 900151 | M1: ПС Вишняки
B2: наименование предприятия | M2: наименование источника питания
M3: ф, Парус-1
B4: ул, Горького, 99 | I4: Таблица № 1 | M4: ф, Парус-2
B5: адрес
A6: почасовых записей показаний электрических счетчиков
A7: в режимный день 18 ИЮНЯ 2025г.
A8: 1630 | B8: 1628
A9: часы суток | B9: Активная энергия | J9: Реактивная энергия
B10: =M3 -> ф, Парус-1 | F10: =M4 -> ф, Парус-2 | J10: =B10 -> ф, Парус-1 | M10: =F10 -> ф, Парус-2
B11: Расчет, Коэф, | E11: 80 | F11: Расчет, Коэф, | I11: 30 | J11: Расчет, Коэф, | L11: =E11 -> 80 | M11: Расчет, Коэф, | O11: =I11 -> 30
B12: показания счетчика | C12: разность | E12: расход эл,энергии за час | F12: показания счетчика | G12: разность | I12: расход эл,энергии за час | J12: показания счетчика | K12: разность | L12: расход эл,энергии за час | M12: показания счетчика | N12: разность | O12: расход эл,энергии за час
A13: 1 | B13: 2 | C13: 3 | E13: 4 | F13: 5 | G13: 6 | I13: 7 | J13: 8 | K13: 9 | L13: 10 | M13: 11 | N13: 12 | O13: 13
A14: 0 | E14: 44.2 | I14: 17
A15: 1 | E15: 45 | I15: 16.6
A16: 2 | E16: 42 | I16: 17
A17: 3 | E17: 42.6 | I17: 16.2
A18: 4 | E18: 54 | I18: 16.8
A19: 5 | E19: 76.2 | I19: 16.2
A20: 6 | E20: 70.2 | I20: 16.8
A21: 7 | E21: 93.6 | I21: 18
A22: 8 | E22: 95.2 | I22: 17.2
A23: 9 | E23: 101.4 | I23: 18.6
A24: 10 | E24: 84.2 | I24: 10.6
A25: 11 | E25: 82.8 | I25: 6
... A37: 23 | E37: 50.6 | I37: 6
A38: 24
A39: Итого | E39: =SUM(E15:E38) -> 1815.6 | I39: =SUM(I15:I38) -> 242.6 | L39: =SUM(L15:L38) -> 0 | O39: =SUM(O15:O38) -> 0
A40: 1, При наличии на предприятии отклонений от нормальных режимов электропотребления (временное изменение схем питания, остановка на ремонт, резкое снижение
A41: эл,потребления и т,д,) последние необходимо перечислить,
A42: Главный инженер АО "Вологдаоблэнерго" А.В. Чурляев
A43: составляется самим предприятием с соблюдением всех пунктов настоящей таблицы,

Sheet 89
B1: АО "Вологдаоблэнерго" | J1: код 900151 | M1: ПС Искра
B2: наименование предприятия | M2: наименование источника питания
M3: ф, Садовая
B4: ул, Горького, 99 | I4: Таблица № 1 | M4: ф, Газовая-1
B5: адрес
A6: почасовых записей показаний электрических счетчиков
A7: в режимный день 18 ИЮНЯ 2025г.
A8: 1630 | B8: 1628
A9: часы суток | B9: Активная энергия | J9: Реактивная энергия
B10: =M3 -> ф, Садовая | F10: =M4 -> ф, Газовая-1 | J10: =B10 -> ф, Садовая | M10: =F10 -> ф, Газовая-1
B11: Расчет, Коэф, | E11: 80 | F11: Расчет, Коэф, | I11: 30 | J11: Расчет, Коэф, | L11: =E11 -> 80 | M11: Расчет, Коэф, | O11: =I11 -> 30
B12: показания счетчика | C12: разность | E12: расход эл,энергии за час | F12: показания счетчика | G12: разность | I12: расход эл,энергии за час | J12: показания счетчика | K12: разность | L12: расход эл,энергии за час | M12: показания счетчика | N12: разность | O12: расход эл,энергии за час
A13: 1 | B13: 2 | C13: 3 | E13: 4 | F13: 5 | G13: 6 | I13: 7 | J13: 8 | K13: 9 | L13: 10 | M13: 11 | N13: 12 | O13: 13
A14: 0 | E14: 391.15926 | I14: 0
A15: 1 | E15: 339.95987 | I15: 0
A16: 2 | E16: 312.63504 | I16: 0
A17: 3 | E17: 281.85999 | I17: 0
A18: 4 | E18: 301.40443 | I18: 0
A19: 5 | E19: 323.76866 | I19: 0
A20: 6 | E20: 355.37511 | I20: 0
A21: 7 | E21: 399.38995 | I21: 0
A22: 8 | E22: 400.97653 | I22: 0
A23: 9 | E23: 429.60385 | I23: 0
A24: 10 | E24: 433.83698 | I24: 0
A25: 11 | E25: 431.1904 | I25: 0
... A37: 23 | E37: 438.271 | I37: 0
A38: 24
A39: Итого | E39: =SUM(E15:E38) -> 9878.3111 | I39: =SUM(I15:I38) -> 0 | L39: =SUM(L15:L38) -> 0 | O39: =SUM(O15:O38) -> 0
A40: 1, При наличии на предприятии отклонений от нормальных режимов электропотребления (временное изменение схем питания, остановка на ремонт, резкое снижение
A41: эл,потребления и т,д,) последние необходимо перечислить,
A42: Главный инженер АО "Вологдаоблэнерго" А.В. Чурляев
A43: составляется самим предприятием с соблюдением всех пунктов настоящей таблицы,

Sheet 90
B1: АО "Вологдаоблэнерго" | J1: код 900151 | M1: ПС Климовская
B2: наименование предприятия | M2: наименование источника питания
M3: ф, КУФ-1
B4: ул, Горького, 99 | I4: Таблица № 1 | M4: ф, КУФ-2
B5: адрес
A6: почасовых записей показаний электрических счетчиков
A7: в режимный день 18 ИЮНЯ 2025г.
A8: 1630 | B8: 1628
A9: часы суток | B9: Активная энергия | J9: Реактивная энергия
B10: =M3 -> ф, КУФ-1 | F10: =M4 -> ф, КУФ-2 | J10: =B10 -> ф, КУФ-1 | M10: =F10 -> ф, КУФ-2
B11: Расчет, Коэф, | E11: 80 | F11: Расчет, Коэф, | I11: 30 | J11: Расчет, Коэф, | L11: =E11 -> 80 | M11: Расчет, Коэф, | O11: =I11 -> 30
B12: показания счетчика | C12: разность | E12: расход эл,энергии за час | F12: показания счетчика | G12: разность | I12: расход эл,энергии за час | J12: показания счетчика | K12: разность | L12: расход эл,энергии за час | M12: показания счетчика | N12: разность | O12: расход эл,энергии за час
A13: 1 | B13: 2 | C13: 3 | E13: 4 | F13: 5 | G13: 6 | I13: 7 | J13: 8 | K13: 9 | L13: 10 | M13: 11 | N13: 12 | O13: 13
A14: 0 | E14: 33.6 | I14: 255
A15: 1 | E15: 29.1 | I15: 240.9
A16: 2 | E16: 37.8 | I16: 195.9
A17: 3 | E17: 28.8 | I17: 263.1
A18: 4 | E18: 22.8 | I18: 261.9
A19: 5 | E19: 22.8 | I19: 257.4
A20: 6 | E20: 35.1 | I20: 272.4
A21: 7 | E21: 27.9 | I21: 246
A22: 8 | E22: 29.4 | I22: 238.2
A23: 9 | E23: 29.7 | I23: 249.6
A24: 10 | E24: 35.1 | I24: 321.3
A25: 11 | E25: 46.2 | I25: 313.5
... A37: 23 | E37: 33.9 | I37: 257.7
A38: 24
A39: Итого | E39: =SUM(E15:E38) -> 715.2 | I39: =SUM(I15:I38) -> 6048 | L39: =SUM(I15:I38) -> 6048 | O39: =SUM(O15:O38) -> 0
A40: 1, При наличии на предприятии отклонений от нормальных режимов электропотребления (временное изменение схем питания, остановка на ремонт, резкое снижение
A41: эл,потребления и т,д,) последние необходимо перечислить,
A42: Главный инженер АО "Вологдаоблэнерго" А.В. Чурляев
A43: составляется самим предприятием с соблюдением всех пунктов настоящей таблицы,

Sheet 91
B1: АО "Вологдаоблэнерго" | J1: код 900151 | M1: ПС Климовская
B2: наименование предприятия | M2: наименование источника питания
M3: ф, Поселок
B4: ул, Горького, 99 | I4: Таблица № 1 | M4: ф, ПТФ-2
B5: адрес
A6: почасовых записей показаний электрических счетчиков
A7: в режимный день 18 ИЮНЯ 2025г.
A8: 1630 | B8: 1628
A9: часы суток | B9: Активная энергия | J9: Реактивная энергия
B10: =M3 -> ф, Поселок | F10: =M4 -> ф, ПТФ-2 | J10: =B10 -> ф, Поселок | M10: =F10 -> ф, ПТФ-2
B11: Расчет, Коэф, | E11: 80 | F11: Расчет, Коэф, | I11: 30 | J11: Расчет, Коэф, | L11: =E11 -> 80 | M11: Расчет, Коэф, | O11: =I11 -> 30
B12: показания счетчика | C12: разность | E12: расход эл,энергии за час | F12: показания счетчика | G12: разность | I12: расход эл,энергии за час | J12: показания счетчика | K12: разность | L12: расход эл,энергии за час | M12: показания счетчика | N12: разность | O12: расход эл,энергии за час
A13: 1 | B13: 2 | C13: 3 | E13: 4 | F13: 5 | G13: 6 | I13: 7 | J13: 8 | K13: 9 | L13: 10 | M13: 11 | N13: 12 | O13: 13
A14: 0 | E14: 100.8 | I14: 22.4
A15: 1 | E15: 97.4 | I15: 22.4
A16: 2 | E16: 95.2 | I16: 22.4
A17: 3 | E17: 93.8 | I17: 22
A18: 4 | E18: 90.8 | I18: 23.2
A19: 5 | E19: 91.8 | I19: 22.4
A20: 6 | E20: 100.8 | I20: 25.2
A21: 7 | E21: 116.8 | I21: 26.4
A22: 8 | E22: 134.6 | I22: 33.6
A23: 9 | E23: 141.4 | I23: 32.4
A24: 10 | E24: 137.8 | I24: 27.2
A25: 11 | E25: 138.6 | I25: 27.6
... A37: 23 | E37: 116.6 | I37: 25.2
A38: 24
A39: Итого | E39: =SUM(E15:E38) -> 2875.6 | I39: =SUM(I15:I38) -> 592 | L39: =SUM(L15:L38) -> 0 | O39: =SUM(O15:O38) -> 0
A40: 1, При наличии на предприятии отклонений от нормальных режимов электропотребления (временное изменение схем питания, остановка на ремонт, резкое снижение
A41: эл,потребления и т,д,) последние необходимо перечислить,
A42: Главный инженер АО "Вологдаоблэнерго" А.В. Чурляев
A43: составляется самим предприятием с соблюдением всех пунктов настоящей таблицы,

Sheet 92
B1: АО "Вологдаоблэнерго" | J1: код 900151 | M1: ПС Климовская
B2: наименование предприятия | M2: наименование источника питания
M3: ф, ПТФ-3
B4: ул, Горького, 99 | I4: Таблица № 1 | M4: ф, ПТФ-4
B5: адрес
A6: почасовых записей показаний электрических счетчиков
A7: в режимный день 18 ИЮНЯ 2025г.
A8: 1630 | B8: 1628
A9: часы суток | B9: Активная энергия | J9: Реактивная энергия
B10: =M3 -> ф, ПТФ-3 | F10: =M4 -> ф, ПТФ-4 | J10: =B10 -> ф, ПТФ-3 | M10: =F10 -> ф, ПТФ-4
B11: Расчет, Коэф, | E11: 80 | F11: Расчет, Коэф, | I11: 30 | J11: Расчет, Коэф, | L11: =E11 -> 80 | M11: Расчет, Коэф, | O11: =I11 -> 30
B12: показания счетчика | C12: разность | E12: расход эл,энергии за час | F12: показания счетчика | G12: разность | I12: расход эл,энергии за час | J12: показания счетчика | K12: разность | L12: расход эл,энергии за час | M12: показания счетчика | N12: разность | O12: расход эл,энергии за час
A13: 1 | B13: 2 | C13: 3 | E13: 4 | F13: 5 | G13: 6 | I13: 7 | J13: 8 | K13: 9 | L13: 10 | M13: 11 | N13: 12 | O13: 13
A14: 0 | E14: 134.4 | I14: 26.4
A15: 1 | E15: 120.8 | I15: 22.2
A16: 2 | E16: 118.4 | I16: 25.8
A17: 3 | E17: 113.6 | I17: 26.4
A18: 4 | E18: 113.6 | I18: 27
A19: 5 | E19: 135.2 | I19: 24
A20: 6 | E20: 176.8 | I20: 27.6
A21: 7 | E21: 169.6 | I21: 27
A22: 8 | E22: 172 | I22: 27
A23: 9 | E23: 174.4 | I23: 28.2
A24: 10 | E24: 175.2 | I24: 30
A25: 11 | E25: 168 | I25: 30.6
... A37: 23 | E37: 157.6 | I37: 28.8
A38: 24
A39: Итого | E39: =SUM(E15:E38) -> 3839.2 | I39: =SUM(I15:I38) -> 652.8 | L39: =SUM(L15:L38) -> 0 | O39: =SUM(O15:O38) -> 0
A40: 1, При наличии на предприятии отклонений от нормальных режимов электропотребления (временное изменение схем питания, остановка на ремонт, резкое снижение
A41: эл,потребления и т,д,) последние необходимо перечислить,
A42: Главный инженер АО "Вологдаоблэнерго" А.В. Чурляев
A43: составляется самим предприятием с соблюдением всех пунктов настоящей таблицы,

Sheet 93
B1: АО "Вологдаоблэнерго" | J1: код 900151 | M1: ПС Новые Углы
B2: наименование предприятия | M2: наименование источника питания
M3: ф, Подсобное хоз,-1
B4: ул, Горького, 99 | I4: Таблица № 1 | M4: ф, Подсобное хоз,-2
B5: адрес
A6: почасовых записей показаний электрических счетчиков
A7: в режимный день 18 ИЮНЯ 2025г.
A8: 1630 | B8: 1628
A9: часы суток | B9: Активная энергия | J9: Реактивная энергия
B10: =M3 -> ф, Подсобное хоз,-1 | F10: =M4 -> ф, Подсобное хоз,-2 | J10: =B10 -> ф, Подсобное хоз,-1 | M10: =F10 -> ф, Подсобное хоз,-2
B11: Расчет, Коэф, | E11: 80 | F11: Расчет, Коэф, | I11: 30 | J11: Расчет, Коэф, | L11: =E11 -> 80 | M11: Расчет, Коэф, | O11: =I11 -> 30
B12: показания счетчика | C12: разность | E12: расход эл,энергии за час | F12: показания счетчика | G12: разность | I12: расход эл,энергии за час | J12: показания счетчика | K12: разность | L12: расход эл,энергии за час | M12: показания счетчика | N12: разность | O12: расход эл,энергии за час
A13: 1 | B13: 2 | C13: 3 | E13: 4 | F13: 5 | G13: 6 | I13: 7 | J13: 8 | K13: 9 | L13: 10 | M13: 11 | N13: 12 | O13: 13
A14: 0 | E14: 126 | I14: 278.4
A15: 1 | E15: 126.8 | I15: 268.4
A16: 2 | E16: 126.4 | I16: 254.4
A17: 3 | E17: 115.6 | I17: 264
A18: 4 | E18: 119.6 | I18: 266.8
A19: 5 | E19: 120 | I19: 268
A20: 6 | E20: 130.8 | I20: 276.4
A21: 7 | E21: 143.6 | I21: 383.6
A22: 8 | E22: 234 | I22: 432
A23: 9 | E23: 251.6 | I23: 446.8
A24: 10 | E24: 237.6 | I24: 445.6
A25: 11 | E25: 223.2 | I25: 463.2
... A37: 23 | E37: 146.4 | I37: 290.8
A38: 24
A39: Итого | E39: =SUM(E15:E38) -> 4159.2 | I39: =SUM(I15:I38) -> 8169.6 | L39: =SUM(L15:L38) -> 0 | O39: =SUM(O15:O38) -> 0
A40: 1, При наличии на предприятии отклонений от нормальных режимов электропотребления (временное изменение схем питания, остановка на ремонт, резкое снижение
A41: эл,потребления и т,д,) последние необходимо перечислить,
A42: Главный инженер АО "Вологдаоблэнерго" А.В. Чурляев
A43: составляется самим предприятием с соблюдением всех пунктов настоящей таблицы,

Sheet 94
B1: АО "Вологдаоблэнерго" | J1: код 900151 | M1: ПС Нелазкое
B2: наименование предприятия | M2: наименование источника питания
M3: ф, Нелазкое-2
B4: ул, Горького, 99 | I4: Таблица № 1
B5: адрес
A6: почасовых записей показаний электрических счетчиков
A7: в режимный день 18 ИЮНЯ 2025г.
A8: 1630 | B8: 1628
A9: часы суток | B9: Активная энергия | J9: Реактивная энергия
B10: =M3 -> ф, Нелазкое-2 | F10: =M4 -> 0 | J10: =B10 -> ф, Нелазкое-2 | M10: =F10 -> 0
B11: Расчет, Коэф, | E11: 80 | F11: Расчет, Коэф, | I11: 30 | J11: Расчет, Коэф, | L11: =E11 -> 80 | M11: Расчет, Коэф, | O11: =I11 -> 30
B12: показания счетчика | C12: разность | E12: расход эл,энергии за час | F12: показания счетчика | G12: разность | I12: расход эл,энергии за час | J12: показания счетчика | K12: разность | L12: расход эл,энергии за час | M12: показания счетчика | N12: разность | O12: расход эл,энергии за час
A13: 1 | B13: 2 | C13: 3 | E13: 4 | F13: 5 | G13: 6 | I13: 7 | J13: 8 | K13: 9 | L13: 10 | M13: 11 | N13: 12 | O13: 13
A14: 0 | E14: 63
A15: 1 | E15: 63.8
A16: 2 | E16: 69.8
A17: 3 | E17: 58.8
A18: 4 | E18: 60.6
A19: 5 | E19: 69.2
A20: 6 | E20: 72.4
A21: 7 | E21: 74.4
A22: 8 | E22: 62.6
A23: 9 | E23: 43
A24: 10 | E24: 51.6
A25: 11 | E25: 66.6
... A37: 23 | E37: 78.2
A38: 24
A39: Итого | E39: =SUM(E15:E38) -> 1702.2 | I39: =SUM(I15:I38) -> 0 | L39: =SUM(L15:L38) -> 0 | O39: =SUM(O15:O38) -> 0
A40: 1, При наличии на предприятии отклонений от нормальных режимов электропотребления (временное изменение схем питания, остановка на ремонт, резкое снижение
A41: эл,потребления и т,д,) последние необходимо перечислить,
A42: Главный инженер АО "Вологдаоблэнерго" А.В. Чурляев
A43: составляется самим предприятием с соблюдением всех пунктов настоящей таблицы,

Sheet 95
B1: АО "Вологдаоблэнерго" | J1: код 900151 | M1: ПС Суда
B2: наименование предприятия | M2: наименование источника питания
M3: ф, Котельная
B4: ул, Горького, 99 | I4: Таблица № 1 | M4: ф, Межное
B5: адрес
A6: почасовых записей показаний электрических счетчиков
A7: в режимный день 18 ИЮНЯ 2025г.
A8: 1630 | B8: 1628
A9: часы суток | B9: Активная энергия | J9: Реактивная энергия
B10: =M3 -> ф, Котельная | F10: =M4 -> ф, Межное | J10: =B10 -> ф, Котельная | M10: =F10 -> ф, Межное
B11: Расчет, Коэф, | E11: 80 | F11: Расчет, Коэф, | I11: 30 | J11: Расчет, Коэф, | L11: =E11 -> 80 | M11: Расчет, Коэф, | O11: =I11 -> 30
B12: показания счетчика | C12: разность | E12: расход эл,энергии за час | F12: показания счетчика | G12: разность | I12: расход эл,энергии за час | J12: показания счетчика | K12: разность | L12: расход эл,энергии за час | M12: показания счетчика | N12: разность | O12: расход эл,энергии за час
A13: 1 | B13: 2 | C13: 3 | E13: 4 | F13: 5 | G13: 6 | I13: 7 | J13: 8 | K13: 9 | L13: 10 | M13: 11 | N13: 12 | O13: 13
A14: 0 | E14: 4.8 | I14: 264
A15: 1 | E15: 4.4 | I15: 249.6
A16: 2 | E16: 4.8 | I16: 266.4
A17: 3 | E17: 4.8 | I17: 260.4
A18: 4 | E18: 4.4 | I18: 231.6
A19: 5 | E19: 4.4 | I19: 267.6
A20: 6 | E20: 4.4 | I20: 313.2
A21: 7 | E21: 4.4 | I21: 354
A22: 8 | E22: 4.4 | I22: 380.4
A23: 9 | E23: 4.4 | I23: 390
A24: 10 | E24: 4.4 | I24: 387.6
A25: 11 | E25: 4.8 | I25: 372
... A37: 23 | E37: 4.8 | I37: 288
A38: 24
A39: Итого | E39: =SUM(E15:E38) -> 104.8 | I39: =SUM(I15:I38) -> 7701.6 | L39: =SUM(L15:L38) -> 0 | O39: =SUM(O15:O38) -> 0
A40: 1, При наличии на предприятии отклонений от нормальных режимов электропотребления (временное изменение схем питания, остановка на ремонт, резкое снижение
A41: эл,потребления и т,д,) последние необходимо перечислить,
A42: Главный инженер АО "Вологдаоблэнерго" А.В. Чурляев
A43: составляется самим предприятием с соблюдением всех пунктов настоящей таблицы,

Sheet 96
B1: АО "Вологдаоблэнерго" | J1: код 900151 | M1: ПС Суда
B2: наименование предприятия | M2: наименование источника питания
M3: ф, ЛПБ
B4: ул, Горького, 99 | I4: Таблица № 1
B5: адрес
A6: почасовых записей показаний электрических счетчиков
A7: в режимный день 18 ИЮНЯ 2025г.
A8: 1630 | B8: 1628
A9: часы суток | B9: Активная энергия | J9: Реактивная энергия
B10: =M3 -> ф, ЛПБ | F10: =M4 -> 0 | J10: =B10 -> ф, ЛПБ | M10: =F10 -> 0
B11: Расчет, Коэф, | E11: 80 | F11: Расчет, Коэф, | I11: 30 | J11: Расчет, Коэф, | L11: =E11 -> 80 | M11: Расчет, Коэф, | O11: =I11 -> 30
B12: показания счетчика | C12: разность | E12: расход эл,энергии за час | F12: показания счетчика | G12: разность | I12: расход эл,энергии за час | J12: показания счетчика | K12: разность | L12: расход эл,энергии за час | M12: показания счетчика | N12: разность | O12: расход эл,энергии за час
A13: 1 | B13: 2 | C13: 3 | E13: 4 | F13: 5 | G13: 6 | I13: 7 | J13: 8 | K13: 9 | L13: 10 | M13: 11 | N13: 12 | O13: 13
A14: 0 | E14: 101.2
A15: 1 | E15: 93.2
A16: 2 | E16: 86.8
A17: 3 | E17: 82.8
A18: 4 | E18: 79.6
A19: 5 | E19: 88
A20: 6 | E20: 101.6
A21: 7 | E21: 125.2
A22: 8 | E22: 160.8
A23: 9 | E23: 170.4
A24: 10 | E24: 169.2
A25: 11 | E25: 196
... A37: 23 | E37: 117.2
A38: 24
A39: Итого | E39: =SUM(E15:E38) -> 3173.2 | I39: =SUM(I15:I38) -> 0 | L39: =SUM(L15:L38) -> 0 | O39: =SUM(O15:O38) -> 0
A40: 1, При наличии на предприятии отклонений от нормальных режимов электропотребления (временное изменение схем питания, остановка на ремонт, резкое снижение
A41: эл,потребления и т,д,) последние необходимо перечислить,
A42: Главный инженер АО "Вологдаоблэнерго" А.В. Чурляев
A43: составляется самим предприятием с соблюдением всех пунктов настоящей таблицы,

Sheet 97
B1: АО "Вологдаоблэнерго" | J1: код 900151 | M1: ПС Зашекснинская
B2: наименование предприятия | M2: наименование источника питания
M3: ф, Берег
B4: ул, Горького, 99 | I4: Таблица № 1 | M4: ф, Городище
B5: адрес
A6: почасовых записей показаний электрических счетчиков
A7: в режимный день 18 ИЮНЯ 2025г.
A8: 1630 | B8: 1628
A9: часы суток | B9: Активная энергия | J9: Реактивная энергия
B10: =M3 -> ф, Берег | F10: =M4 -> ф, Городище | J10: =B10 -> ф, Берег | M10: =F10 -> ф, Городище
B11: Расчет, Коэф, | E11: 80 | F11: Расчет, Коэф, | I11: 30 | J11: Расчет, Коэф, | L11: =E11 -> 80 | M11: Расчет, Коэф, | O11: =I11 -> 30
B12: показания счетчика | C12: разность | E12: расход эл,энергии за час | F12: показания счетчика | G12: разность | I12: расход эл,энергии за час | J12: показания счетчика | K12: разность | L12: расход эл,энергии за час | M12: показания счетчика | N12: разность | O12: расход эл,энергии за час
A13: 1 | B13: 2 | C13: 3 | E13: 4 | F13: 5 | G13: 6 | I13: 7 | J13: 8 | K13: 9 | L13: 10 | M13: 11 | N13: 12 | O13: 13
A14: 0 | E14: 183.136 | I14: 241.08
A15: 1 | E15: 133.084 | I15: 180.712
A16: 2 | E16: 112.52 | I16: 179.928
A17: 3 | E17: 110.58 | I17: 167.384
A18: 4 | E18: 100.88 | I18: 181.888
A19: 5 | E19: 104.372 | I19: 188.356
A20: 6 | E20: 99.716 | I20: 184.828
A21: 7 | E21: 121.056 | I21: 190.12
A22: 8 | E22: 151.32 | I22: 190.708
A23: 9 | E23: 155.588 | I23: 215.992
A24: 10 | E24: 167.228 | I24: 218.344
A25: 11 | E25: 180.42 | I25: 205.8
... A37: 23 | E37: 186.628 | I37: 250.488
A38: 24
A39: Итого | E39: =SUM(E15:E38) -> 3325.548 | I39: =SUM(I15:I38) -> 4537.988 | L39: =SUM(L15:L38) -> 0 | O39: =SUM(O15:O38) -> 0
A40: 1, При наличии на предприятии отклонений от нормальных режимов электропотребления (временное изменение схем питания, остановка на ремонт, резкое снижение
A41: эл,потребления и т,д,) последние необходимо перечислить,
A42: Главный инженер АО "Вологдаоблэнерго" А.В. Чурляев
A43: составляется самим предприятием с соблюдением всех пунктов настоящей таблицы,

Sheet 98
B1: АО "Вологдаоблэнерго" | J1: код 900151 | M1: ПС Ирдоматка
B2: наименование предприятия | M2: наименование источника питания
M3: ф,10кВ Шайма (ОборнЭнерго)
B4: ул, Горького, 99 | I4: Таблица № 1
B5: адрес
A6: почасовых записей показаний электрических счетчиков
A7: в режимный день 18 ИЮНЯ 2025г.
A8: 1630 | B8: 1628
A9: часы суток | B9: Активная энергия | J9: Реактивная энергия
B10: =M3 -> ф,10кВ Шайма (ОборнЭнерго) | F10: =M4 -> 0 | J10: =B10 -> ф,10кВ Шайма (ОборнЭнерго) | M10: =F10 -> 0
B11: Расчет, Коэф, | E11: 80 | F11: Расчет, Коэф, | I11: 30 | J11: Расчет, Коэф, | L11: =E11 -> 80 | M11: Расчет, Коэф, | O11: =I11 -> 30
B12: показания счетчика | C12: разность | E12: расход эл,энергии за час | F12: показания счетчика | G12: разность | I12: расход эл,энергии за час | J12: показания счетчика | K12: разность | L12: расход эл,энергии за час | M12: показания счетчика | N12: разность | O12: расход эл,энергии за час
A13: 1 | B13: 2 | C13: 3 | E13: 4 | F13: 5 | G13: 6 | I13: 7 | J13: 8 | K13: 9 | L13: 10 | M13: 11 | N13: 12 | O13: 13
A14: 0 | E14: 391.298 | I14: 0
A15: 1 | E15: 377.718 | I15: 0
A16: 2 | E16: 370.152 | I16: 0
A17: 3 | E17: 376.942 | I17: 0
A18: 4 | E18: 375.584 | I18: 0
A19: 5 | E19: 375.39 | I19: 0
A20: 6 | E20: 372.868 | I20: 0
A21: 7 | E21: 413.22 | I21: 0
A22: 8 | E22: 401.386 | I22: 0
A23: 9 | E23: 380.046 | I23: 0
A24: 10 | E24: 374.614 | I24: 0
A25: 11 | E25: 383.732 | I25: 0
... A37: 23 | E37: 402.55 | I37: 0
A38: 24
A39: Итого | E39: =SUM(E15:E38) -> 9038.266 | I39: =SUM(I15:I38) -> 0 | L39: =SUM(L15:L38) -> 0 | O39: =SUM(O15:O38) -> 0
A40: 1, При наличии на предприятии отклонений от нормальных режимов электропотребления (временное изменение схем питания, остановка на ремонт, резкое снижение
A41: эл,потребления и т,д,) последние необходимо перечислить,
A42: Главный инженер АО "Вологдаоблэнерго" А.В. Чурляев
A43: составляется самим предприятием с соблюдением всех пунктов настоящей таблицы,

Sheet 99
B1: АО "Вологдаоблэнерго" | J1: код 900151 | M1: РПП-1
B2: наименование предприятия | M2: наименование источника питания
M3: ТП-107 база (МУП Электросеть)
B4: ул, Горького, 99 | I4: Таблица № 1 | M4: ТП-107 офис (МУП Электросеть)
B5: адрес
A6: почасовых записей показаний электрических счетчиков
A7: в режимный день 18 ИЮНЯ 2025г.
A8: 1630 | B8: 1628
A9: часы суток | B9: Активная энергия | J9: Реактивная энергия
B10: =M3 -> ТП-107 база (МУП Электросеть) | F10: =M4 -> ТП-107 офис (МУП Электросеть) | J10: =B10 -> ТП-107 база (МУП Электросеть) | M10: =F10 -> ТП-107 офис (МУП Электросеть)
B11: Расчет, Коэф, | E11: 80 | F11: Расчет, Коэф, | I11: 30 | J11: Расчет, Коэф, | L11: =E11 -> 80 | M11: Расчет, Коэф, | O11: =I11 -> 30
B12: показания счетчика | C12: разность | E12: расход эл,энергии за час | F12: показания счетчика | G12: разность | I12: расход эл,энергии за час | J12: показания счетчика | K12: разность | L12: расход эл,энергии за час | M12: показания счетчика | N12: разность | O12: расход эл,энергии за час
A13: 1 | B13: 2 | C13: 3 | E13: 4 | F13: 5 | G13: 6 | I13: 7 | J13: 8 | K13: 9 | L13: 10 | M13: 11 | N13: 12 | O13: 13
A14: 0 | E14: 6.0679936 | I14: 0
A15: 1 | E15: 5.3632965 | I15: 0
A16: 2 | E16: 6.0669197 | I16: 0
A17: 3 | E17: 4.9127494 | I17: 0
A18: 4 | E18: 3.8930762 | I18: 0
A19: 5 | E19: 4.2506829 | I19: 0
A20: 6 | E20: 3.9397444 | I20: 0
A21: 7 | E21: 4.8358562 | I21: 0
A22: 8 | E22: 8.6034995 | I22: 0
A23: 9 | E23: 25.634657 | I23: 0
A24: 10 | E24: 39.380648 | I24: 0
A25: 11 | E25: 39.803726 | I25: 0
