Workbook

Sheet 7.1 без НДС
H1: =F12+H12 -> 6.316 | I1: =G12+I12 -> 63.237616 | J1: =H1+J12 -> 20.036 | K1: =I1+K12 -> 66.031142 | L1: =J1+L12 -> 100.13286 | M1: =K1+M12 -> 110.64108
A2: Отчет об исполнении инвестиционной программы, млн. рублей без НДС (представляется ежеквартально)
D3: =D12*1.18 -> 118.15677 | E3: =E12*1.18 -> 130.55648 | F3: =F12*1.18 -> 4.7023 | G3: =G12*1.18 -> 20.599378 | H3: =H12*1.18 -> 2.75058 | I3: =I12*1.18 -> 54.021009 | J3: =J12*1.18 -> 16.1896 | K3: =K12*1.18 -> 3.2963601 | ... T3: =T12*1.18 -> 12.383252
D4: =D12-D68 -> 92.928
A9: № | B9: Наименование объекта | C9: Остаток стоимости на начало года * | D9: Объем финансирования [отчетный год] | N9: Освоено (закрыто актами выполнен- ных работ), млн. рублей | P9: Введено (оформлено актами ввода в эксплуатацию), млн. рублей | R9: Осталось профинанси- ровать по ре- зультатам отчетного периода * | S9: Отклонение *** | W9: Причины отклонений
D10: всего | F10: I кв. | H10: II кв. | J10: III кв. | L10: IV кв. | S10: млн. рублей | T10: % | U10: в том числе за счет
D11: план ** | E11: факт *** | F11: план | G11: факт | H11: план | I11: факт | J11: план | K11: факт | L11: план | M11: факт | N11: всего | O11: за отчетный квартал | P11: всего | Q11: за отчетный квартал | U11: уточнения стоимости по результатам утвержденной ПСД | V11: уточнения стоимости по результатам закупочных процедур
B12: ВСЕГО | D12: =D13+D14+D68+D69+D81+D84+D90 -> 100.13286 | E12: =G12+I12+K12+M12 -> 110.64108 | F12: =F13+F14+F68+F69+F81+F84+F90 -> 3.985 | G12: =G13+G14+G68+G69+G81+G84+G90 -> 17.4571 | H12: =H13+H14+H68+H69+H81+H84+H90 -> 2.331 | I12: =I13+I14+I68+I69+I81+I84+I90 -> 45.780516 | J12: =J13+J14+J68+J69+J81+J84+J90 -> 13.72 | K12: =K13+K14+K68+K69+K81+K84+K90 -> 2.7935255 | L12: =D12-F12-H12-J12 -> 80.09686 | M12: =M13+M14+M68+M69+M81+M84+M90 -> 44.609942 | N12: =E12 -> 110.64108 | O12: =M12 -> 44.609942 | R12: =D12-G12-I12-K12-M12 -> -10.508224 | S12: =E12-D12 -> 10.508224 | T12: =IF(D12>0,E12/D12*100-100,0) -> 10.494281
A13: 1 | B13: ПИР | D13: 1.5 | E13: =G13+I13+K13+M13 -> 0 | F13: =[1]Лист2!$K$9 -> 0 | G13: =[1]Лист2!$L$9 -> 0 | H13: 0 | I13: =[2]Лист2!$L$9 -> 0 | J13: =0.222-H13-F13 -> 0.222 | K13: =[3]Лист2!L9-I13 -> 0 | L13: =D13-F13-H13-J13 -> 1.278 | M13: 0 | N13: =E13 -> 0 | O13: =M13 -> 0 | R13: =D13-G13-I13-K13-M13 -> 1.5 | S13: =E13-D13 -> -1.5 | T13: =IF(D13>0,E13/D13*100-100,0) -> -100
A14: 2 | B14: Реконструкция | D14: =D15+D30+D40+D50+D53 -> 63.23 | E14: =G14+I14+K14+M14 -> 3.0363997 | F14: =F15+F30+F40+F50+F53 -> 3.969 | G14: =G15+G30+G40+G50+G53 -> 1.1856 | H14: =H15+H30+H40+H50+H53 -> 1.731 | I14: =I15+I30+I40+I50+I53 -> 1.4944638 | J14: =J15+J30+J40+J50+J53 -> 9.356 | K14: =K15+K30+K40+K50+K53 -> 0.12658351 | L14: =D14-F14-H14-J14 -> 48.174 | M14: =M15+M30+M40+M50+M53 -> 0.22975246 | N14: =E14 -> 3.0363997 | O14: =M14 -> 0.22975246 | R14: =D14-G14-I14-K14-M14 -> 60.1936 | S14: =E14-D14 -> -60.1936 | T14: =IF(D14>0,E14/D14*100-100,0) -> -95.19785
A15: 2.1 | B15: КЛ 0,4 кВ | D15: 3.73 | E15: =SUM(E16:E29) -> 0.35300602 | F15: =[1]Лист2!$K$11 -> 0.275 | G15: =SUM(G16:G29) -> 0 | H15: =0.5-F15 -> 0.225 | I15: =SUM(I16:I29) -> 0.22642251 | J15: =1.052-H15-F15 -> 0.552 | K15: =SUM(K16:K29) -> 0.12658351 | L15: =D15-F15-H15-J15 -> 2.678 | M15: =SUM(M16:M29) -> 0 | N15: =E15 -> 0.35300602 | O15: =M15 -> 0 | R15: =D15-G15-I15-K15-M15 -> 3.376994 | S15: =E15-D15 -> -3.376994 | T15: =IF(D15>0,E15/D15*100-100,0) -> -90.536032
B16: КЛ 0,4 кВ ТП 106 - Козленская, 127; Козленская, 127-А | D16: 0.7 | E16: =G16+I16+K16+M16 -> 0 | G16: 0 | I16: 0 | L16: =D16-F16-H16-J16 -> 0.7 | N16: =E16 -> 0 | O16: =M16 -> 0 | R16: =D16-G16-I16-K16-M16 -> 0.7 | S16: =E16-D16 -> -0.7 | T16: =IF(D16>0,E16/D16*100-100,0) -> -100
B17: КЛ 0,4 кВ ТП 367 - Герцена, 94; Яшина, 20 | D17: 0.55 | E17: =G17+I17+K17+M17 -> 0 | G17: 0 | I17: 0 | L17: =D17-F17-H17-J17 -> 0.55 | N17: =E17 -> 0 | O17: =M17 -> 0 | R17: =D17-G17-I17-K17-M17 -> 0.55 | S17: =E17-D17 -> -0.55 | T17: =IF(D17>0,E17/D17*100-100,0) -> -100
B18: КЛ 0,4 кВ ТП 367 - Ветошкина, 99; Ветошкина, 99-А | D18: 0.5 | E18: =G18+I18+K18+M18 -> 0 | G18: 0 | I18: 0 | L18: =D18-F18-H18-J18 -> 0.5 | N18: =E18 -> 0 | O18: =M18 -> 0 | R18: =D18-G18-I18-K18-M18 -> 0.5 | S18: =E18-D18 -> -0.5 | T18: =IF(D18>0,E18/D18*100-100,0) -> -100
B19: КЛ 0,4 кВ ТП 533 - 1 мкр. ПЗ, 9 | D19: 0.15 | E19: =G19+I19+K19+M19 -> 0 | G19: 0 | I19: 0 | L19: =D19-F19-H19-J19 -> 0.15 | N19: =E19 -> 0 | O19: =M19 -> 0 | R19: =D19-G19-I19-K19-M19 -> 0.15 | S19: =E19-D19 -> -0.15 | T19: =IF(D19>0,E19/D19*100-100,0) -> -100
B20: КЛ 0,4 кВ ТП 533 - 1 мкр. ПЗ, 10 (корп.2) | D20: 0.25 | E20: =G20+I20+K20+M20 -> 0 | G20: 0 | I20: 0 | L20: =D20-F20-H20-J20 -> 0.25 | N20: =E20 -> 0 | O20: =M20 -> 0 | R20: =D20-G20-I20-K20-M20 -> 0.25 | S20: =E20-D20 -> -0.25 | T20: =IF(D20>0,E20/D20*100-100,0) -> -100
B21: КЛ 0,4 кВ ТП 534 - 1 мкр. ПЗ, 21 | D21: 0.14 | E21: =G21+I21+K21+M21 -> 0 | G21: 0 | I21: 0 | L21: =D21-F21-H21-J21 -> 0.14 | N21: =E21 -> 0 | O21: =M21 -> 0 | R21: =D21-G21-I21-K21-M21 -> 0.14 | S21: =E21-D21 -> -0.14 | T21: =IF(D21>0,E21/D21*100-100,0) -> -100
B22: КЛ 0,4 кВ ТП 534 - 1 мкр. ПЗ, 23 | D22: 0.14 | E22: =G22+I22+K22+M22 -> 0 | G22: 0 | I22: 0 | L22: =D22-F22-H22-J22 -> 0.14 | N22: =E22 -> 0 | O22: =M22 -> 0 | R22: =D22-G22-I22-K22-M22 -> 0.14 | S22: =E22-D22 -> -0.14 | T22: =IF(D22>0,E22/D22*100-100,0) -> -100
B23: КЛ 0,4 кВ ТП 466 - шк. Поповича, 26-А | D23: 0.45 | E23: =G23+I23+K23+M23 -> 0 | G23: 0 | I23: 0 | L23: =D23-F23-H23-J23 -> 0.45 | N23: =E23 -> 0 | O23: =M23 -> 0 | R23: =D23-G23-I23-K23-M23 -> 0.45 | S23: =E23-D23 -> -0.45 | T23: =IF(D23>0,E23/D23*100-100,0) -> -100
B24: КЛ 0,4 кВ ТП 422 - Советский пр., 131 | D24: 0.25 | E24: =G24+I24+K24+M24 -> 0 | G24: 0 | I24: 0 | L24: =D24-F24-H24-J24 -> 0.25 | N24: =E24 -> 0 | O24: =M24 -> 0 | R24: =D24-G24-I24-K24-M24 -> 0.25 | S24: =E24-D24 -> -0.25 | T24: =IF(D24>0,E24/D24*100-100,0) -> -100
B25: КЛ 0,4 кВ ТП 18, опора Л-4 (Сокол) - Некрасова, 41 | D25: 0.08 | E25: =G25+I25+K25+M25 -> 0 | G25: 0 | I25: 0 | L25: =D25-F25-H25-J25 -> 0.08 | N25: =E25 -> 0 | O25: =M25 -> 0 | R25: =D25-G25-I25-K25-M25 -> 0.08 | S25: =E25-D25 -> -0.08 | T25: =IF(D25>0,E25/D25*100-100,0) -> -100
B26: КЛ 0,4 кВ ТП 48 (Сокол) - Кирова, 38 | D26: 0.17 | E26: =G26+I26+K26+M26 -> 0 | G26: 0 | I26: 0 | L26: =D26-F26-H26-J26 -> 0.17 | N26: =E26 -> 0 | O26: =M26 -> 0 | R26: =D26-G26-I26-K26-M26 -> 0.17 | S26: =E26-D26 -> -0.17 | T26: =IF(D26>0,E26/D26*100-100,0) -> -100
B27: КЛ 0,4 кВ ТП 48 (Сокол) - Советская, 55 | D27: 0.14 | E27: =G27+I27+K27+M27 -> 0 | G27: 0 | I27: 0 | L27: =D27-F27-H27-J27 -> 0.14 | N27: =E27 -> 0 | O27: =M27 -> 0 | R27: =D27-G27-I27-K27-M27 -> 0.14 | S27: =E27-D27 -> -0.14 | T27: =IF(D27>0,E27/D27*100-100,0) -> -100
B28: Замена КЛ 0,4 кВ ТП 62 (Сокол) - Орешкова, 12; Путейская 36 (строительство ВЛ 0,4 кВ от ТП 62 на 4 ж/дома) | D28: 0.21 | E28: =G28+I28+K28+M28 -> 0 | G28: 0 | I28: 0 | L28: =D28-F28-H28-J28 -> 0.21 | N28: =E28 -> 0 | O28: =M28 -> 0 | R28: =D28-G28-I28-K28-M28 -> 0.21 | S28: =E28-D28 -> -0.21 | T28: =IF(D28>0,E28/D28*100-100,0) -> -100
B29: КЛ 0,4 кВ от ТП 67 с переводом на РТП 7 (г. Сокол) | D29: 0 | E29: =G29+I29+K29+M29 -> 0.35300602 | G29: =0 -> 0 | I29: =[4]CO1!$R$71/1000-G29 -> 0.22642251 | K29: =[5]Лист2!$L$11-I29-G29 -> 0.12658351 | L29: =D29-F29-H29-J29 -> 0 | M29: =[6]CO1!$T$71/1000-K29-I29-G29 -> 0 | N29: =E29 -> 0.35300602 | O29: =M29 -> 0 | R29: =D29-G29-I29-K29-M29 -> -0.35300602 | S29: =E29-D29 -> 0.35300602 | T29: =IF(D29>0,E29/D29*100-100,0) -> 0
A30: 2.2 | B30: КЛ 6-10 кВ | D30: 16.8 | E30: =G30+I30+K30+M30 -> 0.86471773 | F30: =[1]Лист2!$K$12 -> 0.816 | G30: =SUM(G31:G37) -> 0.6355 | H30: =1-F30 -> 0.184 | I30: =SUM(I31:I37) -> -0.00053473 | J30: =3.486-H30-F30 -> 2.486 | K30: =SUM(K31:K39) -> 0 | L30: =D30-F30-H30-J30 -> 13.314 | M30: =SUM(M31:M39) -> 0.22975246 | N30: =E30 -> 0.86471773 | O30: =M30 -> 0.22975246 | R30: =D30-G30-I30-K30-M30 -> 15.935282 | S30: =E30-D30 -> -15.935282 | T30: =IF(D30>0,E30/D30*100-100,0) -> -94.852871
B31: КЛ 6 кВ "ГПП-2 - 1 мкр. ПЗ | D31: 7.5 | E31: =G31+I31+K31+M31 -> 0 | L31: =D31-F31-H31-J31 -> 7.5 | N31: =E31 -> 0 | O31: =M31 -> 0 | R31: =D31-G31-I31-K31-M31 -> 7.5 | S31: =E31-D31 -> -7.5 | T31: =IF(D31>0,E31/D31*100-100,0) -> -100
B32: КЛ 6 кВ "ГПП, яч.59 - ВЛ 6 кВ (Л-6)" (Сокол) | D32: 0.8 | E32: =G32+I32+K32+M32 -> 0 | L32: =D32-F32-H32-J32 -> 0.8 | N32: =E32 -> 0 | O32: =M32 -> 0 | R32: =D32-G32-I32-K32-M32 -> 0.8 | S32: =E32-D32 -> -0.8 | T32: =IF(D32>0,E32/D32*100-100,0) -> -100
B33: КЛ 6 кВ "ТП 10 - ТП 11" (Сокол) | D33: 0.6 | E33: =G33+I33+K33+M33 -> 0 | L33: =D33-F33-H33-J33 -> 0.6 | N33: =E33 -> 0 | O33: =M33 -> 0 | R33: =D33-G33-I33-K33-M33 -> 0.6 | S33: =E33-D33 -> -0.6 | T33: =IF(D33>0,E33/D33*100-100,0) -> -100
B34: КЛ 10 кВ ПС "Центральная" - РП 10кВ "Разинский" | D34: 4.9 | E34: =G34+I34+K34+M34 -> 0 | L34: =D34-F34-H34-J34 -> 4.9 | N34: =E34 -> 0 | O34: =M34 -> 0 | R34: =D34-G34-I34-K34-M34 -> 4.9 | S34: =E34-D34 -> -4.9 | T34: =IF(D34>0,E34/D34*100-100,0) -> -100
B35: КЛ 10 кВ ПС "Воcточная" - ТП 561 | D35: 3 | E35: =G35+I35+K35+M35 -> 0 | L35: =D35-F35-H35-J35 -> 3 | N35: =E35 -> 0 | O35: =M35 -> 0 | R35: =D35-G35-I35-K35-M35 -> 3 | S35: =E35-D35 -> -3 | T35: =IF(D35>0,E35/D35*100-100,0) -> -100
B36: КЛ 6 кВ ТП1-ТП33 (г.Сокол) | D36: 0 | E36: =G36+I36+K36+M36 -> 0.26891023 | G36: =[7]CO1!$R$61/1000 -> 0.2689 | I36: =[4]CO1!$R$67/1000-G36 -> 1.023e-05 | L36: =D36-F36-H36-J36 -> 0 | M36: =[6]CO1!$T$67/1000-K36-I36-G36 -> 0 | N36: =E36 -> 0.26891023 | O36: =M36 -> 0 | R36: =D36-G36-I36-K36-M36 -> -0.26891023 | S36: =E36-D36 -> 0.26891023 | T36: =IF(D36>0,E36/D36*100-100,0) -> 0
B37: КЛ 10 кВ ТП374-ТП64 | D37: 0 | E37: =G37+I37+K37+M37 -> 0.36605504 | G37: =[7]CO1!$R$64/1000 -> 0.3666 | I37: =[4]CO1!$R$72/1000-G37 -> -0.00054496 | L37: =D37-F37-H37-J37 -> 0 | M37: =[6]CO1!$T$72/1000-K37-I37-G37 -> 0 | N37: =E37 -> 0.36605504 | O37: =M37 -> 0 | R37: =D37-G37-I37-K37-M37 -> -0.36605504 | S37: =E37-D37 -> 0.36605504 | T37: =IF(D37>0,E37/D37*100-100,0) -> 0
B38: Вынос КЛ 10 кВ "РП27-ТП682" пл.Федулова (ТП-9/2711 ЗАО Мост-продукт) | D38: 0 | E38: =G38+I38+K38+M38 -> 0.20152946 | L38: =D38-F38-H38-J38 -> 0 | M38: =[6]CO1!T73/1000 -> 0.20152946 | N38: =E38 -> 0.20152946 | O38: =M38 -> 0.20152946 | R38: =D38-G38-I38-K38-M38 -> -0.20152946 | S38: =E38-D38 -> 0.20152946 | T38: =IF(D38>0,E38/D38*100-100,0) -> 0
B39: Реконструкция КЛ-6 кВ РП ТЭЦ-РП23 | D39: 0 | E39: =G39+I39+K39+M39 -> 0.028223 | L39: =D39-F39-H39-J39 -> 0 | M39: =[6]CO1!T74/1000 -> 0.028223 | N39: =E39 -> 0.028223 | O39: =M39 -> 0.028223 | R39: =D39-G39-I39-K39-M39 -> -0.028223 | S39: =E39-D39 -> 0.028223 | T39: =IF(D39>0,E39/D39*100-100,0) -> 0
A40: 2.3 | B40: ВЛ 0,4 кВ | D40: 3.3 | E40: =G40+I40+K40+M40 -> 1.3231692 | F40: =[1]Лист2!$K$13 -> 0.394 | G40: =SUM(G41:G49) -> 0.0546 | H40: =0.6-F40 -> 0.206 | I40: =SUM(I41:I49) -> 1.2685691 | J40: =1.088-H40-F40 -> 0.488 | K40: =[3]Лист2!L13-I40-G40 -> 2.0122792e-16 | L40: =D40-F40-H40-J40 -> 2.212 | M40: =SUM(M41:M49) -> 0 | N40: =E40 -> 1.3231692 | O40: =M40 -> 0 | R40: =D40-G40-I40-K40-M40 -> 1.9768309 | S40: =E40-D40 -> -1.9768309 | T40: =IF(D40>0,E40/D40*100-100,0) -> -59.903965
B41: ВЛ 0,4 кВ от ТП 427 (реконструкция необслуживаемых ведомственных сетей) | D41: 0.4 | E41: =G41+I41+K41+M41 -> 0 | L41: =D41-F41-H41-J41 -> 0.4 | N41: =E41 -> 0 | O41: =M41 -> 0 | R41: =D41-G41-I41-K41-M41 -> 0.4 | S41: =E41-D41 -> -0.4 | T41: =IF(D41>0,E41/D41*100-100,0) -> -100
B42: ВЛ 0,4 кВ от КТП 606 (реконструкция необслуживаемых ведомственных сетей) | D42: 0.8 | E42: =G42+I42+K42+M42 -> 0 | L42: =D42-F42-H42-J42 -> 0.8 | N42: =E42 -> 0 | O42: =M42 -> 0 | R42: =D42-G42-I42-K42-M42 -> 0.8 | S42: =E42-D42 -> -0.8 | T42: =IF(D42>0,E42/D42*100-100,0) -> -100
B43: ВЛ 0,4 кВ от ТП 64 (Сокол), Л-1 (разделение вывода) | D43: 0.4 | E43: =G43+I43+K43+M43 -> 0 | L43: =D43-F43-H43-J43 -> 0.4 | N43: =E43 -> 0 | O43: =M43 -> 0 | R43: =D43-G43-I43-K43-M43 -> 0.4 | S43: =E43-D43 -> -0.4 | T43: =IF(D43>0,E43/D43*100-100,0) -> -100
B44: ВЛ 0,4 кВ от ТП 64 (Сокол), Л-2 (разделение вывода) | D44: 0.4 | E44: =G44+I44+K44+M44 -> 0 | L44: =D44-F44-H44-J44 -> 0.4 | N44: =E44 -> 0 | O44: =M44 -> 0 | R44: =D44-G44-I44-K44-M44 -> 0.4 | S44: =E44-D44 -> -0.4 | T44: =IF(D44>0,E44/D44*100-100,0) -> -100
...

Sheet 6.1
U1: Приложение № 6.1 к Приказу Минэнерго России от 24.03.2010 № 114
A2: Отчет об исполнении инвестиционной программы ГП ВО "Областные электротеплосети" за 2014 год, млн. рублей с НДС
W3: Утверждаю
U4: Директор ГП ВО "Областные электротеплосети"
U5: _________________А.А. Елисеев
U6: "____"______________20 года
W8: М.П.
A10: № | B10: Наименование объекта | C10: Остаток стоимости на начало года * | D10: Объем финансирования [отчетный год] | N10: Освоено (закрыто актами выполненных работ), млн. рублей | P10: Введено (оформлено актами ввода в эксплуатацию), млн. рублей | R10: Осталось профинанси- ровать по результатам отчетного периода * | S10: Отклонение *** | W10: Причины отклонений
S11: млн. рублей | T11: % | U11: в том числе за счет
D12: план ** | E12: факт *** | F12: план | G12: факт | H12: план | I12: факт | J12: план | K12: факт | L12: план | M12: факт | U12: уточнения стоимости по результатам утвержденной ПСД | V12: уточнения стоимости по результатам закупочных процедур
B13: ВСЕГО | D13: 118.15677 | E13: 130.55648 | F13: 4.7023 | G13: 20.599378 | H13: 2.75058 | I13: 54.021009 | J13: 16.1896 | K13: 3.2963601 | L13: 94.514295 | M13: 52.639732 | N13: 130.55648 | O13: 52.639732 | P13: 116.71317 | Q13: 38.796425 | R13: -12.399704 | S13: 12.399704 | T13: 10.494281
A14: 1 | B14: ПИР | D14: 1.77 | E14: 0 | F14: 0 | G14: 0 | H14: 0 | I14: 0 | J14: 0.26196 | K14: 0 | L14: 1.50804 | M14: 0 | N14: 0 | O14: 0 | P14: 0 | Q14: 0 | R14: 1.77 | S14: -1.77 | T14: -100
A15: 2 | B15: Реконструкция | D15: 74.6114 | E15: 3.5829517 | F15: 4.68342 | G15: 1.399008 | H15: 2.04258 | I15: 1.7634672 | J15: 11.04008 | K15: 0.14936854 | L15: 56.84532 | M15: 0.2711079 | N15: 3.5829517 | O15: 0.2711079 | P15: 3.7157369 | Q15: 0.40389313 | R15: 71.028448 | S15: -71.028448 | T15: -95.19785
A16: 2.1 | B16: КЛ 0,4 кВ | D16: 4.4014 | E16: 0.4165471 | F16: 0.3245 | G16: 0 | H16: 0.2655 | I16: 0.26717856 | J16: 0.65136 | K16: 0.14936854 | L16: 3.16004 | M16: 0 | N16: 0.4165471 | O16: 0 | P16: 0.4165471 | Q16: 0 | R16: 3.9848529 | S16: -3.9848529 | T16: -90.536032
B17: КЛ 0,4 кВ ТП 106 - Козленская, 127; Козленская, 127-А | D17: 0.826 | E17: 0 | F17: 0 | G17: 0 | H17: 0 | I17: 0 | J17: 0 | K17: 0 | L17: 0.826 | M17: 0 | N17: 0 | O17: 0 | P17: 0 | Q17: 0 | R17: 0.826 | S17: -0.826 | T17: -100
B18: КЛ 0,4 кВ ТП 367 - Герцена, 94; Яшина, 20 | D18: 0.649 | E18: 0 | F18: 0 | G18: 0 | H18: 0 | I18: 0 | J18: 0 | K18: 0 | L18: 0.649 | M18: 0 | N18: 0 | O18: 0 | P18: 0 | Q18: 0 | R18: 0.649 | S18: -0.649 | T18: -100
B19: КЛ 0,4 кВ ТП 367 - Ветошкина, 99; Ветошкина, 99-А | D19: 0.59 | E19: 0 | F19: 0 | G19: 0 | H19: 0 | I19: 0 | J19: 0 | K19: 0 | L19: 0.59 | M19: 0 | N19: 0 | O19: 0 | P19: 0 | Q19: 0 | R19: 0.59 | S19: -0.59 | T19: -100
B20: КЛ 0,4 кВ ТП 533 - 1 мкр. ПЗ, 9 | D20: 0.177 | E20: 0 | F20: 0 | G20: 0 | H20: 0 | I20: 0 | J20: 0 | K20: 0 | L20: 0.177 | M20: 0 | N20: 0 | O20: 0 | P20: 0 | Q20: 0 | R20: 0.177 | S20: -0.177 | T20: -100
B21: КЛ 0,4 кВ ТП 533 - 1 мкр. ПЗ, 10 (корп.2) | D21: 0.295 | E21: 0 | F21: 0 | G21: 0 | H21: 0 | I21: 0 | J21: 0 | K21: 0 | L21: 0.295 | M21: 0 | N21: 0 | O21: 0 | P21: 0 | Q21: 0 | R21: 0.295 | S21: -0.295 | T21: -100
B22: КЛ 0,4 кВ ТП 534 - 1 мкр. ПЗ, 21 | D22: 0.1652 | E22: 0 | F22: 0 | G22: 0 | H22: 0 | I22: 0 | J22: 0 | K22: 0 | L22: 0.1652 | M22: 0 | N22: 0 | O22: 0 | P22: 0 | Q22: 0 | R22: 0.1652 | S22: -0.1652 | T22: -100
B23: КЛ 0,4 кВ ТП 534 - 1 мкр. ПЗ, 23 | D23: 0.1652 | E23: 0 | F23: 0 | G23: 0 | H23: 0 | I23: 0 | J23: 0 | K23: 0 | L23: 0.1652 | M23: 0 | N23: 0 | O23: 0 | P23: 0 | Q23: 0 | R23: 0.1652 | S23: -0.1652 | T23: -100
B24: КЛ 0,4 кВ ТП 466 - шк. Поповича, 26-А | D24: 0.531 | E24: 0 | F24: 0 | G24: 0 | H24: 0 | I24: 0 | J24: 0 | K24: 0 | L24: 0.531 | M24: 0 | N24: 0 | O24: 0 | P24: 0 | Q24: 0 | R24: 0.531 | S24: -0.531 | T24: -100
B25: КЛ 0,4 кВ ТП 422 - Советский пр., 131 | D25: 0.295 | E25: 0 | F25: 0 | G25: 0 | H25: 0 | I25: 0 | J25: 0 | K25: 0 | L25: 0.295 | M25: 0 | N25: 0 | O25: 0 | P25: 0 | Q25: 0 | R25: 0.295 | S25: -0.295 | T25: -100
B26: КЛ 0,4 кВ ТП 18, опора Л-4 (Сокол) - Некрасова, 41 | D26: 0.0944 | E26: 0 | F26: 0 | G26: 0 | H26: 0 | I26: 0 | J26: 0 | K26: 0 | L26: 0.0944 | M26: 0 | N26: 0 | O26: 0 | P26: 0 | Q26: 0 | R26: 0.0944 | S26: -0.0944 | T26: -100
B27: КЛ 0,4 кВ ТП 48 (Сокол) - Кирова, 38 | D27: 0.2006 | E27: 0 | F27: 0 | G27: 0 | H27: 0 | I27: 0 | J27: 0 | K27: 0 | L27: 0.2006 | M27: 0 | N27: 0 | O27: 0 | P27: 0 | Q27: 0 | R27: 0.2006 | S27: -0.2006 | T27: -100
B28: КЛ 0,4 кВ ТП 48 (Сокол) - Советская, 55 | D28: 0.1652 | E28: 0 | F28: 0 | G28: 0 | H28: 0 | I28: 0 | J28: 0 | K28: 0 | L28: 0.1652 | M28: 0 | N28: 0 | O28: 0 | P28: 0 | Q28: 0 | R28: 0.1652 | S28: -0.1652 | T28: -100
... B30: КЛ 0,4 кВ от ТП 67 с переводом на РТП 7 (г. Сокол) | D30: 0 | E30: 0.4165471 | F30: 0 | G30: 0 | H30: 0 | I30: 0.26717856 | J30: 0 | K30: 0.14936854 | L30: 0 | M30: 0 | N30: 0.4165471 | O30: 0 | P30: 0.4165471 | Q30: 0 | R30: -0.4165471 | S30: 0.4165471 | T30: 0
A31: 2.2 | B31: КЛ 6-10 кВ | D31: 19.824 | E31: 1.0203669 | F31: 0.96288 | G31: 0.74989 | H31: 0.21712 | I31: -0.0006309814 | J31: 2.93348 | K31: 0 | L31: 15.71052 | M31: 0.2711079 | N31: 1.0203669 | O31: 0.2711079 | P31: 1.1531521 | Q31: 0.40389313 | R31: 18.803633 | S31: -18.803633 | T31: -94.852871
B32: КЛ 6 кВ "ГПП-2 - 1 мкр. ПЗ | D32: 8.85 | E32: 0 | F32: 0 | G32: 0 | H32: 0 | I32: 0 | J32: 0 | K32: 0 | L32: 8.85 | M32: 0 | N32: 0 | O32: 0 | P32: 0 | Q32: 0 | R32: 8.85 | S32: -8.85 | T32: -100
B33: КЛ 6 кВ "ГПП, яч.59 - ВЛ 6 кВ (Л-6)" (Сокол) | D33: 0.944 | E33: 0 | F33: 0 | G33: 0 | H33: 0 | I33: 0 | J33: 0 | K33: 0 | L33: 0.944 | M33: 0 | N33: 0 | O33: 0 | P33: 0 | Q33: 0 | R33: 0.944 | S33: -0.944 | T33: -100
B34: КЛ 6 кВ "ТП 10 - ТП 11" (Сокол) | D34: 0.708 | E34: 0 | F34: 0 | G34: 0 | H34: 0 | I34: 0 | J34: 0 | K34: 0 | L34: 0.708 | M34: 0 | N34: 0 | O34: 0 | P34: 0 | Q34: 0 | R34: 0.708 | S34: -0.708 | T34: -100
B35: КЛ 10 кВ ПС "Центральная" - РП 10кВ "Разинский" | D35: 5.782 | E35: 0 | F35: 0 | G35: 0 | H35: 0 | I35: 0 | J35: 0 | K35: 0 | L35: 5.782 | M35: 0 | N35: 0 | O35: 0 | P35: 0 | Q35: 0 | R35: 5.782 | S35: -5.782 | T35: -100
B36: КЛ 10 кВ ПС "Воcточная" - ТП 561 | D36: 3.54 | E36: 0 | F36: 0 | G36: 0 | H36: 0 | I36: 0 | J36: 0 | K36: 0 | L36: 3.54 | M36: 0 | N36: 0 | O36: 0 | P36: 0 | Q36: 0 | R36: 3.54 | S36: -3.54 | T36: -100
B37: КЛ 6 кВ ТП1-ТП33 (г.Сокол) | D37: 0 | E37: 0.31731407 | F37: 0 | G37: 0.317302 | H37: 0 | I37: 1.20714e-05 | J37: 0 | K37: 0 | L37: 0 | M37: 0 | N37: 0.31731407 | O37: 0 | P37: 1.1531521 | Q37: 0.83583807 | R37: -0.31731407 | S37: 0.31731407 | T37: 0
B38: КЛ 10 кВ ТП374-ТП64 | D38: 0 | E38: 0.43194495 | F38: 0 | G38: 0.432588 | H38: 0 | I38: -0.0006430528 | J38: 0 | K38: 0 | L38: 0 | M38: 0 | N38: 0.43194495 | O38: 0 | P38: 0 | Q38: -0.43194495 | R38: -0.43194495 | S38: 0.43194495 | T38: 0
B39: Вынос КЛ 10 кВ "РП27-ТП682" пл.Федулова (ТП-9/2711 ЗАО Мост-продукт) | D39: 0 | E39: 0.23780476 | F39: 0 | G39: 0 | H39: 0 | I39: 0 | J39: 0 | K39: 0 | L39: 0 | M39: 0.23780476 | N39: 0.23780476 | O39: 0.23780476 | P39: 0 | Q39: 0 | R39: -0.23780476 | S39: 0.23780476 | T39: 0
B40: Реконструкция КЛ-6 кВ РП ТЭЦ-РП23 | D40: 0 | E40: 0.03330314 | F40: 0 | G40: 0 | H40: 0 | I40: 0 | J40: 0 | K40: 0 | L40: 0 | M40: 0.03330314 | N40: 0.03330314 | O40: 0.03330314 | P40: 0 | Q40: 0 | R40: -0.03330314 | S40: 0.03330314 | T40: 0
A41: 2.3 | B41: ВЛ 0,4 кВ | D41: 3.894 | E41: 1.5613396 | F41: 0.46492 | G41: 0.064428 | H41: 0.24308 | I41: 1.4969116 | J41: 0.57584 | K41: 2.3744895e-16 | L41: 2.61016 | M41: 0 | N41: 1.5613396 | O41: 0 | P41: 1.5613396 | Q41: 0 | R41: 2.3326604 | S41: -2.3326604 | T41: -59.903965
B42: ВЛ 0,4 кВ от ТП 427 (реконструкция необслуживаемых ведомственных сетей) | D42: 0.472 | E42: 0 | F42: 0 | G42: 0 | H42: 0 | I42: 0 | J42: 0 | K42: 0 | L42: 0.472 | M42: 0 | N42: 0 | O42: 0 | P42: 0 | Q42: 0 | R42: 0.472 | S42: -0.472 | T42: -100
B43: ВЛ 0,4 кВ от КТП 606 (реконструкция необслуживаемых ведомственных сетей) | D43: 0.944 | E43: 0 | F43: 0 | G43: 0 | H43: 0 | I43: 0 | J43: 0 | K43: 0 | L43: 0.944 | M43: 0 | N43: 0 | O43: 0 | P43: 0 | Q43: 0 | R43: 0.944 | S43: -0.944 | T43: -100
...

Sheet 6.2
EY1: Приложение № 6.2
EY2: к Приказу Минэнерго России
EY3: от 24.03.2010 № 114
A4: Отчет об источниках финансирования инвестиционных программ ГП ВО "Облстные электротеплосети" за 2014 год, млн. рублей с НДС
AP5: Утверждаю Директор ГП ВО "Областные электротеплосети"
AZ6: ________________А.А. Елисеев
AZ7: "____"______________20 года
EY8: М.П.
A10: № | G10: Источник финансирования | AO10: Объем финансирования [отчетный год] | EA10: Причины отклонений
AO11: всего | BG11: I кв. | BY11: II кв. | CQ11: III кв. | DI11: IV кв.
AO12: план * | AX12: факт ** | BG12: план | BP12: факт | BY12: план | CH12: факт | CQ12: план | CZ12: факт | DI12: план | DR12: факт
A13: 1 | G13: Собственные средства | AO13: 118.15677 | AX13: 130.55648 | BG13: 4.7023 | BP13: 20.599378 | BY13: 2.75058 | CH13: 54.021009 | CQ13: 16.1896 | CZ13: 3.2963601 | DI13: 94.514295 | DR13: 52.639732
A14: 1.1. | G14: Прибыль, направляемая на инвестиции: | AO14: 0 | AX14: 0 | BG14: 0 | BP14: 0 | BY14: 0 | CH14: 0
A15: 1.1.1. | G15: в т.ч. инвестиционная составляющая в тарифе | AO15: 0 | AX15: 0
A16: 1.1.2. | G16: в т.ч. прибыль со свободного сектора | AO16: 0 | AX16: 0
A17: 1.1.3. | G17: в т.ч. выпадающие доходы в тарифе | AO17: 7.20486 | AX17: 5.543 | DI17: 7.20486 | DR17: 5.543
A18: 1.1.3.1. | G18: в т.ч. от технологического присоединения генерации | AO18: 0 | AX18: 0
A19: 1.1.3.2. | G19: в т.ч. от технологического присоединения потребителей | AO19: 0 | AX19: 0
A20: 1.1.4. | G20: Прочая прибыль | AO20: 0 | AX20: 0
A21: 1.2. | G21: Амортизация | AO21: 92.928 | AX21: 84.473792 | BG21: 3.985 | BP21: 16.5441 | BY21: 2.331 | CH21: 41.615788 | CQ21: 13.72 | CZ21: -7.6518963 | DI21: 72.892 | DR21: 33.965801
A22: 1.2.1. | G22: Амортизация, учтенная в тарифе | AO22: 92.928 | AX22: 84.473792 | BG22: 3.985 | BP22: 16.5441 | BY22: 2.331 | CH22: 41.615788 | CQ22: 13.72 | CZ22: -7.6518963 | DI22: 72.892 | DR22: 33.965801
A23: 1.2.2. | G23: Прочая амортизация | AO23: 0 | AX23: 0
A24: 1.2.3. | G24: Недоиспользованная амортизация прошлых лет | AO24: 0 | AX24: 0
A25: 1.3. | G25: Возврат НДС | AO25: 18.023915 | AX25: 19.915395 | BG25: 0.7173 | BP25: 3.142278 | BY25: 0.41958 | CH25: 8.2404929 | CQ25: 2.4696 | CZ25: 0.5028346 | DI25: 14.417435 | DR25: 8.0297896
A26: 1.4. | G26: Прочие собственные средства (плата за технологическое присоединение потребителей) | AO26: 0 | AX26: 20.624292 | BG26: 0 | BP26: 0.913 | BY26: 0 | CH26: 4.1647288 | CQ26: 0 | CZ26: 10.445422 | DR26: 5.1011411
A27: 1.4.1. | G27: в т.ч. средства допэмиссии
A28: 1.5. | G28: Остаток собственных средств на начало года
A29: 2. | G29: Привлеченные средства, в т.ч.:
A30: 2.1. | G30: Кредиты
A31: 2.2. | G31: Облигационные займы
A32: 2.3. | G32: Займы организаций
A33: 2.4. | G33: Бюджетное финансирование
A34: 2.5. | G34: Средства внешних инвесторов
A35: 2.6. | G35: Использование лизинга
A36: 2.7. | G36: Прочие привлеченные средства
G37: ВСЕГО источников финансирования
G38: для ОГК/ТГК, в том числе
G39: ДПМ
G40: вне ДПМ
B42: Панько Д.М.
...

Sheet 6.3
BF1: Приложение № 6.3 к Приказу Минэнерго России от 24.03.2010 № 114
A3: Отчет о вводах/выводах объектов за 2014 год
BF4: Утверждаю Директор ГП ВО "Областные электротеплосети"
BF5: ________________А.А. Елисеев
BF6: "____"______________20 года
FI8: М.П.
A11: № | F11: Наименование проекта | Z11: Ввод мощностей | CR11: Вывод мощностей
Z12: план * | BI12: факт | CR12: план * | EA12: факт
Z13: МВт, Гкал/час, км, МВА | BI13: МВт, Гкал/час, км, МВА | CR13: МВт, Гкал/час, км, МВА | EA13: МВт, Гкал/час, км, МВА
Z14: I кв. | AG14: II кв. | AN14: III кв. | AU14: IV кв. | BB14: 2014 г. | BI14: I кв. | BP14: II кв. | BW14: III кв. | CD14: IV кв. | CK14: 2014 г. | CR14: I кв. | CY14: II кв. | DF14: III кв. | DM14: IV кв. | DT14: 2014 г. | EA14: I кв. | EH14: II кв. | EO14: III кв. | EV14: IV кв. | FC14: 2014 г.
A15: 1 | F15: 2 | Z15: 3 | AG15: 4 | AN15: 5 | AU15: 6 | BB15: 3 | BI15: 8 | BP15: 9 | BW15: 10 | CD15: 11 | CK15: 4 | CR15: 5 | CY15: 14 | DF15: 15 | DM15: 16 | DT15: 5 | EA15: 18 | EH15: 19 | EO15: 20 | EV15: 21 | FC15: 6
A16: 1 | F16: Реконструкция | Z16: 0.83696441 | AG16: 0.52837997 | AN16: 1.5772466 | AU16: 7.717409 | BB16: 10.66 | BI16: 0.9 | BP16: 3.5 | BW16: 0 | CD16: 0.26 | CK16: 4.66 | CR16: 0.57224863 | CY16: 0.42133841 | DF16: 0.89834901 | DM16: 4.180064 | DT16: 6.072 | EA16: 0 | EH16: 0 | EO16: 0 | EV16: 0 | FC16: 0
A17: 1.1. | F17: КЛ 0,4 кВ | Z17: 0.17546917 | AG17: 0.14356568 | AN17: 0.35221448 | AU17: 1.7087507 | BB17: 2.38 | BI17: 0 | BP17: 0 | BW17: 0 | CD17: 0 | CK17: 0 | CR17: 0.11294906 | CY17: 0.092412869 | DF17: 0.22671957 | DM17: 1.0999185 | DT17: 1.532 | EA17: 0 | EH17: 0 | EO17: 0 | EV17: 0 | FC17: 0
A18: 1.2. | F18: КЛ 6-10 кВ | Z18: 0.20642857 | AG18: 0.046547619 | AN18: 0.62889881 | AU18: 3.368125 | BB18: 4.25 | BI18: 0.85 | BP18: 0 | BW18: 0 | CD18: 0.26 | CK18: 1.11 | CR18: 0.038857143 | CY18: 0.0087619048 | DF18: 0.11838095 | DM18: 0.634 | DT18: 0.8 | EA18: 0 | EH18: 0 | EO18: 0 | EV18: 0 | FC18: 0
A19: 1.3. | F19: ВЛ 0,4 кВ | Z19: 0.30206667 | AG19: 0.15793333 | AN19: 0.37413333 | AU19: 1.6958667 | BB19: 2.53 | BI19: 0.05 | BP19: 3.27 | BW19: 0 | CD19: 0 | CK19: 3.32 | CR19: 0.26744242 | CY19: 0.1398303 | DF19: 0.33124848 | DM19: 1.5014788 | DT19: 2.24 | EA19: 0 | EH19: 0 | EO19: 0 | EV19: 0 | FC19: 0
A20: 1.4. | F20: ВЛ 6-10 кВ | Z20: 0.153 | AG20: 0.18033333 | AN20: 0.222 | AU20: 0.94466667 | BB20: 1.5 | BI20: 0 | BP20: 0.23 | BW20: 0 | CD20: 0 | CK20: 0.23 | CR20: 0.153 | CY20: 0.18033333 | DF20: 0.222 | DM20: 0.94466667 | DT20: 1.5 | EA20: 0 | EH20: 0 | EO20: 0 | EV20: 0 | FC20: 0
A21: 2 | F21: Технологическое присоединение | Z21: 0 | AG21: 0 | AN21: 0 | AU21: 0 | BB21: 0 | BI21: 0,42/4,1 | BP21: 3,51/16,01 | BW21: 7,17/8,76 | CD21: 3,4/8,63 | CK21: 14,5/37,5 | CR21: 0 | CY21: 0 | DF21: 0 | DM21: 0 | DT21: 0 | EA21: 0 | EH21: 0 | EO21: 0 | EV21: 0 | FC21: 0
A28: Белоусов С.Н.
A29: 88712-54-00-24

Sheet 7.1
U1: Приложение № 7.1 к Приказу Минэнерго России от 24.03.2010 № 114
A2: Отчет об исполнении инвестиционной программы ГП ВО "Областные электротеплосети" за 2014 год, млн. рублей с НДС
W3: Утверждаю
U4: Директор ГП ВО "Областные электротеплосети"
U5: _________________А.А. Елисеев
U6: "____"______________20 года
W8: М.П.
A10: № | B10: Наименование объекта | C10: Остаток стоимости на начало года * | D10: Объем финансирования [отчетный год] | N10: Освоено (закрыто актами выполненных работ), млн. рублей | P10: Введено (оформлено актами ввода в эксплуатацию), млн. рублей | R10: Осталось профинанси- ровать по результатам отчетного периода * | S10: Отклонение *** | W10: Причины отклонений
D11: всего | F11: I кв. | H11: II кв. | J11: III кв. | L11: IV кв. | S11: млн. рублей | T11: % | U11: в том числе за счет
D12: план ** | E12: факт *** | F12: план | G12: факт | H12: план | I12: факт | J12: план | K12: факт | L12: план | M12: факт | N12: всего | O12: за отчетный квартал | P12: всего | Q12: за отчетный квартал | U12: уточнения стоимости по результатам утвержденной ПСД | V12: уточнения стоимости по результатам закупочных процедур
B13: ВСЕГО | D13: 118.15677 | E13: 130.55648 | F13: 4.7023 | G13: 20.599378 | H13: 2.75058 | I13: 54.021009 | J13: 16.1896 | K13: 3.2963601 | L13: 94.514295 | M13: 52.639732 | N13: 130.55648 | O13: 52.639732 | P13: 116.71317 | Q13: 38.796425 | R13: -12.399704 | S13: 12.399704 | T13: 10.494281
A14: 1 | B14: ПИР | D14: 1.77 | E14: 0 | F14: 0 | G14: 0 | H14: 0 | I14: 0 | J14: 0.26196 | K14: 0 | L14: 1.50804 | M14: 0 | N14: 0 | O14: 0 | P14: 0 | Q14: 0 | R14: 1.77 | S14: -1.77 | T14: -100
A15: 2 | B15: Реконструкция | D15: 74.6114 | E15: 3.5829517 | F15: 4.68342 | G15: 1.399008 | H15: 2.04258 | I15: 1.7634672 | J15: 11.04008 | K15: 0.14936854 | L15: 56.84532 | M15: 0.2711079 | N15: 3.5829517 | O15: 0.2711079 | P15: 3.7157369 | Q15: 0.40389313 | R15: 71.028448 | S15: -71.028448 | T15: -95.19785
A16: 2.1 | B16: КЛ 0,4 кВ | D16: 4.4014 | E16: 0.4165471 | F16: 0.3245 | G16: 0 | H16: 0.2655 | I16: 0.26717856 | J16: 0.65136 | K16: 0.14936854 | L16: 3.16004 | M16: 0 | N16: 0.4165471 | O16: 0 | P16: 0.4165471 | Q16: 0 | R16: 3.9848529 | S16: -3.9848529 | T16: -90.536032
B17: КЛ 0,4 кВ ТП 106 - Козленская, 127; Козленская, 127-А | D17: 0.826 | E17: 0 | F17: 0 | G17: 0 | H17: 0 | I17: 0 | J17: 0 | K17: 0 | L17: 0.826 | M17: 0 | N17: 0 | O17: 0 | P17: 0 | Q17: 0 | R17: 0.826 | S17: -0.826 | T17: -100
B18: КЛ 0,4 кВ ТП 367 - Герцена, 94; Яшина, 20 | D18: 0.649 | E18: 0 | F18: 0 | G18: 0 | H18: 0 | I18: 0 | J18: 0 | K18: 0 | L18: 0.649 | M18: 0 | N18: 0 | O18: 0 | P18: 0 | Q18: 0 | R18: 0.649 | S18: -0.649 | T18: -100
B19: КЛ 0,4 кВ ТП 367 - Ветошкина, 99; Ветошкина, 99-А | D19: 0.59 | E19: 0 | F19: 0 | G19: 0 | H19: 0 | I19: 0 | J19: 0 | K19: 0 | L19: 0.59 | M19: 0 | N19: 0 | O19: 0 | P19: 0 | Q19: 0 | R19: 0.59 | S19: -0.59 | T19: -100
B20: КЛ 0,4 кВ ТП 533 - 1 мкр. ПЗ, 9 | D20: 0.177 | E20: 0 | F20: 0 | G20: 0 | H20: 0 | I20: 0 | J20: 0 | K20: 0 | L20: 0.177 | M20: 0 | N20: 0 | O20: 0 | P20: 0 | Q20: 0 | R20: 0.177 | S20: -0.177 | T20: -100
B21: КЛ 0,4 кВ ТП 533 - 1 мкр. ПЗ, 10 (корп.2) | D21: 0.295 | E21: 0 | F21: 0 | G21: 0 | H21: 0 | I21: 0 | J21: 0 | K21: 0 | L21: 0.295 | M21: 0 | N21: 0 | O21: 0 | P21: 0 | Q21: 0 | R21: 0.295 | S21: -0.295 | T21: -100
B22: КЛ 0,4 кВ ТП 534 - 1 мкр. ПЗ, 21 | D22: 0.1652 | E22: 0 | F22: 0 | G22: 0 | H22: 0 | I22: 0 | J22: 0 | K22: 0 | L22: 0.1652 | M22: 0 | N22: 0 | O22: 0 | P22: 0 | Q22: 0 | R22: 0.1652 | S22: -0.1652 | T22: -100
B23: КЛ 0,4 кВ ТП 534 - 1 мкр. ПЗ, 23 | D23: 0.1652 | E23: 0 | F23: 0 | G23: 0 | H23: 0 | I23: 0 | J23: 0 | K23: 0 | L23: 0.1652 | M23: 0 | N23: 0 | O23: 0 | P23: 0 | Q23: 0 | R23: 0.1652 | S23: -0.1652 | T23: -100
B24: КЛ 0,4 кВ ТП 466 - шк. Поповича, 26-А | D24: 0.531 | E24: 0 | F24: 0 | G24: 0 | H24: 0 | I24: 0 | J24: 0 | K24: 0 | L24: 0.531 | M24: 0 | N24: 0 | O24: 0 | P24: 0 | Q24: 0 | R24: 0.531 | S24: -0.531 | T24: -100
B25: КЛ 0,4 кВ ТП 422 - Советский пр., 131 | D25: 0.295 | E25: 0 | F25: 0 | G25: 0 | H25: 0 | I25: 0 | J25: 0 | K25: 0 | L25: 0.295 | M25: 0 | N25: 0 | O25: 0 | P25: 0 | Q25: 0 | R25: 0.295 | S25: -0.295 | T25: -100
B26: КЛ 0,4 кВ ТП 18, опора Л-4 (Сокол) - Некрасова, 41 | D26: 0.0944 | E26: 0 | F26: 0 | G26: 0 | H26: 0 | I26: 0 | J26: 0 | K26: 0 | L26: 0.0944 | M26: 0 | N26: 0 | O26: 0 | P26: 0 | Q26: 0 | R26: 0.0944 | S26: -0.0944 | T26: -100
B27: КЛ 0,4 кВ ТП 48 (Сокол) - Кирова, 38 | D27: 0.2006 | E27: 0 | F27: 0 | G27: 0 | H27: 0 | I27: 0 | J27: 0 | K27: 0 | L27: 0.2006 | M27: 0 | N27: 0 | O27: 0 | P27: 0 | Q27: 0 | R27: 0.2006 | S27: -0.2006 | T27: -100
B28: КЛ 0,4 кВ ТП 48 (Сокол) - Советская, 55 | D28: 0.1652 | E28: 0 | F28: 0 | G28: 0 | H28: 0 | I28: 0 | J28: 0 | K28: 0 | L28: 0.1652 | M28: 0 | N28: 0 | O28: 0 | P28: 0 | Q28: 0 | R28: 0.1652 | S28: -0.1652 | T28: -100
... B30: КЛ 0,4 кВ от ТП 67 с переводом на РТП 7 (г. Сокол) | D30: 0 | E30: 0.4165471 | F30: 0 | G30: 0 | H30: 0 | I30: 0.26717856 | J30: 0 | K30: 0.14936854 | L30: 0 | M30: 0 | N30: 0.4165471 | O30: 0 | P30: 0.4165471 | Q30: 0 | R30: -0.4165471 | S30: 0.4165471 | T30: 0
A31: 2.2 | B31: КЛ 6-10 кВ | D31: 19.824 | E31: 1.0203669 | F31: 0.96288 | G31: 0.74989 | H31: 0.21712 | I31: -0.0006309814 | J31: 2.93348 | K31: 0 | L31: 15.71052 | M31: 0.2711079 | N31: 1.0203669 | O31: 0.2711079 | P31: 1.1531521 | Q31: 0.40389313 | R31: 18.803633 | S31: -18.803633 | T31: -94.852871
B32: КЛ 6 кВ "ГПП-2 - 1 мкр. ПЗ | D32: 8.85 | E32: 0 | F32: 0 | G32: 0 | H32: 0 | I32: 0 | J32: 0 | K32: 0 | L32: 8.85 | M32: 0 | N32: 0 | O32: 0 | P32: 0 | Q32: 0 | R32: 8.85 | S32: -8.85 | T32: -100
B33: КЛ 6 кВ "ГПП, яч.59 - ВЛ 6 кВ (Л-6)" (Сокол) | D33: 0.944 | E33: 0 | F33: 0 | G33: 0 | H33: 0 | I33: 0 | J33: 0 | K33: 0 | L33: 0.944 | M33: 0 | N33: 0 | O33: 0 | P33: 0 | Q33: 0 | R33: 0.944 | S33: -0.944 | T33: -100
B34: КЛ 6 кВ "ТП 10 - ТП 11" (Сокол) | D34: 0.708 | E34: 0 | F34: 0 | G34: 0 | H34: 0 | I34: 0 | J34: 0 | K34: 0 | L34: 0.708 | M34: 0 | N34: 0 | O34: 0 | P34: 0 | Q34: 0 | R34: 0.708 | S34: -0.708 | T34: -100
B35: КЛ 10 кВ ПС "Центральная" - РП 10кВ "Разинский" | D35: 5.782 | E35: 0 | F35: 0 | G35: 0 | H35: 0 | I35: 0 | J35: 0 | K35: 0 | L35: 5.782 | M35: 0 | N35: 0 | O35: 0 | P35: 0 | Q35: 0 | R35: 5.782 | S35: -5.782 | T35: -100
B36: КЛ 10 кВ ПС "Воcточная" - ТП 561 | D36: 3.54 | E36: 0 | F36: 0 | G36: 0 | H36: 0 | I36: 0 | J36: 0 | K36: 0 | L36: 3.54 | M36: 0 | N36: 0 | O36: 0 | P36: 0 | Q36: 0 | R36: 3.54 | S36: -3.54 | T36: -100
B37: КЛ 6 кВ ТП1-ТП33 (г.Сокол) | D37: 0 | E37: 0.31731407 | F37: 0 | G37: 0.317302 | H37: 0 | I37: 1.20714e-05 | J37: 0 | K37: 0 | L37: 0 | M37: 0 | N37: 0.31731407 | O37: 0 | P37: 1.1531521 | Q37: 0.83583807 | R37: -0.31731407 | S37: 0.31731407 | T37: 0
B38: КЛ 10 кВ ТП374-ТП64 | D38: 0 | E38: 0.43194495 | F38: 0 | G38: 0.432588 | H38: 0 | I38: -0.0006430528 | J38: 0 | K38: 0 | L38: 0 | M38: 0 | N38: 0.43194495 | O38: 0 | P38: 0 | Q38: -0.43194495 | R38: -0.43194495 | S38: 0.43194495 | T38: 0
B39: Вынос КЛ 10 кВ "РП27-ТП682" пл.Федулова (ТП-9/2711 ЗАО Мост-продукт) | D39: 0 | E39: 0.23780476 | F39: 0 | G39: 0 | H39: 0 | I39: 0 | J39: 0 | K39: 0 | L39: 0 | M39: 0.23780476 | N39: 0.23780476 | O39: 0.23780476 | P39: 0 | Q39: 0 | R39: -0.23780476 | S39: 0.23780476 | T39: 0
B40: Реконструкция КЛ-6 кВ РП ТЭЦ-РП23 | D40: 0 | E40: 0.03330314 | F40: 0 | G40: 0 | H40: 0 | I40: 0 | J40: 0 | K40: 0 | L40: 0 | M40: 0.03330314 | N40: 0.03330314 | O40: 0.03330314 | P40: 0 | Q40: 0 | R40: -0.03330314 | S40: 0.03330314 | T40: 0
A41: 2.3 | B41: ВЛ 0,4 кВ | D41: 3.894 | E41: 1.5613396 | F41: 0.46492 | G41: 0.064428 | H41: 0.24308 | I41: 1.4969116 | J41: 0.57584 | K41: 2.3744895e-16 | L41: 2.61016 | M41: 0 | N41: 1.5613396 | O41: 0 | P41: 1.5613396 | Q41: 0 | R41: 2.3326604 | S41: -2.3326604 | T41: -59.903965
B42: ВЛ 0,4 кВ от ТП 427 (реконструкция необслуживаемых ведомственных сетей) | D42: 0.472 | E42: 0 | F42: 0 | G42: 0 | H42: 0 | I42: 0 | J42: 0 | K42: 0 | L42: 0.472 | M42: 0 | N42: 0 | O42: 0 | P42: 0 | Q42: 0 | R42: 0.472 | S42: -0.472 | T42: -100
B43: ВЛ 0,4 кВ от КТП 606 (реконструкция необслуживаемых ведомственных сетей) | D43: 0.944 | E43: 0 | F43: 0 | G43: 0 | H43: 0 | I43: 0 | J43: 0 | K43: 0 | L43: 0.944 | M43: 0 | N43: 0 | O43: 0 | P43: 0 | Q43: 0 | R43: 0.944 | S43: -0.944 | T43: -100
...

Sheet 7.2
FU1: Приложение № 7.2 к Приказу Минэнерго России от 24.03.2010 № 114
A3: Отчет об исполнении основных этапов работ по реализации инвестиционной программы ГП ВО "Облстные электротеплосети" за 2014 год
FL4: Утверждаю Директор ГП ВО "Областные электротеплосети"
FR5: ________________А.А. Елисеев
FR6: "____"______________20 года
GS8: М.П.
A10: № | B10: Наименование объекта * | C10: Плановой объем финансирования, млн. руб. * | AA10: Фактически профинансировано, млн. руб. | AY10: Отклонение фактической стоимости работ по плановой стоимости, млн. руб. | CC10: Фактически освоено (закрыто актами выполненных работ), млн. руб. | DG10: Технические характеристики созданных объектов
DG11: генерирующие объекты | EG11: подстанции | FH11: линии электропередачи | GL11: иные объекты
B12: ВСЕГО | C12: всего | D12: ПИР | I12: СМР | N12: оборудо- вание и мате- риалы | U12: прочие | AA12: всего | AB12: ПИР | AG12: СМР | AL12: оборудо- вание и мате- риалы | AS12: прочие | AY12: всего | BF12: ПИР | BK12: СМР | BP12: оборудо- вание и мате- риалы | BW12: прочие | CC12: всего | CJ12: ПИР | CO12: СМР | CT12: оборудо- вание и мате- риалы | DA12: прочие | DG12: год ввода в эксплуа- тацию | DN12: норма- тивный срок службы, лет | DU12: мощ- ность, МВт | DZ12: тепловая энергия, Гкал/час | EG12: год ввода в эксплуа- тацию | EN12: норма- тивный срок службы, лет | EU12: коли- чество и марка силовых транс- формато- ров, шт. | FC12: мощ- ность, МВА | FH12: год ввода в эксплуа- тацию | FO12: норма- тивный срок службы, лет | FV12: тип опор | GA12: марка кабеля | GF12: протя- жен- ность, км
B13: ВСЕГО | C13: 118.15677 | D13: 10.741525 | I13: 48.336862 | N13: 53.707625 | U13: 5.3707625 | AA13: 130.55648 | AB13: 11.868771 | AG13: 53.409469 | AL13: 59.343854 | AS13: 5.9343854 | AY13: 12.399704 | BF13: 1.1272458 | BK13: 5.0726063 | BP13: 5.6362292 | BW13: 0.56362292 | CC13: 130.55648 | CJ13: 0 | CO13: 0 | CT13: 0 | DA13: 0 | DG13: − | DN13: − | DU13: − | DZ13: − | EG13: − | EN13: − | EU13: − | FC13: − | FH13: − | FO13: − | FV13: − | GA13: − | GF13: − | GL13: −
A14: 1 | B14: ПИР | C14: 1.77 | AA14: 0 | AB14: 0 | AG14: 0 | AL14: 0 | AS14: 0 | AY14: -1.77 | BF14: 0 | BK14: 0 | BP14: 0 | BW14: 0 | CC14: 0 | CJ14: 0 | CO14: 0 | CT14: 0 | DA14: 0 | DG14: − | DN14: − | DU14: − | DZ14: − | EG14: − | EN14: − | EU14: − | FC14: − | FH14: − | FO14: − | FV14: − | GA14: − | GF14: − | GL14: −
A15: 2 | B15: Реконструкция | C15: 74.6114 | D15: 6.7828545 | I15: 30.522845 | N15: 33.914273 | U15: 3.3914273 | AA15: 3.5829517 | AB15: 0.32572288 | AG15: 1.465753 | AL15: 1.6286144 | AS15: 0.16286144 | AY15: -71.028448 | BF15: -6.4571317 | BK15: -29.057092 | BP15: -32.285658 | BW15: -3.2285658 | CC15: 3.5829517 | CJ15: 0 | CO15: 0 | CT15: 0 | DA15: 0 | DG15: − | DN15: − | DU15: − | DZ15: − | EG15: − | EN15: − | EU15: − | FC15: − | FH15: − | FO15: − | FV15: − | GA15: − | GF15: − | GL15: −
A16: 2.1 | B16: КЛ 0,4 кВ | C16: 4.4014 | D16: 0.40012727 | I16: 1.8005727 | N16: 2.0006364 | U16: 0.20006364 | AA16: 0.4165471 | AB16: 0.037867919 | AG16: 0.17040563 | AL16: 0.18933959 | AS16: 0.018933959 | AY16: -3.9848529 | BF16: -0.36225935 | BK16: -1.6301671 | BP16: -1.8112968 | BW16: -0.18112968 | CC16: 0.4165471 | CJ16: 0 | CO16: 0 | CT16: 0 | DA16: 0 | DG16: − | DN16: − | DU16: − | DZ16: − | EG16: − | EN16: − | EU16: − | FC16: − | FH16: − | FO16: − | FV16: − | GA16: − | GF16: − | GL16: −
B17: КЛ 0,4 кВ ТП 106 - Козленская, 127; Козленская, 127-А | C17: 0.826 | D17: 0.075090909 | I17: 0.33790909 | N17: 0.37545455 | U17: 0.037545455 | AA17: 0 | AB17: 0 | AG17: 0 | AL17: 0 | AS17: 0 | AY17: -0.826 | BF17: -0.075090909 | BK17: -0.33790909 | BP17: -0.37545455 | BW17: -0.037545455 | CC17: 0 | CJ17: 0 | CO17: 0 | CT17: 0 | DA17: 0 | DG17: − | DN17: − | DU17: − | DZ17: − | EG17: − | EN17: − | EU17: − | FC17: − | FH17: − | FO17: − | FV17: − | GA17: − | GF17: − | GL17: −
B18: КЛ 0,4 кВ ТП 367 - Герцена, 94; Яшина, 20 | C18: 0.649 | D18: 0.059 | I18: 0.2655 | N18: 0.295 | U18: 0.0295 | AA18: 0 | AB18: 0 | AG18: 0 | AL18: 0 | AS18: 0 | AY18: -0.649 | BF18: -0.059 | BK18: -0.2655 | BP18: -0.295 | BW18: -0.0295 | CC18: 0 | CJ18: 0 | CO18: 0 | CT18: 0 | DA18: 0 | DG18: − | DN18: − | DU18: − | DZ18: − | EG18: − | EN18: − | EU18: − | FC18: − | FH18: − | FO18: − | FV18: − | GA18: − | GF18: − | GL18: −
B19: КЛ 0,4 кВ ТП 367 - Ветошкина, 99; Ветошкина, 99-А | C19: 0.59 | D19: 0.053636364 | I19: 0.24136364 | N19: 0.26818182 | U19: 0.026818182 | AA19: 0 | AB19: 0 | AG19: 0 | AL19: 0 | AS19: 0 | AY19: -0.59 | BF19: -0.053636364 | BK19: -0.24136364 | BP19: -0.26818182 | BW19: -0.026818182 | CC19: 0 | CJ19: 0 | CO19: 0 | CT19: 0 | DA19: 0 | DG19: − | DN19: − | DU19: − | DZ19: − | EG19: − | EN19: − | EU19: − | FC19: − | FH19: − | FO19: − | FV19: − | GA19: − | GF19: − | GL19: −
B20: КЛ 0,4 кВ ТП 533 - 1 мкр. ПЗ, 9 | C20: 0.177 | D20: 0.016090909 | I20: 0.072409091 | N20: 0.080454545 | U20: 0.0080454545 | AA20: 0 | AB20: 0 | AG20: 0 | AL20: 0 | AS20: 0 | AY20: -0.177 | BF20: -0.016090909 | BK20: -0.072409091 | BP20: -0.080454545 | BW20: -0.0080454545 | CC20: 0 | CJ20: 0 | CO20: 0 | CT20: 0 | DA20: 0 | DG20: − | DN20: − | DU20: − | DZ20: − | EG20: − | EN20: − | EU20: − | FC20: − | FH20: − | FO20: − | FV20: − | GA20: − | GF20: − | GL20: −
B21: КЛ 0,4 кВ ТП 533 - 1 мкр. ПЗ, 10 (корп.2) | C21: 0.295 | D21: 0.026818182 | I21: 0.12068182 | N21: 0.13409091 | U21: 0.013409091 | AA21: 0 | AB21: 0 | AG21: 0 | AL21: 0 | AS21: 0 | AY21: -0.295 | BF21: -0.026818182 | BK21: -0.12068182 | BP21: -0.13409091 | BW21: -0.013409091 | CC21: 0 | CJ21: 0 | CO21: 0 | CT21: 0 | DA21: 0 | DG21: − | DN21: − | DU21: − | DZ21: − | EG21: − | EN21: − | EU21: − | FC21: − | FH21: − | FO21: − | FV21: − | GA21: − | GF21: − | GL21: −
B22: КЛ 0,4 кВ ТП 534 - 1 мкр. ПЗ, 21 | C22: 0.1652 | D22: 0.015018182 | I22: 0.067581818 | N22: 0.075090909 | U22: 0.0075090909 | AA22: 0 | AB22: 0 | AG22: 0 | AL22: 0 | AS22: 0 | AY22: -0.1652 | BF22: -0.015018182 | BK22: -0.067581818 | BP22: -0.075090909 | BW22: -0.0075090909 | CC22: 0 | CJ22: 0 | CO22: 0 | CT22: 0 | DA22: 0 | DG22: − | DN22: − | DU22: − | DZ22: − | EG22: − | EN22: − | EU22: − | FC22: − | FH22: − | FO22: − | FV22: − | GA22: − | GF22: − | GL22: −
B23: КЛ 0,4 кВ ТП 534 - 1 мкр. ПЗ, 23 | C23: 0.1652 | D23: 0.015018182 | I23: 0.067581818 | N23: 0.075090909 | U23: 0.0075090909 | AA23: 0 | AB23: 0 | AG23: 0 | AL23: 0 | AS23: 0 | AY23: -0.1652 | BF23: -0.015018182 | BK23: -0.067581818 | BP23: -0.075090909 | BW23: -0.0075090909 | CC23: 0 | CJ23: 0 | CO23: 0 | CT23: 0 | DA23: 0 | DG23: − | DN23: − | DU23: − | DZ23: − | EG23: − | EN23: − | EU23: − | FC23: − | FH23: − | FO23: − | FV23: − | GA23: − | GF23: − | GL23: −
B24: КЛ 0,4 кВ ТП 466 - шк. Поповича, 26-А | C24: 0.531 | D24: 0.048272727 | I24: 0.21722727 | N24: 0.24136364 | U24: 0.024136364 | AA24: 0 | AB24: 0 | AG24: 0 | AL24: 0 | AS24: 0 | AY24: -0.531 | BF24: -0.048272727 | BK24: -0.21722727 | BP24: -0.24136364 | BW24: -0.024136364 | CC24: 0 | CJ24: 0 | CO24: 0 | CT24: 0 | DA24: 0 | DG24: − | DN24: − | DU24: − | DZ24: − | EG24: − | EN24: − | EU24: − | FC24: − | FH24: − | FO24: − | FV24: − | GA24: − | GF24: − | GL24: −
B25: КЛ 0,4 кВ ТП 422 - Советский пр., 131 | C25: 0.295 | D25: 0.026818182 | I25: 0.12068182 | N25: 0.13409091 | U25: 0.013409091 | AA25: 0 | AB25: 0 | AG25: 0 | AL25: 0 | AS25: 0 | AY25: -0.295 | BF25: -0.026818182 | BK25: -0.12068182 | BP25: -0.13409091 | BW25: -0.013409091 | CC25: 0 | CJ25: 0 | CO25: 0 | CT25: 0 | DA25: 0 | DG25: − | DN25: − | DU25: − | DZ25: − | EG25: − | EN25: − | EU25: − | FC25: − | FH25: − | FO25: − | FV25: − | GA25: − | GF25: − | GL25: −
B26: КЛ 0,4 кВ ТП 18, опора Л-4 (Сокол) - Некрасова, 41 | C26: 0.0944 | D26: 0.0085818182 | I26: 0.038618182 | N26: 0.042909091 | U26: 0.0042909091 | AA26: 0 | AB26: 0 | AG26: 0 | AL26: 0 | AS26: 0 | AY26: -0.0944 | BF26: -0.0085818182 | BK26: -0.038618182 | BP26: -0.042909091 | BW26: -0.0042909091 | CC26: 0 | CJ26: 0 | CO26: 0 | CT26: 0 | DA26: 0 | DG26: − | DN26: − | DU26: − | DZ26: − | EG26: − | EN26: − | EU26: − | FC26: − | FH26: − | FO26: − | FV26: − | GA26: − | GF26: − | GL26: −
B27: КЛ 0,4 кВ ТП 48 (Сокол) - Кирова, 38 | C27: 0.2006 | D27: 0.018236364 | I27: 0.082063636 | N27: 0.091181818 | U27: 0.0091181818 | AA27: 0 | AB27: 0 | AG27: 0 | AL27: 0 | AS27: 0 | AY27: -0.2006 | BF27: -0.018236364 | BK27: -0.082063636 | BP27: -0.091181818 | BW27: -0.0091181818 | CC27: 0 | CJ27: 0 | CO27: 0 | CT27: 0 | DA27: 0 | DG27: − | DN27: − | DU27: − | DZ27: − | EG27: − | EN27: − | EU27: − | FC27: − | FH27: − | FO27: − | FV27: − | GA27: − | GF27: − | GL27: −
B28: КЛ 0,4 кВ ТП 48 (Сокол) - Советская, 55 | C28: 0.1652 | D28: 0.015018182 | I28: 0.067581818 | N28: 0.075090909 | U28: 0.0075090909 | AA28: 0 | AB28: 0 | AG28: 0 | AL28: 0 | AS28: 0 | AY28: -0.1652 | BF28: -0.015018182 | BK28: -0.067581818 | BP28: -0.075090909 | BW28: -0.0075090909 | CC28: 0 | CJ28: 0 | CO28: 0 | CT28: 0 | DA28: 0 | DG28: − | DN28: − | DU28: − | DZ28: − | EG28: − | EN28: − | EU28: − | FC28: − | FH28: − | FO28: − | FV28: − | GA28: − | GF28: − | GL28: −
... B30: КЛ 0,4 кВ от ТП 67 с переводом на РТП 7 (г. Сокол) | C30: 0 | D30: 0 | I30: 0 | N30: 0 | U30: 0 | AA30: 0.4165471 | AB30: 0.037867919 | AG30: 0.17040563 | AL30: 0.18933959 | AS30: 0.018933959 | AY30: 0.4165471 | BF30: 0.037867919 | BK30: 0.17040563 | BP30: 0.18933959 | BW30: 0.018933959 | CC30: 0.4165471 | CJ30: 0 | CO30: 0 | CT30: 0 | DA30: 0 | DG30: − | DN30: − | DU30: − | DZ30: − | EG30: − | EN30: − | EU30: − | FC30: − | FH30: − | FO30: − | FV30: − | GA30: − | GF30: − | GL30: −
A31: 2.2 | B31: КЛ 6-10 кВ | C31: 19.824 | D31: 1.8021818 | I31: 8.1098182 | N31: 9.0109091 | U31: 0.90109091 | AA31: 1.0203669 | AB31: 0.092760629 | AG31: 0.41742283 | AL31: 0.46380315 | AS31: 0.046380315 | AY31: -18.803633 | BF31: -1.7094212 | BK31: -7.6923954 | BP31: -8.5471059 | BW31: -0.85471059 | CC31: 1.0203669 | CJ31: 0 | CO31: 0 | CT31: 0 | DA31: 0 | DG31: − | DN31: − | DU31: − | DZ31: − | EG31: − | EN31: − | EU31: − | FC31: − | FH31: − | FO31: − | FV31: − | GA31: − | GF31: − | GL31: −
B32: КЛ 6 кВ "ГПП-2 - 1 мкр. ПЗ | C32: 8.85 | D32: 0.80454545 | I32: 3.6204545 | N32: 4.0227273 | U32: 0.40227273 | AA32: 0 | AB32: 0 | AG32: 0 | AL32: 0 | AS32: 0 | AY32: -8.85 | BF32: -0.80454545 | BK32: -3.6204545 | BP32: -4.0227273 | BW32: -0.40227273 | CC32: 0 | CJ32: 0 | CO32: 0 | CT32: 0 | DA32: 0 | DG32: − | DN32: − | DU32: − | DZ32: − | EG32: − | EN32: − | EU32: − | FC32: − | FH32: − | FO32: − | FV32: − | GA32: − | GF32: − | GL32: −
B33: КЛ 6 кВ "ГПП, яч.59 - ВЛ 6 кВ (Л-6)" (Сокол) | C33: 0.944 | D33: 0.085818182 | I33: 0.38618182 | N33: 0.42909091 | U33: 0.042909091 | AA33: 0 | AB33: 0 | AG33: 0 | AL33: 0 | AS33: 0 | AY33: -0.944 | BF33: -0.085818182 | BK33: -0.38618182 | BP33: -0.42909091 | BW33: -0.042909091 | CC33: 0 | CJ33: 0 | CO33: 0 | CT33: 0 | DA33: 0 | DG33: − | DN33: − | DU33: − | DZ33: − | EG33: − | EN33: − | EU33: − | FC33: − | FH33: − | FO33: − | FV33: − | GA33: − | GF33: − | GL33: −
B34: КЛ 6 кВ "ТП 10 - ТП 11" (Сокол) | C34: 0.708 | D34: 0.064363636 | I34: 0.28963636 | N34: 0.32181818 | U34: 0.032181818 | AA34: 0 | AB34: 0 | AG34: 0 | AL34: 0 | AS34: 0 | AY34: -0.708 | BF34: -0.064363636 | BK34: -0.28963636 | BP34: -0.32181818 | BW34: -0.032181818 | CC34: 0 | CJ34: 0 | CO34: 0 | CT34: 0 | DA34: 0 | DG34: − | DN34: − | DU34: − | DZ34: − | EG34: − | EN34: − | EU34: − | FC34: − | FH34: − | FO34: − | FV34: − | GA34: − | GF34: − | GL34: −
B35: КЛ 10 кВ ПС "Центральная" - РП 10кВ "Разинский" | C35: 5.782 | D35: 0.52563636 | I35: 2.3653636 | N35: 2.6281818 | U35: 0.26281818 | AA35: 0 | AB35: 0 | AG35: 0 | AL35: 0 | AS35: 0 | AY35: -5.782 | BF35: -0.52563636 | BK35: -2.3653636 | BP35: -2.6281818 | BW35: -0.26281818 | CC35: 0 | CJ35: 0 | CO35: 0 | CT35: 0 | DA35: 0 | DG35: − | DN35: − | DU35: − | DZ35: − | EG35: − | EN35: − | EU35: − | FC35: − | FH35: − | FO35: − | FV35: − | GA35: − | GF35: − | GL35: −
B36: КЛ 10 кВ ПС "Воcточная" - ТП 561 | C36: 3.54 | D36: 0.32181818 | I36: 1.4481818 | N36: 1.6090909 | U36: 0.16090909 | AA36: 0 | AB36: 0 | AG36: 0 | AL36: 0 | AS36: 0 | AY36: -3.54 | BF36: -0.32181818 | BK36: -1.4481818 | BP36: -1.6090909 | BW36: -0.16090909 | CC36: 0 | CJ36: 0 | CO36: 0 | CT36: 0 | DA36: 0 | DG36: − | DN36: − | DU36: − | DZ36: − | EG36: − | EN36: − | EU36: − | FC36: − | FH36: − | FO36: − | FV36: − | GA36: − | GF36: − | GL36: −
B37: КЛ 6 кВ ТП1-ТП33 (г.Сокол) | C37: 0 | D37: 0 | I37: 0 | N37: 0 | U37: 0 | AA37: 0.31731407 | AB37: 0.028846734 | AG37: 0.1298103 | AL37: 0.14423367 | AS37: 0.014423367 | AY37: 0.31731407 | BF37: 0.028846734 | BK37: 0.1298103 | BP37: 0.14423367 | BW37: 0.014423367 | CC37: 0.31731407 | CJ37: 0 | CO37: 0 | CT37: 0 | DA37: 0 | DG37: − | DN37: − | DU37: − | DZ37: − | EG37: − | GL37: −
B38: КЛ 10 кВ ТП374-ТП64 | C38: 0 | D38: 0 | I38: 0 | N38: 0 | U38: 0 | AA38: 0.43194495 | AB38: 0.039267722 | AG38: 0.17670475 | AL38: 0.19633861 | AS38: 0.019633861 | AY38: 0.43194495 | BF38: 0.039267722 | BK38: 0.17670475 | BP38: 0.19633861 | BW38: 0.019633861 | CC38: 0.43194495 | CJ38: 0 | CO38: 0 | CT38: 0 | DA38: 0 | DG38: − | DN38: − | DU38: − | DZ38: − | EG38: − | GL38: −
B39: Вынос КЛ 10 кВ "РП27-ТП682" пл.Федулова (ТП-9/2711 ЗАО Мост-продукт) | C39: 0 | AA39: 0.23780476 | FO39: 25 | GA39: ААБ-10-3Х120 | GF39: 0.04
B40: Реконструкция КЛ-6 кВ РП ТЭЦ-РП23 | C40: 0 | AA40: 0.03330314 | FO40: 25 | GA40: ААБ-10-3Х120 | GF40: 0.22
A41: 2.3 | B41: ВЛ 0,4 кВ | C41: 3.894 | D41: 0.354 | I41: 1.593 | N41: 1.77 | U41: 0.177 | AA41: 1.5613396 | AB41: 0.14193996 | AG41: 0.63872984 | AL41: 0.70969982 | AS41: 0.070969982 | AY41: -2.3326604 | BF41: -0.21206004 | BK41: -0.95427016 | BP41: -1.0603002 | BW41: -0.10603002 | CC41: 1.5613396 | CJ41: 0 | CO41: 0 | CT41: 0 | DA41: 0 | DG41: − | DN41: − | DU41: − | DZ41: − | EG41: − | EN41: − | EU41: − | FC41: − | FH41: − | FO41: − | FV41: − | GA41: − | GF41: − | GL41: −
B42: ВЛ 0,4 кВ от ТП 427 (реконструкция необслуживаемых ведомственных сетей) | C42: 0.472 | D42: 0.042909091 | I42: 0.19309091 | N42: 0.21454545 | U42: 0.021454545 | AA42: 0 | AB42: 0 | AG42: 0 | AL42: 0 | AS42: 0 | AY42: -0.472 | BF42: -0.042909091 | BK42: -0.19309091 | BP42: -0.21454545 | BW42: -0.021454545 | CC42: 0 | CJ42: 0 | CO42: 0 | CT42: 0 | DA42: 0 | DG42: − | DN42: − | DU42: − | DZ42: − | EG42: − | EN42: − | EU42: − | FC42: − | FH42: − | FO42: − | FV42: − | GA42: − | GF42: − | GL42: −
B43: ВЛ 0,4 кВ от КТП 606 (реконструкция необслуживаемых ведомственных сетей) | C43: 0.944 | D43: 0.085818182 | I43: 0.38618182 | N43: 0.42909091 | U43: 0.042909091 | AA43: 0 | AB43: 0 | AG43: 0 | AL43: 0 | AS43: 0 | AY43: -0.944 | BF43: -0.085818182 | BK43: -0.38618182 | BP43: -0.42909091 | BW43: -0.042909091 | CC43: 0 | CJ43: 0 | CO43: 0 | CT43: 0 | DA43: 0 | DG43: − | DN43: − | DU43: − | DZ43: − | EG43: − | EN43: − | EU43: − | FC43: − | FH43: − | FO43: − | FV43: − | GA43: − | GF43: − | GL43: −
B44: ВЛ 0,4 кВ от ТП 64 (Сокол), Л-1 (разделение вывода) | C44: 0.472 | D44: 0.042909091 | I44: 0.19309091 | N44: 0.21454545 | U44: 0.021454545 | AA44: 0 | AB44: 0 | AG44: 0 | AL44: 0 | AS44: 0 | AY44: -0.472 | BF44: -0.042909091 | BK44: -0.19309091 | BP44: -0.21454545 | BW44: -0.021454545 | CC44: 0 | CJ44: 0 | CO44: 0 | CT44: 0 | DA44: 0 | DG44: − | DN44: − | DU44: − | DZ44: − | EG44: − | EN44: − | EU44: − | FC44: − | FH44: − | FO44: − | FV44: − | GA44: − | GF44: − | GL44: −
...

Sheet 8
EY1: Приложение № 8
EY2: к Приказу Минэнерго России
EY3: от 24.03.2010 № 114
A4: Отчет об источниках финансирования инвестиционных программ ГП ВО "Облстные электротеплосети" за 2014 год, млн. рублей с НДС
DR5: Утверждаю Директор ГП ВО "Областные электротеплосети"
DX6: ________________А.А. Елисеев
DX7: "____"______________20 года
EY8: М.П.
A10: № | G10: Источник финансирования | AO10: Объем финансирования [отчетный год] | EA10: Причины отклонений
AO11: всего | BG11: I кв. | BY11: II кв. | CQ11: III кв. | DI11: IV кв.
AO12: план * | AX12: факт ** | BG12: план | BP12: факт | BY12: план | CH12: факт | CQ12: план | CZ12: факт | DI12: план | DR12: факт
A13: 1 | G13: Собственные средства | AO13: 118.15677 | AX13: 130.55648 | BG13: 4.7023 | BP13: 20.599378 | BY13: 2.75058 | CH13: 54.021009 | CQ13: 16.1896 | CZ13: 3.2963601 | DI13: 94.514295 | DR13: 52.639732
A14: 1.1. | G14: Прибыль, направляемая на инвестиции: | AO14: 0 | AX14: 0 | BG14: 0 | BP14: 0 | BY14: 0 | CH14: 0
A15: 1.1.1. | G15: в т.ч. инвестиционная составляющая в тарифе | AO15: 0 | AX15: 0
A16: 1.1.2. | G16: в т.ч. прибыль со свободного сектора | AO16: 0 | AX16: 0
A17: 1.1.3. | G17: в т.ч. выпадающие доходы в тарифе | AO17: 7.20486 | AX17: 5.543 | DI17: 7.20486 | DR17: 5.543
A18: 1.1.3.1. | G18: в т.ч. от технологического присоединения генерации | AO18: 0 | AX18: 0
A19: 1.1.3.2. | G19: в т.ч. от технологического присоединения потребителей | AO19: 0 | AX19: 0
A20: 1.1.4. | G20: Прочая прибыль | AO20: 0 | AX20: 0
A21: 1.2. | G21: Амортизация | AO21: 92.928 | AX21: 84.473792 | BG21: 3.985 | BP21: 16.5441 | BY21: 2.331 | CH21: 41.615788 | CQ21: 13.72 | CZ21: -7.6518963 | DI21: 72.892 | DR21: 33.965801
A22: 1.2.1. | G22: Амортизация, учтенная в тарифе | AO22: 92.928 | AX22: 84.473792 | BG22: 3.985 | BP22: 16.5441 | BY22: 2.331 | CH22: 41.615788 | CQ22: 13.72 | CZ22: -7.6518963 | DI22: 72.892 | DR22: 33.965801
A23: 1.2.2. | G23: Прочая амортизация | AO23: 0 | AX23: 0
A24: 1.2.3. | G24: Недоиспользованная амортизация прошлых лет | AO24: 0 | AX24: 0
A25: 1.3. | G25: Возврат НДС | AO25: 18.023915 | AX25: 19.915395 | BG25: 0.7173 | BP25: 3.142278 | BY25: 0.41958 | CH25: 8.2404929 | CQ25: 2.4696 | CZ25: 0.5028346 | DI25: 14.417435 | DR25: 8.0297896
A26: 1.4. | G26: Прочие собственные средства (плата за технологическое присоединение потребителей) | AO26: 0 | AX26: 20.624292 | BG26: 0 | BP26: 0.913 | BY26: 0 | CH26: 4.1647288 | CQ26: 0 | CZ26: 10.445422 | DR26: 5.1011411
A27: 1.4.1. | G27: в т.ч. средства допэмиссии
A28: 1.5. | G28: Остаток собственных средств на начало года
A29: 2. | G29: Привлеченные средства, в т.ч.:
A30: 2.1. | G30: Кредиты
A31: 2.2. | G31: Облигационные займы
A32: 2.3. | G32: Займы организаций
A33: 2.4. | G33: Бюджетное финансирование
A34: 2.5. | G34: Средства внешних инвесторов
A35: 2.6. | G35: Использование лизинга
A36: 2.7. | G36: Прочие привлеченные средства
G37: ВСЕГО источников финансирования
G38: для ОГК/ТГК, в том числе
G39: ДПМ
G40: вне ДПМ
B42: Панько Д.М.
...

Sheet 9
EI1: Приложение № 9 к Приказу Минэнерго России от 24.03.2010 № 114
A3: Отчет о вводах/выводах объектов за 2014 год
EB4: Утверждаю Директор ГП ВО "Областные электротеплосети"
EH5: ________________А.А. Елисеев
EH6: "____"______________20 года
FI8: М.П.
A11: № | F11: Наименование проекта | Z11: Ввод мощностей | CR11: Вывод мощностей
Z12: план * | BI12: факт | CR12: план * | EA12: факт
Z13: МВт, Гкал/час, км, МВА | BI13: МВт, Гкал/час, км, МВА | CR13: МВт, Гкал/час, км, МВА | EA13: МВт, Гкал/час, км, МВА
Z14: I кв. | AG14: II кв. | AN14: III кв. | AU14: IV кв. | BB14: 2014 г. | BI14: I кв. | BP14: II кв. | BW14: III кв. | CD14: IV кв. | CK14: 2014 г. | CR14: I кв. | CY14: II кв. | DF14: III кв. | DM14: IV кв. | DT14: 2014 г. | EA14: I кв. | EH14: II кв. | EO14: III кв. | EV14: IV кв. | FC14: 2014 г.
A15: 1 | F15: 2 | Z15: 3 | AG15: 4 | AN15: 5 | AU15: 6 | BB15: 7 | BI15: 8 | BP15: 9 | BW15: 10 | CD15: 11 | CK15: 12 | CR15: 13 | CY15: 14 | DF15: 15 | DM15: 16 | DT15: 17 | EA15: 18 | EH15: 19 | EO15: 20 | EV15: 21 | FC15: 22
A16: 1 | F16: Реконструкция | Z16: 0.83696441 | AG16: 0.52837997 | AN16: 1.5772466 | AU16: 7.717409 | BB16: 10.66 | BI16: 0.9 | BP16: 3.5 | BW16: 0 | CD16: 0.26 | CK16: 4.66 | CR16: 0.57224863 | CY16: 0.42133841 | DF16: 0.89834901 | DM16: 4.180064 | DT16: 6.072 | EA16: 0 | EH16: 0 | EO16: 0 | EV16: 0 | FC16: 0
A17: 1.1. | F17: КЛ 0,4 кВ | Z17: 0.17546917 | AG17: 0.14356568 | AN17: 0.35221448 | AU17: 1.7087507 | BB17: 2.38 | BI17: 0 | BP17: 0 | BW17: 0 | CD17: 0 | CK17: 0 | CR17: 0.11294906 | CY17: 0.092412869 | DF17: 0.22671957 | DM17: 1.0999185 | DT17: 1.532 | EA17: 0 | EH17: 0 | EO17: 0 | EV17: 0 | FC17: 0
A18: 1.2. | F18: КЛ 6-10 кВ | Z18: 0.20642857 | AG18: 0.046547619 | AN18: 0.62889881 | AU18: 3.368125 | BB18: 4.25 | BI18: 0.85 | BP18: 0 | BW18: 0 | CD18: 0.26 | CK18: 1.11 | CR18: 0.038857143 | CY18: 0.0087619048 | DF18: 0.11838095 | DM18: 0.634 | DT18: 0.8 | EA18: 0 | EH18: 0 | EO18: 0 | EV18: 0 | FC18: 0
A19: 1.3. | F19: ВЛ 0,4 кВ | Z19: 0.30206667 | AG19: 0.15793333 | AN19: 0.37413333 | AU19: 1.6958667 | BB19: 2.53 | BI19: 0.05 | BP19: 3.27 | BW19: 0 | CD19: 0 | CK19: 3.32 | CR19: 0.26744242 | CY19: 0.1398303 | DF19: 0.33124848 | DM19: 1.5014788 | DT19: 2.24 | EA19: 0 | EH19: 0 | EO19: 0 | EV19: 0 | FC19: 0
A20: 1.4. | F20: ВЛ 6-10 кВ | Z20: 0.153 | AG20: 0.18033333 | AN20: 0.222 | AU20: 0.94466667 | BB20: 1.5 | BI20: 0 | BP20: 0.23 | BW20: 0 | CD20: 0 | CK20: 0.23 | CR20: 0.153 | CY20: 0.18033333 | DF20: 0.222 | DM20: 0.94466667 | DT20: 1.5 | EA20: 0 | EH20: 0 | EO20: 0 | EV20: 0 | FC20: 0
A21: 2 | F21: Технологическое присоединение, МВт/км | Z21: 0 | AG21: 0 | AN21: 0 | AU21: 0 | BB21: 0 | BI21: 0,42/4,1 | BP21: 3,51/16,01 | BW21: 7,17/8,76 | CD21: 3,4/8,63 | CK21: 14,5/37,5 | CR21: 0 | CY21: 0 | DF21: 0 | DM21: 0 | DT21: 0 | EA21: 0 | EH21: 0 | EO21: 0 | EV21: 0 | FC21: 0
A28: Белоусов С.Н.
A29: 88712-54-00-24
