Workbook

Sheet Содержание книги
A1: Содержание
A4: № листа | B4: Электросетевой участок | C4: Центр питания
A5: 1 а | B5: г. Вологда | C5: ОАО "БМЗ"
A6: 1, 2 | B6: г. Вологда | C6: ПС "АНАНЬИНО"
A7: 3 | B7: г. Вологда | C7: ПС ЕРМАКОВО
A8: 4 | B8: г. Вологда | C8: ПС "МАЕГА"
A9: 5,6, 7, 8, 9 | B9: г. Вологда | C9: ПС "ЗАПАДНАЯ
A10: 10 | B10: г. Вологда | C10: ПС "СЕВЕРНАЯ 35/6 кВ
A11: 11 | B11: г. Вологда | C11: РТП "ТЕПЛИЧНОГО ХОЗ - ВА"
A12: 12,13, 14 | B12: г. Вологда | C12: ГПП 110/10 кВ "ВОМЗ"
A13: 15,16,17,18,19,20, 21, 21-1, 21-2, 21-3, 21-4 | B13: г. Вологда | C13: ПС ВОЛОГДА-ЮЖНАЯ РУ - 6 -10 кВ
A14: 21-5, | C14: ПС ВОЛОГДА-ЮЖНАЯ РУ 6 кВ ОАО "БМЗ"
A15: 22 | B15: г. Вологда | C15: ГПП ВОЛОГДА - ТЯГОВАЯ 110/27,5/6 кВ
A16: 23 | B16: г. Вологда | C16: ТП 10 РЖД
A17: 24 | B17: г. Вологда | C17: ТП 34 РЖД
A18: 25,26,27,28,29 | B18: г. Вологда | C18: ТГК- 2 ВТЭЦ РП 6 кВ
A19: 30,31,32,33,34,34-1 | B19: г. Вологда | C19: ПС "ЦЕНТРАЛЬНАЯ" 110/6 кВ
A20: 35, 36 | B20: г. Вологда | C20: ПС "ГОРОДСКАЯ" 35/6 кВ
A21: 37, 38, 39, 39-1 | B21: г. Вологда | C21: ПС "ВОСТОЧНАЯ" 110/35/10 кВ
A22: 40, 40-1, 41,41-1 | B22: г. Вологда | C22: ПС "ЛУГОВАЯ"
A23: 42 | B23: г. Вологда | C23: РП "ГОРКА"
A24: 43, 44 | B24: г. Вологда | C24: ГПП 2 ЗАО ВПЗ
A25: 45 | B25: г. Вологда | C25: ГПП 1 ЗАО ВПЗ
A26: 46 | B26: ЭСУ "Кубенское" | C26: ПС "Кубенское"
A27: 47, 48, 48-1,48-2 | B27: ЭСУ п. Молочное | C27: ПС "Молочное" 35/10 кВ
A28: 49, 50, 50-1, 50-2, 50-3 | B28: ЭСУ "Устье-Кубенское" | C28: РТП "КОРНИЛОВО" 35/10 кВ
A29: 51, 52, 53 | B29: ЭСУ "Шуйское" | C29: ПС "ШУЙСКОЕ" 35/ 10 кВ
A30: 54.55 | B30: ЭСУ г. Сокол | C30: ПС "ГДЗ" 110/6 кВ
A31: 55-1 | B31: ЭСУ г. Сокол | C31: ПС | D31: ИП Сокол 110/10/10
A32: 56, 57, 58, | B32: ЭСУ г. Сокол | C32: ОАО "Сокольский" ЦБК" ГПП 35/6 кВ
A33: 59 | B33: ЭСУ г. Сокол | C33: ОАО "Сокольский" ЦБК" ГПП 110/6 кВ
A34: 60, 61, 62, 63 | B34: ЭСУ г. Сокол | C34: ООО "Сухонский ЦБК" ГПП 110/6 кВ
A35: 64-66-1 | B35: ЭСУ "Белозерск" | C35: ПС Белозерск, ПС Вашки
A36: 67-75 | B36: ЭСУ "Вытегра"
A37: 76-81_1 | B37: ЭСУ "Харовск"
A38: 82-86 | B38: ЭТУ "Вожега"
A39: 87-91 | B39: ЭТУ "Тотьма"
A40: 92-95 | B40: ЭСУ "Сямжа"
A41: 96-97 | B41: ЭСУ "Грязовец"
A43: Содержание
...

Sheet 1
B1: АО "Вологдаоблэнерго" | J1: код 900151 | N1: ПС "АНАНЬИНО"
B2: наименование предприятия | N2: наименование источника питания
N3: _________________________________
B4: ул. Горького, 99 | I4: Таблица № 1 | O4: ВЛ № 31
B5: адрес
A6: почасовых записей показаний электрических счетчиков
A7: в режимный день 15 ИЮНЯ 2022 г.
A8: 1629
A9: часы суток | B9: Активная энергия | J9: Реактивная энергия
B10: ЯЧ. № 7 - Ф."Город 7" | J10: ЯЧ. № 7 - Ф."Город 7"
B11: Расчет. Коэф. | E11: 3600 | F11: Расчет. Коэф. | J11: Расчет. Коэф. | M11: =E11 -> 3600 | N11: Расчет. Коэф.
B12: показания счетчика | C12: разность | E12: расход эл.энергии за час | F12: показания счетчика | G12: разность | I12: расход эл.энергии за час | J12: показания счетчика | K12: разность | M12: расход эл.энергии за час | N12: показания счетчика | O12: разность | Q12: расход эл.энергии за час
A13: 1 | B13: 2 | C13: 3 | E13: 4 | F13: 5 | G13: 6 | I13: 7 | J13: 8 | K13: 9 | M13: 10 | N13: 11 | O13: 12 | Q13: 13
A14: 0
A15: 1 | E15: 322 | M15: 220
A16: 2 | E16: 304 | M16: 216
A17: 3 | E17: 275 | M17: 209
A18: 4 | E18: 248 | M18: 193
A19: 5 | E19: 224 | M19: 177
A20: 6 | E20: 246 | M20: 197
A21: 7 | E21: 314 | M21: 213
A22: 8 | E22: 357 | M22: 203
A23: 9 | E23: 435 | M23: 218
A24: 10 | E24: 559 | M24: 322
A25: 11 | E25: 530 | M25: 351
A26: 12 | E26: 565 | M26: 368
... A37: 23 | E37: 226 | M37: 138
A38: 24
A39: Итого | E39: =SUM(E15:E38) -> 9251 | M39: =SUM(M15:M38) -> 5946
A40: 1. При наличии на предприятии отклонений от нормальных режимов электропотребления (временное изменение схем питания, остановка на ремонт, резкое снижение
A41: эл.потребления и т.д.) последние необходимо перечислить.
A42: Главный инженер АО "Вологдаоблэнерго" А.В. Чурляев
A43: составляется самим предприятием с соблюдением всех пунктов настоящей таблицы.

Sheet 2
B1: АО "Вологдаоблэнерго" | J1: код 900151 | N1: ПС "АНАНЬИНО"
B2: наименование предприятия | N2: наименование источника питания
N3: _________________________________
B4: ул. Горького, 99 | I4: Таблица № 1 | O4: РП 36 ф 16; ТП 360
B5: адрес
A6: почасовых записей показаний электрических счетчиков
A7: в режимный день 15 ИЮНЯ 2022 г.
A8: 1630 | B8: 1628
A9: часы суток | B9: Активная энергия | J9: Реактивная энергия
B10: ЯЧ. № 2 - Ф."Овощехранилище" | F10: ЯЧ. № 8 - Ф."Городской" | J10: ЯЧ. № 2 - Ф."Овощехранилище" | N10: ЯЧ. № 8 - Ф."Городской"
B11: Расчет. Коэф. | E11: 3600 | F11: Расчет. Коэф. | I11: 2400 | J11: Расчет. Коэф. | M11: =E11 -> 3600 | N11: Расчет. Коэф. | Q11: =I11 -> 2400
B12: показания счетчика | C12: разность | E12: расход эл.энергии за час | F12: показания счетчика | G12: разность | I12: расход эл.энергии за час | J12: показания счетчика | K12: разность | M12: расход эл.энергии за час | N12: показания счетчика | O12: разность | Q12: расход эл.энергии за час
A13: 1 | B13: 2 | C13: 3 | E13: 4 | F13: 5 | G13: 6 | I13: 7 | J13: 8 | K13: 9 | M13: 10 | N13: 11 | O13: 12 | Q13: 13
A14: 0
A15: 1 | E15: 85 | I15: 142 | M15: 28 | Q15: 73
A16: 2 | E16: 78 | I16: 127 | M16: 27 | Q16: 69
A17: 3 | E17: 81 | I17: 121 | M17: 28 | Q17: 64
A18: 4 | E18: 73 | I18: 117 | M18: 21 | Q18: 58
A19: 5 | E19: 72 | I19: 126 | M19: 22 | Q19: 60
A20: 6 | E20: 72 | I20: 133 | M20: 27 | Q20: 63
A21: 7 | E21: 84 | I21: 157 | M21: 29 | Q21: 65
A22: 8 | E22: 87 | I22: 170 | M22: 24 | Q22: 71
A23: 9 | E23: 179 | I23: 187 | M23: 122 | Q23: 73
A24: 10 | E24: 274 | I24: 179 | M24: 251 | Q24: 77
A25: 11 | E25: 178 | I25: 177 | M25: 153 | Q25: 81
A26: 12 | E26: 223 | I26: 179 | M26: 212 | Q26: 81
... A38: 24 | E38: 116 | I38: 510 | M38: 44 | Q38: 249
A39: Итого | E39: =SUM(E16:E38) -> 3489 | I39: =SUM(I15:I38) -> 4471 | M39: =SUM(M15:M38) -> 2395 | Q39: =SUM(Q15:Q38) -> 1947
A40: 1. При наличии на предприятии отклонений от нормальных режимов электропотребления (временное изменение схем питания, остановка на ремонт, резкое снижение
A41: эл.потребления и т.д.) последние необходимо перечислить.
A42: Главный инженер АО "Вологдаоблэнерго" А.В. Чурляев
A43: составляется самим предприятием с соблюдением всех пунктов настоящей таблицы.

Sheet 3
B1: АО "Вологдаоблэнерго" | J1: код 900151 | N1: ПС 110 кВ ЕРМАКОВО
B2: наименование предприятия | N2: наименование источника питания
N3: яч. 18 ф."РУБЦОВО"
B4: ул. Горького, 99 | I4: Таблица № 1 | O4: ВЛ-10кВ № 2
B5: адрес
A6: почасовых записей показаний электрических счетчиков
A7: в режимный день 15 ИЮНЯ 2022 г.
A8: 374
A9: часы суток | B9: Активная энергия | J9: Реактивная энергия
B10: яч. 18 ф."РУБЦОВО"- ПКУ - ВЛ№2 | J10: яч. 18 ф."РУБЦОВО"- ПКУ - ВЛ№2
B11: Расчет. Коэф. | E11: 1000 | F11: Расчет. Коэф. | I11: 0 | J11: Расчет. Коэф. | M11: =E11 -> 1000 | N11: Расчет. Коэф. | Q11: =I11 -> 0
B12: показания счетчика | C12: разность | E12: расход эл.энергии за час | F12: показания счетчика | G12: разность | I12: расход эл.энергии за час | J12: показания счетчика | K12: разность | M12: расход эл.энергии за час | N12: показания счетчика | O12: разность | Q12: расход эл.энергии за час
A13: 1 | B13: 2 | C13: 3 | E13: 4 | F13: 5 | G13: 6 | I13: 7 | J13: 8 | K13: 9 | M13: 10 | N13: 11 | O13: 12 | Q13: 13
A14: 0
A15: 1 | E15: 189.8 | M15: 16.4
A16: 2 | E16: 168.8 | M16: 15
A17: 3 | E17: 138 | M17: 19.2
A18: 4 | E18: 115 | M18: 16.6
A19: 5 | E19: 110.4 | M19: 16.6
A20: 6 | E20: 116.2 | M20: 20.2
A21: 7 | E21: 154.8 | M21: 22.2
A22: 8 | E22: 178.2 | M22: 19.8
A23: 9 | E23: 174.2 | M23: 15
A24: 10 | E24: 171.4 | M24: 23.2
A25: 11 | E25: 166.2 | M25: 19.4
A26: 12 | E26: 164.4 | M26: 21.8
... A38: 24 | E38: 236.4 | M38: 10.2
A39: Итого | E39: =SUM(E15:E38) -> 4302 | M39: =SUM(M16:M38) -> 432.2
A40: 1. При наличии на предприятии отклонений от нормальных режимов электропотребления (временное изменение схем питания, остановка на ремонт, резкое снижение
A41: эл.потребления и т.д.) последние необходимо перечислить.
A42: Главный инженер АО "Вологдаоблэнерго" А.В. Чурляев
A43: составляется самим предприятием с соблюдением всех пунктов настоящей таблицы.

Sheet 4
B1: АО "Вологдаоблэнерго" | J1: код 900151 | N1: ПС "МАЕГА"
B2: наименование предприятия | N2: наименование источника питания
N3: яч. 13 - Ф НИКИТИНО
B4: ул. Горького, 99 | I4: Таблица № 1 | O4: ВЛ №27
B5: адрес
A6: почасовых записей показаний электрических счетчиков
A7: в режимный день 15 ИЮНЯ 2022 г.
A8: 363
A9: часы суток | B9: Активная энергия | J9: Реактивная энергия
B10: яч. 13 - Ф НИКИТИНО-СВ - ВЛ№27 | J10: яч. 13 - Ф НИКИТИНО-СВ - ВЛ№27
B11: Расчет. Коэф. | E11: 1500 | F11: Расчет. Коэф. | I11: 0 | J11: Расчет. Коэф. | M11: =E11 -> 1500 | N11: Расчет. Коэф. | Q11: =I11 -> 0
B12: показания счетчика | C12: разность | E12: расход эл.энергии за час | F12: показания счетчика | G12: разность | I12: расход эл.энергии за час | J12: показания счетчика | K12: разность | M12: расход эл.энергии за час | N12: показания счетчика | O12: разность | Q12: расход эл.энергии за час
A13: 1 | B13: 2 | C13: 3 | E13: 4 | F13: 5 | G13: 6 | I13: 7 | J13: 8 | K13: 9 | M13: 10 | N13: 11 | O13: 12 | Q13: 13
A14: 0
A15: 1 | E15: 232.8 | M15: 39.45
A16: 2 | E16: 216.9 | M16: 33.9
A17: 3 | E17: 192 | M17: 38.1
A18: 4 | E18: 174 | M18: 33
A19: 5 | E19: 171.3 | M19: 34.5
A20: 6 | E20: 211.95 | M20: 38.4
A21: 7 | E21: 259.2 | M21: 37.95
A22: 8 | E22: 281.7 | M22: 44.55
A23: 9 | E23: 304.95 | M23: 68.4
A24: 10 | E24: 331.5 | M24: 76.2
A25: 11 | E25: 334.05 | M25: 81.6
A26: 12 | E26: 319.8 | M26: 87.6
... A38: 24 | E38: 297.45 | M38: 42.15
A39: Итого | E39: =SUM(E15:E38) -> 6977.7 | M39: =SUM(M15:M38) -> 1310.25
A40: 1. При наличии на предприятии отклонений от нормальных режимов электропотребления (временное изменение схем питания, остановка на ремонт, резкое снижение
A41: эл.потребления и т.д.) последние необходимо перечислить.
A42: Главный инженер АО "Вологдаоблэнерго" А.В. Чурляев
A43: составляется самим предприятием с соблюдением всех пунктов настоящей таблицы.

Sheet 5
B1: АО "Вологдаоблэнерго" | J1: код 900151 | N1: ПС "ЗАПАДНАЯ"
B2: наименование предприятия | N2: наименование источника питания
N3: _________________________________
B4: ул. Горького, 99 | I4: Таблица № 1 | O4: РП 16
B5: адрес
A6: почасовых записей показаний электрических счетчиков
A7: в режимный день 15 ИЮНЯ 2022 г.
A8: 372 | B8: 368
A9: часы суток | B9: Активная энергия | J9: Реактивная энергия
B10: Яч. 21 - "РМЗ-1" | F10: Яч. 28 - "РМЗ-2" | J10: Яч. 21 - "РМЗ-1" | N10: Яч. 28 - "РМЗ-2"
B11: Расчет. Коэф. | E11: 7200 | F11: Расчет. Коэф. | I11: 7200 | J11: Расчет. Коэф. | M11: =E11 -> 7200 | N11: Расчет. Коэф. | Q11: =I11 -> 7200
B12: показания счетчика | C12: разность | E12: расход эл.энергии за час | F12: показания счетчика | G12: разность | I12: расход эл.энергии за час | J12: показания счетчика | K12: разность | M12: расход эл.энергии за час | N12: показания счетчика | O12: разность | Q12: расход эл.энергии за час
A13: 1 | B13: 2 | C13: 3 | E13: 4 | F13: 5 | G13: 6 | I13: 7 | J13: 8 | K13: 9 | M13: 10 | N13: 11 | O13: 12 | Q13: 13
A14: 0
A15: 1 | E15: 242 | I15: 827 | M15: 63 | Q15: 186
A16: 2 | E16: 222 | I16: 764 | M16: 61 | Q16: 172
A17: 3 | E17: 207 | I17: 685 | M17: 57 | Q17: 192
A18: 4 | E18: 202 | I18: 633 | M18: 55 | Q18: 182
A19: 5 | E19: 212 | I19: 637 | M19: 55 | Q19: 186
A20: 6 | E20: 246 | I20: 718 | M20: 61 | Q20: 202
A21: 7 | E21: 287 | I21: 899 | M21: 73 | Q21: 219
A22: 8 | E22: 433 | I22: 1142 | M22: 176 | Q22: 302
A23: 9 | E23: 662 | I23: 1313 | M23: 309 | Q23: 352
A24: 10 | E24: 638 | I24: 1430 | M24: 289 | Q24: 430
A25: 11 | E25: 651 | I25: 1428 | M25: 292 | Q25: 425
A26: 12 | E26: 652 | I26: 1433 | M26: 319 | Q26: 377
... A38: 24 | E38: 267 | I38: 906 | M38: 58 | Q38: 156
A39: Итого | E39: =SUM(E15:E38) -> 10154 | I39: =SUM(I15:I38) -> 26353 | M39: =SUM(M15:M38) -> 3823 | Q39: =SUM(Q15:Q38) -> 6459
A40: 1. При наличии на предприятии отклонений от нормальных режимов электропотребления (временное изменение схем питания, остановка на ремонт, резкое снижение
A41: эл.потребления и т.д.) последние необходимо перечислить.
A42: Главный инженер АО "Вологдаоблэнерго" А.В. Чурляев
A43: составляется самим предприятием с соблюдением всех пунктов настоящей таблицы.

Sheet 6
B1: АО "Вологдаоблэнерго" | J1: код 900151 | N1: ПС "ЗАПАДНАЯ"
B2: наименование предприятия | N2: наименование источника питания
N3: _________________________________
B4: ул. Горького, 99 | I4: Таблица № 1 | N4: РП 10 ф7 | Q4: РП 36 ф17
B5: адрес
A6: почасовых записей показаний электрических счетчиков
A7: в режимный день 15 ИЮНЯ 2022 г.
A8: 370 | B8: 365
A9: часы суток | B9: Активная энергия | J9: Реактивная энергия
B10: яч. 16 - ф."ОЧИСТНЫЕ-1" | F10: яч. 24 - "ГОРОД-1" | J10: яч. 16 - ф."ОЧИСТНЫЕ-1" | N10: яч. 24 - "ГОРОД-1"
B11: Расчет. Коэф. | E11: 4800 | F11: Расчет. Коэф. | I11: 7200 | J11: Расчет. Коэф. | M11: =E11 -> 4800 | N11: Расчет. Коэф. | Q11: =I11 -> 7200
B12: показания счетчика | C12: разность | E12: расход эл.энергии за час | F12: показания счетчика | G12: разность | I12: расход эл.энергии за час | J12: показания счетчика | K12: разность | M12: расход эл.энергии за час | N12: показания счетчика | O12: разность | Q12: расход эл.энергии за час
A13: 1 | B13: 2 | C13: 3 | E13: 4 | F13: 5 | G13: 6 | I13: 7 | J13: 8 | K13: 9 | M13: 10 | N13: 11 | O13: 12 | Q13: 13
A14: 0
A15: 1 | E15: 234 | I15: 1290 | M15: 42 | Q15: 735
A16: 2 | E16: 213 | I16: 1260 | M16: 39 | Q16: 693
A17: 3 | E17: 218 | I17: 1240 | M17: 42 | Q17: 737
A18: 4 | E18: 221 | I18: 1235 | M18: 41 | Q18: 696
A19: 5 | E19: 224 | I19: 1324 | M19: 42 | Q19: 779
A20: 6 | E20: 259 | I20: 1170 | M20: 46 | Q20: 686
A21: 7 | E21: 507 | I21: 1331 | M21: 88 | Q21: 786
A22: 8 | E22: 624 | I22: 1481 | M22: 112 | Q22: 846
A23: 9 | E23: 551 | I23: 1460 | M23: 95 | Q23: 822
A24: 10 | E24: 510 | I24: 1636 | M24: 86 | Q24: 867
A25: 11 | E25: 511 | I25: 1756 | M25: 87 | Q25: 992
A26: 12 | E26: 509 | I26: 1756 | M26: 85 | Q26: 961
... A38: 24 | E38: 328 | I38: 1285 | M38: 56 | Q38: 707
A39: Итого | E39: =SUM(E15:E38) -> 10331 | I39: =SUM(I15:I38) -> 35737 | M39: =SUM(M15:M38) -> 1784 | Q39: =SUM(Q15:Q38) -> 20179
A40: 1. При наличии на предприятии отклонений от нормальных режимов электропотребления (временное изменение схем питания, остановка на ремонт, резкое снижение
A41: эл.потребления и т.д.) последние необходимо перечислить.
A42: Главный инженер АО "Вологдаоблэнерго" А.В. Чурляев
A43: составляется самим предприятием с соблюдением всех пунктов настоящей таблицы.

Sheet 7
B1: АО "Вологдаоблэнерго" | J1: код 900151 | N1: ПС "ЗАПАДНАЯ"
B2: наименование предприятия | N2: наименование источника питания
N3: _________________________________
B4: ул. Горького, 99 | I4: Таблица № 1 | O4: РП 7
B5: адрес
A6: почасовых записей показаний электрических счетчиков
A7: в режимный день 15 ИЮНЯ 2022 г.
A8: 371 | B8: 367
A9: часы суток | B9: Активная энергия | J9: Реактивная энергия
B10: яч. 3 "П/Я-1" | F10: яч. 10 "П/Я-2" | J10: яч. 3 "П/Я-1" | N10: яч. 10 "П/Я-2"
B11: Расчет. Коэф. | E11: 12000 | F11: Расчет. Коэф. | I11: 7200 | J11: Расчет. Коэф. | M11: =E11 -> 12000 | N11: Расчет. Коэф. | Q11: =I11 -> 7200
B12: показания счетчика | C12: разность | E12: расход эл.энергии за час | F12: показания счетчика | G12: разность | I12: расход эл.энергии за час | J12: показания счетчика | K12: разность | M12: расход эл.энергии за час | N12: показания счетчика | O12: разность | Q12: расход эл.энергии за час
A13: 1 | B13: 2 | C13: 3 | E13: 4 | F13: 5 | G13: 6 | I13: 7 | J13: 8 | K13: 9 | M13: 10 | N13: 11 | O13: 12 | Q13: 13
A14: 0
A15: 1 | E15: 816 | I15: 827 | M15: 296 | Q15: 186
A16: 2 | E16: 763 | I16: 764 | M16: 273 | Q16: 172
A17: 3 | E17: 698 | I17: 685 | M17: 264 | Q17: 192
A18: 4 | E18: 694 | I18: 633 | M18: 257 | Q18: 182
A19: 5 | E19: 753 | I19: 637 | M19: 268 | Q19: 186
A20: 6 | E20: 818 | I20: 718 | M20: 283 | Q20: 202
A21: 7 | E21: 878 | I21: 899 | M21: 289 | Q21: 219
A22: 8 | E22: 935 | I22: 1142 | M22: 290 | Q22: 302
A23: 9 | E23: 1157 | I23: 1313 | M23: 367 | Q23: 352
A24: 10 | E24: 1207 | I24: 1430 | M24: 386 | Q24: 430
A25: 11 | E25: 1126 | I25: 1428 | M25: 404 | Q25: 425
A26: 12 | E26: 1101 | I26: 1433 | M26: 401 | Q26: 377
... A38: 24 | E38: 876 | I38: 906 | M38: 276 | Q38: 156
A39: Итого | E39: =SUM(E15:E38) -> 23120 | I39: =SUM(I15:I38) -> 26353 | M39: =SUM(M15:M38) -> 7774 | Q39: =SUM(Q15:Q38) -> 6459
A40: 1. При наличии на предприятии отклонений от нормальных режимов электропотребления (временное изменение схем питания, остановка на ремонт, резкое снижение
A41: эл.потребления и т.д.) последние необходимо перечислить.
A42: Главный инженер АО "Вологдаоблэнерго" А.В. Чурляев
A43: составляется самим предприятием с соблюдением всех пунктов настоящей таблицы.

Sheet 8
B1: АО "Вологдаоблэнерго" | J1: код 900151 | N1: ПС "ЗАПАДНАЯ"
B2: наименование предприятия | I2: _ | N2: наименование источника питания
N3: _________________________________
B4: ул. Горького, 99 | I4: Таблица № 1 | O4: РП 35; РП 37
B5: адрес
A6: почасовых записей показаний электрических счетчиков
A7: в режимный день 15 ИЮНЯ 2022 г.
A8: 129 | B8: 130
A9: часы суток | B9: Активная энергия | J9: Реактивная энергия
B10: яч. 15 "РП -35" | F10: яч. 35 "РП-37" | J10: яч. 15 "РП -35" | N10: яч. 35 "РП-37"
B11: Расчет. Коэф. | E11: 3600 | F11: Расчет. Коэф. | I11: 4800 | J11: Расчет. Коэф. | M11: =E11 -> 3600 | N11: Расчет. Коэф. | Q11: =I11 -> 4800
B12: показания счетчика | C12: разность | E12: расход эл.энергии за час | F12: показания счетчика | G12: разность | I12: расход эл.энергии за час | J12: показания счетчика | K12: разность | M12: расход эл.энергии за час | N12: показания счетчика | O12: разность | Q12: расход эл.энергии за час
A13: 1 | B13: 2 | C13: 3 | E13: 4 | F13: 5 | G13: 6 | I13: 7 | J13: 8 | K13: 9 | M13: 10 | N13: 11 | O13: 12 | Q13: 13
A14: 0
A15: 1 | E15: 239 | I15: 422 | M15: 154 | Q15: 165
A16: 2 | E16: 238 | I16: 392 | M16: 154 | Q16: 152
A17: 3 | E17: 238 | I17: 423 | M17: 150 | Q17: 177
A18: 4 | E18: 239 | I18: 373 | M18: 148 | Q18: 154
A19: 5 | E19: 237 | I19: 386 | M19: 147 | Q19: 166
A20: 6 | E20: 237 | I20: 428 | M20: 151 | Q20: 147
A21: 7 | E21: 238 | I21: 456 | M21: 150 | Q21: 140
A22: 8 | E22: 237 | I22: 526 | M22: 147 | Q22: 133
A23: 9 | E23: 235 | I23: 592 | M23: 150 | Q23: 169
A24: 10 | E24: 238 | I24: 588 | M24: 151 | Q24: 203
A25: 11 | E25: 237 | I25: 593 | M25: 148 | Q25: 207
A26: 12 | E26: 238 | I26: 577 | M26: 152 | Q26: 220
... A38: 24 | E38: 239 | I38: 447 | M38: 151 | Q38: 164
A39: Итого | E39: =SUM(E15:E38) -> 5708 | I39: =SUM(I15:I38) -> 12013 | M39: =SUM(M15:M38) -> 3577 | Q39: =SUM(Q15:Q38) -> 4200
A40: 1. При наличии на предприятии отклонений от нормальных режимов электропотребления (временное изменение схем питания, остановка на ремонт, резкое снижение
A41: эл.потребления и т.д.) последние необходимо перечислить.
A42: Главный инженер АО "Вологдаоблэнерго" А.В. Чурляев
A43: составляется самим предприятием с соблюдением всех пунктов настоящей таблицы.

Sheet 9
B1: АО "Вологдаоблэнерго" | J1: код 900151 | N1: ПС "ЗАПАДНАЯ"
B2: наименование предприятия | N2: наименование источника питания
N3: _________________________________
B4: ул. Горького, 99 | I4: Таблица № 1 | O4: РП 28
B5: адрес
A6: почасовых записей показаний электрических счетчиков
A7: в режимный день 15 ИЮНЯ 2022 г.
A8: 366 | B8: 369
A9: часы суток | B9: Активная энергия | J9: Реактивная энергия
B10: яч. 17 "ГОРОД-2" | F10: яч. 22 - "ОЧИСТНЫЕ-2" | J10: ЯЧ. №17 - "ГОРОД-2" | N10: ЯЧ. №22 - "ОЧИСТНЫЕ-2"
B11: Расчет. Коэф. | E11: 7200 | F11: Расчет. Коэф. | I11: 7200 | J11: Расчет. Коэф. | M11: =E11 -> 7200 | N11: Расчет. Коэф. | Q11: =I11 -> 7200
B12: показания счетчика | C12: разность | E12: расход эл.энергии за час | F12: показания счетчика | G12: разность | I12: расход эл.энергии за час | J12: показания счетчика | K12: разность | M12: расход эл.энергии за час | N12: показания счетчика | O12: разность | Q12: расход эл.энергии за час
A13: 1 | B13: 2 | C13: 3 | E13: 4 | F13: 5 | G13: 6 | I13: 7 | J13: 8 | K13: 9 | M13: 10 | N13: 11 | O13: 12 | Q13: 13
A14: 0
A15: 1 | E15: 579 | I15: 364 | M15: 236 | Q15: 222
A16: 2 | E16: 544 | I16: 360 | M16: 230 | Q16: 219
A17: 3 | E17: 493 | I17: 416 | M17: 211 | Q17: 257
A18: 4 | E18: 464 | I18: 358 | M18: 200 | Q18: 219
A19: 5 | E19: 460 | I19: 362 | M19: 218 | Q19: 220
A20: 6 | E20: 494 | I20: 341 | M20: 241 | Q20: 193
A21: 7 | E21: 630 | I21: 349 | M21: 259 | Q21: 190
A22: 8 | E22: 786 | I22: 360 | M22: 294 | Q22: 178
A23: 9 | E23: 1067 | I23: 401 | M23: 511 | Q23: 207
A24: 10 | E24: 1204 | I24: 432 | M24: 570 | Q24: 231
A25: 11 | E25: 1209 | I25: 472 | M25: 524 | Q25: 264
A26: 12 | E26: 1200 | I26: 425 | M26: 545 | Q26: 229
... A38: 24 | E38: 651 | I38: 370 | M38: 239 | Q38: 216
A39: Итого | E39: =SUM(E15:E38) -> 20487 | I39: =SUM(I15:I38) -> 9442 | M39: =SUM(M15:M38) -> 8598 | Q39: =SUM(Q15:Q38) -> 5269
A40: 1. При наличии на предприятии отклонений от нормальных режимов электропотребления (временное изменение схем питания, остановка на ремонт, резкое снижение
A41: эл.потребления и т.д.) последние необходимо перечислить.
A42: Главный инженер АО "Вологдаоблэнерго" А.В. Чурляев
A43: составляется самим предприятием с соблюдением всех пунктов настоящей таблицы.

Sheet 10
B1: АО "Вологдаоблэнерго" | J1: код 900151 | N1: ПС "СЕВЕРНАЯ 35/6 кВ
B2: наименование предприятия | N2: наименование источника питания
N3: _________________________________
B4: ул. Горького, 99 | I4: Таблица № 1 | N4: Т1, Т2 | O4: РП 5
B5: адрес
A6: почасовых записей показаний электрических счетчиков
A7: в режимный день 15 ИЮНЯ 2022 г.
A8: 325 | B8: 328
A9: часы суток | B9: Активная энергия | J9: Реактивная энергия
B10: Т 1 -РП 5 Ф 3 ввод № 1 | F10: Т 2 - РП 5 Ф 17 ввод № 2 | J10: Т 1 -РП 5 Ф 3 ввод № 1 | N10: Т 2 - РП 5 Ф 17 ввод № 2
B11: Расчет. Коэф. | E11: 18000 | F11: Расчет. Коэф. | I11: 18000 | J11: Расчет. Коэф. | M11: =E11 -> 18000 | N11: Расчет. Коэф. | Q11: =I11 -> 18000
B12: показания счетчика | C12: разность | E12: расход эл.энергии за час | F12: показания счетчика | G12: разность | I12: расход эл.энергии за час | J12: показания счетчика | K12: разность | M12: расход эл.энергии за час | N12: показания счетчика | O12: разность | Q12: расход эл.энергии за час
A13: 1 | B13: 2 | C13: 3 | E13: 4 | F13: 5 | G13: 6 | I13: 7 | J13: 8 | K13: 9 | M13: 10 | N13: 11 | O13: 12 | Q13: 13
A14: 0
A15: 1 | E15: 815.4 | I15: 1558.8 | M15: 273.6 | Q15: 378
A16: 2 | E16: 770.4 | I16: 1436.4 | M16: 241.2 | Q16: 365.4
A17: 3 | E17: 761.4 | I17: 1333.8 | M17: 268.2 | Q17: 396
A18: 4 | E18: 694.8 | I18: 1281.6 | M18: 252 | Q18: 369
A19: 5 | E19: 664.2 | I19: 1285.2 | M19: 255.6 | Q19: 365.4
A20: 6 | E20: 702 | I20: 1413 | M20: 277.2 | Q20: 419.4
A21: 7 | E21: 777.6 | I21: 1767.6 | M21: 324 | Q21: 439.2
A22: 8 | E22: 1044 | I22: 2104.2 | M22: 482.4 | Q22: 484.2
A23: 9 | E23: 1171.8 | I23: 2471.4 | M23: 577.8 | Q23: 626.4
A24: 10 | E24: 1236.6 | I24: 2572.2 | M24: 581.4 | Q24: 666
A25: 11 | E25: 1112.4 | I25: 2545.2 | M25: 502.2 | Q25: 675
A26: 12 | E26: 1159.2 | I26: 2541.6 | M26: 509.4 | Q26: 664.2
... A38: 24 | E38: 885.6 | I38: 1756.8 | M38: 257.4 | Q38: 361.8
A39: Итого | E39: =SUM(E15:E38) -> 23286.6 | I39: =SUM(I15:I38) -> 49681.8 | M39: =SUM(M15:M38) -> 8785.8 | Q39: =SUM(Q15:Q38) -> 11818.8
A40: 1. При наличии на предприятии отклонений от нормальных режимов электропотребления (временное изменение схем питания, остановка на ремонт, резкое снижение
A41: эл.потребления и т.д.) последние необходимо перечислить.
A42: Главный инженер АО "Вологдаоблэнерго" А.В. Чурляев
A43: составляется самим предприятием с соблюдением всех пунктов настоящей таблицы.

Sheet 11
B1: АО "Вологдаоблэнерго" | G1: код 900151 | I1: ПС "ВОЛОГДА-ЮЖНАЯ" 110/6 транзит через РТП "ТЕПЛИЧНОГО ХОЗ - ВА"
B2: наименование предприятия | N2: наименование источника питания
N3: _________________________________
B4: ул. Горького, 99 | I4: Таблица № 1 | O4: ТП 438
B5: адрес
A6: почасовых записей показаний электрических счетчиков
A7: в режимный день 15 ИЮНЯ 2022 г.
A8: 635 | B8: 634
A9: часы суток | B9: Активная энергия | J9: Реактивная энергия
B10: ЯЧ. 3 - ф. "Микрорайон-1" ввод № 1 | F10: яч. 13 - ф. "Микрорайон-2" ввод № 2 | J10: ЯЧ. 3 - ф. "Микрорайон-1" ввод № 1 | N10: яч. 13 - ф. "Микрорайон-2" ввод № 2
B11: Расчет. Коэф. | E11: 3600 | F11: Расчет. Коэф. | I11: 3600 | J11: Расчет. Коэф. | M11: =E11 -> 3600 | N11: Расчет. Коэф. | Q11: =I11 -> 3600
B12: показания счетчика | C12: разность | E12: расход эл.энергии за час | F12: показания счетчика | G12: разность | I12: расход эл.энергии за час | J12: показания счетчика | K12: разность | M12: расход эл.энергии за час | N12: показания счетчика | O12: разность | Q12: расход эл.энергии за час
A13: 1 | B13: 2 | C13: 3 | E13: 4 | F13: 5 | G13: 6 | I13: 7 | J13: 8 | K13: 9 | M13: 10 | N13: 11 | O13: 12 | Q13: 13
A14: 0
A15: 1 | E15: 107.64 | I15: 131.04 | M15: 42.12
A16: 2 | E16: 99 | I16: 119.52 | M16: 39.6 | Q16: 50.76
A17: 3 | E17: 82.8 | I17: 103.68 | M17: 34.92 | Q17: 48.6
A18: 4 | E18: 77.76 | I18: 100.8 | M18: 33.84 | Q18: 46.8
A19: 5 | E19: 77.4 | I19: 107.64 | M19: 33.12 | Q19: 47.52
A20: 6 | E20: 97.92 | I20: 151.56 | M20: 35.64 | Q20: 52.92
A21: 7 | E21: 134.28 | I21: 169.92 | M21: 38.88 | Q21: 52.92
A22: 8 | E22: 147.96 | I22: 176.04 | M22: 40.68 | Q22: 50.76
A23: 9 | E23: 158.04 | I23: 204.84 | M23: 38.16 | Q23: 52.2
A24: 10 | E24: 166.32 | I24: 225 | M24: 45.36 | Q24: 56.88
A25: 11 | E25: 169.2 | I25: 217.8 | M25: 50.04 | Q25: 58.32
A26: 12 | E26: 171.72 | I26: 212.4 | M26: 53.64 | Q26: 59.04
A27: 13 | E27: 159.48 | I27: 203.4 | M27: 51.84 | Q27: 60.84
... A38: 24 | E38: 119.52 | I38: 153.72 | M38: 35.64 | Q38: 46.08
A39: Итого | E39: =SUM(E15:E38) -> 3252.96 | I39: =SUM(I15:I38) -> 4267.8 | M39: =SUM(M15:M38) -> 1047.96 | Q39: =SUM(Q15:Q38) -> 1243.44
A40: 1. При наличии на предприятии отклонений от нормальных режимов электропотребления (временное изменение схем питания, остановка на ремонт, резкое снижение
A41: эл.потребления и т.д.) последние необходимо перечислить.
A42: Главный инженер АО "Вологдаоблэнерго" А.В. Чурляев
A43: составляется самим предприятием с соблюдением всех пунктов настоящей таблицы.

Sheet 12
B1: АО "Вологдаоблэнерго" | J1: код 900151 | N1: ГПП 110/10 кВ "ВОМЗ"
B2: наименование предприятия | N2: наименование источника питания
N3: _________________________________
B4: ул. Горького, 99 | I4: Таблица № 1 | O4: РП 29
B5: адрес
A6: почасовых записей показаний электрических счетчиков
A7: в режимный день 15 ИЮНЯ 2022 г.
A8: 613 | B8: 610
A9: часы суток | B9: Активная энергия | J9: Реактивная энергия
B10: ЯЧ.47 - РП 29 ввод № 1 | F10: ЯЧ.31 - РП 29 ввод № 2 | J10: ЯЧ.47 - РП 29 ввод № 1 | N10: ЯЧ.31 - РП 29 ввод № 2
B11: Расчет. Коэф. | E11: 12000 | F11: Расчет. Коэф. | I11: 20000 | J11: Расчет. Коэф. | M11: =E11 -> 12000 | N11: Расчет. Коэф. | Q11: =I11 -> 20000
B12: показания счетчика | C12: разность | E12: расход эл.энергии за час | F12: показания счетчика | G12: разность | I12: расход эл.энергии за час | J12: показания счетчика | K12: разность | M12: расход эл.энергии за час | N12: показания счетчика | O12: разность | Q12: расход эл.энергии за час
A13: 1 | B13: 2 | C13: 3 | E13: 4 | F13: 5 | G13: 6 | I13: 7 | J13: 8 | K13: 9 | M13: 10 | N13: 11 | O13: 12 | Q13: 13
A14: 0
A15: 1 | E15: 882 | I15: 624 | M15: 301.2 | Q15: 118
A16: 2 | E16: 793.2 | I16: 574 | M16: 278.4 | Q16: 110
A17: 3 | E17: 753.6 | I17: 520 | M17: 273.6 | Q17: 98
A18: 4 | E18: 714 | I18: 512 | M18: 253.2 | Q18: 90
A19: 5 | E19: 717.6 | I19: 500 | M19: 254.4 | Q19: 86
A20: 6 | E20: 844.8 | I20: 538 | M20: 276 | Q20: 96
A21: 7 | E21: 1011.6 | I21: 748 | M21: 284.4 | Q21: 118
A22: 8 | E22: 1261.2 | I22: 954 | M22: 306 | Q22: 138
A23: 9 | E23: 1519.2 | I23: 1168 | M23: 350.4 | Q23: 182
A24: 10 | E24: 1773.6 | I24: 1268 | M24: 380.4 | Q24: 200
A25: 11 | E25: 1914 | I25: 1294 | M25: 417.6 | Q25: 214
A26: 12 | E26: 1909.2 | I26: 1338 | M26: 423.6 | Q26: 216
... A38: 24 | E38: 988.8 | I38: 686 | M38: 279.6 | Q38: 114
A39: Итого | E39: =SUM(E15:E38) -> 33064.8 | I39: =SUM(I15:I38) -> 22734 | M39: =SUM(M15:M38) -> 8011.2 | Q39: =SUM(Q15:Q38) -> 3614
A40: 1. При наличии на предприятии отклонений от нормальных режимов электропотребления (временное изменение схем питания, остановка на ремонт, резкое снижение
A41: эл.потребления и т.д.) последние необходимо перечислить.
A42: Главный инженер АО "Вологдаоблэнерго" А.В. Чурляев
A43: составляется самим предприятием с соблюдением всех пунктов настоящей таблицы.

Sheet 13
B1: АО "Вологдаоблэнерго" | J1: код 900151 | N1: ГПП 110/10 кВ "ВОМЗ"
B2: наименование предприятия | N2: наименование источника питания
N3: _________________________________
B4: ул. Горького, 99 | I4: Таблица № 1 | O4: РП 14
B5: адрес
A6: почасовых записей показаний электрических счетчиков
A7: в режимный день 15 ИЮНЯ 2022 г.
A8: 614 | B8: 615
A9: часы суток | B9: Активная энергия | J9: Реактивная энергия
B10: ЯЧ.5 - РП 14 ввод № 1 | F10: ЯЧ.22 - РП 14 ввод № 2 | J10: ЯЧ.5 - РП 14 ввод № 1 | N10: ЯЧ.22 - РП 14 ввод № 2
B11: Расчет. Коэф. | E11: 12000 | F11: Расчет. Коэф. | I11: 12000 | J11: Расчет. Коэф. | M11: =E11 -> 12000 | N11: Расчет. Коэф. | Q11: =I11 -> 12000
B12: показания счетчика | C12: разность | E12: расход эл.энергии за час | F12: показания счетчика | G12: разность | I12: расход эл.энергии за час | J12: показания счетчика | K12: разность | M12: расход эл.энергии за час | N12: показания счетчика | O12: разность | Q12: расход эл.энергии за час
A13: 1 | B13: 2 | C13: 3 | E13: 4 | F13: 5 | G13: 6 | I13: 7 | J13: 8 | K13: 9 | M13: 10 | N13: 11 | O13: 12 | Q13: 13
A14: 0
A15: 1 | E15: 1354.8 | I15: 1538.4 | M15: 4.8 | Q15: 182.4
A16: 2 | E16: 1231.2 | I16: 1404 | M16: 1.2 | Q16: 130.8
A17: 3 | E17: 1119.6 | I17: 1282.8 | M17: 0 | Q17: 120
A18: 4 | E18: 1064.4 | I18: 1215.6 | M18: 0 | Q18: 96
A19: 5 | E19: 1074 | I19: 1228.8 | M19: 0 | Q19: 104.4
A20: 6 | E20: 1179.6 | I20: 1382.4 | M20: 2.4 | Q20: 157.2
A21: 7 | E21: 1458 | I21: 1798.8 | M21: 8.4 | Q21: 186
A22: 8 | E22: 1729.2 | I22: 2229.6 | M22: 46.8 | Q22: 238.8
A23: 9 | E23: 2026.8 | I23: 2570.4 | M23: 144 | Q23: 398.4
A24: 10 | E24: 2310 | I24: 2877.6 | M24: 208.8 | Q24: 469.2
A25: 11 | E25: 2479.2 | I25: 2904 | M25: 232.8 | Q25: 487.2
A26: 12 | E26: 2454 | I26: 2926.8 | M26: 235.2 | Q26: 507.6
... A38: 24 | E38: 1659.6 | I38: 1794 | M38: 2.4 | Q38: 123.6
A39: Итого | E39: =SUM(E15:E38) -> 46221.6 | I39: =SUM(I15:I38) -> 53835.6 | M39: =SUM(M15:M38) -> 2257.2 | Q39: =SUM(Q15:Q38) -> 7149.6
A40: 1. При наличии на предприятии отклонений от нормальных режимов электропотребления (временное изменение схем питания, остановка на ремонт, резкое снижение
A41: эл.потребления и т.д.) последние необходимо перечислить.
A42: Главный инженер АО "Вологдаоблэнерго" А.В. Чурляев
A43: составляется самим предприятием с соблюдением всех пунктов настоящей таблицы.

Sheet 14
B1: АО "Вологдаоблэнерго" | J1: код 900151 | N1: ГПП 110/10 кВ "ВОМЗ"
B2: наименование предприятия | N2: наименование источника питания
N3: _________________________________
B4: ул. Горького, 99 | I4: Таблица № 1 | O4: РП 2
B5: адрес
A6: почасовых записей показаний электрических счетчиков
A7: в режимный день 15 ИЮНЯ 2022 г.
A8: 612 | B8: 611
A9: часы суток | B9: Активная энергия | J9: Реактивная энергия
B10: ЯЧ.44 - РП 2 ввод № 1 | F10: ЯЧ.26в - РП 2 ввод № 2 | J10: ЯЧ.44 - РП 2 ввод № 1 | N10: ЯЧ.26в - РП 2 ввод № 2
B11: Расчет. Коэф. | E11: 12000 | F11: Расчет. Коэф. | I11: 12000 | J11: Расчет. Коэф. | M11: =E11 -> 12000 | N11: Расчет. Коэф. | Q11: =I11 -> 12000
B12: показания счетчика | C12: разность | E12: расход эл.энергии за час | F12: показания счетчика | G12: разность | I12: расход эл.энергии за час | J12: показания счетчика | K12: разность | M12: расход эл.энергии за час | N12: показания счетчика | O12: разность | Q12: расход эл.энергии за час
A13: 1 | B13: 2 | C13: 3 | E13: 4 | F13: 5 | G13: 6 | I13: 7 | J13: 8 | K13: 9 | M13: 10 | N13: 11 | O13: 12 | Q13: 13
A14: 0
A15: 1 | E15: 432 | I15: 442.8 | M15: 26.4 | Q15: 55.2
A16: 2 | E16: 390 | I16: 409.2 | M16: 22.8 | Q16: 40.8
A17: 3 | E17: 357.6 | I17: 355.2 | M17: 16.8 | Q17: 7.2
A18: 4 | E18: 332.4 | I18: 336 | M18: 3.6 | Q18: 2.4
A19: 5 | E19: 330 | I19: 364.8 | M19: 6 | Q19: 3.6
A20: 6 | E20: 355.2 | I20: 382.8 | M20: 9.6 | Q20: 9.6
A21: 7 | E21: 484.8 | I21: 447.6 | M21: 15.6 | Q21: 20.4
A22: 8 | E22: 531.6 | I22: 561.6 | M22: 31.2 | Q22: 31.2
A23: 9 | E23: 615.6 | I23: 686.4 | M23: 78 | Q23: 76.8
A24: 10 | E24: 682.8 | I24: 801.6 | M24: 85.2 | Q24: 110.4
A25: 11 | E25: 688.8 | I25: 843.6 | M25: 97.2 | Q25: 112.8
A26: 12 | E26: 702 | I26: 848.4 | M26: 100.8 | Q26: 129.6
... A38: 24 | E38: 487.2 | I38: 525.6 | M38: 7.2 | Q38: 60
A39: Итого | E39: =SUM(I15:I38) -> 14869.2 | I39: =SUM(I15:I38) -> 14869.2 | M39: =SUM(M15:M38) -> 1281.6 | Q39: =SUM(Q15:Q38) -> 1678.8
A40: 1. При наличии на предприятии отклонений от нормальных режимов электропотребления (временное изменение схем питания, остановка на ремонт, резкое снижение
A41: эл.потребления и т.д.) последние необходимо перечислить.
A42: Главный инженер АО "Вологдаоблэнерго" А.В. Чурляев
A43: составляется самим предприятием с соблюдением всех пунктов настоящей таблицы.

Sheet 15
B1: АО "Вологдаоблэнерго" | J1: код 900151 | N1: ПС ВОЛОГДА-ЮЖНАЯ РУ - 6 кВ
B2: наименование предприятия | N2: наименование источника питания
N3: _________________________________
B4: ул. Горького, 99 | I4: Таблица № 1 | N4: ТП 450 | Q4: ТП 630
B5: адрес
A6: почасовых записей показаний электрических счетчиков
A7: в режимный день 18 ДЕКАБРЯ 2019 г..
A8: 591 | B8: 595
A9: часы суток | B9: Активная энергия | J9: Реактивная энергия
B10: ЯЧ.№ 206 - "ГОРОД-15" | F10: ЯЧ.№103 - "ТУБДИСПАНСЕР" | J10: =B10 -> ЯЧ.№ 206 - "ГОРОД-15" | N10: =F10 -> ЯЧ.№103 - "ТУБДИСПАНСЕР"
B11: Расчет. Коэф. | E11: 4800 | F11: Расчет. Коэф. | I11: 2400 | J11: Расчет. Коэф. | M11: =E11 -> 4800 | N11: Расчет. Коэф. | Q11: =I11 -> 2400
B12: показания счетчика | C12: разность | E12: расход эл.энергии за час | F12: показания счетчика | G12: разность | I12: расход эл.энергии за час | J12: показания счетчика | K12: разность | M12: расход эл.энергии за час | N12: показания счетчика | O12: разность | Q12: расход эл.энергии за час
A13: 1 | B13: 2 | C13: 3 | E13: 4 | F13: 5 | G13: 6 | I13: 7 | J13: 8 | K13: 9 | M13: 10 | N13: 11 | O13: 12 | Q13: 13
A14: 0
A15: 1 | E15: 117.9 | I15: 259.47 | M15: 42.21 | Q15: 67.14
A16: 2 | E16: 120.69 | I16: 257.22 | M16: 48.69 | Q16: 59.13
A17: 3 | E17: 104.04 | I17: 211.77 | M17: 45.36 | Q17: 60.57
A18: 4 | E18: 88.83 | I18: 193.95 | M18: 36.72 | Q18: 56.16
A19: 5 | E19: 84.96 | I19: 205.74 | M19: 36.63 | Q19: 57.06
A20: 6 | E20: 93.6 | I20: 238.86 | M20: 39.51 | Q20: 66.42
A21: 7 | E21: 134.01 | I21: 272.52 | M21: 60.48 | Q21: 64.71
A22: 8 | E22: 191.7 | I22: 325.89 | M22: 96.93 | Q22: 72.72
A23: 9 | E23: 224.28 | I23: 377.19 | M23: 136.89 | Q23: 95.58
A24: 10 | E24: 259.2 | I24: 381.78 | M24: 143.1 | Q24: 107.64
A25: 11 | E25: 314.46 | I25: 383.22 | M25: 180.9 | Q25: 116.55
A26: 12 | E26: 301.41 | I26: 391.95 | M26: 162.99 | Q26: 114.75
... A38: 24 | E38: 137.82 | I38: 262.83 | M38: 41.32 | Q38: 56.33
A39: Итого | E39: =SUM(E15:E38) -> 4543.32 | I39: =SUM(I15:I38) -> 7686.84 | M39: =SUM(M15:M38) -> 2315.26 | Q39: =SUM(Q15:Q38) -> 1980.44
A40: 1. При наличии на предприятии отклонений от нормальных режимов электропотребления (временное изменение схем питания, остановка на ремонт, резкое снижение
A41: эл.потребления и т.д.) последние необходимо перечислить.
A42: Главный инженер АО "Вологдаоблэнерго" А.В. Чурляев
A43: составляется самим предприятием с соблюдением всех пунктов настоящей таблицы.

Sheet 16
B1: АО "Вологдаоблэнерго" | J1: код 900151 | N1: ПС ВОЛОГДА-ЮЖНАЯ РУ-10 кВ
B2: наименование предприятия | I2: _ | N2: наименование источника питания
N3: _________________________________
B4: ул. Горького, 99 | I4: Таблица № 1 | O4: РП 32
B5: адрес
A6: почасовых записей показаний электрических счетчиков
A7: в режимный день 15 ИЮНЯ 2022 г.
A8: 590 | B8: 593
A9: часы суток | B9: Активная энергия | J9: Реактивная энергия
B10: ЯЧ.№206 - "ГОРОД-10" | F10: ЯЧ.№404- "ГОРОД-14" | J10: =B10 -> ЯЧ.№206 - "ГОРОД-10" | N10: =F10 -> ЯЧ.№404- "ГОРОД-14"
B11: Расчет. Коэф. | E11: 6000 | F11: Расчет. Коэф. | I11: 3000 | J11: Расчет. Коэф. | M11: =E11 -> 6000 | N11: Расчет. Коэф. | Q11: =I11 -> 3000
B12: показания счетчика | C12: разность | E12: расход эл.энергии за час | F12: показания счетчика | G12: разность | I12: расход эл.энергии за час | J12: показания счетчика | K12: разность | M12: расход эл.энергии за час | N12: показания счетчика | O12: разность | Q12: расход эл.энергии за час
A13: 1 | B13: 2 | C13: 3 | E13: 4 | F13: 5 | G13: 6 | I13: 7 | J13: 8 | K13: 9 | M13: 10 | N13: 11 | O13: 12 | Q13: 13
A14: 0
A15: 1 | E15: 294.6 | I15: 504.3 | M15: 4.5 | Q15: 22.5
A16: 2 | E16: 286.8 | I16: 482.4 | M16: 0.6 | Q16: 14.4
A17: 3 | E17: 278.4 | I17: 450.6 | M17: 0 | Q17: 4.5
A18: 4 | E18: 266.4 | I18: 496.2 | M18: 0 | Q18: 1.2
A19: 5 | E19: 267.6 | I19: 561.9 | M19: 0.6 | Q19: 5.4
A20: 6 | E20: 303.6 | I20: 558.6 | M20: 0.6 | Q20: 11.1
A21: 7 | E21: 368.7 | I21: 688.5 | M21: 1.8 | Q21: 12.3
A22: 8 | E22: 489.3 | I22: 864 | M22: 30.3 | Q22: 28.2
A23: 9 | E23: 501.6 | I23: 1029.6 | M23: 52.5 | Q23: 45
A24: 10 | E24: 543.9 | I24: 1074 | M24: 76.8 | Q24: 78.6
A25: 11 | E25: 507.3 | I25: 1020.6 | M25: 75.9 | Q25: 93
A26: 12 | E26: 516.3 | I26: 1033.8 | M26: 83.1 | Q26: 85.2
... A38: 24 | E38: 318.5 | I38: 527.7 | M38: 0 | Q38: 0
A39: Итого | E39: =SUM(E15:E38) -> 9521.6 | I39: =SUM(I15:I38) -> 17425.5 | M39: =SUM(M15:M38) -> 745.2 | Q39: =SUM(Q15:Q38) -> 804
A40: 1. При наличии на предприятии отклонений от нормальных режимов электропотребления (временное изменение схем питания, остановка на ремонт, резкое снижение
A41: эл.потребления и т.д.) последние необходимо перечислить.
A42: Главный инженер АО "Вологдаоблэнерго" А.В. Чурляев
A43: составляется самим предприятием с соблюдением всех пунктов настоящей таблицы.

Sheet 17
B1: АО "Вологдаоблэнерго" | J1: код 900151 | N1: ПС ВОЛОГДА-ЮЖНАЯ РУ-10 кВ
B2: наименование предприятия | N2: наименование источника питания
N3: РП-44
B4: ул. Горького, 99 | I4: Таблица № 1
B5: адрес
A6: почасовых записей показаний электрических счетчиков
A7: в режимный день 15 ИЮНЯ 2022 г.
A9: часы суток | B9: Активная энергия | J9: Реактивная энергия
B10: яч. 307 ф "Охмыльцево-1" | F10: яч. 409 ф "Охмыльцево-2" | J10: яч. 307 ф "Охмыльцево-1" | N10: яч. 409 ф "Охмыльцево-2"
B11: Расчет. Коэф. | F11: Расчет. Коэф. | J11: Расчет. Коэф. | N11: Расчет. Коэф.
B12: показания счетчика | C12: разность | E12: расход эл.энергии за час | F12: показания счетчика | G12: разность | I12: расход эл.энергии за час | J12: показания счетчика | K12: разность | M12: расход эл.энергии за час | N12: показания счетчика | O12: разность | Q12: расход эл.энергии за час
A13: 1 | B13: 2 | C13: 3 | E13: 4 | F13: 5 | G13: 6 | I13: 7 | J13: 8 | K13: 9 | M13: 10 | N13: 11 | O13: 12 | Q13: 13
A14: 0
A15: 1 | E15: 280.2 | I15: 296.4 | M15: 0 | Q15: 0
A16: 2 | E16: 252.6 | I16: 267.6 | M16: 0 | Q16: 0
A17: 3 | E17: 232.8 | I17: 249.9 | M17: 0 | Q17: 0
A18: 4 | E18: 231.3 | I18: 241.8 | M18: 0 | Q18: 0
A19: 5 | E19: 262.2 | I19: 258.6 | M19: 0 | Q19: 0
A20: 6 | E20: 351.9 | I20: 325.2 | M20: 0 | Q20: 0
A21: 7 | E21: 407.1 | I21: 429.6 | M21: 0.3 | Q21: 0
A22: 8 | E22: 427.5 | I22: 464.4 | M22: 0.9 | Q22: 0
A23: 9 | E23: 469.2 | I23: 469.5 | M23: 3.6 | Q23: 0
A24: 10 | E24: 516.9 | I24: 487.2 | M24: 31.8 | Q24: 0
A25: 11 | E25: 489.3 | I25: 494.7 | M25: 32.4 | Q25: 0
A26: 12 | E26: 503.4 | I26: 497.1 | M26: 38.7 | Q26: 0
... A37: 23 | E37: 390 | I37: 459 | M37: 0 | Q37: 0
A38: 24 | E38: 295 | I38: 358 | M38: 0
A39: Итого | E39: =SUM(E15:E38) -> 10421.5 | I39: =SUM(I15:I38) -> 10694.8 | M39: =SUM(M15:M38) -> 384 | Q39: =SUM(Q15:Q38) -> 0
A40: 1. При наличии на предприятии отклонений от нормальных режимов электропотребления (временное изменение схем питания, остановка на ремонт, резкое снижение
A41: эл.потребления и т.д.) последние необходимо перечислить.
A42: Главный инженер АО "Вологдаоблэнерго" А.В. Чурляев
A43: составляется самим предприятием с соблюдением всех пунктов настоящей таблицы.

Sheet 18
B1: АО "Вологдаоблэнерго" | J1: код 900151 | N1: ПС ВОЛОГДА-ЮЖНАЯ РУ-10 кВ
B2: наименование предприятия | N2: наименование источника питания
N3: _________________________________
B4: ул. Горького, 99 | I4: Таблица № 1 | O4: РП 26
B5: адрес
A6: почасовых записей показаний электрических счетчиков
A7: в режимный день 15 ИЮНЯ 2022 г.
A8: 589 | B8: 592
A9: часы суток | B9: Активная энергия | J9: Реактивная энергия
B10: ЯЧ. № 107- ф."ГОРОД 7" | F10: ЯЧ. № 204 - ф."ГОРОД 17" | J10: ЯЧ. № 107- ф."ГОРОД 7" | N10: ЯЧ. № 204 - ф."ГОРОД 17"
B11: Расчет. Коэф. | E11: 8000 | F11: Расчет. Коэф. | I11: 8000 | J11: Расчет. Коэф. | M11: =E11 -> 8000 | N11: Расчет. Коэф. | Q11: =I11 -> 8000
B12: показания счетчика | C12: разность | E12: расход эл.энергии за час | F12: показания счетчика | G12: разность | I12: расход эл.энергии за час | J12: показания счетчика | K12: разность | M12: расход эл.энергии за час | N12: показания счетчика | O12: разность | Q12: расход эл.энергии за час
A13: 1 | B13: 2 | C13: 3 | E13: 4 | F13: 5 | G13: 6 | I13: 7 | J13: 8 | K13: 9 | M13: 10 | N13: 11 | O13: 12 | Q13: 13
A14: 0
A15: 1 | E15: 1161.3 | I15: 1127.4 | M15: 177 | Q15: 128.7
A16: 2 | E16: 1033.8 | I16: 1019.4 | M16: 153.6 | Q16: 114
A17: 3 | E17: 949.8 | I17: 921.9 | M17: 134.7 | Q17: 90
A18: 4 | E18: 917.4 | I18: 913.5 | M18: 127.5 | Q18: 82.8
A19: 5 | E19: 955.2 | I19: 1026.9 | M19: 133.2 | Q19: 94.8
A20: 6 | E20: 1198.8 | I20: 1375.2 | M20: 162.9 | Q20: 123.6
A21: 7 | E21: 1601.4 | I21: 1755 | M21: 223.8 | Q21: 182.4
A22: 8 | E22: 1735.5 | I22: 1905.3 | M22: 238.8 | Q22: 242.1
A23: 9 | E23: 1813.5 | I23: 1875.6 | M23: 251.4 | Q23: 228.3
A24: 10 | E24: 1852.8 | I24: 1854.6 | M24: 288 | Q24: 275.7
A25: 11 | E25: 1823.4 | I25: 1761.9 | M25: 282.6 | Q25: 265.5
A26: 12 | E26: 1805.4 | I26: 1736.7 | M26: 304.2 | Q26: 269.7
... A38: 24 | E38: 1321 | I38: 1255 | M38: 117 | Q38: 135.6
A39: Итого | E39: =SUM(E15:E38) -> 38875 | I39: =SUM(I15:I38) -> 37451.8 | M39: =SUM(M15:M38) -> 5666.7 | Q39: =SUM(Q15:Q38) -> 4696.4
A40: 1. При наличии на предприятии отклонений от нормальных режимов электропотребления (временное изменение схем питания, остановка на ремонт, резкое снижение
A41: эл.потребления и т.д.) последние необходимо перечислить.
A42: Главный инженер АО "Вологдаоблэнерго" А.В. Чурляев
A43: составляется самим предприятием с соблюдением всех пунктов настоящей таблицы.

Sheet 19
B1: АО "Вологдаоблэнерго" | J1: код 900151 | N1: ПС ВОЛОГДА-ЮЖНАЯ РУ - 10 кВ
B2: наименование предприятия | N2: наименование источника питания
N3: _________________________________
B4: ул. Горького, 99 | I4: Таблица № 1 | O4: РП 43
B5: адрес
A6: почасовых записей показаний электрических счетчиков
A7: в режимный день 15 ИЮНЯ 2022 г.
A8: 597 | B8: 596
A9: часы суток | B9: Активная энергия | J9: Реактивная энергия
B10: ЯЧ.№ 407 - "ГОРОД-3" | F10: ЯЧ.№ 305 - "ГОРОД-5" | J10: ЯЧ.№ 407- "ГОРОД-3" | N10: ЯЧ.№ 305- "ГОРОД-5"
B11: Расчет. Коэф. | E11: 6000 | F11: Расчет. Коэф. | I11: 4000 | J11: Расчет. Коэф. | M11: =E11 -> 6000 | N11: Расчет. Коэф. | Q11: =I11 -> 4000
B12: показания счетчика | C12: разность | E12: расход эл.энергии за час | F12: показания счетчика | G12: разность | I12: расход эл.энергии за час | J12: показания счетчика | K12: разность | M12: расход эл.энергии за час | N12: показания счетчика | O12: разность | Q12: расход эл.энергии за час
A13: 1 | B13: 2 | C13: 3 | E13: 4 | F13: 5 | G13: 6 | I13: 7 | J13: 8 | K13: 9 | M13: 10 | N13: 11 | O13: 12 | Q13: 13
A14: 0
A15: 1 | E15: 1220.1 | I15: 2061.6 | M15: 96.6 | Q15: 468.9
A16: 2 | E16: 1133.1 | I16: 1924.8 | M16: 78.9 | Q16: 435.3
A17: 3 | E17: 1043.1 | I17: 1798.2 | M17: 53.1 | Q17: 407.7
A18: 4 | E18: 1012.8 | I18: 1787.4 | M18: 47.7 | Q18: 405.3
A19: 5 | E19: 1045.5 | I19: 1855.8 | M19: 50.7 | Q19: 401.1
A20: 6 | E20: 1210.2 | I20: 2231.1 | M20: 78.6 | Q20: 464.1
A21: 7 | E21: 1458.6 | I21: 2593.2 | M21: 96 | Q21: 519.9
A22: 8 | E22: 1726.5 | I22: 2858.1 | M22: 142.2 | Q22: 545.1
A23: 9 | E23: 2049.3 | I23: 3156.3 | M23: 200.7 | Q23: 581.4
A24: 10 | E24: 2180.1 | I24: 3425.7 | M24: 267.9 | Q24: 648
A25: 11 | E25: 2186.7 | I25: 3459.9 | M25: 297.9 | Q25: 672
A26: 12 | E26: 2154 | I26: 3490.2 | M26: 279.6 | Q26: 714.9
... A38: 24 | E38: 615.3 | I38: 1236 | M38: 14.7 | Q38: 214.8
A39: Итого | E39: =SUM(E15:E38) -> 40924.8 | I39: =SUM(I15:I38) -> 68282.1 | M39: =SUM(M15:M38) -> 3843.9 | Q39: =SUM(Q15:Q38) -> 13328.7
A40: 1. При наличии на предприятии отклонений от нормальных режимов электропотребления (временное изменение схем питания, остановка на ремонт, резкое снижение
A41: эл.потребления и т.д.) последние необходимо перечислить.
A42: Главный инженер АО "Вологдаоблэнерго" А.В. Чурляев
A43: составляется самим предприятием с соблюдением всех пунктов настоящей таблицы.

Sheet 20
B1: АО "Вологдаоблэнерго" | J1: код 900151 | N1: ПС ВОЛОГДА-ЮЖНАЯ РУ-10 кВ
B2: наименование предприятия | N2: наименование источника питания
N3: _________________________________
B4: ул. Горького, 99 | I4: Таблица № 1 | O4: РП 27
B5: адрес
A6: почасовых записей показаний электрических счетчиков
A7: в режимный день 15 ИЮНЯ 2022 г.
A8: 30 | B8: 49
A9: часы суток | B9: Активная энергия | J9: Реактивная энергия
B10: ЯЧ. № 408 - "ГОРОД -1" | F10: ЯЧ.№ 105 - "РП 27" | J10: ЯЧ. № 408 - "ГОРОД -1" | N10: ЯЧ.№ 105 - "РП 27"
B11: Расчет. Коэф. | E11: 12000 | F11: Расчет. Коэф. | I11: 12000 | J11: Расчет. Коэф. | M11: =E11 -> 12000 | N11: Расчет. Коэф. | Q11: =I11 -> 12000
B12: показания счетчика | C12: разность | E12: расход эл.энергии за час | F12: показания счетчика | G12: разность | I12: расход эл.энергии за час | J12: показания счетчика | K12: разность | M12: расход эл.энергии за час | N12: показания счетчика | O12: разность | Q12: расход эл.энергии за час
A13: 1 | B13: 2 | C13: 3 | E13: 4 | F13: 5 | G13: 6 | I13: 7 | J13: 8 | K13: 9 | M13: 10 | N13: 11 | O13: 12 | Q13: 13
A14: 0
A15: 1 | E15: 0 | I15: 0 | M15: 0 | Q15: 0
A16: 2 | E16: 0 | I16: 0 | M16: 0 | Q16: 0
A17: 3 | E17: 0 | I17: 0 | M17: 0 | Q17: 0
A18: 4 | E18: 0 | I18: 0 | M18: 0 | Q18: 0
A19: 5 | E19: 0 | I19: 0 | M19: 0 | Q19: 0
A20: 6 | E20: 0 | I20: 0 | M20: 0 | Q20: 0
A21: 7 | E21: 0 | I21: 0 | M21: 0 | Q21: 0
A22: 8 | E22: 0 | I22: 0 | M22: 0 | Q22: 0
A23: 9 | E23: 0 | I23: 0 | M23: 0 | Q23: 0
A24: 10 | E24: 0 | I24: 0 | M24: 0 | Q24: 0
A25: 11 | E25: 0 | I25: 0 | M25: 0 | Q25: 0
A26: 12 | E26: 0 | I26: 0 | M26: 0 | Q26: 0
... A38: 24 | E38: 0 | I38: 0 | M38: 0 | Q38: 0
A39: Итого | E39: =SUM(E15:E38) -> 0 | I39: =SUM(I15:I38) -> 0 | M39: =SUM(M15:M38) -> 0 | Q39: =SUM(Q15:Q38) -> 0
A40: 1. При наличии на предприятии отклонений от нормальных режимов электропотребления (временное изменение схем питания, остановка на ремонт, резкое снижение
A41: эл.потребления и т.д.) последние необходимо перечислить.
A42: Главный инженер АО "Вологдаоблэнерго" А.В. Чурляев
A43: составляется самим предприятием с соблюдением всех пунктов настоящей таблицы.

Sheet 21
B1: АО "Вологдаоблэнерго" | J1: код 900151 | N1: ПС ВОЛОГДА-ЮЖНАЯ РУ-10 кВ
B2: наименование предприятия | N2: наименование источника питания
N3: яч. 406 ф "РОДИОНЦЕВО",
B4: ул. Горького, 99 | I4: Таблица № 1 | N4: КТП-906, ПКУ- ЛЭП-43
B5: адрес
A6: почасовых записей показаний электрических счетчиков
A7: в режимный день 15 ИЮНЯ 2022 г.
A8: 362 | B8: 985
A9: часы суток | B9: Активная энергия | J9: Реактивная энергия
B10: яч. 406 ф "РОДИОНЦЕВО" - ПКУ | F10: КТП-906 | J10: яч. 406 ф "РОДИОНЦЕВО" - ПКУ | N10: КТП-906
B11: Расчет. Коэф. | E11: 2000 | F11: Расчет. Коэф. | I11: 80 | J11: Расчет. Коэф. | M11: =E11 -> 2000 | N11: Расчет. Коэф. | Q11: =I11 -> 80
B12: показания счетчика | C12: разность | E12: расход эл.энергии за час | F12: показания счетчика | G12: разность | I12: расход эл.энергии за час | J12: показания счетчика | K12: разность | M12: расход эл.энергии за час | N12: показания счетчика | O12: разность | Q12: расход эл.энергии за час
A13: 1 | B13: 2 | C13: 3 | E13: 4 | F13: 5 | G13: 6 | I13: 7 | J13: 8 | K13: 9 | M13: 10 | N13: 11 | O13: 12 | Q13: 13
A14: 0
A15: 1 | E15: 7.8 | I15: 10.12 | M15: 0 | Q15: 2.72
A16: 2 | E16: 7.4 | I16: 9.28 | M16: 0 | Q16: 2.32
A17: 3 | E17: 4.2 | I17: 8.8 | M17: 0 | Q17: 2.28
A18: 4 | E18: 2.2 | I18: 8.88 | M18: 0 | Q18: 2.32
A19: 5 | E19: 2.4 | I19: 8.76 | M19: 0 | Q19: 2.36
A20: 6 | E20: 2.4 | I20: 9.16 | M20: 0 | Q20: 2.52
A21: 7 | E21: 2.8 | I21: 9.16 | M21: 0 | Q21: 1.96
A22: 8 | E22: 5.6 | I22: 11.72 | M22: 0 | Q22: 2.72
A23: 9 | E23: 8.8 | I23: 15.12 | M23: 0 | Q23: 3.08
A24: 10 | E24: 11.6 | I24: 13.2 | M24: 0 | Q24: 2.4
A25: 11 | E25: 12 | I25: 12.36 | M25: 0 | Q25: 3.28
A26: 12 | E26: 11.4 | I26: 13.36 | M26: 0 | Q26: 3.12
... A38: 24 | E38: 7.4 | I38: 11.2 | M38: 0 | Q38: 3.08
A39: Итого | E39: =SUM(E15:E38) -> 153.2 | I39: =SUM(I15:I38) -> 294.12 | M39: =SUM(M15:M38) -> 0 | Q39: =SUM(Q15:Q38) -> 71.08
A40: 1. При наличии на предприятии отклонений от нормальных режимов электропотребления (временное изменение схем питания, остановка на ремонт, резкое снижение
A41: эл.потребления и т.д.) последние необходимо перечислить.
A42: Главный инженер АО "Вологдаоблэнерго" А.В. Чурляев
A43: составляется самим предприятием с соблюдением всех пунктов настоящей таблицы.

Sheet 21_1
B1: АО "Вологдаоблэнерго" | J1: код 900151 | N1: ПС ВОЛОГДА-ЮЖНАЯ РУ- 6 кВ
B2: наименование предприятия | N2: наименование источника питания
N3: _________________________________
B4: ул. Горького, 99 | I4: Таблица № 1 | O4: ТП 461
B5: адрес
A6: почасовых записей показаний электрических счетчиков
A7: в режимный день 15 ИЮНЯ 2022 г.
A8: 594
A9: часы суток | B9: Активная энергия | J9: Реактивная энергия
B10: ЯЧ.№203 - "ГОРОД 20" | J10: ЯЧ.№203 - "ГОРОД 20"
B11: Расчет. Коэф. | E11: 7200 | F11: Расчет. Коэф. | I11: 0 | J11: Расчет. Коэф. | M11: =E11 -> 7200 | N11: Расчет. Коэф. | Q11: =I11 -> 0
B12: показания счетчика | C12: разность | E12: расход эл.энергии за час | F12: показания счетчика | G12: разность | I12: расход эл.энергии за час | J12: показания счетчика | K12: разность | M12: расход эл.энергии за час | N12: показания счетчика | O12: разность | Q12: расход эл.энергии за час
A13: 1 | B13: 2 | C13: 3 | E13: 4 | F13: 5 | G13: 6 | I13: 7 | J13: 8 | K13: 9 | M13: 10 | N13: 11 | O13: 12 | Q13: 13
A14: 0
A15: 1 | E15: 111.96 | M15: 26.46
A16: 2 | E16: 103.59 | M16: 23.58
A17: 3 | E17: 100.44 | M17: 24.03
A18: 4 | E18: 93.6 | M18: 21.24
A19: 5 | E19: 143.55 | M19: 25.29
A20: 6 | E20: 203.94 | M20: 31.95
A21: 7 | E21: 215.01 | M21: 32.4
A22: 8 | E22: 233.55 | M22: 32.94
A23: 9 | E23: 270.72 | M23: 35.28
A24: 10 | E24: 265.32 | M24: 40.95
A25: 11 | E25: 233.82 | M25: 39.69
A26: 12 | E26: 224.46 | M26: 43.83
... A38: 24 | E38: 138.95 | M38: 21.25
A39: Итого | E39: =SUM(E15:E38) -> 4287.59 | M39: =SUM(M15:M38) -> 762.04
A40: 1. При наличии на предприятии отклонений от нормальных режимов электропотребления (временное изменение схем питания, остановка на ремонт, резкое снижение
A41: эл.потребления и т.д.) последние необходимо перечислить.
A42: Главный инженер АО "Вологдаоблэнерго" А.В. Чурляев
A43: составляется самим предприятием с соблюдением всех пунктов настоящей таблицы.

Sheet 21_2
B1: АО "Вологдаоблэнерго" | J1: код 900151 | N1: ПС ВОЛОГДА-ЮЖНАЯ РУ-10 кВ
B2: наименование предприятия | N2: наименование источника питания
N3: яч. 104 ф 6 кВ Керамик-1
B4: ул. Горького, 99 | I4: Таблица № 1
B5: адрес
A6: почасовых записей показаний электрических счетчиков
A7: в режимный день 15 ИЮНЯ 2022 г.
A9: часы суток | B9: Активная энергия | J9: Реактивная энергия
B10: яч. 104 ф 6 кВ Керамик-1 ТП-841Т-1 | F10: яч. 104 ф 6 кВ Керамик-1 ТП-417 | J10: яч. 104 ф 6 кВ Керамик-1 ТП-841Т-1 | N10: яч. 104 ф 6 кВ Керамик-1 ТП-417
B11: Расчет. Коэф. | F11: Расчет. Коэф. | I11: 200 | J11: Расчет. Коэф. | N11: Расчет. Коэф. | Q11: 200
B12: показания счетчика | C12: разность | E12: расход эл.энергии за час | F12: показания счетчика | G12: разность | I12: расход эл.энергии за час | J12: показания счетчика | K12: разность | M12: расход эл.энергии за час | N12: показания счетчика | O12: разность | Q12: расход эл.энергии за час
A13: 1 | B13: 2 | C13: 3 | E13: 4 | F13: 5 | G13: 6 | I13: 7 | J13: 8 | K13: 9 | M13: 10 | N13: 11 | O13: 12 | Q13: 13
A14: 0
A15: 1 | E15: 0 | I15: 4 | M15: 0 | Q15: 0.1
A16: 2 | E16: 0 | I16: 3.9 | M16: 0 | Q16: 0.2
A17: 3 | E17: 0 | I17: 3.9 | M17: 0 | Q17: 0.2
A18: 4 | E18: 0 | I18: 4.4 | M18: 0 | Q18: 0.1
A19: 5 | E19: 0 | I19: 3.8 | M19: 0 | Q19: 0.2
A20: 6 | E20: 0 | I20: 3.7 | M20: 0 | Q20: 0.1
A21: 7 | E21: 0 | I21: 3.8 | M21: 0 | Q21: 0.1
A22: 8 | E22: 0 | I22: 4.4 | M22: 0 | Q22: 0.2
A23: 9 | E23: 0 | I23: 3.7 | M23: 0 | Q23: 0.1
A24: 10 | E24: 0 | I24: 3.8 | M24: 0 | Q24: 0
A25: 11 | E25: 0 | I25: 5 | M25: 0 | Q25: 0.1
A26: 12 | E26: 0 | I26: 6.6 | M26: 0 | Q26: 1.7
... A38: 24 | E38: 0 | I38: 4.2 | M38: 0 | Q38: 0.1
A39: Итого | E39: =SUM(E15:E38) -> 0 | I39: =SUM(I15:I38) -> 119.9 | M39: =SUM(M15:M38) -> 0 | Q39: =SUM(Q15:Q38) -> 13.4
A40: 1. При наличии на предприятии отклонений от нормальных режимов электропотребления (временное изменение схем питания, остановка на ремонт, резкое снижение
A41: эл.потребления и т.д.) последние необходимо перечислить.
A42: Главный инженер АО "Вологдаоблэнерго" А.В. Чурляев
A43: составляется самим предприятием с соблюдением всех пунктов настоящей таблицы.

Sheet 21_3
B1: АО "Вологдаоблэнерго" | J1: код 900151 | N1: ПС ВОЛОГДА-ЮЖНАЯ РУ-10 кВ
B2: наименование предприятия | N2: наименование источника питания
N3: яч. 104 ф 6 кВ Керамик-1
B4: ул. Горького, 99 | I4: Таблица № 1
B5: адрес
A6: почасовых записей показаний электрических счетчиков
A7: в режимный день 15 ИЮНЯ 2022 г.
A9: часы суток | B9: Активная энергия | J9: Реактивная энергия
B10: яч. 104 ф 6 кВ Керамик-1 КТП-1004 | J10: яч. 104 ф 6 кВ Керамик-1 КТП-1004
B11: Расчет. Коэф. | F11: Расчет. Коэф. | J11: Расчет. Коэф. | N11: Расчет. Коэф.
B12: показания счетчика | C12: разность | E12: расход эл.энергии за час | F12: показания счетчика | G12: разность | I12: расход эл.энергии за час | J12: показания счетчика | K12: разность | M12: расход эл.энергии за час | N12: показания счетчика | O12: разность | Q12: расход эл.энергии за час
A13: 1 | B13: 2 | C13: 3 | E13: 4 | F13: 5 | G13: 6 | I13: 7 | J13: 8 | K13: 9 | M13: 10 | N13: 11 | O13: 12 | Q13: 13
A14: 0
A15: 1 | E15: 4.316 | M15: 0.542
A16: 2 | E16: 3.508 | M16: 0.382
A17: 3 | E17: 2.822 | M17: 0.382
A18: 4 | E18: 2.78 | M18: 0.424
A19: 5 | E19: 3.664 | M19: 0.27
A20: 6 | E20: 3.254 | M20: 0.388
A21: 7 | E21: 4.726 | M21: 0.344
A22: 8 | E22: 6.054 | M22: 0.298
A23: 9 | E23: 6.374 | M23: 0.332
A24: 10 | E24: 4.228 | M24: 0.564
A25: 11 | E25: 4.212 | M25: 0.754
A26: 12 | E26: 5.038 | M26: 1.182
... A38: 24 | E38: 6.016 | M38: 0.394
A39: Итого | E39: =SUM(E15:E38) -> 129.748 | I39: =SUM(I15:I38) -> 0 | M39: =SUM(M15:M38) -> 13.078 | Q39: =SUM(Q15:Q38) -> 0
A40: 1. При наличии на предприятии отклонений от нормальных режимов электропотребления (временное изменение схем питания, остановка на ремонт, резкое снижение
A41: эл.потребления и т.д.) последние необходимо перечислить.
A42: Главный инженер АО "Вологдаоблэнерго" А.В. Чурляев
A43: составляется самим предприятием с соблюдением всех пунктов настоящей таблицы.

Sheet 21_4
B1: АО "Вологдаоблэнерго" | J1: код 900151 | N1: ПС ВОЛОГДА-ЮЖНАЯ РУ-10 кВ
B2: наименование предприятия | N2: наименование источника питания
N3: яч. 207 ф 10 кВ Керамик 2
B4: ул. Горького, 99 | I4: Таблица № 1
B5: адрес
A6: почасовых записей показаний электрических счетчиков
A7: в режимный день 15 ИЮНЯ 2022 г.
A9: часы суток | B9: Активная энергия | J9: Реактивная энергия
B10: яч. 207 ф 10 кВ Керамик 2 ТП841 Т-2 | J10: яч. 207 ф 10 кВ Керамик 2 ТП841 Т-2
B11: Расчет. Коэф. | F11: Расчет. Коэф. | J11: Расчет. Коэф. | N11: Расчет. Коэф.
B12: показания счетчика | C12: разность | E12: расход эл.энергии за час | F12: показания счетчика | G12: разность | I12: расход эл.энергии за час | J12: показания счетчика | K12: разность | M12: расход эл.энергии за час | N12: показания счетчика | O12: разность | Q12: расход эл.энергии за час
A13: 1 | B13: 2 | C13: 3 | E13: 4 | F13: 5 | G13: 6 | I13: 7 | J13: 8 | K13: 9 | M13: 10 | N13: 11 | O13: 12 | Q13: 13
A14: 0
A15: 1 | E15: 55.95
A16: 2 | E16: 49.5
A17: 3 | E17: 46.5
A18: 4 | E18: 45.15
A19: 5 | E19: 53.4
A20: 6 | E20: 73.35
A21: 7 | E21: 84.3
A22: 8 | E22: 82.8
A23: 9 | E23: 86.25
A24: 10 | E24: 85.35
A25: 11 | E25: 83.25
A26: 12 | E26: 79.05
... A38: 24 | E38: 90.3
A39: Итого | E39: =SUM(E15:E38) -> 2049.3 | I39: =SUM(I15:I38) -> 0 | M39: =SUM(M15:M38) -> 0 | Q39: =SUM(Q15:Q38) -> 0
A40: 1. При наличии на предприятии отклонений от нормальных режимов электропотребления (временное изменение схем питания, остановка на ремонт, резкое снижение
A41: эл.потребления и т.д.) последние необходимо перечислить.
A42: Главный инженер АО "Вологдаоблэнерго" А.В. Чурляев
A43: составляется самим предприятием с соблюдением всех пунктов настоящей таблицы.

Sheet 21_5
B1: АО "Вологдаоблэнерго" | J1: код 900151 | K1: ПС "Вологда-Южная"РУ 6кВ - транзит через "БМЗ"
B2: наименование предприятия | N2: наименование источника питания
N3: ф 6 кВ БМЗ-1, БМЗ-2
B4: ул. Горького, 99 | I4: Таблица № 1
B5: адрес
A6: почасовых записей показаний электрических счетчиков
A7: в режимный день 15 ИЮНЯ 2022 г.
A9: часы суток | B9: Активная энергия | J9: Реактивная энергия
B10: яч. 106 ф 6 кВ БМЗ-1 РТП 25 Т1 | J10: яч. 204 ф 6 кВ БМЗ-2 РТП 25 Т2
B11: Расчет. Коэф. | F11: Расчет. Коэф. | J11: Расчет. Коэф. | N11: Расчет. Коэф.
B12: показания счетчика | C12: разность | E12: расход эл.энергии за час | F12: показания счетчика | G12: разность | I12: расход эл.энергии за час | J12: показания счетчика | K12: разность | M12: расход эл.энергии за час | N12: показания счетчика | O12: разность | Q12: расход эл.энергии за час
A13: 1 | B13: 2 | C13: 3 | E13: 4 | F13: 5 | G13: 6 | I13: 7 | J13: 8 | K13: 9 | M13: 10 | N13: 11 | O13: 12 | Q13: 13
A14: 0
A15: 1 | E15: 75.24 | I15: 82.2 | M15: 22.8 | Q15: 36.48
A16: 2 | E16: 68.16 | I16: 74.58 | M16: 22.56 | Q16: 34.86
A17: 3 | E17: 57.36 | I17: 69.54 | M17: 21.36 | Q17: 34.02
A18: 4 | E18: 52.08 | I18: 67.14 | M18: 20.16 | Q18: 33.12
A19: 5 | E19: 54.6 | I19: 68.04 | M19: 20.52 | Q19: 33.6
A20: 6 | E20: 58.32 | I20: 85.92 | M20: 22.2 | Q20: 34.98
A21: 7 | E21: 70.2 | I21: 114.84 | M21: 23.04 | Q21: 36.84
A22: 8 | E22: 85.92 | I22: 123.54 | M22: 24.36 | Q22: 38.82
A23: 9 | E23: 97.68 | I23: 138.48 | M23: 24.6 | Q23: 40.68
A24: 10 | E24: 99.12 | I24: 141.84 | M24: 27.96 | Q24: 45.36
A25: 11 | E25: 105.36 | I25: 133.74 | M25: 30.96 | Q25: 46.56
A26: 12 | E26: 109.08 | I26: 142.02 | M26: 32.4 | Q26: 50.1
... A38: 24 | E38: 78.12 | I38: 95.94 | M38: 22.44 | Q38: 35.52
A39: Итого | E39: =SUM(E15:E38) -> 2124.96 | I39: =SUM(I15:I38) -> 2689.26 | M39: =SUM(M15:M38) -> 623.88 | Q39: =SUM(Q15:Q38) -> 1002.12
A40: 1. При наличии на предприятии отклонений от нормальных режимов электропотребления (временное изменение схем питания, остановка на ремонт, резкое снижение
A41: эл.потребления и т.д.) последние необходимо перечислить.
A42: Главный инженер АО "Вологдаоблэнерго" А.В. Чурляев
A43: составляется самим предприятием с соблюдением всех пунктов настоящей таблицы.

Sheet 21_5.1
B1: АО "Вологдаоблэнерго" | J1: код 900151 | K1: ПС "Вологда-Южная"РУ 6кВ - транзит через "БМЗ"
B2: наименование предприятия | N2: наименование источника питания
N3: ф 6 кВ БМЗ-1, БМЗ-2
B4: ул. Горького, 99 | I4: Таблица № 1
B5: адрес
A6: почасовых записей показаний электрических счетчиков
A7: в режимный день 15 ИЮНЯ 2022 г.
A9: часы суток | B9: Активная энергия | J9: Реактивная энергия
B10: яч. 204 ф 6 кВ БМЗ КТП-1038 Т1 | F10: яч. 106 ф 6 кВ БМЗ-1 КТП-1038 Т2 | J10: яч. 204 ф 6 кВ БМЗ КТП-1038 Т1 | N10: яч. 106 ф 6 кВ БМЗ-1 КТП-1038 Т2
B11: Расчет. Коэф. | F11: Расчет. Коэф. | J11: Расчет. Коэф. | N11: Расчет. Коэф.
