Workbook

Sheet Содержание книги
A1: Содержание
A4: № листа | B4: Электросетевой участок | C4: Центр питания
A5: 1 а | B5: г. Вологда | C5: ОАО "БМЗ"
A6: 1, 2 | B6: г. Вологда | C6: ПС "АНАНЬИНО"
A7: 3 | B7: г. Вологда | C7: ПС ЕРМАКОВО
A8: 4 | B8: г. Вологда | C8: ПС "МАЕГА"
A9: 5,6, 7, 8, 9 | B9: г. Вологда | C9: ПС "ЗАПАДНАЯ
A10: 10 | B10: г. Вологда | C10: ПС "СЕВЕРНАЯ 35/6 кВ
A11: 11 | B11: г. Вологда | C11: РТП "ТЕПЛИЧНОГО ХОЗ - ВА"
A12: 12,13, 14 | B12: г. Вологда | C12: ГПП 110/10 кВ "ВОМЗ"
A13: 15,16,17,18,19,20, 21, 21-1, 21-2, 21-3, 21-4 | B13: г. Вологда | C13: ПС ВОЛОГДА-ЮЖНАЯ РУ - 6 -10 кВ
A14: 21-5, | C14: ПС ВОЛОГДА-ЮЖНАЯ РУ 6 кВ ОАО "БМЗ"
A15: 22 | B15: г. Вологда | C15: ГПП ВОЛОГДА - ТЯГОВАЯ 110/27,5/6 кВ
A16: 23 | B16: г. Вологда | C16: ТП 10 РЖД
A17: 24 | B17: г. Вологда | C17: ТП 34 РЖД
A18: 25,26,27,28,29 | B18: г. Вологда | C18: ТГК- 2 ВТЭЦ РП 6 кВ
A19: 30,31,32,33,34,34-1 | B19: г. Вологда | C19: ПС "ЦЕНТРАЛЬНАЯ" 110/6 кВ
A20: 35, 36 | B20: г. Вологда | C20: ПС "ГОРОДСКАЯ" 35/6 кВ
A21: 37, 38, 39, 39-1 | B21: г. Вологда | C21: ПС "ВОСТОЧНАЯ" 110/35/10 кВ
A22: 40, 40-1, 41,41-1 | B22: г. Вологда | C22: ПС "ЛУГОВАЯ"
A23: 42 | B23: г. Вологда | C23: РП "ГОРКА"
A24: 43, 44 | B24: г. Вологда | C24: ГПП 2 ЗАО ВПЗ
A25: 45 | B25: г. Вологда | C25: ГПП 1 ЗАО ВПЗ
A26: 46 | B26: ЭСУ "Кубенское" | C26: ПС "Кубенское"
A27: 47, 48, 48-1,48-2 | B27: ЭСУ п. Молочное | C27: ПС "Молочное" 35/10 кВ
A28: 49, 50, 50-1, 50-2, 50-3 | B28: ЭСУ "Устье-Кубенское" | C28: РТП "КОРНИЛОВО" 35/10 кВ
A29: 51, 52, 53 | B29: ЭСУ "Шуйское" | C29: ПС "ШУЙСКОЕ" 35/ 10 кВ
A30: 54.55 | B30: ЭСУ г. Сокол | C30: ПС "ГДЗ" 110/6 кВ
A31: 55-1 | B31: ЭСУ г. Сокол | C31: ПС | D31: ИП Сокол 110/10/10
A32: 56, 57, 58, | B32: ЭСУ г. Сокол | C32: ОАО "Сокольский" ЦБК" ГПП 35/6 кВ
A33: 59 | B33: ЭСУ г. Сокол | C33: ОАО "Сокольский" ЦБК" ГПП 110/6 кВ
A34: 60, 61, 62, 63 | B34: ЭСУ г. Сокол | C34: ООО "Сухонский ЦБК" ГПП 110/6 кВ
A35: 64-66-1 | B35: ЭСУ "Белозерск" | C35: ПС Белозерск, ПС Вашки
A36: 67-75 | B36: ЭСУ "Вытегра"
A37: 76-81_1 | B37: ЭСУ "Харовск"
A38: 82-86 | B38: ЭТУ "Вожега"
A39: 87-91 | B39: ЭТУ "Тотьма"
A40: 92-95 | B40: ЭСУ "Сямжа"
A41: 96-97 | B41: ЭСУ "Грязовец"
A43: Содержание
A46: № листа | B46: Электросетевой участок | C46: Центр питания
A47: 1 а | B47: г. Вологда | C47: ОАО "БМЗ"
D48: яч. Т1, яч. Т2
A49: 1, 2 | B49: г. Вологда | C49: ПС "АНАНЬИНО"
D50: яч.7 - ф."Город-7"
D51: яч.8 - ф."Городской", яч.2 - ф."Овощехранилище"
A52: 3 | B52: г. Вологда | C52: ПС "ИСКРА"
D53: яч.18 - ф."РУБЦОВО"- СВ - ВЛ№2
A54: 4 | B54: г. Вологда | C54: ПС "МАЕГА"
D55: яч.13 - ф."НИКИТИНО"-СВ - ВЛ№27
A56: 5,6, 7, 8, 9 | B56: г. Вологда | C56: ПС "ЗАПАДНАЯ
D57: яч.19 - "РМЗ-1", яч.24 - "РМЗ-2"
D58: яч.15 -"ОЧИСТНЫЕ-1", яч.9 -"ГОРОД-1"
D59: яч.21- "П/я-1", яч.20 - "П/я-2"
D60: яч.33 - "РП-35", яч.35 - "РП-37"
D61: яч.11 - "ГОРОД-2", яч.18 - "ОЧИСТНЫЕ-2"
A62: 10 | B62: г. Вологда | C62: ПС "СЕВЕРНАЯ 35/6 кВ
D63: Т1 - РП5ф3 ввод №1, Т2 - РП5ф17 ввод №2
A64: 11 | B64: г. Вологда | C64: РТП "ТЕПЛИЧНОГО ХОЗ - ВА"
D65: яч. 3 - ф."Микрорайон-1" ввод № 1, яч.13 - ф."Микрорайон-2" ввод № 2
A66: 12,13, 14 | B66: г. Вологда | C66: ГПП 110/10 кВ "ВОМЗ"
D67: яч.47 - РП 29 ввод № 1, яч.31 - РП 29 ввод № 2
D68: яч.5 - РП 14 ввод № 1, яч.22 - РП 14 ввод № 2
D69: яч.44 - РП 2 ввод № 1, яч.26в - РП 2 ввод № 2
A70: 15,16,17,18,19,20, 21 | B70: г. Вологда | C70: ПС ВОЛОГДА-ЮЖНАЯ РУ - 6 -10 кВ
D71: яч.15 - "ГОРОД-15", яч.24 - "ТУБДИСПАНСЕР"
D72: яч.10 - "ГОРОД-10", яч.14 - "ГОРОД-14"
D73: яч.20 - "ГОРОД 20"
D74: яч. 7- ф."ГОРОД 7", яч.17 - ф."ГОРОД 17"
D75: яч.3 - "ГОРОД-3", яч.5 - "ГОРОД-5"
D76: яч. 1 - "ГОРОД -1", яч. 20 - "РП 27"
D77: яч. 4 ф."РОДИОНЦЕВО" - ПКУ
D78: яч. 307, 409 ф."Охмыльцево"
A79: 22 | B79: г. Вологда | C79: ГПП ВОЛОГДА - ТЯГОВАЯ 110/27,5/6 кВ
D80: яч. 1 - ТП 450
A81: 23 | B81: г. Вологда | C81: ТП 10 СЖД ОАО РЖД
D82: яч.5 - ТП 238, яч.7 - ТП 651
A83: 24 | B83: г. Вологда | C83: ТП 34 СЖД ОАО РЖД
D84: яч.2 - ТП 660, яч.6 - ТП 662
A85: 25,26,27,28,29 | B85: г. Вологда | C85: ТГК- 2 ВТЭЦ РП 6 кВ
D86: яч.10 - РП 3 ввод № 1, яч. 115 - РП 3 ввод № 2
D87: яч. 114 - РП 23 ввод № 1, яч. 107 - РП 23 ввод № 2
D88: яч. 3 - ТП 217
D89: яч. 5 - РП 1 ввод № 1, яч. 12 - РП 1 ввод № 2
D90: яч. 4 - РП 20 ввод № 1, яч. 7 - РП 20 ввод № 2
A91: 30,31,32,33,34,34-1 | B91: г. Вологда | C91: ПС "ЦЕНТРАЛЬНАЯ" 110/6 кВ
D92: яч.4 - ТП 54 -Ι ввод № 1, яч. 30 - ТП 54 - ΙΙ ввод № 2
D93: яч. 14 - РП 13- Ι , яч. 22 - РП 13- ΙΙ
D94: яч.12 - РП 4 -Ι , яч. 24 - РП 4 -ΙΙ
D95: яч. 2 - РП 8 яч. 11
D96: яч.28 - ТП 11 -ΙΙ
D97: яч.22 - РП 21-I, яч.7 - РП 21-II
A98: 35, 36 | B98: г. Вологда | C98: ПС "ГОРОДСКАЯ" 35/6 кВ
D99: Т-1 - ЗРУ ф.1 ввод № 1, Т-3 - ЗРУ ф.20 ввод № 2 .
D100: Т-2 - РП 9 ф. 11
A101: 37, 38, 39 | B101: г. Вологда | C101: ПС "ВОСТОЧНАЯ" 110/35/10 кВ
D102: яч.2 - "РП 39-1", яч. 21 - "РП 39-2"
D103: яч.15 - "РМЗ-1", яч.32 - "РМЗ-2"
D104: яч. 11- "ГОРОД-1", яч. 28- "ГОРОД-2"
A105: 40, 41 | B105: г. Вологда | C105: ПС "ЛУГОВАЯ"
...

Sheet 1
B1: АО "Вологдаоблэнерго" | J1: код 900151 | N1: ПС "АНАНЬИНО"
B2: наименование предприятия | N2: наименование источника питания
N3: _________________________________
B4: ул. Горького, 99 | I4: Таблица № 1 | O4: ВЛ № 31
B5: адрес
A6: почасовых записей показаний электрических счетчиков
A7: в режимный день 15 ИЮНЯ 2022 г.
A8: 1629
A9: часы суток | B9: Активная энергия | J9: Реактивная энергия
B10: ЯЧ. № 7 - Ф."Город 7" | J10: ЯЧ. № 7 - Ф."Город 7"
B11: Расчет. Коэф. | E11: 3600 | F11: Расчет. Коэф. | J11: Расчет. Коэф. | M11: =E11 -> 3600 | N11: Расчет. Коэф.
B12: показания счетчика | C12: разность | E12: расход эл.энергии за час | F12: показания счетчика | G12: разность | I12: расход эл.энергии за час | J12: показания счетчика | K12: разность | M12: расход эл.энергии за час | N12: показания счетчика | O12: разность | Q12: расход эл.энергии за час
A13: 1 | B13: 2 | C13: 3 | E13: 4 | F13: 5 | G13: 6 | I13: 7 | J13: 8 | K13: 9 | M13: 10 | N13: 11 | O13: 12 | Q13: 13
A14: 0
A15: 1 | E15: 322 | M15: 220
A16: 2 | E16: 304 | M16: 216
A17: 3 | E17: 275 | M17: 209
A18: 4 | E18: 248 | M18: 193
A19: 5 | E19: 224 | M19: 177
A20: 6 | E20: 246 | M20: 197
A21: 7 | E21: 314 | M21: 213
A22: 8 | E22: 357 | M22: 203
A23: 9 | E23: 435 | M23: 218
A24: 10 | E24: 559 | M24: 322
A25: 11 | E25: 530 | M25: 351
A26: 12 | E26: 565 | M26: 368
... A37: 23 | E37: 226 | M37: 138
A38: 24
A39: Итого | E39: =SUM(E15:E38) -> 9251 | M39: =SUM(M15:M38) -> 5946
A40: 1. При наличии на предприятии отклонений от нормальных режимов электропотребления (временное изменение схем питания, остановка на ремонт, резкое снижение
A41: эл.потребления и т.д.) последние необходимо перечислить.
A42: Главный инженер АО "Вологдаоблэнерго" А.В. Чурляев
A43: составляется самим предприятием с соблюдением всех пунктов настоящей таблицы.

Sheet 2
B1: АО "Вологдаоблэнерго" | J1: код 900151 | N1: ПС "АНАНЬИНО"
B2: наименование предприятия | N2: наименование источника питания
N3: _________________________________
B4: ул. Горького, 99 | I4: Таблица № 1 | O4: РП 36 ф 16; ТП 360
B5: адрес
A6: почасовых записей показаний электрических счетчиков
A7: в режимный день 15 ИЮНЯ 2022 г.
A8: 1630 | B8: 1628
A9: часы суток | B9: Активная энергия | J9: Реактивная энергия
B10: ЯЧ. № 2 - Ф."Овощехранилище" | F10: ЯЧ. № 8 - Ф."Городской" | J10: ЯЧ. № 2 - Ф."Овощехранилище" | N10: ЯЧ. № 8 - Ф."Городской"
B11: Расчет. Коэф. | E11: 3600 | F11: Расчет. Коэф. | I11: 2400 | J11: Расчет. Коэф. | M11: =E11 -> 3600 | N11: Расчет. Коэф. | Q11: =I11 -> 2400
B12: показания счетчика | C12: разность | E12: расход эл.энергии за час | F12: показания счетчика | G12: разность | I12: расход эл.энергии за час | J12: показания счетчика | K12: разность | M12: расход эл.энергии за час | N12: показания счетчика | O12: разность | Q12: расход эл.энергии за час
A13: 1 | B13: 2 | C13: 3 | E13: 4 | F13: 5 | G13: 6 | I13: 7 | J13: 8 | K13: 9 | M13: 10 | N13: 11 | O13: 12 | Q13: 13
A14: 0
A15: 1 | E15: 85 | I15: 142 | M15: 28 | Q15: 73
A16: 2 | E16: 78 | I16: 127 | M16: 27 | Q16: 69
A17: 3 | E17: 81 | I17: 121 | M17: 28 | Q17: 64
A18: 4 | E18: 73 | I18: 117 | M18: 21 | Q18: 58
A19: 5 | E19: 72 | I19: 126 | M19: 22 | Q19: 60
A20: 6 | E20: 72 | I20: 133 | M20: 27 | Q20: 63
A21: 7 | E21: 84 | I21: 157 | M21: 29 | Q21: 65
A22: 8 | E22: 87 | I22: 170 | M22: 24 | Q22: 71
A23: 9 | E23: 179 | I23: 187 | M23: 122 | Q23: 73
A24: 10 | E24: 274 | I24: 179 | M24: 251 | Q24: 77
A25: 11 | E25: 178 | I25: 177 | M25: 153 | Q25: 81
A26: 12 | E26: 223 | I26: 179 | M26: 212 | Q26: 81
... A38: 24 | E38: 116 | I38: 510 | M38: 44 | Q38: 249
A39: Итого | E39: =SUM(E16:E38) -> 3489 | I39: =SUM(I15:I38) -> 4471 | M39: =SUM(M15:M38) -> 2395 | Q39: =SUM(Q15:Q38) -> 1947
A40: 1. При наличии на предприятии отклонений от нормальных режимов электропотребления (временное изменение схем питания, остановка на ремонт, резкое снижение
A41: эл.потребления и т.д.) последние необходимо перечислить.
A42: Главный инженер АО "Вологдаоблэнерго" А.В. Чурляев
A43: составляется самим предприятием с соблюдением всех пунктов настоящей таблицы.

Sheet 3
B1: АО "Вологдаоблэнерго" | J1: код 900151 | N1: ПС 110 кВ ЕРМАКОВО
B2: наименование предприятия | N2: наименование источника питания
N3: яч. 18 ф."РУБЦОВО"
B4: ул. Горького, 99 | I4: Таблица № 1 | O4: ВЛ-10кВ № 2
B5: адрес
A6: почасовых записей показаний электрических счетчиков
A7: в режимный день 15 ИЮНЯ 2022 г.
A8: 374
A9: часы суток | B9: Активная энергия | J9: Реактивная энергия
B10: яч. 18 ф."РУБЦОВО"- ПКУ - ВЛ№2 | J10: яч. 18 ф."РУБЦОВО"- ПКУ - ВЛ№2
B11: Расчет. Коэф. | E11: 1000 | F11: Расчет. Коэф. | I11: 0 | J11: Расчет. Коэф. | M11: =E11 -> 1000 | N11: Расчет. Коэф. | Q11: =I11 -> 0
B12: показания счетчика | C12: разность | E12: расход эл.энергии за час | F12: показания счетчика | G12: разность | I12: расход эл.энергии за час | J12: показания счетчика | K12: разность | M12: расход эл.энергии за час | N12: показания счетчика | O12: разность | Q12: расход эл.энергии за час
A13: 1 | B13: 2 | C13: 3 | E13: 4 | F13: 5 | G13: 6 | I13: 7 | J13: 8 | K13: 9 | M13: 10 | N13: 11 | O13: 12 | Q13: 13
A14: 0
A15: 1 | E15: 189.8 | M15: 16.4
A16: 2 | E16: 168.8 | M16: 15
A17: 3 | E17: 138 | M17: 19.2
A18: 4 | E18: 115 | M18: 16.6
A19: 5 | E19: 110.4 | M19: 16.6
A20: 6 | E20: 116.2 | M20: 20.2
A21: 7 | E21: 154.8 | M21: 22.2
A22: 8 | E22: 178.2 | M22: 19.8
A23: 9 | E23: 174.2 | M23: 15
A24: 10 | E24: 171.4 | M24: 23.2
A25: 11 | E25: 166.2 | M25: 19.4
A26: 12 | E26: 164.4 | M26: 21.8
... A38: 24 | E38: 236.4 | M38: 10.2
A39: Итого | E39: =SUM(E15:E38) -> 4302 | M39: =SUM(M16:M38) -> 432.2
A40: 1. При наличии на предприятии отклонений от нормальных режимов электропотребления (временное изменение схем питания, остановка на ремонт, резкое снижение
A41: эл.потребления и т.д.) последние необходимо перечислить.
A42: Главный инженер АО "Вологдаоблэнерго" А.В. Чурляев
A43: составляется самим предприятием с соблюдением всех пунктов настоящей таблицы.

Sheet 4
B1: АО "Вологдаоблэнерго" | J1: код 900151 | N1: ПС "МАЕГА"
B2: наименование предприятия | N2: наименование источника питания
N3: яч. 13 - Ф НИКИТИНО
B4: ул. Горького, 99 | I4: Таблица № 1 | O4: ВЛ №27
B5: адрес
A6: почасовых записей показаний электрических счетчиков
A7: в режимный день 15 ИЮНЯ 2022 г.
A8: 363
A9: часы суток | B9: Активная энергия | J9: Реактивная энергия
B10: яч. 13 - Ф НИКИТИНО-СВ - ВЛ№27 | J10: яч. 13 - Ф НИКИТИНО-СВ - ВЛ№27
B11: Расчет. Коэф. | E11: 1500 | F11: Расчет. Коэф. | I11: 0 | J11: Расчет. Коэф. | M11: =E11 -> 1500 | N11: Расчет. Коэф. | Q11: =I11 -> 0
B12: показания счетчика | C12: разность | E12: расход эл.энергии за час | F12: показания счетчика | G12: разность | I12: расход эл.энергии за час | J12: показания счетчика | K12: разность | M12: расход эл.энергии за час | N12: показания счетчика | O12: разность | Q12: расход эл.энергии за час
A13: 1 | B13: 2 | C13: 3 | E13: 4 | F13: 5 | G13: 6 | I13: 7 | J13: 8 | K13: 9 | M13: 10 | N13: 11 | O13: 12 | Q13: 13
A14: 0
A15: 1 | E15: 232.8 | M15: 39.45
A16: 2 | E16: 216.9 | M16: 33.9
A17: 3 | E17: 192 | M17: 38.1
A18: 4 | E18: 174 | M18: 33
A19: 5 | E19: 171.3 | M19: 34.5
A20: 6 | E20: 211.95 | M20: 38.4
A21: 7 | E21: 259.2 | M21: 37.95
A22: 8 | E22: 281.7 | M22: 44.55
A23: 9 | E23: 304.95 | M23: 68.4
A24: 10 | E24: 331.5 | M24: 76.2
A25: 11 | E25: 334.05 | M25: 81.6
A26: 12 | E26: 319.8 | M26: 87.6
... A38: 24 | E38: 297.45 | M38: 42.15
A39: Итого | E39: =SUM(E15:E38) -> 6977.7 | M39: =SUM(M15:M38) -> 1310.25
A40: 1. При наличии на предприятии отклонений от нормальных режимов электропотребления (временное изменение схем питания, остановка на ремонт, резкое снижение
A41: эл.потребления и т.д.) последние необходимо перечислить.
A42: Главный инженер АО "Вологдаоблэнерго" А.В. Чурляев
A43: составляется самим предприятием с соблюдением всех пунктов настоящей таблицы.

Sheet 5
B1: АО "Вологдаоблэнерго" | J1: код 900151 | N1: ПС "ЗАПАДНАЯ"
B2: наименование предприятия | N2: наименование источника питания
N3: _________________________________
B4: ул. Горького, 99 | I4: Таблица № 1 | O4: РП 16
B5: адрес
A6: почасовых записей показаний электрических счетчиков
A7: в режимный день 15 ИЮНЯ 2022 г.
A8: 372 | B8: 368
A9: часы суток | B9: Активная энергия | J9: Реактивная энергия
B10: Яч. 21 - "РМЗ-1" | F10: Яч. 28 - "РМЗ-2" | J10: Яч. 21 - "РМЗ-1" | N10: Яч. 28 - "РМЗ-2"
B11: Расчет. Коэф. | E11: 7200 | F11: Расчет. Коэф. | I11: 7200 | J11: Расчет. Коэф. | M11: =E11 -> 7200 | N11: Расчет. Коэф. | Q11: =I11 -> 7200
B12: показания счетчика | C12: разность | E12: расход эл.энергии за час | F12: показания счетчика | G12: разность | I12: расход эл.энергии за час | J12: показания счетчика | K12: разность | M12: расход эл.энергии за час | N12: показания счетчика | O12: разность | Q12: расход эл.энергии за час
A13: 1 | B13: 2 | C13: 3 | E13: 4 | F13: 5 | G13: 6 | I13: 7 | J13: 8 | K13: 9 | M13: 10 | N13: 11 | O13: 12 | Q13: 13
A14: 0
A15: 1 | E15: 242 | I15: 827 | M15: 63 | Q15: 186
A16: 2 | E16: 222 | I16: 764 | M16: 61 | Q16: 172
A17: 3 | E17: 207 | I17: 685 | M17: 57 | Q17: 192
A18: 4 | E18: 202 | I18: 633 | M18: 55 | Q18: 182
A19: 5 | E19: 212 | I19: 637 | M19: 55 | Q19: 186
A20: 6 | E20: 246 | I20: 718 | M20: 61 | Q20: 202
A21: 7 | E21: 287 | I21: 899 | M21: 73 | Q21: 219
A22: 8 | E22: 433 | I22: 1142 | M22: 176 | Q22: 302
A23: 9 | E23: 662 | I23: 1313 | M23: 309 | Q23: 352
A24: 10 | E24: 638 | I24: 1430 | M24: 289 | Q24: 430
A25: 11 | E25: 651 | I25: 1428 | M25: 292 | Q25: 425
A26: 12 | E26: 652 | I26: 1433 | M26: 319 | Q26: 377
... A38: 24 | E38: 267 | I38: 906 | M38: 58 | Q38: 156
A39: Итого | E39: =SUM(E15:E38) -> 10154 | I39: =SUM(I15:I38) -> 26353 | M39: =SUM(M15:M38) -> 3823 | Q39: =SUM(Q15:Q38) -> 6459
A40: 1. При наличии на предприятии отклонений от нормальных режимов электропотребления (временное изменение схем питания, остановка на ремонт, резкое снижение
A41: эл.потребления и т.д.) последние необходимо перечислить.
A42: Главный инженер АО "Вологдаоблэнерго" А.В. Чурляев
A43: составляется самим предприятием с соблюдением всех пунктов настоящей таблицы.

Sheet 6
B1: АО "Вологдаоблэнерго" | J1: код 900151 | N1: ПС "ЗАПАДНАЯ"
B2: наименование предприятия | N2: наименование источника питания
N3: _________________________________
B4: ул. Горького, 99 | I4: Таблица № 1 | N4: РП 10 ф7 | Q4: РП 36 ф17
B5: адрес
A6: почасовых записей показаний электрических счетчиков
A7: в режимный день 15 ИЮНЯ 2022 г.
A8: 370 | B8: 365
A9: часы суток | B9: Активная энергия | J9: Реактивная энергия
B10: яч. 16 - ф."ОЧИСТНЫЕ-1" | F10: яч. 24 - "ГОРОД-1" | J10: яч. 16 - ф."ОЧИСТНЫЕ-1" | N10: яч. 24 - "ГОРОД-1"
B11: Расчет. Коэф. | E11: 4800 | F11: Расчет. Коэф. | I11: 7200 | J11: Расчет. Коэф. | M11: =E11 -> 4800 | N11: Расчет. Коэф. | Q11: =I11 -> 7200
B12: показания счетчика | C12: разность | E12: расход эл.энергии за час | F12: показания счетчика | G12: разность | I12: расход эл.энергии за час | J12: показания счетчика | K12: разность | M12: расход эл.энергии за час | N12: показания счетчика | O12: разность | Q12: расход эл.энергии за час
A13: 1 | B13: 2 | C13: 3 | E13: 4 | F13: 5 | G13: 6 | I13: 7 | J13: 8 | K13: 9 | M13: 10 | N13: 11 | O13: 12 | Q13: 13
A14: 0
A15: 1 | E15: 234 | I15: 1290 | M15: 42 | Q15: 735
A16: 2 | E16: 213 | I16: 1260 | M16: 39 | Q16: 693
A17: 3 | E17: 218 | I17: 1240 | M17: 42 | Q17: 737
A18: 4 | E18: 221 | I18: 1235 | M18: 41 | Q18: 696
A19: 5 | E19: 224 | I19: 1324 | M19: 42 | Q19: 779
A20: 6 | E20: 259 | I20: 1170 | M20: 46 | Q20: 686
A21: 7 | E21: 507 | I21: 1331 | M21: 88 | Q21: 786
A22: 8 | E22: 624 | I22: 1481 | M22: 112 | Q22: 846
A23: 9 | E23: 551 | I23: 1460 | M23: 95 | Q23: 822
A24: 10 | E24: 510 | I24: 1636 | M24: 86 | Q24: 867
A25: 11 | E25: 511 | I25: 1756 | M25: 87 | Q25: 992
A26: 12 | E26: 509 | I26: 1756 | M26: 85 | Q26: 961
... A38: 24 | E38: 328 | I38: 1285 | M38: 56 | Q38: 707
A39: Итого | E39: =SUM(E15:E38) -> 10331 | I39: =SUM(I15:I38) -> 35737 | M39: =SUM(M15:M38) -> 1784 | Q39: =SUM(Q15:Q38) -> 20179
A40: 1. При наличии на предприятии отклонений от нормальных режимов электропотребления (временное изменение схем питания, остановка на ремонт, резкое снижение
A41: эл.потребления и т.д.) последние необходимо перечислить.
A42: Главный инженер АО "Вологдаоблэнерго" А.В. Чурляев
A43: составляется самим предприятием с соблюдением всех пунктов настоящей таблицы.

Sheet 7
B1: АО "Вологдаоблэнерго" | J1: код 900151 | N1: ПС "ЗАПАДНАЯ"
B2: наименование предприятия | N2: наименование источника питания
N3: _________________________________
B4: ул. Горького, 99 | I4: Таблица № 1 | O4: РП 7
B5: адрес
A6: почасовых записей показаний электрических счетчиков
A7: в режимный день 15 ИЮНЯ 2022 г.
A8: 371 | B8: 367
A9: часы суток | B9: Активная энергия | J9: Реактивная энергия
B10: яч. 3 "П/Я-1" | F10: яч. 10 "П/Я-2" | J10: яч. 3 "П/Я-1" | N10: яч. 10 "П/Я-2"
B11: Расчет. Коэф. | E11: 12000 | F11: Расчет. Коэф. | I11: 7200 | J11: Расчет. Коэф. | M11: =E11 -> 12000 | N11: Расчет. Коэф. | Q11: =I11 -> 7200
B12: показания счетчика | C12: разность | E12: расход эл.энергии за час | F12: показания счетчика | G12: разность | I12: расход эл.энергии за час | J12: показания счетчика | K12: разность | M12: расход эл.энергии за час | N12: показания счетчика | O12: разность | Q12: расход эл.энергии за час
A13: 1 | B13: 2 | C13: 3 | E13: 4 | F13: 5 | G13: 6 | I13: 7 | J13: 8 | K13: 9 | M13: 10 | N13: 11 | O13: 12 | Q13: 13
A14: 0
A15: 1 | E15: 816 | I15: 827 | M15: 296 | Q15: 186
A16: 2 | E16: 763 | I16: 764 | M16: 273 | Q16: 172
A17: 3 | E17: 698 | I17: 685 | M17: 264 | Q17: 192
A18: 4 | E18: 694 | I18: 633 | M18: 257 | Q18: 182
A19: 5 | E19: 753 | I19: 637 | M19: 268 | Q19: 186
A20: 6 | E20: 818 | I20: 718 | M20: 283 | Q20: 202
A21: 7 | E21: 878 | I21: 899 | M21: 289 | Q21: 219
A22: 8 | E22: 935 | I22: 1142 | M22: 290 | Q22: 302
A23: 9 | E23: 1157 | I23: 1313 | M23: 367 | Q23: 352
A24: 10 | E24: 1207 | I24: 1430 | M24: 386 | Q24: 430
A25: 11 | E25: 1126 | I25: 1428 | M25: 404 | Q25: 425
A26: 12 | E26: 1101 | I26: 1433 | M26: 401 | Q26: 377
... A38: 24 | E38: 876 | I38: 906 | M38: 276 | Q38: 156
A39: Итого | E39: =SUM(E15:E38) -> 23120 | I39: =SUM(I15:I38) -> 26353 | M39: =SUM(M15:M38) -> 7774 | Q39: =SUM(Q15:Q38) -> 6459
A40: 1. При наличии на предприятии отклонений от нормальных режимов электропотребления (временное изменение схем питания, остановка на ремонт, резкое снижение
A41: эл.потребления и т.д.) последние необходимо перечислить.
A42: Главный инженер АО "Вологдаоблэнерго" А.В. Чурляев
A43: составляется самим предприятием с соблюдением всех пунктов настоящей таблицы.

Sheet 8
B1: АО "Вологдаоблэнерго" | J1: код 900151 | N1: ПС "ЗАПАДНАЯ"
B2: наименование предприятия | I2: _ | N2: наименование источника питания
N3: _________________________________
B4: ул. Горького, 99 | I4: Таблица № 1 | O4: РП 35; РП 37
B5: адрес
A6: почасовых записей показаний электрических счетчиков
A7: в режимный день 15 ИЮНЯ 2022 г.
A8: 129 | B8: 130
A9: часы суток | B9: Активная энергия | J9: Реактивная энергия
B10: яч. 15 "РП -35" | F10: яч. 35 "РП-37" | J10: яч. 15 "РП -35" | N10: яч. 35 "РП-37"
B11: Расчет. Коэф. | E11: 3600 | F11: Расчет. Коэф. | I11: 4800 | J11: Расчет. Коэф. | M11: =E11 -> 3600 | N11: Расчет. Коэф. | Q11: =I11 -> 4800
B12: показания счетчика | C12: разность | E12: расход эл.энергии за час | F12: показания счетчика | G12: разность | I12: расход эл.энергии за час | J12: показания счетчика | K12: разность | M12: расход эл.энергии за час | N12: показания счетчика | O12: разность | Q12: расход эл.энергии за час
A13: 1 | B13: 2 | C13: 3 | E13: 4 | F13: 5 | G13: 6 | I13: 7 | J13: 8 | K13: 9 | M13: 10 | N13: 11 | O13: 12 | Q13: 13
A14: 0
A15: 1 | E15: 239 | I15: 422 | M15: 154 | Q15: 165
A16: 2 | E16: 238 | I16: 392 | M16: 154 | Q16: 152
A17: 3 | E17: 238 | I17: 423 | M17: 150 | Q17: 177
A18: 4 | E18: 239 | I18: 373 | M18: 148 | Q18: 154
A19: 5 | E19: 237 | I19: 386 | M19: 147 | Q19: 166
A20: 6 | E20: 237 | I20: 428 | M20: 151 | Q20: 147
A21: 7 | E21: 238 | I21: 456 | M21: 150 | Q21: 140
A22: 8 | E22: 237 | I22: 526 | M22: 147 | Q22: 133
A23: 9 | E23: 235 | I23: 592 | M23: 150 | Q23: 169
A24: 10 | E24: 238 | I24: 588 | M24: 151 | Q24: 203
A25: 11 | E25: 237 | I25: 593 | M25: 148 | Q25: 207
A26: 12 | E26: 238 | I26: 577 | M26: 152 | Q26: 220
... A38: 24 | E38: 239 | I38: 447 | M38: 151 | Q38: 164
A39: Итого | E39: =SUM(E15:E38) -> 5708 | I39: =SUM(I15:I38) -> 12013 | M39: =SUM(M15:M38) -> 3577 | Q39: =SUM(Q15:Q38) -> 4200
A40: 1. При наличии на предприятии отклонений от нормальных режимов электропотребления (временное изменение схем питания, остановка на ремонт, резкое снижение
A41: эл.потребления и т.д.) последние необходимо перечислить.
A42: Главный инженер АО "Вологдаоблэнерго" А.В. Чурляев
A43: составляется самим предприятием с соблюдением всех пунктов настоящей таблицы.

Sheet 9
B1: АО "Вологдаоблэнерго" | J1: код 900151 | N1: ПС "ЗАПАДНАЯ"
B2: наименование предприятия | N2: наименование источника питания
N3: _________________________________
B4: ул. Горького, 99 | I4: Таблица № 1 | O4: РП 28
B5: адрес
A6: почасовых записей показаний электрических счетчиков
A7: в режимный день 15 ИЮНЯ 2022 г.
A8: 366 | B8: 369
A9: часы суток | B9: Активная энергия | J9: Реактивная энергия
B10: яч. 17 "ГОРОД-2" | F10: яч. 22 - "ОЧИСТНЫЕ-2" | J10: ЯЧ. №17 - "ГОРОД-2" | N10: ЯЧ. №22 - "ОЧИСТНЫЕ-2"
B11: Расчет. Коэф. | E11: 7200 | F11: Расчет. Коэф. | I11: 7200 | J11: Расчет. Коэф. | M11: =E11 -> 7200 | N11: Расчет. Коэф. | Q11: =I11 -> 7200
B12: показания счетчика | C12: разность | E12: расход эл.энергии за час | F12: показания счетчика | G12: разность | I12: расход эл.энергии за час | J12: показания счетчика | K12: разность | M12: расход эл.энергии за час | N12: показания счетчика | O12: разность | Q12: расход эл.энергии за час
A13: 1 | B13: 2 | C13: 3 | E13: 4 | F13: 5 | G13: 6 | I13: 7 | J13: 8 | K13: 9 | M13: 10 | N13: 11 | O13: 12 | Q13: 13
A14: 0
A15: 1 | E15: 579 | I15: 364 | M15: 236 | Q15: 222
A16: 2 | E16: 544 | I16: 360 | M16: 230 | Q16: 219
A17: 3 | E17: 493 | I17: 416 | M17: 211 | Q17: 257
A18: 4 | E18: 464 | I18: 358 | M18: 200 | Q18: 219
A19: 5 | E19: 460 | I19: 362 | M19: 218 | Q19: 220
A20: 6 | E20: 494 | I20: 341 | M20: 241 | Q20: 193
A21: 7 | E21: 630 | I21: 349 | M21: 259 | Q21: 190
A22: 8 | E22: 786 | I22: 360 | M22: 294 | Q22: 178
A23: 9 | E23: 1067 | I23: 401 | M23: 511 | Q23: 207
A24: 10 | E24: 1204 | I24: 432 | M24: 570 | Q24: 231
A25: 11 | E25: 1209 | I25: 472 | M25: 524 | Q25: 264
A26: 12 | E26: 1200 | I26: 425 | M26: 545 | Q26: 229
... A38: 24 | E38: 651 | I38: 370 | M38: 239 | Q38: 216
A39: Итого | E39: =SUM(E15:E38) -> 20487 | I39: =SUM(I15:I38) -> 9442 | M39: =SUM(M15:M38) -> 8598 | Q39: =SUM(Q15:Q38) -> 5269
A40: 1. При наличии на предприятии отклонений от нормальных режимов электропотребления (временное изменение схем питания, остановка на ремонт, резкое снижение
A41: эл.потребления и т.д.) последние необходимо перечислить.
A42: Главный инженер АО "Вологдаоблэнерго" А.В. Чурляев
A43: составляется самим предприятием с соблюдением всех пунктов настоящей таблицы.

Sheet 10
B1: АО "Вологдаоблэнерго" | J1: код 900151 | N1: ПС "СЕВЕРНАЯ 35/6 кВ
B2: наименование предприятия | N2: наименование источника питания
N3: _________________________________
B4: ул. Горького, 99 | I4: Таблица № 1 | N4: Т1, Т2 | O4: РП 5
B5: адрес
A6: почасовых записей показаний электрических счетчиков
A7: в режимный день 15 ИЮНЯ 2022 г.
A8: 325 | B8: 328
A9: часы суток | B9: Активная энергия | J9: Реактивная энергия
B10: Т 1 -РП 5 Ф 3 ввод № 1 | F10: Т 2 - РП 5 Ф 17 ввод № 2 | J10: Т 1 -РП 5 Ф 3 ввод № 1 | N10: Т 2 - РП 5 Ф 17 ввод № 2
B11: Расчет. Коэф. | E11: 18000 | F11: Расчет. Коэф. | I11: 18000 | J11: Расчет. Коэф. | M11: =E11 -> 18000 | N11: Расчет. Коэф. | Q11: =I11 -> 18000
B12: показания счетчика | C12: разность | E12: расход эл.энергии за час | F12: показания счетчика | G12: разность | I12: расход эл.энергии за час | J12: показания счетчика | K12: разность | M12: расход эл.энергии за час | N12: показания счетчика | O12: разность | Q12: расход эл.энергии за час
A13: 1 | B13: 2 | C13: 3 | E13: 4 | F13: 5 | G13: 6 | I13: 7 | J13: 8 | K13: 9 | M13: 10 | N13: 11 | O13: 12 | Q13: 13
A14: 0
A15: 1 | E15: 815.4 | I15: 1558.8 | M15: 273.6 | Q15: 378
A16: 2 | E16: 770.4 | I16: 1436.4 | M16: 241.2 | Q16: 365.4
A17: 3 | E17: 761.4 | I17: 1333.8 | M17: 268.2 | Q17: 396
A18: 4 | E18: 694.8 | I18: 1281.6 | M18: 252 | Q18: 369
A19: 5 | E19: 664.2 | I19: 1285.2 | M19: 255.6 | Q19: 365.4
A20: 6 | E20: 702 | I20: 1413 | M20: 277.2 | Q20: 419.4
A21: 7 | E21: 777.6 | I21: 1767.6 | M21: 324 | Q21: 439.2
A22: 8 | E22: 1044 | I22: 2104.2 | M22: 482.4 | Q22: 484.2
A23: 9 | E23: 1171.8 | I23: 2471.4 | M23: 577.8 | Q23: 626.4
A24: 10 | E24: 1236.6 | I24: 2572.2 | M24: 581.4 | Q24: 666
A25: 11 | E25: 1112.4 | I25: 2545.2 | M25: 502.2 | Q25: 675
A26: 12 | E26: 1159.2 | I26: 2541.6 | M26: 509.4 | Q26: 664.2
... A38: 24 | E38: 885.6 | I38: 1756.8 | M38: 257.4 | Q38: 361.8
A39: Итого | E39: =SUM(E15:E38) -> 23286.6 | I39: =SUM(I15:I38) -> 49681.8 | M39: =SUM(M15:M38) -> 8785.8 | Q39: =SUM(Q15:Q38) -> 11818.8
A40: 1. При наличии на предприятии отклонений от нормальных режимов электропотребления (временное изменение схем питания, остановка на ремонт, резкое снижение
A41: эл.потребления и т.д.) последние необходимо перечислить.
A42: Главный инженер АО "Вологдаоблэнерго" А.В. Чурляев
A43: составляется самим предприятием с соблюдением всех пунктов настоящей таблицы.

Sheet 11
B1: АО "Вологдаоблэнерго" | G1: код 900151 | I1: ПС "ВОЛОГДА-ЮЖНАЯ" 110/6 транзит через РТП "ТЕПЛИЧНОГО ХОЗ - ВА"
B2: наименование предприятия | N2: наименование источника питания
N3: _________________________________
B4: ул. Горького, 99 | I4: Таблица № 1 | O4: ТП 438
B5: адрес
A6: почасовых записей показаний электрических счетчиков
A7: в режимный день 15 ИЮНЯ 2022 г.
A8: 635 | B8: 634
A9: часы суток | B9: Активная энергия | J9: Реактивная энергия
B10: ЯЧ. 3 - ф. "Микрорайон-1" ввод № 1 | F10: яч. 13 - ф. "Микрорайон-2" ввод № 2 | J10: ЯЧ. 3 - ф. "Микрорайон-1" ввод № 1 | N10: яч. 13 - ф. "Микрорайон-2" ввод № 2
B11: Расчет. Коэф. | E11: 3600 | F11: Расчет. Коэф. | I11: 3600 | J11: Расчет. Коэф. | M11: =E11 -> 3600 | N11: Расчет. Коэф. | Q11: =I11 -> 3600
B12: показания счетчика | C12: разность | E12: расход эл.энергии за час | F12: показания счетчика | G12: разность | I12: расход эл.энергии за час | J12: показания счетчика | K12: разность | M12: расход эл.энергии за час | N12: показания счетчика | O12: разность | Q12: расход эл.энергии за час
A13: 1 | B13: 2 | C13: 3 | E13: 4 | F13: 5 | G13: 6 | I13: 7 | J13: 8 | K13: 9 | M13: 10 | N13: 11 | O13: 12 | Q13: 13
A14: 0
A15: 1 | E15: 107.64 | I15: 131.04 | M15: 42.12
A16: 2 | E16: 99 | I16: 119.52 | M16: 39.6 | Q16: 50.76
A17: 3 | E17: 82.8 | I17: 103.68 | M17: 34.92 | Q17: 48.6
A18: 4 | E18: 77.76 | I18: 100.8 | M18: 33.84 | Q18: 46.8
A19: 5 | E19: 77.4 | I19: 107.64 | M19: 33.12 | Q19: 47.52
A20: 6 | E20: 97.92 | I20: 151.56 | M20: 35.64 | Q20: 52.92
A21: 7 | E21: 134.28 | I21: 169.92 | M21: 38.88 | Q21: 52.92
A22: 8 | E22: 147.96 | I22: 176.04 | M22: 40.68 | Q22: 50.76
A23: 9 | E23: 158.04 | I23: 204.84 | M23: 38.16 | Q23: 52.2
A24: 10 | E24: 166.32 | I24: 225 | M24: 45.36 | Q24: 56.88
A25: 11 | E25: 169.2 | I25: 217.8 | M25: 50.04 | Q25: 58.32
A26: 12 | E26: 171.72 | I26: 212.4 | M26: 53.64 | Q26: 59.04
A27: 13 | E27: 159.48 | I27: 203.4 | M27: 51.84 | Q27: 60.84
... A38: 24 | E38: 119.52 | I38: 153.72 | M38: 35.64 | Q38: 46.08
A39: Итого | E39: =SUM(E15:E38) -> 3252.96 | I39: =SUM(I15:I38) -> 4267.8 | M39: =SUM(M15:M38) -> 1047.96 | Q39: =SUM(Q15:Q38) -> 1243.44
A40: 1. При наличии на предприятии отклонений от нормальных режимов электропотребления (временное изменение схем питания, остановка на ремонт, резкое снижение
A41: эл.потребления и т.д.) последние необходимо перечислить.
A42: Главный инженер АО "Вологдаоблэнерго" А.В. Чурляев
A43: составляется самим предприятием с соблюдением всех пунктов настоящей таблицы.

Sheet 12
B1: АО "Вологдаоблэнерго" | J1: код 900151 | N1: ГПП 110/10 кВ "ВОМЗ"
B2: наименование предприятия | N2: наименование источника питания
N3: _________________________________
B4: ул. Горького, 99 | I4: Таблица № 1 | O4: РП 29
B5: адрес
A6: почасовых записей показаний электрических счетчиков
A7: в режимный день 15 ИЮНЯ 2022 г.
A8: 613 | B8: 610
A9: часы суток | B9: Активная энергия | J9: Реактивная энергия
B10: ЯЧ.47 - РП 29 ввод № 1 | F10: ЯЧ.31 - РП 29 ввод № 2 | J10: ЯЧ.47 - РП 29 ввод № 1 | N10: ЯЧ.31 - РП 29 ввод № 2
B11: Расчет. Коэф. | E11: 12000 | F11: Расчет. Коэф. | I11: 20000 | J11: Расчет. Коэф. | M11: =E11 -> 12000 | N11: Расчет. Коэф. | Q11: =I11 -> 20000
B12: показания счетчика | C12: разность | E12: расход эл.энергии за час | F12: показания счетчика | G12: разность | I12: расход эл.энергии за час | J12: показания счетчика | K12: разность | M12: расход эл.энергии за час | N12: показания счетчика | O12: разность | Q12: расход эл.энергии за час
A13: 1 | B13: 2 | C13: 3 | E13: 4 | F13: 5 | G13: 6 | I13: 7 | J13: 8 | K13: 9 | M13: 10 | N13: 11 | O13: 12 | Q13: 13
A14: 0
A15: 1 | E15: 882 | I15: 624 | M15: 301.2 | Q15: 118
A16: 2 | E16: 793.2 | I16: 574 | M16: 278.4 | Q16: 110
A17: 3 | E17: 753.6 | I17: 520 | M17: 273.6 | Q17: 98
A18: 4 | E18: 714 | I18: 512 | M18: 253.2 | Q18: 90
A19: 5 | E19: 717.6 | I19: 500 | M19: 254.4 | Q19: 86
A20: 6 | E20: 844.8 | I20: 538 | M20: 276 | Q20: 96
A21: 7 | E21: 1011.6 | I21: 748 | M21: 284.4 | Q21: 118
A22: 8 | E22: 1261.2 | I22: 954 | M22: 306 | Q22: 138
A23: 9 | E23: 1519.2 | I23: 1168 | M23: 350.4 | Q23: 182
A24: 10 | E24: 1773.6 | I24: 1268 | M24: 380.4 | Q24: 200
A25: 11 | E25: 1914 | I25: 1294 | M25: 417.6 | Q25: 214
A26: 12 | E26: 1909.2 | I26: 1338 | M26: 423.6 | Q26: 216
... A38: 24 | E38: 988.8 | I38: 686 | M38: 279.6 | Q38: 114
A39: Итого | E39: =SUM(E15:E38) -> 33064.8 | I39: =SUM(I15:I38) -> 22734 | M39: =SUM(M15:M38) -> 8011.2 | Q39: =SUM(Q15:Q38) -> 3614
A40: 1. При наличии на предприятии отклонений от нормальных режимов электропотребления (временное изменение схем питания, остановка на ремонт, резкое снижение
A41: эл.потребления и т.д.) последние необходимо перечислить.
A42: Главный инженер АО "Вологдаоблэнерго" А.В. Чурляев
A43: составляется самим предприятием с соблюдением всех пунктов настоящей таблицы.

Sheet 13
B1: АО "Вологдаоблэнерго" | J1: код 900151 | N1: ГПП 110/10 кВ "ВОМЗ"
B2: наименование предприятия | N2: наименование источника питания
N3: _________________________________
B4: ул. Горького, 99 | I4: Таблица № 1 | O4: РП 14
B5: адрес
A6: почасовых записей показаний электрических счетчиков
A7: в режимный день 15 ИЮНЯ 2022 г.
A8: 614 | B8: 615
A9: часы суток | B9: Активная энергия | J9: Реактивная энергия
B10: ЯЧ.5 - РП 14 ввод № 1 | F10: ЯЧ.22 - РП 14 ввод № 2 | J10: ЯЧ.5 - РП 14 ввод № 1 | N10: ЯЧ.22 - РП 14 ввод № 2
B11: Расчет. Коэф. | E11: 12000 | F11: Расчет. Коэф. | I11: 12000 | J11: Расчет. Коэф. | M11: =E11 -> 12000 | N11: Расчет. Коэф. | Q11: =I11 -> 12000
B12: показания счетчика | C12: разность | E12: расход эл.энергии за час | F12: показания счетчика | G12: разность | I12: расход эл.энергии за час | J12: показания счетчика | K12: разность | M12: расход эл.энергии за час | N12: показания счетчика | O12: разность | Q12: расход эл.энергии за час
A13: 1 | B13: 2 | C13: 3 | E13: 4 | F13: 5 | G13: 6 | I13: 7 | J13: 8 | K13: 9 | M13: 10 | N13: 11 | O13: 12 | Q13: 13
A14: 0
A15: 1 | E15: 1354.8 | I15: 1538.4 | M15: 4.8 | Q15: 182.4
A16: 2 | E16: 1231.2 | I16: 1404 | M16: 1.2 | Q16: 130.8
A17: 3 | E17: 1119.6 | I17: 1282.8 | M17: 0 | Q17: 120
A18: 4 | E18: 1064.4 | I18: 1215.6 | M18: 0 | Q18: 96
A19: 5 | E19: 1074 | I19: 1228.8 | M19: 0 | Q19: 104.4
A20: 6 | E20: 1179.6 | I20: 1382.4 | M20: 2.4 | Q20: 157.2
A21: 7 | E21: 1458 | I21: 1798.8 | M21: 8.4 | Q21: 186
A22: 8 | E22: 1729.2 | I22: 2229.6 | M22: 46.8 | Q22: 238.8
A23: 9 | E23: 2026.8 | I23: 2570.4 | M23: 144 | Q23: 398.4
A24: 10 | E24: 2310 | I24: 2877.6 | M24: 208.8 | Q24: 469.2
A25: 11 | E25: 2479.2 | I25: 2904 | M25: 232.8 | Q25: 487.2
A26: 12 | E26: 2454 | I26: 2926.8 | M26: 235.2 | Q26: 507.6
... A38: 24 | E38: 1659.6 | I38: 1794 | M38: 2.4 | Q38: 123.6
A39: Итого | E39: =SUM(E15:E38) -> 46221.6 | I39: =SUM(I15:I38) -> 53835.6 | M39: =SUM(M15:M38) -> 2257.2 | Q39: =SUM(Q15:Q38) -> 7149.6
A40: 1. При наличии на предприятии отклонений от нормальных режимов электропотребления (временное изменение схем питания, остановка на ремонт, резкое снижение
A41: эл.потребления и т.д.) последние необходимо перечислить.
A42: Главный инженер АО "Вологдаоблэнерго" А.В. Чурляев
A43: составляется самим предприятием с соблюдением всех пунктов настоящей таблицы.

Sheet 14
B1: АО "Вологдаоблэнерго" | J1: код 900151 | N1: ГПП 110/10 кВ "ВОМЗ"
B2: наименование предприятия | N2: наименование источника питания
N3: _________________________________
B4: ул. Горького, 99 | I4: Таблица № 1 | O4: РП 2
B5: адрес
A6: почасовых записей показаний электрических счетчиков
A7: в режимный день 15 ИЮНЯ 2022 г.
A8: 612 | B8: 611
A9: часы суток | B9: Активная энергия | J9: Реактивная энергия
B10: ЯЧ.44 - РП 2 ввод № 1 | F10: ЯЧ.26в - РП 2 ввод № 2 | J10: ЯЧ.44 - РП 2 ввод № 1 | N10: ЯЧ.26в - РП 2 ввод № 2
B11: Расчет. Коэф. | E11: 12000 | F11: Расчет. Коэф. | I11: 12000 | J11: Расчет. Коэф. | M11: =E11 -> 12000 | N11: Расчет. Коэф. | Q11: =I11 -> 12000
B12: показания счетчика | C12: разность | E12: расход эл.энергии за час | F12: показания счетчика | G12: разность | I12: расход эл.энергии за час | J12: показания счетчика | K12: разность | M12: расход эл.энергии за час | N12: показания счетчика | O12: разность | Q12: расход эл.энергии за час
A13: 1 | B13: 2 | C13: 3 | E13: 4 | F13: 5 | G13: 6 | I13: 7 | J13: 8 | K13: 9 | M13: 10 | N13: 11 | O13: 12 | Q13: 13
A14: 0
A15: 1 | E15: 432 | I15: 442.8 | M15: 26.4 | Q15: 55.2
A16: 2 | E16: 390 | I16: 409.2 | M16: 22.8 | Q16: 40.8
A17: 3 | E17: 357.6 | I17: 355.2 | M17: 16.8 | Q17: 7.2
A18: 4 | E18: 332.4 | I18: 336 | M18: 3.6 | Q18: 2.4
A19: 5 | E19: 330 | I19: 364.8 | M19: 6 | Q19: 3.6
A20: 6 | E20: 355.2 | I20: 382.8 | M20: 9.6 | Q20: 9.6
A21: 7 | E21: 484.8 | I21: 447.6 | M21: 15.6 | Q21: 20.4
A22: 8 | E22: 531.6 | I22: 561.6 | M22: 31.2 | Q22: 31.2
A23: 9 | E23: 615.6 | I23: 686.4 | M23: 78 | Q23: 76.8
A24: 10 | E24: 682.8 | I24: 801.6 | M24: 85.2 | Q24: 110.4
A25: 11 | E25: 688.8 | I25: 843.6 | M25: 97.2 | Q25: 112.8
A26: 12 | E26: 702 | I26: 848.4 | M26: 100.8 | Q26: 129.6
... A38: 24 | E38: 487.2 | I38: 525.6 | M38: 7.2 | Q38: 60
A39: Итого | E39: =SUM(I15:I38) -> 14869.2 | I39: =SUM(I15:I38) -> 14869.2 | M39: =SUM(M15:M38) -> 1281.6 | Q39: =SUM(Q15:Q38) -> 1678.8
A40: 1. При наличии на предприятии отклонений от нормальных режимов электропотребления (временное изменение схем питания, остановка на ремонт, резкое снижение
A41: эл.потребления и т.д.) последние необходимо перечислить.
A42: Главный инженер АО "Вологдаоблэнерго" А.В. Чурляев
A43: составляется самим предприятием с соблюдением всех пунктов настоящей таблицы.

Sheet 15
B1: АО "Вологдаоблэнерго" | J1: код 900151 | N1: ПС ВОЛОГДА-ЮЖНАЯ РУ - 6 кВ
B2: наименование предприятия | N2: наименование источника питания
N3: _________________________________
B4: ул. Горького, 99 | I4: Таблица № 1 | N4: ТП 450 | Q4: ТП 630
B5: адрес
A6: почасовых записей показаний электрических счетчиков
A7: в режимный день 18 ДЕКАБРЯ 2019 г..
A8: 591 | B8: 595
A9: часы суток | B9: Активная энергия | J9: Реактивная энергия
B10: ЯЧ.№ 206 - "ГОРОД-15" | F10: ЯЧ.№103 - "ТУБДИСПАНСЕР" | J10: =B10 -> ЯЧ.№ 206 - "ГОРОД-15" | N10: =F10 -> ЯЧ.№103 - "ТУБДИСПАНСЕР"
B11: Расчет. Коэф. | E11: 4800 | F11: Расчет. Коэф. | I11: 2400 | J11: Расчет. Коэф. | M11: =E11 -> 4800 | N11: Расчет. Коэф. | Q11: =I11 -> 2400
B12: показания счетчика | C12: разность | E12: расход эл.энергии за час | F12: показания счетчика | G12: разность | I12: расход эл.энергии за час | J12: показания счетчика | K12: разность | M12: расход эл.энергии за час | N12: показания счетчика | O12: разность | Q12: расход эл.энергии за час
A13: 1 | B13: 2 | C13: 3 | E13: 4 | F13: 5 | G13: 6 | I13: 7 | J13: 8 | K13: 9 | M13: 10 | N13: 11 | O13: 12 | Q13: 13
A14: 0
A15: 1 | E15: 117.9 | I15: 259.47 | M15: 42.21 | Q15: 67.14
A16: 2 | E16: 120.69 | I16: 257.22 | M16: 48.69 | Q16: 59.13
A17: 3 | E17: 104.04 | I17: 211.77 | M17: 45.36 | Q17: 60.57
A18: 4 | E18: 88.83 | I18: 193.95 | M18: 36.72 | Q18: 56.16
A19: 5 | E19: 84.96 | I19: 205.74 | M19: 36.63 | Q19: 57.06
A20: 6 | E20: 93.6 | I20: 238.86 | M20: 39.51 | Q20: 66.42
A21: 7 | E21: 134.01 | I21: 272.52 | M21: 60.48 | Q21: 64.71
A22: 8 | E22: 191.7 | I22: 325.89 | M22: 96.93 | Q22: 72.72
A23: 9 | E23: 224.28 | I23: 377.19 | M23: 136.89 | Q23: 95.58
A24: 10 | E24: 259.2 | I24: 381.78 | M24: 143.1 | Q24: 107.64
A25: 11 | E25: 314.46 | I25: 383.22 | M25: 180.9 | Q25: 116.55
A26: 12 | E26: 301.41 | I26: 391.95 | M26: 162.99 | Q26: 114.75
... A38: 24 | E38: 137.82 | I38: 262.83 | M38: 41.32 | Q38: 56.33
A39: Итого | E39: =SUM(E15:E38) -> 4543.32 | I39: =SUM(I15:I38) -> 7686.84 | M39: =SUM(M15:M38) -> 2315.26 | Q39: =SUM(Q15:Q38) -> 1980.44
A40: 1. При наличии на предприятии отклонений от нормальных режимов электропотребления (временное изменение схем питания, остановка на ремонт, резкое снижение
A41: эл.потребления и т.д.) последние необходимо перечислить.
A42: Главный инженер АО "Вологдаоблэнерго" А.В. Чурляев
A43: составляется самим предприятием с соблюдением всех пунктов настоящей таблицы.

Sheet 16
B1: АО "Вологдаоблэнерго" | J1: код 900151 | N1: ПС ВОЛОГДА-ЮЖНАЯ РУ-10 кВ
B2: наименование предприятия | I2: _ | N2: наименование источника питания
N3: _________________________________
B4: ул. Горького, 99 | I4: Таблица № 1 | O4: РП 32
B5: адрес
A6: почасовых записей показаний электрических счетчиков
A7: в режимный день 15 ИЮНЯ 2022 г.
A8: 590 | B8: 593
A9: часы суток | B9: Активная энергия | J9: Реактивная энергия
B10: ЯЧ.№206 - "ГОРОД-10" | F10: ЯЧ.№404- "ГОРОД-14" | J10: =B10 -> ЯЧ.№206 - "ГОРОД-10" | N10: =F10 -> ЯЧ.№404- "ГОРОД-14"
B11: Расчет. Коэф. | E11: 6000 | F11: Расчет. Коэф. | I11: 3000 | J11: Расчет. Коэф. | M11: =E11 -> 6000 | N11: Расчет. Коэф. | Q11: =I11 -> 3000
B12: показания счетчика | C12: разность | E12: расход эл.энергии за час | F12: показания счетчика | G12: разность | I12: расход эл.энергии за час | J12: показания счетчика | K12: разность | M12: расход эл.энергии за час | N12: показания счетчика | O12: разность | Q12: расход эл.энергии за час
A13: 1 | B13: 2 | C13: 3 | E13: 4 | F13: 5 | G13: 6 | I13: 7 | J13: 8 | K13: 9 | M13: 10 | N13: 11 | O13: 12 | Q13: 13
A14: 0
A15: 1 | E15: 294.6 | I15: 504.3 | M15: 4.5 | Q15: 22.5
A16: 2 | E16: 286.8 | I16: 482.4 | M16: 0.6 | Q16: 14.4
A17: 3 | E17: 278.4 | I17: 450.6 | M17: 0 | Q17: 4.5
A18: 4 | E18: 266.4 | I18: 496.2 | M18: 0 | Q18: 1.2
A19: 5 | E19: 267.6 | I19: 561.9 | M19: 0.6 | Q19: 5.4
A20: 6 | E20: 303.6 | I20: 558.6 | M20: 0.6 | Q20: 11.1
A21: 7 | E21: 368.7 | I21: 688.5 | M21: 1.8 | Q21: 12.3
A22: 8 | E22: 489.3 | I22: 864 | M22: 30.3 | Q22: 28.2
A23: 9 | E23: 501.6 | I23: 1029.6 | M23: 52.5 | Q23: 45
A24: 10 | E24: 543.9 | I24: 1074 | M24: 76.8 | Q24: 78.6
A25: 11 | E25: 507.3 | I25: 1020.6 | M25: 75.9 | Q25: 93
A26: 12 | E26: 516.3 | I26: 1033.8 | M26: 83.1 | Q26: 85.2
... A38: 24 | E38: 318.5 | I38: 527.7 | M38: 0 | Q38: 0
A39: Итого | E39: =SUM(E15:E38) -> 9521.6 | I39: =SUM(I15:I38) -> 17425.5 | M39: =SUM(M15:M38) -> 745.2 | Q39: =SUM(Q15:Q38) -> 804
A40: 1. При наличии на предприятии отклонений от нормальных режимов электропотребления (временное изменение схем питания, остановка на ремонт, резкое снижение
A41: эл.потребления и т.д.) последние необходимо перечислить.
A42: Главный инженер АО "Вологдаоблэнерго" А.В. Чурляев
A43: составляется самим предприятием с соблюдением всех пунктов настоящей таблицы.

Sheet 17
B1: АО "Вологдаоблэнерго" | J1: код 900151 | N1: ПС ВОЛОГДА-ЮЖНАЯ РУ-10 кВ
B2: наименование предприятия | N2: наименование источника питания
N3: РП-44
B4: ул. Горького, 99 | I4: Таблица № 1
B5: адрес
A6: почасовых записей показаний электрических счетчиков
A7: в режимный день 15 ИЮНЯ 2022 г.
A9: часы суток | B9: Активная энергия | J9: Реактивная энергия
B10: яч. 307 ф "Охмыльцево-1" | F10: яч. 409 ф "Охмыльцево-2" | J10: яч. 307 ф "Охмыльцево-1" | N10: яч. 409 ф "Охмыльцево-2"
B11: Расчет. Коэф. | F11: Расчет. Коэф. | J11: Расчет. Коэф. | N11: Расчет. Коэф.
B12: показания счетчика | C12: разность | E12: расход эл.энергии за час | F12: показания счетчика | G12: разность | I12: расход эл.энергии за час | J12: показания счетчика | K12: разность | M12: расход эл.энергии за час | N12: показания счетчика | O12: разность | Q12: расход эл.энергии за час
A13: 1 | B13: 2 | C13: 3 | E13: 4 | F13: 5 | G13: 6 | I13: 7 | J13: 8 | K13: 9 | M13: 10 | N13: 11 | O13: 12 | Q13: 13
A14: 0
A15: 1 | E15: 280.2 | I15: 296.4 | M15: 0 | Q15: 0
A16: 2 | E16: 252.6 | I16: 267.6 | M16: 0 | Q16: 0
A17: 3 | E17: 232.8 | I17: 249.9 | M17: 0 | Q17: 0
A18: 4 | E18: 231.3 | I18: 241.8 | M18: 0 | Q18: 0
A19: 5 | E19: 262.2 | I19: 258.6 | M19: 0 | Q19: 0
A20: 6 | E20: 351.9 | I20: 325.2 | M20: 0 | Q20: 0
A21: 7 | E21: 407.1 | I21: 429.6 | M21: 0.3 | Q21: 0
A22: 8 | E22: 427.5 | I22: 464.4 | M22: 0.9 | Q22: 0
A23: 9 | E23: 469.2 | I23: 469.5 | M23: 3.6 | Q23: 0
A24: 10 | E24: 516.9 | I24: 487.2 | M24: 31.8 | Q24: 0
A25: 11 | E25: 489.3 | I25: 494.7 | M25: 32.4 | Q25: 0
A26: 12 | E26: 503.4 | I26: 497.1 | M26: 38.7 | Q26: 0
... A37: 23 | E37: 390 | I37: 459 | M37: 0 | Q37: 0
A38: 24 | E38: 295 | I38: 358 | M38: 0
A39: Итого | E39: =SUM(E15:E38) -> 10421.5 | I39: =SUM(I15:I38) -> 10694.8 | M39: =SUM(M15:M38) -> 384 | Q39: =SUM(Q15:Q38) -> 0
A40: 1. При наличии на предприятии отклонений от нормальных режимов электропотребления (временное изменение схем питания, остановка на ремонт, резкое снижение
A41: эл.потребления и т.д.) последние необходимо перечислить.
A42: Главный инженер АО "Вологдаоблэнерго" А.В. Чурляев
A43: составляется самим предприятием с соблюдением всех пунктов настоящей таблицы.

Sheet 18
B1: АО "Вологдаоблэнерго" | J1: код 900151 | N1: ПС ВОЛОГДА-ЮЖНАЯ РУ-10 кВ
B2: наименование предприятия | N2: наименование источника питания
N3: _________________________________
B4: ул. Горького, 99 | I4: Таблица № 1 | O4: РП 26
B5: адрес
A6: почасовых записей показаний электрических счетчиков
A7: в режимный день 15 ИЮНЯ 2022 г.
A8: 589 | B8: 592
A9: часы суток | B9: Активная энергия | J9: Реактивная энергия
B10: ЯЧ. № 107- ф."ГОРОД 7" | F10: ЯЧ. № 204 - ф."ГОРОД 17" | J10: ЯЧ. № 107- ф."ГОРОД 7" | N10: ЯЧ. № 204 - ф."ГОРОД 17"
B11: Расчет. Коэф. | E11: 8000 | F11: Расчет. Коэф. | I11: 8000 | J11: Расчет. Коэф. | M11: =E11 -> 8000 | N11: Расчет. Коэф. | Q11: =I11 -> 8000
B12: показания счетчика | C12: разность | E12: расход эл.энергии за час | F12: показания счетчика | G12: разность | I12: расход эл.энергии за час | J12: показания счетчика | K12: разность | M12: расход эл.энергии за час | N12: показания счетчика | O12: разность | Q12: расход эл.энергии за час
A13: 1 | B13: 2 | C13: 3 | E13: 4 | F13: 5 | G13: 6 | I13: 7 | J13: 8 | K13: 9 | M13: 10 | N13: 11 | O13: 12 | Q13: 13
A14: 0
A15: 1 | E15: 1161.3 | I15: 1127.4 | M15: 177 | Q15: 128.7
A16: 2 | E16: 1033.8 | I16: 1019.4 | M16: 153.6 | Q16: 114
A17: 3 | E17: 949.8 | I17: 921.9 | M17: 134.7 | Q17: 90
A18: 4 | E18: 917.4 | I18: 913.5 | M18: 127.5 | Q18: 82.8
A19: 5 | E19: 955.2 | I19: 1026.9 | M19: 133.2 | Q19: 94.8
A20: 6 | E20: 1198.8 | I20: 1375.2 | M20: 162.9 | Q20: 123.6
A21: 7 | E21: 1601.4 | I21: 1755 | M21: 223.8 | Q21: 182.4
A22: 8 | E22: 1735.5 | I22: 1905.3 | M22: 238.8 | Q22: 242.1
A23: 9 | E23: 1813.5 | I23: 1875.6 | M23: 251.4 | Q23: 228.3
A24: 10 | E24: 1852.8 | I24: 1854.6 | M24: 288 | Q24: 275.7
A25: 11 | E25: 1823.4 | I25: 1761.9 | M25: 282.6 | Q25: 265.5
A26: 12 | E26: 1805.4 | I26: 1736.7 | M26: 304.2 | Q26: 269.7
... A38: 24 | E38: 1321 | I38: 1255 | M38: 117 | Q38: 135.6
A39: Итого | E39: =SUM(E15:E38) -> 38875 | I39: =SUM(I15:I38) -> 37451.8 | M39: =SUM(M15:M38) -> 5666.7 | Q39: =SUM(Q15:Q38) -> 4696.4
A40: 1. При наличии на предприятии отклонений от нормальных режимов электропотребления (временное изменение схем питания, остановка на ремонт, резкое снижение
A41: эл.потребления и т.д.) последние необходимо перечислить.
A42: Главный инженер АО "Вологдаоблэнерго" А.В. Чурляев
A43: составляется самим предприятием с соблюдением всех пунктов настоящей таблицы.

Sheet 19
B1: АО "Вологдаоблэнерго" | J1: код 900151 | N1: ПС ВОЛОГДА-ЮЖНАЯ РУ - 10 кВ
B2: наименование предприятия | N2: наименование источника питания
N3: _________________________________
B4: ул. Горького, 99 | I4: Таблица № 1 | O4: РП 43
B5: адрес
A6: почасовых записей показаний электрических счетчиков
A7: в режимный день 15 ИЮНЯ 2022 г.
A8: 597 | B8: 596
A9: часы суток | B9: Активная энергия | J9: Реактивная энергия
B10: ЯЧ.№ 407 - "ГОРОД-3" | F10: ЯЧ.№ 305 - "ГОРОД-5" | J10: ЯЧ.№ 407- "ГОРОД-3" | N10: ЯЧ.№ 305- "ГОРОД-5"
B11: Расчет. Коэф. | E11: 6000 | F11: Расчет. Коэф. | I11: 4000 | J11: Расчет. Коэф. | M11: =E11 -> 6000 | N11: Расчет. Коэф. | Q11: =I11 -> 4000
B12: показания счетчика | C12: разность | E12: расход эл.энергии за час | F12: показания счетчика | G12: разность | I12: расход эл.энергии за час | J12: показания счетчика | K12: разность | M12: расход эл.энергии за час | N12: показания счетчика | O12: разность | Q12: расход эл.энергии за час
A13: 1 | B13: 2 | C13: 3 | E13: 4 | F13: 5 | G13: 6 | I13: 7 | J13: 8 | K13: 9 | M13: 10 | N13: 11 | O13: 12 | Q13: 13
A14: 0
A15: 1 | E15: 1220.1 | I15: 2061.6 | M15: 96.6 | Q15: 468.9
A16: 2 | E16: 1133.1 | I16: 1924.8 | M16: 78.9 | Q16: 435.3
A17: 3 | E17: 1043.1 | I17: 1798.2 | M17: 53.1 | Q17: 407.7
A18: 4 | E18: 1012.8 | I18: 1787.4 | M18: 47.7 | Q18: 405.3
A19: 5 | E19: 1045.5 | I19: 1855.8 | M19: 50.7 | Q19: 401.1
A20: 6 | E20: 1210.2 | I20: 2231.1 | M20: 78.6 | Q20: 464.1
A21: 7 | E21: 1458.6 | I21: 2593.2 | M21: 96 | Q21: 519.9
A22: 8 | E22: 1726.5 | I22: 2858.1 | M22: 142.2 | Q22: 545.1
A23: 9 | E23: 2049.3 | I23: 3156.3 | M23: 200.7 | Q23: 581.4
A24: 10 | E24: 2180.1 | I24: 3425.7 | M24: 267.9 | Q24: 648
A25: 11 | E25: 2186.7 | I25: 3459.9 | M25: 297.9 | Q25: 672
A26: 12 | E26: 2154 | I26: 3490.2 | M26: 279.6 | Q26: 714.9
... A38: 24 | E38: 615.3 | I38: 1236 | M38: 14.7 | Q38: 214.8
A39: Итого | E39: =SUM(E15:E38) -> 40924.8 | I39: =SUM(I15:I38) -> 68282.1 | M39: =SUM(M15:M38) -> 3843.9 | Q39: =SUM(Q15:Q38) -> 13328.7
A40: 1. При наличии на предприятии отклонений от нормальных режимов электропотребления (временное изменение схем питания, остановка на ремонт, резкое снижение
A41: эл.потребления и т.д.) последние необходимо перечислить.
A42: Главный инженер АО "Вологдаоблэнерго" А.В. Чурляев
A43: составляется самим предприятием с соблюдением всех пунктов настоящей таблицы.

Sheet 20
B1: АО "Вологдаоблэнерго" | J1: код 900151 | N1: ПС ВОЛОГДА-ЮЖНАЯ РУ-10 кВ
B2: наименование предприятия | N2: наименование источника питания
N3: _________________________________
B4: ул. Горького, 99 | I4: Таблица № 1 | O4: РП 27
B5: адрес
A6: почасовых записей показаний электрических счетчиков
A7: в режимный день 15 ИЮНЯ 2022 г.
A8: 30 | B8: 49
A9: часы суток | B9: Активная энергия | J9: Реактивная энергия
B10: ЯЧ. № 408 - "ГОРОД -1" | F10: ЯЧ.№ 105 - "РП 27" | J10: ЯЧ. № 408 - "ГОРОД -1" | N10: ЯЧ.№ 105 - "РП 27"
B11: Расчет. Коэф. | E11: 12000 | F11: Расчет. Коэф. | I11: 12000 | J11: Расчет. Коэф. | M11: =E11 -> 12000 | N11: Расчет. Коэф. | Q11: =I11 -> 12000
B12: показания счетчика | C12: разность | E12: расход эл.энергии за час | F12: показания счетчика | G12: разность | I12: расход эл.энергии за час | J12: показания счетчика | K12: разность | M12: расход эл.энергии за час | N12: показания счетчика | O12: разность | Q12: расход эл.энергии за час
A13: 1 | B13: 2 | C13: 3 | E13: 4 | F13: 5 | G13: 6 | I13: 7 | J13: 8 | K13: 9 | M13: 10 | N13: 11 | O13: 12 | Q13: 13
A14: 0
A15: 1 | E15: 0 | I15: 0 | M15: 0 | Q15: 0
A16: 2 | E16: 0 | I16: 0 | M16: 0 | Q16: 0
A17: 3 | E17: 0 | I17: 0 | M17: 0 | Q17: 0
A18: 4 | E18: 0 | I18: 0 | M18: 0 | Q18: 0
A19: 5 | E19: 0 | I19: 0 | M19: 0 | Q19: 0
A20: 6 | E20: 0 | I20: 0 | M20: 0 | Q20: 0
A21: 7 | E21: 0 | I21: 0 | M21: 0 | Q21: 0
A22: 8 | E22: 0 | I22: 0 | M22: 0 | Q22: 0
A23: 9 | E23: 0 | I23: 0 | M23: 0 | Q23: 0
A24: 10 | E24: 0 | I24: 0 | M24: 0 | Q24: 0
A25: 11 | E25: 0 | I25: 0 | M25: 0 | Q25: 0
A26: 12 | E26: 0 | I26: 0 | M26: 0 | Q26: 0
... A38: 24 | E38: 0 | I38: 0 | M38: 0 | Q38: 0
A39: Итого | E39: =SUM(E15:E38) -> 0 | I39: =SUM(I15:I38) -> 0 | M39: =SUM(M15:M38) -> 0 | Q39: =SUM(Q15:Q38) -> 0
A40: 1. При наличии на предприятии отклонений от нормальных режимов электропотребления (временное изменение схем питания, остановка на ремонт, резкое снижение
A41: эл.потребления и т.д.) последние необходимо перечислить.
A42: Главный инженер АО "Вологдаоблэнерго" А.В. Чурляев
A43: составляется самим предприятием с соблюдением всех пунктов настоящей таблицы.

Sheet 21
B1: АО "Вологдаоблэнерго" | J1: код 900151 | N1: ПС ВОЛОГДА-ЮЖНАЯ РУ-10 кВ
B2: наименование предприятия | N2: наименование источника питания
N3: яч. 406 ф "РОДИОНЦЕВО",
B4: ул. Горького, 99 | I4: Таблица № 1 | N4: КТП-906, ПКУ- ЛЭП-43
B5: адрес
A6: почасовых записей показаний электрических счетчиков
A7: в режимный день 15 ИЮНЯ 2022 г.
A8: 362 | B8: 985
A9: часы суток | B9: Активная энергия | J9: Реактивная энергия
B10: яч. 406 ф "РОДИОНЦЕВО" - ПКУ | F10: КТП-906 | J10: яч. 406 ф "РОДИОНЦЕВО" - ПКУ | N10: КТП-906
B11: Расчет. Коэф. | E11: 2000 | F11: Расчет. Коэф. | I11: 80 | J11: Расчет. Коэф. | M11: =E11 -> 2000 | N11: Расчет. Коэф. | Q11: =I11 -> 80
B12: показания счетчика | C12: разность | E12: расход эл.энергии за час | F12: показания счетчика | G12: разность | I12: расход эл.энергии за час | J12: показания счетчика | K12: разность | M12: расход эл.энергии за час | N12: показания счетчика | O12: разность | Q12: расход эл.энергии за час
A13: 1 | B13: 2 | C13: 3 | E13: 4 | F13: 5 | G13: 6 | I13: 7 | J13: 8 | K13: 9 | M13: 10 | N13: 11 | O13: 12 | Q13: 13
A14: 0
A15: 1 | E15: 7.8 | I15: 10.12 | M15: 0 | Q15: 2.72
A16: 2 | E16: 7.4 | I16: 9.28 | M16: 0 | Q16: 2.32
A17: 3 | E17: 4.2 | I17: 8.8 | M17: 0 | Q17: 2.28
A18: 4 | E18: 2.2 | I18: 8.88 | M18: 0 | Q18: 2.32
A19: 5 | E19: 2.4 | I19: 8.76 | M19: 0 | Q19: 2.36
A20: 6 | E20: 2.4 | I20: 9.16 | M20: 0 | Q20: 2.52
A21: 7 | E21: 2.8 | I21: 9.16 | M21: 0 | Q21: 1.96
A22: 8 | E22: 5.6 | I22: 11.72 | M22: 0 | Q22: 2.72
A23: 9 | E23: 8.8 | I23: 15.12 | M23: 0 | Q23: 3.08
A24: 10 | E24: 11.6 | I24: 13.2 | M24: 0 | Q24: 2.4
A25: 11 | E25: 12 | I25: 12.36 | M25: 0 | Q25: 3.28
A26: 12 | E26: 11.4 | I26: 13.36 | M26: 0 | Q26: 3.12
... A38: 24 | E38: 7.4 | I38: 11.2 | M38: 0 | Q38: 3.08
A39: Итого | E39: =SUM(E15:E38) -> 153.2 | I39: =SUM(I15:I38) -> 294.12 | M39: =SUM(M15:M38) -> 0 | Q39: =SUM(Q15:Q38) -> 71.08
A40: 1. При наличии на предприятии отклонений от нормальных режимов электропотребления (временное изменение схем питания, остановка на ремонт, резкое снижение
A41: эл.потребления и т.д.) последние необходимо перечислить.
A42: Главный инженер АО "Вологдаоблэнерго" А.В. Чурляев
A43: составляется самим предприятием с соблюдением всех пунктов настоящей таблицы.

Sheet 21_1
B1: АО "Вологдаоблэнерго" | J1: код 900151 | N1: ПС ВОЛОГДА-ЮЖНАЯ РУ- 6 кВ
B2: наименование предприятия | N2: наименование источника питания
N3: _________________________________
B4: ул. Горького, 99 | I4: Таблица № 1 | O4: ТП 461
B5: адрес
A6: почасовых записей показаний электрических счетчиков
A7: в режимный день 15 ИЮНЯ 2022 г.
A8: 594
A9: часы суток | B9: Активная энергия | J9: Реактивная энергия
B10: ЯЧ.№203 - "ГОРОД 20" | J10: ЯЧ.№203 - "ГОРОД 20"
B11: Расчет. Коэф. | E11: 7200 | F11: Расчет. Коэф. | I11: 0 | J11: Расчет. Коэф. | M11: =E11 -> 7200 | N11: Расчет. Коэф. | Q11: =I11 -> 0
B12: показания счетчика | C12: разность | E12: расход эл.энергии за час | F12: показания счетчика | G12: разность | I12: расход эл.энергии за час | J12: показания счетчика | K12: разность | M12: расход эл.энергии за час | N12: показания счетчика | O12: разность | Q12: расход эл.энергии за час
A13: 1 | B13: 2 | C13: 3 | E13: 4 | F13: 5 | G13: 6 | I13: 7 | J13: 8 | K13: 9 | M13: 10 | N13: 11 | O13: 12 | Q13: 13
A14: 0
A15: 1 | E15: 111.96 | M15: 26.46
A16: 2 | E16: 103.59 | M16: 23.58
A17: 3 | E17: 100.44 | M17: 24.03
A18: 4 | E18: 93.6 | M18: 21.24
A19: 5 | E19: 143.55 | M19: 25.29
A20: 6 | E20: 203.94 | M20: 31.95
A21: 7 | E21: 215.01 | M21: 32.4
A22: 8 | E22: 233.55 | M22: 32.94
A23: 9 | E23: 270.72 | M23: 35.28
A24: 10 | E24: 265.32 | M24: 40.95
A25: 11 | E25: 233.82 | M25: 39.69
A26: 12 | E26: 224.46 | M26: 43.83
... A38: 24 | E38: 138.95 | M38: 21.25
A39: Итого | E39: =SUM(E15:E38) -> 4287.59 | M39: =SUM(M15:M38) -> 762.04
A40: 1. При наличии на предприятии отклонений от нормальных режимов электропотребления (временное изменение схем питания, остановка на ремонт, резкое снижение
A41: эл.потребления и т.д.) последние необходимо перечислить.
A42: Главный инженер АО "Вологдаоблэнерго" А.В. Чурляев
A43: составляется самим предприятием с соблюдением всех пунктов настоящей таблицы.

Sheet 21_2
B1: АО "Вологдаоблэнерго" | J1: код 900151 | N1: ПС ВОЛОГДА-ЮЖНАЯ РУ-10 кВ
B2: наименование предприятия | N2: наименование источника питания
N3: яч. 104 ф 6 кВ Керамик-1
B4: ул. Горького, 99 | I4: Таблица № 1
B5: адрес
A6: почасовых записей показаний электрических счетчиков
A7: в режимный день 15 ИЮНЯ 2022 г.
A9: часы суток | B9: Активная энергия | J9: Реактивная энергия
B10: яч. 104 ф 6 кВ Керамик-1 ТП-841Т-1 | F10: яч. 104 ф 6 кВ Керамик-1 ТП-417 | J10: яч. 104 ф 6 кВ Керамик-1 ТП-841Т-1 | N10: яч. 104 ф 6 кВ Керамик-1 ТП-417
B11: Расчет. Коэф. | F11: Расчет. Коэф. | I11: 200 | J11: Расчет. Коэф. | N11: Расчет. Коэф. | Q11: 200
B12: показания счетчика | C12: разность | E12: расход эл.энергии за час | F12: показания счетчика | G12: разность | I12: расход эл.энергии за час | J12: показания счетчика | K12: разность | M12: расход эл.энергии за час | N12: показания счетчика | O12: разность | Q12: расход эл.энергии за час
A13: 1 | B13: 2 | C13: 3 | E13: 4 | F13: 5 | G13: 6 | I13: 7 | J13: 8 | K13: 9 | M13: 10 | N13: 11 | O13: 12 | Q13: 13
A14: 0
A15: 1 | E15: 0 | I15: 4 | M15: 0 | Q15: 0.1
A16: 2 | E16: 0 | I16: 3.9 | M16: 0 | Q16: 0.2
A17: 3 | E17: 0 | I17: 3.9 | M17: 0 | Q17: 0.2
A18: 4 | E18: 0 | I18: 4.4 | M18: 0 | Q18: 0.1
A19: 5 | E19: 0 | I19: 3.8 | M19: 0 | Q19: 0.2
A20: 6 | E20: 0 | I20: 3.7 | M20: 0 | Q20: 0.1
A21: 7 | E21: 0 | I21: 3.8 | M21: 0 | Q21: 0.1
A22: 8 | E22: 0 | I22: 4.4 | M22: 0 | Q22: 0.2
A23: 9 | E23: 0 | I23: 3.7 | M23: 0 | Q23: 0.1
A24: 10 | E24: 0 | I24: 3.8 | M24: 0 | Q24: 0
A25: 11 | E25: 0 | I25: 5 | M25: 0 | Q25: 0.1
A26: 12 | E26: 0 | I26: 6.6 | M26: 0 | Q26: 1.7
... A38: 24 | E38: 0 | I38: 4.2 | M38: 0 | Q38: 0.1
A39: Итого | E39: =SUM(E15:E38) -> 0 | I39: =SUM(I15:I38) -> 119.9 | M39: =SUM(M15:M38) -> 0 | Q39: =SUM(Q15:Q38) -> 13.4
A40: 1. При наличии на предприятии отклонений от нормальных режимов электропотребления (временное изменение схем питания, остановка на ремонт, резкое снижение
A41: эл.потребления и т.д.) последние необходимо перечислить.
A42: Главный инженер АО "Вологдаоблэнерго" А.В. Чурляев
A43: составляется самим предприятием с соблюдением всех пунктов настоящей таблицы.

Sheet 21_3
B1: АО "Вологдаоблэнерго" | J1: код 900151 | N1: ПС ВОЛОГДА-ЮЖНАЯ РУ-10 кВ
B2: наименование предприятия | N2: наименование источника питания
N3: яч. 104 ф 6 кВ Керамик-1
B4: ул. Горького, 99 | I4: Таблица № 1
B5: адрес
A6: почасовых записей показаний электрических счетчиков
A7: в режимный день 15 ИЮНЯ 2022 г.
A9: часы суток | B9: Активная энергия | J9: Реактивная энергия
B10: яч. 104 ф 6 кВ Керамик-1 КТП-1004 | J10: яч. 104 ф 6 кВ Керамик-1 КТП-1004
B11: Расчет. Коэф. | F11: Расчет. Коэф. | J11: Расчет. Коэф. | N11: Расчет. Коэф.
B12: показания счетчика | C12: разность | E12: расход эл.энергии за час | F12: показания счетчика | G12: разность | I12: расход эл.энергии за час | J12: показания счетчика | K12: разность | M12: расход эл.энергии за час | N12: показания счетчика | O12: разность | Q12: расход эл.энергии за час
A13: 1 | B13: 2 | C13: 3 | E13: 4 | F13: 5 | G13: 6 | I13: 7 | J13: 8 | K13: 9 | M13: 10 | N13: 11 | O13: 12 | Q13: 13
A14: 0
A15: 1 | E15: 4.316 | M15: 0.542
A16: 2 | E16: 3.508 | M16: 0.382
A17: 3 | E17: 2.822 | M17: 0.382
A18: 4 | E18: 2.78 | M18: 0.424
A19: 5 | E19: 3.664 | M19: 0.27
A20: 6 | E20: 3.254 | M20: 0.388
A21: 7 | E21: 4.726 | M21: 0.344
A22: 8 | E22: 6.054 | M22: 0.298
A23: 9 | E23: 6.374 | M23: 0.332
A24: 10 | E24: 4.228 | M24: 0.564
A25: 11 | E25: 4.212 | M25: 0.754
A26: 12 | E26: 5.038 | M26: 1.182
... A38: 24 | E38: 6.016 | M38: 0.394
A39: Итого | E39: =SUM(E15:E38) -> 129.748 | I39: =SUM(I15:I38) -> 0 | M39: =SUM(M15:M38) -> 13.078 | Q39: =SUM(Q15:Q38) -> 0
A40: 1. При наличии на предприятии отклонений от нормальных режимов электропотребления (временное изменение схем питания, остановка на ремонт, резкое снижение
A41: эл.потребления и т.д.) последние необходимо перечислить.
A42: Главный инженер АО "Вологдаоблэнерго" А.В. Чурляев
A43: составляется самим предприятием с соблюдением всех пунктов настоящей таблицы.

Sheet 21_4
B1: АО "Вологдаоблэнерго" | J1: код 900151 | N1: ПС ВОЛОГДА-ЮЖНАЯ РУ-10 кВ
B2: наименование предприятия | N2: наименование источника питания
N3: яч. 207 ф 10 кВ Керамик 2
B4: ул. Горького, 99 | I4: Таблица № 1
B5: адрес
A6: почасовых записей показаний электрических счетчиков
A7: в режимный день 15 ИЮНЯ 2022 г.
A9: часы суток | B9: Активная энергия | J9: Реактивная энергия
B10: яч. 207 ф 10 кВ Керамик 2 ТП841 Т-2 | J10: яч. 207 ф 10 кВ Керамик 2 ТП841 Т-2
B11: Расчет. Коэф. | F11: Расчет. Коэф. | J11: Расчет. Коэф. | N11: Расчет. Коэф.
B12: показания счетчика | C12: разность | E12: расход эл.энергии за час | F12: показания счетчика | G12: разность | I12: расход эл.энергии за час | J12: показания счетчика | K12: разность | M12: расход эл.энергии за час | N12: показания счетчика | O12: разность | Q12: расход эл.энергии за час
A13: 1 | B13: 2 | C13: 3 | E13: 4 | F13: 5 | G13: 6 | I13: 7 | J13: 8 | K13: 9 | M13: 10 | N13: 11 | O13: 12 | Q13: 13
A14: 0
A15: 1 | E15: 55.95
A16: 2 | E16: 49.5
A17: 3 | E17: 46.5
A18: 4 | E18: 45.15
A19: 5 | E19: 53.4
A20: 6 | E20: 73.35
A21: 7 | E21: 84.3
A22: 8 | E22: 82.8
A23: 9 | E23: 86.25
A24: 10 | E24: 85.35
A25: 11 | E25: 83.25
A26: 12 | E26: 79.05
... A38: 24 | E38: 90.3
A39: Итого | E39: =SUM(E15:E38) -> 2049.3 | I39: =SUM(I15:I38) -> 0 | M39: =SUM(M15:M38) -> 0 | Q39: =SUM(Q15:Q38) -> 0
A40: 1. При наличии на предприятии отклонений от нормальных режимов электропотребления (временное изменение схем питания, остановка на ремонт, резкое снижение
A41: эл.потребления и т.д.) последние необходимо перечислить.
A42: Главный инженер АО "Вологдаоблэнерго" А.В. Чурляев
A43: составляется самим предприятием с соблюдением всех пунктов настоящей таблицы.

Sheet 21_5
B1: АО "Вологдаоблэнерго" | J1: код 900151 | K1: ПС "Вологда-Южная"РУ 6кВ - транзит через "БМЗ"
B2: наименование предприятия | N2: наименование источника питания
N3: ф 6 кВ БМЗ-1, БМЗ-2
B4: ул. Горького, 99 | I4: Таблица № 1
B5: адрес
A6: почасовых записей показаний электрических счетчиков
A7: в режимный день 15 ИЮНЯ 2022 г.
A9: часы суток | B9: Активная энергия | J9: Реактивная энергия
B10: яч. 106 ф 6 кВ БМЗ-1 РТП 25 Т1 | J10: яч. 204 ф 6 кВ БМЗ-2 РТП 25 Т2
B11: Расчет. Коэф. | F11: Расчет. Коэф. | J11: Расчет. Коэф. | N11: Расчет. Коэф.
B12: показания счетчика | C12: разность | E12: расход эл.энергии за час | F12: показания счетчика | G12: разность | I12: расход эл.энергии за час | J12: показания счетчика | K12: разность | M12: расход эл.энергии за час | N12: показания счетчика | O12: разность | Q12: расход эл.энергии за час
A13: 1 | B13: 2 | C13: 3 | E13: 4 | F13: 5 | G13: 6 | I13: 7 | J13: 8 | K13: 9 | M13: 10 | N13: 11 | O13: 12 | Q13: 13
A14: 0
A15: 1 | E15: 75.24 | I15: 82.2 | M15: 22.8 | Q15: 36.48
A16: 2 | E16: 68.16 | I16: 74.58 | M16: 22.56 | Q16: 34.86
A17: 3 | E17: 57.36 | I17: 69.54 | M17: 21.36 | Q17: 34.02
A18: 4 | E18: 52.08 | I18: 67.14 | M18: 20.16 | Q18: 33.12
A19: 5 | E19: 54.6 | I19: 68.04 | M19: 20.52 | Q19: 33.6
A20: 6 | E20: 58.32 | I20: 85.92 | M20: 22.2 | Q20: 34.98
A21: 7 | E21: 70.2 | I21: 114.84 | M21: 23.04 | Q21: 36.84
A22: 8 | E22: 85.92 | I22: 123.54 | M22: 24.36 | Q22: 38.82
A23: 9 | E23: 97.68 | I23: 138.48 | M23: 24.6 | Q23: 40.68
A24: 10 | E24: 99.12 | I24: 141.84 | M24: 27.96 | Q24: 45.36
A25: 11 | E25: 105.36 | I25: 133.74 | M25: 30.96 | Q25: 46.56
A26: 12 | E26: 109.08 | I26: 142.02 | M26: 32.4 | Q26: 50.1
... A38: 24 | E38: 78.12 | I38: 95.94 | M38: 22.44 | Q38: 35.52
A39: Итого | E39: =SUM(E15:E38) -> 2124.96 | I39: =SUM(I15:I38) -> 2689.26 | M39: =SUM(M15:M38) -> 623.88 | Q39: =SUM(Q15:Q38) -> 1002.12
A40: 1. При наличии на предприятии отклонений от нормальных режимов электропотребления (временное изменение схем питания, остановка на ремонт, резкое снижение
A41: эл.потребления и т.д.) последние необходимо перечислить.
A42: Главный инженер АО "Вологдаоблэнерго" А.В. Чурляев
A43: составляется самим предприятием с соблюдением всех пунктов настоящей таблицы.

Sheet 21_5.1
B1: АО "Вологдаоблэнерго" | J1: код 900151 | K1: ПС "Вологда-Южная"РУ 6кВ - транзит через "БМЗ"
B2: наименование предприятия | N2: наименование источника питания
N3: ф 6 кВ БМЗ-1, БМЗ-2
B4: ул. Горького, 99 | I4: Таблица № 1
B5: адрес
A6: почасовых записей показаний электрических счетчиков
A7: в режимный день 15 ИЮНЯ 2022 г.
A9: часы суток | B9: Активная энергия | J9: Реактивная энергия
B10: яч. 204 ф 6 кВ БМЗ КТП-1038 Т1 | F10: яч. 106 ф 6 кВ БМЗ-1 КТП-1038 Т2 | J10: яч. 204 ф 6 кВ БМЗ КТП-1038 Т1 | N10: яч. 106 ф 6 кВ БМЗ-1 КТП-1038 Т2
B11: Расчет. Коэф. | F11: Расчет. Коэф. | J11: Расчет. Коэф. | N11: Расчет. Коэф.
B12: показания счетчика | C12: разность | E12: расход эл.энергии за час | F12: показания счетчика | G12: разность | I12: расход эл.энергии за час | J12: показания счетчика | K12: разность | M12: расход эл.энергии за час | N12: показания счетчика | O12: разность | Q12: расход эл.энергии за час
A13: 1 | B13: 2 | C13: 3 | E13: 4 | F13: 5 | G13: 6 | I13: 7 | J13: 8 | K13: 9 | M13: 10 | N13: 11 | O13: 12 | Q13: 13
A14: 0
A15: 1 | E15: 87.6 | M15: 28.4
A16: 2 | E16: 75.2 | M16: 23.8
A17: 3 | E17: 66 | M17: 22.8
A18: 4 | E18: 63.4 | M18: 20.4
A19: 5 | E19: 63.8 | M19: 21
A20: 6 | E20: 82.8 | M20: 26.6
A21: 7 | E21: 103.4 | M21: 36
A22: 8 | E22: 112.2 | M22: 44.8
A23: 9 | E23: 115.8 | M23: 57.6
A24: 10 | E24: 120.2 | M24: 65.4
A25: 11 | E25: 122 | M25: 52.2
A26: 12 | E26: 122.2 | M26: 56.6
... A38: 24 | E38: 101.6 | M38: 35
A39: Итого | E39: =SUM(E15:E38) -> 2867.4 | I39: =SUM(I15:I38) -> 0 | M39: =SUM(M15:M38) -> 1139 | Q39: =SUM(Q15:Q38) -> 0
A40: 1. При наличии на предприятии отклонений от нормальных режимов электропотребления (временное изменение схем питания, остановка на ремонт, резкое снижение
A41: эл.потребления и т.д.) последние необходимо перечислить.
A42: Главный инженер АО "Вологдаоблэнерго" А.В. Чурляев
A43: составляется самим предприятием с соблюдением всех пунктов настоящей таблицы.

Sheet 22
B1: АО "Вологдаоблэнерго" | J1: код 900151 | M1: ПС ВОЛОГДА - ТЯГОВАЯ 110/27,5/6 кВ
B2: наименование предприятия | N2: наименование источника питания
N3: _________________________________
B4: ул. Горького, 99 | I4: Таблица № 1 | O4: ТП 450
A6: почасовых записей показаний электрических счетчиков
A7: в режимный день 15 ИЮНЯ 2022 г.
A8: 636
A9: часы суток | B9: Активная энергия | J9: Реактивная энергия
B10: ЯЧ. 1 - ТП 450 | J10: ЯЧ. 1 - ТП 450
B11: Расчет. Коэф. | E11: 7200 | F11: Расчет. Коэф. | I11: =Q11 -> 0 | J11: Расчет. Коэф. | M11: =E11 -> 7200 | N11: Расчет. Коэф. | Q11: 0
B12: показания счетчика | C12: разность | E12: расход эл.энергии за час | F12: показания счетчика | G12: разность | I12: расход эл.энергии за час | J12: показания счетчика | K12: разность | M12: расход эл.энергии за час | N12: показания счетчика | O12: разность | Q12: расход эл.энергии за час
A13: 1 | B13: 2 | C13: 3 | E13: 4 | F13: 5 | G13: 6 | I13: 7 | J13: 8 | K13: 9 | M13: 10 | N13: 11 | O13: 12 | Q13: 13
A14: 0
A15: 1 | E15: 0 | M15: 0
A16: 2 | E16: 0 | M16: 0
A17: 3 | E17: 0 | M17: 0
A18: 4 | E18: 0 | M18: 0
A19: 5 | E19: 0 | M19: 0
A20: 6 | E20: 0 | M20: 0
A21: 7 | E21: 0 | M21: 0
A22: 8 | E22: 0 | M22: 0
A23: 9 | E23: 0 | M23: 0
A24: 10 | E24: 0 | M24: 0
A25: 11 | E25: 0 | M25: 0
A26: 12 | E26: 0 | M26: 0
... A38: 24 | E38: 0 | M38: 0
A39: Итого | E39: =SUM(E15:E38) -> 0 | M39: =SUM(M15:M38) -> 0
A40: 1. При наличии на предприятии отклонений от нормальных режимов электропотребления (временное изменение схем питания, остановка на ремонт, резкое снижение
A41: эл.потребления и т.д.) последние необходимо перечислить.
A42: Главный инженер АО "Вологдаоблэнерго" А.В. Чурляев
A43: составляется самим предприятием с соблюдением всех пунктов настоящей таблицы.

Sheet 23
B1: АО "Вологдаоблэнерго" | I1: код 900151 | K1: ТГК -2 "ВТЭЦ" РП 6 кВ танзит через ТП 10 СЖД ОАО РЖД
B2: наименование предприятия | N2: наименование источника питания
N3: _________________________________
B4: ул. Горького, 99 | I4: Таблица № 1 | O4: ТП 238; ТП 651
A6: почасовых записей показаний электрических счетчиков
A7: в режимный день 15 ИЮНЯ 2022 г.
A8: 640 | B8: 641
A9: часы суток | B9: Активная энергия | J9: Реактивная энергия
B10: ЯЧ.5 - ТП 238 | F10: ЯЧ.7 - ТП 651 | J10: ЯЧ.5 - ТП 238 | N10: ЯЧ.7 - ТП 651
B11: Расчет. Коэф. | E11: 1800 | F11: Расчет. Коэф. | I11: 1800 | J11: Расчет. Коэф. | M11: =E11 -> 1800 | N11: Расчет. Коэф. | Q11: =I11 -> 1800
B12: показания счетчика | C12: разность | E12: расход эл.энергии за час | F12: показания счетчика | G12: разность | I12: расход эл.энергии за час | J12: показания счетчика | K12: разность | M12: расход эл.энергии за час | N12: показания счетчика | O12: разность | Q12: расход эл.энергии за час
A13: 1 | B13: 2 | C13: 3 | E13: 4 | F13: 5 | G13: 6 | I13: 7 | J13: 8 | K13: 9 | M13: 10 | N13: 11 | O13: 12 | Q13: 13
A14: 0
A15: 1 | E15: 103.14 | I15: 249.3 | M15: 34.74 | Q15: 92.34
A16: 2 | E16: 95.04 | I16: 226.8 | M16: 32.04 | Q16: 90.9
A17: 3 | E17: 76.68 | I17: 204.12 | M17: 25.74 | Q17: 91.44
A18: 4 | E18: 91.62 | I18: 195.66 | M18: 25.56 | Q18: 85.68
A19: 5 | E19: 103.5 | I19: 204.3 | M19: 26.46 | Q19: 88.74
A20: 6 | E20: 98.64 | I20: 221.04 | M20: 26.46 | Q20: 94.32
A21: 7 | E21: 115.56 | I21: 250.02 | M21: 28.98 | Q21: 88.92
A22: 8 | E22: 131.58 | I22: 288 | M22: 30.42 | Q22: 90.18
A23: 9 | E23: 125.46 | I23: 315.18 | M23: 33.66 | Q23: 106.2
A24: 10 | E24: 134.1 | I24: 326.88 | M24: 38.34 | Q24: 112.86
A25: 11 | E25: 142.92 | I25: 329.4 | M25: 44.64 | Q25: 116.82
A26: 12 | E26: 143.64 | I26: 343.8 | M26: 44.28 | Q26: 122.04
... A38: 24 | E38: 114.66 | I38: 290.7 | M38: 34.56 | Q38: 86.76
A39: Итого | E39: =SUM(E15:E38) -> 2933.64 | I39: =SUM(I15:I38) -> 7324.2 | M39: =SUM(M15:M38) -> 877.86 | Q39: =SUM(Q15:Q38) -> 2456.1
A40: 1. При наличии на предприятии отклонений от нормальных режимов электропотребления (временное изменение схем питания, остановка на ремонт, резкое снижение
A41: эл.потребления и т.д.) последние необходимо перечислить.
A42: Главный инженер АО "Вологдаоблэнерго" А.В. Чурляев
A43: составляется самим предприятием с соблюдением всех пунктов настоящей таблицы.

Sheet 24
B1: АО "Вологдаоблэнерго" | G1: код 900151 | I1: ГПП ВОЛОГДА -ТЯГОВАЯ СЖД 110 /27,5/6 кВ транзит через ТП 34 СЖД ОАО РЖД
B2: наименование предприятия | N2: наименование источника питания
N3: _________________________________
B4: ул. Горького, 99 | I4: Таблица № 1 | O4: ТП 660; ТП 662
A6: почасовых записей показаний электрических счетчиков
A7: в режимный день 15 ИЮНЯ 2022 г.
A8: 637 | B8: 639
A9: часы суток | B9: Активная энергия | J9: Реактивная энергия
B10: ЯЧ.2 - ТП 660 | F10: ЯЧ.6 - ТП 662 | J10: ЯЧ.2 - ТП 660 | N10: ЯЧ.6 - ТП 662
B11: Расчет. Коэф. | E11: 2400 | F11: Расчет. Коэф. | I11: 2400 | J11: Расчет. Коэф. | M11: =E11 -> 2400 | N11: Расчет. Коэф. | Q11: =I11 -> 2400
B12: показания счетчика | C12: разность | E12: расход эл.энергии за час | F12: показания счетчика | G12: разность | I12: расход эл.энергии за час | J12: показания счетчика | K12: разность | M12: расход эл.энергии за час | N12: показания счетчика | O12: разность | Q12: расход эл.энергии за час
A13: 1 | B13: 2 | C13: 3 | E13: 4 | F13: 5 | G13: 6 | I13: 7 | J13: 8 | K13: 9 | M13: 10 | N13: 11 | O13: 12 | Q13: 13
A14: 0
A15: 1 | E15: 320.4 | I15: 299.28 | M15: 117.84 | Q15: 77.04
A16: 2 | E16: 294.96 | I16: 263.52 | M16: 111.12 | Q16: 73.2
A17: 3 | E17: 264 | I17: 253.2 | M17: 106.8 | Q17: 72
A18: 4 | E18: 238.8 | I18: 230.64 | M18: 98.16 | Q18: 67.68
A19: 5 | E19: 248.4 | I19: 231.84 | M19: 97.68 | Q19: 70.32
A20: 6 | E20: 276 | I20: 253.92 | M20: 105.84 | Q20: 74.16
A21: 7 | E21: 328.8 | I21: 341.52 | M21: 105.84 | Q21: 76.56
A22: 8 | E22: 372 | I22: 392.4 | M22: 111.84 | Q22: 82.56
A23: 9 | E23: 375.36 | I23: 377.04 | M23: 102.72 | Q23: 75.84
A24: 10 | E24: 406.32 | I24: 386.4 | M24: 121.2 | Q24: 83.04
A25: 11 | E25: 406.8 | I25: 411.84 | M25: 121.68 | Q25: 101.04
A26: 12 | E26: 414.48 | I26: 421.68 | M26: 126 | Q26: 104.88
... A38: 24 | E38: 372.24 | I38: 342.48 | M38: 102.48 | Q38: 60
A39: Итого | E39: =SUM(E15:E38) -> 9297.84 | I39: =SUM(I15:I38) -> 9064.08 | M39: =SUM(M15:M38) -> 2795.76 | Q39: =SUM(Q15:Q38) -> 2058.24
A40: 1. При наличии на предприятии отклонений от нормальных режимов электропотребления (временное изменение схем питания, остановка на ремонт, резкое снижение
A41: эл.потребления и т.д.) последние необходимо перечислить.
A42: Главный инженер АО "Вологдаоблэнерго" А.В. Чурляев
A43: составляется самим предприятием с соблюдением всех пунктов настоящей таблицы.

Sheet 25
B1: АО "Вологдаоблэнерго" | J1: код 900151 | N1: ТГК-2 ВТЭЦ РП 6 кВ
B2: наименование предприятия | N2: наименование источника питания
N3: _________________________________
B4: ул. Горького, 99 | I4: Таблица № 1 | O4: РП 3
B5: адрес
A6: почасовых записей показаний электрических счетчиков
A7: в режимный день 15 ИЮНЯ 2022 г.
A8: 381 | B8: 384
A9: часы суток | B9: Активная энергия | J9: Реактивная энергия
B10: ЯЧ.10 - РП 3 ввод № 1 | F10: ЯЧ. 115 - РП 3 ввод № 2 | J10: ЯЧ.10 - РП 3 ввод № 1 | N10: ЯЧ. 115 - РП 3 ввод № 2
B11: Расчет. Коэф. | E11: 7200 | F11: Расчет. Коэф. | I11: 3600 | J11: Расчет. Коэф. | M11: =E11 -> 7200 | N11: Расчет. Коэф. | Q11: =I11 -> 3600
B12: показания счетчика | C12: разность | E12: расход эл.энергии за час | F12: показания счетчика | G12: разность | I12: расход эл.энергии за час | J12: показания счетчика | K12: разность | M12: расход эл.энергии за час | N12: показания счетчика | O12: разность | Q12: расход эл.энергии за час
A13: 1 | B13: 2 | C13: 3 | E13: 4 | F13: 5 | G13: 6 | I13: 7 | J13: 8 | K13: 9 | M13: 10 | N13: 11 | O13: 12 | Q13: 13
A14: 0
A15: 1 | E15: 365 | I15: 908 | M15: 167 | Q15: 369
A16: 2 | E16: 1100 | I16: 282 | M16: 514 | Q16: 75
A17: 3 | E17: 1243 | I17: 259 | M17: 586 | Q17: 74
A18: 4 | E18: 1262 | I18: 235 | M18: 566 | Q18: 64
A19: 5 | E19: 1184 | I19: 242 | M19: 557 | Q19: 73
A20: 6 | E20: 1185 | I20: 246 | M20: 577 | Q20: 80
A21: 7 | E21: 1282 | I21: 259 | M21: 553 | Q21: 67
A22: 8 | E22: 1622 | I22: 331 | M22: 682 | Q22: 66
A23: 9 | E23: 1827 | I23: 446 | M23: 755 | Q23: 114
A24: 10 | E24: 2130 | I24: 508 | M24: 970 | Q24: 160
A25: 11 | E25: 2254 | I25: 466 | M25: 1078 | Q25: 154
A26: 12 | E26: 2188 | I26: 491 | M26: 1016 | Q26: 161
... A38: 24 | E38: 1550 | I38: 301 | M38: 804 | Q38: 86
A39: Итого | E39: =SUM(E15:E38) -> 39316 | I39: =SUM(I15:I38) -> 9144 | M39: =SUM(M15:M38) -> 18553 | Q39: =SUM(Q15:Q38) -> 2893
A40: 1. При наличии на предприятии отклонений от нормальных режимов электропотребления (временное изменение схем питания, остановка на ремонт, резкое снижение
A41: эл.потребления и т.д.) последние необходимо перечислить.
A42: Главный инженер АО "Вологдаоблэнерго" А.В. Чурляев
A43: составляется самим предприятием с соблюдением всех пунктов настоящей таблицы.

Sheet 26
B1: АО "Вологдаоблэнерго" | J1: код 900151 | N1: ТГК-2 ВТЭЦ РП 6 кВ
B2: наименование предприятия | N2: наименование источника питания
N3: _________________________________
B4: ул. Горького, 99 | I4: Таблица № 1 | O4: РП 23
B5: адрес
A6: почасовых записей показаний электрических счетчиков
A7: в режимный день 15 ИЮНЯ 2022 г.
A8: 385 | B8: 383
A9: часы суток | B9: Активная энергия | J9: Реактивная энергия
B10: ЯЧ. 114 - РП 23 ввод № 1 | F10: ЯЧ. 107 - РП 23 ввод № 2 | J10: ЯЧ. 114 - РП 23 ввод № 1 | N10: ЯЧ. 107 - РП 23 ввод № 2
B11: Расчет. Коэф. | E11: 3600 | F11: Расчет. Коэф. | I11: 3600 | J11: Расчет. Коэф. | M11: =E11 -> 3600 | N11: Расчет. Коэф. | Q11: =I11 -> 3600
B12: показания счетчика | C12: разность | E12: расход эл.энергии за час | F12: показания счетчика | G12: разность | I12: расход эл.энергии за час | J12: показания счетчика | K12: разность | M12: расход эл.энергии за час | N12: показания счетчика | O12: разность | Q12: расход эл.энергии за час
A13: 1 | B13: 2 | C13: 3 | E13: 4 | F13: 5 | G13: 6 | I13: 7 | J13: 8 | K13: 9 | M13: 10 | N13: 11 | O13: 12 | Q13: 13
A14: 0
A15: 1 | E15: 883 | I15: 649 | M15: 723 | Q15: 367
A16: 2 | E16: 940 | I16: 223 | M16: 708 | Q16: 90
A17: 3 | E17: 969 | I17: 106 | M17: 713 | Q17: 8
A18: 4 | E18: 944 | I18: 101 | M18: 686 | Q18: 7
A19: 5 | E19: 935 | I19: 98 | M19: 677 | Q19: 6
A20: 6 | E20: 952 | I20: 103 | M20: 715 | Q20: 9
A21: 7 | E21: 930 | I21: 103 | M21: 691 | Q21: 6
A22: 8 | E22: 955 | I22: 127 | M22: 708 | Q22: 11
A23: 9 | E23: 1208 | I23: 201 | M23: 916 | Q23: 61
A24: 10 | E24: 1154 | I24: 202 | M24: 914 | Q24: 98
A25: 11 | E25: 1152 | I25: 174 | M25: 929 | Q25: 61
A26: 12 | E26: 1158 | I26: 171 | M26: 942 | Q26: 57
... A38: 24 | E38: 773 | I38: 105 | M38: 610 | Q38: 4
A39: Итого | E39: =SUM(E15:E38) -> 23561 | I39: =SUM(I15:I38) -> 4065 | M39: =SUM(M15:M38) -> 18504 | Q39: =SUM(Q15:Q38) -> 1237
A40: 1. При наличии на предприятии отклонений от нормальных режимов электропотребления (временное изменение схем питания, остановка на ремонт, резкое снижение
A41: эл.потребления и т.д.) последние необходимо перечислить.
A42: Главный инженер АО "Вологдаоблэнерго" А.В. Чурляев
A43: составляется самим предприятием с соблюдением всех пунктов настоящей таблицы.

Sheet 27
B1: АО "Вологдаоблэнерго" | J1: код 900151 | N1: ТГК-2 ВТЭЦ РП 6 кВ
B2: наименование предприятия | N2: наименование источника питания
N3: _________________________________
B4: ул. Горького, 99 | I4: Таблица № 1 | O4: ТП 217
B5: адрес
A6: почасовых записей показаний электрических счетчиков
A7: в режимный день 15 ИЮНЯ 2022 г.
A8: 375
A9: часы суток | B9: Активная энергия | J9: Реактивная энергия
B10: ЯЧ. 3 - ТП 217 | J10: ЯЧ. 3 - ТП 217
B11: Расчет. Коэф. | E11: 3600 | F11: Расчет. Коэф. | I11: 0 | J11: Расчет. Коэф. | M11: =E11 -> 3600 | N11: Расчет. Коэф. | Q11: =I11 -> 0
B12: показания счетчика | C12: разность | E12: расход эл.энергии за час | F12: показания счетчика | G12: разность | I12: расход эл.энергии за час | J12: показания счетчика | K12: разность | M12: расход эл.энергии за час | N12: показания счетчика | O12: разность | Q12: расход эл.энергии за час
A13: 1 | B13: 2 | C13: 3 | E13: 4 | F13: 5 | G13: 6 | I13: 7 | J13: 8 | K13: 9 | M13: 10 | N13: 11 | O13: 12 | Q13: 13
A14: 0
A15: 1 | E15: 277 | M15: 77
A16: 2 | E16: 251 | M16: 68
A17: 3 | E17: 224 | M17: 64
A18: 4 | E18: 208 | M18: 54
A19: 5 | E19: 207 | M19: 56
A20: 6 | E20: 234 | M20: 60
A21: 7 | E21: 282 | M21: 58
A22: 8 | E22: 315 | M22: 60
A23: 9 | E23: 329 | M23: 67
A24: 10 | E24: 361 | M24: 84
A25: 11 | E25: 368 | M25: 90
A26: 12 | E26: 389 | M26: 102
... A38: 24 | E38: 318 | M38: 58
A39: Итого | E39: =SUM(E15:E38) -> 8073 | M39: =SUM(M15:M38) -> 1765
A40: 1. При наличии на предприятии отклонений от нормальных режимов электропотребления (временное изменение схем питания, остановка на ремонт, резкое снижение
A41: эл.потребления и т.д.) последние необходимо перечислить.
A42: Главный инженер АО "Вологдаоблэнерго" А.В. Чурляев
A43: составляется самим предприятием с соблюдением всех пунктов настоящей таблицы.

Sheet 28
B1: АО "Вологдаоблэнерго" | J1: код 900151 | N1: ТГК-2 ВТЭЦ РП 6 кВ
B2: наименование предприятия | N2: наименование источника питания
N3: _________________________________
B4: ул. Горького, 99 | I4: Таблица № 1 | O4: РП 8
B5: адрес
A6: почасовых записей показаний электрических счетчиков
A7: в режимный день 15 ИЮНЯ 2022 г.
A8: 378 | B8: 382
A9: часы суток | B9: Активная энергия | J9: Реактивная энергия
B10: ЯЧ. 5 - РП 8 ввод № 1 | F10: ЯЧ. 12 - РП 8 ввод № 2 | J10: ЯЧ. 5 - РП 8 ввод № 1 | N10: ЯЧ. 12 - РП 8 ввод № 2
B11: Расчет. Коэф. | E11: 3600 | F11: Расчет. Коэф. | I11: 3600 | J11: Расчет. Коэф. | M11: =E11 -> 3600 | N11: Расчет. Коэф. | Q11: =I11 -> 3600
B12: показания счетчика | C12: разность | E12: расход эл.энергии за час | F12: показания счетчика | G12: разность | I12: расход эл.энергии за час | J12: показания счетчика | K12: разность | M12: расход эл.энергии за час | N12: показания счетчика | O12: разность | Q12: расход эл.энергии за час
A13: 1 | B13: 2 | C13: 3 | E13: 4 | F13: 5 | G13: 6 | I13: 7 | J13: 8 | K13: 9 | M13: 10 | N13: 11 | O13: 12 | Q13: 13
A14: 0
A15: 1 | E15: 662 | I15: 731 | M15: 183 | Q15: 235
A16: 2 | E16: 685 | I16: 670 | M16: 219 | Q16: 220
A17: 3 | E17: 646 | I17: 617 | M17: 206 | Q17: 203
A18: 4 | E18: 608 | I18: 594 | M18: 194 | Q18: 192
A19: 5 | E19: 648 | I19: 589 | M19: 194 | Q19: 196
A20: 6 | E20: 705 | I20: 634 | M20: 207 | Q20: 208
A21: 7 | E21: 801 | I21: 773 | M21: 193 | Q21: 192
A22: 8 | E22: 1009 | I22: 969 | M22: 193 | Q22: 196
A23: 9 | E23: 1178 | I23: 1149 | M23: 233 | Q23: 237
A24: 10 | E24: 1309 | I24: 1254 | M24: 269 | Q24: 277
A25: 11 | E25: 1299 | I25: 1266 | M25: 289 | Q25: 284
A26: 12 | E26: 1291 | I26: 1260 | M26: 284 | Q26: 290
... A38: 24 | E38: 824 | I38: 807 | M38: 193 | Q38: 210
A39: Итого | E39: =SUM(E15:E38) -> 23804 | I39: =SUM(I15:I38) -> 23487 | M39: =SUM(M15:M38) -> 5404 | Q39: =SUM(Q15:Q38) -> 5744
A40: 1. При наличии на предприятии отклонений от нормальных режимов электропотребления (временное изменение схем питания, остановка на ремонт, резкое снижение
A41: эл.потребления и т.д.) последние необходимо перечислить.
A42: Главный инженер АО "Вологдаоблэнерго" А.В. Чурляев
A43: составляется самим предприятием с соблюдением всех пунктов настоящей таблицы.

Sheet 29
B1: АО "Вологдаоблэнерго" | J1: код 900151 | N1: ТГК-2 ВТЭЦ РП 6 кВ
B2: наименование предприятия | N2: наименование источника питания
N3: _________________________________
B4: ул. Горького, 99 | I4: Таблица № 1 | O4: РП 20
B5: адрес
A6: почасовых записей показаний электрических счетчиков
A7: в режимный день 15 ИЮНЯ 2022 г.
A8: 380 | B8: 379
A9: часы суток | B9: Активная энергия | J9: Реактивная энергия
B10: ЯЧ. 4- РП 20 ввод № 1 | F10: ЯЧ. 7 - РП 20 яч.7 | J10: ЯЧ. 4- РП 20 ввод № 1 | N10: ЯЧ. 7 - РП 20 яч.7
B11: Расчет. Коэф. | E11: 3600 | F11: Расчет. Коэф. | I11: 3600 | J11: Расчет. Коэф. | M11: =E11 -> 3600 | N11: Расчет. Коэф. | Q11: =I11 -> 3600
B12: показания счетчика | C12: разность | E12: расход эл.энергии за час | F12: показания счетчика | G12: разность | I12: расход эл.энергии за час | J12: показания счетчика | K12: разность | M12: расход эл.энергии за час | N12: показания счетчика | O12: разность | Q12: расход эл.энергии за час
A13: 1 | B13: 2 | C13: 3 | E13: 4 | F13: 5 | G13: 6 | I13: 7 | J13: 8 | K13: 9 | M13: 10 | N13: 11 | O13: 12 | Q13: 13
A14: 0
A15: 1 | E15: 149 | I15: 43 | M15: 25 | Q15: 24
A16: 2 | E16: 137 | I16: 40 | M16: 22 | Q16: 23
A17: 3 | E17: 128 | I17: 40 | M17: 18 | Q17: 23
A18: 4 | E18: 123 | I18: 40 | M18: 16 | Q18: 22
A19: 5 | E19: 136 | I19: 55 | M19: 14 | Q19: 24
A20: 6 | E20: 172 | I20: 108 | M20: 20 | Q20: 30
A21: 7 | E21: 223 | I21: 157 | M21: 20 | Q21: 39
A22: 8 | E22: 228 | I22: 182 | M22: 24 | Q22: 52
A23: 9 | E23: 272 | I23: 200 | M23: 32 | Q23: 63
A24: 10 | E24: 313 | I24: 233 | M24: 40 | Q24: 76
A25: 11 | E25: 301 | I25: 217 | M25: 42 | Q25: 74
A26: 12 | E26: 283 | I26: 231 | M26: 43 | Q26: 78
... A38: 24 | E38: 169 | I38: 48 | M38: 17 | Q38: 22
A39: Итого | E39: =SUM(E15:E38) -> 5300 | I39: =SUM(I15:I38) -> 3124 | M39: =SUM(M15:M38) -> 696 | Q39: =SUM(Q15:Q38) -> 1082
A40: 1. При наличии на предприятии отклонений от нормальных режимов электропотребления (временное изменение схем питания, остановка на ремонт, резкое снижение
A41: эл.потребления и т.д.) последние необходимо перечислить.
A42: Главный инженер АО "Вологдаоблэнерго" А.В. Чурляев
A43: составляется самим предприятием с соблюдением всех пунктов настоящей таблицы.

Sheet 30
B1: АО "Вологдаоблэнерго" | J1: код 900151 | N1: ПС "ЦЕНТРАЛЬНАЯ" 110/6 кВ
B2: наименование предприятия | N2: наименование источника питания
N3: _________________________________ | O3: РУ-6 кВ
B4: ул. Горького, 99 | I4: Таблица № 1 | O4: ТП 54
B5: адрес
A6: почасовых записей показаний электрических счетчиков
A7: в режимный день 15 ИЮНЯ 2022 г.
A8: 1520 | B8: 1526
A9: часы суток | B9: Активная энергия | J9: Реактивная энергия
B10: ЯЧ.4 - ТП 54 -Ι ввод № 1 | F10: ЯЧ. 30 - ТП 54 - ΙΙ ввод № 2 | J10: ЯЧ.4 - ТП 54 -Ι ввод № 1 | N10: ЯЧ. 30 - ТП 54 - ΙΙ ввод № 2
B11: Расчет. Коэф. | E11: 2400 | F11: Расчет. Коэф. | I11: 4800 | J11: Расчет. Коэф. | M11: =E11 -> 2400 | N11: Расчет. Коэф. | Q11: =I11 -> 4800
B12: показания счетчика | C12: разность | E12: расход эл.энергии за час | F12: показания счетчика | G12: разность | I12: расход эл.энергии за час | J12: показания счетчика | K12: разность | M12: расход эл.энергии за час | N12: показания счетчика | O12: разность | Q12: расход эл.энергии за час
A13: 1 | B13: 2 | C13: 3 | E13: 4 | F13: 5 | G13: 6 | I13: 7 | J13: 8 | K13: 9 | M13: 10 | N13: 11 | O13: 12 | Q13: 13
A14: 0
A15: 1 | E15: 172 | I15: 249 | M15: 53 | Q15: 132
A16: 2 | E16: 174 | I16: 238 | M16: 54 | Q16: 130
A17: 3 | E17: 166 | I17: 214 | M17: 52 | Q17: 124
A18: 4 | E18: 155 | I18: 210 | M18: 44 | Q18: 122
A19: 5 | E19: 156 | I19: 217 | M19: 43 | Q19: 121
A20: 6 | E20: 190 | I20: 234 | M20: 46 | Q20: 128
A21: 7 | E21: 243 | I21: 258 | M21: 54 | Q21: 129
A22: 8 | E22: 335 | I22: 295 | M22: 60 | Q22: 136
A23: 9 | E23: 472 | I23: 376 | M23: 65 | Q23: 153
A24: 10 | E24: 539 | I24: 466 | M24: 80 | Q24: 196
A25: 11 | E25: 548 | I25: 503 | M25: 90 | Q25: 215
A26: 12 | E26: 542 | I26: 488 | M26: 97 | Q26: 204
... A38: 24 | E38: 182 | I38: 264 | M38: 48 | Q38: 117
A39: Итого | E39: =SUM(E15:E38) -> 7672 | I39: =SUM(I15:I38) -> 8307 | M39: =SUM(M15:M38) -> 1515 | Q39: =SUM(Q15:Q38) -> 3814
A40: 1. При наличии на предприятии отклонений от нормальных режимов электропотребления (временное изменение схем питания, остановка на ремонт, резкое снижение
A41: эл.потребления и т.д.) последние необходимо перечислить.
A42: Главный инженер АО "Вологдаоблэнерго" А.В. Чурляев
A43: составляется самим предприятием с соблюдением всех пунктов настоящей таблицы.

Sheet 31
B1: АО "Вологдаоблэнерго" | J1: код 900151 | N1: ПС "ЦЕНТРАЛЬНАЯ" 110/6 кВ
B2: наименование предприятия | N2: наименование источника питания
N3: _________________________________ | O3: РУ-6 кВ
B4: ул. Горького, 99 | I4: Таблица № 1 | O4: РП 13
B5: адрес
A6: почасовых записей показаний электрических счетчиков
A7: в режимный день 15 ИЮНЯ 2022 г.
A8: 1522 | B8: 1523
A9: часы суток | B9: Активная энергия | J9: Реактивная энергия
B10: ЯЧ. 14 - РП 13- Ι | F10: ЯЧ. 22 - РП 13- ΙΙ | J10: ЯЧ. 14 - РП 13- Ι | N10: ЯЧ. 22 - РП 13- ΙΙ
B11: Расчет. Коэф. | E11: 7200 | F11: Расчет. Коэф. | I11: 7200 | J11: Расчет. Коэф. | M11: =E11 -> 7200 | N11: Расчет. Коэф. | Q11: =I11 -> 7200
B12: показания счетчика | C12: разность | E12: расход эл.энергии за час | F12: показания счетчика | G12: разность | I12: расход эл.энергии за час | J12: показания счетчика | K12: разность | M12: расход эл.энергии за час | N12: показания счетчика | O12: разность | Q12: расход эл.энергии за час
A13: 1 | B13: 2 | C13: 3 | E13: 4 | F13: 5 | G13: 6 | I13: 7 | J13: 8 | K13: 9 | M13: 10 | N13: 11 | O13: 12 | Q13: 13
A14: 0
A15: 1 | E15: 835 | I15: 866 | M15: 176 | Q15: 205
A16: 2 | E16: 787 | I16: 836 | M16: 169 | Q16: 192
A17: 3 | E17: 736 | I17: 782 | M17: 158 | Q17: 171
A18: 4 | E18: 699 | I18: 765 | M18: 143 | Q18: 166
A19: 5 | E19: 702 | I19: 771 | M19: 143 | Q19: 176
A20: 6 | E20: 754 | I20: 796 | M20: 156 | Q20: 174
A21: 7 | E21: 861 | I21: 887 | M21: 167 | Q21: 180
A22: 8 | E22: 1064 | I22: 1148 | M22: 180 | Q22: 200
A23: 9 | E23: 1383 | I23: 1471 | M23: 189 | Q23: 183
A24: 10 | E24: 1537 | I24: 1807 | M24: 230 | Q24: 308
A25: 11 | E25: 1588 | I25: 1855 | M25: 259 | Q25: 288
A26: 12 | E26: 1642 | I26: 1910 | M26: 271 | Q26: 325
... A38: 24 | E38: 882 | I38: 867 | M38: 133 | Q38: 137
A39: Итого | E39: =SUM(E15:E38) -> 28479 | I39: =SUM(I15:I38) -> 30868 | M39: =SUM(M15:M38) -> 4873 | Q39: =SUM(Q15:Q38) -> 5642
A40: 1. При наличии на предприятии отклонений от нормальных режимов электропотребления (временное изменение схем питания, остановка на ремонт, резкое снижение
A41: эл.потребления и т.д.) последние необходимо перечислить.
A42: Главный инженер АО "Вологдаоблэнерго" А.В. Чурляев
A43: составляется самим предприятием с соблюдением всех пунктов настоящей таблицы.

Sheet 32
B1: АО "Вологдаоблэнерго" | J1: код 900151 | N1: ПС "ЦЕНТРАЛЬНАЯ" 110/6 кВ
B2: наименование предприятия | N2: наименование источника питания
N3: _________________________________ | O3: РУ-6 кВ
B4: ул. Горького, 99 | I4: Таблица № 1 | O4: РП 4
B5: адрес
A6: почасовых записей показаний электрических счетчиков
A7: в режимный день 15 ИЮНЯ 2022 г.
A8: 1521 | B8: 1524
A9: часы суток | B9: Активная энергия | J9: Реактивная энергия
B10: ЯЧ.12 - РП 4 -Ι | F10: ЯЧ. 24 - РП 4 -ΙΙ | J10: ЯЧ.12 - РП 4 -Ι | N10: ЯЧ. 24 - РП 4 -ΙΙ
B11: Расчет. Коэф. | E11: 4800 | F11: Расчет. Коэф. | I11: 4800 | J11: Расчет. Коэф. | M11: =E11 -> 4800 | N11: Расчет. Коэф. | Q11: =I11 -> 4800
B12: показания счетчика | C12: разность | E12: расход эл.энергии за час | F12: показания счетчика | G12: разность | I12: расход эл.энергии за час | J12: показания счетчика | K12: разность | M12: расход эл.энергии за час | N12: показания счетчика | O12: разность | Q12: расход эл.энергии за час
A13: 1 | B13: 2 | C13: 3 | E13: 4 | F13: 5 | G13: 6 | I13: 7 | J13: 8 | K13: 9 | M13: 10 | N13: 11 | O13: 12 | Q13: 13
A14: 0
A15: 1 | E15: 473 | I15: 435 | M15: 117 | Q15: 91
A16: 2 | E16: 441 | I16: 412 | M16: 109 | Q16: 86
A17: 3 | E17: 396 | I17: 388 | M17: 92 | Q17: 78
A18: 4 | E18: 369 | I18: 367 | M18: 85 | Q18: 75
A19: 5 | E19: 372 | I19: 394 | M19: 83 | Q19: 83
A20: 6 | E20: 422 | I20: 448 | M20: 93 | Q20: 91
A21: 7 | E21: 560 | I21: 531 | M21: 110 | Q21: 100
A22: 8 | E22: 701 | I22: 682 | M22: 135 | Q22: 112
A23: 9 | E23: 938 | I23: 916 | M23: 140 | Q23: 125
A24: 10 | E24: 1083 | I24: 1076 | M24: 191 | Q24: 151
A25: 11 | E25: 1188 | I25: 1162 | M25: 219 | Q25: 167
A26: 12 | E26: 1218 | I26: 1222 | M26: 228 | Q26: 183
... A38: 24 | E38: 521 | I38: 492 | M38: 89 | Q38: 66
A39: Итого | E39: =SUM(E15:E38) -> 18577 | I39: =SUM(I15:I38) -> 18948 | M39: =SUM(M15:M38) -> 3456 | Q39: =SUM(Q15:Q38) -> 2934
A40: 1. При наличии на предприятии отклонений от нормальных режимов электропотребления (временное изменение схем питания, остановка на ремонт, резкое снижение
A41: эл.потребления и т.д.) последние необходимо перечислить.
A42: Главный инженер АО "Вологдаоблэнерго" А.В. Чурляев
A43: составляется самим предприятием с соблюдением всех пунктов настоящей таблицы.

Sheet 33
B1: АО "Вологдаоблэнерго" | J1: код 900151 | N1: ПС "ЦЕНТРАЛЬНАЯ" 110/6 кВ
B2: наименование предприятия | N2: наименование источника питания
N3: _________________________________ | O3: РУ-6 кВ
B4: ул. Горького, 99 | I4: Таблица № 1 | O4: РП 33
B5: адрес
A6: почасовых записей показаний электрических счетчиков
A7: в режимный день 15 ИЮНЯ 2022 г.
A8: 1518 | B8: 1519
A9: часы суток | B9: Активная энергия | J9: Реактивная энергия
B10: ЯЧ. 2 - РП 33 ф.10 | F10: ЯЧ. 3 - РП-33 ф.9 | J10: ЯЧ. 2- РП 33 ф.10 | N10: ЯЧ. 3 - РП-33 ф.9
B11: Расчет. Коэф. | E11: 7200 | F11: Расчет. Коэф. | J11: Расчет. Коэф. | M11: =E11 -> 7200 | N11: Расчет. Коэф.
B12: показания счетчика | C12: разность | E12: расход эл.энергии за час | F12: показания счетчика | G12: разность | I12: расход эл.энергии за час | J12: показания счетчика | K12: разность | M12: расход эл.энергии за час | N12: показания счетчика | O12: разность | Q12: расход эл.энергии за час
A13: 1 | B13: 2 | C13: 3 | E13: 4 | F13: 5 | G13: 6 | I13: 7 | J13: 8 | K13: 9 | M13: 10 | N13: 11 | O13: 12 | Q13: 13
A14: 0
A15: 1 | E15: 70 | I15: 226 | M15: 10 | Q15: 34
A16: 2 | E16: 62 | I16: 210 | M16: 9 | Q16: 32
A17: 3 | E17: 61 | I17: 194 | M17: 9 | Q17: 28
A18: 4 | E18: 59 | I18: 182 | M18: 8 | Q18: 28
A19: 5 | E19: 57 | I19: 190 | M19: 9 | Q19: 33
A20: 6 | E20: 61 | I20: 211 | M20: 9 | Q20: 37
A21: 7 | E21: 75 | I21: 231 | M21: 9 | Q21: 38
A22: 8 | E22: 97 | I22: 314 | M22: 9 | Q22: 39
A23: 9 | E23: 138 | I23: 410 | M23: 12 | Q23: 44
A24: 10 | E24: 142 | I24: 477 | M24: 14 | Q24: 55
A25: 11 | E25: 161 | I25: 498 | M25: 17 | Q25: 60
A26: 12 | E26: 216 | I26: 503 | M26: 56 | Q26: 66
... A38: 24 | E38: 77 | I38: 238 | M38: 6 | Q38: 28
A39: Итого | E39: =SUM(E15:E38) -> 2651 | I39: =SUM(I15:I38) -> 8191 | M39: =SUM(M15:M38) -> 412 | Q39: =SUM(Q15:Q38) -> 1081
A40: 1. При наличии на предприятии отклонений от нормальных режимов электропотребления (временное изменение схем питания, остановка на ремонт, резкое снижение
A41: эл.потребления и т.д.) последние необходимо перечислить.
A42: Главный инженер АО "Вологдаоблэнерго" А.В. Чурляев
A43: составляется самим предприятием с соблюдением всех пунктов настоящей таблицы.

Sheet 34
B1: АО "Вологдаоблэнерго" | J1: код 900151 | N1: ПС "ЦЕНТРАЛЬНАЯ" 110/10/6 кВ
B2: наименование предприятия | N2: наименование источника питания
N3: _________________________________ | O3: РУ-6 кВ
B4: ул. Горького, 99 | I4: Таблица № 1 | O4: ТП 11 | Q4: РП-8
B5: адрес
A6: почасовых записей показаний электрических счетчиков
A7: в режимный день 15 ИЮНЯ 2022 г.
A8: 1525
A9: часы суток | B9: Активная энергия | J9: Реактивная энергия
B10: ЯЧ.28 - ТП 11 -ΙΙ | F10: ЯЧ.20 - РП-8 ф11 | J10: ЯЧ.28 - ТП 11 -ΙΙ | N10: ЯЧ.20 - РП-8 ф11
B11: Расчет. Коэф. | E11: 7200 | F11: Расчет. Коэф. | I11: 0 | J11: Расчет. Коэф. | M11: =E11 -> 7200 | N11: Расчет. Коэф. | Q11: =I11 -> 0
B12: показания счетчика | C12: разность | E12: расход эл.энергии за час | F12: показания счетчика | G12: разность | I12: расход эл.энергии за час | J12: показания счетчика | K12: разность | M12: расход эл.энергии за час | N12: показания счетчика | O12: разность | Q12: расход эл.энергии за час
A13: 1 | B13: 2 | C13: 3 | E13: 4 | F13: 5 | G13: 6 | I13: 7 | J13: 8 | K13: 9 | M13: 10 | N13: 11 | O13: 12 | Q13: 13
A14: 0
A15: 1 | E15: 132 | I15: 643 | M15: 0 | Q15: 184
A16: 2 | E16: 132 | I16: 772 | M16: 1 | Q16: 302
A17: 3 | E17: 128 | I17: 670 | M17: 0 | Q17: 264
A18: 4 | E18: 124 | I18: 570 | M18: 0 | Q18: 193
A19: 5 | E19: 126 | I19: 503 | M19: 0 | Q19: 152
A20: 6 | E20: 131 | I20: 593 | M20: 0 | Q20: 200
A21: 7 | E21: 187 | I21: 622 | M21: 7 | Q21: 168
A22: 8 | E22: 270 | I22: 818 | M22: 20 | Q22: 219
A23: 9 | E23: 409 | I23: 1101 | M23: 35 | Q23: 320
A24: 10 | E24: 435 | I24: 972 | M24: 42 | Q24: 202
A25: 11 | E25: 429 | I25: 1008 | M25: 45 | Q25: 217
A26: 12 | E26: 416 | I26: 1018 | M26: 46 | Q26: 219
... A38: 24 | E38: 128 | I38: 709 | M38: 0 | Q38: 157
A39: Итого | E39: =SUM(E15:E38) -> 6144 | I39: =SUM(I15:I38) -> 20801 | M39: =SUM(M15:M38) -> 459 | Q39: =SUM(Q15:Q38) -> 5650
A40: 1. При наличии на предприятии отклонений от нормальных режимов электропотребления (временное изменение схем питания, остановка на ремонт, резкое снижение
A41: эл.потребления и т.д.) последние необходимо перечислить.
A42: Главный инженер АО "Вологдаоблэнерго" А.В. Чурляев
A43: составляется самим предприятием с соблюдением всех пунктов настоящей таблицы.

Sheet 34_1
B1: АО "Вологдаоблэнерго" | J1: код 900151 | N1: ПС "ЦЕНТРАЛЬНАЯ" 110/10 кВ
B2: наименование предприятия | N2: наименование источника питания
N3: _________________________________ | O3: РУ-10 кВ
B4: ул. Горького, 99 | I4: Таблица № 1 | O4: РП-21
B5: адрес
A6: почасовых записей показаний электрических счетчиков
A7: в режимный день 15 ИЮНЯ 2022 г.
A8: 911 | B8: 910
A9: часы суток | B9: Активная энергия | J9: Реактивная энергия
B10: ЯЧ.22 - РП 21- Ι | F10: ЯЧ.7 - РП 21- ΙI | J10: ЯЧ.22 - РП 21- Ι | N10: ЯЧ.7 - РП 21- ΙI
B11: Расчет. Коэф. | E11: 7200 | F11: Расчет. Коэф. | I11: 0 | J11: Расчет. Коэф. | M11: =E11 -> 7200 | N11: Расчет. Коэф. | Q11: =I11 -> 0
B12: показания счетчика | C12: разность | E12: расход эл.энергии за час | F12: показания счетчика | G12: разность | I12: расход эл.энергии за час | J12: показания счетчика | K12: разность | M12: расход эл.энергии за час | N12: показания счетчика | O12: разность | Q12: расход эл.энергии за час
A13: 1 | B13: 2 | C13: 3 | E13: 4 | F13: 5 | G13: 6 | I13: 7 | J13: 8 | K13: 9 | M13: 10 | N13: 11 | O13: 12 | Q13: 13
A14: 0
A15: 1 | E15: 310 | I15: 420 | M15: 0 | Q15: 56
A16: 2 | E16: 301 | I16: 395 | M16: 0 | Q16: 49
A17: 3 | E17: 274 | I17: 367 | M17: 0 | Q17: 38
A18: 4 | E18: 262 | I18: 351 | M18: 0 | Q18: 23
A19: 5 | E19: 261 | I19: 380 | M19: 0 | Q19: 21
A20: 6 | E20: 269 | I20: 398 | M20: 0 | Q20: 34
A21: 7 | E21: 307 | I21: 459 | M21: 1 | Q21: 40
A22: 8 | E22: 427 | I22: 678 | M22: 8 | Q22: 51
A23: 9 | E23: 602 | I23: 970 | M23: 25 | Q23: 90
A24: 10 | E24: 710 | I24: 1236 | M24: 50 | Q24: 142
A25: 11 | E25: 770 | I25: 1295 | M25: 63 | Q25: 161
A26: 12 | E26: 776 | I26: 1353 | M26: 59 | Q26: 168
... A38: 24 | E38: 333 | I38: 447 | M38: 0 | Q38: 27
A39: Итого | E39: =SUM(E15:E38) -> 12471 | I39: =SUM(I15:I38) -> 19519 | M39: =SUM(M15:M38) -> 648 | Q39: =SUM(Q15:Q38) -> 2173
A40: 1. При наличии на предприятии отклонений от нормальных режимов электропотребления (временное изменение схем питания, остановка на ремонт, резкое снижение
A41: эл.потребления и т.д.) последние необходимо перечислить.
A42: Главный инженер АО "Вологдаоблэнерго" А.В. Чурляев
A43: составляется самим предприятием с соблюдением всех пунктов настоящей таблицы.

Sheet 35
B1: АО "Вологдаоблэнерго" | J1: код 900151 | N1: ПС "ГОРОДСКАЯ" 35/6 кВ
B2: наименование предприятия | N2: наименование источника питания
N3: _________________________________
B4: ул. Горького, 99 | I4: Таблица № 1 | O4: Т-1, Т-3 (ЗРУ 6 кВ)
B5: адрес
A6: почасовых записей показаний электрических счетчиков
A7: в режимный день 15 ИЮНЯ 2022 г.
A8: 300 | B8: 304
A9: часы суток | B9: Активная энергия | J9: Реактивная энергия
B10: Т-1 - ЗРУ Ф.1 ввод № 1 | F10: Т-3 - ЗРУ Ф.20 ввод № 2 . | J10: Т-1 - ЗРУ Ф.1 ввод № 1 | N10: Т-3 - ЗРУ Ф.20 ввод № 2 .
B11: Расчет. Коэф. | E11: 18000 | F11: Расчет. Коэф. | I11: 18000 | J11: Расчет. Коэф. | M11: =E11 -> 18000 | N11: Расчет. Коэф. | Q11: =I11 -> 18000
B12: показания счетчика | C12: разность | E12: расход эл.энергии за час | F12: показания счетчика | G12: разность | I12: расход эл.энергии за час | J12: показания счетчика | K12: разность | M12: расход эл.энергии за час | N12: показания счетчика | O12: разность | Q12: расход эл.энергии за час
A13: 1 | B13: 2 | C13: 3 | E13: 4 | F13: 5 | G13: 6 | I13: 7 | J13: 8 | K13: 9 | M13: 10 | N13: 11 | O13: 12 | Q13: 13
A14: 0
A15: 1 | E15: 1490.4 | I15: 2071.8 | M15: 478.8 | Q15: 876.6
A16: 2 | E16: 1418.4 | I16: 1929.6 | M16: 486 | Q16: 865.8
A17: 3 | E17: 1335.6 | I17: 1771.2 | M17: 500.4 | Q17: 837
A18: 4 | E18: 1292.4 | I18: 1684.8 | M18: 478.8 | Q18: 799.2
A19: 5 | E19: 1285.2 | I19: 1692 | M19: 448.2 | Q19: 806.4
A20: 6 | E20: 1414.8 | I20: 1870.2 | M20: 496.8 | Q20: 856.8
A21: 7 | E21: 1643.4 | I21: 2289.6 | M21: 516.6 | Q21: 855
A22: 8 | E22: 2001.6 | I22: 2626.2 | M22: 522 | Q22: 858.6
A23: 9 | E23: 2512.8 | I23: 3029.4 | M23: 612 | Q23: 916.2
A24: 10 | E24: 2687.4 | I24: 3337.2 | M24: 718.2 | Q24: 984.6
A25: 11 | E25: 2730.6 | I25: 3400.2 | M25: 720 | Q25: 1047.6
A26: 12 | E26: 2658.6 | I26: 3429 | M26: 721.8 | Q26: 1062
... A38: 24 | E38: 1557 | I38: 2304 | M38: 468 | Q38: 741.6
A39: Итого | E39: =SUM(E15:E38) -> 48101.4 | I39: =SUM(I15:I38) -> 65597.4 | M39: =SUM(M15:M38) -> 13370.4 | Q39: =SUM(Q15:Q38) -> 22480.2
A40: 1. При наличии на предприятии отклонений от нормальных режимов электропотребления (временное изменение схем питания, остановка на ремонт, резкое снижение
A41: эл.потребления и т.д.) последние необходимо перечислить.
A42: Главный инженер АО "Вологдаоблэнерго" А.В. Чурляев
A43: составляется самим предприятием с соблюдением всех пунктов настоящей таблицы.

Sheet 36
B1: АО "Вологдаоблэнерго" | J1: код 900151 | N1: ПС "ГОРОДСКАЯ" 35/6 кВ
B2: наименование предприятия | N2: наименование источника питания
N3: _________________________________
B4: ул. Горького, 99 | I4: Таблица № 1 | O4: Т-2 (РП 9)
B5: адрес
A6: почасовых записей показаний электрических счетчиков
A7: в режимный день 15 ИЮНЯ 2022 г.
A8: 297
A9: часы суток | B9: Активная энергия | J9: Реактивная энергия
B10: Т-2 - РП 9 ф. 11 | J10: Т-2 - РП 9 ф. 11
B11: Расчет. Коэф. | E11: 7200 | F11: Расчет. Коэф. | I11: 0 | J11: Расчет. Коэф. | M11: =E11 -> 7200 | N11: Расчет. Коэф. | Q11: 0
B12: показания счетчика | C12: разность | E12: расход эл.энергии за час | F12: показания счетчика | G12: разность | I12: расход эл.энергии за час | J12: показания счетчика | K12: разность | M12: расход эл.энергии за час | N12: показания счетчика | O12: разность | Q12: расход эл.энергии за час
A13: 1 | B13: 2 | C13: 3 | E13: 4 | F13: 5 | G13: 6 | I13: 7 | J13: 8 | K13: 9 | M13: 10 | N13: 11 | O13: 12 | Q13: 13
A14: 0
A15: 1 | E15: 957.6 | M15: 371.52
A16: 2 | E16: 865.44 | M16: 354.24
A17: 3 | E17: 777.6 | M17: 334.08
A18: 4 | E18: 741.6 | M18: 315.36
A19: 5 | E19: 755.28 | M19: 321.12
A20: 6 | E20: 836.64 | M20: 332.64
A21: 7 | E21: 943.2 | M21: 339.84
A22: 8 | E22: 1117.44 | M22: 349.92
A23: 9 | E23: 1373.04 | M23: 344.16
A24: 10 | E24: 1504.8 | M24: 432
A25: 11 | E25: 1601.28 | M25: 465.84
A26: 12 | E26: 1604.88 | M26: 456.48
... A38: 24 | E38: 1136.16 | M38: 325.44
A39: Итого | E39: =SUM(E15:E38) -> 29939.76 | I39: =SUM(I15:I38) -> 0 | M39: =SUM(M15:M38) -> 9435.6 | Q39: =SUM(Q15:Q38) -> 0
A40: 1. При наличии на предприятии отклонений от нормальных режимов электропотребления (временное изменение схем питания, остановка на ремонт, резкое снижение
A41: эл.потребления и т.д.) последние необходимо перечислить.
A42: Главный инженер АО "Вологдаоблэнерго" А.В. Чурляев
A43: составляется самим предприятием с соблюдением всех пунктов настоящей таблицы.

Sheet 37
B1: АО "Вологдаоблэнерго" | J1: код 900151 | N1: ПС "ВОСТОЧНАЯ" 110/35/10 кВ
B2: наименование предприятия | N2: наименование источника питания
N3: _________________________________
B4: ул. Горького, 99 | I4: Таблица № 1 | O4: РП 39
B5: адрес
A6: почасовых записей показаний электрических счетчиков
A7: в режимный день 15 ИЮНЯ 2022 г.
A8: 1633 | B8: 1634
A9: часы суток | B9: Активная энергия | J9: Реактивная энергия
B10: ЯЧ.№2 - "РП 39-1" | F10: ЯЧ.№ 21 - "РП 39-2" | J10: ЯЧ.№2 - "РП 39-1" | N10: ЯЧ.№ 21 - "РП 39-2"
B11: Расчет. Коэф. | E11: 8000 | F11: Расчет. Коэф. | I11: 6000 | J11: Расчет. Коэф. | M11: =E11 -> 8000 | N11: Расчет. Коэф. | Q11: =I11 -> 6000
B12: показания счетчика | C12: разность | E12: расход эл.энергии за час | F12: показания счетчика | G12: разность | I12: расход эл.энергии за час | J12: показания счетчика | K12: разность | M12: расход эл.энергии за час | N12: показания счетчика | O12: разность | Q12: расход эл.энергии за час
A13: 1 | B13: 2 | C13: 3 | E13: 4 | F13: 5 | G13: 6 | I13: 7 | J13: 8 | K13: 9 | M13: 10 | N13: 11 | O13: 12 | Q13: 13
A14: 0
A15: 1 | E15: 538 | I15: 377 | M15: 32 | Q15: 18
A16: 2 | E16: 451 | I16: 340 | M16: 20 | Q16: 16
A17: 3 | E17: 381 | I17: 317 | M17: 12 | Q17: 15
A18: 4 | E18: 403 | I18: 300 | M18: 9 | Q18: 8
A19: 5 | E19: 357 | I19: 289 | M19: 0 | Q19: 5
A20: 6 | E20: 543 | I20: 347 | M20: 29 | Q20: 14
A21: 7 | E21: 732 | I21: 451 | M21: 42 | Q21: 20
A22: 8 | E22: 688 | I22: 498 | M22: 17 | Q22: 40
A23: 9 | E23: 812 | I23: 498 | M23: 51 | Q23: 36
A24: 10 | E24: 843 | I24: 519 | M24: 94 | Q24: 47
A25: 11 | E25: 784 | I25: 513 | M25: 73 | Q25: 49
A26: 12 | E26: 845 | I26: 528 | M26: 108 | Q26: 55
... A38: 24 | E38: 721 | I38: 578 | M38: 61 | Q38: 44
A39: Итого | E39: =SUM(E15:E38) -> 16764 | I39: =SUM(I15:I38) -> 12092 | M39: =SUM(M15:M38) -> 1479 | Q39: =SUM(Q15:Q38) -> 1142
A40: 1. При наличии на предприятии отклонений от нормальных режимов электропотребления (временное изменение схем питания, остановка на ремонт, резкое снижение
A41: эл.потребления и т.д.) последние необходимо перечислить.
A42: Главный инженер АО "Вологдаоблэнерго" А.В. Чурляев
A43: составляется самим предприятием с соблюдением всех пунктов настоящей таблицы.

Sheet 38
B1: АО "Вологдаоблэнерго" | J1: код 900151 | N1: ПС "ВОСТОЧНАЯ" 110/35/10 кВ
B2: наименование предприятия | N2: наименование источника питания
N3: _________________________________
B4: ул. Горького, 99 | I4: Таблица № 1 | O4: РП 30
B5: адрес
A6: почасовых записей показаний электрических счетчиков
A7: в режимный день 15 ИЮНЯ 2022 г.
A8: 1637 | B8: 1638
A9: часы суток | B9: Активная энергия | J9: Реактивная энергия
B10: ЯЧ.№15 - "РМЗ-1" | F10: ЯЧ.№32 - "РМЗ-2" | J10: ЯЧ.№15 - "РМЗ-1" | N10: ЯЧ.№32 - "РМЗ-2"
B11: Расчет. Коэф. | E11: 8000 | F11: Расчет. Коэф. | I11: 8000 | J11: Расчет. Коэф. | M11: =E11 -> 8000 | N11: Расчет. Коэф. | Q11: =I11 -> 8000
B12: показания счетчика | C12: разность | E12: расход эл.энергии за час | F12: показания счетчика | G12: разность | I12: расход эл.энергии за час | J12: показания счетчика | K12: разность | M12: расход эл.энергии за час | N12: показания счетчика | O12: разность | Q12: расход эл.энергии за час
A13: 1 | B13: 2 | C13: 3 | E13: 4 | F13: 5 | G13: 6 | I13: 7 | J13: 8 | K13: 9 | M13: 10 | N13: 11 | O13: 12 | Q13: 13
A14: 0
A15: 1 | E15: 50 | I15: 796 | M15: 0 | Q15: 308
A16: 2 | E16: 46 | I16: 753 | M16: 0 | Q16: 311
A17: 3 | E17: 37 | I17: 717 | M17: 0 | Q17: 301
A18: 4 | E18: 34 | I18: 658 | M18: 0 | Q18: 275
A19: 5 | E19: 35 | I19: 656 | M19: 0 | Q19: 280
A20: 6 | E20: 34 | I20: 699 | M20: 0 | Q20: 305
A21: 7 | E21: 40 | I21: 842 | M21: 0 | Q21: 321
A22: 8 | E22: 71 | I22: 989 | M22: 0 | Q22: 391
A23: 9 | E23: 125 | I23: 1345 | M23: 13 | Q23: 622
A24: 10 | E24: 158 | I24: 1477 | M24: 33 | Q24: 762
A25: 11 | E25: 147 | I25: 1388 | M25: 24 | Q25: 695
A26: 12 | E26: 183 | I26: 1545 | M26: 63 | Q26: 850
... A38: 24 | E38: 51 | I38: 950 | M38: 0 | Q38: 253
A39: Итого | E39: =SUM(E15:E38) -> 2194 | I39: =SUM(I15:I38) -> 27324 | M39: =SUM(M15:M38) -> 278 | Q39: =SUM(Q15:Q38) -> 12068
A40: 1. При наличии на предприятии отклонений от нормальных режимов электропотребления (временное изменение схем питания, остановка на ремонт, резкое снижение
A41: эл.потребления и т.д.) последние необходимо перечислить.
A42: Главный инженер АО "Вологдаоблэнерго" А.В. Чурляев
A43: составляется самим предприятием с соблюдением всех пунктов настоящей таблицы.

Sheet 39
B1: АО "Вологдаоблэнерго" | J1: код 900151 | N1: ПС "ВОСТОЧНАЯ" 110/35/10 кВ
B2: наименование предприятия | N2: наименование источника питания
N3: _________________________________
B4: ул. Горького, 99 | I4: Таблица № 1 | O4: РП 31
B5: адрес
A6: почасовых записей показаний электрических счетчиков
A7: в режимный день 15 ИЮНЯ 2022 г.
A8: 1635 | B8: 1636
A9: часы суток | B9: Активная энергия | J9: Реактивная энергия
B10: ЯЧ. № 11- "ГОРОД-1" | F10: ЯЧ. № 28- "ГОРОД-2" | J10: ЯЧ. № 11- "ГОРОД-1" | N10: ЯЧ. № 28- "ГОРОД-2"
B11: Расчет. Коэф. | E11: 12000 | F11: Расчет. Коэф. | I11: 12000 | J11: Расчет. Коэф. | M11: =E11 -> 12000 | N11: Расчет. Коэф. | Q11: =I11 -> 12000
B12: показания счетчика | C12: разность | E12: расход эл.энергии за час | F12: показания счетчика | G12: разность | I12: расход эл.энергии за час | J12: показания счетчика | K12: разность | M12: расход эл.энергии за час | N12: показания счетчика | O12: разность | Q12: расход эл.энергии за час
A13: 1 | B13: 2 | C13: 3 | E13: 4 | F13: 5 | G13: 6 | I13: 7 | J13: 8 | K13: 9 | M13: 10 | N13: 11 | O13: 12 | Q13: 13
A14: 0
A15: 1 | E15: 1632 | I15: 2237 | M15: 418 | Q15: 576
A16: 2 | E16: 1484 | I16: 2045 | M16: 389 | Q16: 541
A17: 3 | E17: 1380 | I17: 1862 | M17: 378 | Q17: 515
A18: 4 | E18: 1314 | I18: 1750 | M18: 354 | Q18: 472
A19: 5 | E19: 1294 | I19: 1792 | M19: 340 | Q19: 473
A20: 6 | E20: 1493 | I20: 2073 | M20: 379 | Q20: 526
A21: 7 | E21: 1865 | I21: 2483 | M21: 421 | Q21: 567
A22: 8 | E22: 2065 | I22: 2868 | M22: 459 | Q22: 662
A23: 9 | E23: 2340 | I23: 3264 | M23: 514 | Q23: 909
A24: 10 | E24: 2514 | I24: 3453 | M24: 606 | Q24: 949
A25: 11 | E25: 2594 | I25: 3628 | M25: 641 | Q25: 984
A26: 12 | E26: 2581 | I26: 3521 | M26: 649 | Q26: 956
... A38: 24 | E38: 1818 | I38: 2439 | M38: 316 | Q38: 467
A39: Итого | E39: =SUM(E15:E38) -> 51767 | I39: =SUM(I15:I38) -> 69278 | M39: =SUM(M15:M38) -> 11940 | Q39: =SUM(Q15:Q38) -> 17514
A40: 1. При наличии на предприятии отклонений от нормальных режимов электропотребления (временное изменение схем питания, остановка на ремонт, резкое снижение
A41: эл.потребления и т.д.) последние необходимо перечислить.
A42: Главный инженер АО "Вологдаоблэнерго" А.В. Чурляев
A43: составляется самим предприятием с соблюдением всех пунктов настоящей таблицы.

Sheet 39_1
B1: АО "Вологдаоблэнерго" | J1: код 900151 | N1: ПС "ВОСТОЧНАЯ" 110/35/10 кВ
B2: наименование предприятия | N2: наименование источника питания
N3: _________________________________
B4: ул. Горького, 99 | I4: Таблица № 1 | O4: ТП-561-2
B5: адрес
A6: почасовых записей показаний электрических счетчиков
A7: в режимный день 15 ИЮНЯ 2022 г.
A8: 1737
A9: часы суток | B9: Активная энергия | J9: Реактивная энергия
B10: ЯЧ. № 5- "ГОРОД-3" | J10: ЯЧ. № 5- "ГОРОД-3"
B11: Расчет. Коэф. | F11: Расчет. Коэф. | J11: Расчет. Коэф. | N11: Расчет. Коэф.
B12: показания счетчика | C12: разность | E12: расход эл.энергии за час | F12: показания счетчика | G12: разность | I12: расход эл.энергии за час | J12: показания счетчика | K12: разность | M12: расход эл.энергии за час | N12: показания счетчика | O12: разность | Q12: расход эл.энергии за час
A13: 1 | B13: 2 | C13: 3 | E13: 4 | F13: 5 | G13: 6 | I13: 7 | J13: 8 | K13: 9 | M13: 10 | N13: 11 | O13: 12 | Q13: 13
A14: 0
A15: 1 | E15: 317 | M15: 74
A16: 2 | E16: 279 | M16: 69
A17: 3 | E17: 238 | M17: 65
A18: 4 | E18: 220 | M18: 61
A19: 5 | E19: 222 | M19: 61
A20: 6 | E20: 259 | M20: 65
A21: 7 | E21: 348 | M21: 72
A22: 8 | E22: 391 | M22: 79
A23: 9 | E23: 395 | M23: 78
A24: 10 | E24: 396 | M24: 82
A25: 11 | E25: 385 | M25: 96
A26: 12 | E26: 387 | M26: 93
... A38: 24 | E38: 386 | M38: 56
A39: Итого | E39: =SUM(E15:E38) -> 9360 | M39: =SUM(M15:M38) -> 1970
A40: 1. При наличии на предприятии отклонений от нормальных режимов электропотребления (временное изменение схем питания, остановка на ремонт, резкое снижение
A41: эл.потребления и т.д.) последние необходимо перечислить.
A42: Главный инженер АО "Вологдаоблэнерго" А.В. Чурляев
A43: составляется самим предприятием с соблюдением всех пунктов настоящей таблицы.

Sheet 40
B1: АО "Вологдаоблэнерго" | J1: код 900151 | N1: ПС "ЛУГОВАЯ"
B2: наименование предприятия | N2: наименование источника питания
N3: _________________________________
B4: ул. Горького, 99 | I4: Таблица № 1 | O4: РП 19
B5: адрес
A6: почасовых записей показаний электрических счетчиков
A7: в режимный день 15 ИЮНЯ 2022 г.
A8: 1516 | B8: 1514
A9: часы суток | B9: Активная энергия | J9: Реактивная энергия
B10: ЯЧ. 23 - ф "ГОРОД-2 | F10: ЯЧ. 2 - ф "ГОРОД-3" | J10: ЯЧ. 23 - ф "ГОРОД-2 | N10: ЯЧ. 2 - ф "ГОРОД-3"
B11: Расчет. Коэф. | E11: 12000 | F11: Расчет. Коэф. | I11: 12000 | J11: Расчет. Коэф. | M11: =E11 -> 12000 | N11: Расчет. Коэф. | Q11: =I11 -> 12000
B12: показания счетчика | C12: разность | E12: расход эл.энергии за час | F12: показания счетчика | G12: разность | I12: расход эл.энергии за час | J12: показания счетчика | K12: разность | M12: расход эл.энергии за час | N12: показания счетчика | O12: разность | Q12: расход эл.энергии за час
A13: 1 | B13: 2 | C13: 3 | E13: 4 | F13: 5 | G13: 6 | I13: 7 | J13: 8 | K13: 9 | M13: 10 | N13: 11 | O13: 12 | Q13: 13
A14: 0
A15: 1 | E15: 1811 | I15: 1761 | M15: 342 | Q15: 210
A16: 2 | E16: 1606 | I16: 1528 | M16: 323 | Q16: 197
A17: 3 | E17: 1411 | I17: 1355 | M17: 288 | Q17: 167
A18: 4 | E18: 1345 | I18: 1248 | M18: 259 | Q18: 140
A19: 5 | E19: 1365 | I19: 1287 | M19: 255 | Q19: 126
A20: 6 | E20: 1576 | I20: 1579 | M20: 283 | Q20: 156
A21: 7 | E21: 2032 | I21: 2059 | M21: 295 | Q21: 184
A22: 8 | E22: 2315 | I22: 2266 | M22: 330 | Q22: 207
A23: 9 | E23: 2562 | I23: 2406 | M23: 421 | Q23: 302
A24: 10 | E24: 2690 | I24: 2530 | M24: 502 | Q24: 404
A25: 11 | E25: 2655 | I25: 2439 | M25: 527 | Q25: 410
A26: 12 | E26: 2570 | I26: 2352 | M26: 504 | Q26: 389
... A38: 24 | E38: 2102 | I38: 2088 | M38: 248 | Q38: 129
A39: Итого | E39: =SUM(E15:E38) -> 55226 | I39: =SUM(I15:I38) -> 52605 | M39: =SUM(M15:M38) -> 9125 | Q39: =SUM(Q15:Q38) -> 6385
A40: 1. При наличии на предприятии отклонений от нормальных режимов электропотребления (временное изменение схем питания, остановка на ремонт, резкое снижение
A41: эл.потребления и т.д.) последние необходимо перечислить.
A42: Главный инженер АО "Вологдаоблэнерго" А.В. Чурляев
A43: составляется самим предприятием с соблюдением всех пунктов настоящей таблицы.

Sheet 40 _1
B1: АО "Вологдаоблэнерго" | J1: код 900151 | N1: ПС "ЛУГОВАЯ"
B2: наименование предприятия | N2: наименование источника питания
N3: _________________________________
B4: ул. Горького, 99 | I4: Таблица № 1 | O4: ТП-1080
B5: адрес
A6: почасовых записей показаний электрических счетчиков
A7: в режимный день 15 ИЮНЯ 2022 г.
A8: 1516 | B8: 1514
A9: часы суток | B9: Активная энергия | J9: Реактивная энергия
B10: ЯЧ. 0 - ф "ГОРОД-5 | F10: ЯЧ. 27 - ф ГОРОД-6 | J10: ЯЧ. 0 - ф "ГОРОД-5 | N10: ЯЧ. 27 - ф ГОРОД-6
B11: Расчет. Коэф. | E11: 12000 | F11: Расчет. Коэф. | I11: 12000 | J11: Расчет. Коэф. | M11: =E11 -> 12000 | N11: Расчет. Коэф. | Q11: =I11 -> 12000
B12: показания счетчика | C12: разность | E12: расход эл.энергии за час | F12: показания счетчика | G12: разность | I12: расход эл.энергии за час | J12: показания счетчика | K12: разность | M12: расход эл.энергии за час | N12: показания счетчика | O12: разность | Q12: расход эл.энергии за час
A13: 1 | B13: 2 | C13: 3 | E13: 4 | F13: 5 | G13: 6 | I13: 7 | J13: 8 | K13: 9 | M13: 10 | N13: 11 | O13: 12 | Q13: 13
A14: 0
A15: 1 | E15: 43.6 | I15: 0 | Q15: 0
A16: 2 | E16: 38.8 | I16: 0 | Q16: 0
A17: 3 | E17: 37.2 | I17: 0 | Q17: 0
A18: 4 | E18: 32.4 | I18: 0 | Q18: 0
A19: 5 | E19: 32.4 | I19: 0 | Q19: 0
A20: 6 | E20: 34 | I20: 0 | Q20: 0
A21: 7 | E21: 41.2 | I21: 0 | Q21: 0
A22: 8 | E22: 40.8 | I22: 0 | Q22: 0
A23: 9 | E23: 40.8 | I23: 0 | Q23: 0
A24: 10 | E24: 46 | I24: 0 | Q24: 0
A25: 11 | E25: 45.6 | I25: 0 | Q25: 0
A26: 12 | E26: 50 | I26: 0 | Q26: 0
... A38: 24 | E38: 52.4 | I38: 0 | Q38: 0
A39: Итого | E39: =SUM(E15:E38) -> 1104.4 | I39: =SUM(I15:I38) -> 0 | M39: =SUM(M15:M38) -> 0 | Q39: =SUM(Q15:Q38) -> 0
A40: 1. При наличии на предприятии отклонений от нормальных режимов электропотребления (временное изменение схем питания, остановка на ремонт, резкое снижение
A41: эл.потребления и т.д.) последние необходимо перечислить.
A42: Главный инженер АО "Вологдаоблэнерго" А.В. Чурляев
A43: составляется самим предприятием с соблюдением всех пунктов настоящей таблицы.

Sheet 41
B1: АО "Вологдаоблэнерго" | J1: код 900151 | N1: ПС "ЛУГОВАЯ"
B2: наименование предприятия | N2: наименование источника питания
N3: _________________________________
B4: ул. Горького, 99 | I4: Таблица № 1 | O4: РП 38
B5: адрес
A6: почасовых записей показаний электрических счетчиков
A7: в режимный день 15 ИЮНЯ 2022 г.
A8: 1515 | B8: 1517
A9: часы суток | B9: Активная энергия | J9: Реактивная энергия
B10: ЯЧ.10 - ф "ГОРОД-1" | F10: ЯЧ.25 - ф "ГОРОД-4" | J10: ЯЧ.10 - ф "ГОРОД-1" | N10: ЯЧ.25 - ф "ГОРОД-4"
B11: Расчет. Коэф. | E11: 12000 | F11: Расчет. Коэф. | I11: 12000 | J11: Расчет. Коэф. | M11: =E11 -> 12000 | N11: Расчет. Коэф. | Q11: =I11 -> 12000
B12: показания счетчика | C12: разность | E12: расход эл.энергии за час | F12: показания счетчика | G12: разность | I12: расход эл.энергии за час | J12: показания счетчика | K12: разность | M12: расход эл.энергии за час | N12: показания счетчика | O12: разность | Q12: расход эл.энергии за час
A13: 1 | B13: 2 | C13: 3 | E13: 4 | F13: 5 | G13: 6 | I13: 7 | J13: 8 | K13: 9 | M13: 10 | N13: 11 | O13: 12 | Q13: 13
A14: 0
A15: 1 | E15: 1015 | I15: 765 | M15: 76 | Q15: 82
A16: 2 | E16: 855 | I16: 663 | M16: 68 | Q16: 76
A17: 3 | E17: 774 | I17: 603 | M17: 40 | Q17: 68
A18: 4 | E18: 737 | I18: 564 | M18: 5 | Q18: 59
A19: 5 | E19: 743 | I19: 558 | M19: 12 | Q19: 64
A20: 6 | E20: 858 | I20: 631 | M20: 14 | Q20: 73
A21: 7 | E21: 1140 | I21: 866 | M21: 31 | Q21: 88
A22: 8 | E22: 1343 | I22: 1047 | M22: 56 | Q22: 102
A23: 9 | E23: 1439 | I23: 1065 | M23: 98 | Q23: 97
A24: 10 | E24: 1513 | I24: 1082 | M24: 119 | Q24: 114
A25: 11 | E25: 1525 | I25: 1106 | M25: 150 | Q25: 128
A26: 12 | E26: 1500 | I26: 1083 | M26: 157 | Q26: 127
... A38: 24 | E38: 1220 | I38: 918 | M38: 12 | Q38: 48
A39: Итого | E39: =SUM(E15:E38) -> 31470 | I39: =SUM(I15:I38) -> 23860 | M39: =SUM(M15:M38) -> 1988 | Q39: =SUM(Q15:Q38) -> 2406
A40: 1. При наличии на предприятии отклонений от нормальных режимов электропотребления (временное изменение схем питания, остановка на ремонт, резкое снижение
A41: эл.потребления и т.д.) последние необходимо перечислить.
A42: Главный инженер АО "Вологдаоблэнерго" А.В. Чурляев
A43: составляется самим предприятием с соблюдением всех пунктов настоящей таблицы.

Sheet 41_1
B1: АО "Вологдаоблэнерго" | J1: код 900151 | N1: ПС "ЛУГОВАЯ"
B2: наименование предприятия | N2: наименование источника питания
N3: _________________________________ | O3: ВЛ 10 кВ ф Родина
B4: ул. Горького, 99 | I4: Таблица № 1 | O4: КТП-663
B5: адрес
A6: почасовых записей показаний электрических счетчиков
A7: в режимный день 15 ИЮНЯ 2022 г.
A8: 336
A9: часы суток | B9: Активная энергия | J9: Реактивная энергия
B10: ф.Родина - КТП-663 | J10: ф.Родина - КТП-663
B11: Расчет. Коэф. | E11: 40 | F11: Расчет. Коэф. | J11: Расчет. Коэф. | M11: 40 | N11: Расчет. Коэф.
B12: показания счетчика | C12: разность | E12: расход эл.энергии за час | F12: показания счетчика | G12: разность | I12: расход эл.энергии за час | J12: показания счетчика | K12: разность | M12: расход эл.энергии за час | N12: показания счетчика | O12: разность | Q12: расход эл.энергии за час
A13: 1 | B13: 2 | C13: 3 | E13: 4 | F13: 5 | G13: 6 | I13: 7 | J13: 8 | K13: 9 | M13: 10 | N13: 11 | O13: 12 | Q13: 13
A14: 0
A15: 1 | E15: 7.06 | M15: 2.7
A16: 2 | E16: 6.32 | M16: 2.46
A17: 3 | E17: 6.78 | M17: 2.66
A18: 4 | E18: 7 | M18: 2.08
A19: 5 | E19: 6.16 | M19: 2.6
A20: 6 | E20: 6.92 | M20: 2.82
A21: 7 | E21: 8.5 | M21: 2.74
A22: 8 | E22: 7.34 | M22: 2.98
A23: 9 | E23: 10.58 | M23: 3.24
A24: 10 | E24: 14.4 | M24: 3.98
A25: 11 | E25: 14.28 | M25: 3.84
A26: 12 | E26: 16.56 | M26: 4.84
... A38: 24 | E38: 8.28 | M38: 2.28
A39: Итого | E39: =SUM(E15:E38) -> 283 | M39: =SUM(M15:M38) -> 79.8
A40: 1. При наличии на предприятии отклонений от нормальных режимов электропотребления (временное изменение схем питания, остановка на ремонт, резкое снижение
A41: эл.потребления и т.д.) последние необходимо перечислить.
A42: Главный инженер АО "Вологдаоблэнерго" А.В. Чурляев
A43: составляется самим предприятием с соблюдением всех пунктов настоящей таблицы.

Sheet 42
B1: АО "Вологдаоблэнерго" | J1: код 900151 | N1: РП "ГОРКА"
B2: наименование предприятия | N2: наименование источника питания
N3: _________________________________
B4: ул. Горького, 99 | I4: Таблица № 1 | O4: ВЛ - 10кВ № 37
B5: адрес
A6: почасовых записей показаний электрических счетчиков
A7: в режимный день 15 ИЮНЯ 2022 г.
A8: 1528 | B8: 1527
A9: часы суток | B9: Активная энергия | J9: Реактивная энергия
B10: ЯЧ. 4 - ф,"ЛОСТА-1" | F10: ЯЧ. 8 - ф."ЛОСТА-2" | J10: ЯЧ. 4 - ф,"ЛОСТА-1" | N10: ЯЧ. 8 - ф."ЛОСТА-2"
B11: Расчет. Коэф. | E11: 2000 | F11: Расчет. Коэф. | I11: 2000 | J11: Расчет. Коэф. | M11: =E11 -> 2000 | N11: Расчет. Коэф. | Q11: =I11 -> 2000
B12: показания счетчика | C12: разность | E12: расход эл.энергии за час | F12: показания счетчика | G12: разность | I12: расход эл.энергии за час | J12: показания счетчика | K12: разность | M12: расход эл.энергии за час | N12: показания счетчика | O12: разность | Q12: расход эл.энергии за час
A13: 1 | B13: 2 | C13: 3 | E13: 4 | F13: 5 | G13: 6 | I13: 7 | J13: 8 | K13: 9 | M13: 10 | N13: 11 | O13: 12 | Q13: 13
A14: 0
A15: 1 | E15: 37 | I15: 277 | M15: 29 | Q15: 128
A16: 2 | E16: 32 | I16: 252 | M16: 28 | Q16: 123
A17: 3 | E17: 29 | I17: 231 | M17: 25 | Q17: 121
A18: 4 | E18: 26 | I18: 212 | M18: 23 | Q18: 118
A19: 5 | E19: 26 | I19: 213 | M19: 23 | Q19: 119
A20: 6 | E20: 32 | I20: 226 | M20: 27 | Q20: 120
A21: 7 | E21: 40 | I21: 292 | M21: 27 | Q21: 122
A22: 8 | E22: 41 | I22: 330 | M22: 29 | Q22: 123
A23: 9 | E23: 95 | I23: 368 | M23: 88 | Q23: 122
A24: 10 | E24: 99 | I24: 375 | M24: 97 | Q24: 136
A25: 11 | E25: 79 | I25: 373 | M25: 78 | Q25: 144
A26: 12 | E26: 93 | I26: 363 | M26: 93 | Q26: 144
... A38: 24 | E38: 39 | I38: 311 | M38: 17 | Q38: 109
A39: Итого | E39: =SUM(E15:E38) -> 1459 | I39: =SUM(I15:I38) -> 7938 | M39: =SUM(M15:M38) -> 1185 | Q39: =SUM(Q15:Q38) -> 3155
A40: 1. При наличии на предприятии отклонений от нормальных режимов электропотребления (временное изменение схем питания, остановка на ремонт, резкое снижение
A41: эл.потребления и т.д.) последние необходимо перечислить.
A42: Главный инженер АО "Вологдаоблэнерго" А.В. Чурляев
A43: составляется самим предприятием с соблюдением всех пунктов настоящей таблицы.

Sheet 43
B1: АО "Вологдаоблэнерго" | J1: код 900151 | N1: ГПП 2 ЗАО ВПЗ
B2: наименование предприятия | N2: наименование источника питания
N3: _________________________________
B4: ул. Горького, 99 | I4: Таблица № 1 | N4: ПКУ | O4: ВЛ 10 кВ № 8
B5: адрес
A6: почасовых записей показаний электрических счетчиков
A7: в режимный день 15 ИЮНЯ 2022 г.
A8: 618
A9: часы суток | B9: Активная энергия | J9: Реактивная энергия
B10: ЯЧ. 53 - ВЛ № 8 | J10: ЯЧ. 53 - ВЛ № 8
B11: Расчет. Коэф. | E11: 3000 | F11: Расчет. Коэф. | I11: 0 | J11: Расчет. Коэф. | M11: =E11 -> 3000 | N11: Расчет. Коэф. | Q11: =I11 -> 0
B12: показания счетчика | C12: разность | E12: расход эл.энергии за час | F12: показания счетчика | G12: разность | I12: расход эл.энергии за час | J12: показания счетчика | K12: разность | M12: расход эл.энергии за час | N12: показания счетчика | O12: разность | Q12: расход эл.энергии за час
A13: 1 | B13: 2 | C13: 3 | E13: 4 | F13: 5 | G13: 6 | I13: 7 | J13: 8 | K13: 9 | M13: 10 | N13: 11 | O13: 12 | Q13: 13
A14: 0
A15: 1 | E15: 226 | M15: 162
A16: 2 | E16: 227 | M16: 161
A17: 3 | E17: 227 | M17: 170
A18: 4 | E18: 211 | M18: 151
A19: 5 | E19: 236 | M19: 163
A20: 6 | E20: 243 | M20: 189
A21: 7 | E21: 335 | M21: 235
A22: 8 | E22: 358 | M22: 219
A23: 9 | E23: 928 | M23: 759
A24: 10 | E24: 944 | M24: 711
A25: 11 | E25: 870 | M25: 662
A26: 12 | E26: 927 | M26: 687
... A38: 24 | E38: 307 | M38: 168
A39: Итого | E39: =SUM(E15:E38) -> 13646 | M39: =SUM(M15:M38) -> 9953
A40: 1. При наличии на предприятии отклонений от нормальных режимов электропотребления (временное изменение схем питания, остановка на ремонт, резкое снижение
A41: эл.потребления и т.д.) последние необходимо перечислить.
A42: Главный инженер АО "Вологдаоблэнерго" А.В. Чурляев
A43: составляется самим предприятием с соблюдением всех пунктов настоящей таблицы.

Sheet 44
B1: АО "Вологдаоблэнерго" | J1: код 900151 | N1: ГПП 2 220/10 кВ "ЗАО ВПЗ"
B2: наименование предприятия | N2: наименование источника питания
N3: _________________________________
B4: ул. Горького, 99 | I4: Таблица № 1 | O4: ТП 535; ТП 536
B5: адрес
A6: почасовых записей показаний электрических счетчиков
A7: в режимный день 15 ИЮНЯ 2022 г.
A8: 616 | B8: 617
A9: часы суток | B9: Активная энергия | J9: Реактивная энергия
B10: ЯЧ. 6 - ТП 535 | F10: ЯЧ. 24 - ТП 536 | J10: ЯЧ. 6 - ТП 535 | N10: ЯЧ. 24 - ТП 536
B11: Расчет. Коэф. | E11: 6000 | F11: Расчет. Коэф. | I11: 6000 | J11: Расчет. Коэф. | M11: =E11 -> 6000 | N11: Расчет. Коэф. | Q11: =I11 -> 6000
B12: показания счетчика | C12: разность | E12: расход эл.энергии за час | F12: показания счетчика | G12: разность | I12: расход эл.энергии за час | J12: показания счетчика | K12: разность | M12: расход эл.энергии за час | N12: показания счетчика | O12: разность | Q12: расход эл.энергии за час
A13: 1 | B13: 2 | C13: 3 | E13: 4 | F13: 5 | G13: 6 | I13: 7 | J13: 8 | K13: 9 | M13: 10 | N13: 11 | O13: 12 | Q13: 13
A14: 0
A15: 1 | E15: 724 | I15: 656 | M15: 190 | Q15: 92
A16: 2 | E16: 646 | I16: 596 | M16: 176 | Q16: 85
A17: 3 | E17: 599 | I17: 540 | M17: 171 | Q17: 83
A18: 4 | E18: 585 | I18: 304 | M18: 163 | Q18: 44
A19: 5 | E19: 937 | I19: 0 | M19: 293 | Q19: 0
A20: 6 | E20: 1332 | I20: 0 | M20: 346 | Q20: 0
A21: 7 | E21: 1517 | I21: 0 | M21: 330 | Q21: 0
A22: 8 | E22: 1707 | I22: 0 | M22: 362 | Q22: 0
A23: 9 | E23: 1960 | I23: 0 | M23: 463 | Q23: 0
A24: 10 | E24: 2096 | I24: 0 | M24: 502 | Q24: 0
A25: 11 | E25: 2103 | I25: 0 | M25: 529 | Q25: 0
A26: 12 | E26: 2109 | I26: 0 | M26: 541 | Q26: 0
... A38: 24 | E38: 815 | I38: 697 | M38: 195 | Q38: 91
A39: Итого | E39: =SUM(E15:E38) -> 37955 | I39: =SUM(I15:I38) -> 3353 | M39: =SUM(M15:M38) -> 8953 | Q39: =SUM(Q15:Q38) -> 463
A40: 1. При наличии на предприятии отклонений от нормальных режимов электропотребления (временное изменение схем питания, остановка на ремонт, резкое снижение
A41: эл.потребления и т.д.) последние необходимо перечислить.
A42: Главный инженер АО "Вологдаоблэнерго" А.В. Чурляев
A43: составляется самим предприятием с соблюдением всех пунктов настоящей таблицы.

Sheet 45
B1: АО "Вологдаоблэнерго" | J1: код 900151 | N1: ГПП 1 110/10 кВ "ЗАО ВПЗ"
B2: наименование предприятия | N2: наименование источника питания
N3: _________________________________
B4: ул. Горького, 99 | I4: Таблица № 1 | O4: РП42
B5: адрес
A6: почасовых записей показаний электрических счетчиков
A7: в режимный день 15 ИЮНЯ 2022 г.
A8: 606 | B8: 607
A9: часы суток | B9: Активная энергия | J9: Реактивная энергия
B10: ЯЧ. 10 - РП42 ф.1 | F10: ЯЧ. 34 - РП42 ф.6 | J10: ЯЧ. 10 - РП42 ф.1 | N10: ЯЧ. 34 - РП42 ф.6
B11: Расчет. Коэф. | E11: 8000 | F11: Расчет. Коэф. | I11: 8000 | J11: Расчет. Коэф. | M11: =E11 -> 8000 | N11: Расчет. Коэф. | Q11: =I11 -> 8000
B12: показания счетчика | C12: разность | E12: расход эл.энергии за час | F12: показания счетчика | G12: разность | I12: расход эл.энергии за час | J12: показания счетчика | K12: разность | M12: расход эл.энергии за час | N12: показания счетчика | O12: разность | Q12: расход эл.энергии за час
A13: 1 | B13: 2 | C13: 3 | E13: 4 | F13: 5 | G13: 6 | I13: 7 | J13: 8 | K13: 9 | M13: 10 | N13: 11 | O13: 12 | Q13: 13
A14: 0
A15: 1 | E15: 739 | I15: 804 | M15: 93 | Q15: 78
A16: 2 | E16: 671 | I16: 730 | M16: 87 | Q16: 69
A17: 3 | E17: 615 | I17: 670 | M17: 78 | Q17: 58
A18: 4 | E18: 598 | I18: 629 | M18: 61 | Q18: 50
A19: 5 | E19: 633 | I19: 618 | M19: 58 | Q19: 42
A20: 6 | E20: 677 | I20: 651 | M20: 79 | Q20: 54
A21: 7 | E21: 840 | I21: 749 | M21: 87 | Q21: 69
A22: 8 | E22: 952 | I22: 893 | M22: 97 | Q22: 88
A23: 9 | E23: 1132 | I23: 1053 | M23: 138 | Q23: 87
A24: 10 | E24: 1266 | I24: 1300 | M24: 163 | Q24: 153
A25: 11 | E25: 1261 | I25: 1348 | M25: 163 | Q25: 170
A26: 12 | E26: 1272 | I26: 1363 | M26: 174 | Q26: 181
... A38: 24 | E38: 822 | I38: 887 | M38: 72 | Q38: 67
A39: Итого | E39: =SUM(E15:E38) -> 24832 | I39: =SUM(I15:I38) -> 25385 | M39: =SUM(M15:M38) -> 2790 | Q39: =SUM(Q15:Q38) -> 2541
A40: 1. При наличии на предприятии отклонений от нормальных режимов электропотребления (временное изменение схем питания, остановка на ремонт, резкое снижение
A41: эл.потребления и т.д.) последние необходимо перечислить.
A42: Главный инженер АО "Вологдаоблэнерго" А.В. Чурляев
A43: составляется самим предприятием с соблюдением всех пунктов настоящей таблицы.

Sheet 45_1
B1: АО "Вологдаоблэнерго" | J1: код 900151 | N1: ПС "Молочное" 35/10 кВ
B2: наименование предприятия | N2: наименование источника питания
O3: ф. Красная Звезда
B4: ул. Горького, 99 | I4: Таблица № 1
B5: адрес
A6: почасовых записей показаний электрических счетчиков
A7: в режимный день 15 ИЮНЯ 2022 г.
A8: 943
A9: часы суток | B9: Активная энергия | J9: Реактивная энергия
B10: ф. Красная Звезда - КТП-297 | J10: ф. Красная Звезда - КТП-297
B11: Расчет. Коэф. | F11: Расчет. Коэф. | J11: Расчет. Коэф. | N11: Расчет. Коэф.
B12: показания счетчика | C12: разность | E12: расход эл.энергии за час | F12: показания счетчика | G12: разность | I12: расход эл.энергии за час | J12: показания счетчика | K12: разность | M12: расход эл.энергии за час | N12: показания счетчика | O12: разность | Q12: расход эл.энергии за час
A13: 1 | B13: 2 | C13: 3 | E13: 4 | F13: 5 | G13: 6 | I13: 7 | J13: 8 | K13: 9 | M13: 10 | N13: 11 | O13: 12 | Q13: 13
A14: 0
A15: 1 | E15: 24.528
A16: 2 | E16: 20.88
A17: 3 | E17: 21.136
A18: 4 | E18: 21.04
A19: 5 | E19: 19.568
A20: 6 | E20: 22.032
A21: 7 | E21: 24.48
A22: 8 | E22: 30.192
A23: 9 | E23: 28.448
A24: 10 | E24: 25.792
A25: 11 | E25: 23.936
A26: 12 | E26: 25.6
... A38: 24 | E38: 30.256
A39: Итого | E39: =SUM(E15:E38) -> 627.984 | M39: =SUM(M15:M38) -> 0
A40: 1. При наличии на предприятии отклонений от нормальных режимов электропотребления (временное изменение схем питания, остановка на ремонт, резкое снижение
A41: эл.потребления и т.д.) последние необходимо перечислить.
A42: Главный инженер АО "Вологдаоблэнерго" А.В. Чурляев
A43: составляется самим предприятием с соблюдением всех пунктов настоящей таблицы.

Sheet свод.табл.г.Вологда
G1: код 900151
B2: Таблица № 3
A4: сводных данных режимного дня 15 ИЮНЯ 2022 г..
A6: о потреблении электрической энергии по АО "Вологдаоблэнерго"
A8: г. ВОЛОГДА
A10: часы суток | B10: Активная энергия | E10: Реактивная энергия
B11: Суммарный расход эл.энергии по всем вводам | C11: Суммарный расход эл.энергии всеми сторонними потребителями | D11: Расход эл.энергии предприятием (2-3) | E11: Суммарный расход эл.энергии по всем вводам | F11: Суммарный расход эл.энергии всеми сторонними потребителями | G11: Расход эл.энергии предприятием (5-6)
A12: 1 | B12: 2 | C12: 3 | D12: 4 | E12: 5 | F12: 6 | G12: 7
A13: 1 | B13: =SUM('1:45_1'!E15,'1:45_1'!I15) -> 52288.044 | D13: =B13 -> 52288.044 | E13: =SUM('1:45_1'!M15,'1:45_1'!Q15) -> 13356.202 | G13: =E13 -> 13356.202
A14: 2 | B14: =SUM('1:45_1'!E16,'1:45_1'!I16) -> 48266.908 | D14: =B14 -> 48266.908 | E14: =SUM('1:45_1'!M16,'1:45_1'!Q16) -> 12645.942 | G14: =E14 -> 12645.942
A15: 3 | B15: =SUM('1:45_1'!E17,'1:45_1'!I17) -> 44722.068 | D15: =B15 -> 44722.068 | E15: =SUM('1:45_1'!M17,'1:45_1'!Q17) -> 12235.742 | G15: =E15 -> 12235.742
A16: 4 | B16: =SUM('1:45_1'!E18,'1:45_1'!I18) -> 42499.53 | D16: =B16 -> 42499.53 | E16: =SUM('1:45_1'!M18,'1:45_1'!Q18) -> 11270.104 | G16: =E16 -> 11270.104
A17: 5 | B17: =SUM('1:45_1'!E19,'1:45_1'!I19) -> 43274.402 | D17: =B17 -> 43274.402 | E17: =SUM('1:45_1'!M19,'1:45_1'!Q19) -> 11452.39 | G17: =E17 -> 11452.39
A18: 6 | B18: =SUM('1:45_1'!E20,'1:45_1'!I20) -> 48798.526 | D18: =B18 -> 48798.526 | E18: =SUM('1:45_1'!M20,'1:45_1'!Q20) -> 12481.968 | G18: =E18 -> 12481.968
A19: 7 | B19: =SUM('1:45_1'!E21,'1:45_1'!I21) -> 59206.346 | D19: =B19 -> 59206.346 | E19: =SUM('1:45_1'!M21,'1:45_1'!Q21) -> 13307.804 | G19: =E19 -> 13307.804
A20: 8 | B20: =SUM('1:45_1'!E22,'1:45_1'!I22) -> 69529.826 | D20: =B20 -> 69529.826 | E20: =SUM('1:45_1'!M22,'1:45_1'!Q22) -> 15004.278 | G20: =E20 -> 15004.278
A21: 9 | B21: =SUM('1:45_1'!E23,'1:45_1'!I23) -> 81303.732 | D21: =B21 -> 81303.732 | E21: =SUM('1:45_1'!M23,'1:45_1'!Q23) -> 18962.622 | G21: =E21 -> 18962.622
A22: 10 | B22: =SUM('1:45_1'!E24,J11) -> 44291.75 | D22: =B22 -> 44291.75 | E22: =SUM('1:45_1'!M24,'1:45_1'!Q24) -> 21813.434 | G22: =E22 -> 21813.434
A23: 11 | B23: =SUM('1:45_1'!E25,'1:45_1'!I25) -> 88924.528 | D23: =B23 -> 88924.528 | E23: =SUM('1:45_1'!M25,'1:45_1'!Q25) -> 22437.914 | G23: =E23 -> 22437.914
A24: 12 | B24: =SUM('1:45_1'!E26,'1:45_1'!I26) -> 89278.228 | D24: =B24 -> 89278.228 | E24: =SUM('1:45_1'!M26,'1:45_1'!Q26) -> 22885.872 | G24: =E24 -> 22885.872
A25: 13 | B25: =SUM('1:45_1'!E27,'1:45_1'!I27) -> 87135.506 | D25: =B25 -> 87135.506 | E25: =SUM('1:45_1'!M27,'1:45_1'!Q27) -> 21615.286 | G25: =E25 -> 21615.286
A26: 14 | B26: =SUM('1:45_1'!E28,'1:45_1'!I28) -> 87091.794 | D26: =B26 -> 87091.794 | E26: =SUM('1:45_1'!M28,'1:45_1'!Q28) -> 22396.488 | G26: =E26 -> 22396.488
A27: 15 | B27: =SUM('1:45_1'!E29,'1:45_1'!I29) -> 86158.666 | D27: =B27 -> 86158.666 | E27: =SUM('1:45_1'!M29,'1:45_1'!Q29) -> 23130.1 | G27: =E27 -> 23130.1
A28: 16 | B28: =SUM('1:45_1'!E30,'1:45_1'!I30) -> 84393.92 | D28: =B28 -> 84393.92 | E28: =SUM('1:45_1'!M30,'1:45_1'!Q30) -> 21992.178 | G28: =E28 -> 21992.178
A29: 17 | B29: =SUM('1:45_1'!E31,'1:45_1'!I31) -> 82838.834 | D29: =B29 -> 82838.834 | E29: =SUM('1:45_1'!M31,'1:45_1'!Q31) -> 20839.274 | G29: =E29 -> 20839.274
A30: 18 | B30: =SUM('1:45_1'!E32,'1:45_1'!I32) -> 80517.422 | D30: =B30 -> 80517.422 | E30: =SUM('1:45_1'!M32,'1:45_1'!Q32) -> 17705.52 | G30: =E30 -> 17705.52
A31: 19 | B31: =SUM('1:45_1'!E33,'1:45_1'!I33) -> 79929.32 | D31: =B31 -> 79929.32 | E31: =SUM('1:45_1'!M33,'1:45_1'!Q33) -> 16455.012 | G31: =E31 -> 16455.012
A32: 20 | B32: =SUM('1:45_1'!E34,'1:45_1'!I34) -> 78776.856 | D32: =B32 -> 78776.856 | E32: =SUM('1:45_1'!M34,'1:45_1'!Q34) -> 15949.116 | G32: =E32 -> 15949.116
A33: 21 | B33: =SUM('1:45_1'!E35,'1:45_1'!I35) -> 76524.664 | D33: =B33 -> 76524.664 | E33: =SUM('1:45_1'!M35,'1:45_1'!Q35) -> 15090.502 | G33: =E33 -> 15090.502
A34: 22 | B34: =SUM('1:45_1'!E36,'1:45_1'!I36) -> 72900.34 | D34: =B34 -> 72900.34 | E34: =SUM('1:45_1'!M36,'1:45_1'!Q36) -> 14236.63 | G34: =E34 -> 14236.63
... A36: 24 | B36: =SUM('1:45_1'!E38,'1:45_1'!I38) -> 56744.742 | D36: =B36 -> 56744.742 | E36: =SUM('1:45_1'!M38,'1:45_1'!Q38) -> 11495.724 | G36: =E36 -> 11495.724
A37: Итого
A41: И.о.главного инженера АО "Вологдаоблэнерго" О.В.Уткин
A42: Главный инженер АО "Вологдаоблэнерго" А.В. Чурляев
D48: =MAX(D13:D37) -> 89278.228 | G48: =MAX(G13:G37) -> 23130.1

Sheet 46
B1: АО "Вологдаоблэнерго" | J1: код 900151 | N1: ПС 110 кВ "Кубенское"
B2: наименование предприятия | N2: наименование источника питания
B3: уч-к "Кубенское" | N3: _________________________________
B4: ул. Горького, 99 | I4: Таблица № 1 | O4: ф.СПТУ, ф. Кубенское ПКУ
B5: адрес
A6: почасовых записей показаний электрических счетчиков
A7: в режимный день 15 ИЮНЯ 2022 г.
A8: 1640 | B8: 411
A9: часы суток | B9: Активная энергия | J9: Реактивная энергия
B10: яч..8 - ф.СПТУ | F10: яч.9 - ф.Кубенское ПКУ | J10: яч..8 - ф.СПТУ | N10: яч.9 - ф.Кубенское ПКУ
B11: Расчет. Коэф. | E11: 3000 | F11: Расчет. Коэф. | I11: 1500 | J11: Расчет. Коэф. | M11: 3000 | N11: Расчет. Коэф. | Q11: 1500
B12: показания счетчика | C12: разность | E12: расход эл.энергии за час | F12: показания счетчика | G12: разность | I12: расход эл.энергии за час | J12: показания счетчика | K12: разность | M12: расход эл.энергии за час | N12: показания счетчика | O12: разность | Q12: расход эл.энергии за час
A13: 1 | B13: 2 | C13: 3 | E13: 4 | F13: 5 | G13: 6 | I13: 7 | J13: 8 | K13: 9 | M13: 10 | N13: 11 | O13: 12 | Q13: 13
A14: 0
A15: 1 | E15: 138 | I15: 162 | M15: 93 | Q15: 108.15
A16: 2 | E16: 124 | I16: 151.05 | M16: 88 | Q16: 102.9
A17: 3 | E17: 107 | I17: 144 | M17: 79 | Q17: 100.8
A18: 4 | E18: 112 | I18: 142.5 | M18: 74 | Q18: 99.6
A19: 5 | E19: 129 | I19: 142.65 | M19: 74 | Q19: 99.45
A20: 6 | E20: 140 | I20: 155.55 | M20: 78 | Q20: 104.55
A21: 7 | E21: 199 | I21: 181.05 | M21: 88 | Q21: 107.4
A22: 8 | E22: 248 | I22: 207.15 | M22: 83 | Q22: 108.75
A23: 9 | E23: 269 | I23: 257.85 | M23: 94 | Q23: 136.35
A24: 10 | E24: 293 | I24: 317.7 | M24: 101 | Q24: 170.7
A25: 11 | E25: 279 | I25: 303.45 | M25: 105 | Q25: 178.5
A26: 12 | E26: 289 | I26: 325.5 | M26: 107 | Q26: 201.75
... A38: 24 | E38: 164 | I38: 196.5 | M38: 85 | Q38: 112.2
A39: Итого | E39: =SUM(E15:E38) -> 4934 | I39: =SUM(I15:I38) -> 5774.1 | M39: =SUM(M15:M38) -> 2270 | Q39: =SUM(Q15:Q38) -> 3444.45
A40: 1. При наличии на предприятии отклонений от нормальных режимов электропотребления (временное изменение схем питания, остановка на ремонт, резкое снижение
A41: эл.потребления и т.д.) последние необходимо перечислить.
A42: Главный инженер АО "Вологдаоблэнерго" А.В. Чурляев
A43: составляется самим предприятием с соблюдением всех пунктов настоящей таблицы.

Sheet 47
B1: АО "Вологдаоблэнерго" | J1: код 900151 | N1: ПС "Молочное" 35/10 кВ
B2: наименование предприятия | N2: наименование источника питания
B3: уч-к п. Молочное | N3: _________________________________
B4: ул. Горького, 99 | I4: Таблица № 1
B5: адрес
A6: почасовых записей показаний электрических счетчиков
A7: в режимный деннь 17 ИЮНЯ 2020 г.
A8: 1450 | B8: 1449
A9: часы суток | B9: Активная энергия | J9: Реактивная энергия
B10: яч.17 - ф.Молочное-1 | F10: яч.12 - ф.Молочное-2 | J10: яч.17 - ф.Молочное-1 | N10: яч.12 - ф.Молочное-2
B11: Расчет. Коэф. | E11: 3000 | F11: Расчет. Коэф. | I11: 3000 | J11: Расчет. Коэф. | M11: 3000 | N11: Расчет. Коэф. | Q11: 3000
B12: показания счетчика | C12: разность | E12: расход эл.энергии за час | F12: показания счетчика | G12: разность | I12: расход эл.энергии за час | J12: показания счетчика | K12: разность | M12: расход эл.энергии за час | N12: показания счетчика | O12: разность | Q12: расход эл.энергии за час
A13: 1 | B13: 2 | C13: 3 | E13: 4 | F13: 5 | G13: 6 | I13: 7 | J13: 8 | K13: 9 | M13: 10 | N13: 11 | O13: 12 | Q13: 13
A14: 0
A15: 1 | E15: 270 | I15: 99 | M15: 108 | Q15: 53
A16: 2 | E16: 250 | I16: 72 | M16: 108 | Q16: 54
A17: 3 | E17: 243 | I17: 68 | M17: 114 | Q17: 50
A18: 4 | E18: 238 | I18: 79 | M18: 112 | Q18: 26
A19: 5 | E19: 237 | I19: 95 | M19: 110 | Q19: 54
A20: 6 | E20: 313 | I20: 69 | M20: 120 | Q20: 54
A21: 7 | E21: 377 | I21: 70 | M21: 122 | Q21: 49
A22: 8 | E22: 479 | I22: 86 | M22: 123 | Q22: 25
A23: 9 | E23: 511 | I23: 102 | M23: 139 | Q23: 57
A24: 10 | E24: 576 | I24: 84 | M24: 155 | Q24: 60
A25: 11 | E25: 547 | I25: 84 | M25: 161 | Q25: 59
A26: 12 | E26: 850 | I26: 93 | M26: 195 | Q26: 24
... A38: 24 | E38: 591 | I38: 86 | M38: 229 | Q38: 23
A39: Итого | E39: =SUM(E15:E38) -> 12761 | I39: =SUM(I15:I38) -> 2116 | M39: =SUM(M15:M38) -> 4075 | Q39: =SUM(Q15:Q38) -> 1151
A40: 1. При наличии на предприятии отклонений от нормальных режимов электропотребления (временное изменение схем питания, остановка на ремонт, резкое снижение
A41: эл.потребления и т.д.) последние необходимо перечислить.
A42: Главный инженер АО "Вологдаоблэнерго" А.В. Чурляев
A43: составляется самим предприятием с соблюдением всех пунктов настоящей таблицы.

Sheet 48
B1: АО "Вологдаоблэнерго" | J1: код 900151 | N1: ПС "Молочное" 35/10 кВ
B2: наименование предприятия | N2: наименование источника питания
B3: уч-к п. Молочное | N3: _________________________________
B4: ул. Горького, 99 | I4: Таблица № 1
B5: адрес
A6: почасовых записей показаний электрических счетчиков
A7: в режимный день 15 ИЮНЯ 2022 г.
A8: 1451 | B8: 1448
A9: часы суток | B9: Активная энергия | J9: Реактивная энергия
B10: яч 18 - ф.Молочное-3 | F10: яч 10. - ф.Очистные | J10: яч. 18 - ф.Молочное-3 | N10: яч 10 - ф.Очистные
B11: Расчет. Коэф. | E11: 3000 | F11: Расчет. Коэф. | I11: 2000 | J11: Расчет. Коэф. | M11: 3000 | N11: Расчет. Коэф. | Q11: 2000
B12: показания счетчика | C12: разность | E12: расход эл.энергии за час | F12: показания счетчика | G12: разность | I12: расход эл.энергии за час | J12: показания счетчика | K12: разность | M12: расход эл.энергии за час | N12: показания счетчика | O12: разность | Q12: расход эл.энергии за час
A13: 1 | B13: 2 | C13: 3 | E13: 4 | F13: 5 | G13: 6 | I13: 7 | J13: 8 | K13: 9 | M13: 10 | N13: 11 | O13: 12 | Q13: 13
A14: 0
A15: 1 | E15: 222 | I15: 352 | M15: 46 | Q15: 188
A16: 2 | E16: 208 | I16: 334 | M16: 45 | Q16: 186
A17: 3 | E17: 188 | I17: 321 | M17: 43 | Q17: 197
A18: 4 | E18: 167 | I18: 294 | M18: 38 | Q18: 178
A19: 5 | E19: 159 | I19: 335 | M19: 35 | Q19: 177
A20: 6 | E20: 207 | I20: 359 | M20: 47 | Q20: 174
A21: 7 | E21: 239 | I21: 386 | M21: 48 | Q21: 160
A22: 8 | E22: 276 | I22: 431 | M22: 54 | Q22: 183
A23: 9 | E23: 327 | I23: 490 | M23: 70 | Q23: 216
A24: 10 | E24: 393 | I24: 518 | M24: 88 | Q24: 233
A25: 11 | E25: 398 | I25: 532 | M25: 92 | Q25: 247
A26: 12 | E26: 380 | I26: 247 | M26: 94 | Q26: 276
... A38: 24 | E38: 270 | I38: 166 | M38: 62 | Q38: 121
A39: Итого | E39: =SUM(E15:E38) -> 6686 | I39: =SUM(I15:I38) -> 6904 | M39: =SUM(M15:M38) -> 1478 | Q39: =SUM(Q15:Q38) -> 3936
A40: 1. При наличии на предприятии отклонений от нормальных режимов электропотребления (временное изменение схем питания, остановка на ремонт, резкое снижение
A41: эл.потребления и т.д.) последние необходимо перечислить.
A42: Главный инженер АО "Вологдаоблэнерго" А.В. Чурляев
A43: составляется самим предприятием с соблюдением всех пунктов настоящей таблицы.

Sheet 48_1
B1: АО "Вологдаоблэнерго" | J1: код 900151 | N1: ПС "Молочное" 35/10 кВ
B2: наименование предприятия | N2: наименование источника питания
B3: уч-к п. Молочное | N3: _________________ф. Ивлево, ф. Майский ________________
B4: ул. Горького, 99 | I4: Таблица № 1
B5: адрес
A6: почасовых записей показаний электрических счетчиков
A7: в режимный день 15 ИЮНЯ 2022 г.
A8: 624 | B8: 633
A9: часы суток | B9: Активная энергия | J9: Реактивная энергия
B10: ф. Ивлево, ф. Майский - ТП-28 Т1 | F10: ф. Ивлево, ф. Майский - ТП28 Т2 | J10: ф. Ивлево, ф. Майский - ТП-28 Т1 | N10: ф. Ивлево, ф. Майский - ТП28 Т2
B11: Расчет. Коэф. | E11: 120 | F11: Расчет. Коэф. | I11: 120 | J11: Расчет. Коэф. | M11: 120 | N11: Расчет. Коэф. | Q11: 120
B12: показания счетчика | C12: разность | E12: расход эл.энергии за час | F12: показания счетчика | G12: разность | I12: расход эл.энергии за час | J12: показания счетчика | K12: разность | M12: расход эл.энергии за час | N12: показания счетчика | O12: разность | Q12: расход эл.энергии за час
A13: 1 | B13: 2 | C13: 3 | E13: 4 | F13: 5 | G13: 6 | I13: 7 | J13: 8 | K13: 9 | M13: 10 | N13: 11 | O13: 12 | Q13: 13
A14: 0
A15: 1 | E15: 62.22 | I15: 0 | M15: 14.34 | Q15: 0
A16: 2 | E16: 56.04 | I16: 0 | M16: 11.34 | Q16: 0
A17: 3 | E17: 50.94 | I17: 0 | M17: 13.2 | Q17: 0
A18: 4 | E18: 47.16 | I18: 0 | M18: 11.94 | Q18: 0
A19: 5 | E19: 46.8 | I19: 0 | M19: 11.58 | Q19: 0
A20: 6 | E20: 51.24 | I20: 0 | M20: 12.24 | Q20: 0
A21: 7 | E21: 58.38 | I21: 0 | M21: 13.5 | Q21: 0
A22: 8 | E22: 65.76 | I22: 0 | M22: 13.92 | Q22: 0
A23: 9 | E23: 66.9 | I23: 0 | M23: 14.7 | Q23: 0
A24: 10 | E24: 65.28 | I24: 0 | M24: 15.72 | Q24: 0
A25: 11 | E25: 66.42 | I25: 0 | M25: 16.56 | Q25: 0
A26: 12 | E26: 62.46 | I26: 0 | M26: 16.08 | Q26: 0
... A38: 24 | E38: 74.28 | I38: 0 | M38: 17.46 | Q38: 0
A39: Итого | E39: =SUM(E15:E38) -> 1624.2 | I39: =SUM(I15:I38) -> 0 | M39: =SUM(M15:M38) -> 382.32 | Q39: =SUM(Q15:Q38) -> 0
A40: 1. При наличии на предприятии отклонений от нормальных режимов электропотребления (временное изменение схем питания, остановка на ремонт, резкое снижение
A41: эл.потребления и т.д.) последние необходимо перечислить.
A42: Главный инженер АО "Вологдаоблэнерго" А.В. Чурляев
A43: составляется самим предприятием с соблюдением всех пунктов настоящей таблицы.

Sheet 48_2
B1: АО "Вологдаоблэнерго" | J1: код 900151 | N1: ПС "Молочное" 35/10 кВ
B2: наименование предприятия | N2: наименование источника питания
B3: уч-к п. Молочное | N3: ____________ф. Ивлево, ф. Майский _____________________
B4: ул. Горького, 99 | I4: Таблица № 1
B5: адрес
A6: почасовых записей показаний электрических счетчиков
A7: в режимный день 15 ИЮНЯ 2022 г.
A8: 621
A9: часы суток | B9: Активная энергия | J9: Реактивная энергия
B10: ф. Ивлево, ф. Майский - ТП27 Т1 | J10: ф. Ивлево, ф. Майский - ТП27 Т1
B11: Расчет. Коэф. | F11: Расчет. Коэф. | J11: Расчет. Коэф. | N11: Расчет. Коэф.
B12: показания счетчика | C12: разность | E12: расход эл.энергии за час | F12: показания счетчика | G12: разность | I12: расход эл.энергии за час | J12: показания счетчика | K12: разность | M12: расход эл.энергии за час | N12: показания счетчика | O12: разность | Q12: расход эл.энергии за час
A13: 1 | B13: 2 | C13: 3 | E13: 4 | F13: 5 | G13: 6 | I13: 7 | J13: 8 | K13: 9 | M13: 10 | N13: 11 | O13: 12 | Q13: 13
A14: 0
A15: 1 | E15: 37.74 | M15: 9.42
A16: 2 | E16: 32.88 | M16: 8.76
A17: 3 | E17: 28.32 | M17: 7.2
A18: 4 | E18: 28.92 | M18: 8.4
A19: 5 | E19: 28.92 | M19: 8.58
A20: 6 | E20: 30.36 | M20: 9.18
A21: 7 | E21: 37.5 | M21: 8.94
A22: 8 | E22: 47.82 | M22: 10.44
A23: 9 | E23: 51.78 | M23: 10.74
A24: 10 | E24: 54.96 | M24: 12.42
A25: 11 | E25: 48.96 | M25: 11.28
A26: 12 | E26: 50.58 | M26: 12.3
... A38: 24 | E38: 40.14 | M38: 10.14
A39: Итого | E39: =SUM(E15:E38) -> 1121.28 | M39: =SUM(M15:M38) -> 264.48
A40: 1. При наличии на предприятии отклонений от нормальных режимов электропотребления (временное изменение схем питания, остановка на ремонт, резкое снижение
A41: эл.потребления и т.д.) последние необходимо перечислить.
A42: Главный инженер АО "Вологдаоблэнерго" А.В. Чурляев
A43: составляется самим предприятием с соблюдением всех пунктов настоящей таблицы.

Sheet 48_3
B1: АО "Вологдаоблэнерго" | J1: код 900151 | N1: ПС "Молочное" 35/10 кВ
B2: наименование предприятия | N2: наименование источника питания
B3: уч-к п. Молочное | N3: ______ВЛ 10 кВ ф. Красная Звезда ______
B4: ул. Горького, 99 | I4: Таблица № 1
B5: адрес
A6: почасовых записей показаний электрических счетчиков
A7: в режимный день 15 ИЮНЯ 2022 г.
A8: 621
A9: часы суток | B9: Активная энергия | J9: Реактивная энергия
B10: ф. Красная Звезда - КТП-297 | J10: ф. Красная Звезда - КТП-297
B11: Расчет. Коэф. | F11: Расчет. Коэф. | J11: Расчет. Коэф. | N11: Расчет. Коэф.
B12: показания счетчика | C12: разность | E12: расход эл.энергии за час | F12: показания счетчика | G12: разность | I12: расход эл.энергии за час | J12: показания счетчика | K12: разность | M12: расход эл.энергии за час | N12: показания счетчика | O12: разность | Q12: расход эл.энергии за час
A13: 1 | B13: 2 | C13: 3 | E13: 4 | F13: 5 | G13: 6 | I13: 7 | J13: 8 | K13: 9 | M13: 10 | N13: 11 | O13: 12 | Q13: 13
A14: 0
A15: 1
A16: 2
A17: 3
A18: 4
A19: 5
A20: 6
A21: 7
A22: 8
A23: 9
A24: 10
A25: 11
... A38: 24
A39: Итого | E39: =SUM(E15:E38) -> 0 | M39: =SUM(M15:M38) -> 0
A40: 1. При наличии на предприятии отклонений от нормальных режимов электропотребления (временное изменение схем питания, остановка на ремонт, резкое снижение
A41: эл.потребления и т.д.) последние необходимо перечислить.
A42: Главный инженер АО "Вологдаоблэнерго" А.В. Чурляев
A43: составляется самим предприятием с соблюдением всех пунктов настоящей таблицы.

Sheet 49
B1: АО "Вологдаоблэнерго" | J1: код 900151 | N1: РТП "КОРНИЛОВО" 35/10 кВ
B2: наименование предприятия | N2: наименование источника питания
B3: уч-к "Устье-Кубенское" | N3: _________________________________
B4: ул. Горького, 99 | I4: Таблица № 1
B5: адрес
A6: почасовых записей показаний электрических счетчиков
A7: в режимный день 15 ИЮНЯ 2022 г.
A8: 1639
A9: часы суток | B9: Активная энергия | J9: Реактивная энергия
B10: ф. "КОММУНАЛЬНЫЙ" | J10: ф. "КОММУНАЛЬНЫЙ"
B11: Расчет. Коэф. | E11: 2000 | F11: Расчет. Коэф. | I11: 0 | J11: Расчет. Коэф. | M11: 2000 | N11: Расчет. Коэф. | Q11: 0
B12: показания счетчика | C12: разность | E12: расход эл.энергии за час | F12: показания счетчика | G12: разность | I12: расход эл.энергии за час | J12: показания счетчика | K12: разность | M12: расход эл.энергии за час | N12: показания счетчика | O12: разность | Q12: расход эл.энергии за час
A13: 1 | B13: 2 | C13: 3 | E13: 4 | F13: 5 | G13: 6 | I13: 7 | J13: 8 | K13: 9 | M13: 10 | N13: 11 | O13: 12 | Q13: 13
A14: 0
A15: 1 | E15: 171 | M15: 109
A16: 2 | E16: 137 | M16: 93
A17: 3 | E17: 128 | M17: 95
A18: 4 | E18: 126 | M18: 94
A19: 5 | E19: 125 | M19: 96
A20: 6 | E20: 130 | M20: 98
A21: 7 | E21: 162 | M21: 94
A22: 8 | E22: 202 | M22: 96
A23: 9 | E23: 259 | M23: 135
A24: 10 | E24: 289 | M24: 147
A25: 11 | E25: 274 | M25: 133
A26: 12 | E26: 280 | M26: 147
... A38: 24 | E38: 182 | M38: 103
A39: Итого | E39: =SUM(E15:E38) -> 5382 | M39: =SUM(M15:M38) -> 2840
A42: Главный инженер АО "Вологдаоблэнерго" А.В. Чурляев

Sheet 50
B1: АО "Вологдаоблэнерго" | J1: код 900151 | N1: РТП "КОРНИЛОВО" 35/10 кВ
B2: наименование предприятия | N2: наименование источника питания
B3: уч-к "Устье-Кубенское" | N3: _________________________________
B4: ул. Горького, 99 | I4: Таблица № 1
B5: адрес
A6: почасовых записей показаний электрических счетчиков
A7: в режимный день 15 ИЮНЯ 2022 г.
A8: 393 | B8: 392
A9: часы суток | B9: Активная энергия | J9: Реактивная энергия
B10: ф. "УСТЬЕ" ПКУ | F10: ф. "СХТ" | J10: ф. "УСТЬЕ" ПКУ | N10: ф. "СХТ"
B11: Расчет. Коэф. | E11: 3000 | F11: Расчет. Коэф. | I11: 2000 | J11: Расчет. Коэф. | M11: =E11 -> 3000 | N11: Расчет. Коэф. | Q11: 2000
B12: показания счетчика | C12: разность | E12: расход эл.энергии за час | F12: показания счетчика | G12: разность | I12: расход эл.энергии за час | J12: показания счетчика | K12: разность | M12: расход эл.энергии за час | N12: показания счетчика | O12: разность | Q12: расход эл.энергии за час
A13: 1 | B13: 2 | C13: 3 | E13: 4 | F13: 5 | G13: 6 | I13: 7 | J13: 8 | K13: 9 | M13: 10 | N13: 11 | O13: 12 | Q13: 13
A14: 0
A15: 1 | E15: 200.1 | I15: 103.4 | M15: 145.5 | Q15: 63
A16: 2 | E16: 184.8 | I16: 74.4 | M16: 139.2 | Q16: 44
A17: 3 | E17: 168.6 | I17: 70.2 | M17: 130.2 | Q17: 45.6
A18: 4 | E18: 163.5 | I18: 66.2 | M18: 125.1 | Q18: 45.8
A19: 5 | E19: 171 | I19: 65.6 | M19: 120.6 | Q19: 43.4
A20: 6 | E20: 238.5 | I20: 86 | M20: 134.1 | Q20: 47.6
A21: 7 | E21: 258 | I21: 121.2 | M21: 136.8 | Q21: 47.6
A22: 8 | E22: 287.4 | I22: 147.8 | M22: 140.7 | Q22: 51.2
A23: 9 | E23: 381.6 | I23: 148.6 | M23: 182.4 | Q23: 53.2
A24: 10 | E24: 438 | I24: 151.6 | M24: 225.6 | Q24: 54.4
A25: 11 | E25: 406.8 | I25: 142.6 | M25: 189.6 | Q25: 57.2
A26: 12 | E26: 409.2 | I26: 133.8 | M26: 197.7 | Q26: 56.8
... A38: 24 | E38: 228.6 | I38: 108.2 | M38: 137.4 | Q38: 48.2
A39: Итого | E39: =SUM(E15:E38) -> 7076.4 | I39: =SUM(I15:I38) -> 2997.8 | M39: =SUM(M15:M38) -> 3794.1 | Q39: =SUM(Q15:Q38) -> 1239.2
A40: 1. При наличии на предприятии отклонений от нормальных режимов электропотребления (временное изменение схем питания, остановка на ремонт, резкое снижение
A41: эл.потребления и т.д.) последние необходимо перечислить.
A42: Главный инженер АО "Вологдаоблэнерго" А.В. Чурляев
A43: составляется самим предприятием с соблюдением всех пунктов настоящей таблицы.

Sheet 50-1
B1: АО "Вологдаоблэнерго" | J1: код 900151 | N1: РТП "КОРНИЛОВО" 35/10 кВ
B2: наименование предприятия | N2: наименование источника питания
B3: уч-к "Устье-Кубенское" | N3: _________________________________
B4: ул. Горького, 99 | I4: Таблица № 1
B5: адрес
A6: почасовых записей показаний электрических счетчиков
A7: в режимный день 15 ИЮНЯ 2022 г.
A8: 389 | B8: 388
A9: часы суток | B9: Активная энергия | J9: Реактивная энергия
B10: ф.7 - КТП-21 | F10: ф.7 - КТП-16 | J10: ф.7 - КТП-21 | N10: ф.7 - КТП-16
B11: Расчет. Коэф. | E11: 30 | F11: Расчет. Коэф. | I11: 40 | J11: Расчет. Коэф. | M11: =E11 -> 30 | N11: Расчет. Коэф. | Q11: 40
B12: показания счетчика | C12: разность | E12: расход эл.энергии за час | F12: показания счетчика | G12: разность | I12: расход эл.энергии за час | J12: показания счетчика | K12: разность | M12: расход эл.энергии за час | N12: показания счетчика | O12: разность | Q12: расход эл.энергии за час
A13: 1 | B13: 2 | C13: 3 | E13: 4 | F13: 5 | G13: 6 | I13: 7 | J13: 8 | K13: 9 | M13: 10 | N13: 11 | O13: 12 | Q13: 13
A14: 0
A15: 1 | E15: 12.72 | I15: 4.48 | M15: 7.71 | Q15: 4.02
A16: 2 | E16: 10.125 | I16: 4.2 | M16: 7.665 | Q16: 3.94
A17: 3 | E17: 9.45 | I17: 4.32 | M17: 7.065 | Q17: 3.96
A18: 4 | E18: 9.48 | I18: 3.98 | M18: 7.035 | Q18: 3.86
A19: 5 | E19: 9.93 | I19: 3.9 | M19: 7.275 | Q19: 3.88
A20: 6 | E20: 10.905 | I20: 4.42 | M20: 7.545 | Q20: 3.64
A21: 7 | E21: 15.75 | I21: 5.18 | M21: 7.32 | Q21: 3.86
A22: 8 | E22: 21.705 | I22: 5.74 | M22: 7.95 | Q22: 3.96
A23: 9 | E23: 23.055 | I23: 5.82 | M23: 8.385 | Q23: 3.94
A24: 10 | E24: 23.61 | I24: 5.92 | M24: 9.915 | Q24: 3.88
A25: 11 | E25: 20.01 | I25: 5.3 | M25: 9.21 | Q25: 3.26
A26: 12 | E26: 18.99 | I26: 6.18 | M26: 8.805 | Q26: 3.9
... A38: 24 | E38: 16.575 | I38: 6.56 | M38: 7.485 | Q38: 3.78
A39: Итого | E39: =SUM(E15:E38) -> 449.46 | I39: =SUM(I15:I38) -> 145.34 | M39: =SUM(M15:M38) -> 199.83 | Q39: =SUM(Q15:Q38) -> 97.14
A40: 1. При наличии на предприятии отклонений от нормальных режимов электропотребления (временное изменение схем питания, остановка на ремонт, резкое снижение
A41: эл.потребления и т.д.) последние необходимо перечислить.
A42: Главный инженер АО "Вологдаоблэнерго" А.В. Чурляев
A43: составляется самим предприятием с соблюдением всех пунктов настоящей таблицы.

Sheet 50-2
B1: АО "Вологдаоблэнерго" | J1: код 900151 | N1: РТП "КОРНИЛОВО" 35/10 кВ
B2: наименование предприятия | N2: наименование источника питания
B3: уч-к "Устье-Кубенское" | N3: _________________________________
B4: ул. Горького, 99 | I4: Таблица № 1
B5: адрес
A6: почасовых записей показаний электрических счетчиков
A7: в режимный день 15 ИЮНЯ 2022 г.
A8: 390 | B8: 391
A9: часы суток | B9: Активная энергия | J9: Реактивная энергия
B10: ф.7 - КТП-4 | F10: ф.14 - ТП-24 | J10: ф.7 - КТП-4 | N10: ф.14 - ТП-24
B11: Расчет. Коэф. | E11: 60 | F11: Расчет. Коэф. | I11: 40 | J11: Расчет. Коэф. | M11: =E11 -> 60 | N11: Расчет. Коэф. | Q11: 40
B12: показания счетчика | C12: разность | E12: расход эл.энергии за час | F12: показания счетчика | G12: разность | I12: расход эл.энергии за час | J12: показания счетчика | K12: разность | M12: расход эл.энергии за час | N12: показания счетчика | O12: разность | Q12: расход эл.энергии за час
A13: 1 | B13: 2 | C13: 3 | E13: 4 | F13: 5 | G13: 6 | I13: 7 | J13: 8 | K13: 9 | M13: 10 | N13: 11 | O13: 12 | Q13: 13
A14: 0
A15: 1
A16: 2
A17: 3
A18: 4
A19: 5
A20: 6
A21: 7
A22: 8
A23: 9
A24: 10
A25: 11
... A38: 24
A39: Итого | E39: =SUM(E15:E38) -> 0 | I39: =SUM(I15:I38) -> 0 | M39: =SUM(M15:M38) -> 0 | Q39: =SUM(Q15:Q38) -> 0
A40: 1. При наличии на предприятии отклонений от нормальных режимов электропотребления (временное изменение схем питания, остановка на ремонт, резкое снижение
A41: эл.потребления и т.д.) последние необходимо перечислить.
A42: Главный инженер АО "Вологдаоблэнерго" А.В. Чурляев
A43: составляется самим предприятием с соблюдением всех пунктов настоящей таблицы.

Sheet 50-3
B1: АО "Вологдаоблэнерго" | J1: код 900151 | N1: РТП "КОРНИЛОВО" 35/10 кВ
B2: наименование предприятия | N2: наименование источника питания
B3: уч-к "Устье-Кубенское" | N3: _________________________________
B4: ул. Горького, 99 | I4: Таблица № 1
B5: адрес
A6: почасовых записей показаний электрических счетчиков
A7: в режимный день 15 ИЮНЯ 2022 г.
A8: 816 | B8: 907
A9: часы суток | B9: Активная энергия | J9: Реактивная энергия
B10: ф.1 - КТП-36 | F10: ф.7 - КТП25 | J10: ф.1 - КТП-36 | N10: ф.7 - ТП-25
B11: Расчет. Коэф. | E11: 60 | F11: Расчет. Коэф. | I11: 40 | J11: Расчет. Коэф. | M11: =E11 -> 60 | N11: Расчет. Коэф. | Q11: 40
B12: показания счетчика | C12: разность | E12: расход эл.энергии за час | F12: показания счетчика | G12: разность | I12: расход эл.энергии за час | J12: показания счетчика | K12: разность | M12: расход эл.энергии за час | N12: показания счетчика | O12: разность | Q12: расход эл.энергии за час
A13: 1 | B13: 2 | C13: 3 | E13: 4 | F13: 5 | G13: 6 | I13: 7 | J13: 8 | K13: 9 | M13: 10 | N13: 11 | O13: 12 | Q13: 13
A14: 0
A15: 1
A16: 2
A17: 3
A18: 4
A19: 5
A20: 6
A21: 7
A22: 8
A23: 9
A24: 10
A25: 11
... A38: 24
A39: Итого | E39: =SUM(E15:E38) -> 0 | I39: =SUM(I15:I38) -> 0 | M39: =SUM(M15:M38) -> 0 | Q39: =SUM(Q15:Q38) -> 0
A40: 1. При наличии на предприятии отклонений от нормальных режимов электропотребления (временное изменение схем питания, остановка на ремонт, резкое снижение
A41: эл.потребления и т.д.) последние необходимо перечислить.
A42: Главный инженер АО "Вологдаоблэнерго" А.В. Чурляев
A43: составляется самим предприятием с соблюдением всех пунктов настоящей таблицы.

Sheet 51
B1: АО "Вологдаоблэнерго" | J1: код 900151 | N1: ПС "ШУЙСКОЕ" 35/ 10 кВ
B2: наименование предприятия | N2: наименование источника питания
B3: уч-к "Шуйское" | N3: _________________________________
B4: ул. Горького, 99 | I4: Таблица № 1
B5: адрес
A6: почасовых записей показаний электрических счетчиков
A7: в режимный день 15 ИЮНЯ 2022 г.
A8: 1643
A9: часы суток | B9: Активная энергия | J9: Реактивная энергия
B10: яч.№ 16 - ф. "Биокомплекс" | J10: яч.№ 16 - ф. "Биокомплекс"
B11: Расчет. Коэф. | E11: 1000 | F11: Расчет. Коэф. | I11: 10 | J11: Расчет. Коэф. | M11: =E11 -> 1000 | N11: Расчет. Коэф. | Q11: 10
B12: показания счетчика | C12: разность | E12: расход эл.энергии за час | F12: показания счетчика | G12: разность | I12: расход эл.энергии за час | J12: показания счетчика | K12: разность | M12: расход эл.энергии за час | N12: показания счетчика | O12: разность | Q12: расход эл.энергии за час
A13: 1 | B13: 2 | C13: 3 | E13: 4 | F13: 5 | G13: 6 | I13: 7 | J13: 8 | K13: 9 | M13: 10 | N13: 11 | O13: 12 | Q13: 13
A14: 0
A15: 1 | E15: 1 | M15: 2
A16: 2 | E16: 1 | M16: 1
A17: 3 | E17: 1 | M17: 2
A18: 4 | E18: 1 | M18: 2
A19: 5 | E19: 0 | M19: 2
A20: 6 | E20: 1 | M20: 2
A21: 7 | E21: 1 | M21: 2
A22: 8 | E22: 1 | M22: 2
A23: 9 | E23: 0 | M23: 2
A24: 10 | E24: 1 | M24: 2
A25: 11 | E25: 1 | M25: 2
A26: 12 | E26: 1 | M26: 2
... A38: 24 | E38: 1 | M38: 2
A39: Итого | E39: =SUM(E15:E38) -> 22 | I39: =SUM(I15:I38) -> 0 | M39: =SUM(M15:M38) -> 49
A40: 1. При наличии на предприятии отклонений от нормальных режимов электропотребления (временное изменение схем питания, остановка на ремонт, резкое снижение
A41: эл.потребления и т.д.) последние необходимо перечислить.
A42: Главный инженер АО "Вологдаоблэнерго" А.В. Чурляев
A43: составляется самим предприятием с соблюдением всех пунктов настоящей таблицы.

Sheet 52
B1: АО "Вологдаоблэнерго" | J1: код 900151 | N1: ПС "ШУЙСКОЕ" 35/ 10 кВ
B2: наименование предприятия | N2: наименование источника питания
B3: уч-к "Шуйское" | N3: _________________________________
B4: ул. Горького, 99 | I4: Таблица № 1
B5: адрес
A6: почасовых записей показаний электрических счетчиков
A7: в режимный день 15 ИЮНЯ 2022 г.
A8: 1641 | B8: 1642
A9: часы суток | B9: Активная энергия | J9: Реактивная энергия
B10: яч. №7 - ф."Райцентр" | F10: яч. 14 - ф. "Школа" | J10: яч. №7 - ф."Райцентр" | N10: =F10 -> яч. 14 - ф. "Школа"
B11: Расчет. Коэф. | E11: 1500 | F11: Расчет. Коэф. | I11: 2000 | J11: Расчет. Коэф. | M11: =E11 -> 1500 | N11: Расчет. Коэф. | Q11: 2000
B12: показания счетчика | C12: разность | E12: расход эл.энергии за час | F12: показания счетчика | G12: разность | I12: расход эл.энергии за час | J12: показания счетчика | K12: разность | M12: расход эл.энергии за час | N12: показания счетчика | O12: разность | Q12: расход эл.энергии за час
A13: 1 | B13: 2 | C13: 3 | E13: 4 | F13: 5 | G13: 6 | I13: 7 | J13: 8 | K13: 9 | M13: 10 | N13: 11 | O13: 12 | Q13: 13
A14: 0
A15: 1 | E15: 103 | I15: 175 | M15: 55 | Q15: 79
A16: 2 | E16: 92 | I16: 152 | M16: 51 | Q16: 74
A17: 3 | E17: 82 | I17: 130 | M17: 49 | Q17: 66
A18: 4 | E18: 79 | I18: 126 | M18: 44 | Q18: 61
A19: 5 | E19: 82 | I19: 139 | M19: 46 | Q19: 63
A20: 6 | E20: 91 | I20: 152 | M20: 48 | Q20: 64
A21: 7 | E21: 124 | I21: 209 | M21: 51 | Q21: 67
A22: 8 | E22: 148 | I22: 274 | M22: 51 | Q22: 71
A23: 9 | E23: 157 | I23: 302 | M23: 50 | Q23: 68
A24: 10 | E24: 172 | I24: 289 | M24: 65 | Q24: 76
A25: 11 | E25: 178 | I25: 286 | M25: 79 | Q25: 80
A26: 12 | E26: 163 | I26: 286 | M26: 60 | Q26: 89
... A38: 24 | E38: 125 | I38: 203 | M38: 49 | Q38: 74
A39: Итого | E39: =SUM(E15:E38) -> 3402 | I39: =SUM(I15:I38) -> 5545 | M39: =SUM(M15:M38) -> 1452 | Q39: =SUM(Q15:Q38) -> 1821
A40: 1. При наличии на предприятии отклонений от нормальных режимов электропотребления (временное изменение схем питания, остановка на ремонт, резкое снижение
A41: эл.потребления и т.д.) последние необходимо перечислить.
A42: Главный инженер АО "Вологдаоблэнерго" А.В. Чурляев
A43: составляется самим предприятием с соблюдением всех пунктов настоящей таблицы.

Sheet 54
B1: АО "Вологдаоблэнерго" | J1: код 900151 | N1: ПС "ГДЗ" 110/6 кВ
B2: наименование предприятия | N2: наименование источника питания
B3: уч -к г. Сокол | N3: _________________________________
B4: ул. Горького, 99 | I4: Таблица № 1 | O4: РТП 6
B5: адрес
A6: почасовых записей показаний электрических счетчиков
A7: в режимный день 15 ИЮНЯ 2022 г.
A8: 358 | B8: 360
A9: часы суток | B9: Активная энергия | J9: Реактивная энергия
B10: яч. 7 - ГДЗ-1 -РТП 6 | F10: яч. 18 - ГДЗ-2 - РТП 6 | J10: яч. 7 - ГДЗ-1 -РТП 6 | N10: яч. 18 - ГДЗ-2 - РТП 6
B11: Расчет. Коэф. | E11: 4800 | F11: Расчет. Коэф. | I11: 4800 | J11: Расчет. Коэф. | M11: 4800 | N11: Расчет. Коэф. | Q11: =I11 -> 4800
B12: показания счетчика | C12: разность | E12: расход эл.энергии за час | F12: показания счетчика | G12: разность | I12: расход эл.энергии за час | J12: показания счетчика | K12: разность | M12: расход эл.энергии за час | N12: показания счетчика | O12: разность | Q12: расход эл.энергии за час
A13: 1 | B13: 2 | C13: 3 | E13: 4 | F13: 5 | G13: 6 | I13: 7 | J13: 8 | K13: 9 | M13: 10 | N13: 11 | O13: 12 | Q13: 13
A14: 0
A15: 1 | E15: 321.12 | I15: 241.44 | M15: 219.84 | Q15: 66.72
A16: 2 | E16: 307.2 | I16: 214.08 | M16: 237.12 | Q16: 62.88
A17: 3 | E17: 282.72 | I17: 167.52 | M17: 209.76 | Q17: 52.32
A18: 4 | E18: 282.72 | I18: 156.96 | M18: 197.76 | Q18: 49.92
A19: 5 | E19: 255.84 | I19: 153.6 | M19: 183.84 | Q19: 49.92
A20: 6 | E20: 358.08 | I20: 167.52 | M20: 205.44 | Q20: 54.72
A21: 7 | E21: 456.48 | I21: 219.84 | M21: 216.48 | Q21: 60.48
A22: 8 | E22: 470.4 | I22: 253.44 | M22: 236.16 | Q22: 67.68
A23: 9 | E23: 681.12 | I23: 299.52 | M23: 405.12 | Q23: 77.28
A24: 10 | E24: 692.64 | I24: 349.92 | M24: 444.96 | Q24: 89.76
A25: 11 | E25: 616.8 | I25: 390.24 | M25: 416.16 | Q25: 101.76
A26: 12 | E26: 635.04 | I26: 387.36 | M26: 395.52 | Q26: 107.04
... A38: 24 | E38: 351.84 | I38: 296.16 | M38: 218.4 | Q38: 66.72
A39: Итого | E39: =SUM(E15:E38) -> 11616.48 | I39: =SUM(I15:I38) -> 7328.16 | M39: =SUM(M15:M38) -> 7180.32 | Q39: =SUM(Q15:Q38) -> 1906.56
A40: 1. При наличии на предприятии отклонений от нормальных режимов электропотребления (временное изменение схем питания, остановка на ремонт, резкое снижение
A41: эл.потребления и т.д.) последние необходимо перечислить.
A42: Главный инженер АО "Вологдаоблэнерго" А.В. Чурляев
A43: составляется самим предприятием с соблюдением всех пунктов настоящей таблицы.

Sheet 55
B1: АО "Вологдаоблэнерго" | J1: код 900151 | N1: ПС "ГДЗ" 110/6 кВ
B2: наименование предприятия | N2: наименование источника питания
B3: уч -к г. Сокол | N3: _________________________________
B4: ул. Горького, 99 | I4: Таблица № 1 | O4: ЛПК-1
B5: адрес
A6: почасовых записей показаний электрических счетчиков
A7: в режимный день 15 ИЮНЯ 2022 г.
A8: 359
A9: часы суток | B9: Активная энергия | J9: Реактивная энергия
B10: яч. 15 - ГДЗ - ЛПК-1 | J10: яч. 15 - ГДЗ - ЛПК-1
B11: Расчет. Коэф. | E11: 7200 | F11: Расчет. Коэф. | J11: Расчет. Коэф. | M11: =E11 -> 7200 | N11: Расчет. Коэф.
B12: показания счетчика | C12: разность | E12: расход эл.энергии за час | F12: показания счетчика | G12: разность | I12: расход эл.энергии за час | J12: показания счетчика | K12: разность | M12: расход эл.энергии за час | N12: показания счетчика | O12: разность | Q12: расход эл.энергии за час
A13: 1 | B13: 2 | C13: 3 | E13: 4 | F13: 5 | G13: 6 | I13: 7 | J13: 8 | K13: 9 | M13: 10 | N13: 11 | O13: 12 | Q13: 13
A14: 0
A15: 1 | E15: 249.12 | M15: 112.32
A16: 2 | E16: 233.28 | M16: 118.8
A17: 3 | E17: 193.68 | M17: 104.4
A18: 4 | E18: 188.64 | M18: 102.24
A19: 5 | E19: 199.44 | M19: 106.56
A20: 6 | E20: 218.88 | M20: 99.36
A21: 7 | E21: 264.24 | M21: 105.12
A22: 8 | E22: 291.6 | M22: 103.68
A23: 9 | E23: 398.16 | M23: 153.36
A24: 10 | E24: 450.72 | M24: 187.2
A25: 11 | E25: 467.28 | M25: 185.04
A26: 12 | E26: 482.4 | M26: 203.76
... A38: 24 | E38: 279.36 | M38: 113.04
A39: Итого | E39: =SUM(E15:E38) -> 8249.04 | M39: =SUM(M15:M38) -> 3255.84
A40: 1. При наличии на предприятии отклонений от нормальных режимов электропотребления (временное изменение схем питания, остановка на ремонт, резкое снижение
A41: эл.потребления и т.д.) последние необходимо перечислить.
A42: Главный инженер АО "Вологдаоблэнерго" А.В. Чурляев
A43: составляется самим предприятием с соблюдением всех пунктов настоящей таблицы.

Sheet 55-1
B1: АО "Вологдаоблэнерго" | J1: код 900151 | N1: ПС 110/10/10кВ ИП Сокол
B2: наименование предприятия | N2: наименование источника питания
B3: уч -к г. Сокол | N3: _________________________________
B4: ул. Горького, 99 | I4: Таблица № 1
B5: адрес
A6: почасовых записей показаний электрических счетчиков
A7: в режимный день 15 ИЮНЯ 2022 г.
A8: 359
A9: часы суток | B9: Активная энергия | J9: Реактивная энергия
B10: Ввод 1 Очистные 1 | F10: Ввод 2 Очистные 2 | J10: Ввод 1 Очистные 1 | N10: Ввод 2 Очистные 2
B11: Расчет. Коэф. | E11: 66000 | F11: Расчет. Коэф. | I11: 66000 | J11: Расчет. Коэф. | M11: 66000 | N11: Расчет. Коэф. | Q11: 66000
B12: показания счетчика | C12: разность | E12: расход эл.энергии за час | F12: показания счетчика | G12: разность | I12: расход эл.энергии за час | J12: показания счетчика | K12: разность | M12: расход эл.энергии за час | N12: показания счетчика | O12: разность | Q12: расход эл.энергии за час
A13: 1 | B13: 2 | C13: 3 | E13: 4 | F13: 5 | G13: 6 | I13: 7 | J13: 8 | K13: 9 | M13: 10 | N13: 11 | O13: 12 | Q13: 13
A14: 0
A15: 1 | E15: 0 | I15: 643.6714 | M15: 0
A16: 2 | E16: 0 | I16: 793.0434 | M16: 0
A17: 3 | E17: 0 | I17: 841.2082 | M17: 0
A18: 4 | E18: 0 | I18: 814.2298 | M18: 0
A19: 5 | E19: 0 | I19: 612.1204 | M19: 0
A20: 6 | E20: 0 | I20: 826.0424 | M20: 0
A21: 7 | E21: 0 | I21: 875.1217 | M21: 0
A22: 8 | E22: 0 | I22: 570.0522 | M22: 0
A23: 9 | E23: 0 | I23: 428.911 | M23: 0
A24: 10 | E24: 0 | I24: 784.3554 | M24: 0
A25: 11 | E25: 0 | I25: 1275.454 | M25: 0
A26: 12 | E26: 0 | I26: 1045.5278 | M26: 0
... A38: 24 | E38: 0 | I38: 844.1805 | M38: 0
A39: Итого | E39: =SUM(E15:E38) -> 0 | I39: =SUM(I15:I38) -> 21603.382 | M39: =SUM(M15:M38) -> 0 | Q39: =SUM(Q15:Q38) -> 0
A40: 1. При наличии на предприятии отклонений от нормальных режимов электропотребления (временное изменение схем питания, остановка на ремонт, резкое снижение
A41: эл.потребления и т.д.) последние необходимо перечислить.
A42: Главный инженер АО "Вологдаоблэнерго" А.В. Чурляев
A43: составляется самим предприятием с соблюдением всех пунктов настоящей таблицы.

Sheet 56
B1: АО "Вологдаоблэнерго" | J1: код 900151 | M1: ОАО "Сокольский" ЦБК" ГПП 35/6 кВ
B2: наименование предприятия | M2: наименование источника питания
B3: уч -к г. Сокол | N3: _________________________________
B4: ул. Горького, 99 | I4: Таблица № 1 | O4: РП 5
B5: адрес
A6: почасовых записей показаний электрических счетчиков
A7: в режимный день 15 ИЮНЯ 2022 г.
A8: 400 | B8: 397
A9: часы суток | B9: Активная энергия | J9: Реактивная энергия
B10: яч.4 - РП 5 яч.1 | F10: яч. 6 - ТП-40 | J10: яч.4 - РП 5 яч.1 | N10: яч. 6 - ТП-40
B11: Расчет. Коэф. | E11: 2400 | F11: Расчет. Коэф. | I11: 7200 | J11: Расчет. Коэф. | M11: =E11 -> 2400 | N11: Расчет. Коэф. | Q11: =I11 -> 7200
B12: показания счетчика | C12: разность | E12: расход эл.энергии за час | F12: показания счетчика | G12: разность | I12: расход эл.энергии за час | J12: показания счетчика | K12: разность | M12: расход эл.энергии за час | N12: показания счетчика | O12: разность | Q12: расход эл.энергии за час
A13: 1 | B13: 2 | C13: 3 | E13: 4 | F13: 5 | G13: 6 | I13: 7 | J13: 8 | K13: 9 | M13: 10 | N13: 11 | O13: 12 | Q13: 13
A14: 0
A15: 1 | E15: 101.04 | I15: 385.2 | M15: 34.8 | Q15: 138.24
A16: 2 | E16: 95.52 | I16: 338.4 | M16: 32.4 | Q16: 136.08
A17: 3 | E17: 87.84 | I17: 294.48 | M17: 34.08 | Q17: 130.32
A18: 4 | E18: 85.68 | I18: 288.72 | M18: 31.2 | Q18: 128.88
A19: 5 | E19: 85.2 | I19: 316.8 | M19: 33.12 | Q19: 129.6
A20: 6 | E20: 87.36 | I20: 360.72 | M20: 34.8 | Q20: 135.36
A21: 7 | E21: 137.04 | I21: 449.28 | M21: 36.24 | Q21: 141.84
A22: 8 | E22: 140.64 | I22: 507.6 | M22: 36.48 | Q22: 154.8
A23: 9 | E23: 184.32 | I23: 682.56 | M23: 44.16 | Q23: 275.04
A24: 10 | E24: 198.24 | I24: 739.44 | M24: 42.24 | Q24: 325.44
A25: 11 | E25: 192.24 | I25: 705.6 | M25: 46.56 | Q25: 306.72
A26: 12 | E26: 185.28 | I26: 693.36 | M26: 37.44 | Q26: 329.76
... A38: 24 | E38: 111.84 | I38: 421.2 | M38: 27.84 | Q38: 134.64
A39: Итого | E39: =SUM(E15:E38) -> 3401.76 | I39: =SUM(I15:I38) -> 12824.64 | M39: =SUM(M15:M38) -> 886.08 | Q39: =SUM(Q15:Q38) -> 4887.36
A40: 1. При наличии на предприятии отклонений от нормальных режимов электропотребления (временное изменение схем питания, остановка на ремонт, резкое снижение
A41: эл.потребления и т.д.) последние необходимо перечислить.
A42: Главный инженер АО "Вологдаоблэнерго" А.В. Чурляев
A43: составляется самим предприятием с соблюдением всех пунктов настоящей таблицы.

Sheet 57
B1: АО "Вологдаоблэнерго" | J1: код 900151 | M1: ОАО "Сокольский" ЦБК" ГПП 35/6 кВ
B2: наименование предприятия | M2: наименование источника питания
B3: уч -к г. Сокол | N3: _________________________________
B4: ул. Горького, 99 | I4: Таблица № 1
B5: адрес
A6: почасовых записей показаний электрических счетчиков
A7: в режимный день 15 ИЮНЯ 2022 г.
A8: 398 | B8: 399
A9: часы суток | B9: Активная энергия | J9: Реактивная энергия
B10: яч.2 - РТП 2 яч. 15 | F10: яч. 3 - РТП 2 яч. 2 | J10: яч.2 - РТП 2 яч. 15 | N10: яч. 3 - РТП 2 яч. 2
B11: Расчет. Коэф. | E11: 7200 | F11: Расчет. Коэф. | I11: =Q11 -> 7200 | J11: Расчет. Коэф. | M11: =E11 -> 7200 | N11: Расчет. Коэф. | Q11: 7200
B12: показания счетчика | C12: разность | E12: расход эл.энергии за час | F12: показания счетчика | G12: разность | I12: расход эл.энергии за час | J12: показания счетчика | K12: разность | M12: расход эл.энергии за час | N12: показания счетчика | O12: разность | Q12: расход эл.энергии за час
B13: 2 | C13: 3 | E13: 4 | F13: 5 | G13: 6 | I13: 7 | J13: 8 | K13: 9 | M13: 10 | N13: 11 | O13: 12 | Q13: 13
A14: 0
A15: 1 | E15: 596.16 | I15: 470.88 | M15: 240.48 | Q15: 138.24
A16: 2 | E16: 559.44 | I16: 448.56 | M16: 233.28 | Q16: 131.76
A17: 3 | E17: 516.24 | I17: 413.28 | M17: 228.24 | Q17: 129.6
A18: 4 | E18: 501.12 | I18: 412.56 | M18: 217.44 | Q18: 127.44
A19: 5 | E19: 498.24 | I19: 403.92 | M19: 218.16 | Q19: 127.44
A20: 6 | E20: 505.44 | I20: 416.88 | M20: 223.92 | Q20: 135.36
A21: 7 | E21: 590.4 | I21: 468.72 | M21: 232.56 | Q21: 138.24
A22: 8 | E22: 680.4 | I22: 547.92 | M22: 254.88 | Q22: 141.12
A23: 9 | E23: 761.04 | I23: 685.44 | M23: 257.04 | Q23: 141.12
A24: 10 | E24: 814.32 | I24: 792 | M24: 282.96 | Q24: 172.8
A25: 11 | E25: 842.4 | I25: 837.36 | M25: 291.6 | Q25: 182.88
A26: 12 | E26: 847.44 | I26: 815.76 | M26: 297.36 | Q26: 186.48
... A38: 24 | E38: 655.2 | I38: 516.24 | M38: 228.24 | Q38: 129.6
A39: Итого | E39: =SUM(E15:E38) -> 17499.6 | I39: =SUM(I15:I38) -> 14930.64 | M39: =SUM(M15:M38) -> 6253.2 | Q39: =SUM(Q15:Q38) -> 3744.72
A40: 1. При наличии на предприятии отклонений от нормальных режимов электропотребления (временное изменение схем питания, остановка на ремонт, резкое снижение
A41: эл.потребления и т.д.) последние необходимо перечислить.
A42: Главный инженер АО "Вологдаоблэнерго" А.В. Чурляев
A43: составляется самим предприятием с соблюдением всех пунктов настоящей таблицы.

Sheet 58
B1: АО "Вологдаоблэнерго" | J1: код 900151 | M1: ПС "Сокол" 220/110/35/10 кВ
B2: наименование предприятия | M2: наименование источника питания
B3: уч -к г. Сокол | O3: КТП-90, КТП-91
B4: ул. Горького, 99 | I4: Таблица № 1
B5: адрес
A6: почасовых записей показаний электрических счетчиков
A7: в режимный день 15 ИЮНЯ 2022 г.
A8: 396 | B8: 395
A9: часы суток | B9: Активная энергия | J9: Реактивная энергия
B10: ф. 4 (Обросово) - КТП-90 (дачн. общ.) | F10: ф. 4 (Обросово) - КТП-91 (д. Бережок) | J10: =B10 -> ф. 4 (Обросово) - КТП-90 (дачн. общ.) | N10: =F10 -> ф. 4 (Обросово) - КТП-91 (д. Бережок)
B11: Расчет. Коэф. | E11: 1800 | F11: Расчет. Коэф. | I11: =Q11 -> 900 | J11: Расчет. Коэф. | M11: =E11 -> 1800 | N11: Расчет. Коэф. | Q11: 900
B12: показания счетчика | C12: разность | E12: расход эл.энергии за час | F12: показания счетчика | G12: разность | I12: расход эл.энергии за час | J12: показания счетчика | K12: разность | M12: расход эл.энергии за час | N12: показания счетчика | O12: разность | Q12: расход эл.энергии за час
A13: 1 | B13: 2 | C13: 3 | E13: 4 | F13: 5 | G13: 6 | I13: 7 | J13: 8 | K13: 9 | M13: 10 | N13: 11 | O13: 12 | Q13: 13
A14: 0
A15: 1 | E15: 3.32 | I15: 4.11 | M15: 1.96 | Q15: 3.19
A16: 2 | E16: 2.84 | I16: 3.6 | M16: 1.6 | Q16: 2.83
A17: 3 | E17: 2.7 | I17: 2.02 | M17: 1.6 | Q17: 1.42
A18: 4 | E18: 2.5 | I18: 1.96 | M18: 1.54 | Q18: 1.56
A19: 5 | E19: 2.62 | I19: 1.89 | M19: 1.54 | Q19: 1.25
A20: 6 | E20: 3.16 | I20: 2.12 | M20: 1.56 | Q20: 1.56
A21: 7 | E21: 3.22 | I21: 3.94 | M21: 1.54 | Q21: 1.57
A22: 8 | E22: 5.9 | I22: 3.17 | M22: 1.66 | Q22: 1.84
A23: 9 | E23: 6.1 | I23: 4.47 | M23: 1.46 | Q23: 1.77
A24: 10 | E24: 5.16 | I24: 4 | M24: 1.64 | Q24: 1.93
A25: 11 | E25: 10.18 | I25: 4.03 | M25: 6.02 | Q25: 1.98
A26: 12 | E26: 14.82 | I26: 4.06 | M26: 9.68 | Q26: 2.26
... A38: 24 | E38: 5.52 | I38: 5.63 | M38: 1.46 | Q38: 3.38
A39: Итого | E39: =SUM(E15:E38) -> 156.18 | I39: =SUM(I15:I38) -> 105.77 | M39: =SUM(M15:M38) -> 67.38 | Q39: =SUM(Q15:Q38) -> 50.08
A40: 1. При наличии на предприятии отклонений от нормальных режимов электропотребления (временное изменение схем питания, остановка на ремонт, резкое снижение
A41: эл.потребления и т.д.) последние необходимо перечислить.
A42: Главный инженер АО "Вологдаоблэнерго" А.В. Чурляев
A43: составляется самим предприятием с соблюдением всех пунктов настоящей таблицы.

Sheet 59
B1: АО "Вологдаоблэнерго" | J1: код 900151 | K1: ООО "Сокольский ЦБК" ГПП 110/6 кВ
B2: наименование предприятия | N2: наименование источника питания
B3: уч -к г. Сокол | N3: _________________________________
B4: ул. Горького, 99 | I4: Таблица № 1 | N4: ТП 77
B5: адрес
A6: почасовых записей показаний электрических счетчиков
A7: в режимный день 15 ИЮНЯ 2022 г.
A8: 487
A9: часы суток | B9: Активная энергия | J9: Реактивная энергия
B10: яч. 14 - ТП-77 (Михайлево) | J10: яч. 14 - ТП-77 (Михайлево)
B11: Расчет. Коэф. | E11: 2400 | F11: Расчет. Коэф. | I11: 0 | J11: Расчет. Коэф. | M11: 2400 | N11: Расчет. Коэф. | Q11: 0
B12: показания счетчика | C12: разность | E12: расход эл.энергии за час | F12: показания счетчика | G12: разность | I12: расход эл.энергии за час | J12: показания счетчика | K12: разность | M12: расход эл.энергии за час | N12: показания счетчика | O12: разность | Q12: расход эл.энергии за час
A13: 1 | B13: 2 | C13: 3 | E13: 4 | F13: 5 | G13: 6 | I13: 7 | J13: 8 | K13: 9 | M13: 10 | N13: 11 | O13: 12 | Q13: 13
A14: 0
A15: 1 | E15: 3.06 | M15: 2.52
A16: 2 | E16: 3.12 | M16: 2.34
A17: 3 | E17: 2.94 | M17: 1.98
A18: 4 | E18: 2.76 | M18: 1.68
A19: 5 | E19: 2.88 | M19: 1.8
A20: 6 | E20: 3.54 | M20: 2.58
A21: 7 | E21: 3.96 | M21: 2.7
A22: 8 | E22: 3.72 | M22: 2.52
A23: 9 | E23: 3.66 | M23: 1.92
A24: 10 | E24: 4.8 | M24: 3.06
A25: 11 | E25: 4.08 | M25: 3.84
A26: 12 | E26: 3.9 | M26: 4.56
... A38: 24 | E38: 3.24 | M38: 2.28
A39: Итого | E39: =SUM(E15:E38) -> 95.88 | M39: =SUM(M15:M38) -> 76.02
A40: 1. При наличии на предприятии отклонений от нормальных режимов электропотребления (временное изменение схем питания, остановка на ремонт, резкое снижение
A41: эл.потребления и т.д.) последние необходимо перечислить.
A42: Главный инженер АО "Вологдаоблэнерго" А.В. Чурляев
A43: составляется самим предприятием с соблюдением всех пунктов настоящей таблицы.

Sheet 60
B1: АО "Вологдаоблэнерго" | J1: код 900151 | K1: ООО "Сухонский КБК" ГПП 110/6 кВ
B2: наименование предприятия | N2: наименование источника питания
B3: уч -к г. Сокол | N3: _________________________________
B4: ул. Горького, 99 | I4: Таблица № 1 | O4: РУ-1
B5: адрес
A6: почасовых записей показаний электрических счетчиков
A7: в режимный день 15 ИЮНЯ 2022 г.
A8: 1198 | B8: 1199
A9: часы суток | B9: Активная энергия | J9: Реактивная энергия
B10: РУ-1 яч 1 - ТП 3 | F10: РУ-1 яч 14 - ЛЭП 3 | J10: РУ-1 яч 1 - ТП 3 | N10: РУ-1 яч 14 - ЛЭП 3
B11: Расчет. Коэф. | E11: 4800 | F11: Расчет. Коэф. | I11: 2400 | J11: Расчет. Коэф. | M11: 4800 | N11: Расчет. Коэф. | Q11: 2400
B12: показания счетчика | C12: разность | E12: расход эл.энергии за час | F12: показания счетчика | G12: разность | I12: расход эл.энергии за час | J12: показания счетчика | K12: разность | M12: расход эл.энергии за час | N12: показания счетчика | O12: разность | Q12: расход эл.энергии за час
A13: 1 | B13: 2 | C13: 3 | E13: 4 | F13: 5 | G13: 6 | I13: 7 | J13: 8 | K13: 9 | M13: 10 | N13: 11 | O13: 12 | Q13: 13
A14: 0
A15: 1 | E15: 340.32 | I15: 331.68 | M15: 211.2 | Q15: 343.2
A16: 2 | E16: 302.4 | I16: 330.72 | M16: 197.76 | Q16: 347.76
A17: 3 | E17: 248.16 | I17: 279.12 | M17: 166.08 | Q17: 305.52
A18: 4 | E18: 233.76 | I18: 263.28 | M18: 164.16 | Q18: 277.92
A19: 5 | E19: 228.48 | I19: 257.76 | M19: 163.68 | Q19: 281.52
A20: 6 | E20: 280.8 | I20: 263.76 | M20: 167.04 | Q20: 268.8
A21: 7 | E21: 336 | I21: 333.12 | M21: 165.6 | Q21: 282.48
A22: 8 | E22: 427.2 | I22: 408 | M22: 186.72 | Q22: 329.52
A23: 9 | E23: 554.88 | I23: 1292.16 | M23: 296.64 | Q23: 1038
A24: 10 | E24: 591.36 | I24: 1322.64 | M24: 311.52 | Q24: 1100.4
A25: 11 | E25: 585.12 | I25: 1200.96 | M25: 323.04 | Q25: 1002.24
A26: 12 | E26: 582.72 | I26: 1432.08 | M26: 329.76 | Q26: 1155.6
... A38: 24 | E38: 403.2 | I38: 540.96 | M38: 225.6 | Q38: 503.76
A39: Итого | E39: =SUM(E15:E38) -> 10789.92 | I39: =SUM(I15:I38) -> 18427.68 | M39: =SUM(M15:M38) -> 5926.08 | Q39: =SUM(Q15:Q38) -> 15717.36
A40: 1. При наличии на предприятии отклонений от нормальных режимов электропотребления (временное изменение схем питания, остановка на ремонт, резкое снижение
A41: эл.потребления и т.д.) последние необходимо перечислить.
A42: Главный инженер АО "Вологдаоблэнерго" А.В. Чурляев
A43: составляется самим предприятием с соблюдением всех пунктов настоящей таблицы.

Sheet 61
B1: АО "Вологдаоблэнерго" | J1: код 900151 | K1: ООО "Сухонский КБК" ГПП 110/6 кВ
B2: наименование предприятия | N2: наименование источника питания
B3: уч -к г. Сокол | N3: _________________________________
B4: ул. Горького, 99 | I4: Таблица № 1
B5: адрес
A6: почасовых записей показаний электрических счетчиков
A7: в режимный день 15 ИЮНЯ 2022 г.
A8: 1200 | B8: 1197
A9: часы суток | B9: Активная энергия | J9: Реактивная энергия
B10: РУ-3 яч 4 - ТП 7 | J10: РУ-3 яч 4 - ТП 7
B11: Расчет. Коэф. | E11: 2400 | F11: Расчет. Коэф. | J11: Расчет. Коэф. | M11: 2400 | N11: Расчет. Коэф.
B12: показания счетчика | C12: разность | E12: расход эл.энергии за час | F12: показания счетчика | G12: разность | I12: расход эл.энергии за час | J12: показания счетчика | K12: разность | M12: расход эл.энергии за час | N12: показания счетчика | O12: разность | Q12: расход эл.энергии за час
A13: 1 | B13: 2 | C13: 3 | E13: 4 | F13: 5 | G13: 6 | I13: 7 | J13: 8 | K13: 9 | M13: 10 | N13: 11 | O13: 12 | Q13: 13
A14: 0
A15: 1 | E15: 312.72 | M15: 148.32
A16: 2 | E16: 254.16 | M16: 108.72
A17: 3 | E17: 233.28 | M17: 111.36
A18: 4 | E18: 209.28 | M18: 87.84
A19: 5 | E19: 240.96 | M19: 113.04
A20: 6 | E20: 238.32 | M20: 97.92
A21: 7 | E21: 302.88 | M21: 100.32
A22: 8 | E22: 340.08 | M22: 124.8
A23: 9 | E23: 410.88 | M23: 174.24
A24: 10 | E24: 439.44 | M24: 184.8
A25: 11 | E25: 447.36 | M25: 191.76
A26: 12 | E26: 428.16 | M26: 184.8
... A38: 24 | E38: 289.44 | M38: 93.6
A39: Итого | E39: =SUM(E15:E38) -> 8340.24 | I39: =SUM(I15:I38) -> 0 | M39: =SUM(M15:M38) -> 3508.56 | Q39: =SUM(Q15:Q38) -> 0
A40: 1. При наличии на предприятии отклонений от нормальных режимов электропотребления (временное изменение схем питания, остановка на ремонт, резкое снижение
A41: эл.потребления и т.д.) последние необходимо перечислить.
A42: Главный инженер АО "Вологдаоблэнерго" А.В. Чурляев
A43: составляется самим предприятием с соблюдением всех пунктов настоящей таблицы.

Sheet 62
B1: АО "Вологдаоблэнерго" | J1: код 900151 | K1: ООО "Сухонский КБК" ГПП 110/6 кВ
B2: наименование предприятия | N2: наименование источника питания
B3: уч -к г. Сокол | N3: _________________________________
B4: ул. Горького, 99 | I4: Таблица № 1 | O4: РП-10
B5: адрес
A6: почасовых записей показаний электрических счетчиков
A7: в режимный день 15 ИЮНЯ 2022 г.
A8: 1196
A9: часы суток | B9: Активная энергия | J9: Реактивная энергия
B10: ЗРУ яч. 2 - РП-10 яч.2 | F10: ЗРУ яч. 59 - РП-10 яч.15 | J10: ЗРУ яч. 2 - РП-10 яч.2 | N10: ЗРУ яч. 59 - РП-10 яч.15
B11: Расчет. Коэф. | E11: 2400 | F11: Расчет. Коэф. | I11: 3600 | J11: Расчет. Коэф. | M11: 2400 | N11: Расчет. Коэф. | Q11: 3600
B12: показания счетчика | C12: разность | E12: расход эл.энергии за час | F12: показания счетчика | G12: разность | I12: расход эл.энергии за час | J12: показания счетчика | K12: разность | M12: расход эл.энергии за час | N12: показания счетчика | O12: разность | Q12: расход эл.энергии за час
A13: 1 | B13: 2 | C13: 3 | E13: 4 | F13: 5 | G13: 6 | I13: 7 | J13: 8 | K13: 9 | M13: 10 | N13: 11 | O13: 12 | Q13: 13
A14: 0
A15: 1 | E15: 241.2 | I15: 176.76 | M15: 142.56 | Q15: 92.88
A16: 2 | E16: 212.04 | I16: 158.04 | M16: 138.24 | Q16: 88.56
A17: 3 | E17: 173.88 | I17: 125.28 | M17: 120.6 | Q17: 72
A18: 4 | E18: 146.16 | I18: 115.92 | M18: 89.28 | Q18: 67.32
A19: 5 | E19: 147.24 | I19: 120.6 | M19: 87.12 | Q19: 68.4
A20: 6 | E20: 151.56 | I20: 128.52 | M20: 90 | Q20: 69.84
A21: 7 | E21: 193.32 | I21: 167.04 | M21: 92.16 | Q21: 73.08
A22: 8 | E22: 234.72 | I22: 176.04 | M22: 101.52 | Q22: 81.72
A23: 9 | E23: 675 | I23: 260.28 | M23: 472.68 | Q23: 187.56
A24: 10 | E24: 736.56 | I24: 285.12 | M24: 541.44 | Q24: 191.88
A25: 11 | E25: 706.68 | I25: 250.92 | M25: 490.32 | Q25: 145.8
A26: 12 | E26: 752.04 | I26: 292.32 | M26: 555.84 | Q26: 220.68
... A38: 24 | E38: 343.44 | I38: 189 | M38: 182.88 | Q38: 77.76
A39: Итого | E39: =SUM(E15:E38) -> 10893.96 | I39: =SUM(I15:I38) -> 5167.08 | M39: =SUM(M15:M38) -> 6964.92 | Q39: =SUM(Q15:Q38) -> 2819.16
A40: 1. При наличии на предприятии отклонений от нормальных режимов электропотребления (временное изменение схем питания, остановка на ремонт, резкое снижение
A41: эл.потребления и т.д.) последние необходимо перечислить.
A42: Главный инженер АО "Вологдаоблэнерго" А.В. Чурляев
A43: составляется самим предприятием с соблюдением всех пунктов настоящей таблицы.

Sheet 63
B1: АО "Вологдаоблэнерго" | J1: код 900151 | K1: ООО "Сухонский ЦБК" ГПП 110/6 кВ
B2: наименование предприятия | N2: наименование источника питания
B3: уч -к г. Сокол | N3: РУ - 6 кВ "Механического завода"
B4: ул. Горького, 99 | I4: Таблица № 1
B5: адрес
A6: почасовых записей показаний электрических счетчиков
A7: в режимный день 15 ИЮНЯ 2022 г.
A8: 1201 | B8: 1202
A9: часы суток | B9: Активная энергия | J9: Реактивная энергия
B10: яч 7 - ТП 1 | F10: яч. 4 - ТП 2 | J10: яч 7 - ТП 1 | N10: яч. 4 - ТП 2
B11: Расчет. Коэф. | E11: 600 | F11: Расчет. Коэф. | I11: 600 | J11: Расчет. Коэф. | M11: 600 | N11: Расчет. Коэф. | Q11: 600
B12: показания счетчика | C12: разность | E12: расход эл.энергии за час | F12: показания счетчика | G12: разность | I12: расход эл.энергии за час | J12: показания счетчика | K12: разность | M12: расход эл.энергии за час | N12: показания счетчика | O12: разность | Q12: расход эл.энергии за час
A13: 1 | B13: 2 | C13: 3 | E13: 4 | F13: 5 | G13: 6 | I13: 7 | J13: 8 | K13: 9 | M13: 10 | N13: 11 | O13: 12 | Q13: 13
A14: 0
A15: 1 | E15: 17.28 | I15: 14.82 | M15: 0.48 | Q15: 3.78
A16: 2 | E16: 12.12 | I16: 29.16 | M16: 0.3 | Q16: 3.72
A17: 3 | E17: 10.56 | I17: 17.94 | M17: 1.2 | Q17: 3.54
A18: 4 | E18: 9.9 | I18: 26.88 | M18: 0.66 | Q18: 3.48
A19: 5 | E19: 11.04 | I19: 10.2 | M19: 0.84 | Q19: 2.82
A20: 6 | E20: 11.58 | I20: 8.1 | M20: 1.08 | Q20: 3.3
A21: 7 | E21: 17.64 | I21: 8.52 | M21: 0.9 | Q21: 3.36
A22: 8 | E22: 22.98 | I22: 18.06 | M22: 1.2 | Q22: 5.16
A23: 9 | E23: 27.6 | I23: 31.56 | M23: 1.62 | Q23: 9
A24: 10 | E24: 38.16 | I24: 33.48 | M24: 16.2 | Q24: 5.76
A25: 11 | E25: 29.94 | I25: 42.9 | M25: 11.28 | Q25: 8.34
A26: 12 | E26: 26.1 | I26: 39.48 | M26: 5.64 | Q26: 10.98
... A38: 24 | E38: 24.12 | I38: 19.98 | M38: 0.24 | Q38: 4.68
A39: Итого | E39: =SUM(E15:E38) -> 570.18 | I39: =SUM(I15:I38) -> 560.7 | M39: =SUM(M15:M38) -> 65.76 | Q39: =SUM(Q15:Q38) -> 135.6
A40: 1. При наличии на предприятии отклонений от нормальных режимов электропотребления (временное изменение схем питания, остановка на ремонт, резкое снижение
A41: эл.потребления и т.д.) последние необходимо перечислить.
A42: Главный инженер АО "Вологдаоблэнерго" А.В. Чурляев
A43: составляется самим предприятием с соблюдением всех пунктов настоящей таблицы.

Sheet 64
B1: АО "Вологдаоблэнерго" | J1: код 900151 | K1: ПС "Белозерск" 110/10 кВ
B2: наименование предприятия | N2: наименование источника питания
B3: уч -к г. Белозерск
B4: ул. Горького, 99 | I4: Таблица № 1 | N4: РП 1
B5: адрес
A6: почасовых записей показаний электрических счетчиков
A7: в режимный день 15 ИЮНЯ 2022 г.
A8: 737 | B8: 738
A9: часы суток | B9: Активная энергия | J9: Реактивная энергия
B10: яч. 2 - ВЛ-10кВ.ф Горсеть1 | F10: яч. 3 - ВЛ-10кВ.ф Горсеть2 | J10: =B10 -> яч. 2 - ВЛ-10кВ.ф Горсеть1 | N10: яч. 3 - ВЛ-10кВ.фид. Горсеть2
B11: Расчет. Коэф. | E11: 4000 | F11: Расчет. Коэф. | I11: 2000 | J11: Расчет. Коэф. | M11: =E11 -> 4000 | N11: Расчет. Коэф. | Q11: =I11 -> 2000
B12: показания счетчика | C12: разность | E12: расход эл.энергии за час | F12: показания счетчика | G12: разность | I12: расход эл.энергии за час | J12: показания счетчика | K12: разность | M12: расход эл.энергии за час | N12: показания счетчика | O12: разность | Q12: расход эл.энергии за час
A13: 1 | B13: 2 | C13: 3 | E13: 4 | F13: 5 | G13: 6 | I13: 7 | J13: 8 | K13: 9 | M13: 10 | N13: 11 | O13: 12 | Q13: 13
A14: 0
A15: 1 | E15: 716 | I15: 413 | M15: 273 | Q15: 215
A16: 2 | E16: 626 | I16: 377 | M16: 264 | Q16: 210
A17: 3 | E17: 589 | I17: 361 | M17: 256 | Q17: 183
A18: 4 | E18: 568 | I18: 349 | M18: 246 | Q18: 180
A19: 5 | E19: 575 | I19: 360 | M19: 245 | Q19: 180
A20: 6 | E20: 647 | I20: 398 | M20: 259 | Q20: 190
A21: 7 | E21: 884 | I21: 529 | M21: 265 | Q21: 189
A22: 8 | E22: 1157 | I22: 634 | M22: 272 | Q22: 195
A23: 9 | E23: 1220 | I23: 812 | M23: 272 | Q23: 266
A24: 10 | E24: 1217 | I24: 824 | M24: 287 | Q24: 297
A25: 11 | E25: 1206 | I25: 798 | M25: 297 | Q25: 320
A26: 12 | E26: 1238 | I26: 777 | M26: 298 | Q26: 282
... A38: 24 | E38: 954 | I38: 503 | M38: 250 | Q38: 201
A39: Итого | E39: =SUM(E15:E38) -> 25782 | I39: =SUM(I15:I38) -> 15117 | M39: =SUM(M15:M38) -> 6741 | Q39: =SUM(Q15:Q38) -> 5856
A40: 1. При наличии на предприятии отклонений от нормальных режимов электропотребления (временное изменение схем питания, остановка на ремонт, резкое снижение
A41: эл.потребления и т.д.) последние необходимо перечислить.
A42: Главный инженер АО "Вологдаоблэнерго" А.В. Чурляев
A43: составляется самим предприятием с соблюдением всех пунктов настоящей таблицы.

Sheet 65
B1: АО "Вологдаоблэнерго" | J1: код 900151 | K1: ПС "Белозерск" 110/10 кВ
B2: наименование предприятия | N2: наименование источника питания
B3: уч -к г. Белозерск
B4: ул. Горького, 99 | I4: Таблица № 1
B5: адрес
A6: почасовых записей показаний электрических счетчиков
A7: в режимный день 15 ИЮНЯ 2022 г.
A8: 739 | B8: 736
A9: часы суток | B9: Активная энергия | J9: Реактивная энергия
B10: яч. 4 - ВЛ-10кВ.ф Оптика | F10: яч. 1 - ф. Горсеть-3 | J10: яч. 4 - ВЛ-10кВ.ф Оптика | N10: яч. 1 - ф. Горсеть-3
B11: Расчет. Коэф. | E11: 4000 | F11: Расчет. Коэф. | J11: Расчет. Коэф. | M11: =E11 -> 4000 | N11: Расчет. Коэф.
B12: показания счетчика | C12: разность | E12: расход эл.энергии за час | F12: показания счетчика | G12: разность | I12: расход эл.энергии за час | J12: показания счетчика | K12: разность | M12: расход эл.энергии за час | N12: показания счетчика | O12: разность | Q12: расход эл.энергии за час
A13: 1 | B13: 2 | C13: 3 | E13: 4 | F13: 5 | G13: 6 | I13: 7 | J13: 8 | K13: 9 | M13: 10 | N13: 11 | O13: 12 | Q13: 13
A14: 0
A15: 1 | E15: 147 | I15: 69 | M15: 76 | Q15: 45
A16: 2 | E16: 139 | I16: 62 | M16: 73 | Q16: 42
A17: 3 | E17: 89 | I17: 58 | M17: 38 | Q17: 34
A18: 4 | E18: 135 | I18: 52 | M18: 73 | Q18: 30
A19: 5 | E19: 102 | I19: 51 | M19: 45 | Q19: 30
A20: 6 | E20: 166 | I20: 55 | M20: 74 | Q20: 31
A21: 7 | E21: 198 | I21: 81 | M21: 74 | Q21: 32
A22: 8 | E22: 218 | I22: 102 | M22: 73 | Q22: 31
A23: 9 | E23: 247 | I23: 104 | M23: 77 | Q23: 35
A24: 10 | E24: 241 | I24: 96 | M24: 82 | Q24: 43
A25: 11 | E25: 238 | I25: 91 | M25: 85 | Q25: 43
A26: 12 | E26: 222 | I26: 91 | M26: 81 | Q26: 43
... A38: 24 | E38: 183 | I38: 79 | M38: 71 | Q38: 39
A39: Итого | E39: =SUM(E15:E38) -> 4727 | I39: =SUM(I15:I38) -> 2168 | M39: =SUM(M15:M38) -> 1794 | Q39: =SUM(Q15:Q38) -> 920
A40: 1. При наличии на предприятии отклонений от нормальных режимов электропотребления (временное изменение схем питания, остановка на ремонт, резкое снижение
A41: эл.потребления и т.д.) последние необходимо перечислить.
A42: Главный инженер АО "Вологдаоблэнерго" А.В. Чурляев
A43: составляется самим предприятием с соблюдением всех пунктов настоящей таблицы.

Sheet 66
B1: АО "Вологдаоблэнерго" | J1: код 900151 | K1: ПС "Белозерск" 110/10 кВ
B2: наименование предприятия | N2: наименование источника питания
B3: уч -к г. Белозерск
B4: ул. Горького, 99 | I4: Таблица № 1
B5: адрес
A6: почасовых записей показаний электрических счетчиков
A7: в режимный день 15 ИЮНЯ 2022 г.
A8: 1192 | B8: 1193
A9: часы суток | B9: Активная энергия | J9: Реактивная энергия
B10: ВЛ-10кВ.фид. Аэропорт КТП-46 | F10: ВЛ-10кВ.фид. Аэропорт КТП-47 | J10: =B10 -> ВЛ-10кВ.фид. Аэропорт КТП-46 | N10: =F10 -> ВЛ-10кВ.фид. Аэропорт КТП-47
B11: Расчет. Коэф. | E11: 60 | F11: Расчет. Коэф. | I11: 60 | J11: Расчет. Коэф. | M11: =E11 -> 60 | N11: Расчет. Коэф. | Q11: =I11 -> 60
B12: показания счетчика | C12: разность | E12: расход эл.энергии за час | F12: показания счетчика | G12: разность | I12: расход эл.энергии за час | J12: показания счетчика | K12: разность | M12: расход эл.энергии за час | N12: показания счетчика | O12: разность | Q12: расход эл.энергии за час
A13: 1 | B13: 2 | C13: 3 | E13: 4 | F13: 5 | G13: 6 | I13: 7 | J13: 8 | K13: 9 | M13: 10 | N13: 11 | O13: 12 | Q13: 13
A14: 0
A15: 1 | I15: 12.36 | Q15: 2.67
A16: 2 | I16: 11.67 | Q16: 2.52
A17: 3 | I17: 13.23 | Q17: 2.13
A18: 4 | I18: 12.42 | Q18: 1.8
A19: 5 | I19: 11.43 | Q19: 2.4
A20: 6 | I20: 10.23 | Q20: 2.13
A21: 7 | I21: 16.26 | Q21: 1.86
A22: 8 | I22: 24.45 | Q22: 2.31
A23: 9 | I23: 22.74 | Q23: 2.43
A24: 10 | I24: 21.57 | Q24: 2.64
A25: 11 | I25: 19.11 | Q25: 2.85
A26: 12 | I26: 21.81 | Q26: 2.91
... A38: 24 | I38: 16.08 | Q38: 2.01
A39: Итого | E39: =SUM(E15:E38) -> 0 | I39: =SUM(I15:I38) -> 485.01 | M39: =SUM(M15:M38) -> 0 | Q39: =SUM(Q15:Q38) -> 64.83
A40: 1. При наличии на предприятии отклонений от нормальных режимов электропотребления (временное изменение схем питания, остановка на ремонт, резкое снижение
A41: эл.потребления и т.д.) последние необходимо перечислить.
A42: Главный инженер АО "Вологдаоблэнерго" А.В. Чурляев
A43: составляется самим предприятием с соблюдением всех пунктов настоящей таблицы.

Sheet 66_1
B1: АО "Вологдаоблэнерго" | J1: код 900151 | K1: ПС "Вашки" 110/10 кВ
B2: наименование предприятия | N2: наименование источника питания
B3: уч -к г. Белозерск с. Липин Бор
B4: ул. Горького, 99 | I4: Таблица № 1
B5: адрес
A6: почасовых записей показаний электрических счетчиков
A7: в режимный день 15 ИЮНЯ 2022 г.
A8: 1704 | B8: 1705
A9: часы суток | B9: Активная энергия | J9: Реактивная энергия
B10: яч. 1 - ВЛ-10кВ.фид. Липин Бор | F10: яч.2 - ВЛ-10кВ.фид. Коммунальный | J10: =B10 -> яч. 1 - ВЛ-10кВ.фид. Липин Бор | N10: =F10 -> яч.2 - ВЛ-10кВ.фид. Коммунальный
B11: Расчет. Коэф. | E11: 60 | F11: Расчет. Коэф. | I11: 60 | J11: Расчет. Коэф. | M11: =E11 -> 60 | N11: Расчет. Коэф. | Q11: =I11 -> 60
B12: показания счетчика | C12: разность | E12: расход эл.энергии за час | F12: показания счетчика | G12: разность | I12: расход эл.энергии за час | J12: показания счетчика | K12: разность | M12: расход эл.энергии за час | N12: показания счетчика | O12: разность | Q12: расход эл.энергии за час
A13: 1 | B13: 2 | C13: 3 | E13: 4 | F13: 5 | G13: 6 | I13: 7 | J13: 8 | K13: 9 | M13: 10 | N13: 11 | O13: 12 | Q13: 13
A14: 0
A15: 1 | E15: 96 | I15: 380 | M15: 84 | Q15: 176
A16: 2 | E16: 74 | I16: 348 | M16: 78 | Q16: 171
A17: 3 | E17: 67 | I17: 291 | M17: 71 | Q17: 154
A18: 4 | E18: 61 | I18: 290 | M18: 69 | Q18: 150
A19: 5 | E19: 60 | I19: 304 | M19: 66 | Q19: 148
A20: 6 | E20: 65 | I20: 329 | M20: 71 | Q20: 154
A21: 7 | E21: 94 | I21: 509 | M21: 71 | Q21: 161
A22: 8 | E22: 136 | I22: 602 | M22: 69 | Q22: 160
A23: 9 | E23: 127 | I23: 704 | M23: 68 | Q23: 158
A24: 10 | E24: 119 | I24: 716 | M24: 73 | Q24: 166
A25: 11 | E25: 109 | I25: 688 | M25: 81 | Q25: 179
A26: 12 | E26: 106 | I26: 659 | M26: 81 | Q26: 180
... A38: 24 | E38: 132 | I38: 495 | M38: 67 | Q38: 161
A39: Итого | E39: =SUM(E15:E38) -> 2740 | I39: =SUM(I15:I38) -> 13184 | M39: =SUM(M15:M38) -> 1749 | Q39: =SUM(Q15:Q38) -> 3980
A40: 1. При наличии на предприятии отклонений от нормальных режимов электропотребления (временное изменение схем питания, остановка на ремонт, резкое снижение
A41: эл.потребления и т.д.) последние необходимо перечислить.
A42: Главный инженер АО "Вологдаоблэнерго" А.В. Чурляев
A43: составляется самим предприятием с соблюдением всех пунктов настоящей таблицы.

Sheet 67
B1: АО "Вологдаоблэнерго" | J1: код 900151 | K1: ПС "Белоусово"
B2: наименование предприятия | N2: наименование источника питания
B3: уч -к г. Вытегра
B4: ул. Горького, 99 | I4: Таблица № 1
B5: адрес
A6: почасовых записей показаний электрических счетчиков
A7: в режимный день 15 ИЮНЯ 2022 г.
A8: 852 | B8: 851
A9: часы суток | B9: Активная энергия | J9: Реактивная энергия
B10: ВЛ-6кВ Ф-9 Погрузка | F10: ВЛ-6 кВ Ф-7 ЛПХ | J10: =B10 -> ВЛ-6кВ Ф-9 Погрузка | N10: =F10 -> ВЛ-6 кВ Ф-7 ЛПХ
B11: Расчет. Коэф. | E11: 1800 | F11: Расчет. Коэф. | I11: 2400 | J11: Расчет. Коэф. | M11: =E11 -> 1800 | N11: Расчет. Коэф. | Q11: =I11 -> 2400
B12: показания счетчика | C12: разность | E12: расход эл.энергии за час | F12: показания счетчика | G12: разность | I12: расход эл.энергии за час | J12: показания счетчика | K12: разность | M12: расход эл.энергии за час | N12: показания счетчика | O12: разность | Q12: расход эл.энергии за час
A13: 1 | B13: 2 | C13: 3 | E13: 4 | F13: 5 | G13: 6 | I13: 7 | J13: 8 | K13: 9 | M13: 10 | N13: 11 | O13: 12 | Q13: 13
A14: 0
A15: 1 | E15: 0 | I15: 11 | M15: 0 | Q15: 36
A16: 2 | E16: 0 | I16: 11 | M16: 0 | Q16: 36
A17: 3 | E17: 0 | I17: 11 | M17: 0 | Q17: 36
A18: 4 | E18: 0 | I18: 10 | M18: 0 | Q18: 37
A19: 5 | E19: 0 | I19: 12 | M19: 0 | Q19: 37
A20: 6 | E20: 0 | I20: 10 | M20: 0 | Q20: 37
A21: 7 | E21: 0 | I21: 19 | M21: 0 | Q21: 37
A22: 8 | E22: 0 | I22: 17 | M22: 0 | Q22: 35
A23: 9 | E23: 0 | I23: 16 | M23: 0 | Q23: 34
A24: 10 | E24: 0 | I24: 16 | M24: 0 | Q24: 35
A25: 11 | E25: 0 | I25: 11 | M25: 0 | Q25: 36
A26: 12 | E26: 0 | I26: 11 | M26: 0 | Q26: 35
... A38: 24 | E38: 0 | I38: 13 | M38: 0 | Q38: 34
A39: Итого | E39: =SUM(E15:E38) -> 0 | I39: =SUM(I15:I38) -> 305 | M39: =SUM(M15:M38) -> 0 | Q39: =SUM(Q15:Q38) -> 842
A40: 1. При наличии на предприятии отклонений от нормальных режимов электропотребления (временное изменение схем питания, остановка на ремонт, резкое снижение
A41: эл.потребления и т.д.) последние необходимо перечислить.
A42: Главный инженер АО "Вологдаоблэнерго" А.В. Чурляев
A43: составляется самим предприятием с соблюдением всех пунктов настоящей таблицы.

Sheet 68
B1: АО "Вологдаоблэнерго" | J1: код 900151 | K1: ПС "Ольховская"
B2: наименование предприятия | N2: наименование источника питания
B3: уч -к г. Вытегра
B4: ул. Горького, 99 | I4: Таблица № 1
B5: адрес
A6: почасовых записей показаний электрических счетчиков
A7: в режимный день 15 ИЮНЯ 2022 г.
A8: 2138 | B8: 2139
A9: часы суток | B9: Активная энергия | J9: Реактивная энергия
B10: яч. 1 - ВЛ-10 кВ Ф-2 ЛПХ | F10: ВЛ-10 кВ Ф-3 Мирный | J10: яч. 1 - ВЛ-10 кВ Ф-2 ЛПХ | N10: =F10 -> ВЛ-10 кВ Ф-3 Мирный
B11: Расчет. Коэф. | E11: 1000 | F11: Расчет. Коэф. | I11: 1000 | J11: Расчет. Коэф. | M11: =E11 -> 1000 | N11: Расчет. Коэф. | Q11: =I11 -> 1000
B12: показания счетчика | C12: разность | E12: расход эл.энергии за час | F12: показания счетчика | G12: разность | I12: расход эл.энергии за час | J12: показания счетчика | K12: разность | M12: расход эл.энергии за час | N12: показания счетчика | O12: разность | Q12: расход эл.энергии за час
A13: 1 | B13: 2 | C13: 3 | E13: 4 | F13: 5 | G13: 6 | I13: 7 | J13: 8 | K13: 9 | M13: 10 | N13: 11 | O13: 12 | Q13: 13
A14: 0
A15: 1 | E15: 26 | I15: 20 | M15: 32 | Q15: 18
A16: 2 | E16: 24 | I16: 18 | M16: 32 | Q16: 19
A17: 3 | E17: 26 | I17: 17 | M17: 32 | Q17: 18
A18: 4 | E18: 24 | I18: 18 | M18: 29 | Q18: 17
A19: 5 | E19: 26 | I19: 19 | M19: 30 | Q19: 18
A20: 6 | E20: 27 | I20: 19 | M20: 31 | Q20: 18
A21: 7 | E21: 31 | I21: 20 | M21: 33 | Q21: 18
A22: 8 | E22: 40 | I22: 27 | M22: 29 | Q22: 17
A23: 9 | E23: 51 | I23: 27 | M23: 30 | Q23: 17
A24: 10 | E24: 45 | I24: 29 | M24: 31 | Q24: 17
A25: 11 | E25: 44 | I25: 27 | M25: 31 | Q25: 18
A26: 12 | E26: 44 | I26: 28 | M26: 31 | Q26: 18
... A38: 24 | E38: 32 | I38: 21 | M38: 29 | Q38: 17
A39: Итого | E39: =SUM(E15:E38) -> 885 | I39: =SUM(I15:I38) -> 590 | M39: =SUM(M15:M38) -> 747 | Q39: =SUM(Q15:Q38) -> 430
A40: 1. При наличии на предприятии отклонений от нормальных режимов электропотребления (временное изменение схем питания, остановка на ремонт, резкое снижение
A41: эл.потребления и т.д.) последние необходимо перечислить.
A42: Главный инженер АО "Вологдаоблэнерго" А.В. Чурляев
A43: составляется самим предприятием с соблюдением всех пунктов настоящей таблицы.

Sheet 69
B1: АО "Вологдаоблэнерго" | J1: код 900151 | K1: ПС "Восточная"
B2: наименование предприятия | N2: наименование источника питания
B3: уч -к г. Вытегра
B4: ул. Горького, 99 | I4: Таблица № 1
B5: адрес
A6: почасовых записей показаний электрических счетчиков
A7: в режимный день 15 ИЮНЯ 2022 г.
A8: 855 | B8: 854
A9: часы суток | B9: Активная энергия | J9: Реактивная энергия
B10: ВЛ-10 кВ Центр | F10: ВЛ-10 кВ Воинская часть | J10: =B10 -> ВЛ-10 кВ Центр | N10: =F10 -> ВЛ-10 кВ Воинская часть
B11: Расчет. Коэф. | E11: 6000 | F11: Расчет. Коэф. | I11: 4000 | J11: Расчет. Коэф. | M11: =E11 -> 6000 | N11: Расчет. Коэф. | Q11: =I11 -> 4000
B12: показания счетчика | C12: разность | E12: расход эл.энергии за час | F12: показания счетчика | G12: разность | I12: расход эл.энергии за час | J12: показания счетчика | K12: разность | M12: расход эл.энергии за час | N12: показания счетчика | O12: разность | Q12: расход эл.энергии за час
A13: 1 | B13: 2 | C13: 3 | E13: 4 | F13: 5 | G13: 6 | I13: 7 | J13: 8 | K13: 9 | M13: 10 | N13: 11 | O13: 12 | Q13: 13
A14: 0
A15: 1 | E15: 259 | I15: 362 | M15: 71 | Q15: 173
A16: 2 | E16: 233 | I16: 296 | M16: 72 | Q16: 169
A17: 3 | E17: 218 | I17: 267 | M17: 71 | Q17: 164
A18: 4 | E18: 209 | I18: 271 | M18: 70 | Q18: 175
A19: 5 | E19: 213 | I19: 265 | M19: 71 | Q19: 173
A20: 6 | E20: 236 | I20: 287 | M20: 70 | Q20: 170
A21: 7 | E21: 305 | I21: 405 | M21: 74 | Q21: 172
A22: 8 | E22: 389 | I22: 478 | M22: 73 | Q22: 159
A23: 9 | E23: 441 | I23: 504 | M23: 74 | Q23: 170
A24: 10 | E24: 474 | I24: 522 | M24: 84 | Q24: 182
A25: 11 | E25: 498 | I25: 535 | M25: 95 | Q25: 191
A26: 12 | E26: 487 | I26: 510 | M26: 94 | Q26: 185
... A38: 24 | E38: 277 | I38: 413 | M38: 86 | Q38: 184
A39: Итого | E39: =SUM(E15:E38) -> 9383 | I39: =SUM(I15:I38) -> 11278 | M39: =SUM(M15:M38) -> 2030 | Q39: =SUM(Q15:Q38) -> 4288
A40: 1. При наличии на предприятии отклонений от нормальных режимов электропотребления (временное изменение схем питания, остановка на ремонт, резкое снижение
A41: эл.потребления и т.д.) последние необходимо перечислить.
A42: Главный инженер АО "Вологдаоблэнерго" А.В. Чурляев
A43: составляется самим предприятием с соблюдением всех пунктов настоящей таблицы.

Sheet 70
B1: АО "Вологдаоблэнерго" | J1: код 900151 | K1: ПС "Восточная"
B2: наименование предприятия | N2: наименование источника питания
B3: уч -к г. Вытегра
B4: ул. Горького, 99 | I4: Таблица № 1
B5: адрес
A6: почасовых записей показаний электрических счетчиков
A7: в режимный день 15 ИЮНЯ 2022 г.
A8: 856 | B8: 951
A9: часы суток | B9: Активная энергия | J9: Реактивная энергия
B10: ВЛ-10 кВ Шестово | F10: ф.1 Город | J10: =B10 -> ВЛ-10 кВ Шестово | N10: =F10 -> ф.1 Город
B11: Расчет. Коэф. | E11: 4000 | F11: Расчет. Коэф. | J11: Расчет. Коэф. | M11: =E11 -> 4000 | N11: Расчет. Коэф.
B12: показания счетчика | C12: разность | E12: расход эл.энергии за час | F12: показания счетчика | G12: разность | I12: расход эл.энергии за час | J12: показания счетчика | K12: разность | M12: расход эл.энергии за час | N12: показания счетчика | O12: разность | Q12: расход эл.энергии за час
A13: 1 | B13: 2 | C13: 3 | E13: 4 | F13: 5 | G13: 6 | I13: 7 | J13: 8 | K13: 9 | M13: 10 | N13: 11 | O13: 12 | Q13: 13
A14: 0
A15: 1 | E15: 250 | I15: 344 | M15: 111 | Q15: 166
A16: 2 | E16: 203 | I16: 287 | M16: 111 | Q16: 166
A17: 3 | E17: 182 | I17: 271 | M17: 109 | Q17: 166
A18: 4 | E18: 176 | I18: 269 | M18: 106 | Q18: 176
A19: 5 | E19: 177 | I19: 277 | M19: 106 | Q19: 175
A20: 6 | E20: 179 | I20: 288 | M20: 108 | Q20: 171
A21: 7 | E21: 252 | I21: 381 | M21: 110 | Q21: 173
A22: 8 | E22: 313 | I22: 459 | M22: 107 | Q22: 159
A23: 9 | E23: 332 | I23: 524 | M23: 107 | Q23: 164
A24: 10 | E24: 342 | I24: 591 | M24: 116 | Q24: 172
A25: 11 | E25: 378 | I25: 598 | M25: 134 | Q25: 177
A26: 12 | E26: 370 | I26: 622 | M26: 130 | Q26: 179
... A38: 24 | E38: 281 | I38: 360 | M38: 128 | Q38: 172
A39: Итого | E39: =SUM(E15:E38) -> 7710 | I39: =SUM(I15:I38) -> 11576 | M39: =SUM(M15:M38) -> 2915 | Q39: =SUM(Q15:Q38) -> 4177
A40: 1. При наличии на предприятии отклонений от нормальных режимов электропотребления (временное изменение схем питания, остановка на ремонт, резкое снижение
A41: эл.потребления и т.д.) последние необходимо перечислить.
A42: Главный инженер АО "Вологдаоблэнерго" А.В. Чурляев
A43: составляется самим предприятием с соблюдением всех пунктов настоящей таблицы.

Sheet 70_1
B1: АО "Вологдаоблэнерго" | J1: код 900151 | K1: ПС "Восточная"
B2: наименование предприятия | N2: наименование источника питания
B3: уч -к г. Вытегра | N3: яч.25 ф Стадион
B4: ул. Горького, 99 | I4: Таблица № 1
B5: адрес
A6: почасовых записей показаний электрических счетчиков
A7: в режимный день 15 ИЮНЯ 2022 г.
A8: 856 | B8: 951
A9: часы суток | B9: Активная энергия | J9: Реактивная энергия
B10: ВЛ-10 кВ ф Стадион | J10: =B10 -> ВЛ-10 кВ ф Стадион | N10: =F10 -> 0
B11: Расчет. Коэф. | E11: 4000 | F11: Расчет. Коэф. | J11: Расчет. Коэф. | M11: =E11 -> 4000 | N11: Расчет. Коэф.
B12: показания счетчика | C12: разность | E12: расход эл.энергии за час | F12: показания счетчика | G12: разность | I12: расход эл.энергии за час | J12: показания счетчика | K12: разность | M12: расход эл.энергии за час | N12: показания счетчика | O12: разность | Q12: расход эл.энергии за час
A13: 1 | B13: 2 | C13: 3 | E13: 4 | F13: 5 | G13: 6 | I13: 7 | J13: 8 | K13: 9 | M13: 10 | N13: 11 | O13: 12 | Q13: 13
A14: 0
A15: 1 | E15: 8.8
A16: 2 | E16: 6.4
A17: 3 | E17: 5.2
A18: 4 | E18: 5.2
A19: 5 | E19: 7.2
A20: 6 | E20: 9.2
A21: 7 | E21: 11.6
A22: 8 | E22: 15.2
A23: 9 | E23: 17.6
A24: 10 | E24: 16.8
A25: 11 | E25: 14.8
A26: 12 | E26: 16
... A38: 24 | E38: 342.8
