Workbook

Sheet Содержание книги
A1: Содержание
A4: № листа | B4: Электросетевой участок | C4: Центр питания
A5: 1-109 | B5: ЭСУ "Череповец"
A6: 110-118 | B6: ЭСУ "Бабаево"
A7: 119-153 | B7: ЭСУ "Кадуй"
A8: 154-166 | B8: ЭСУ "Чагода"
A9: 167-207 | B9: ЭСУ "Шексна"
A11: Содержание
A14: № листа | B14: Электросетевой участок | C14: Центр питания
A15: 1 а | B15: г, Вологда | C15: ОАО "БМЗ"
D16: яч, Т1, яч, Т2
A17: 1, 2 | B17: г, Вологда | C17: ПС "АНАНЬИНО"
D18: яч,7 - ф,"Город-7"
D19: яч,8 - ф,"Городской", яч,2 - ф,"Овощехранилище"
A20: 3 | B20: г, Вологда | C20: ПС "ИСКРА"
D21: яч,18 - ф,"РУБЦОВО"- СВ - ВЛ№2
A22: 4 | B22: г, Вологда | C22: ПС "МАЕГА"
D23: яч,13 - ф,"НИКИТИНО"-СВ - ВЛ№27
A24: 5,6, 7, 8, 9 | B24: г, Вологда | C24: ПС "ЗАПАДНАЯ
D25: яч,19 - "РМЗ-1", яч,24 - "РМЗ-2"
D26: яч,15 -"ОЧИСТНЫЕ-1", яч,9 -"ГОРОД-1"
D27: яч,21- "П/я-1", яч,20 - "П/я-2"
D28: яч,33 - "РП-35", яч,35 - "РП-37"
D29: яч,11 - "ГОРОД-2", яч,18 - "ОЧИСТНЫЕ-2"
A30: 10 | B30: г, Вологда | C30: ПС "СЕВЕРНАЯ 35/6 кВ
D31: Т1 - РП5ф3 ввод №1, Т2 - РП5ф17 ввод №2
A32: 11 | B32: г, Вологда | C32: РТП "ТЕПЛИЧНОГО ХОЗ - ВА"
D33: яч, 3 - ф,"Микрорайон-1" ввод № 1, яч,13 - ф,"Микрорайон-2" ввод № 2
A34: 12,13, 14 | B34: г, Вологда | C34: ГПП 110/10 кВ "ВОМЗ"
D35: яч,47 - РП 29 ввод № 1, яч,31 - РП 29 ввод № 2
D36: яч,5 - РП 14 ввод № 1, яч,22 - РП 14 ввод № 2
D37: яч,44 - РП 2 ввод № 1, яч,26в - РП 2 ввод № 2
A38: 15,16,17,18,19,20, 21 | B38: г, Вологда | C38: ПС ВОЛОГДА-ЮЖНАЯ РУ - 6 -10 кВ
D39: яч,15 - "ГОРОД-15", яч,24 - "ТУБДИСПАНСЕР"
D40: яч,10 - "ГОРОД-10", яч,14 - "ГОРОД-14"
D41: яч,20 - "ГОРОД 20"
D42: яч, 7- ф,"ГОРОД 7", яч,17 - ф,"ГОРОД 17"
D43: яч,3 - "ГОРОД-3", яч,5 - "ГОРОД-5"
D44: яч, 1 - "ГОРОД -1", яч, 20 - "РП 27"
D45: яч, 4 ф,"РОДИОНЦЕВО" - ПКУ
...

Sheet 1==
B1: АО "Вологдаоблэнерго" | J1: код 900151 | N1: ПС "Малечкино" ф,Птицефабрика
B2: наименование предприятия | N2: наименование источника питания
N3: _________________________________
B4: ул, Горького, 99 | I4: Таблица № 1 | N4: ТП-1 ЦРП Малечкино; ТП-5 АВМ
B5: адрес
A6: почасовых записей показаний электрических счетчиков
A7: в режимный день 20 ДЕКАБРЯ 2023 г.
A8: 1630 | B8: 1628
A9: часы суток | B9: Активная энергия | J9: Реактивная энергия
B10: ТП-1 ЦРП Малечкино | F10: ТП-5 АВМ | J10: ТП-1 ЦРП Малечкино | N10: ТП-5 АВМ
B11: Расчет, Коэф, | E11: 30 | F11: Расчет, Коэф, | I11: 120 | J11: Расчет, Коэф, | M11: =E11 -> 30 | N11: Расчет, Коэф, | Q11: =I11 -> 120
B12: показания счетчика | C12: разность | E12: расход эл,энергии за час | F12: показания счетчика | G12: разность | I12: расход эл,энергии за час | J12: показания счетчика | K12: разность | M12: расход эл,энергии за час | N12: показания счетчика | O12: разность | Q12: расход эл,энергии за час
A13: 1 | B13: 2 | C13: 3 | E13: 4 | F13: 5 | G13: 6 | I13: 7 | J13: 8 | K13: 9 | M13: 10 | N13: 11 | O13: 12 | Q13: 13
A14: 0 | E14: 3 | I14: 9.936
A15: 1 | E15: 3.28 | I15: 6.72
A16: 2 | E16: 3.8 | I16: 6.024
A17: 3 | E17: 3.88 | I17: 5.64
A18: 4 | E18: 0.96 | I18: 5.184
A19: 5 | E19: 2.44 | I19: 5.28
A20: 6 | E20: 2.2 | I20: 5.232
A21: 7 | E21: 0.4 | I21: 5.52
A22: 8 | E22: 1.72 | I22: 5.832
A23: 9 | E23: 12.48 | I23: 6.456
A24: 10 | E24: 15.76 | I24: 8.088
A25: 11 | E25: 20.04 | I25: 9.648
... A37: 23 | E37: 2.4 | I37: 9.888
A38: 24
A39: Итого | E39: =SUM(E15:E38) -> 182.84 | I39: =SUM(I15:I38) -> 203.448 | M39: =SUM(M15:M38) -> 0 | Q39: =SUM(Q15:Q38) -> 0
A40: 1, При наличии на предприятии отклонений от нормальных режимов электропотребления (временное изменение схем питания, остановка на ремонт, резкое снижение
A41: эл,потребления и т,д,) последние необходимо перечислить,
A42: Главный инженер АО "Вологдаоблэнерго" А,В, Чурляев
A43: составляется самим предприятием с соблюдением всех пунктов настоящей таблицы,

Sheet 2==
B1: АО "Вологдаоблэнерго" | J1: код 900151 | N1: ПС Малечкино, ф, Поселок
B2: наименование предприятия | N2: наименование источника питания
N3: ТП-8 ПС Малечкино В-1; В-2
B4: ул, Горького, 99 | I4: Таблица № 1
B5: адрес
A6: почасовых записей показаний электрических счетчиков
A7: ='1=='!A7:Q7 -> в режимный день 20 ДЕКАБРЯ 2023 г.
A8: 1630 | B8: 1628
A9: часы суток | B9: Активная энергия | J9: Реактивная энергия
B10: ТП-8 ПС Малечкино В-1 | F10: ТП-8 ПС Малечкино В-2 | J10: ТП-8 ПС Малечкино В-1 | N10: ТП-8 ПС Малечкино В-2
B11: Расчет, Коэф, | E11: 80 | F11: Расчет, Коэф, | I11: 80 | J11: Расчет, Коэф, | M11: =E11 -> 80 | N11: Расчет, Коэф, | Q11: =I11 -> 80
B12: показания счетчика | C12: разность | E12: расход эл,энергии за час | F12: показания счетчика | G12: разность | I12: расход эл,энергии за час | J12: показания счетчика | K12: разность | M12: расход эл,энергии за час | N12: показания счетчика | O12: разность | Q12: расход эл,энергии за час
A13: 1 | B13: 2 | C13: 3 | E13: 4 | F13: 5 | G13: 6 | I13: 7 | J13: 8 | K13: 9 | M13: 10 | N13: 11 | O13: 12 | Q13: 13
A14: 0 | E14: 15.136 | I14: 10.528
A15: 1 | E15: 15.712 | I15: 8.48
A16: 2 | E16: 12.064 | I16: 7.664
A17: 3 | E17: 10.816 | I17: 6.96
A18: 4 | E18: 10.016 | I18: 8.56
A19: 5 | E19: 19.312 | I19: 6.64
A20: 6 | E20: 20.832 | I20: 13.552
A21: 7 | E21: 21.424 | I21: 25.808
A22: 8 | E22: 19.744 | I22: 23.024
A23: 9 | E23: 25.584 | I23: 19.168
A24: 10 | E24: 22.88 | I24: 19.776
A25: 11 | E25: 20.432 | I25: 23.216
... A37: 23 | E37: 21.728 | I37: 15.296
A38: 24
A39: Итого | E39: =SUM(E15:E38) -> 454.112 | I39: =SUM(I15:I38) -> 342.608 | M39: =SUM(M15:M38) -> 0 | Q39: =SUM(Q15:Q38) -> 0
A40: 1, При наличии на предприятии отклонений от нормальных режимов электропотребления (временное изменение схем питания, остановка на ремонт, резкое снижение
A41: эл,потребления и т,д,) последние необходимо перечислить,
A42: Главный инженер АО "Вологдаоблэнерго" А,В, Чурляев
A43: составляется самим предприятием с соблюдением всех пунктов настоящей таблицы,

Sheet 3==
B1: АО "Вологдаоблэнерго" | J1: код 900151 | N1: ПС Малечкино, ф, Поселок
B2: наименование предприятия | N2: наименование источника питания
N3: ТП-105; КТП-Дачи п,Малечкино
B4: ул, Горького, 99 | I4: Таблица № 1
B5: адрес
A6: почасовых записей показаний электрических счетчиков
A7: ='1=='!A7:Q7 -> в режимный день 20 ДЕКАБРЯ 2023 г.
A8: 1630 | B8: 1628
A9: часы суток | B9: Активная энергия | J9: Реактивная энергия
B10: ТП-105 | F10: КТП-Дачи п,Малечкино | J10: ТП-105 | N10: КТП-Дачи п,Малечкино
B11: Расчет, Коэф, | E11: 80 | F11: Расчет, Коэф, | I11: 60 | J11: Расчет, Коэф, | M11: =E11 -> 80 | N11: Расчет, Коэф, | Q11: =I11 -> 60
B12: показания счетчика | C12: разность | E12: расход эл,энергии за час | F12: показания счетчика | G12: разность | I12: расход эл,энергии за час | J12: показания счетчика | K12: разность | M12: расход эл,энергии за час | N12: показания счетчика | O12: разность | Q12: расход эл,энергии за час
A13: 1 | B13: 2 | C13: 3 | E13: 4 | F13: 5 | G13: 6 | I13: 7 | J13: 8 | K13: 9 | M13: 10 | N13: 11 | O13: 12 | Q13: 13
A14: 0 | E14: 24.36 | I14: 2.88
A15: 1 | E15: 22.12 | I15: 1.56
A16: 2 | E16: 20.64 | I16: 1.52
A17: 3 | E17: 18.12 | I17: 1.56
A18: 4 | E18: 18.52 | I18: 1.52
A19: 5 | E19: 18.92 | I19: 1.56
A20: 6 | E20: 20.64 | I20: 1.52
A21: 7 | E21: 20.92 | I21: 1.52
A22: 8 | E22: 22.84 | I22: 1.48
A23: 9 | E23: 26.2 | I23: 1.56
A24: 10 | E24: 27.92 | I24: 1.52
A25: 11 | E25: 27.16 | I25: 1.52
... A37: 23 | E37: 28.48 | I37: 2.84
A38: 24
A39: Итого | E39: =SUM(E15:E38) -> 593.04 | I39: =SUM(I15:I38) -> 49.84 | M39: =SUM(M15:M38) -> 0 | Q39: =SUM(Q15:Q38) -> 0
A40: 1, При наличии на предприятии отклонений от нормальных режимов электропотребления (временное изменение схем питания, остановка на ремонт, резкое снижение
A41: эл,потребления и т,д,) последние необходимо перечислить,
A42: Главный инженер АО "Вологдаоблэнерго" А,В, Чурляев
A43: составляется самим предприятием с соблюдением всех пунктов настоящей таблицы,

Sheet 4==
B1: АО "Вологдаоблэнерго" | J1: код 900151 | N1: ПС Малечкино, ф, Поселок
B2: наименование предприятия | N2: наименование источника питания
N3: ТП-35; ТП-103
B4: ул, Горького, 99 | I4: Таблица № 1
B5: адрес
A6: почасовых записей показаний электрических счетчиков
A7: ='1=='!A7:Q7 -> в режимный день 20 ДЕКАБРЯ 2023 г.
A8: 1630 | B8: 1628
A9: часы суток | B9: Активная энергия | J9: Реактивная энергия
B10: ТП-35 | F10: ТП-103 | J10: ТП-35 | N10: ТП-103
B11: Расчет, Коэф, | E11: 30 | F11: Расчет, Коэф, | I11: 120 | J11: Расчет, Коэф, | M11: =E11 -> 30 | N11: Расчет, Коэф, | Q11: =I11 -> 120
B12: показания счетчика | C12: разность | E12: расход эл,энергии за час | F12: показания счетчика | G12: разность | I12: расход эл,энергии за час | J12: показания счетчика | K12: разность | M12: расход эл,энергии за час | N12: показания счетчика | O12: разность | Q12: расход эл,энергии за час
A13: 1 | B13: 2 | C13: 3 | E13: 4 | F13: 5 | G13: 6 | I13: 7 | J13: 8 | K13: 9 | M13: 10 | N13: 11 | O13: 12 | Q13: 13
A14: 0 | E14: 4.74 | I14: 75.936
A15: 1 | E15: 3.34 | I15: 65.568
A16: 2 | E16: 2.96 | I16: 58.32
A17: 3 | E17: 2.66 | I17: 63.432
A18: 4 | E18: 2.86 | I18: 56.4
A19: 5 | E19: 2.96 | I19: 54.912
A20: 6 | E20: 7.38 | I20: 60.816
A21: 7 | E21: 3.9 | I21: 70.776
A22: 8 | E22: 6.06 | I22: 77.4
A23: 9 | E23: 12 | I23: 77.544
A24: 10 | E24: 10.12 | I24: 78.504
A25: 11 | E25: 12.36 | I25: 77.28
... A37: 23 | E37: 7.18 | I37: 97.248
A38: 24
A39: Итого | E39: =SUM(E15:E38) -> 175.4 | I39: =SUM(I15:I38) -> 1898.832 | M39: =SUM(M15:M38) -> 0 | Q39: =SUM(Q15:Q38) -> 0
A40: 1, При наличии на предприятии отклонений от нормальных режимов электропотребления (временное изменение схем питания, остановка на ремонт, резкое снижение
A41: эл,потребления и т,д,) последние необходимо перечислить,
A42: Главный инженер АО "Вологдаоблэнерго" А,В, Чурляев
A43: составляется самим предприятием с соблюдением всех пунктов настоящей таблицы,

Sheet 5==
B1: АО "Вологдаоблэнерго" | J1: код 900151 | N1: ПС Малечкино, ф, Поселок
B2: наименование предприятия | N2: наименование источника питания
N3: ТП-3 ПС Малечкино; ТП-97
B4: ул, Горького, 99 | I4: Таблица № 1
B5: адрес
A6: почасовых записей показаний электрических счетчиков
A7: ='1=='!A7:Q7 -> в режимный день 20 ДЕКАБРЯ 2023 г.
A8: 1630 | B8: 1628
A9: часы суток | B9: Активная энергия | J9: Реактивная энергия
B10: ТП-3 ПС Малечкино | F10: ТП-97 | J10: ТП-3 ПС Малечкино | N10: ТП-97
B11: Расчет, Коэф, | E11: 120 | F11: Расчет, Коэф, | I11: 60 | J11: Расчет, Коэф, | M11: =E11 -> 120 | N11: Расчет, Коэф, | Q11: =I11 -> 60
B12: показания счетчика | C12: разность | E12: расход эл,энергии за час | F12: показания счетчика | G12: разность | I12: расход эл,энергии за час | J12: показания счетчика | K12: разность | M12: расход эл,энергии за час | N12: показания счетчика | O12: разность | Q12: расход эл,энергии за час
A13: 1 | B13: 2 | C13: 3 | E13: 4 | F13: 5 | G13: 6 | I13: 7 | J13: 8 | K13: 9 | M13: 10 | N13: 11 | O13: 12 | Q13: 13
A14: 0 | E14: 38.088 | I14: 39.54
A15: 1 | E15: 28.08 | I15: 30.42
A16: 2 | E16: 26.424 | I16: 26.616
A17: 3 | E17: 25.464 | I17: 24.624
A18: 4 | E18: 24.792 | I18: 24.216
A19: 5 | E19: 42.408 | I19: 25.548
A20: 6 | E20: 37.8 | I20: 27.828
A21: 7 | E21: 35.952 | I21: 28.848
A22: 8 | E22: 36.576 | I22: 35.04
A23: 9 | E23: 44.256 | I23: 40.176
A24: 10 | E24: 46.32 | I24: 43.14
A25: 11 | E25: 40.056 | I25: 38.304
... A37: 23 | E37: 41.664 | I37: 46.068
A38: 24 | R38: 1
A39: Итого | E39: =SUM(E15:E38) -> 828.408 | I39: =SUM(I15:I38) -> 891.12 | M39: =SUM(M15:M38) -> 0 | Q39: =SUM(Q15:Q38) -> 0
A40: 1, При наличии на предприятии отклонений от нормальных режимов электропотребления (временное изменение схем питания, остановка на ремонт, резкое снижение
A41: эл,потребления и т,д,) последние необходимо перечислить,
A42: Главный инженер АО "Вологдаоблэнерго" А,В, Чурляев
A43: составляется самим предприятием с соблюдением всех пунктов настоящей таблицы,

Sheet 6==
B1: АО "Вологдаоблэнерго" | J1: код 900151 | N1: ПС Малечкино, ф, Поселок
B2: наименование предприятия | N2: наименование источника питания
N3: ТП-15 Кормоцех В-1; В-2
B4: ул, Горького, 99 | I4: Таблица № 1
B5: адрес
A6: почасовых записей показаний электрических счетчиков
A7: ='1=='!A7:Q7 -> в режимный день 20 ДЕКАБРЯ 2023 г.
A8: 1630 | B8: 1628
A9: часы суток | B9: Активная энергия | J9: Реактивная энергия
B10: ТП-15 Кормоцех В-1 | F10: ТП-15 Кормоцех В-2 | J10: ТП-15 Кормоцех В-1 | N10: ТП-15 Кормоцех В-2
B11: Расчет, Коэф, | E11: 60 | F11: Расчет, Коэф, | I11: 60 | J11: Расчет, Коэф, | M11: =E11 -> 60 | N11: Расчет, Коэф, | Q11: =I11 -> 60
B12: показания счетчика | C12: разность | E12: расход эл,энергии за час | F12: показания счетчика | G12: разность | I12: расход эл,энергии за час | J12: показания счетчика | K12: разность | M12: расход эл,энергии за час | N12: показания счетчика | O12: разность | Q12: расход эл,энергии за час
A13: 1 | B13: 2 | C13: 3 | E13: 4 | F13: 5 | G13: 6 | I13: 7 | J13: 8 | K13: 9 | M13: 10 | N13: 11 | O13: 12 | Q13: 13
A14: 0 | E14: 8.28 | I14: 0
A15: 1 | E15: 7.86 | I15: 0
A16: 2 | E16: 7.86 | I16: 0
A17: 3 | E17: 7.86 | I17: 0
A18: 4 | E18: 7.86 | I18: 0
A19: 5 | E19: 7.92 | I19: 0
A20: 6 | E20: 7.74 | I20: 0
A21: 7 | E21: 18.9 | I21: 0
A22: 8 | E22: 34.74 | I22: 0
A23: 9 | E23: 8.28 | I23: 0
A24: 10 | E24: 6.72 | I24: 0
A25: 11 | E25: 6.6 | I25: 0
... A37: 23 | E37: 8.04 | I37: 0
A38: 24
A39: Итого | E39: =SUM(E15:E38) -> 248.52 | I39: =SUM(I15:I38) -> 0 | M39: =SUM(M15:M38) -> 0 | Q39: =SUM(Q15:Q38) -> 0
A40: 1, При наличии на предприятии отклонений от нормальных режимов электропотребления (временное изменение схем питания, остановка на ремонт, резкое снижение
A41: эл,потребления и т,д,) последние необходимо перечислить,
A42: Главный инженер АО "Вологдаоблэнерго" А,В, Чурляев
A43: составляется самим предприятием с соблюдением всех пунктов настоящей таблицы,

Sheet 7==
B1: АО "Вологдаоблэнерго" | J1: код 900151 | N1: ПС Малечкино, ф, Парфеново-1
B2: наименование предприятия | N2: наименование источника питания
N3: ЦРП-Парфеново
B4: ул, Горького, 99 | I4: Таблица № 1
B5: адрес
A6: почасовых записей показаний электрических счетчиков
A7: ='1=='!A7:Q7 -> в режимный день 20 ДЕКАБРЯ 2023 г.
A8: 1630 | B8: 1628
A9: часы суток | B9: Активная энергия | J9: Реактивная энергия
B10: ЦРП-Парфеново В-1 | F10: ЦРП-Парфеново В-2 | J10: ЦРП-Парфеново В-1 | N10: ЦРП-Парфеново В-2
B11: Расчет, Коэф, | E11: 4000 | F11: Расчет, Коэф, | I11: 3000 | J11: Расчет, Коэф, | M11: =E11 -> 4000 | N11: Расчет, Коэф, | Q11: =I11 -> 3000
B12: показания счетчика | C12: разность | E12: расход эл,энергии за час | F12: показания счетчика | G12: разность | I12: расход эл,энергии за час | J12: показания счетчика | K12: разность | M12: расход эл,энергии за час | N12: показания счетчика | O12: разность | Q12: расход эл,энергии за час
A13: 1 | B13: 2 | C13: 3 | E13: 4 | F13: 5 | G13: 6 | I13: 7 | J13: 8 | K13: 9 | M13: 10 | N13: 11 | O13: 12 | Q13: 13
A14: 0 | E14: 456.8 | I14: 0
A15: 1 | E15: 491.2 | I15: 0
A16: 2 | E16: 471.2 | I16: 0
A17: 3 | E17: 491.2 | I17: 0
A18: 4 | E18: 468 | I18: 0
A19: 5 | E19: 475.2 | I19: 0
A20: 6 | E20: 476.8 | I20: 0
A21: 7 | E21: 482.4 | I21: 0
A22: 8 | E22: 596 | I22: 0
A23: 9 | E23: 1106.4 | I23: 0
A24: 10 | E24: 1056.8 | I24: 0
A25: 11 | E25: 1084 | I25: 0
... A37: 23 | E37: 452.8 | I37: 0
A38: 24
A39: Итого | E39: =SUM(E15:E38) -> 15285.6 | I39: =SUM(I15:I38) -> 0 | M39: =SUM(M15:M38) -> 0 | Q39: =SUM(Q15:Q38) -> 0
A40: 1, При наличии на предприятии отклонений от нормальных режимов электропотребления (временное изменение схем питания, остановка на ремонт, резкое снижение
A41: эл,потребления и т,д,) последние необходимо перечислить,
A42: Главный инженер АО "Вологдаоблэнерго" А,В, Чурляев
A43: составляется самим предприятием с соблюдением всех пунктов настоящей таблицы,

Sheet 8==
B1: АО "Вологдаоблэнерго" | J1: код 900151 | N1: ПС Малечкино, ф, Киселево
B2: наименование предприятия | N2: наименование источника питания
N3: ЦРП-Парфеново
B4: ул, Горького, 99 | I4: Таблица № 1
B5: адрес
A6: почасовых записей показаний электрических счетчиков
A7: ='1=='!A7:Q7 -> в режимный день 20 ДЕКАБРЯ 2023 г.
A8: 1630 | B8: 1628
A9: часы суток | B9: Активная энергия | J9: Реактивная энергия
B10: ЦРП-Парфеново В ф,Киселево | J10: ЦРП-Парфеново В ф,Киселево
B11: Расчет, Коэф, | E11: 6000 | F11: Расчет, Коэф, | J11: Расчет, Коэф, | M11: =E11 -> 6000 | N11: Расчет, Коэф, | Q11: =I11 -> 0
B12: показания счетчика | C12: разность | E12: расход эл,энергии за час | F12: показания счетчика | G12: разность | I12: расход эл,энергии за час | J12: показания счетчика | K12: разность | M12: расход эл,энергии за час | N12: показания счетчика | O12: разность | Q12: расход эл,энергии за час
A13: 1 | B13: 2 | C13: 3 | E13: 4 | F13: 5 | G13: 6 | I13: 7 | J13: 8 | K13: 9 | M13: 10 | N13: 11 | O13: 12 | Q13: 13
A14: 0 | E14: 0
A15: 1 | E15: 0
A16: 2 | E16: 0
A17: 3 | E17: 0
A18: 4 | E18: 0
A19: 5 | E19: 0
A20: 6 | E20: 0
A21: 7 | E21: 0
A22: 8 | E22: 0
A23: 9 | E23: 0
A24: 10 | E24: 0
A25: 11 | E25: 0
... A37: 23 | E37: 0
A38: 24
A39: Итого | E39: =SUM(E15:E38) -> 0 | I39: =SUM(I15:I38) -> 0 | M39: =SUM(M15:M38) -> 0 | Q39: =SUM(Q15:Q38) -> 0
A40: 1, При наличии на предприятии отклонений от нормальных режимов электропотребления (временное изменение схем питания, остановка на ремонт, резкое снижение
A41: эл,потребления и т,д,) последние необходимо перечислить,
A42: Главный инженер АО "Вологдаоблэнерго" А,В, Чурляев
A43: составляется самим предприятием с соблюдением всех пунктов настоящей таблицы,

Sheet 9==
B1: АО "Вологдаоблэнерго" | J1: код 900151 | N1: ПС Малечкино, ф, Киселево
B2: наименование предприятия | N2: наименование источника питания
N3: ТП-51; КТП-250 Курилово-ферма
B4: ул, Горького, 99 | I4: Таблица № 1
B5: адрес
A6: почасовых записей показаний электрических счетчиков
A7: ='1=='!A7:Q7 -> в режимный день 20 ДЕКАБРЯ 2023 г.
A8: 1630 | B8: 1628
A9: часы суток | B9: Активная энергия | J9: Реактивная энергия
B10: ТП-51 | F10: КТП-250 Курилово-ферма | J10: ТП-51 | N10: КТП-250 Курилово-ферма
B11: Расчет, Коэф, | E11: 120 | F11: Расчет, Коэф, | I11: 30 | J11: Расчет, Коэф, | M11: =E11 -> 120 | N11: Расчет, Коэф, | Q11: =I11 -> 30
B12: показания счетчика | C12: разность | E12: расход эл,энергии за час | F12: показания счетчика | G12: разность | I12: расход эл,энергии за час | J12: показания счетчика | K12: разность | M12: расход эл,энергии за час | N12: показания счетчика | O12: разность | Q12: расход эл,энергии за час
A13: 1 | B13: 2 | C13: 3 | E13: 4 | F13: 5 | G13: 6 | I13: 7 | J13: 8 | K13: 9 | M13: 10 | N13: 11 | O13: 12 | Q13: 13
A14: 0 | E14: 0 | I14: 5.12
A15: 1 | E15: 0 | I15: 5.04
A16: 2 | E16: 0 | I16: 5.12
A17: 3 | E17: 0 | I17: 5.04
A18: 4 | E18: 0 | I18: 5.12
A19: 5 | E19: 0 | I19: 5.04
A20: 6 | E20: 0 | I20: 5.2
A21: 7 | E21: 0 | I21: 5.36
A22: 8 | E22: 0 | I22: 5.2
A23: 9 | E23: 0 | I23: 5.36
A24: 10 | E24: 0 | I24: 5.04
A25: 11 | E25: 0 | I25: 5.44
... A37: 23 | E37: 0 | I37: 5.44
A38: 24
A39: Итого | E39: =SUM(E15:E38) -> 0 | I39: =SUM(I15:I38) -> 132.56 | M39: =SUM(M15:M38) -> 0 | Q39: =SUM(Q15:Q38) -> 0
A40: 1, При наличии на предприятии отклонений от нормальных режимов электропотребления (временное изменение схем питания, остановка на ремонт, резкое снижение
A41: эл,потребления и т,д,) последние необходимо перечислить,
A42: Главный инженер АО "Вологдаоблэнерго" А,В, Чурляев
A43: составляется самим предприятием с соблюдением всех пунктов настоящей таблицы,

Sheet 10==
B1: АО "Вологдаоблэнерго" | J1: код 900151 | N1: ПС Малечкино, ф, Тепл, комбинат
B2: наименование предприятия | N2: наименование источника питания
N3: ТП-33; КТП-400 Пилорама Карат плюс
B4: ул, Горького, 99 | I4: Таблица № 1
B5: адрес
A6: почасовых записей показаний электрических счетчиков
A7: ='1=='!A7:Q7 -> в режимный день 20 ДЕКАБРЯ 2023 г.
A8: 1630 | B8: 1628
A9: часы суток | B9: Активная энергия | J9: Реактивная энергия
B10: ТП-33 | F10: КТП-400 Пилорама Карат плюс | J10: ТП-33 | N10: КТП-400 Пилорама Карат плюс
B11: Расчет, Коэф, | E11: 30 | F11: Расчет, Коэф, | I11: 120 | J11: Расчет, Коэф, | M11: =E11 -> 30 | N11: Расчет, Коэф, | Q11: =I11 -> 120
B12: показания счетчика | C12: разность | E12: расход эл,энергии за час | F12: показания счетчика | G12: разность | I12: расход эл,энергии за час | J12: показания счетчика | K12: разность | M12: расход эл,энергии за час | N12: показания счетчика | O12: разность | Q12: расход эл,энергии за час
A13: 1 | B13: 2 | C13: 3 | E13: 4 | F13: 5 | G13: 6 | I13: 7 | J13: 8 | K13: 9 | M13: 10 | N13: 11 | O13: 12 | Q13: 13
A14: 0 | E14: 33.62 | I14: 33.144
A15: 1 | E15: 15.74 | I15: 34.128
A16: 2 | E16: 16.7 | I16: 26.016
A17: 3 | E17: 14.62 | I17: 23.592
A18: 4 | E18: 15.16 | I18: 23.88
A19: 5 | E19: 16.34 | I19: 24.216
A20: 6 | E20: 20.04 | I20: 27.336
A21: 7 | E21: 23.56 | I21: 33.24
A22: 8 | E22: 19.56 | I22: 39.504
A23: 9 | E23: 29.22 | I23: 81.24
A24: 10 | E24: 30.18 | I24: 83.304
A25: 11 | E25: 32.02 | I25: 76.68
... A37: 23 | E37: 43.58 | I37: 34.08
A38: 24
A39: Итого | E39: =SUM(E15:E38) -> 742.94 | I39: =SUM(I15:I38) -> 1316.568 | M39: =SUM(M15:M38) -> 0 | Q39: =SUM(Q15:Q38) -> 0
A40: 1, При наличии на предприятии отклонений от нормальных режимов электропотребления (временное изменение схем питания, остановка на ремонт, резкое снижение
A41: эл,потребления и т,д,) последние необходимо перечислить,
A42: Главный инженер АО "Вологдаоблэнерго" А,В, Чурляев
A43: составляется самим предприятием с соблюдением всех пунктов настоящей таблицы,

Sheet 11==
B1: АО "Вологдаоблэнерго" | J1: код 900151 | N1: ПС Загородная, ф, Тоншалово-2
B2: наименование предприятия | N2: наименование источника питания
N3: ТП-4 очистные В-1; ТП-4 очистные В-2
B4: ул, Горького, 99 | I4: Таблица № 1
B5: адрес
A6: почасовых записей показаний электрических счетчиков
A7: ='1=='!A7:Q7 -> в режимный день 20 ДЕКАБРЯ 2023 г.
A8: 1630 | B8: 1628
A9: часы суток | B9: Активная энергия | J9: Реактивная энергия
B10: ТП-4 очистные В-1 | F10: ТП-4 очистные В-2 | J10: ТП-4 очистные В-1 | N10: ТП-4 очистные В-2
B11: Расчет, Коэф, | E11: 120 | F11: Расчет, Коэф, | I11: 120 | J11: Расчет, Коэф, | M11: =E11 -> 120 | N11: Расчет, Коэф, | Q11: =I11 -> 120
B12: показания счетчика | C12: разность | E12: расход эл,энергии за час | F12: показания счетчика | G12: разность | I12: расход эл,энергии за час | J12: показания счетчика | K12: разность | M12: расход эл,энергии за час | N12: показания счетчика | O12: разность | Q12: расход эл,энергии за час
A13: 1 | B13: 2 | C13: 3 | E13: 4 | F13: 5 | G13: 6 | I13: 7 | J13: 8 | K13: 9 | M13: 10 | N13: 11 | O13: 12 | Q13: 13
A14: 0 | E14: 43.896 | I14: 20.568
A15: 1 | E15: 42.528 | I15: 14.88
A16: 2 | E16: 46.584 | I16: 13.392
A17: 3 | E17: 46.512 | I17: 12.96
A18: 4 | E18: 45.984 | I18: 12.408
A19: 5 | E19: 44.448 | I19: 12.696
A20: 6 | E20: 40.584 | I20: 13.872
A21: 7 | E21: 44.016 | I21: 11.16
A22: 8 | E22: 47.112 | I22: 12.504
A23: 9 | E23: 45.984 | I23: 15.24
A24: 10 | E24: 45.336 | I24: 19.56
A25: 11 | E25: 43.152 | I25: 22.272
... A37: 23 | E37: 47.4 | I37: 20.52
A38: 24
A39: Итого | E39: =SUM(E15:E38) -> 1039.632 | I39: =SUM(I15:I38) -> 498.048 | M39: =SUM(M15:M38) -> 0 | Q39: =SUM(Q15:Q38) -> 0
A40: 1, При наличии на предприятии отклонений от нормальных режимов электропотребления (временное изменение схем питания, остановка на ремонт, резкое снижение
A41: эл,потребления и т,д,) последние необходимо перечислить,
A42: Главный инженер АО "Вологдаоблэнерго" А,В, Чурляев
A43: составляется самим предприятием с соблюдением всех пунктов настоящей таблицы,

Sheet 12==
B1: АО "Вологдаоблэнерго" | J1: код 900151 | N1: ПС Загородная, ф, Тоншалово-2
B2: наименование предприятия | N2: наименование источника питания
N3: ТП-3 Школа В-1; ТП-3 Школа В-2
B4: ул, Горького, 99 | I4: Таблица № 1
B5: адрес
A6: почасовых записей показаний электрических счетчиков
A7: ='1=='!A7:Q7 -> в режимный день 20 ДЕКАБРЯ 2023 г.
A8: 1630 | B8: 1628
A9: часы суток | B9: Активная энергия | J9: Реактивная энергия
B10: ТП-3 Школа В-1 | F10: ТП-3 Школа В-2 | J10: ТП-3 Школа В-1 | N10: ТП-3 Школа В-2
B11: Расчет, Коэф, | E11: 120 | F11: Расчет, Коэф, | I11: 120 | J11: Расчет, Коэф, | M11: =E11 -> 120 | N11: Расчет, Коэф, | Q11: =I11 -> 120
B12: показания счетчика | C12: разность | E12: расход эл,энергии за час | F12: показания счетчика | G12: разность | I12: расход эл,энергии за час | J12: показания счетчика | K12: разность | M12: расход эл,энергии за час | N12: показания счетчика | O12: разность | Q12: расход эл,энергии за час
A13: 1 | B13: 2 | C13: 3 | E13: 4 | F13: 5 | G13: 6 | I13: 7 | J13: 8 | K13: 9 | M13: 10 | N13: 11 | O13: 12 | Q13: 13
A14: 0 | E14: 43.272 | I14: 0
A15: 1 | E15: 41.232 | I15: 0
A16: 2 | E16: 41.136 | I16: 0
A17: 3 | E17: 40.368 | I17: 0
A18: 4 | E18: 40.776 | I18: 0
A19: 5 | E19: 40.224 | I19: 0
A20: 6 | E20: 43.488 | I20: 0
A21: 7 | E21: 43.128 | I21: 0
A22: 8 | E22: 55.488 | I22: 0
A23: 9 | E23: 62.472 | I23: 0
A24: 10 | E24: 73.896 | I24: 0
A25: 11 | E25: 77.64 | I25: 0
... A37: 23 | E37: 49.728 | I37: 0
A38: 24
A39: Итого | E39: =SUM(E15:E38) -> 1395.312 | I39: =SUM(I15:I38) -> 0 | M39: =SUM(M15:M38) -> 0 | Q39: =SUM(Q15:Q38) -> 0
A40: 1, При наличии на предприятии отклонений от нормальных режимов электропотребления (временное изменение схем питания, остановка на ремонт, резкое снижение
A41: эл,потребления и т,д,) последние необходимо перечислить,
A42: Главный инженер АО "Вологдаоблэнерго" А,В, Чурляев
A43: составляется самим предприятием с соблюдением всех пунктов настоящей таблицы,

Sheet 13==
B1: АО "Вологдаоблэнерго" | J1: код 900151 | N1: ПС Загородная, ф, Тоншалово-2
B2: наименование предприятия | N2: наименование источника питания
N3: ТП-5 ПМК-1 В-1
B4: ул, Горького, 99 | I4: Таблица № 1 | N4: ТП-5 ПМК-1 В-2
B5: адрес
A6: почасовых записей показаний электрических счетчиков
A7: ='1=='!A7:Q7 -> в режимный день 20 ДЕКАБРЯ 2023 г.
A8: 1630 | B8: 1628
A9: часы суток | B9: Активная энергия | J9: Реактивная энергия
B10: =N3 -> ТП-5 ПМК-1 В-1 | F10: =N4 -> ТП-5 ПМК-1 В-2 | J10: =B10 -> ТП-5 ПМК-1 В-1 | N10: =F10 -> ТП-5 ПМК-1 В-2
B11: Расчет, Коэф, | E11: 120 | F11: Расчет, Коэф, | I11: 120 | J11: Расчет, Коэф, | M11: =E11 -> 120 | N11: Расчет, Коэф, | Q11: =I11 -> 120
B12: показания счетчика | C12: разность | E12: расход эл,энергии за час | F12: показания счетчика | G12: разность | I12: расход эл,энергии за час | J12: показания счетчика | K12: разность | M12: расход эл,энергии за час | N12: показания счетчика | O12: разность | Q12: расход эл,энергии за час
A13: 1 | B13: 2 | C13: 3 | E13: 4 | F13: 5 | G13: 6 | I13: 7 | J13: 8 | K13: 9 | M13: 10 | N13: 11 | O13: 12 | Q13: 13
A14: 0 | E14: 14.352 | I14: 48.336
A15: 1 | E15: 12 | I15: 39.504
A16: 2 | E16: 11.424 | I16: 33.744
A17: 3 | E17: 11.04 | I17: 33.336
A18: 4 | E18: 11.04 | I18: 31.848
A19: 5 | E19: 10.56 | I19: 46.056
A20: 6 | E20: 12.144 | I20: 66.6
A21: 7 | E21: 11.76 | I21: 71.784
A22: 8 | E22: 13.632 | I22: 64.68
A23: 9 | E23: 14.904 | I23: 62.472
A24: 10 | E24: 14.664 | I24: 60.624
A25: 11 | E25: 14.28 | I25: 70.416
... A37: 23 | E37: 16.248 | I37: 58.176
A38: 24
A39: Итого | E39: =SUM(E15:E38) -> 325.512 | I39: =SUM(I15:I38) -> 1295.088 | M39: =SUM(M15:M38) -> 0 | Q39: =SUM(Q15:Q38) -> 0
A40: 1, При наличии на предприятии отклонений от нормальных режимов электропотребления (временное изменение схем питания, остановка на ремонт, резкое снижение
A41: эл,потребления и т,д,) последние необходимо перечислить,
A42: Главный инженер АО "Вологдаоблэнерго" А,В, Чурляев
A43: составляется самим предприятием с соблюдением всех пунктов настоящей таблицы,

Sheet 14==
B1: АО "Вологдаоблэнерго" | J1: код 900151 | N1: ПС Загородная, ф, Тоншалово-2
B2: наименование предприятия | N2: наименование источника питания
N3: ТП-6 Детский сад В-1
B4: ул, Горького, 99 | I4: Таблица № 1 | N4: ТП-6 Детский сад В-2
B5: адрес
A6: почасовых записей показаний электрических счетчиков
A7: ='1=='!A7:Q7 -> в режимный день 20 ДЕКАБРЯ 2023 г.
A8: 1630 | B8: 1628
A9: часы суток | B9: Активная энергия | J9: Реактивная энергия
B10: =N3 -> ТП-6 Детский сад В-1 | F10: =N4 -> ТП-6 Детский сад В-2 | J10: =B10 -> ТП-6 Детский сад В-1 | N10: =F10 -> ТП-6 Детский сад В-2
B11: Расчет, Коэф, | E11: 120 | F11: Расчет, Коэф, | I11: 120 | J11: Расчет, Коэф, | M11: =E11 -> 120 | N11: Расчет, Коэф, | Q11: =I11 -> 120
B12: показания счетчика | C12: разность | E12: расход эл,энергии за час | F12: показания счетчика | G12: разность | I12: расход эл,энергии за час | J12: показания счетчика | K12: разность | M12: расход эл,энергии за час | N12: показания счетчика | O12: разность | Q12: расход эл,энергии за час
A13: 1 | B13: 2 | C13: 3 | E13: 4 | F13: 5 | G13: 6 | I13: 7 | J13: 8 | K13: 9 | M13: 10 | N13: 11 | O13: 12 | Q13: 13
A14: 0 | E14: 51.432 | I14: 38.304
A15: 1 | E15: 44.112 | I15: 33.696
A16: 2 | E16: 39.672 | I16: 29.064
A17: 3 | E17: 39.816 | I17: 27.96
A18: 4 | E18: 37.68 | I18: 26.064
A19: 5 | E19: 35.664 | I19: 26.952
A20: 6 | E20: 35.592 | I20: 29.592
A21: 7 | E21: 41.544 | I21: 35.664
A22: 8 | E22: 50.16 | I22: 36.96
A23: 9 | E23: 52.872 | I23: 36.264
A24: 10 | E24: 54.144 | I24: 36.864
A25: 11 | E25: 61.416 | I25: 38.088
... A37: 23 | E37: 68.448 | I37: 44.64
A38: 24
A39: Итого | E39: =SUM(E15:E38) -> 1312.752 | I39: =SUM(I15:I38) -> 889.296 | M39: =SUM(M15:M38) -> 0 | Q39: =SUM(Q15:Q38) -> 0
A40: 1, При наличии на предприятии отклонений от нормальных режимов электропотребления (временное изменение схем питания, остановка на ремонт, резкое снижение
A41: эл,потребления и т,д,) последние необходимо перечислить,
A42: Главный инженер АО "Вологдаоблэнерго" А,В, Чурляев
A43: составляется самим предприятием с соблюдением всех пунктов настоящей таблицы,

Sheet 15=
B1: АО "Вологдаоблэнерго" | J1: код 900151 | N1: ПС Загородная, ф, Тоншалово-2
B2: наименование предприятия | N2: наименование источника питания
N3: ТП-2 Поселок
B4: ул, Горького, 99 | I4: Таблица № 1
B5: адрес
A6: почасовых записей показаний электрических счетчиков
A7: ='1=='!A7:Q7 -> в режимный день 20 ДЕКАБРЯ 2023 г.
A8: 1630 | B8: 1628
A9: часы суток | B9: Активная энергия | J9: Реактивная энергия
B10: =N3 -> ТП-2 Поселок | F10: =N4 -> 0 | J10: =B10 -> ТП-2 Поселок | N10: =F10 -> 0
B11: Расчет, Коэф, | E11: 200 | F11: Расчет, Коэф, | I11: 120 | J11: Расчет, Коэф, | M11: =E11 -> 200 | N11: Расчет, Коэф, | Q11: =I11 -> 120
B12: показания счетчика | C12: разность | E12: расход эл,энергии за час | F12: показания счетчика | G12: разность | I12: расход эл,энергии за час | J12: показания счетчика | K12: разность | M12: расход эл,энергии за час | N12: показания счетчика | O12: разность | Q12: расход эл,энергии за час
A13: 1 | B13: 2 | C13: 3 | E13: 4 | F13: 5 | G13: 6 | I13: 7 | J13: 8 | K13: 9 | M13: 10 | N13: 11 | O13: 12 | Q13: 13
A14: 0 | E14: 112.76 | I14: 0
A15: 1 | E15: 100.28 | I15: 0
A16: 2 | E16: 90.16 | I16: 0
A17: 3 | E17: 87.96 | I17: 0
A18: 4 | E18: 82.76 | I18: 0
A19: 5 | E19: 81.68 | I19: 0
A20: 6 | E20: 88.08 | I20: 0
A21: 7 | E21: 101.16 | I21: 0
A22: 8 | E22: 112.04 | I22: 0
A23: 9 | E23: 115.2 | I23: 0
A24: 10 | E24: 117.56 | I24: 0
A25: 11 | E25: 122.16 | I25: 0
... A37: 23 | E37: 132.04 | I37: 0
A38: 24
A39: Итого | E39: =SUM(E15:E38) -> 2583.96 | I39: =SUM(I15:I38) -> 0 | M39: =SUM(M15:M38) -> 0 | Q39: =SUM(Q15:Q38) -> 0
A40: 1, При наличии на предприятии отклонений от нормальных режимов электропотребления (временное изменение схем питания, остановка на ремонт, резкое снижение
A41: эл,потребления и т,д,) последние необходимо перечислить,
A42: Главный инженер АО "Вологдаоблэнерго" А,В, Чурляев
A43: составляется самим предприятием с соблюдением всех пунктов настоящей таблицы,

Sheet 16==
B1: АО "Вологдаоблэнерго" | J1: код 900151 | N1: ПС Загородная, ф, Солманское
B2: наименование предприятия | N2: наименование источника питания
N3: ТП-Котельная ПМК-2 В-1
B4: ул, Горького, 99 | I4: Таблица № 1 | N4: ТП-Котельная ПМК-2 В-2
B5: адрес
A6: почасовых записей показаний электрических счетчиков
A7: ='1=='!A7:Q7 -> в режимный день 20 ДЕКАБРЯ 2023 г.
A8: 1630 | B8: 1628
A9: часы суток | B9: Активная энергия | J9: Реактивная энергия
B10: =N3 -> ТП-Котельная ПМК-2 В-1 | F10: =N4 -> ТП-Котельная ПМК-2 В-2 | J10: =B10 -> ТП-Котельная ПМК-2 В-1 | N10: =F10 -> ТП-Котельная ПМК-2 В-2
B11: Расчет, Коэф, | E11: 80 | F11: Расчет, Коэф, | I11: 80 | J11: Расчет, Коэф, | M11: =E11 -> 80 | N11: Расчет, Коэф, | Q11: =I11 -> 80
B12: показания счетчика | C12: разность | E12: расход эл,энергии за час | F12: показания счетчика | G12: разность | I12: расход эл,энергии за час | J12: показания счетчика | K12: разность | M12: расход эл,энергии за час | N12: показания счетчика | O12: разность | Q12: расход эл,энергии за час
A13: 1 | B13: 2 | C13: 3 | E13: 4 | F13: 5 | G13: 6 | I13: 7 | J13: 8 | K13: 9 | M13: 10 | N13: 11 | O13: 12 | Q13: 13
A14: 0 | E14: 5.408 | I14: 0
A15: 1 | E15: 5.6 | I15: 0
A16: 2 | E16: 5.376 | I16: 0
A17: 3 | E17: 5.68 | I17: 0
A18: 4 | E18: 5.44 | I18: 0
A19: 5 | E19: 6.096 | I19: 0
A20: 6 | E20: 12.96 | I20: 0
A21: 7 | E21: 38.032 | I21: 0
A22: 8 | E22: 49.968 | I22: 0
A23: 9 | E23: 28.144 | I23: 0
A24: 10 | E24: 28.176 | I24: 0
A25: 11 | E25: 22.736 | I25: 0
... A37: 23 | E37: 5.168 | I37: 0
A38: 24
A39: Итого | E39: =SUM(E15:E38) -> 348.96 | I39: =SUM(I15:I38) -> 0 | M39: =SUM(M15:M38) -> 0 | Q39: =SUM(Q15:Q38) -> 0
A40: 1, При наличии на предприятии отклонений от нормальных режимов электропотребления (временное изменение схем питания, остановка на ремонт, резкое снижение
A41: эл,потребления и т,д,) последние необходимо перечислить,
A42: Главный инженер АО "Вологдаоблэнерго" А,В, Чурляев
A43: составляется самим предприятием с соблюдением всех пунктов настоящей таблицы,

Sheet 17==
B1: АО "Вологдаоблэнерго" | J1: код 900151 | N1: ПС Нелазское, ф, Шулма
B2: наименование предприятия | N2: наименование источника питания
N3: ТП-244
B4: ул, Горького, 99 | I4: Таблица № 1 | N4: ТП-250
B5: адрес
A6: почасовых записей показаний электрических счетчиков
A7: ='1=='!A7:Q7 -> в режимный день 20 ДЕКАБРЯ 2023 г.
A8: 1630 | B8: 1628
A9: часы суток | B9: Активная энергия | J9: Реактивная энергия
B10: =N3 -> ТП-244 | F10: =N4 -> ТП-250 | J10: =B10 -> ТП-244 | N10: =F10 -> ТП-250
B11: Расчет, Коэф, | E11: 60 | F11: Расчет, Коэф, | I11: 60 | J11: Расчет, Коэф, | M11: =E11 -> 60 | N11: Расчет, Коэф, | Q11: =I11 -> 60
B12: показания счетчика | C12: разность | E12: расход эл,энергии за час | F12: показания счетчика | G12: разность | I12: расход эл,энергии за час | J12: показания счетчика | K12: разность | M12: расход эл,энергии за час | N12: показания счетчика | O12: разность | Q12: расход эл,энергии за час
A13: 1 | B13: 2 | C13: 3 | E13: 4 | F13: 5 | G13: 6 | I13: 7 | J13: 8 | K13: 9 | M13: 10 | N13: 11 | O13: 12 | Q13: 13
A14: 0 | E14: 6.57 | I14: 0
A15: 1 | E15: 6.69 | I15: 0
A16: 2 | E16: 6.66 | I16: 0
A17: 3 | E17: 6.66 | I17: 0
A18: 4 | E18: 6.66 | I18: 0
A19: 5 | E19: 6.66 | I19: 0
A20: 6 | E20: 6.66 | I20: 0
A21: 7 | E21: 6.66 | I21: 0
A22: 8 | E22: 6.66 | I22: 0
A23: 9 | E23: 6.66 | I23: 0
A24: 10 | E24: 6.63 | I24: 0
A25: 11 | E25: 6.66 | I25: 0
... A37: 23 | E37: 6.63 | I37: 0
A38: 24
A39: Итого | E39: =SUM(E15:E38) -> 152.94 | I39: =SUM(I15:I38) -> 0 | M39: =SUM(M15:M38) -> 0 | Q39: =SUM(Q15:Q38) -> 0
A40: 1, При наличии на предприятии отклонений от нормальных режимов электропотребления (временное изменение схем питания, остановка на ремонт, резкое снижение
A41: эл,потребления и т,д,) последние необходимо перечислить,
A42: Главный инженер АО "Вологдаоблэнерго" А,В, Чурляев
A43: составляется самим предприятием с соблюдением всех пунктов настоящей таблицы,

Sheet 18==
B1: АО "Вологдаоблэнерго" | J1: код 900151 | N1: ПС Нелазское, ф, Шулма
B2: наименование предприятия | N2: наименование источника питания
N3: ТП-Поселок
B4: ул, Горького, 99 | I4: Таблица № 1 | N4: ТП-Школа
B5: адрес
A6: почасовых записей показаний электрических счетчиков
A7: ='1=='!A7:Q7 -> в режимный день 20 ДЕКАБРЯ 2023 г.
A8: 1630 | B8: 1628
A9: часы суток | B9: Активная энергия | J9: Реактивная энергия
B10: =N3 -> ТП-Поселок | F10: =N4 -> ТП-Школа | J10: =B10 -> ТП-Поселок | N10: =F10 -> ТП-Школа
B11: Расчет, Коэф, | E11: 120 | F11: Расчет, Коэф, | I11: 120 | J11: Расчет, Коэф, | M11: =E11 -> 120 | N11: Расчет, Коэф, | Q11: =I11 -> 120
B12: показания счетчика | C12: разность | E12: расход эл,энергии за час | F12: показания счетчика | G12: разность | I12: расход эл,энергии за час | J12: показания счетчика | K12: разность | M12: расход эл,энергии за час | N12: показания счетчика | O12: разность | Q12: расход эл,энергии за час
A13: 1 | B13: 2 | C13: 3 | E13: 4 | F13: 5 | G13: 6 | I13: 7 | J13: 8 | K13: 9 | M13: 10 | N13: 11 | O13: 12 | Q13: 13
A14: 0 | E14: 98.16 | I14: 6.168
A15: 1 | E15: 82.8 | I15: 6.456
A16: 2 | E16: 75.72 | I16: 8.064
A17: 3 | E17: 77.28 | I17: 5.568
A18: 4 | E18: 75.6 | I18: 5.736
A19: 5 | E19: 75.48 | I19: 3.936
A20: 6 | E20: 80.28 | I20: 2.688
A21: 7 | E21: 94.2 | I21: 5.976
A22: 8 | E22: 99.84 | I22: 13.944
A23: 9 | E23: 109.68 | I23: 17.184
A24: 10 | E24: 105.48 | I24: 16.896
A25: 11 | E25: 108.36 | I25: 21.888
... A37: 23 | E37: 110.4 | I37: 9.144
A38: 24
A39: Итого | E39: =SUM(E15:E38) -> 2331.36 | I39: =SUM(I15:I38) -> 215.904 | M39: =SUM(M15:M38) -> 0 | Q39: =SUM(Q15:Q38) -> 0
A40: 1, При наличии на предприятии отклонений от нормальных режимов электропотребления (временное изменение схем питания, остановка на ремонт, резкое снижение
A41: эл,потребления и т,д,) последние необходимо перечислить,
A42: Главный инженер АО "Вологдаоблэнерго" А,В, Чурляев
A43: составляется самим предприятием с соблюдением всех пунктов настоящей таблицы,

Sheet 19==
B1: АО "Вологдаоблэнерго" | J1: код 900151 | N1: ПС Нелазское, ф, К-с Нелазское-2
B2: наименование предприятия | N2: наименование источника питания
N3: ТП-14 В-1
B4: ул, Горького, 99 | I4: Таблица № 1 | N4: ТП-14 В-2
B5: адрес
A6: почасовых записей показаний электрических счетчиков
A7: ='1=='!A7:Q7 -> в режимный день 20 ДЕКАБРЯ 2023 г.
A8: 1630 | B8: 1628
A9: часы суток | B9: Активная энергия | J9: Реактивная энергия
B10: =N3 -> ТП-14 В-1 | F10: =N4 -> ТП-14 В-2 | J10: =B10 -> ТП-14 В-1 | N10: =F10 -> ТП-14 В-2
B11: Расчет, Коэф, | E11: 120 | F11: Расчет, Коэф, | I11: 120 | J11: Расчет, Коэф, | M11: =E11 -> 120 | N11: Расчет, Коэф, | Q11: =I11 -> 120
B12: показания счетчика | C12: разность | E12: расход эл,энергии за час | F12: показания счетчика | G12: разность | I12: расход эл,энергии за час | J12: показания счетчика | K12: разность | M12: расход эл,энергии за час | N12: показания счетчика | O12: разность | Q12: расход эл,энергии за час
A13: 1 | B13: 2 | C13: 3 | E13: 4 | F13: 5 | G13: 6 | I13: 7 | J13: 8 | K13: 9 | M13: 10 | N13: 11 | O13: 12 | Q13: 13
A14: 0 | E14: 0 | I14: 99.72
A15: 1 | E15: 0 | I15: 109.8
A16: 2 | E16: 0 | I16: 68.04
A17: 3 | E17: 0 | I17: 77.64
A18: 4 | E18: 0 | I18: 74.52
A19: 5 | E19: 0 | I19: 56.88
A20: 6 | E20: 0 | I20: 69.96
A21: 7 | E21: 0 | I21: 63.6
A22: 8 | E22: 0 | I22: 91.56
A23: 9 | E23: 0 | I23: 103.32
A24: 10 | E24: 0 | I24: 97.68
A25: 11 | E25: 0 | I25: 102.24
... A37: 23 | E37: 0 | I37: 86.52
A38: 24
A39: Итого | E39: =SUM(E15:E38) -> 0 | I39: =SUM(I15:I38) -> 2067.48 | M39: =SUM(M15:M38) -> 0 | Q39: =SUM(Q15:Q38) -> 0
A40: 1, При наличии на предприятии отклонений от нормальных режимов электропотребления (временное изменение схем питания, остановка на ремонт, резкое снижение
A41: эл,потребления и т,д,) последние необходимо перечислить,
A42: Главный инженер АО "Вологдаоблэнерго" А,В, Чурляев
A43: составляется самим предприятием с соблюдением всех пунктов настоящей таблицы,

Sheet 20==
B1: АО "Вологдаоблэнерго" | J1: код 900151 | N1: ПС Нелазское, ф, К-с Нелазское-2
B2: наименование предприятия | N2: наименование источника питания
N3: ТП-15 В-1
B4: ул, Горького, 99 | I4: Таблица № 1 | N4: ТП-15 В-2
B5: адрес
A6: почасовых записей показаний электрических счетчиков
A7: ='1=='!A7:Q7 -> в режимный день 20 ДЕКАБРЯ 2023 г.
A8: 1630 | B8: 1628
A9: часы суток | B9: Активная энергия | J9: Реактивная энергия
B10: =N3 -> ТП-15 В-1 | F10: =N4 -> ТП-15 В-2 | J10: =B10 -> ТП-15 В-1 | N10: =F10 -> ТП-15 В-2
B11: Расчет, Коэф, | E11: 200 | F11: Расчет, Коэф, | I11: 120 | J11: Расчет, Коэф, | M11: =E11 -> 200 | N11: Расчет, Коэф, | Q11: =I11 -> 120
B12: показания счетчика | C12: разность | E12: расход эл,энергии за час | F12: показания счетчика | G12: разность | I12: расход эл,энергии за час | J12: показания счетчика | K12: разность | M12: расход эл,энергии за час | N12: показания счетчика | O12: разность | Q12: расход эл,энергии за час
A13: 1 | B13: 2 | C13: 3 | E13: 4 | F13: 5 | G13: 6 | I13: 7 | J13: 8 | K13: 9 | M13: 10 | N13: 11 | O13: 12 | Q13: 13
A14: 0 | E14: 1.6 | I14: 38.64
A15: 1 | E15: 1.4 | I15: 37.8
A16: 2 | E16: 1.4 | I16: 34.2
A17: 3 | E17: 1.6 | I17: 33.96
A18: 4 | E18: 1.4 | I18: 34.2
A19: 5 | E19: 1.4 | I19: 34.44
A20: 6 | E20: 1.6 | I20: 37.44
A21: 7 | E21: 1.4 | I21: 44.16
A22: 8 | E22: 1.4 | I22: 47.04
A23: 9 | E23: 1.6 | I23: 66.48
A24: 10 | E24: 1.4 | I24: 89.64
A25: 11 | E25: 1.4 | I25: 79.2
... A37: 23 | E37: 1.4 | I37: 39.84
A38: 24
A39: Итого | E39: =SUM(E15:E38) -> 33.6 | I39: =SUM(I15:I38) -> 1178.64 | M39: =SUM(M15:M38) -> 0 | Q39: =SUM(Q15:Q38) -> 0
A40: 1, При наличии на предприятии отклонений от нормальных режимов электропотребления (временное изменение схем питания, остановка на ремонт, резкое снижение
A41: эл,потребления и т,д,) последние необходимо перечислить,
A42: Главный инженер АО "Вологдаоблэнерго" А,В, Чурляев
A43: составляется самим предприятием с соблюдением всех пунктов настоящей таблицы,

Sheet 21=
B1: АО "Вологдаоблэнерго" | J1: код 900151 | N1: ПС Нелазское, ф, Шулма очистные
B2: наименование предприятия | N2: наименование источника питания
N3: КТП-Ива
B4: ул, Горького, 99 | I4: Таблица № 1
B5: адрес
A6: почасовых записей показаний электрических счетчиков
A7: ='1=='!A7:Q7 -> в режимный день 20 ДЕКАБРЯ 2023 г.
A8: 1630 | B8: 1628
A9: часы суток | B9: Активная энергия | J9: Реактивная энергия
B10: =N3 -> КТП-Ива | F10: =N4 -> 0 | J10: =B10 -> КТП-Ива | N10: =F10 -> 0
B11: Расчет, Коэф, | E11: 30 | F11: Расчет, Коэф, | I11: 120 | J11: Расчет, Коэф, | M11: =E11 -> 30 | N11: Расчет, Коэф, | Q11: =I11 -> 120
B12: показания счетчика | C12: разность | E12: расход эл,энергии за час | F12: показания счетчика | G12: разность | I12: расход эл,энергии за час | J12: показания счетчика | K12: разность | M12: расход эл,энергии за час | N12: показания счетчика | O12: разность | Q12: расход эл,энергии за час
A13: 1 | B13: 2 | C13: 3 | E13: 4 | F13: 5 | G13: 6 | I13: 7 | J13: 8 | K13: 9 | M13: 10 | N13: 11 | O13: 12 | Q13: 13
A14: 0 | E14: 3.405
A15: 1 | E15: 3.03
A16: 2 | E16: 2.22
A17: 3 | E17: 2.415
A18: 4 | E18: 2.01
A19: 5 | E19: 1.875
A20: 6 | E20: 4.92
A21: 7 | E21: 3.63
A22: 8 | E22: 3.765
A23: 9 | E23: 4.155
A24: 10 | E24: 4.635
A25: 11 | E25: 3.585
... A37: 23 | E37: 3.195
A38: 24
A39: Итого | E39: =SUM(E15:E38) -> 92.205 | I39: =SUM(I15:I38) -> 0 | M39: =SUM(M15:M38) -> 0 | Q39: =SUM(Q15:Q38) -> 0
A40: 1, При наличии на предприятии отклонений от нормальных режимов электропотребления (временное изменение схем питания, остановка на ремонт, резкое снижение
A41: эл,потребления и т,д,) последние необходимо перечислить,
A42: Главный инженер АО "Вологдаоблэнерго" А,В, Чурляев
A43: составляется самим предприятием с соблюдением всех пунктов настоящей таблицы,

Sheet 22==
B1: АО "Вологдаоблэнерго" | J1: код 900151 | N1: ПС Нелазское, ф, Крутец
B2: наименование предприятия | N2: наименование источника питания
N3: КТП-1 "Сад-3 ЧМК"
B4: ул, Горького, 99 | I4: Таблица № 1 | N4: КТП-2 "Сад-3 ЧМК"
B5: адрес
A6: почасовых записей показаний электрических счетчиков
A7: ='1=='!A7:Q7 -> в режимный день 20 ДЕКАБРЯ 2023 г.
A8: 1630 | B8: 1628
A9: часы суток | B9: Активная энергия | J9: Реактивная энергия
B10: =N3 -> КТП-1 "Сад-3 ЧМК" | F10: =N4 -> КТП-2 "Сад-3 ЧМК" | J10: =B10 -> КТП-1 "Сад-3 ЧМК" | N10: =F10 -> КТП-2 "Сад-3 ЧМК"
B11: Расчет, Коэф, | E11: 60 | F11: Расчет, Коэф, | I11: 60 | J11: Расчет, Коэф, | M11: =E11 -> 60 | N11: Расчет, Коэф, | Q11: =I11 -> 60
B12: показания счетчика | C12: разность | E12: расход эл,энергии за час | F12: показания счетчика | G12: разность | I12: расход эл,энергии за час | J12: показания счетчика | K12: разность | M12: расход эл,энергии за час | N12: показания счетчика | O12: разность | Q12: расход эл,энергии за час
A13: 1 | B13: 2 | C13: 3 | E13: 4 | F13: 5 | G13: 6 | I13: 7 | J13: 8 | K13: 9 | M13: 10 | N13: 11 | O13: 12 | Q13: 13
A14: 0 | E14: 31.74 | I14: 5.04
A15: 1 | E15: 18.51 | I15: 4.02
A16: 2 | E16: 19.14 | I16: 4.17
A17: 3 | E17: 18.03 | I17: 4.08
A18: 4 | E18: 16.8 | I18: 4.08
A19: 5 | E19: 16.08 | I19: 5.73
A20: 6 | E20: 17.49 | I20: 5.79
A21: 7 | E21: 22.65 | I21: 5.07
A22: 8 | E22: 29.94 | I22: 7.14
A23: 9 | E23: 31.68 | I23: 8.01
A24: 10 | E24: 34.71 | I24: 5.13
A25: 11 | E25: 30.51 | I25: 5.85
... A37: 23 | E37: 42.54 | I37: 6.48
A38: 24
A39: Итого | E39: =SUM(E15:E38) -> 767.49 | I39: =SUM(I15:I38) -> 150.27 | M39: =SUM(M15:M38) -> 0 | Q39: =SUM(Q15:Q38) -> 0
A40: 1, При наличии на предприятии отклонений от нормальных режимов электропотребления (временное изменение схем питания, остановка на ремонт, резкое снижение
A41: эл,потребления и т,д,) последние необходимо перечислить,
A42: Главный инженер АО "Вологдаоблэнерго" А,В, Чурляев
A43: составляется самим предприятием с соблюдением всех пунктов настоящей таблицы,

Sheet 23==
B1: АО "Вологдаоблэнерго" | J1: код 900151 | N1: ПС Суда, ф, Андога
B2: наименование предприятия | N2: наименование источника питания
N3: ТП-243
B4: ул, Горького, 99 | I4: Таблица № 1 | N4: КТП-63 Кривец-1
B5: адрес
A6: почасовых записей показаний электрических счетчиков
A7: ='1=='!A7:Q7 -> в режимный день 20 ДЕКАБРЯ 2023 г.
A8: 1630 | B8: 1628
A9: часы суток | B9: Активная энергия | J9: Реактивная энергия
B10: =N3 -> ТП-243 | F10: =N4 -> КТП-63 Кривец-1 | J10: =B10 -> ТП-243 | N10: =F10 -> КТП-63 Кривец-1
B11: Расчет, Коэф, | E11: 60 | F11: Расчет, Коэф, | I11: 20 | J11: Расчет, Коэф, | M11: =E11 -> 60 | N11: Расчет, Коэф, | Q11: =I11 -> 20
B12: показания счетчика | C12: разность | E12: расход эл,энергии за час | F12: показания счетчика | G12: разность | I12: расход эл,энергии за час | J12: показания счетчика | K12: разность | M12: расход эл,энергии за час | N12: показания счетчика | O12: разность | Q12: расход эл,энергии за час
A13: 1 | B13: 2 | C13: 3 | E13: 4 | F13: 5 | G13: 6 | I13: 7 | J13: 8 | K13: 9 | M13: 10 | N13: 11 | O13: 12 | Q13: 13
A14: 0 | E14: 10.11 | I14: 0
A15: 1 | E15: 5.88 | I15: 0
A16: 2 | E16: 6.39 | I16: 0
A17: 3 | E17: 6.15 | I17: 0
A18: 4 | E18: 5.1 | I18: 0
A19: 5 | E19: 5.13 | I19: 0
A20: 6 | E20: 5.04 | I20: 0
A21: 7 | E21: 7.41 | I21: 0
A22: 8 | E22: 8.13 | I22: 0
A23: 9 | E23: 10.56 | I23: 0
A24: 10 | E24: 16.56 | I24: 0
A25: 11 | E25: 12.99 | I25: 0
... A37: 23 | E37: 12.6 | I37: 0
A38: 24
A39: Итого | E39: =SUM(E15:E38) -> 278.85 | I39: =SUM(I15:I38) -> 0 | M39: =SUM(M15:M38) -> 0 | Q39: =SUM(Q15:Q38) -> 0
A40: 1, При наличии на предприятии отклонений от нормальных режимов электропотребления (временное изменение схем питания, остановка на ремонт, резкое снижение
A41: эл,потребления и т,д,) последние необходимо перечислить,
A42: Главный инженер АО "Вологдаоблэнерго" А,В, Чурляев
A43: составляется самим предприятием с соблюдением всех пунктов настоящей таблицы,

Sheet 24==
B1: АО "Вологдаоблэнерго" | J1: код 900151 | N1: ПС Суда, ф, Сойволовское
B2: наименование предприятия | N2: наименование источника питания
N3: КТП общества садоводов "Заря-2"
B4: ул, Горького, 99 | I4: Таблица № 1 | N4: КТП "Дачи"
B5: адрес
A6: почасовых записей показаний электрических счетчиков
A7: ='1=='!A7:Q7 -> в режимный день 20 ДЕКАБРЯ 2023 г.
A8: 1630 | B8: 1628
A9: часы суток | B9: Активная энергия | J9: Реактивная энергия
B10: =N3 -> КТП общества садоводов "Заря-2" | F10: =N4 -> КТП "Дачи" | J10: =B10 -> КТП общества садоводов "Заря-2" | N10: =F10 -> КТП "Дачи"
B11: Расчет, Коэф, | E11: 40 | F11: Расчет, Коэф, | I11: 60 | J11: Расчет, Коэф, | M11: =E11 -> 40 | N11: Расчет, Коэф, | Q11: =I11 -> 60
B12: показания счетчика | C12: разность | E12: расход эл,энергии за час | F12: показания счетчика | G12: разность | I12: расход эл,энергии за час | J12: показания счетчика | K12: разность | M12: расход эл,энергии за час | N12: показания счетчика | O12: разность | Q12: расход эл,энергии за час
A13: 1 | B13: 2 | C13: 3 | E13: 4 | F13: 5 | G13: 6 | I13: 7 | J13: 8 | K13: 9 | M13: 10 | N13: 11 | O13: 12 | Q13: 13
A14: 0 | E14: 25.164 | I14: 12.15
A15: 1 | E15: 21.312 | I15: 10.89
A16: 2 | E16: 20.82 | I16: 9.09
A17: 3 | E17: 17.172 | I17: 8.4
A18: 4 | E18: 17.664 | I18: 7.77
A19: 5 | E19: 21.708 | I19: 8.4
A20: 6 | E20: 30.372 | I20: 10.26
A21: 7 | E21: 35.868 | I21: 12.6
A22: 8 | E22: 34.26 | I22: 13.71
A23: 9 | E23: 34.332 | I23: 17.67
A24: 10 | E24: 37.776 | I24: 16.02
A25: 11 | E25: 34.356 | I25: 16.53
... A37: 23 | E37: 37.536 | I37: 15.66
A38: 24
A39: Итого | E39: =SUM(E15:E38) -> 734.7 | I39: =SUM(I15:I38) -> 334.59 | M39: =SUM(M15:M38) -> 0 | Q39: =SUM(Q15:Q38) -> 0
A40: 1, При наличии на предприятии отклонений от нормальных режимов электропотребления (временное изменение схем питания, остановка на ремонт, резкое снижение
A41: эл,потребления и т,д,) последние необходимо перечислить,
A42: Главный инженер АО "Вологдаоблэнерго" А,В, Чурляев
A43: составляется самим предприятием с соблюдением всех пунктов настоящей таблицы,

Sheet 25=
B1: АО "Вологдаоблэнерго" | J1: код 900151 | N1: ПС Петринево, ф, Романово
B2: наименование предприятия | N2: наименование источника питания
N3: ТП-317
B4: ул, Горького, 99 | I4: Таблица № 1
B5: адрес
A6: почасовых записей показаний электрических счетчиков
A7: ='1=='!A7:Q7 -> в режимный день 20 ДЕКАБРЯ 2023 г.
A8: 1630 | B8: 1628
A9: часы суток | B9: Активная энергия | J9: Реактивная энергия
B10: =N3 -> ТП-317 | F10: =N4 -> 0 | J10: =B10 -> ТП-317 | N10: =F10 -> 0
B11: Расчет, Коэф, | E11: 120 | F11: Расчет, Коэф, | I11: 120 | J11: Расчет, Коэф, | M11: =E11 -> 120 | N11: Расчет, Коэф, | Q11: =I11 -> 120
B12: показания счетчика | C12: разность | E12: расход эл,энергии за час | F12: показания счетчика | G12: разность | I12: расход эл,энергии за час | J12: показания счетчика | K12: разность | M12: расход эл,энергии за час | N12: показания счетчика | O12: разность | Q12: расход эл,энергии за час
A13: 1 | B13: 2 | C13: 3 | E13: 4 | F13: 5 | G13: 6 | I13: 7 | J13: 8 | K13: 9 | M13: 10 | N13: 11 | O13: 12 | Q13: 13
A14: 0 | E14: 8.52
A15: 1 | E15: 7.98
A16: 2 | E16: 7.14
A17: 3 | E17: 6.24
A18: 4 | E18: 7.32
A19: 5 | E19: 9.9
A20: 6 | E20: 10.92
A21: 7 | E21: 13.26
A22: 8 | E22: 8.1
A23: 9 | E23: 10.02
A24: 10 | E24: 11.34
A25: 11 | E25: 10.02
... A37: 23 | E37: 12.96
A38: 24
A39: Итого | E39: =SUM(E15:E38) -> 252.66 | I39: =SUM(I15:I38) -> 0 | M39: =SUM(M15:M38) -> 0 | Q39: =SUM(Q15:Q38) -> 0
A40: 1, При наличии на предприятии отклонений от нормальных режимов электропотребления (временное изменение схем питания, остановка на ремонт, резкое снижение
A41: эл,потребления и т,д,) последние необходимо перечислить,
A42: Главный инженер АО "Вологдаоблэнерго" А,В, Чурляев
A43: составляется самим предприятием с соблюдением всех пунктов настоящей таблицы,

Sheet 26==
B1: АО "Вологдаоблэнерго" | J1: код 900151 | N1: ПС Домозерово, ф,Дом-2
B2: наименование предприятия | N2: наименование источника питания
N3: ТП-Водозабор (встроен) В-1
B4: ул, Горького, 99 | I4: Таблица № 1 | N4: ТП-Водозабор (встроен) В-2
B5: адрес
A6: почасовых записей показаний электрических счетчиков
A7: ='1=='!A7:Q7 -> в режимный день 20 ДЕКАБРЯ 2023 г.
A8: 1630 | B8: 1628
A9: часы суток | B9: Активная энергия | J9: Реактивная энергия
B10: =N3 -> ТП-Водозабор (встроен) В-1 | F10: =N4 -> ТП-Водозабор (встроен) В-2 | J10: =B10 -> ТП-Водозабор (встроен) В-1 | N10: =F10 -> ТП-Водозабор (встроен) В-2
B11: Расчет, Коэф, | E11: 20 | F11: Расчет, Коэф, | I11: 20 | J11: Расчет, Коэф, | M11: =E11 -> 20 | N11: Расчет, Коэф, | Q11: =I11 -> 20
B12: показания счетчика | C12: разность | E12: расход эл,энергии за час | F12: показания счетчика | G12: разность | I12: расход эл,энергии за час | J12: показания счетчика | K12: разность | M12: расход эл,энергии за час | N12: показания счетчика | O12: разность | Q12: расход эл,энергии за час
A13: 1 | B13: 2 | C13: 3 | E13: 4 | F13: 5 | G13: 6 | I13: 7 | J13: 8 | K13: 9 | M13: 10 | N13: 11 | O13: 12 | Q13: 13
A14: 0 | E14: 0 | I14: 1.51
A15: 1 | E15: 0 | I15: 1.51
A16: 2 | E16: 0 | I16: 1.5
A17: 3 | E17: 0 | I17: 1.5
A18: 4 | E18: 0 | I18: 1.57
A19: 5 | E19: 0 | I19: 1.49
A20: 6 | E20: 0 | I20: 1.48
A21: 7 | E21: 0 | I21: 3.07
A22: 8 | E22: 0 | I22: 8.66
A23: 9 | E23: 0 | I23: 8.6
A24: 10 | E24: 0 | I24: 8.65
A25: 11 | E25: 0 | I25: 8.57
... A37: 23 | E37: 0 | I37: 1.46
A38: 24
A39: Итого | E39: =SUM(E15:E38) -> 0 | I39: =SUM(I15:I38) -> 101.06 | M39: =SUM(M15:M38) -> 0 | Q39: =SUM(Q15:Q38) -> 0
A40: 1, При наличии на предприятии отклонений от нормальных режимов электропотребления (временное изменение схем питания, остановка на ремонт, резкое снижение
A41: эл,потребления и т,д,) последние необходимо перечислить,
A42: Главный инженер АО "Вологдаоблэнерго" А,В, Чурляев
A43: составляется самим предприятием с соблюдением всех пунктов настоящей таблицы,

Sheet 27==
B1: АО "Вологдаоблэнерго" | J1: код 900151 | N1: ПС Домозерово, ф,Дом-2
B2: наименование предприятия | N2: наименование источника питания
N3: ТП-Школа ПС Домозерово В-1
B4: ул, Горького, 99 | I4: Таблица № 1 | N4: ТП-Школа ПС Домозерово В-2
B5: адрес
A6: почасовых записей показаний электрических счетчиков
A7: ='1=='!A7:Q7 -> в режимный день 20 ДЕКАБРЯ 2023 г.
A8: 1630 | B8: 1628
A9: часы суток | B9: Активная энергия | J9: Реактивная энергия
B10: =N3 -> ТП-Школа ПС Домозерово В-1 | F10: =N4 -> ТП-Школа ПС Домозерово В-2 | J10: =B10 -> ТП-Школа ПС Домозерово В-1 | N10: =F10 -> ТП-Школа ПС Домозерово В-2
B11: Расчет, Коэф, | E11: 120 | F11: Расчет, Коэф, | I11: 120 | J11: Расчет, Коэф, | M11: =E11 -> 120 | N11: Расчет, Коэф, | Q11: =I11 -> 120
B12: показания счетчика | C12: разность | E12: расход эл,энергии за час | F12: показания счетчика | G12: разность | I12: расход эл,энергии за час | J12: показания счетчика | K12: разность | M12: расход эл,энергии за час | N12: показания счетчика | O12: разность | Q12: расход эл,энергии за час
A13: 1 | B13: 2 | C13: 3 | E13: 4 | F13: 5 | G13: 6 | I13: 7 | J13: 8 | K13: 9 | M13: 10 | N13: 11 | O13: 12 | Q13: 13
A14: 0 | E14: 9.552 | I14: 20.136
A15: 1 | E15: 9.84 | I15: 20.16
A16: 2 | E16: 9.672 | I16: 17.928
A17: 3 | E17: 9.552 | I17: 17.496
A18: 4 | E18: 7.632 | I18: 18.696
A19: 5 | E19: 7.056 | I19: 16.08
A20: 6 | E20: 6.816 | I20: 18.648
A21: 7 | E21: 7.296 | I21: 18.192
A22: 8 | E22: 7.56 | I22: 33.552
A23: 9 | E23: 6.984 | I23: 33.672
A24: 10 | E24: 6.696 | I24: 33.84
A25: 11 | E25: 6.912 | I25: 34.416
... A37: 23 | E37: 8.688 | I37: 22.128
A38: 24
A39: Итого | E39: =SUM(E15:E38) -> 187.608 | I39: =SUM(I15:I38) -> 607.872 | M39: =SUM(M15:M38) -> 0 | Q39: =SUM(Q15:Q38) -> 0
A40: 1, При наличии на предприятии отклонений от нормальных режимов электропотребления (временное изменение схем питания, остановка на ремонт, резкое снижение
A41: эл,потребления и т,д,) последние необходимо перечислить,
A42: Главный инженер АО "Вологдаоблэнерго" А,В, Чурляев
A43: составляется самим предприятием с соблюдением всех пунктов настоящей таблицы,

Sheet 28==
B1: АО "Вологдаоблэнерго" | J1: код 900151 | N1: ПС Домозерово, ф,Дом-2
B2: наименование предприятия | N2: наименование источника питания
N3: КТП "Очистные" ПС Домозерово
B4: ул, Горького, 99 | I4: Таблица № 1 | N4: ТП "Детский сад" ПС Домозерово
B5: адрес
A6: почасовых записей показаний электрических счетчиков
A7: ='1=='!A7:Q7 -> в режимный день 20 ДЕКАБРЯ 2023 г.
A8: 1630 | B8: 1628
A9: часы суток | B9: Активная энергия | J9: Реактивная энергия
B10: =N3 -> КТП "Очистные" ПС Домозерово | F10: =N4 -> ТП "Детский сад" ПС Домозерово | J10: =B10 -> КТП "Очистные" ПС Домозерово | N10: =F10 -> ТП "Детский сад" ПС Домозерово
B11: Расчет, Коэф, | E11: 60 | F11: Расчет, Коэф, | I11: 80 | J11: Расчет, Коэф, | M11: =E11 -> 60 | N11: Расчет, Коэф, | Q11: =I11 -> 80
B12: показания счетчика | C12: разность | E12: расход эл,энергии за час | F12: показания счетчика | G12: разность | I12: расход эл,энергии за час | J12: показания счетчика | K12: разность | M12: расход эл,энергии за час | N12: показания счетчика | O12: разность | Q12: расход эл,энергии за час
A13: 1 | B13: 2 | C13: 3 | E13: 4 | F13: 5 | G13: 6 | I13: 7 | J13: 8 | K13: 9 | M13: 10 | N13: 11 | O13: 12 | Q13: 13
A14: 0 | E14: 0.348 | I14: 26.08
A15: 1 | E15: 0.384 | I15: 19.92
A16: 2 | E16: 0.324 | I16: 19.52
A17: 3 | E17: 0.276 | I17: 17.36
A18: 4 | E18: 0.312 | I18: 16.56
A19: 5 | E19: 0.3 | I19: 17.12
A20: 6 | E20: 0.744 | I20: 20.56
A21: 7 | E21: 2.1 | I21: 26.72
A22: 8 | E22: 1.116 | I22: 29.68
A23: 9 | E23: 1.008 | I23: 30.4
A24: 10 | E24: 0.648 | I24: 25.68
A25: 11 | E25: 0.336 | I25: 24.4
... A37: 23 | E37: 0.312 | I37: 31.28
A38: 24
A39: Итого | E39: =SUM(E15:E38) -> 19.284 | I39: =SUM(I15:I38) -> 598.48 | M39: =SUM(M15:M38) -> 0 | Q39: =SUM(Q15:Q38) -> 0
A40: 1, При наличии на предприятии отклонений от нормальных режимов электропотребления (временное изменение схем питания, остановка на ремонт, резкое снижение
A41: эл,потребления и т,д,) последние необходимо перечислить,
A42: Главный инженер АО "Вологдаоблэнерго" А,В, Чурляев
A43: составляется самим предприятием с соблюдением всех пунктов настоящей таблицы,

Sheet 29=
B1: АО "Вологдаоблэнерго" | J1: код 900151 | N1: ПС Нелазское, ф, Цыково
B2: наименование предприятия | N2: наименование источника питания
N3: КТП-250кВА Зашекснинское
B4: ул, Горького, 99 | I4: Таблица № 1
B5: адрес
A6: почасовых записей показаний электрических счетчиков
A7: ='1=='!A7:Q7 -> в режимный день 20 ДЕКАБРЯ 2023 г.
A8: 1630 | B8: 1628
A9: часы суток | B9: Активная энергия | J9: Реактивная энергия
B10: =N3 -> КТП-250кВА Зашекснинское | F10: =N4 -> 0 | J10: =B10 -> КТП-250кВА Зашекснинское | N10: =F10 -> 0
B11: Расчет, Коэф, | E11: 60 | F11: Расчет, Коэф, | I11: 120 | J11: Расчет, Коэф, | M11: =E11 -> 60 | N11: Расчет, Коэф, | Q11: =I11 -> 120
B12: показания счетчика | C12: разность | E12: расход эл,энергии за час | F12: показания счетчика | G12: разность | I12: расход эл,энергии за час | J12: показания счетчика | K12: разность | M12: расход эл,энергии за час | N12: показания счетчика | O12: разность | Q12: расход эл,энергии за час
A13: 1 | B13: 2 | C13: 3 | E13: 4 | F13: 5 | G13: 6 | I13: 7 | J13: 8 | K13: 9 | M13: 10 | N13: 11 | O13: 12 | Q13: 13
A14: 0 | E14: 0
A15: 1 | E15: 0
A16: 2 | E16: 0
A17: 3 | E17: 0
A18: 4 | E18: 0
A19: 5 | E19: 0
A20: 6 | E20: 0
A21: 7 | E21: 0
A22: 8 | E22: 0
A23: 9 | E23: 0
A24: 10 | E24: 0
A25: 11 | E25: 0
... A37: 23 | E37: 0
A38: 24
A39: Итого | E39: =SUM(E15:E38) -> 0 | I39: =SUM(I15:I38) -> 0 | M39: =SUM(M15:M38) -> 0 | Q39: =SUM(Q15:Q38) -> 0
A40: 1, При наличии на предприятии отклонений от нормальных режимов электропотребления (временное изменение схем питания, остановка на ремонт, резкое снижение
A41: эл,потребления и т,д,) последние необходимо перечислить,
A42: Главный инженер АО "Вологдаоблэнерго" А,В, Чурляев
A43: составляется самим предприятием с соблюдением всех пунктов настоящей таблицы,

Sheet 30==
B1: АО "Вологдаоблэнерго" | J1: код 900151 | N1: ПС Нелазское, ф, Починок
B2: наименование предприятия | N2: наименование источника питания
N3: КТП-Дачи "Березка"
B4: ул, Горького, 99 | I4: Таблица № 1 | N4: КТП-Пенек
B5: адрес
A6: почасовых записей показаний электрических счетчиков
A7: ='1=='!A7:Q7 -> в режимный день 20 ДЕКАБРЯ 2023 г.
A8: 1630 | B8: 1628
A9: часы суток | B9: Активная энергия | J9: Реактивная энергия
B10: =N3 -> КТП-Дачи "Березка" | F10: =N4 -> КТП-Пенек | J10: =B10 -> КТП-Дачи "Березка" | N10: =F10 -> КТП-Пенек
B11: Расчет, Коэф, | E11: 80 | F11: Расчет, Коэф, | I11: 80 | J11: Расчет, Коэф, | M11: =E11 -> 80 | N11: Расчет, Коэф, | Q11: =I11 -> 80
B12: показания счетчика | C12: разность | E12: расход эл,энергии за час | F12: показания счетчика | G12: разность | I12: расход эл,энергии за час | J12: показания счетчика | K12: разность | M12: расход эл,энергии за час | N12: показания счетчика | O12: разность | Q12: расход эл,энергии за час
