Workbook

Sheet Содержание книги
A1: Содержание
A4: № листа | B4: Электросетевой участок | C4: Центр питания
A5: 1-109 | B5: ЭСУ "Череповец"
A6: 110-118 | B6: ЭСУ "Бабаево"
A7: 119-153 | B7: ЭСУ "Кадуй"
A8: 154-166 | B8: ЭСУ "Чагода"
A9: 167-207 | B9: ЭСУ "Шексна"
A11: Содержание
A14: № листа | B14: Электросетевой участок | C14: Центр питания
A15: 1 а | B15: г, Вологда | C15: ОАО "БМЗ"
D16: яч, Т1, яч, Т2
A17: 1, 2 | B17: г, Вологда | C17: ПС "АНАНЬИНО"
D18: яч,7 - ф,"Город-7"
D19: яч,8 - ф,"Городской", яч,2 - ф,"Овощехранилище"
A20: 3 | B20: г, Вологда | C20: ПС "ИСКРА"
D21: яч,18 - ф,"РУБЦОВО"- СВ - ВЛ№2
A22: 4 | B22: г, Вологда | C22: ПС "МАЕГА"
D23: яч,13 - ф,"НИКИТИНО"-СВ - ВЛ№27
A24: 5,6, 7, 8, 9 | B24: г, Вологда | C24: ПС "ЗАПАДНАЯ
D25: яч,19 - "РМЗ-1", яч,24 - "РМЗ-2"
D26: яч,15 -"ОЧИСТНЫЕ-1", яч,9 -"ГОРОД-1"
D27: яч,21- "П/я-1", яч,20 - "П/я-2"
D28: яч,33 - "РП-35", яч,35 - "РП-37"
D29: яч,11 - "ГОРОД-2", яч,18 - "ОЧИСТНЫЕ-2"
A30: 10 | B30: г, Вологда | C30: ПС "СЕВЕРНАЯ 35/6 кВ
D31: Т1 - РП5ф3 ввод №1, Т2 - РП5ф17 ввод №2
A32: 11 | B32: г, Вологда | C32: РТП "ТЕПЛИЧНОГО ХОЗ - ВА"
D33: яч, 3 - ф,"Микрорайон-1" ввод № 1, яч,13 - ф,"Микрорайон-2" ввод № 2
A34: 12,13, 14 | B34: г, Вологда | C34: ГПП 110/10 кВ "ВОМЗ"
D35: яч,47 - РП 29 ввод № 1, яч,31 - РП 29 ввод № 2
D36: яч,5 - РП 14 ввод № 1, яч,22 - РП 14 ввод № 2
D37: яч,44 - РП 2 ввод № 1, яч,26в - РП 2 ввод № 2
A38: 15,16,17,18,19,20, 21 | B38: г, Вологда | C38: ПС ВОЛОГДА-ЮЖНАЯ РУ - 6 -10 кВ
D39: яч,15 - "ГОРОД-15", яч,24 - "ТУБДИСПАНСЕР"
D40: яч,10 - "ГОРОД-10", яч,14 - "ГОРОД-14"
D41: яч,20 - "ГОРОД 20"
D42: яч, 7- ф,"ГОРОД 7", яч,17 - ф,"ГОРОД 17"
D43: яч,3 - "ГОРОД-3", яч,5 - "ГОРОД-5"
D44: яч, 1 - "ГОРОД -1", яч, 20 - "РП 27"
D45: яч, 4 ф,"РОДИОНЦЕВО" - ПКУ
D46: яч, 307, 409 ф,"Охмыльцево"
A47: 22 | B47: г, Вологда | C47: ГПП ВОЛОГДА - ТЯГОВАЯ 110/27,5/6 кВ
D48: яч, 1 - ТП 450
A49: 23 | B49: г, Вологда | C49: ТП 10 СЖД ОАО РЖД
D50: яч,5 - ТП 238, яч,7 - ТП 651
A51: 24 | B51: г, Вологда | C51: ТП 34 СЖД ОАО РЖД
D52: яч,2 - ТП 660, яч,6 - ТП 662
A53: 25,26,27,28,29 | B53: г, Вологда | C53: ТГК- 2 ВТЭЦ РП 6 кВ
D54: яч,10 - РП 3 ввод № 1, яч, 115 - РП 3 ввод № 2
D55: яч, 114 - РП 23 ввод № 1, яч, 107 - РП 23 ввод № 2
D56: яч, 3 - ТП 217
D57: яч, 5 - РП 1 ввод № 1, яч, 12 - РП 1 ввод № 2
D58: яч, 4 - РП 20 ввод № 1, яч, 7 - РП 20 ввод № 2
A59: 30,31,32,33,34,34-1 | B59: г, Вологда | C59: ПС "ЦЕНТРАЛЬНАЯ" 110/6 кВ
D60: яч,4 - ТП 54 -Ι ввод № 1, яч, 30 - ТП 54 - ΙΙ ввод № 2
D61: яч, 14 - РП 13- Ι , яч, 22 - РП 13- ΙΙ
D62: яч,12 - РП 4 -Ι , яч, 24 - РП 4 -ΙΙ
D63: яч, 2 - РП 8 яч, 11
D64: яч,28 - ТП 11 -ΙΙ
D65: яч,22 - РП 21-I, яч,7 - РП 21-II
A66: 35, 36 | B66: г, Вологда | C66: ПС "ГОРОДСКАЯ" 35/6 кВ
D67: Т-1 - ЗРУ ф,1 ввод № 1, Т-3 - ЗРУ ф,20 ввод № 2 ,
D68: Т-2 - РП 9 ф, 11
A69: 37, 38, 39 | B69: г, Вологда | C69: ПС "ВОСТОЧНАЯ" 110/35/10 кВ
D70: яч,2 - "РП 39-1", яч, 21 - "РП 39-2"
D71: яч,15 - "РМЗ-1", яч,32 - "РМЗ-2"
D72: яч, 11- "ГОРОД-1", яч, 28- "ГОРОД-2"
A73: 40, 41 | B73: г, Вологда | C73: ПС "ЛУГОВАЯ"
D74: яч, 23 - ф,"ГОРОД-2 , яч, 2 - ф,"ГОРОД-3"
D75: яч,10 - ф,"ГОРОД-1" , яч,25 - ф,"ГОРОД-4"
A76: 42 | B76: г, Вологда | C76: РП "ГОРКА"
D77: яч, 4 - ф,"ЛОСТА-1", яч, 8 - ф,"ЛОСТА-2"
A78: 43, 44 | B78: г, Вологда | C78: ГПП 2 ЗАО ВПЗ
D79: яч, 53 - ВЛ № 8
D80: яч, 6 - ТП 535, яч, 24 - ТП 536
A81: 45 | B81: г, Вологда | C81: ГПП 1 ЗАО ВПЗ
D82: яч, 10 - ТП 463, яч, 34 - ТП 463
A83: 46 | B83: ЭСУ "Кубенское" | C83: ПС "Кубенское"
D84: ф, СПТУ
A85: 47, 48 | B85: ЭСУ п, Молочное | C85: ПС "Молочное" 35/10 кВ
D86: яч,,17 - ф,Молочное-1, яч 12 - ф,Молочное-2
D87: яч 18 - ф,Молочное-3 , яч 10, - ф,Очистные
A88: 49, 50 | B88: ЭСУ "Устье-Кубенское" | C88: РТП "КОРНИЛОВО" 35/10 кВ
D89: ф, "КОММУНАЛЬНЫЙ"
D90: ф, "УСТЬЕ", ф, "СХТ"
D91: ф,7 - КТП-21, ф,7 - КТП-16
D92: ф,7 - КТП-4, ф,14 - КТП-24
A93: 51, 52, 53 | B93: ЭСУ "Шуйское" | C93: ПС "ШУЙСКОЕ" 35/ 10 кВ
D94: яч, 16 - ф, "Биокомплекс"
D95: яч, 14 - ф,"Райцентр"
D96: яч, 14 - ф, "Школа"
A97: 54 | B97: ЭСУ г, Сокол | C97: ПС "ГДЗ" 110/6 кВ
D98: яч, 7 - ГДЗ-1 -РТП 6, яч, 17 - ГДЗ-2 - РТП 6
D99: яч, 14 - ГДЗ - ЛПК-1
A100: 55 | B100: ЭСУ г, Сокол | C100: ОАО "СОКОЛРЕММАШ"
D101: ЗРУ 6 кВ ф,3 - ТП 27, РУ -0,4 кВ ф,17
A102: 56, 57, 58, | B102: ЭСУ г, Сокол | C102: ОАО "Сокольский" ЦБК" ГПП 35/6 кВ
D103: яч,4 - РП 5, яч, 6 - РУ 3
D104: яч,2 - РТП 2, яч, 3 - РТП 2
D105: Освещение города 2-3 РУ-4 яч, 5, РУ-1 яч,9 - ТП 70
...

Sheet 1==
B1: АО "Вологдаоблэнерго" | J1: код 900151 | N1: ПС "Малечкино" ф,Птицефабрика
B2: наименование предприятия | N2: наименование источника питания
N3: _________________________________
B4: ул, Горького, 99 | I4: Таблица № 1 | N4: ТП-1 ЦРП Малечкино; ТП-5 АВМ
B5: адрес
A6: почасовых записей показаний электрических счетчиков
A7: в режимный день 20 ДЕКАБРЯ 2023 г.
A8: 1630 | B8: 1628
A9: часы суток | B9: Активная энергия | J9: Реактивная энергия
B10: ТП-1 ЦРП Малечкино | F10: ТП-5 АВМ | J10: ТП-1 ЦРП Малечкино | N10: ТП-5 АВМ
B11: Расчет, Коэф, | E11: 30 | F11: Расчет, Коэф, | I11: 120 | J11: Расчет, Коэф, | M11: =E11 -> 30 | N11: Расчет, Коэф, | Q11: =I11 -> 120
B12: показания счетчика | C12: разность | E12: расход эл,энергии за час | F12: показания счетчика | G12: разность | I12: расход эл,энергии за час | J12: показания счетчика | K12: разность | M12: расход эл,энергии за час | N12: показания счетчика | O12: разность | Q12: расход эл,энергии за час
A13: 1 | B13: 2 | C13: 3 | E13: 4 | F13: 5 | G13: 6 | I13: 7 | J13: 8 | K13: 9 | M13: 10 | N13: 11 | O13: 12 | Q13: 13
A14: 0 | E14: 3 | I14: 9.936
A15: 1 | E15: 3.28 | I15: 6.72
A16: 2 | E16: 3.8 | I16: 6.024
A17: 3 | E17: 3.88 | I17: 5.64
A18: 4 | E18: 0.96 | I18: 5.184
A19: 5 | E19: 2.44 | I19: 5.28
A20: 6 | E20: 2.2 | I20: 5.232
A21: 7 | E21: 0.4 | I21: 5.52
A22: 8 | E22: 1.72 | I22: 5.832
A23: 9 | E23: 12.48 | I23: 6.456
A24: 10 | E24: 15.76 | I24: 8.088
A25: 11 | E25: 20.04 | I25: 9.648
... A37: 23 | E37: 2.4 | I37: 9.888
A38: 24
A39: Итого | E39: =SUM(E15:E38) -> 182.84 | I39: =SUM(I15:I38) -> 203.448 | M39: =SUM(M15:M38) -> 0 | Q39: =SUM(Q15:Q38) -> 0
A40: 1, При наличии на предприятии отклонений от нормальных режимов электропотребления (временное изменение схем питания, остановка на ремонт, резкое снижение
A41: эл,потребления и т,д,) последние необходимо перечислить,
A42: Главный инженер АО "Вологдаоблэнерго" А,В, Чурляев
A43: составляется самим предприятием с соблюдением всех пунктов настоящей таблицы,

Sheet 2==
B1: АО "Вологдаоблэнерго" | J1: код 900151 | N1: ПС Малечкино, ф, Поселок
B2: наименование предприятия | N2: наименование источника питания
N3: ТП-8 ПС Малечкино В-1; В-2
B4: ул, Горького, 99 | I4: Таблица № 1
B5: адрес
A6: почасовых записей показаний электрических счетчиков
A7: ='1=='!A7:Q7 -> в режимный день 20 ДЕКАБРЯ 2023 г.
A8: 1630 | B8: 1628
A9: часы суток | B9: Активная энергия | J9: Реактивная энергия
B10: ТП-8 ПС Малечкино В-1 | F10: ТП-8 ПС Малечкино В-2 | J10: ТП-8 ПС Малечкино В-1 | N10: ТП-8 ПС Малечкино В-2
B11: Расчет, Коэф, | E11: 80 | F11: Расчет, Коэф, | I11: 80 | J11: Расчет, Коэф, | M11: =E11 -> 80 | N11: Расчет, Коэф, | Q11: =I11 -> 80
B12: показания счетчика | C12: разность | E12: расход эл,энергии за час | F12: показания счетчика | G12: разность | I12: расход эл,энергии за час | J12: показания счетчика | K12: разность | M12: расход эл,энергии за час | N12: показания счетчика | O12: разность | Q12: расход эл,энергии за час
A13: 1 | B13: 2 | C13: 3 | E13: 4 | F13: 5 | G13: 6 | I13: 7 | J13: 8 | K13: 9 | M13: 10 | N13: 11 | O13: 12 | Q13: 13
A14: 0 | E14: 15.136 | I14: 10.528
A15: 1 | E15: 15.712 | I15: 8.48
A16: 2 | E16: 12.064 | I16: 7.664
A17: 3 | E17: 10.816 | I17: 6.96
A18: 4 | E18: 10.016 | I18: 8.56
A19: 5 | E19: 19.312 | I19: 6.64
A20: 6 | E20: 20.832 | I20: 13.552
A21: 7 | E21: 21.424 | I21: 25.808
A22: 8 | E22: 19.744 | I22: 23.024
A23: 9 | E23: 25.584 | I23: 19.168
A24: 10 | E24: 22.88 | I24: 19.776
A25: 11 | E25: 20.432 | I25: 23.216
... A37: 23 | E37: 21.728 | I37: 15.296
A38: 24
A39: Итого | E39: =SUM(E15:E38) -> 454.112 | I39: =SUM(I15:I38) -> 342.608 | M39: =SUM(M15:M38) -> 0 | Q39: =SUM(Q15:Q38) -> 0
A40: 1, При наличии на предприятии отклонений от нормальных режимов электропотребления (временное изменение схем питания, остановка на ремонт, резкое снижение
A41: эл,потребления и т,д,) последние необходимо перечислить,
A42: Главный инженер АО "Вологдаоблэнерго" А,В, Чурляев
A43: составляется самим предприятием с соблюдением всех пунктов настоящей таблицы,

Sheet 3==
B1: АО "Вологдаоблэнерго" | J1: код 900151 | N1: ПС Малечкино, ф, Поселок
B2: наименование предприятия | N2: наименование источника питания
N3: ТП-105; КТП-Дачи п,Малечкино
B4: ул, Горького, 99 | I4: Таблица № 1
B5: адрес
A6: почасовых записей показаний электрических счетчиков
A7: ='1=='!A7:Q7 -> в режимный день 20 ДЕКАБРЯ 2023 г.
A8: 1630 | B8: 1628
A9: часы суток | B9: Активная энергия | J9: Реактивная энергия
B10: ТП-105 | F10: КТП-Дачи п,Малечкино | J10: ТП-105 | N10: КТП-Дачи п,Малечкино
B11: Расчет, Коэф, | E11: 80 | F11: Расчет, Коэф, | I11: 60 | J11: Расчет, Коэф, | M11: =E11 -> 80 | N11: Расчет, Коэф, | Q11: =I11 -> 60
B12: показания счетчика | C12: разность | E12: расход эл,энергии за час | F12: показания счетчика | G12: разность | I12: расход эл,энергии за час | J12: показания счетчика | K12: разность | M12: расход эл,энергии за час | N12: показания счетчика | O12: разность | Q12: расход эл,энергии за час
A13: 1 | B13: 2 | C13: 3 | E13: 4 | F13: 5 | G13: 6 | I13: 7 | J13: 8 | K13: 9 | M13: 10 | N13: 11 | O13: 12 | Q13: 13
A14: 0 | E14: 24.36 | I14: 2.88
A15: 1 | E15: 22.12 | I15: 1.56
A16: 2 | E16: 20.64 | I16: 1.52
A17: 3 | E17: 18.12 | I17: 1.56
A18: 4 | E18: 18.52 | I18: 1.52
A19: 5 | E19: 18.92 | I19: 1.56
A20: 6 | E20: 20.64 | I20: 1.52
A21: 7 | E21: 20.92 | I21: 1.52
A22: 8 | E22: 22.84 | I22: 1.48
A23: 9 | E23: 26.2 | I23: 1.56
A24: 10 | E24: 27.92 | I24: 1.52
A25: 11 | E25: 27.16 | I25: 1.52
... A37: 23 | E37: 28.48 | I37: 2.84
A38: 24
A39: Итого | E39: =SUM(E15:E38) -> 593.04 | I39: =SUM(I15:I38) -> 49.84 | M39: =SUM(M15:M38) -> 0 | Q39: =SUM(Q15:Q38) -> 0
A40: 1, При наличии на предприятии отклонений от нормальных режимов электропотребления (временное изменение схем питания, остановка на ремонт, резкое снижение
A41: эл,потребления и т,д,) последние необходимо перечислить,
A42: Главный инженер АО "Вологдаоблэнерго" А,В, Чурляев
A43: составляется самим предприятием с соблюдением всех пунктов настоящей таблицы,

Sheet 4==
B1: АО "Вологдаоблэнерго" | J1: код 900151 | N1: ПС Малечкино, ф, Поселок
B2: наименование предприятия | N2: наименование источника питания
N3: ТП-35; ТП-103
B4: ул, Горького, 99 | I4: Таблица № 1
B5: адрес
A6: почасовых записей показаний электрических счетчиков
A7: ='1=='!A7:Q7 -> в режимный день 20 ДЕКАБРЯ 2023 г.
A8: 1630 | B8: 1628
A9: часы суток | B9: Активная энергия | J9: Реактивная энергия
B10: ТП-35 | F10: ТП-103 | J10: ТП-35 | N10: ТП-103
B11: Расчет, Коэф, | E11: 30 | F11: Расчет, Коэф, | I11: 120 | J11: Расчет, Коэф, | M11: =E11 -> 30 | N11: Расчет, Коэф, | Q11: =I11 -> 120
B12: показания счетчика | C12: разность | E12: расход эл,энергии за час | F12: показания счетчика | G12: разность | I12: расход эл,энергии за час | J12: показания счетчика | K12: разность | M12: расход эл,энергии за час | N12: показания счетчика | O12: разность | Q12: расход эл,энергии за час
A13: 1 | B13: 2 | C13: 3 | E13: 4 | F13: 5 | G13: 6 | I13: 7 | J13: 8 | K13: 9 | M13: 10 | N13: 11 | O13: 12 | Q13: 13
A14: 0 | E14: 4.74 | I14: 75.936
A15: 1 | E15: 3.34 | I15: 65.568
A16: 2 | E16: 2.96 | I16: 58.32
A17: 3 | E17: 2.66 | I17: 63.432
A18: 4 | E18: 2.86 | I18: 56.4
A19: 5 | E19: 2.96 | I19: 54.912
A20: 6 | E20: 7.38 | I20: 60.816
A21: 7 | E21: 3.9 | I21: 70.776
A22: 8 | E22: 6.06 | I22: 77.4
A23: 9 | E23: 12 | I23: 77.544
A24: 10 | E24: 10.12 | I24: 78.504
A25: 11 | E25: 12.36 | I25: 77.28
... A37: 23 | E37: 7.18 | I37: 97.248
A38: 24
A39: Итого | E39: =SUM(E15:E38) -> 175.4 | I39: =SUM(I15:I38) -> 1898.832 | M39: =SUM(M15:M38) -> 0 | Q39: =SUM(Q15:Q38) -> 0
A40: 1, При наличии на предприятии отклонений от нормальных режимов электропотребления (временное изменение схем питания, остановка на ремонт, резкое снижение
A41: эл,потребления и т,д,) последние необходимо перечислить,
A42: Главный инженер АО "Вологдаоблэнерго" А,В, Чурляев
A43: составляется самим предприятием с соблюдением всех пунктов настоящей таблицы,

Sheet 5==
B1: АО "Вологдаоблэнерго" | J1: код 900151 | N1: ПС Малечкино, ф, Поселок
B2: наименование предприятия | N2: наименование источника питания
N3: ТП-3 ПС Малечкино; ТП-97
B4: ул, Горького, 99 | I4: Таблица № 1
B5: адрес
A6: почасовых записей показаний электрических счетчиков
A7: ='1=='!A7:Q7 -> в режимный день 20 ДЕКАБРЯ 2023 г.
A8: 1630 | B8: 1628
A9: часы суток | B9: Активная энергия | J9: Реактивная энергия
B10: ТП-3 ПС Малечкино | F10: ТП-97 | J10: ТП-3 ПС Малечкино | N10: ТП-97
B11: Расчет, Коэф, | E11: 120 | F11: Расчет, Коэф, | I11: 60 | J11: Расчет, Коэф, | M11: =E11 -> 120 | N11: Расчет, Коэф, | Q11: =I11 -> 60
B12: показания счетчика | C12: разность | E12: расход эл,энергии за час | F12: показания счетчика | G12: разность | I12: расход эл,энергии за час | J12: показания счетчика | K12: разность | M12: расход эл,энергии за час | N12: показания счетчика | O12: разность | Q12: расход эл,энергии за час
A13: 1 | B13: 2 | C13: 3 | E13: 4 | F13: 5 | G13: 6 | I13: 7 | J13: 8 | K13: 9 | M13: 10 | N13: 11 | O13: 12 | Q13: 13
A14: 0 | E14: 38.088 | I14: 39.54
A15: 1 | E15: 28.08 | I15: 30.42
A16: 2 | E16: 26.424 | I16: 26.616
A17: 3 | E17: 25.464 | I17: 24.624
A18: 4 | E18: 24.792 | I18: 24.216
A19: 5 | E19: 42.408 | I19: 25.548
A20: 6 | E20: 37.8 | I20: 27.828
A21: 7 | E21: 35.952 | I21: 28.848
A22: 8 | E22: 36.576 | I22: 35.04
A23: 9 | E23: 44.256 | I23: 40.176
A24: 10 | E24: 46.32 | I24: 43.14
A25: 11 | E25: 40.056 | I25: 38.304
... A37: 23 | E37: 41.664 | I37: 46.068
A38: 24 | R38: 1
A39: Итого | E39: =SUM(E15:E38) -> 828.408 | I39: =SUM(I15:I38) -> 891.12 | M39: =SUM(M15:M38) -> 0 | Q39: =SUM(Q15:Q38) -> 0
A40: 1, При наличии на предприятии отклонений от нормальных режимов электропотребления (временное изменение схем питания, остановка на ремонт, резкое снижение
A41: эл,потребления и т,д,) последние необходимо перечислить,
A42: Главный инженер АО "Вологдаоблэнерго" А,В, Чурляев
A43: составляется самим предприятием с соблюдением всех пунктов настоящей таблицы,

Sheet 6==
B1: АО "Вологдаоблэнерго" | J1: код 900151 | N1: ПС Малечкино, ф, Поселок
B2: наименование предприятия | N2: наименование источника питания
N3: ТП-15 Кормоцех В-1; В-2
B4: ул, Горького, 99 | I4: Таблица № 1
B5: адрес
A6: почасовых записей показаний электрических счетчиков
A7: ='1=='!A7:Q7 -> в режимный день 20 ДЕКАБРЯ 2023 г.
A8: 1630 | B8: 1628
A9: часы суток | B9: Активная энергия | J9: Реактивная энергия
B10: ТП-15 Кормоцех В-1 | F10: ТП-15 Кормоцех В-2 | J10: ТП-15 Кормоцех В-1 | N10: ТП-15 Кормоцех В-2
B11: Расчет, Коэф, | E11: 60 | F11: Расчет, Коэф, | I11: 60 | J11: Расчет, Коэф, | M11: =E11 -> 60 | N11: Расчет, Коэф, | Q11: =I11 -> 60
B12: показания счетчика | C12: разность | E12: расход эл,энергии за час | F12: показания счетчика | G12: разность | I12: расход эл,энергии за час | J12: показания счетчика | K12: разность | M12: расход эл,энергии за час | N12: показания счетчика | O12: разность | Q12: расход эл,энергии за час
A13: 1 | B13: 2 | C13: 3 | E13: 4 | F13: 5 | G13: 6 | I13: 7 | J13: 8 | K13: 9 | M13: 10 | N13: 11 | O13: 12 | Q13: 13
A14: 0 | E14: 8.28 | I14: 0
A15: 1 | E15: 7.86 | I15: 0
A16: 2 | E16: 7.86 | I16: 0
A17: 3 | E17: 7.86 | I17: 0
A18: 4 | E18: 7.86 | I18: 0
A19: 5 | E19: 7.92 | I19: 0
A20: 6 | E20: 7.74 | I20: 0
A21: 7 | E21: 18.9 | I21: 0
A22: 8 | E22: 34.74 | I22: 0
A23: 9 | E23: 8.28 | I23: 0
A24: 10 | E24: 6.72 | I24: 0
A25: 11 | E25: 6.6 | I25: 0
... A37: 23 | E37: 8.04 | I37: 0
A38: 24
A39: Итого | E39: =SUM(E15:E38) -> 248.52 | I39: =SUM(I15:I38) -> 0 | M39: =SUM(M15:M38) -> 0 | Q39: =SUM(Q15:Q38) -> 0
A40: 1, При наличии на предприятии отклонений от нормальных режимов электропотребления (временное изменение схем питания, остановка на ремонт, резкое снижение
A41: эл,потребления и т,д,) последние необходимо перечислить,
A42: Главный инженер АО "Вологдаоблэнерго" А,В, Чурляев
A43: составляется самим предприятием с соблюдением всех пунктов настоящей таблицы,

Sheet 7==
B1: АО "Вологдаоблэнерго" | J1: код 900151 | N1: ПС Малечкино, ф, Парфеново-1
B2: наименование предприятия | N2: наименование источника питания
N3: ЦРП-Парфеново
B4: ул, Горького, 99 | I4: Таблица № 1
B5: адрес
A6: почасовых записей показаний электрических счетчиков
A7: ='1=='!A7:Q7 -> в режимный день 20 ДЕКАБРЯ 2023 г.
A8: 1630 | B8: 1628
A9: часы суток | B9: Активная энергия | J9: Реактивная энергия
B10: ЦРП-Парфеново В-1 | F10: ЦРП-Парфеново В-2 | J10: ЦРП-Парфеново В-1 | N10: ЦРП-Парфеново В-2
B11: Расчет, Коэф, | E11: 4000 | F11: Расчет, Коэф, | I11: 3000 | J11: Расчет, Коэф, | M11: =E11 -> 4000 | N11: Расчет, Коэф, | Q11: =I11 -> 3000
B12: показания счетчика | C12: разность | E12: расход эл,энергии за час | F12: показания счетчика | G12: разность | I12: расход эл,энергии за час | J12: показания счетчика | K12: разность | M12: расход эл,энергии за час | N12: показания счетчика | O12: разность | Q12: расход эл,энергии за час
A13: 1 | B13: 2 | C13: 3 | E13: 4 | F13: 5 | G13: 6 | I13: 7 | J13: 8 | K13: 9 | M13: 10 | N13: 11 | O13: 12 | Q13: 13
A14: 0 | E14: 456.8 | I14: 0
A15: 1 | E15: 491.2 | I15: 0
A16: 2 | E16: 471.2 | I16: 0
A17: 3 | E17: 491.2 | I17: 0
A18: 4 | E18: 468 | I18: 0
A19: 5 | E19: 475.2 | I19: 0
A20: 6 | E20: 476.8 | I20: 0
A21: 7 | E21: 482.4 | I21: 0
A22: 8 | E22: 596 | I22: 0
A23: 9 | E23: 1106.4 | I23: 0
A24: 10 | E24: 1056.8 | I24: 0
A25: 11 | E25: 1084 | I25: 0
... A37: 23 | E37: 452.8 | I37: 0
A38: 24
A39: Итого | E39: =SUM(E15:E38) -> 15285.6 | I39: =SUM(I15:I38) -> 0 | M39: =SUM(M15:M38) -> 0 | Q39: =SUM(Q15:Q38) -> 0
A40: 1, При наличии на предприятии отклонений от нормальных режимов электропотребления (временное изменение схем питания, остановка на ремонт, резкое снижение
A41: эл,потребления и т,д,) последние необходимо перечислить,
A42: Главный инженер АО "Вологдаоблэнерго" А,В, Чурляев
A43: составляется самим предприятием с соблюдением всех пунктов настоящей таблицы,

Sheet 8==
B1: АО "Вологдаоблэнерго" | J1: код 900151 | N1: ПС Малечкино, ф, Киселево
B2: наименование предприятия | N2: наименование источника питания
N3: ЦРП-Парфеново
B4: ул, Горького, 99 | I4: Таблица № 1
B5: адрес
A6: почасовых записей показаний электрических счетчиков
A7: ='1=='!A7:Q7 -> в режимный день 20 ДЕКАБРЯ 2023 г.
A8: 1630 | B8: 1628
A9: часы суток | B9: Активная энергия | J9: Реактивная энергия
B10: ЦРП-Парфеново В ф,Киселево | J10: ЦРП-Парфеново В ф,Киселево
B11: Расчет, Коэф, | E11: 6000 | F11: Расчет, Коэф, | J11: Расчет, Коэф, | M11: =E11 -> 6000 | N11: Расчет, Коэф, | Q11: =I11 -> 0
B12: показания счетчика | C12: разность | E12: расход эл,энергии за час | F12: показания счетчика | G12: разность | I12: расход эл,энергии за час | J12: показания счетчика | K12: разность | M12: расход эл,энергии за час | N12: показания счетчика | O12: разность | Q12: расход эл,энергии за час
A13: 1 | B13: 2 | C13: 3 | E13: 4 | F13: 5 | G13: 6 | I13: 7 | J13: 8 | K13: 9 | M13: 10 | N13: 11 | O13: 12 | Q13: 13
A14: 0 | E14: 0
A15: 1 | E15: 0
A16: 2 | E16: 0
A17: 3 | E17: 0
A18: 4 | E18: 0
A19: 5 | E19: 0
A20: 6 | E20: 0
A21: 7 | E21: 0
A22: 8 | E22: 0
A23: 9 | E23: 0
A24: 10 | E24: 0
A25: 11 | E25: 0
... A37: 23 | E37: 0
A38: 24
A39: Итого | E39: =SUM(E15:E38) -> 0 | I39: =SUM(I15:I38) -> 0 | M39: =SUM(M15:M38) -> 0 | Q39: =SUM(Q15:Q38) -> 0
A40: 1, При наличии на предприятии отклонений от нормальных режимов электропотребления (временное изменение схем питания, остановка на ремонт, резкое снижение
A41: эл,потребления и т,д,) последние необходимо перечислить,
A42: Главный инженер АО "Вологдаоблэнерго" А,В, Чурляев
A43: составляется самим предприятием с соблюдением всех пунктов настоящей таблицы,

Sheet 9==
B1: АО "Вологдаоблэнерго" | J1: код 900151 | N1: ПС Малечкино, ф, Киселево
B2: наименование предприятия | N2: наименование источника питания
N3: ТП-51; КТП-250 Курилово-ферма
B4: ул, Горького, 99 | I4: Таблица № 1
B5: адрес
A6: почасовых записей показаний электрических счетчиков
A7: ='1=='!A7:Q7 -> в режимный день 20 ДЕКАБРЯ 2023 г.
A8: 1630 | B8: 1628
A9: часы суток | B9: Активная энергия | J9: Реактивная энергия
B10: ТП-51 | F10: КТП-250 Курилово-ферма | J10: ТП-51 | N10: КТП-250 Курилово-ферма
B11: Расчет, Коэф, | E11: 120 | F11: Расчет, Коэф, | I11: 30 | J11: Расчет, Коэф, | M11: =E11 -> 120 | N11: Расчет, Коэф, | Q11: =I11 -> 30
B12: показания счетчика | C12: разность | E12: расход эл,энергии за час | F12: показания счетчика | G12: разность | I12: расход эл,энергии за час | J12: показания счетчика | K12: разность | M12: расход эл,энергии за час | N12: показания счетчика | O12: разность | Q12: расход эл,энергии за час
A13: 1 | B13: 2 | C13: 3 | E13: 4 | F13: 5 | G13: 6 | I13: 7 | J13: 8 | K13: 9 | M13: 10 | N13: 11 | O13: 12 | Q13: 13
A14: 0 | E14: 0 | I14: 5.12
A15: 1 | E15: 0 | I15: 5.04
A16: 2 | E16: 0 | I16: 5.12
A17: 3 | E17: 0 | I17: 5.04
A18: 4 | E18: 0 | I18: 5.12
A19: 5 | E19: 0 | I19: 5.04
A20: 6 | E20: 0 | I20: 5.2
A21: 7 | E21: 0 | I21: 5.36
A22: 8 | E22: 0 | I22: 5.2
A23: 9 | E23: 0 | I23: 5.36
A24: 10 | E24: 0 | I24: 5.04
A25: 11 | E25: 0 | I25: 5.44
... A37: 23 | E37: 0 | I37: 5.44
A38: 24
A39: Итого | E39: =SUM(E15:E38) -> 0 | I39: =SUM(I15:I38) -> 132.56 | M39: =SUM(M15:M38) -> 0 | Q39: =SUM(Q15:Q38) -> 0
A40: 1, При наличии на предприятии отклонений от нормальных режимов электропотребления (временное изменение схем питания, остановка на ремонт, резкое снижение
A41: эл,потребления и т,д,) последние необходимо перечислить,
A42: Главный инженер АО "Вологдаоблэнерго" А,В, Чурляев
A43: составляется самим предприятием с соблюдением всех пунктов настоящей таблицы,

Sheet 10==
B1: АО "Вологдаоблэнерго" | J1: код 900151 | N1: ПС Малечкино, ф, Тепл, комбинат
B2: наименование предприятия | N2: наименование источника питания
N3: ТП-33; КТП-400 Пилорама Карат плюс
B4: ул, Горького, 99 | I4: Таблица № 1
B5: адрес
A6: почасовых записей показаний электрических счетчиков
A7: ='1=='!A7:Q7 -> в режимный день 20 ДЕКАБРЯ 2023 г.
A8: 1630 | B8: 1628
A9: часы суток | B9: Активная энергия | J9: Реактивная энергия
B10: ТП-33 | F10: КТП-400 Пилорама Карат плюс | J10: ТП-33 | N10: КТП-400 Пилорама Карат плюс
B11: Расчет, Коэф, | E11: 30 | F11: Расчет, Коэф, | I11: 120 | J11: Расчет, Коэф, | M11: =E11 -> 30 | N11: Расчет, Коэф, | Q11: =I11 -> 120
B12: показания счетчика | C12: разность | E12: расход эл,энергии за час | F12: показания счетчика | G12: разность | I12: расход эл,энергии за час | J12: показания счетчика | K12: разность | M12: расход эл,энергии за час | N12: показания счетчика | O12: разность | Q12: расход эл,энергии за час
A13: 1 | B13: 2 | C13: 3 | E13: 4 | F13: 5 | G13: 6 | I13: 7 | J13: 8 | K13: 9 | M13: 10 | N13: 11 | O13: 12 | Q13: 13
A14: 0 | E14: 33.62 | I14: 33.144
A15: 1 | E15: 15.74 | I15: 34.128
A16: 2 | E16: 16.7 | I16: 26.016
A17: 3 | E17: 14.62 | I17: 23.592
A18: 4 | E18: 15.16 | I18: 23.88
A19: 5 | E19: 16.34 | I19: 24.216
A20: 6 | E20: 20.04 | I20: 27.336
A21: 7 | E21: 23.56 | I21: 33.24
A22: 8 | E22: 19.56 | I22: 39.504
A23: 9 | E23: 29.22 | I23: 81.24
A24: 10 | E24: 30.18 | I24: 83.304
A25: 11 | E25: 32.02 | I25: 76.68
... A37: 23 | E37: 43.58 | I37: 34.08
A38: 24
A39: Итого | E39: =SUM(E15:E38) -> 742.94 | I39: =SUM(I15:I38) -> 1316.568 | M39: =SUM(M15:M38) -> 0 | Q39: =SUM(Q15:Q38) -> 0
A40: 1, При наличии на предприятии отклонений от нормальных режимов электропотребления (временное изменение схем питания, остановка на ремонт, резкое снижение
A41: эл,потребления и т,д,) последние необходимо перечислить,
A42: Главный инженер АО "Вологдаоблэнерго" А,В, Чурляев
A43: составляется самим предприятием с соблюдением всех пунктов настоящей таблицы,

Sheet 11==
B1: АО "Вологдаоблэнерго" | J1: код 900151 | N1: ПС Загородная, ф, Тоншалово-2
B2: наименование предприятия | N2: наименование источника питания
N3: ТП-4 очистные В-1; ТП-4 очистные В-2
B4: ул, Горького, 99 | I4: Таблица № 1
B5: адрес
A6: почасовых записей показаний электрических счетчиков
A7: ='1=='!A7:Q7 -> в режимный день 20 ДЕКАБРЯ 2023 г.
A8: 1630 | B8: 1628
A9: часы суток | B9: Активная энергия | J9: Реактивная энергия
B10: ТП-4 очистные В-1 | F10: ТП-4 очистные В-2 | J10: ТП-4 очистные В-1 | N10: ТП-4 очистные В-2
B11: Расчет, Коэф, | E11: 120 | F11: Расчет, Коэф, | I11: 120 | J11: Расчет, Коэф, | M11: =E11 -> 120 | N11: Расчет, Коэф, | Q11: =I11 -> 120
B12: показания счетчика | C12: разность | E12: расход эл,энергии за час | F12: показания счетчика | G12: разность | I12: расход эл,энергии за час | J12: показания счетчика | K12: разность | M12: расход эл,энергии за час | N12: показания счетчика | O12: разность | Q12: расход эл,энергии за час
A13: 1 | B13: 2 | C13: 3 | E13: 4 | F13: 5 | G13: 6 | I13: 7 | J13: 8 | K13: 9 | M13: 10 | N13: 11 | O13: 12 | Q13: 13
A14: 0 | E14: 43.896 | I14: 20.568
A15: 1 | E15: 42.528 | I15: 14.88
A16: 2 | E16: 46.584 | I16: 13.392
A17: 3 | E17: 46.512 | I17: 12.96
A18: 4 | E18: 45.984 | I18: 12.408
A19: 5 | E19: 44.448 | I19: 12.696
A20: 6 | E20: 40.584 | I20: 13.872
A21: 7 | E21: 44.016 | I21: 11.16
A22: 8 | E22: 47.112 | I22: 12.504
A23: 9 | E23: 45.984 | I23: 15.24
A24: 10 | E24: 45.336 | I24: 19.56
A25: 11 | E25: 43.152 | I25: 22.272
... A37: 23 | E37: 47.4 | I37: 20.52
A38: 24
A39: Итого | E39: =SUM(E15:E38) -> 1039.632 | I39: =SUM(I15:I38) -> 498.048 | M39: =SUM(M15:M38) -> 0 | Q39: =SUM(Q15:Q38) -> 0
A40: 1, При наличии на предприятии отклонений от нормальных режимов электропотребления (временное изменение схем питания, остановка на ремонт, резкое снижение
A41: эл,потребления и т,д,) последние необходимо перечислить,
A42: Главный инженер АО "Вологдаоблэнерго" А,В, Чурляев
A43: составляется самим предприятием с соблюдением всех пунктов настоящей таблицы,

Sheet 12==
B1: АО "Вологдаоблэнерго" | J1: код 900151 | N1: ПС Загородная, ф, Тоншалово-2
B2: наименование предприятия | N2: наименование источника питания
N3: ТП-3 Школа В-1; ТП-3 Школа В-2
B4: ул, Горького, 99 | I4: Таблица № 1
B5: адрес
A6: почасовых записей показаний электрических счетчиков
A7: ='1=='!A7:Q7 -> в режимный день 20 ДЕКАБРЯ 2023 г.
A8: 1630 | B8: 1628
A9: часы суток | B9: Активная энергия | J9: Реактивная энергия
B10: ТП-3 Школа В-1 | F10: ТП-3 Школа В-2 | J10: ТП-3 Школа В-1 | N10: ТП-3 Школа В-2
B11: Расчет, Коэф, | E11: 120 | F11: Расчет, Коэф, | I11: 120 | J11: Расчет, Коэф, | M11: =E11 -> 120 | N11: Расчет, Коэф, | Q11: =I11 -> 120
B12: показания счетчика | C12: разность | E12: расход эл,энергии за час | F12: показания счетчика | G12: разность | I12: расход эл,энергии за час | J12: показания счетчика | K12: разность | M12: расход эл,энергии за час | N12: показания счетчика | O12: разность | Q12: расход эл,энергии за час
A13: 1 | B13: 2 | C13: 3 | E13: 4 | F13: 5 | G13: 6 | I13: 7 | J13: 8 | K13: 9 | M13: 10 | N13: 11 | O13: 12 | Q13: 13
A14: 0 | E14: 43.272 | I14: 0
A15: 1 | E15: 41.232 | I15: 0
A16: 2 | E16: 41.136 | I16: 0
A17: 3 | E17: 40.368 | I17: 0
A18: 4 | E18: 40.776 | I18: 0
A19: 5 | E19: 40.224 | I19: 0
A20: 6 | E20: 43.488 | I20: 0
A21: 7 | E21: 43.128 | I21: 0
A22: 8 | E22: 55.488 | I22: 0
A23: 9 | E23: 62.472 | I23: 0
A24: 10 | E24: 73.896 | I24: 0
A25: 11 | E25: 77.64 | I25: 0
... A37: 23 | E37: 49.728 | I37: 0
A38: 24
A39: Итого | E39: =SUM(E15:E38) -> 1395.312 | I39: =SUM(I15:I38) -> 0 | M39: =SUM(M15:M38) -> 0 | Q39: =SUM(Q15:Q38) -> 0
A40: 1, При наличии на предприятии отклонений от нормальных режимов электропотребления (временное изменение схем питания, остановка на ремонт, резкое снижение
A41: эл,потребления и т,д,) последние необходимо перечислить,
A42: Главный инженер АО "Вологдаоблэнерго" А,В, Чурляев
A43: составляется самим предприятием с соблюдением всех пунктов настоящей таблицы,

Sheet 13==
B1: АО "Вологдаоблэнерго" | J1: код 900151 | N1: ПС Загородная, ф, Тоншалово-2
B2: наименование предприятия | N2: наименование источника питания
N3: ТП-5 ПМК-1 В-1
B4: ул, Горького, 99 | I4: Таблица № 1 | N4: ТП-5 ПМК-1 В-2
B5: адрес
A6: почасовых записей показаний электрических счетчиков
A7: ='1=='!A7:Q7 -> в режимный день 20 ДЕКАБРЯ 2023 г.
A8: 1630 | B8: 1628
A9: часы суток | B9: Активная энергия | J9: Реактивная энергия
B10: =N3 -> ТП-5 ПМК-1 В-1 | F10: =N4 -> ТП-5 ПМК-1 В-2 | J10: =B10 -> ТП-5 ПМК-1 В-1 | N10: =F10 -> ТП-5 ПМК-1 В-2
B11: Расчет, Коэф, | E11: 120 | F11: Расчет, Коэф, | I11: 120 | J11: Расчет, Коэф, | M11: =E11 -> 120 | N11: Расчет, Коэф, | Q11: =I11 -> 120
B12: показания счетчика | C12: разность | E12: расход эл,энергии за час | F12: показания счетчика | G12: разность | I12: расход эл,энергии за час | J12: показания счетчика | K12: разность | M12: расход эл,энергии за час | N12: показания счетчика | O12: разность | Q12: расход эл,энергии за час
A13: 1 | B13: 2 | C13: 3 | E13: 4 | F13: 5 | G13: 6 | I13: 7 | J13: 8 | K13: 9 | M13: 10 | N13: 11 | O13: 12 | Q13: 13
A14: 0 | E14: 14.352 | I14: 48.336
A15: 1 | E15: 12 | I15: 39.504
A16: 2 | E16: 11.424 | I16: 33.744
A17: 3 | E17: 11.04 | I17: 33.336
A18: 4 | E18: 11.04 | I18: 31.848
A19: 5 | E19: 10.56 | I19: 46.056
A20: 6 | E20: 12.144 | I20: 66.6
A21: 7 | E21: 11.76 | I21: 71.784
A22: 8 | E22: 13.632 | I22: 64.68
A23: 9 | E23: 14.904 | I23: 62.472
A24: 10 | E24: 14.664 | I24: 60.624
A25: 11 | E25: 14.28 | I25: 70.416
... A37: 23 | E37: 16.248 | I37: 58.176
A38: 24
A39: Итого | E39: =SUM(E15:E38) -> 325.512 | I39: =SUM(I15:I38) -> 1295.088 | M39: =SUM(M15:M38) -> 0 | Q39: =SUM(Q15:Q38) -> 0
A40: 1, При наличии на предприятии отклонений от нормальных режимов электропотребления (временное изменение схем питания, остановка на ремонт, резкое снижение
A41: эл,потребления и т,д,) последние необходимо перечислить,
A42: Главный инженер АО "Вологдаоблэнерго" А,В, Чурляев
A43: составляется самим предприятием с соблюдением всех пунктов настоящей таблицы,

Sheet 14==
B1: АО "Вологдаоблэнерго" | J1: код 900151 | N1: ПС Загородная, ф, Тоншалово-2
B2: наименование предприятия | N2: наименование источника питания
N3: ТП-6 Детский сад В-1
B4: ул, Горького, 99 | I4: Таблица № 1 | N4: ТП-6 Детский сад В-2
B5: адрес
A6: почасовых записей показаний электрических счетчиков
A7: ='1=='!A7:Q7 -> в режимный день 20 ДЕКАБРЯ 2023 г.
A8: 1630 | B8: 1628
A9: часы суток | B9: Активная энергия | J9: Реактивная энергия
B10: =N3 -> ТП-6 Детский сад В-1 | F10: =N4 -> ТП-6 Детский сад В-2 | J10: =B10 -> ТП-6 Детский сад В-1 | N10: =F10 -> ТП-6 Детский сад В-2
B11: Расчет, Коэф, | E11: 120 | F11: Расчет, Коэф, | I11: 120 | J11: Расчет, Коэф, | M11: =E11 -> 120 | N11: Расчет, Коэф, | Q11: =I11 -> 120
B12: показания счетчика | C12: разность | E12: расход эл,энергии за час | F12: показания счетчика | G12: разность | I12: расход эл,энергии за час | J12: показания счетчика | K12: разность | M12: расход эл,энергии за час | N12: показания счетчика | O12: разность | Q12: расход эл,энергии за час
A13: 1 | B13: 2 | C13: 3 | E13: 4 | F13: 5 | G13: 6 | I13: 7 | J13: 8 | K13: 9 | M13: 10 | N13: 11 | O13: 12 | Q13: 13
A14: 0 | E14: 51.432 | I14: 38.304
A15: 1 | E15: 44.112 | I15: 33.696
A16: 2 | E16: 39.672 | I16: 29.064
A17: 3 | E17: 39.816 | I17: 27.96
A18: 4 | E18: 37.68 | I18: 26.064
A19: 5 | E19: 35.664 | I19: 26.952
A20: 6 | E20: 35.592 | I20: 29.592
A21: 7 | E21: 41.544 | I21: 35.664
A22: 8 | E22: 50.16 | I22: 36.96
A23: 9 | E23: 52.872 | I23: 36.264
A24: 10 | E24: 54.144 | I24: 36.864
A25: 11 | E25: 61.416 | I25: 38.088
... A37: 23 | E37: 68.448 | I37: 44.64
A38: 24
A39: Итого | E39: =SUM(E15:E38) -> 1312.752 | I39: =SUM(I15:I38) -> 889.296 | M39: =SUM(M15:M38) -> 0 | Q39: =SUM(Q15:Q38) -> 0
A40: 1, При наличии на предприятии отклонений от нормальных режимов электропотребления (временное изменение схем питания, остановка на ремонт, резкое снижение
A41: эл,потребления и т,д,) последние необходимо перечислить,
A42: Главный инженер АО "Вологдаоблэнерго" А,В, Чурляев
A43: составляется самим предприятием с соблюдением всех пунктов настоящей таблицы,

Sheet 15=
B1: АО "Вологдаоблэнерго" | J1: код 900151 | N1: ПС Загородная, ф, Тоншалово-2
B2: наименование предприятия | N2: наименование источника питания
N3: ТП-2 Поселок
B4: ул, Горького, 99 | I4: Таблица № 1
B5: адрес
A6: почасовых записей показаний электрических счетчиков
A7: ='1=='!A7:Q7 -> в режимный день 20 ДЕКАБРЯ 2023 г.
A8: 1630 | B8: 1628
A9: часы суток | B9: Активная энергия | J9: Реактивная энергия
B10: =N3 -> ТП-2 Поселок | F10: =N4 -> 0 | J10: =B10 -> ТП-2 Поселок | N10: =F10 -> 0
B11: Расчет, Коэф, | E11: 200 | F11: Расчет, Коэф, | I11: 120 | J11: Расчет, Коэф, | M11: =E11 -> 200 | N11: Расчет, Коэф, | Q11: =I11 -> 120
B12: показания счетчика | C12: разность | E12: расход эл,энергии за час | F12: показания счетчика | G12: разность | I12: расход эл,энергии за час | J12: показания счетчика | K12: разность | M12: расход эл,энергии за час | N12: показания счетчика | O12: разность | Q12: расход эл,энергии за час
A13: 1 | B13: 2 | C13: 3 | E13: 4 | F13: 5 | G13: 6 | I13: 7 | J13: 8 | K13: 9 | M13: 10 | N13: 11 | O13: 12 | Q13: 13
A14: 0 | E14: 112.76 | I14: 0
A15: 1 | E15: 100.28 | I15: 0
A16: 2 | E16: 90.16 | I16: 0
A17: 3 | E17: 87.96 | I17: 0
A18: 4 | E18: 82.76 | I18: 0
A19: 5 | E19: 81.68 | I19: 0
A20: 6 | E20: 88.08 | I20: 0
A21: 7 | E21: 101.16 | I21: 0
A22: 8 | E22: 112.04 | I22: 0
A23: 9 | E23: 115.2 | I23: 0
A24: 10 | E24: 117.56 | I24: 0
A25: 11 | E25: 122.16 | I25: 0
... A37: 23 | E37: 132.04 | I37: 0
A38: 24
A39: Итого | E39: =SUM(E15:E38) -> 2583.96 | I39: =SUM(I15:I38) -> 0 | M39: =SUM(M15:M38) -> 0 | Q39: =SUM(Q15:Q38) -> 0
A40: 1, При наличии на предприятии отклонений от нормальных режимов электропотребления (временное изменение схем питания, остановка на ремонт, резкое снижение
A41: эл,потребления и т,д,) последние необходимо перечислить,
A42: Главный инженер АО "Вологдаоблэнерго" А,В, Чурляев
A43: составляется самим предприятием с соблюдением всех пунктов настоящей таблицы,

Sheet 16==
B1: АО "Вологдаоблэнерго" | J1: код 900151 | N1: ПС Загородная, ф, Солманское
B2: наименование предприятия | N2: наименование источника питания
N3: ТП-Котельная ПМК-2 В-1
B4: ул, Горького, 99 | I4: Таблица № 1 | N4: ТП-Котельная ПМК-2 В-2
B5: адрес
A6: почасовых записей показаний электрических счетчиков
A7: ='1=='!A7:Q7 -> в режимный день 20 ДЕКАБРЯ 2023 г.
A8: 1630 | B8: 1628
A9: часы суток | B9: Активная энергия | J9: Реактивная энергия
B10: =N3 -> ТП-Котельная ПМК-2 В-1 | F10: =N4 -> ТП-Котельная ПМК-2 В-2 | J10: =B10 -> ТП-Котельная ПМК-2 В-1 | N10: =F10 -> ТП-Котельная ПМК-2 В-2
B11: Расчет, Коэф, | E11: 80 | F11: Расчет, Коэф, | I11: 80 | J11: Расчет, Коэф, | M11: =E11 -> 80 | N11: Расчет, Коэф, | Q11: =I11 -> 80
B12: показания счетчика | C12: разность | E12: расход эл,энергии за час | F12: показания счетчика | G12: разность | I12: расход эл,энергии за час | J12: показания счетчика | K12: разность | M12: расход эл,энергии за час | N12: показания счетчика | O12: разность | Q12: расход эл,энергии за час
A13: 1 | B13: 2 | C13: 3 | E13: 4 | F13: 5 | G13: 6 | I13: 7 | J13: 8 | K13: 9 | M13: 10 | N13: 11 | O13: 12 | Q13: 13
A14: 0 | E14: 5.408 | I14: 0
A15: 1 | E15: 5.6 | I15: 0
A16: 2 | E16: 5.376 | I16: 0
A17: 3 | E17: 5.68 | I17: 0
A18: 4 | E18: 5.44 | I18: 0
A19: 5 | E19: 6.096 | I19: 0
A20: 6 | E20: 12.96 | I20: 0
A21: 7 | E21: 38.032 | I21: 0
A22: 8 | E22: 49.968 | I22: 0
A23: 9 | E23: 28.144 | I23: 0
A24: 10 | E24: 28.176 | I24: 0
A25: 11 | E25: 22.736 | I25: 0
... A37: 23 | E37: 5.168 | I37: 0
A38: 24
A39: Итого | E39: =SUM(E15:E38) -> 348.96 | I39: =SUM(I15:I38) -> 0 | M39: =SUM(M15:M38) -> 0 | Q39: =SUM(Q15:Q38) -> 0
A40: 1, При наличии на предприятии отклонений от нормальных режимов электропотребления (временное изменение схем питания, остановка на ремонт, резкое снижение
A41: эл,потребления и т,д,) последние необходимо перечислить,
A42: Главный инженер АО "Вологдаоблэнерго" А,В, Чурляев
A43: составляется самим предприятием с соблюдением всех пунктов настоящей таблицы,

Sheet 17==
B1: АО "Вологдаоблэнерго" | J1: код 900151 | N1: ПС Нелазское, ф, Шулма
B2: наименование предприятия | N2: наименование источника питания
N3: ТП-244
B4: ул, Горького, 99 | I4: Таблица № 1 | N4: ТП-250
B5: адрес
A6: почасовых записей показаний электрических счетчиков
A7: ='1=='!A7:Q7 -> в режимный день 20 ДЕКАБРЯ 2023 г.
A8: 1630 | B8: 1628
A9: часы суток | B9: Активная энергия | J9: Реактивная энергия
B10: =N3 -> ТП-244 | F10: =N4 -> ТП-250 | J10: =B10 -> ТП-244 | N10: =F10 -> ТП-250
B11: Расчет, Коэф, | E11: 60 | F11: Расчет, Коэф, | I11: 60 | J11: Расчет, Коэф, | M11: =E11 -> 60 | N11: Расчет, Коэф, | Q11: =I11 -> 60
B12: показания счетчика | C12: разность | E12: расход эл,энергии за час | F12: показания счетчика | G12: разность | I12: расход эл,энергии за час | J12: показания счетчика | K12: разность | M12: расход эл,энергии за час | N12: показания счетчика | O12: разность | Q12: расход эл,энергии за час
A13: 1 | B13: 2 | C13: 3 | E13: 4 | F13: 5 | G13: 6 | I13: 7 | J13: 8 | K13: 9 | M13: 10 | N13: 11 | O13: 12 | Q13: 13
A14: 0 | E14: 6.57 | I14: 0
A15: 1 | E15: 6.69 | I15: 0
A16: 2 | E16: 6.66 | I16: 0
A17: 3 | E17: 6.66 | I17: 0
A18: 4 | E18: 6.66 | I18: 0
A19: 5 | E19: 6.66 | I19: 0
A20: 6 | E20: 6.66 | I20: 0
A21: 7 | E21: 6.66 | I21: 0
A22: 8 | E22: 6.66 | I22: 0
A23: 9 | E23: 6.66 | I23: 0
A24: 10 | E24: 6.63 | I24: 0
A25: 11 | E25: 6.66 | I25: 0
... A37: 23 | E37: 6.63 | I37: 0
A38: 24
A39: Итого | E39: =SUM(E15:E38) -> 152.94 | I39: =SUM(I15:I38) -> 0 | M39: =SUM(M15:M38) -> 0 | Q39: =SUM(Q15:Q38) -> 0
A40: 1, При наличии на предприятии отклонений от нормальных режимов электропотребления (временное изменение схем питания, остановка на ремонт, резкое снижение
A41: эл,потребления и т,д,) последние необходимо перечислить,
A42: Главный инженер АО "Вологдаоблэнерго" А,В, Чурляев
A43: составляется самим предприятием с соблюдением всех пунктов настоящей таблицы,

Sheet 18==
B1: АО "Вологдаоблэнерго" | J1: код 900151 | N1: ПС Нелазское, ф, Шулма
B2: наименование предприятия | N2: наименование источника питания
N3: ТП-Поселок
B4: ул, Горького, 99 | I4: Таблица № 1 | N4: ТП-Школа
B5: адрес
A6: почасовых записей показаний электрических счетчиков
A7: ='1=='!A7:Q7 -> в режимный день 20 ДЕКАБРЯ 2023 г.
A8: 1630 | B8: 1628
A9: часы суток | B9: Активная энергия | J9: Реактивная энергия
B10: =N3 -> ТП-Поселок | F10: =N4 -> ТП-Школа | J10: =B10 -> ТП-Поселок | N10: =F10 -> ТП-Школа
B11: Расчет, Коэф, | E11: 120 | F11: Расчет, Коэф, | I11: 120 | J11: Расчет, Коэф, | M11: =E11 -> 120 | N11: Расчет, Коэф, | Q11: =I11 -> 120
B12: показания счетчика | C12: разность | E12: расход эл,энергии за час | F12: показания счетчика | G12: разность | I12: расход эл,энергии за час | J12: показания счетчика | K12: разность | M12: расход эл,энергии за час | N12: показания счетчика | O12: разность | Q12: расход эл,энергии за час
A13: 1 | B13: 2 | C13: 3 | E13: 4 | F13: 5 | G13: 6 | I13: 7 | J13: 8 | K13: 9 | M13: 10 | N13: 11 | O13: 12 | Q13: 13
A14: 0 | E14: 98.16 | I14: 6.168
A15: 1 | E15: 82.8 | I15: 6.456
A16: 2 | E16: 75.72 | I16: 8.064
A17: 3 | E17: 77.28 | I17: 5.568
A18: 4 | E18: 75.6 | I18: 5.736
A19: 5 | E19: 75.48 | I19: 3.936
A20: 6 | E20: 80.28 | I20: 2.688
A21: 7 | E21: 94.2 | I21: 5.976
A22: 8 | E22: 99.84 | I22: 13.944
A23: 9 | E23: 109.68 | I23: 17.184
A24: 10 | E24: 105.48 | I24: 16.896
A25: 11 | E25: 108.36 | I25: 21.888
... A37: 23 | E37: 110.4 | I37: 9.144
A38: 24
A39: Итого | E39: =SUM(E15:E38) -> 2331.36 | I39: =SUM(I15:I38) -> 215.904 | M39: =SUM(M15:M38) -> 0 | Q39: =SUM(Q15:Q38) -> 0
A40: 1, При наличии на предприятии отклонений от нормальных режимов электропотребления (временное изменение схем питания, остановка на ремонт, резкое снижение
A41: эл,потребления и т,д,) последние необходимо перечислить,
A42: Главный инженер АО "Вологдаоблэнерго" А,В, Чурляев
A43: составляется самим предприятием с соблюдением всех пунктов настоящей таблицы,

Sheet 19==
B1: АО "Вологдаоблэнерго" | J1: код 900151 | N1: ПС Нелазское, ф, К-с Нелазское-2
B2: наименование предприятия | N2: наименование источника питания
N3: ТП-14 В-1
B4: ул, Горького, 99 | I4: Таблица № 1 | N4: ТП-14 В-2
B5: адрес
A6: почасовых записей показаний электрических счетчиков
A7: ='1=='!A7:Q7 -> в режимный день 20 ДЕКАБРЯ 2023 г.
A8: 1630 | B8: 1628
A9: часы суток | B9: Активная энергия | J9: Реактивная энергия
B10: =N3 -> ТП-14 В-1 | F10: =N4 -> ТП-14 В-2 | J10: =B10 -> ТП-14 В-1 | N10: =F10 -> ТП-14 В-2
B11: Расчет, Коэф, | E11: 120 | F11: Расчет, Коэф, | I11: 120 | J11: Расчет, Коэф, | M11: =E11 -> 120 | N11: Расчет, Коэф, | Q11: =I11 -> 120
B12: показания счетчика | C12: разность | E12: расход эл,энергии за час | F12: показания счетчика | G12: разность | I12: расход эл,энергии за час | J12: показания счетчика | K12: разность | M12: расход эл,энергии за час | N12: показания счетчика | O12: разность | Q12: расход эл,энергии за час
A13: 1 | B13: 2 | C13: 3 | E13: 4 | F13: 5 | G13: 6 | I13: 7 | J13: 8 | K13: 9 | M13: 10 | N13: 11 | O13: 12 | Q13: 13
A14: 0 | E14: 0 | I14: 99.72
A15: 1 | E15: 0 | I15: 109.8
A16: 2 | E16: 0 | I16: 68.04
A17: 3 | E17: 0 | I17: 77.64
A18: 4 | E18: 0 | I18: 74.52
A19: 5 | E19: 0 | I19: 56.88
A20: 6 | E20: 0 | I20: 69.96
A21: 7 | E21: 0 | I21: 63.6
A22: 8 | E22: 0 | I22: 91.56
A23: 9 | E23: 0 | I23: 103.32
A24: 10 | E24: 0 | I24: 97.68
A25: 11 | E25: 0 | I25: 102.24
... A37: 23 | E37: 0 | I37: 86.52
A38: 24
A39: Итого | E39: =SUM(E15:E38) -> 0 | I39: =SUM(I15:I38) -> 2067.48 | M39: =SUM(M15:M38) -> 0 | Q39: =SUM(Q15:Q38) -> 0
A40: 1, При наличии на предприятии отклонений от нормальных режимов электропотребления (временное изменение схем питания, остановка на ремонт, резкое снижение
A41: эл,потребления и т,д,) последние необходимо перечислить,
A42: Главный инженер АО "Вологдаоблэнерго" А,В, Чурляев
A43: составляется самим предприятием с соблюдением всех пунктов настоящей таблицы,

Sheet 20==
B1: АО "Вологдаоблэнерго" | J1: код 900151 | N1: ПС Нелазское, ф, К-с Нелазское-2
B2: наименование предприятия | N2: наименование источника питания
N3: ТП-15 В-1
B4: ул, Горького, 99 | I4: Таблица № 1 | N4: ТП-15 В-2
B5: адрес
A6: почасовых записей показаний электрических счетчиков
A7: ='1=='!A7:Q7 -> в режимный день 20 ДЕКАБРЯ 2023 г.
A8: 1630 | B8: 1628
A9: часы суток | B9: Активная энергия | J9: Реактивная энергия
B10: =N3 -> ТП-15 В-1 | F10: =N4 -> ТП-15 В-2 | J10: =B10 -> ТП-15 В-1 | N10: =F10 -> ТП-15 В-2
B11: Расчет, Коэф, | E11: 200 | F11: Расчет, Коэф, | I11: 120 | J11: Расчет, Коэф, | M11: =E11 -> 200 | N11: Расчет, Коэф, | Q11: =I11 -> 120
B12: показания счетчика | C12: разность | E12: расход эл,энергии за час | F12: показания счетчика | G12: разность | I12: расход эл,энергии за час | J12: показания счетчика | K12: разность | M12: расход эл,энергии за час | N12: показания счетчика | O12: разность | Q12: расход эл,энергии за час
A13: 1 | B13: 2 | C13: 3 | E13: 4 | F13: 5 | G13: 6 | I13: 7 | J13: 8 | K13: 9 | M13: 10 | N13: 11 | O13: 12 | Q13: 13
A14: 0 | E14: 1.6 | I14: 38.64
A15: 1 | E15: 1.4 | I15: 37.8
A16: 2 | E16: 1.4 | I16: 34.2
A17: 3 | E17: 1.6 | I17: 33.96
A18: 4 | E18: 1.4 | I18: 34.2
A19: 5 | E19: 1.4 | I19: 34.44
A20: 6 | E20: 1.6 | I20: 37.44
A21: 7 | E21: 1.4 | I21: 44.16
A22: 8 | E22: 1.4 | I22: 47.04
A23: 9 | E23: 1.6 | I23: 66.48
A24: 10 | E24: 1.4 | I24: 89.64
A25: 11 | E25: 1.4 | I25: 79.2
... A37: 23 | E37: 1.4 | I37: 39.84
A38: 24
A39: Итого | E39: =SUM(E15:E38) -> 33.6 | I39: =SUM(I15:I38) -> 1178.64 | M39: =SUM(M15:M38) -> 0 | Q39: =SUM(Q15:Q38) -> 0
A40: 1, При наличии на предприятии отклонений от нормальных режимов электропотребления (временное изменение схем питания, остановка на ремонт, резкое снижение
A41: эл,потребления и т,д,) последние необходимо перечислить,
A42: Главный инженер АО "Вологдаоблэнерго" А,В, Чурляев
A43: составляется самим предприятием с соблюдением всех пунктов настоящей таблицы,

Sheet 21=
B1: АО "Вологдаоблэнерго" | J1: код 900151 | N1: ПС Нелазское, ф, Шулма очистные
B2: наименование предприятия | N2: наименование источника питания
N3: КТП-Ива
B4: ул, Горького, 99 | I4: Таблица № 1
B5: адрес
A6: почасовых записей показаний электрических счетчиков
A7: ='1=='!A7:Q7 -> в режимный день 20 ДЕКАБРЯ 2023 г.
A8: 1630 | B8: 1628
A9: часы суток | B9: Активная энергия | J9: Реактивная энергия
B10: =N3 -> КТП-Ива | F10: =N4 -> 0 | J10: =B10 -> КТП-Ива | N10: =F10 -> 0
B11: Расчет, Коэф, | E11: 30 | F11: Расчет, Коэф, | I11: 120 | J11: Расчет, Коэф, | M11: =E11 -> 30 | N11: Расчет, Коэф, | Q11: =I11 -> 120
B12: показания счетчика | C12: разность | E12: расход эл,энергии за час | F12: показания счетчика | G12: разность | I12: расход эл,энергии за час | J12: показания счетчика | K12: разность | M12: расход эл,энергии за час | N12: показания счетчика | O12: разность | Q12: расход эл,энергии за час
A13: 1 | B13: 2 | C13: 3 | E13: 4 | F13: 5 | G13: 6 | I13: 7 | J13: 8 | K13: 9 | M13: 10 | N13: 11 | O13: 12 | Q13: 13
A14: 0 | E14: 3.405
A15: 1 | E15: 3.03
A16: 2 | E16: 2.22
A17: 3 | E17: 2.415
A18: 4 | E18: 2.01
A19: 5 | E19: 1.875
A20: 6 | E20: 4.92
A21: 7 | E21: 3.63
A22: 8 | E22: 3.765
A23: 9 | E23: 4.155
A24: 10 | E24: 4.635
A25: 11 | E25: 3.585
... A37: 23 | E37: 3.195
A38: 24
A39: Итого | E39: =SUM(E15:E38) -> 92.205 | I39: =SUM(I15:I38) -> 0 | M39: =SUM(M15:M38) -> 0 | Q39: =SUM(Q15:Q38) -> 0
A40: 1, При наличии на предприятии отклонений от нормальных режимов электропотребления (временное изменение схем питания, остановка на ремонт, резкое снижение
A41: эл,потребления и т,д,) последние необходимо перечислить,
A42: Главный инженер АО "Вологдаоблэнерго" А,В, Чурляев
A43: составляется самим предприятием с соблюдением всех пунктов настоящей таблицы,

Sheet 22==
B1: АО "Вологдаоблэнерго" | J1: код 900151 | N1: ПС Нелазское, ф, Крутец
B2: наименование предприятия | N2: наименование источника питания
N3: КТП-1 "Сад-3 ЧМК"
B4: ул, Горького, 99 | I4: Таблица № 1 | N4: КТП-2 "Сад-3 ЧМК"
B5: адрес
A6: почасовых записей показаний электрических счетчиков
A7: ='1=='!A7:Q7 -> в режимный день 20 ДЕКАБРЯ 2023 г.
A8: 1630 | B8: 1628
A9: часы суток | B9: Активная энергия | J9: Реактивная энергия
B10: =N3 -> КТП-1 "Сад-3 ЧМК" | F10: =N4 -> КТП-2 "Сад-3 ЧМК" | J10: =B10 -> КТП-1 "Сад-3 ЧМК" | N10: =F10 -> КТП-2 "Сад-3 ЧМК"
B11: Расчет, Коэф, | E11: 60 | F11: Расчет, Коэф, | I11: 60 | J11: Расчет, Коэф, | M11: =E11 -> 60 | N11: Расчет, Коэф, | Q11: =I11 -> 60
B12: показания счетчика | C12: разность | E12: расход эл,энергии за час | F12: показания счетчика | G12: разность | I12: расход эл,энергии за час | J12: показания счетчика | K12: разность | M12: расход эл,энергии за час | N12: показания счетчика | O12: разность | Q12: расход эл,энергии за час
A13: 1 | B13: 2 | C13: 3 | E13: 4 | F13: 5 | G13: 6 | I13: 7 | J13: 8 | K13: 9 | M13: 10 | N13: 11 | O13: 12 | Q13: 13
A14: 0 | E14: 31.74 | I14: 5.04
A15: 1 | E15: 18.51 | I15: 4.02
A16: 2 | E16: 19.14 | I16: 4.17
A17: 3 | E17: 18.03 | I17: 4.08
A18: 4 | E18: 16.8 | I18: 4.08
A19: 5 | E19: 16.08 | I19: 5.73
A20: 6 | E20: 17.49 | I20: 5.79
A21: 7 | E21: 22.65 | I21: 5.07
A22: 8 | E22: 29.94 | I22: 7.14
A23: 9 | E23: 31.68 | I23: 8.01
A24: 10 | E24: 34.71 | I24: 5.13
A25: 11 | E25: 30.51 | I25: 5.85
... A37: 23 | E37: 42.54 | I37: 6.48
A38: 24
A39: Итого | E39: =SUM(E15:E38) -> 767.49 | I39: =SUM(I15:I38) -> 150.27 | M39: =SUM(M15:M38) -> 0 | Q39: =SUM(Q15:Q38) -> 0
A40: 1, При наличии на предприятии отклонений от нормальных режимов электропотребления (временное изменение схем питания, остановка на ремонт, резкое снижение
A41: эл,потребления и т,д,) последние необходимо перечислить,
A42: Главный инженер АО "Вологдаоблэнерго" А,В, Чурляев
A43: составляется самим предприятием с соблюдением всех пунктов настоящей таблицы,

Sheet 23==
B1: АО "Вологдаоблэнерго" | J1: код 900151 | N1: ПС Суда, ф, Андога
B2: наименование предприятия | N2: наименование источника питания
N3: ТП-243
B4: ул, Горького, 99 | I4: Таблица № 1 | N4: КТП-63 Кривец-1
B5: адрес
A6: почасовых записей показаний электрических счетчиков
A7: ='1=='!A7:Q7 -> в режимный день 20 ДЕКАБРЯ 2023 г.
A8: 1630 | B8: 1628
A9: часы суток | B9: Активная энергия | J9: Реактивная энергия
B10: =N3 -> ТП-243 | F10: =N4 -> КТП-63 Кривец-1 | J10: =B10 -> ТП-243 | N10: =F10 -> КТП-63 Кривец-1
B11: Расчет, Коэф, | E11: 60 | F11: Расчет, Коэф, | I11: 20 | J11: Расчет, Коэф, | M11: =E11 -> 60 | N11: Расчет, Коэф, | Q11: =I11 -> 20
B12: показания счетчика | C12: разность | E12: расход эл,энергии за час | F12: показания счетчика | G12: разность | I12: расход эл,энергии за час | J12: показания счетчика | K12: разность | M12: расход эл,энергии за час | N12: показания счетчика | O12: разность | Q12: расход эл,энергии за час
A13: 1 | B13: 2 | C13: 3 | E13: 4 | F13: 5 | G13: 6 | I13: 7 | J13: 8 | K13: 9 | M13: 10 | N13: 11 | O13: 12 | Q13: 13
A14: 0 | E14: 10.11 | I14: 0
A15: 1 | E15: 5.88 | I15: 0
A16: 2 | E16: 6.39 | I16: 0
A17: 3 | E17: 6.15 | I17: 0
A18: 4 | E18: 5.1 | I18: 0
A19: 5 | E19: 5.13 | I19: 0
A20: 6 | E20: 5.04 | I20: 0
A21: 7 | E21: 7.41 | I21: 0
A22: 8 | E22: 8.13 | I22: 0
A23: 9 | E23: 10.56 | I23: 0
A24: 10 | E24: 16.56 | I24: 0
A25: 11 | E25: 12.99 | I25: 0
... A37: 23 | E37: 12.6 | I37: 0
A38: 24
A39: Итого | E39: =SUM(E15:E38) -> 278.85 | I39: =SUM(I15:I38) -> 0 | M39: =SUM(M15:M38) -> 0 | Q39: =SUM(Q15:Q38) -> 0
A40: 1, При наличии на предприятии отклонений от нормальных режимов электропотребления (временное изменение схем питания, остановка на ремонт, резкое снижение
A41: эл,потребления и т,д,) последние необходимо перечислить,
A42: Главный инженер АО "Вологдаоблэнерго" А,В, Чурляев
A43: составляется самим предприятием с соблюдением всех пунктов настоящей таблицы,

Sheet 24==
B1: АО "Вологдаоблэнерго" | J1: код 900151 | N1: ПС Суда, ф, Сойволовское
B2: наименование предприятия | N2: наименование источника питания
N3: КТП общества садоводов "Заря-2"
B4: ул, Горького, 99 | I4: Таблица № 1 | N4: КТП "Дачи"
B5: адрес
A6: почасовых записей показаний электрических счетчиков
A7: ='1=='!A7:Q7 -> в режимный день 20 ДЕКАБРЯ 2023 г.
A8: 1630 | B8: 1628
A9: часы суток | B9: Активная энергия | J9: Реактивная энергия
B10: =N3 -> КТП общества садоводов "Заря-2" | F10: =N4 -> КТП "Дачи" | J10: =B10 -> КТП общества садоводов "Заря-2" | N10: =F10 -> КТП "Дачи"
B11: Расчет, Коэф, | E11: 40 | F11: Расчет, Коэф, | I11: 60 | J11: Расчет, Коэф, | M11: =E11 -> 40 | N11: Расчет, Коэф, | Q11: =I11 -> 60
B12: показания счетчика | C12: разность | E12: расход эл,энергии за час | F12: показания счетчика | G12: разность | I12: расход эл,энергии за час | J12: показания счетчика | K12: разность | M12: расход эл,энергии за час | N12: показания счетчика | O12: разность | Q12: расход эл,энергии за час
A13: 1 | B13: 2 | C13: 3 | E13: 4 | F13: 5 | G13: 6 | I13: 7 | J13: 8 | K13: 9 | M13: 10 | N13: 11 | O13: 12 | Q13: 13
A14: 0 | E14: 25.164 | I14: 12.15
A15: 1 | E15: 21.312 | I15: 10.89
A16: 2 | E16: 20.82 | I16: 9.09
A17: 3 | E17: 17.172 | I17: 8.4
A18: 4 | E18: 17.664 | I18: 7.77
A19: 5 | E19: 21.708 | I19: 8.4
A20: 6 | E20: 30.372 | I20: 10.26
A21: 7 | E21: 35.868 | I21: 12.6
A22: 8 | E22: 34.26 | I22: 13.71
A23: 9 | E23: 34.332 | I23: 17.67
A24: 10 | E24: 37.776 | I24: 16.02
A25: 11 | E25: 34.356 | I25: 16.53
... A37: 23 | E37: 37.536 | I37: 15.66
A38: 24
A39: Итого | E39: =SUM(E15:E38) -> 734.7 | I39: =SUM(I15:I38) -> 334.59 | M39: =SUM(M15:M38) -> 0 | Q39: =SUM(Q15:Q38) -> 0
A40: 1, При наличии на предприятии отклонений от нормальных режимов электропотребления (временное изменение схем питания, остановка на ремонт, резкое снижение
A41: эл,потребления и т,д,) последние необходимо перечислить,
A42: Главный инженер АО "Вологдаоблэнерго" А,В, Чурляев
A43: составляется самим предприятием с соблюдением всех пунктов настоящей таблицы,

Sheet 25=
B1: АО "Вологдаоблэнерго" | J1: код 900151 | N1: ПС Петринево, ф, Романово
B2: наименование предприятия | N2: наименование источника питания
N3: ТП-317
B4: ул, Горького, 99 | I4: Таблица № 1
B5: адрес
A6: почасовых записей показаний электрических счетчиков
A7: ='1=='!A7:Q7 -> в режимный день 20 ДЕКАБРЯ 2023 г.
A8: 1630 | B8: 1628
A9: часы суток | B9: Активная энергия | J9: Реактивная энергия
B10: =N3 -> ТП-317 | F10: =N4 -> 0 | J10: =B10 -> ТП-317 | N10: =F10 -> 0
B11: Расчет, Коэф, | E11: 120 | F11: Расчет, Коэф, | I11: 120 | J11: Расчет, Коэф, | M11: =E11 -> 120 | N11: Расчет, Коэф, | Q11: =I11 -> 120
B12: показания счетчика | C12: разность | E12: расход эл,энергии за час | F12: показания счетчика | G12: разность | I12: расход эл,энергии за час | J12: показания счетчика | K12: разность | M12: расход эл,энергии за час | N12: показания счетчика | O12: разность | Q12: расход эл,энергии за час
A13: 1 | B13: 2 | C13: 3 | E13: 4 | F13: 5 | G13: 6 | I13: 7 | J13: 8 | K13: 9 | M13: 10 | N13: 11 | O13: 12 | Q13: 13
A14: 0 | E14: 8.52
A15: 1 | E15: 7.98
A16: 2 | E16: 7.14
A17: 3 | E17: 6.24
A18: 4 | E18: 7.32
A19: 5 | E19: 9.9
A20: 6 | E20: 10.92
A21: 7 | E21: 13.26
A22: 8 | E22: 8.1
A23: 9 | E23: 10.02
A24: 10 | E24: 11.34
A25: 11 | E25: 10.02
... A37: 23 | E37: 12.96
A38: 24
A39: Итого | E39: =SUM(E15:E38) -> 252.66 | I39: =SUM(I15:I38) -> 0 | M39: =SUM(M15:M38) -> 0 | Q39: =SUM(Q15:Q38) -> 0
A40: 1, При наличии на предприятии отклонений от нормальных режимов электропотребления (временное изменение схем питания, остановка на ремонт, резкое снижение
A41: эл,потребления и т,д,) последние необходимо перечислить,
A42: Главный инженер АО "Вологдаоблэнерго" А,В, Чурляев
A43: составляется самим предприятием с соблюдением всех пунктов настоящей таблицы,

Sheet 26==
B1: АО "Вологдаоблэнерго" | J1: код 900151 | N1: ПС Домозерово, ф,Дом-2
B2: наименование предприятия | N2: наименование источника питания
N3: ТП-Водозабор (встроен) В-1
B4: ул, Горького, 99 | I4: Таблица № 1 | N4: ТП-Водозабор (встроен) В-2
B5: адрес
A6: почасовых записей показаний электрических счетчиков
A7: ='1=='!A7:Q7 -> в режимный день 20 ДЕКАБРЯ 2023 г.
A8: 1630 | B8: 1628
A9: часы суток | B9: Активная энергия | J9: Реактивная энергия
B10: =N3 -> ТП-Водозабор (встроен) В-1 | F10: =N4 -> ТП-Водозабор (встроен) В-2 | J10: =B10 -> ТП-Водозабор (встроен) В-1 | N10: =F10 -> ТП-Водозабор (встроен) В-2
B11: Расчет, Коэф, | E11: 20 | F11: Расчет, Коэф, | I11: 20 | J11: Расчет, Коэф, | M11: =E11 -> 20 | N11: Расчет, Коэф, | Q11: =I11 -> 20
B12: показания счетчика | C12: разность | E12: расход эл,энергии за час | F12: показания счетчика | G12: разность | I12: расход эл,энергии за час | J12: показания счетчика | K12: разность | M12: расход эл,энергии за час | N12: показания счетчика | O12: разность | Q12: расход эл,энергии за час
A13: 1 | B13: 2 | C13: 3 | E13: 4 | F13: 5 | G13: 6 | I13: 7 | J13: 8 | K13: 9 | M13: 10 | N13: 11 | O13: 12 | Q13: 13
A14: 0 | E14: 0 | I14: 1.51
A15: 1 | E15: 0 | I15: 1.51
A16: 2 | E16: 0 | I16: 1.5
A17: 3 | E17: 0 | I17: 1.5
A18: 4 | E18: 0 | I18: 1.57
A19: 5 | E19: 0 | I19: 1.49
A20: 6 | E20: 0 | I20: 1.48
A21: 7 | E21: 0 | I21: 3.07
A22: 8 | E22: 0 | I22: 8.66
A23: 9 | E23: 0 | I23: 8.6
A24: 10 | E24: 0 | I24: 8.65
A25: 11 | E25: 0 | I25: 8.57
... A37: 23 | E37: 0 | I37: 1.46
A38: 24
A39: Итого | E39: =SUM(E15:E38) -> 0 | I39: =SUM(I15:I38) -> 101.06 | M39: =SUM(M15:M38) -> 0 | Q39: =SUM(Q15:Q38) -> 0
A40: 1, При наличии на предприятии отклонений от нормальных режимов электропотребления (временное изменение схем питания, остановка на ремонт, резкое снижение
A41: эл,потребления и т,д,) последние необходимо перечислить,
A42: Главный инженер АО "Вологдаоблэнерго" А,В, Чурляев
A43: составляется самим предприятием с соблюдением всех пунктов настоящей таблицы,

Sheet 27==
B1: АО "Вологдаоблэнерго" | J1: код 900151 | N1: ПС Домозерово, ф,Дом-2
B2: наименование предприятия | N2: наименование источника питания
N3: ТП-Школа ПС Домозерово В-1
B4: ул, Горького, 99 | I4: Таблица № 1 | N4: ТП-Школа ПС Домозерово В-2
B5: адрес
A6: почасовых записей показаний электрических счетчиков
A7: ='1=='!A7:Q7 -> в режимный день 20 ДЕКАБРЯ 2023 г.
A8: 1630 | B8: 1628
A9: часы суток | B9: Активная энергия | J9: Реактивная энергия
B10: =N3 -> ТП-Школа ПС Домозерово В-1 | F10: =N4 -> ТП-Школа ПС Домозерово В-2 | J10: =B10 -> ТП-Школа ПС Домозерово В-1 | N10: =F10 -> ТП-Школа ПС Домозерово В-2
B11: Расчет, Коэф, | E11: 120 | F11: Расчет, Коэф, | I11: 120 | J11: Расчет, Коэф, | M11: =E11 -> 120 | N11: Расчет, Коэф, | Q11: =I11 -> 120
B12: показания счетчика | C12: разность | E12: расход эл,энергии за час | F12: показания счетчика | G12: разность | I12: расход эл,энергии за час | J12: показания счетчика | K12: разность | M12: расход эл,энергии за час | N12: показания счетчика | O12: разность | Q12: расход эл,энергии за час
A13: 1 | B13: 2 | C13: 3 | E13: 4 | F13: 5 | G13: 6 | I13: 7 | J13: 8 | K13: 9 | M13: 10 | N13: 11 | O13: 12 | Q13: 13
A14: 0 | E14: 9.552 | I14: 20.136
A15: 1 | E15: 9.84 | I15: 20.16
A16: 2 | E16: 9.672 | I16: 17.928
A17: 3 | E17: 9.552 | I17: 17.496
A18: 4 | E18: 7.632 | I18: 18.696
A19: 5 | E19: 7.056 | I19: 16.08
A20: 6 | E20: 6.816 | I20: 18.648
A21: 7 | E21: 7.296 | I21: 18.192
A22: 8 | E22: 7.56 | I22: 33.552
A23: 9 | E23: 6.984 | I23: 33.672
A24: 10 | E24: 6.696 | I24: 33.84
A25: 11 | E25: 6.912 | I25: 34.416
... A37: 23 | E37: 8.688 | I37: 22.128
A38: 24
A39: Итого | E39: =SUM(E15:E38) -> 187.608 | I39: =SUM(I15:I38) -> 607.872 | M39: =SUM(M15:M38) -> 0 | Q39: =SUM(Q15:Q38) -> 0
A40: 1, При наличии на предприятии отклонений от нормальных режимов электропотребления (временное изменение схем питания, остановка на ремонт, резкое снижение
A41: эл,потребления и т,д,) последние необходимо перечислить,
A42: Главный инженер АО "Вологдаоблэнерго" А,В, Чурляев
A43: составляется самим предприятием с соблюдением всех пунктов настоящей таблицы,

Sheet 28==
B1: АО "Вологдаоблэнерго" | J1: код 900151 | N1: ПС Домозерово, ф,Дом-2
B2: наименование предприятия | N2: наименование источника питания
N3: КТП "Очистные" ПС Домозерово
B4: ул, Горького, 99 | I4: Таблица № 1 | N4: ТП "Детский сад" ПС Домозерово
B5: адрес
A6: почасовых записей показаний электрических счетчиков
A7: ='1=='!A7:Q7 -> в режимный день 20 ДЕКАБРЯ 2023 г.
A8: 1630 | B8: 1628
A9: часы суток | B9: Активная энергия | J9: Реактивная энергия
B10: =N3 -> КТП "Очистные" ПС Домозерово | F10: =N4 -> ТП "Детский сад" ПС Домозерово | J10: =B10 -> КТП "Очистные" ПС Домозерово | N10: =F10 -> ТП "Детский сад" ПС Домозерово
B11: Расчет, Коэф, | E11: 60 | F11: Расчет, Коэф, | I11: 80 | J11: Расчет, Коэф, | M11: =E11 -> 60 | N11: Расчет, Коэф, | Q11: =I11 -> 80
B12: показания счетчика | C12: разность | E12: расход эл,энергии за час | F12: показания счетчика | G12: разность | I12: расход эл,энергии за час | J12: показания счетчика | K12: разность | M12: расход эл,энергии за час | N12: показания счетчика | O12: разность | Q12: расход эл,энергии за час
A13: 1 | B13: 2 | C13: 3 | E13: 4 | F13: 5 | G13: 6 | I13: 7 | J13: 8 | K13: 9 | M13: 10 | N13: 11 | O13: 12 | Q13: 13
A14: 0 | E14: 0.348 | I14: 26.08
A15: 1 | E15: 0.384 | I15: 19.92
A16: 2 | E16: 0.324 | I16: 19.52
A17: 3 | E17: 0.276 | I17: 17.36
A18: 4 | E18: 0.312 | I18: 16.56
A19: 5 | E19: 0.3 | I19: 17.12
A20: 6 | E20: 0.744 | I20: 20.56
A21: 7 | E21: 2.1 | I21: 26.72
A22: 8 | E22: 1.116 | I22: 29.68
A23: 9 | E23: 1.008 | I23: 30.4
A24: 10 | E24: 0.648 | I24: 25.68
A25: 11 | E25: 0.336 | I25: 24.4
... A37: 23 | E37: 0.312 | I37: 31.28
A38: 24
A39: Итого | E39: =SUM(E15:E38) -> 19.284 | I39: =SUM(I15:I38) -> 598.48 | M39: =SUM(M15:M38) -> 0 | Q39: =SUM(Q15:Q38) -> 0
A40: 1, При наличии на предприятии отклонений от нормальных режимов электропотребления (временное изменение схем питания, остановка на ремонт, резкое снижение
A41: эл,потребления и т,д,) последние необходимо перечислить,
A42: Главный инженер АО "Вологдаоблэнерго" А,В, Чурляев
A43: составляется самим предприятием с соблюдением всех пунктов настоящей таблицы,

Sheet 29=
B1: АО "Вологдаоблэнерго" | J1: код 900151 | N1: ПС Нелазское, ф, Цыково
B2: наименование предприятия | N2: наименование источника питания
N3: КТП-250кВА Зашекснинское
B4: ул, Горького, 99 | I4: Таблица № 1
B5: адрес
A6: почасовых записей показаний электрических счетчиков
A7: ='1=='!A7:Q7 -> в режимный день 20 ДЕКАБРЯ 2023 г.
A8: 1630 | B8: 1628
A9: часы суток | B9: Активная энергия | J9: Реактивная энергия
B10: =N3 -> КТП-250кВА Зашекснинское | F10: =N4 -> 0 | J10: =B10 -> КТП-250кВА Зашекснинское | N10: =F10 -> 0
B11: Расчет, Коэф, | E11: 60 | F11: Расчет, Коэф, | I11: 120 | J11: Расчет, Коэф, | M11: =E11 -> 60 | N11: Расчет, Коэф, | Q11: =I11 -> 120
B12: показания счетчика | C12: разность | E12: расход эл,энергии за час | F12: показания счетчика | G12: разность | I12: расход эл,энергии за час | J12: показания счетчика | K12: разность | M12: расход эл,энергии за час | N12: показания счетчика | O12: разность | Q12: расход эл,энергии за час
A13: 1 | B13: 2 | C13: 3 | E13: 4 | F13: 5 | G13: 6 | I13: 7 | J13: 8 | K13: 9 | M13: 10 | N13: 11 | O13: 12 | Q13: 13
A14: 0 | E14: 0
A15: 1 | E15: 0
A16: 2 | E16: 0
A17: 3 | E17: 0
A18: 4 | E18: 0
A19: 5 | E19: 0
A20: 6 | E20: 0
A21: 7 | E21: 0
A22: 8 | E22: 0
A23: 9 | E23: 0
A24: 10 | E24: 0
A25: 11 | E25: 0
... A37: 23 | E37: 0
A38: 24
A39: Итого | E39: =SUM(E15:E38) -> 0 | I39: =SUM(I15:I38) -> 0 | M39: =SUM(M15:M38) -> 0 | Q39: =SUM(Q15:Q38) -> 0
A40: 1, При наличии на предприятии отклонений от нормальных режимов электропотребления (временное изменение схем питания, остановка на ремонт, резкое снижение
A41: эл,потребления и т,д,) последние необходимо перечислить,
A42: Главный инженер АО "Вологдаоблэнерго" А,В, Чурляев
A43: составляется самим предприятием с соблюдением всех пунктов настоящей таблицы,

Sheet 30==
B1: АО "Вологдаоблэнерго" | J1: код 900151 | N1: ПС Нелазское, ф, Починок
B2: наименование предприятия | N2: наименование источника питания
N3: КТП-Дачи "Березка"
B4: ул, Горького, 99 | I4: Таблица № 1 | N4: КТП-Пенек
B5: адрес
A6: почасовых записей показаний электрических счетчиков
A7: ='1=='!A7:Q7 -> в режимный день 20 ДЕКАБРЯ 2023 г.
A8: 1630 | B8: 1628
A9: часы суток | B9: Активная энергия | J9: Реактивная энергия
B10: =N3 -> КТП-Дачи "Березка" | F10: =N4 -> КТП-Пенек | J10: =B10 -> КТП-Дачи "Березка" | N10: =F10 -> КТП-Пенек
B11: Расчет, Коэф, | E11: 80 | F11: Расчет, Коэф, | I11: 80 | J11: Расчет, Коэф, | M11: =E11 -> 80 | N11: Расчет, Коэф, | Q11: =I11 -> 80
B12: показания счетчика | C12: разность | E12: расход эл,энергии за час | F12: показания счетчика | G12: разность | I12: расход эл,энергии за час | J12: показания счетчика | K12: разность | M12: расход эл,энергии за час | N12: показания счетчика | O12: разность | Q12: расход эл,энергии за час
A13: 1 | B13: 2 | C13: 3 | E13: 4 | F13: 5 | G13: 6 | I13: 7 | J13: 8 | K13: 9 | M13: 10 | N13: 11 | O13: 12 | Q13: 13
A14: 0 | E14: 37.04 | I14: 39.4
A15: 1 | E15: 23.6 | I15: 22.92
A16: 2 | E16: 15.44 | I16: 19.16
A17: 3 | E17: 17.12 | I17: 17.4
A18: 4 | E18: 14.96 | I18: 20.32
A19: 5 | E19: 15.08 | I19: 16.12
A20: 6 | E20: 17.32 | I20: 21.2
A21: 7 | E21: 24.84 | I21: 29.68
A22: 8 | E22: 29.16 | I22: 34.92
A23: 9 | E23: 32.72 | I23: 39.84
A24: 10 | E24: 39.96 | I24: 39.84
A25: 11 | E25: 44.64 | I25: 42.96
... A37: 23 | E37: 47.24 | I37: 59
A38: 24
A39: Итого | E39: =SUM(E15:E38) -> 792.96 | I39: =SUM(I15:I38) -> 842.4 | M39: =SUM(M15:M38) -> 0 | Q39: =SUM(Q15:Q38) -> 0
A40: 1, При наличии на предприятии отклонений от нормальных режимов электропотребления (временное изменение схем питания, остановка на ремонт, резкое снижение
A41: эл,потребления и т,д,) последние необходимо перечислить,
A42: Главный инженер АО "Вологдаоблэнерго" А,В, Чурляев
A43: составляется самим предприятием с соблюдением всех пунктов настоящей таблицы,

Sheet 31==
B1: АО "Вологдаоблэнерго" | J1: код 900151 | N1: ПС Нелазское, ф, Починок
B2: наименование предприятия | N2: наименование источника питания
N3: КТП-Кацитадзе
B4: ул, Горького, 99 | I4: Таблица № 1 | N4: ТП-75
B5: адрес
A6: почасовых записей показаний электрических счетчиков
A7: ='1=='!A7:Q7 -> в режимный день 20 ДЕКАБРЯ 2023 г.
A8: 1630 | B8: 1628
A9: часы суток | B9: Активная энергия | J9: Реактивная энергия
B10: =N3 -> КТП-Кацитадзе | F10: =N4 -> ТП-75 | J10: =B10 -> КТП-Кацитадзе | N10: =F10 -> ТП-75
B11: Расчет, Коэф, | E11: 30 | F11: Расчет, Коэф, | I11: 80 | J11: Расчет, Коэф, | M11: =E11 -> 30 | N11: Расчет, Коэф, | Q11: 80
B12: показания счетчика | C12: разность | E12: расход эл,энергии за час | F12: показания счетчика | G12: разность | I12: расход эл,энергии за час | J12: показания счетчика | K12: разность | M12: расход эл,энергии за час | N12: показания счетчика | O12: разность | Q12: расход эл,энергии за час
A13: 1 | B13: 2 | C13: 3 | E13: 4 | F13: 5 | G13: 6 | I13: 7 | J13: 8 | K13: 9 | M13: 10 | N13: 11 | O13: 12 | Q13: 13
A14: 0 | E14: 4.35 | I14: 17.4
A15: 1 | E15: 8.475 | I15: 13.52
A16: 2 | E16: 1.725 | I16: 12.6
A17: 3 | E17: 2.265 | I17: 13.64
A18: 4 | E18: 1.395 | I18: 12.52
A19: 5 | E19: 1.47 | I19: 13.6
A20: 6 | E20: 1.455 | I20: 13.16
A21: 7 | E21: 2.505 | I21: 16.32
A22: 8 | E22: 2.31 | I22: 17.64
A23: 9 | E23: 3.21 | I23: 19
A24: 10 | E24: 1.815 | I24: 22.84
A25: 11 | E25: 4.05 | I25: 16.72
... A37: 23 | E37: 4.26 | I37: 23.72
A38: 24
A39: Итого | E39: =SUM(E15:E38) -> 80.13 | I39: =SUM(I15:I38) -> 422.4 | M39: =SUM(M15:M38) -> 0 | Q39: =SUM(Q15:Q38) -> 0
A40: 1, При наличии на предприятии отклонений от нормальных режимов электропотребления (временное изменение схем питания, остановка на ремонт, резкое снижение
A41: эл,потребления и т,д,) последние необходимо перечислить,
A42: Главный инженер АО "Вологдаоблэнерго" А,В, Чурляев
A43: составляется самим предприятием с соблюдением всех пунктов настоящей таблицы,

Sheet 32==
B1: АО "Вологдаоблэнерго" | J1: код 900151 | N1: ПС Домозерово, ф, Починок
B2: наименование предприятия | N2: наименование источника питания
N3: КТП-Коттеджи
B4: ул, Горького, 99 | I4: Таблица № 1 | N4: КТП-118 (Горизонт)
B5: адрес
A6: почасовых записей показаний электрических счетчиков
A7: ='1=='!A7:Q7 -> в режимный день 20 ДЕКАБРЯ 2023 г.
A8: 1630 | B8: 1628
A9: часы суток | B9: Активная энергия | J9: Реактивная энергия
B10: =N3 -> КТП-Коттеджи | F10: =N4 -> КТП-118 (Горизонт) | J10: =B10 -> КТП-Коттеджи | N10: =F10 -> КТП-118 (Горизонт)
B11: Расчет, Коэф, | E11: 60 | F11: Расчет, Коэф, | I11: 80 | J11: Расчет, Коэф, | M11: =E11 -> 60 | N11: Расчет, Коэф, | Q11: =I11 -> 80
B12: показания счетчика | C12: разность | E12: расход эл,энергии за час | F12: показания счетчика | G12: разность | I12: расход эл,энергии за час | J12: показания счетчика | K12: разность | M12: расход эл,энергии за час | N12: показания счетчика | O12: разность | Q12: расход эл,энергии за час
A13: 1 | B13: 2 | C13: 3 | E13: 4 | F13: 5 | G13: 6 | I13: 7 | J13: 8 | K13: 9 | M13: 10 | N13: 11 | O13: 12 | Q13: 13
A14: 0 | E14: 7.008 | I14: 24.16
A15: 1 | E15: 6.072 | I15: 13.152
A16: 2 | E16: 5.796 | I16: 18.944
A17: 3 | E17: 6.204 | I17: 13.184
A18: 4 | E18: 6.012 | I18: 11.408
A19: 5 | E19: 4.56 | I19: 12.176
A20: 6 | E20: 5.448 | I20: 13.6
A21: 7 | E21: 6.048 | I21: 17.552
A22: 8 | E22: 6.888 | I22: 14.608
A23: 9 | E23: 7.008 | I23: 24.8
A24: 10 | E24: 6.828 | I24: 20.064
A25: 11 | E25: 7.62 | I25: 21.328
... A37: 23 | E37: 6.78 | I37: 20.992
A38: 24
A39: Итого | E39: =SUM(E15:E38) -> 158.244 | I39: =SUM(I15:I38) -> 465.76 | M39: =SUM(M15:M38) -> 0 | Q39: =SUM(Q15:Q38) -> 0
A40: 1, При наличии на предприятии отклонений от нормальных режимов электропотребления (временное изменение схем питания, остановка на ремонт, резкое снижение
A41: эл,потребления и т,д,) последние необходимо перечислить,
A42: Главный инженер АО "Вологдаоблэнерго" А,В, Чурляев
A43: составляется самим предприятием с соблюдением всех пунктов настоящей таблицы,

Sheet 33=
B1: АО "Вологдаоблэнерго" | J1: код 900151 | N1: ПС Домозерово, ф, Жары
B2: наименование предприятия | N2: наименование источника питания
N3: ТП-79
B4: ул, Горького, 99 | I4: Таблица № 1
B5: адрес
A6: почасовых записей показаний электрических счетчиков
A7: ='1=='!A7:Q7 -> в режимный день 20 ДЕКАБРЯ 2023 г.
A8: 1630 | B8: 1628
A9: часы суток | B9: Активная энергия | J9: Реактивная энергия
B10: =N3 -> ТП-79 | F10: =N4 -> 0 | J10: =B10 -> ТП-79 | N10: =F10 -> 0
B11: Расчет, Коэф, | E11: 40 | F11: Расчет, Коэф, | I11: 120 | J11: Расчет, Коэф, | M11: =E11 -> 40 | N11: Расчет, Коэф, | Q11: =I11 -> 120
B12: показания счетчика | C12: разность | E12: расход эл,энергии за час | F12: показания счетчика | G12: разность | I12: расход эл,энергии за час | J12: показания счетчика | K12: разность | M12: расход эл,энергии за час | N12: показания счетчика | O12: разность | Q12: расход эл,энергии за час
A13: 1 | B13: 2 | C13: 3 | E13: 4 | F13: 5 | G13: 6 | I13: 7 | J13: 8 | K13: 9 | M13: 10 | N13: 11 | O13: 12 | Q13: 13
A14: 0 | E14: 9.66
A15: 1 | E15: 6.22
A16: 2 | E16: 6.18
A17: 3 | E17: 6.24
A18: 4 | E18: 6.04
A19: 5 | E19: 6.32
A20: 6 | E20: 6.08
A21: 7 | E21: 5.68
A22: 8 | E22: 5.54
A23: 9 | E23: 5.38
A24: 10 | E24: 5.4
A25: 11 | E25: 6.44
... A37: 23 | E37: 7.48
A38: 24
A39: Итого | E39: =SUM(E15:E38) -> 138.82 | I39: =SUM(I15:I38) -> 0 | M39: =SUM(M15:M38) -> 0 | Q39: =SUM(Q15:Q38) -> 0
A40: 1, При наличии на предприятии отклонений от нормальных режимов электропотребления (временное изменение схем питания, остановка на ремонт, резкое снижение
A41: эл,потребления и т,д,) последние необходимо перечислить,
A42: Главный инженер АО "Вологдаоблэнерго" А,В, Чурляев
A43: составляется самим предприятием с соблюдением всех пунктов настоящей таблицы,

Sheet 34=
B1: АО "Вологдаоблэнерго" | J1: код 900151 | N1: ПС Батран, ф, Гоша
B2: наименование предприятия | N2: наименование источника питания
N3: ТП-72
B4: ул, Горького, 99 | I4: Таблица № 1 | N4: МТП Гоша-2
B5: адрес
A6: почасовых записей показаний электрических счетчиков
A7: ='1=='!A7:Q7 -> в режимный день 20 ДЕКАБРЯ 2023 г.
A8: 1630 | B8: 1628
A9: часы суток | B9: Активная энергия | J9: Реактивная энергия
B10: =N3 -> ТП-72 | F10: =N4 -> МТП Гоша-2 | J10: =B10 -> ТП-72 | N10: =F10 -> МТП Гоша-2
B11: Расчет, Коэф, | E11: 50 | F11: Расчет, Коэф, | I11: 20 | J11: Расчет, Коэф, | M11: =E11 -> 50 | N11: Расчет, Коэф, | Q11: =I11 -> 20
B12: показания счетчика | C12: разность | E12: расход эл,энергии за час | F12: показания счетчика | G12: разность | I12: расход эл,энергии за час | J12: показания счетчика | K12: разность | M12: расход эл,энергии за час | N12: показания счетчика | O12: разность | Q12: расход эл,энергии за час
A13: 1 | B13: 2 | C13: 3 | E13: 4 | F13: 5 | G13: 6 | I13: 7 | J13: 8 | K13: 9 | M13: 10 | N13: 11 | O13: 12 | Q13: 13
A14: 0 | E14: 6.2 | I14: 0
A15: 1 | E15: 2.625 | I15: 0
A16: 2 | E16: 4.75 | I16: 0
A17: 3 | E17: 5.175 | I17: 0
A18: 4 | E18: 4.875 | I18: 0
A19: 5 | E19: 2.85 | I19: 0
A20: 6 | E20: 2.7 | I20: 0
A21: 7 | E21: 3.25 | I21: 0
A22: 8 | E22: 3.45 | I22: 0
A23: 9 | E23: 4.45 | I23: 0
A24: 10 | E24: 5.125 | I24: 0
A25: 11 | E25: 4.975 | I25: 0
... A37: 23 | E37: 6.325 | I37: 0
A38: 24
A39: Итого | E39: =SUM(E15:E38) -> 98.2 | I39: =SUM(I15:I38) -> 0 | M39: =SUM(M15:M38) -> 0 | Q39: =SUM(Q15:Q38) -> 0
A40: 1, При наличии на предприятии отклонений от нормальных режимов электропотребления (временное изменение схем питания, остановка на ремонт, резкое снижение
A41: эл,потребления и т,д,) последние необходимо перечислить,
A42: Главный инженер АО "Вологдаоблэнерго" А,В, Чурляев
A43: составляется самим предприятием с соблюдением всех пунктов настоящей таблицы,

Sheet 35=
B1: АО "Вологдаоблэнерго" | J1: код 900151 | N1: ПС Южная, ф, Матинга
B2: наименование предприятия | N2: наименование источника питания
N3: ТП-55
B4: ул, Горького, 99 | I4: Таблица № 1
B5: адрес
A6: почасовых записей показаний электрических счетчиков
A7: ='1=='!A7:Q7 -> в режимный день 20 ДЕКАБРЯ 2023 г.
A8: 1630 | B8: 1628
A9: часы суток | B9: Активная энергия | J9: Реактивная энергия
B10: =N3 -> ТП-55 | F10: =N4 -> 0 | J10: =B10 -> ТП-55 | N10: =F10 -> 0
B11: Расчет, Коэф, | E11: 30 | F11: Расчет, Коэф, | I11: 120 | J11: Расчет, Коэф, | M11: =E11 -> 30 | N11: Расчет, Коэф, | Q11: =I11 -> 120
B12: показания счетчика | C12: разность | E12: расход эл,энергии за час | F12: показания счетчика | G12: разность | I12: расход эл,энергии за час | J12: показания счетчика | K12: разность | M12: расход эл,энергии за час | N12: показания счетчика | O12: разность | Q12: расход эл,энергии за час
A13: 1 | B13: 2 | C13: 3 | E13: 4 | F13: 5 | G13: 6 | I13: 7 | J13: 8 | K13: 9 | M13: 10 | N13: 11 | O13: 12 | Q13: 13
A14: 0 | E14: 6.69
A15: 1 | E15: 4.245
A16: 2 | E16: 2.055
A17: 3 | E17: 2.16
A18: 4 | E18: 1.86
A19: 5 | E19: 1.995
A20: 6 | E20: 2.1
A21: 7 | E21: 2.895
A22: 8 | E22: 2.73
A23: 9 | E23: 3.555
A24: 10 | E24: 4.365
A25: 11 | E25: 4.05
... A37: 23 | E37: 3.885
A38: 24
A39: Итого | E39: =SUM(E15:E38) -> 81.81 | I39: =SUM(I15:I38) -> 0 | M39: =SUM(M15:M38) -> 0 | Q39: =SUM(Q15:Q38) -> 0
A40: 1, При наличии на предприятии отклонений от нормальных режимов электропотребления (временное изменение схем питания, остановка на ремонт, резкое снижение
A41: эл,потребления и т,д,) последние необходимо перечислить,
A42: Главный инженер АО "Вологдаоблэнерго" А,В, Чурляев
A43: составляется самим предприятием с соблюдением всех пунктов настоящей таблицы,

Sheet 36==
B1: АО "Вологдаоблэнерго" | J1: код 900151 | N1: ПС Ирдоматка, ф, Ирдоматка-1
B2: наименование предприятия | N2: наименование источника питания
N3: ТП-25
B4: ул, Горького, 99 | I4: Таблица № 1 | N4: ТП-80
B5: адрес
A6: почасовых записей показаний электрических счетчиков
A7: ='1=='!A7:Q7 -> в режимный день 20 ДЕКАБРЯ 2023 г.
A8: 1630 | B8: 1628
A9: часы суток | B9: Активная энергия | J9: Реактивная энергия
B10: =N3 -> ТП-25 | F10: =N4 -> ТП-80 | J10: =B10 -> ТП-25 | N10: =F10 -> ТП-80
B11: Расчет, Коэф, | E11: 20 | F11: Расчет, Коэф, | I11: 40 | J11: Расчет, Коэф, | M11: =E11 -> 20 | N11: Расчет, Коэф, | Q11: =I11 -> 40
B12: показания счетчика | C12: разность | E12: расход эл,энергии за час | F12: показания счетчика | G12: разность | I12: расход эл,энергии за час | J12: показания счетчика | K12: разность | M12: расход эл,энергии за час | N12: показания счетчика | O12: разность | Q12: расход эл,энергии за час
A13: 1 | B13: 2 | C13: 3 | E13: 4 | F13: 5 | G13: 6 | I13: 7 | J13: 8 | K13: 9 | M13: 10 | N13: 11 | O13: 12 | Q13: 13
A14: 0 | E14: 2.91 | I14: 37.42
A15: 1 | E15: 4.21 | I15: 30.62
A16: 2 | E16: 1.79 | I16: 29.72
A17: 3 | E17: 2.84 | I17: 30.86
A18: 4 | E18: 1.62 | I18: 28.08
A19: 5 | E19: 1.72 | I19: 31.38
A20: 6 | E20: 1.77 | I20: 36.28
A21: 7 | E21: 2.88 | I21: 42.9
A22: 8 | E22: 1.75 | I22: 44.2
A23: 9 | E23: 1.78 | I23: 43.16
A24: 10 | E24: 4.07 | I24: 44.44
A25: 11 | E25: 3.11 | I25: 42.86
... A37: 23 | E37: 3.05 | I37: 44.86
A38: 24
A39: Итого | E39: =SUM(E15:E38) -> 65.96 | I39: =SUM(I15:I38) -> 961.5 | M39: =SUM(M15:M38) -> 0 | Q39: =SUM(Q15:Q38) -> 0
A40: 1, При наличии на предприятии отклонений от нормальных режимов электропотребления (временное изменение схем питания, остановка на ремонт, резкое снижение
A41: эл,потребления и т,д,) последние необходимо перечислить,
A42: Главный инженер АО "Вологдаоблэнерго" А,В, Чурляев
A43: составляется самим предприятием с соблюдением всех пунктов настоящей таблицы,

Sheet 37==
B1: АО "Вологдаоблэнерго" | J1: код 900151 | N1: ПС Ирдоматка, ф, Ирдоматка-1
B2: наименование предприятия | N2: наименование источника питания
N3: ТП-209 Тепловая
B4: ул, Горького, 99 | I4: Таблица № 1 | N4: КТП-210 Ирдоматка
B5: адрес
A6: почасовых записей показаний электрических счетчиков
A7: ='1=='!A7:Q7 -> в режимный день 20 ДЕКАБРЯ 2023 г.
A8: 1630 | B8: 1628
A9: часы суток | B9: Активная энергия | J9: Реактивная энергия
B10: =N3 -> ТП-209 Тепловая | F10: =N4 -> КТП-210 Ирдоматка | J10: =B10 -> ТП-209 Тепловая | N10: =F10 -> КТП-210 Ирдоматка
B11: Расчет, Коэф, | E11: 80 | F11: Расчет, Коэф, | I11: 80 | J11: Расчет, Коэф, | M11: =E11 -> 80 | N11: Расчет, Коэф, | Q11: =I11 -> 80
B12: показания счетчика | C12: разность | E12: расход эл,энергии за час | F12: показания счетчика | G12: разность | I12: расход эл,энергии за час | J12: показания счетчика | K12: разность | M12: расход эл,энергии за час | N12: показания счетчика | O12: разность | Q12: расход эл,энергии за час
A13: 1 | B13: 2 | C13: 3 | E13: 4 | F13: 5 | G13: 6 | I13: 7 | J13: 8 | K13: 9 | M13: 10 | N13: 11 | O13: 12 | Q13: 13
A14: 0 | E14: 25.12 | I14: 32.24
A15: 1 | E15: 24.16 | I15: 29.28
A16: 2 | E16: 20.24 | I16: 25.28
A17: 3 | E17: 17.6 | I17: 19.36
A18: 4 | E18: 18.48 | I18: 15.92
A19: 5 | E19: 14.8 | I19: 19.36
A20: 6 | E20: 16.72 | I20: 19.28
A21: 7 | E21: 17.52 | I21: 28.24
A22: 8 | E22: 26.24 | I22: 43.6
A23: 9 | E23: 25.68 | I23: 39.76
A24: 10 | E24: 37.68 | I24: 37.2
A25: 11 | E25: 40.88 | I25: 37.28
... A37: 23 | E37: 28.72 | I37: 48.08
A38: 24
A39: Итого | E39: =SUM(E15:E38) -> 725.68 | I39: =SUM(I15:I38) -> 835.84 | M39: =SUM(M15:M38) -> 0 | Q39: =SUM(Q15:Q38) -> 0
A40: 1, При наличии на предприятии отклонений от нормальных режимов электропотребления (временное изменение схем питания, остановка на ремонт, резкое снижение
A41: эл,потребления и т,д,) последние необходимо перечислить,
A42: Главный инженер АО "Вологдаоблэнерго" А,В, Чурляев
A43: составляется самим предприятием с соблюдением всех пунктов настоящей таблицы,

Sheet 38=
B1: АО "Вологдаоблэнерго" | J1: код 900151 | N1: ПС Ирдоматка ф,Даргун
B2: наименование предприятия | N2: наименование источника питания
N3: ТП-113
B4: ул, Горького, 99 | I4: Таблица № 1
B5: адрес
A6: почасовых записей показаний электрических счетчиков
A7: ='1=='!A7:Q7 -> в режимный день 20 ДЕКАБРЯ 2023 г.
A8: 1630 | B8: 1628
A9: часы суток | B9: Активная энергия | J9: Реактивная энергия
B10: =N3 -> ТП-113 | F10: =N4 -> 0 | J10: =B10 -> ТП-113 | N10: =F10 -> 0
B11: Расчет, Коэф, | E11: 80 | F11: Расчет, Коэф, | I11: 120 | J11: Расчет, Коэф, | M11: =E11 -> 80 | N11: Расчет, Коэф, | Q11: =I11 -> 120
B12: показания счетчика | C12: разность | E12: расход эл,энергии за час | F12: показания счетчика | G12: разность | I12: расход эл,энергии за час | J12: показания счетчика | K12: разность | M12: расход эл,энергии за час | N12: показания счетчика | O12: разность | Q12: расход эл,энергии за час
A13: 1 | B13: 2 | C13: 3 | E13: 4 | F13: 5 | G13: 6 | I13: 7 | J13: 8 | K13: 9 | M13: 10 | N13: 11 | O13: 12 | Q13: 13
A14: 0 | E14: 0
A15: 1 | E15: 0
A16: 2 | E16: 0
A17: 3 | E17: 0
A18: 4 | E18: 0
A19: 5 | E19: 0
A20: 6 | E20: 0
A21: 7 | E21: 0
A22: 8 | E22: 0
A23: 9 | E23: 0
A24: 10 | E24: 0
A25: 11 | E25: 0
... A37: 23 | E37: 0
A38: 24
A39: Итого | E39: =SUM(E15:E38) -> 0 | I39: =SUM(I15:I38) -> 0 | M39: =SUM(M15:M38) -> 0 | Q39: =SUM(Q15:Q38) -> 0
A40: 1, При наличии на предприятии отклонений от нормальных режимов электропотребления (временное изменение схем питания, остановка на ремонт, резкое снижение
A41: эл,потребления и т,д,) последние необходимо перечислить,
A42: Главный инженер АО "Вологдаоблэнерго" А,В, Чурляев
A43: составляется самим предприятием с соблюдением всех пунктов настоящей таблицы,

Sheet 39=
B1: АО "Вологдаоблэнерго" | J1: код 900151 | N1: ПС Ирдоматка, ф, Ирдоматка-1
B2: наименование предприятия | N2: наименование источника питания
N3: КТП-400 Дачи "Пулово Борисово"
B4: ул, Горького, 99 | I4: Таблица № 1
B5: адрес
A6: почасовых записей показаний электрических счетчиков
A7: ='1=='!A7:Q7 -> в режимный день 20 ДЕКАБРЯ 2023 г.
A8: 1630 | B8: 1628
A9: часы суток | B9: Активная энергия | J9: Реактивная энергия
B10: =N3 -> КТП-400 Дачи "Пулово Борисово" | F10: =N4 -> 0 | J10: =B10 -> КТП-400 Дачи "Пулово Борисово" | N10: =F10 -> 0
B11: Расчет, Коэф, | E11: 60 | F11: Расчет, Коэф, | I11: 120 | J11: Расчет, Коэф, | M11: =E11 -> 60 | N11: Расчет, Коэф, | Q11: =I11 -> 120
B12: показания счетчика | C12: разность | E12: расход эл,энергии за час | F12: показания счетчика | G12: разность | I12: расход эл,энергии за час | J12: показания счетчика | K12: разность | M12: расход эл,энергии за час | N12: показания счетчика | O12: разность | Q12: расход эл,энергии за час
A13: 1 | B13: 2 | C13: 3 | E13: 4 | F13: 5 | G13: 6 | I13: 7 | J13: 8 | K13: 9 | M13: 10 | N13: 11 | O13: 12 | Q13: 13
A14: 0 | E14: 0
A15: 1 | E15: 0
A16: 2 | E16: 0
A17: 3 | E17: 0
A18: 4 | E18: 0
A19: 5 | E19: 0
A20: 6 | E20: 0
A21: 7 | E21: 0
A22: 8 | E22: 0
A23: 9 | E23: 0
A24: 10 | E24: 0
A25: 11 | E25: 0
... A37: 23 | E37: 0
A38: 24
A39: Итого | E39: =SUM(E15:E38) -> 0 | I39: =SUM(I15:I38) -> 0 | M39: =SUM(M15:M38) -> 0 | Q39: =SUM(Q15:Q38) -> 0
A40: 1, При наличии на предприятии отклонений от нормальных режимов электропотребления (временное изменение схем питания, остановка на ремонт, резкое снижение
A41: эл,потребления и т,д,) последние необходимо перечислить,
A42: Главный инженер АО "Вологдаоблэнерго" А,В, Чурляев
A43: составляется самим предприятием с соблюдением всех пунктов настоящей таблицы,

Sheet 40=
B1: АО "Вологдаоблэнерго" | J1: код 900151 | N1: ПС Абакаеово ф, Осеевская
B2: наименование предприятия | N2: наименование источника питания
N3: ТП-Лесопильных цех (д,Заручьевье)
B4: ул, Горького, 99 | I4: Таблица № 1
B5: адрес
A6: почасовых записей показаний электрических счетчиков
A7: ='1=='!A7:Q7 -> в режимный день 20 ДЕКАБРЯ 2023 г.
A8: 1630 | B8: 1628
A9: часы суток | B9: Активная энергия | J9: Реактивная энергия
B10: =N3 -> ТП-Лесопильных цех (д,Заручьевье) | F10: =N4 -> 0 | J10: =B10 -> ТП-Лесопильных цех (д,Заручьевье) | N10: =F10 -> 0
B11: Расчет, Коэф, | E11: 30 | F11: Расчет, Коэф, | I11: 120 | J11: Расчет, Коэф, | M11: =E11 -> 30 | N11: Расчет, Коэф, | Q11: =I11 -> 120
B12: показания счетчика | C12: разность | E12: расход эл,энергии за час | F12: показания счетчика | G12: разность | I12: расход эл,энергии за час | J12: показания счетчика | K12: разность | M12: расход эл,энергии за час | N12: показания счетчика | O12: разность | Q12: расход эл,энергии за час
A13: 1 | B13: 2 | C13: 3 | E13: 4 | F13: 5 | G13: 6 | I13: 7 | J13: 8 | K13: 9 | M13: 10 | N13: 11 | O13: 12 | Q13: 13
A14: 0 | E14: 0.435
A15: 1 | E15: 0.195
A16: 2 | E16: 0.165
A17: 3 | E17: 0.165
A18: 4 | E18: 0.15
A19: 5 | E19: 0.15
A20: 6 | E20: 0.51
A21: 7 | E21: 1.425
A22: 8 | E22: 11.325
A23: 9 | E23: 12.285
A24: 10 | E24: 9.765
A25: 11 | E25: 11.52
... A37: 23 | E37: 0.66
A38: 24
A39: Итого | E39: =SUM(E15:E38) -> 96.615 | I39: =SUM(I15:I38) -> 0 | M39: =SUM(M15:M38) -> 0 | Q39: =SUM(Q15:Q38) -> 0
A40: 1, При наличии на предприятии отклонений от нормальных режимов электропотребления (временное изменение схем питания, остановка на ремонт, резкое снижение
A41: эл,потребления и т,д,) последние необходимо перечислить,
A42: Главный инженер АО "Вологдаоблэнерго" А,В, Чурляев
A43: составляется самим предприятием с соблюдением всех пунктов настоящей таблицы,

Sheet 41==
B1: АО "Вологдаоблэнерго" | J1: код 900151 | N1: ПС Новые Углы ф, Кораблево
B2: наименование предприятия | N2: наименование источника питания
N3: ТП-3 Общежитие В-1
B4: ул, Горького, 99 | I4: Таблица № 1 | N4: ТП-3 Общежитие В-2
B5: адрес
A6: почасовых записей показаний электрических счетчиков
A7: ='1=='!A7:Q7 -> в режимный день 20 ДЕКАБРЯ 2023 г.
A8: 1630 | B8: 1628
A9: часы суток | B9: Активная энергия | J9: Реактивная энергия
B10: =N3 -> ТП-3 Общежитие В-1 | F10: =N4 -> ТП-3 Общежитие В-2 | J10: =B10 -> ТП-3 Общежитие В-1 | N10: =F10 -> ТП-3 Общежитие В-2
B11: Расчет, Коэф, | E11: 60 | F11: Расчет, Коэф, | I11: 60 | J11: Расчет, Коэф, | M11: =E11 -> 60 | N11: Расчет, Коэф, | Q11: =I11 -> 60
B12: показания счетчика | C12: разность | E12: расход эл,энергии за час | F12: показания счетчика | G12: разность | I12: расход эл,энергии за час | J12: показания счетчика | K12: разность | M12: расход эл,энергии за час | N12: показания счетчика | O12: разность | Q12: расход эл,энергии за час
A13: 1 | B13: 2 | C13: 3 | E13: 4 | F13: 5 | G13: 6 | I13: 7 | J13: 8 | K13: 9 | M13: 10 | N13: 11 | O13: 12 | Q13: 13
A14: 0 | E14: 0 | I14: 16.668
A15: 1 | E15: 0 | I15: 12.492
A16: 2 | E16: 0 | I16: 10.392
A17: 3 | E17: 0 | I17: 9.624
A18: 4 | E18: 0 | I18: 9.672
A19: 5 | E19: 0 | I19: 9.192
A20: 6 | E20: 0 | I20: 10.776
A21: 7 | E21: 0 | I21: 16.812
A22: 8 | E22: 0 | I22: 19.128
A23: 9 | E23: 0 | I23: 19.44
A24: 10 | E24: 0 | I24: 17.04
A25: 11 | E25: 0 | I25: 20.088
... A37: 23 | E37: 0 | I37: 21.576
A38: 24
A39: Итого | E39: =SUM(E15:E38) -> 0 | I39: =SUM(I15:I38) -> 414.948 | M39: =SUM(M15:M38) -> 0 | Q39: =SUM(Q15:Q38) -> 0
A40: 1, При наличии на предприятии отклонений от нормальных режимов электропотребления (временное изменение схем питания, остановка на ремонт, резкое снижение
A41: эл,потребления и т,д,) последние необходимо перечислить,
A42: Главный инженер АО "Вологдаоблэнерго" А,В, Чурляев
A43: составляется самим предприятием с соблюдением всех пунктов настоящей таблицы,

Sheet 42==
B1: АО "Вологдаоблэнерго" | J1: код 900151 | N1: ПС Новые Углы ф, Кораблево
B2: наименование предприятия | N2: наименование источника питания
N3: ТП-2 Училище В-1
B4: ул, Горького, 99 | I4: Таблица № 1 | N4: ТП-2 Училище В-2
B5: адрес
A6: почасовых записей показаний электрических счетчиков
A7: ='1=='!A7:Q7 -> в режимный день 20 ДЕКАБРЯ 2023 г.
A8: 1630 | B8: 1628
A9: часы суток | B9: Активная энергия | J9: Реактивная энергия
B10: =N3 -> ТП-2 Училище В-1 | F10: =N4 -> ТП-2 Училище В-2 | J10: =B10 -> ТП-2 Училище В-1 | N10: =F10 -> ТП-2 Училище В-2
B11: Расчет, Коэф, | E11: 80 | F11: Расчет, Коэф, | I11: 80 | J11: Расчет, Коэф, | M11: =E11 -> 80 | N11: Расчет, Коэф, | Q11: =I11 -> 80
B12: показания счетчика | C12: разность | E12: расход эл,энергии за час | F12: показания счетчика | G12: разность | I12: расход эл,энергии за час | J12: показания счетчика | K12: разность | M12: расход эл,энергии за час | N12: показания счетчика | O12: разность | Q12: расход эл,энергии за час
A13: 1 | B13: 2 | C13: 3 | E13: 4 | F13: 5 | G13: 6 | I13: 7 | J13: 8 | K13: 9 | M13: 10 | N13: 11 | O13: 12 | Q13: 13
A14: 0 | E14: 36.272 | I14: 8.464
A15: 1 | E15: 36.864 | I15: 10.368
A16: 2 | E16: 36.16 | I16: 8
A17: 3 | E17: 36.24 | I17: 7.6
A18: 4 | E18: 36.144 | I18: 7.472
A19: 5 | E19: 36.352 | I19: 7.696
A20: 6 | E20: 36.16 | I20: 7.776
A21: 7 | E21: 42.992 | I21: 8.928
A22: 8 | E22: 46.8 | I22: 13.04
A23: 9 | E23: 54.48 | I23: 22.064
A24: 10 | E24: 51.808 | I24: 23.136
A25: 11 | E25: 46.736 | I25: 19.488
... A37: 23 | E37: 36.704 | I37: 9.728
A38: 24
A39: Итого | E39: =SUM(E15:E38) -> 922.848 | I39: =SUM(I15:I38) -> 299.216 | M39: =SUM(M15:M38) -> 0 | Q39: =SUM(Q15:Q38) -> 0
A40: 1, При наличии на предприятии отклонений от нормальных режимов электропотребления (временное изменение схем питания, остановка на ремонт, резкое снижение
A41: эл,потребления и т,д,) последние необходимо перечислить,
A42: Главный инженер АО "Вологдаоблэнерго" А,В, Чурляев
A43: составляется самим предприятием с соблюдением всех пунктов настоящей таблицы,

Sheet 43==
B1: АО "Вологдаоблэнерго" | J1: код 900151 | N1: ПС Новые Углы ф, Кораблево
B2: наименование предприятия | N2: наименование источника питания
N3: ТП-222 В-1
B4: ул, Горького, 99 | I4: Таблица № 1 | N4: ТП-222 В-2
B5: адрес
A6: почасовых записей показаний электрических счетчиков
A7: ='1=='!A7:Q7 -> в режимный день 20 ДЕКАБРЯ 2023 г.
A8: 1630 | B8: 1628
A9: часы суток | B9: Активная энергия | J9: Реактивная энергия
B10: =N3 -> ТП-222 В-1 | F10: =N4 -> ТП-222 В-2 | J10: =B10 -> ТП-222 В-1 | N10: =F10 -> ТП-222 В-2
B11: Расчет, Коэф, | E11: 120 | F11: Расчет, Коэф, | I11: 120 | J11: Расчет, Коэф, | M11: =E11 -> 120 | N11: Расчет, Коэф, | Q11: =I11 -> 120
B12: показания счетчика | C12: разность | E12: расход эл,энергии за час | F12: показания счетчика | G12: разность | I12: расход эл,энергии за час | J12: показания счетчика | K12: разность | M12: расход эл,энергии за час | N12: показания счетчика | O12: разность | Q12: расход эл,энергии за час
A13: 1 | B13: 2 | C13: 3 | E13: 4 | F13: 5 | G13: 6 | I13: 7 | J13: 8 | K13: 9 | M13: 10 | N13: 11 | O13: 12 | Q13: 13
A14: 0 | E14: 9.6 | I14: 32.4
A15: 1 | E15: 6.24 | I15: 23.52
A16: 2 | E16: 5.64 | I16: 23.04
A17: 3 | E17: 5.4 | I17: 21.84
A18: 4 | E18: 5.04 | I18: 21.84
A19: 5 | E19: 6.72 | I19: 21.36
A20: 6 | E20: 16.08 | I20: 24.6
A21: 7 | E21: 15.36 | I21: 28.68
A22: 8 | E22: 15 | I22: 30.6
A23: 9 | E23: 18.12 | I23: 36.12
A24: 10 | E24: 15.48 | I24: 34.56
A25: 11 | E25: 12.72 | I25: 30.96
... A37: 23 | E37: 10.56 | I37: 45.36
A38: 24
A39: Итого | E39: =SUM(E15:E38) -> 250.2 | I39: =SUM(I15:I38) -> 773.64 | M39: =SUM(M15:M38) -> 0 | Q39: =SUM(Q15:Q38) -> 0
A40: 1, При наличии на предприятии отклонений от нормальных режимов электропотребления (временное изменение схем питания, остановка на ремонт, резкое снижение
A41: эл,потребления и т,д,) последние необходимо перечислить,
A42: Главный инженер АО "Вологдаоблэнерго" А,В, Чурляев
A43: составляется самим предприятием с соблюдением всех пунктов настоящей таблицы,

Sheet 44==
B1: АО "Вологдаоблэнерго" | J1: код 900151 | N1: ПС Новые Углы ф, Кораблево
B2: наименование предприятия | N2: наименование источника питания
N3: ТП-Шухободь Жилзона В-1
B4: ул, Горького, 99 | I4: Таблица № 1 | N4: ТП-Шухободь Жилзона В-2
B5: адрес
A6: почасовых записей показаний электрических счетчиков
A7: ='1=='!A7:Q7 -> в режимный день 20 ДЕКАБРЯ 2023 г.
A8: 1630 | B8: 1628
A9: часы суток | B9: Активная энергия | J9: Реактивная энергия
B10: =N3 -> ТП-Шухободь Жилзона В-1 | F10: =N4 -> ТП-Шухободь Жилзона В-2 | J10: =B10 -> ТП-Шухободь Жилзона В-1 | N10: =F10 -> ТП-Шухободь Жилзона В-2
B11: Расчет, Коэф, | E11: 80 | F11: Расчет, Коэф, | I11: 80 | J11: Расчет, Коэф, | M11: =E11 -> 80 | N11: Расчет, Коэф, | Q11: =I11 -> 80
B12: показания счетчика | C12: разность | E12: расход эл,энергии за час | F12: показания счетчика | G12: разность | I12: расход эл,энергии за час | J12: показания счетчика | K12: разность | M12: расход эл,энергии за час | N12: показания счетчика | O12: разность | Q12: расход эл,энергии за час
A13: 1 | B13: 2 | C13: 3 | E13: 4 | F13: 5 | G13: 6 | I13: 7 | J13: 8 | K13: 9 | M13: 10 | N13: 11 | O13: 12 | Q13: 13
A14: 0 | E14: 37.28 | I14: 41.12
A15: 1 | E15: 29.6 | I15: 33.28
A16: 2 | E16: 26.32 | I16: 30.96
A17: 3 | E17: 24.56 | I17: 28.16
A18: 4 | E18: 24.08 | I18: 28.56
A19: 5 | E19: 24.24 | I19: 28.08
A20: 6 | E20: 23.92 | I20: 33.52
A21: 7 | E21: 27.76 | I21: 36.4
A22: 8 | E22: 37.04 | I22: 41.68
A23: 9 | E23: 39.2 | I23: 54.56
A24: 10 | E24: 43.44 | I24: 41.76
A25: 11 | E25: 42.88 | I25: 44.8
... A37: 23 | E37: 42.96 | I37: 53.36
A38: 24
A39: Итого | E39: =SUM(E15:E38) -> 874.48 | M39: =SUM(M15:M38) -> 0 | Q39: =SUM(Q15:Q38) -> 0
A40: 1, При наличии на предприятии отклонений от нормальных режимов электропотребления (временное изменение схем питания, остановка на ремонт, резкое снижение
A41: эл,потребления и т,д,) последние необходимо перечислить,
A42: Главный инженер АО "Вологдаоблэнерго" А,В, Чурляев
A43: составляется самим предприятием с соблюдением всех пунктов настоящей таблицы,

Sheet 45==
B1: АО "Вологдаоблэнерго" | J1: код 900151 | N1: ПС Новые Углы ф, Кораблево
B2: наименование предприятия | N2: наименование источника питания
N3: ТП-К-с Шухободь В-1
B4: ул, Горького, 99 | I4: Таблица № 1 | N4: ТП-К-с Шухободь В-2
B5: адрес
A6: почасовых записей показаний электрических счетчиков
A7: ='1=='!A7:Q7 -> в режимный день 20 ДЕКАБРЯ 2023 г.
A8: 1630 | B8: 1628
A9: часы суток | B9: Активная энергия | J9: Реактивная энергия
B10: =N3 -> ТП-К-с Шухободь В-1 | F10: =N4 -> ТП-К-с Шухободь В-2 | J10: =B10 -> ТП-К-с Шухободь В-1 | N10: =F10 -> ТП-К-с Шухободь В-2
B11: Расчет, Коэф, | E11: 120 | F11: Расчет, Коэф, | I11: 120 | J11: Расчет, Коэф, | M11: =E11 -> 120 | N11: Расчет, Коэф, | Q11: =I11 -> 120
B12: показания счетчика | C12: разность | E12: расход эл,энергии за час | F12: показания счетчика | G12: разность | I12: расход эл,энергии за час | J12: показания счетчика | K12: разность | M12: расход эл,энергии за час | N12: показания счетчика | O12: разность | Q12: расход эл,энергии за час
A13: 1 | B13: 2 | C13: 3 | E13: 4 | F13: 5 | G13: 6 | I13: 7 | J13: 8 | K13: 9 | M13: 10 | N13: 11 | O13: 12 | Q13: 13
A14: 0 | E14: 73.752 | I14: 0
A15: 1 | E15: 87.264 | I15: 0
A16: 2 | E16: 79.32 | I16: 0
A17: 3 | E17: 80.304 | I17: 0
A18: 4 | E18: 82.056 | I18: 0
A19: 5 | E19: 90.432 | I19: 0
A20: 6 | E20: 108.288 | I20: 0
A21: 7 | E21: 118.512 | I21: 0
A22: 8 | E22: 135.624 | I22: 0
A23: 9 | E23: 138.624 | I23: 0
A24: 10 | E24: 135.096 | I24: 0
A25: 11 | E25: 125.952 | I25: 0
... A37: 23 | E37: 84.576 | I37: 0
A38: 24
A39: Итого | E39: =SUM(E15:E38) -> 2392.896 | I39: =SUM(I15:I38) -> 0 | M39: =SUM(M15:M38) -> 0 | Q39: =SUM(Q15:Q38) -> 0
A40: 1, При наличии на предприятии отклонений от нормальных режимов электропотребления (временное изменение схем питания, остановка на ремонт, резкое снижение
A41: эл,потребления и т,д,) последние необходимо перечислить,
A42: Главный инженер АО "Вологдаоблэнерго" А,В, Чурляев
A43: составляется самим предприятием с соблюдением всех пунктов настоящей таблицы,

Sheet 46==
B1: АО "Вологдаоблэнерго" | J1: код 900151 | N1: ПС Абаканово, ф, Алексино
B2: наименование предприятия | N2: наименование источника питания
N3: ТП-Поселок (3,4 этажные дома)
B4: ул, Горького, 99 | I4: Таблица № 1 | N4: ТП-211
B5: адрес
A6: почасовых записей показаний электрических счетчиков
A7: ='1=='!A7:Q7 -> в режимный день 20 ДЕКАБРЯ 2023 г.
A8: 1630 | B8: 1628
A9: часы суток | B9: Активная энергия | J9: Реактивная энергия
B10: =N3 -> ТП-Поселок (3,4 этажные дома) | F10: =N4 -> ТП-211 | J10: =B10 -> ТП-Поселок (3,4 этажные дома) | N10: =F10 -> ТП-211
B11: Расчет, Коэф, | E11: 50 | F11: Расчет, Коэф, | I11: 80 | J11: Расчет, Коэф, | M11: =E11 -> 50 | N11: Расчет, Коэф, | Q11: =I11 -> 80
B12: показания счетчика | C12: разность | E12: расход эл,энергии за час | F12: показания счетчика | G12: разность | I12: расход эл,энергии за час | J12: показания счетчика | K12: разность | M12: расход эл,энергии за час | N12: показания счетчика | O12: разность | Q12: расход эл,энергии за час
A13: 1 | B13: 2 | C13: 3 | E13: 4 | F13: 5 | G13: 6 | I13: 7 | J13: 8 | K13: 9 | M13: 10 | N13: 11 | O13: 12 | Q13: 13
A14: 0 | E14: 45.05 | I14: 1.08
A15: 1 | E15: 40.7 | I15: 1.6
A16: 2 | E16: 37.15 | I16: 0.96
A17: 3 | E17: 35.9 | I17: 1.32
A18: 4 | E18: 37.25 | I18: 1.2
A19: 5 | E19: 38.45 | I19: 0.76
A20: 6 | E20: 47 | I20: 3.8
A21: 7 | E21: 47.5 | I21: 23.4
A22: 8 | E22: 50.85 | I22: 22
A23: 9 | E23: 59.75 | I23: 26.24
A24: 10 | E24: 61.7 | I24: 29.68
A25: 11 | E25: 58.45 | I25: 14.52
... A37: 23 | E37: 62 | I37: 1.04
A38: 24
A39: Итого | E39: =SUM(E15:E38) -> 1283.45 | I39: =SUM(I15:I38) -> 192.64 | M39: =SUM(M15:M38) -> 0 | Q39: =SUM(Q15:Q38) -> 0
A40: 1, При наличии на предприятии отклонений от нормальных режимов электропотребления (временное изменение схем питания, остановка на ремонт, резкое снижение
A41: эл,потребления и т,д,) последние необходимо перечислить,
A42: Главный инженер АО "Вологдаоблэнерго" А,В, Чурляев
A43: составляется самим предприятием с соблюдением всех пунктов настоящей таблицы,

Sheet 47==
B1: АО "Вологдаоблэнерго" | J1: код 900151 | N1: ПС Абаканово, ф, Алексино
B2: наименование предприятия | N2: наименование источника питания
N3: КТП "Мастерские" с, Абаканово
B4: ул, Горького, 99 | I4: Таблица № 1 | N4: ТП-242
B5: адрес
A6: почасовых записей показаний электрических счетчиков
A7: ='1=='!A7:Q7 -> в режимный день 20 ДЕКАБРЯ 2023 г.
A8: 1630 | B8: 1628
A9: часы суток | B9: Активная энергия | J9: Реактивная энергия
B10: =N3 -> КТП "Мастерские" с, Абаканово | F10: =N4 -> ТП-242 | J10: =B10 -> КТП "Мастерские" с, Абаканово | N10: =F10 -> ТП-242
B11: Расчет, Коэф, | E11: 40 | F11: Расчет, Коэф, | I11: 30 | J11: Расчет, Коэф, | M11: =E11 -> 40 | N11: Расчет, Коэф, | Q11: =I11 -> 30
B12: показания счетчика | C12: разность | E12: расход эл,энергии за час | F12: показания счетчика | G12: разность | I12: расход эл,энергии за час | J12: показания счетчика | K12: разность | M12: расход эл,энергии за час | N12: показания счетчика | O12: разность | Q12: расход эл,энергии за час
A13: 1 | B13: 2 | C13: 3 | E13: 4 | F13: 5 | G13: 6 | I13: 7 | J13: 8 | K13: 9 | M13: 10 | N13: 11 | O13: 12 | Q13: 13
A14: 0 | E14: 0 | I14: 1.425
A15: 1 | E15: 0 | I15: 1.125
A16: 2 | E16: 0 | I16: 1.035
A17: 3 | E17: 0 | I17: 0.945
A18: 4 | E18: 0 | I18: 1.065
A19: 5 | E19: 0 | I19: 1.035
A20: 6 | E20: 0 | I20: 1.425
A21: 7 | E21: 0 | I21: 1.05
A22: 8 | E22: 0 | I22: 0.855
A23: 9 | E23: 0 | I23: 1.08
A24: 10 | E24: 0 | I24: 1.395
A25: 11 | E25: 0 | I25: 2.325
... A37: 23 | E37: 0 | I37: 2.085
A38: 24
A39: Итого | E39: =SUM(E15:E38) -> 0 | I39: =SUM(I15:I38) -> 36.525 | M39: =SUM(M15:M38) -> 0 | Q39: =SUM(Q15:Q38) -> 0
A40: 1, При наличии на предприятии отклонений от нормальных режимов электропотребления (временное изменение схем питания, остановка на ремонт, резкое снижение
A41: эл,потребления и т,д,) последние необходимо перечислить,
A42: Главный инженер АО "Вологдаоблэнерго" А,В, Чурляев
A43: составляется самим предприятием с соблюдением всех пунктов настоящей таблицы,

Sheet 48=
B1: АО "Вологдаоблэнерго" | J1: код 900151 | N1: ПС Абаканово, ф, Слабеево
B2: наименование предприятия | N2: наименование источника питания
N3: ТП-249
B4: ул, Горького, 99 | I4: Таблица № 1
B5: адрес
A6: почасовых записей показаний электрических счетчиков
A7: ='1=='!A7:Q7 -> в режимный день 20 ДЕКАБРЯ 2023 г.
A8: 1630 | B8: 1628
A9: часы суток | B9: Активная энергия | J9: Реактивная энергия
B10: =N3 -> ТП-249 | F10: =N4 -> 0 | J10: =B10 -> ТП-249 | N10: =F10 -> 0
B11: Расчет, Коэф, | E11: 1 | F11: Расчет, Коэф, | I11: 120 | J11: Расчет, Коэф, | M11: =E11 -> 1 | N11: Расчет, Коэф, | Q11: =I11 -> 120
B12: показания счетчика | C12: разность | E12: расход эл,энергии за час | F12: показания счетчика | G12: разность | I12: расход эл,энергии за час | J12: показания счетчика | K12: разность | M12: расход эл,энергии за час | N12: показания счетчика | O12: разность | Q12: расход эл,энергии за час
A13: 1 | B13: 2 | C13: 3 | E13: 4 | F13: 5 | G13: 6 | I13: 7 | J13: 8 | K13: 9 | M13: 10 | N13: 11 | O13: 12 | Q13: 13
A14: 0 | E14: 0
A15: 1 | E15: 0
A16: 2 | E16: 0
A17: 3 | E17: 0
A18: 4 | E18: 0
A19: 5 | E19: 0
A20: 6 | E20: 0
A21: 7 | E21: 0
A22: 8 | E22: 0
A23: 9 | E23: 0
A24: 10 | E24: 0
A25: 11 | E25: 0
... A37: 23 | E37: 0
A38: 24
A39: Итого | E39: =SUM(E15:E38) -> 0 | I39: =SUM(I15:I38) -> 0 | M39: =SUM(M15:M38) -> 0 | Q39: =SUM(Q15:Q38) -> 0
A40: 1, При наличии на предприятии отклонений от нормальных режимов электропотребления (временное изменение схем питания, остановка на ремонт, резкое снижение
A41: эл,потребления и т,д,) последние необходимо перечислить,
A42: Главный инженер АО "Вологдаоблэнерго" А,В, Чурляев
A43: составляется самим предприятием с соблюдением всех пунктов настоящей таблицы,

Sheet 49==
B1: АО "Вологдаоблэнерго" | J1: код 900151 | N1: ПС Поповка, ф, Привалино
B2: наименование предприятия | N2: наименование источника питания
N3: КТП-Погорелка
B4: ул, Горького, 99 | I4: Таблица № 1 | N4: КТП-Хлебаево
B5: адрес
A6: почасовых записей показаний электрических счетчиков
A7: ='1=='!A7:Q7 -> в режимный день 20 ДЕКАБРЯ 2023 г.
A8: 1630 | B8: 1628
A9: часы суток | B9: Активная энергия | J9: Реактивная энергия
B10: =N3 -> КТП-Погорелка | F10: =N4 -> КТП-Хлебаево | J10: =B10 -> КТП-Погорелка | N10: =F10 -> КТП-Хлебаево
B11: Расчет, Коэф, | E11: 30 | F11: Расчет, Коэф, | I11: 30 | J11: Расчет, Коэф, | M11: =E11 -> 30 | N11: Расчет, Коэф, | Q11: =I11 -> 30
B12: показания счетчика | C12: разность | E12: расход эл,энергии за час | F12: показания счетчика | G12: разность | I12: расход эл,энергии за час | J12: показания счетчика | K12: разность | M12: расход эл,энергии за час | N12: показания счетчика | O12: разность | Q12: расход эл,энергии за час
A13: 1 | B13: 2 | C13: 3 | E13: 4 | F13: 5 | G13: 6 | I13: 7 | J13: 8 | K13: 9 | M13: 10 | N13: 11 | O13: 12 | Q13: 13
A14: 0 | E14: 2.04 | I14: 0
A15: 1 | E15: 0.24 | I15: 0
A16: 2 | E16: 0.84 | I16: 0
A17: 3 | E17: 0.84 | I17: 0
A18: 4 | E18: 0.9 | I18: 0
A19: 5 | E19: 0.84 | I19: 0
A20: 6 | E20: 0.84 | I20: 0
A21: 7 | E21: 0.84 | I21: 0
A22: 8 | E22: 1.74 | I22: 0
A23: 9 | E23: 3.9 | I23: 0
A24: 10 | E24: 6.6 | I24: 0
A25: 11 | E25: 6.9 | I25: 0
... A37: 23 | E37: 0.84 | I37: 0
A38: 24
A39: Итого | E39: =SUM(E15:E38) -> 78 | I39: =SUM(I15:I38) -> 0 | M39: =SUM(M15:M38) -> 0 | Q39: =SUM(Q15:Q38) -> 0
A40: 1, При наличии на предприятии отклонений от нормальных режимов электропотребления (временное изменение схем питания, остановка на ремонт, резкое снижение
A41: эл,потребления и т,д,) последние необходимо перечислить,
A42: Главный инженер АО "Вологдаоблэнерго" А,В, Чурляев
A43: составляется самим предприятием с соблюдением всех пунктов настоящей таблицы,

Sheet 50==
B1: АО "Вологдаоблэнерго" | J1: код 900151 | N1: ПС Поповка, ф, Привалино
B2: наименование предприятия | N2: наименование источника питания
N3: ТП-226
B4: ул, Горького, 99 | I4: Таблица № 1 | N4: ТП-257
B5: адрес
A6: почасовых записей показаний электрических счетчиков
A7: ='1=='!A7:Q7 -> в режимный день 20 ДЕКАБРЯ 2023 г.
A8: 1630 | B8: 1628
A9: часы суток | B9: Активная энергия | J9: Реактивная энергия
B10: =N3 -> ТП-226 | F10: =N4 -> ТП-257 | J10: =B10 -> ТП-226 | N10: =F10 -> ТП-257
B11: Расчет, Коэф, | E11: 30 | F11: Расчет, Коэф, | I11: 30 | J11: Расчет, Коэф, | M11: =E11 -> 30 | N11: Расчет, Коэф, | Q11: =I11 -> 30
B12: показания счетчика | C12: разность | E12: расход эл,энергии за час | F12: показания счетчика | G12: разность | I12: расход эл,энергии за час | J12: показания счетчика | K12: разность | M12: расход эл,энергии за час | N12: показания счетчика | O12: разность | Q12: расход эл,энергии за час
A13: 1 | B13: 2 | C13: 3 | E13: 4 | F13: 5 | G13: 6 | I13: 7 | J13: 8 | K13: 9 | M13: 10 | N13: 11 | O13: 12 | Q13: 13
A14: 0 | E14: 4.245 | I14: 0.41
A15: 1 | E15: 1.185 | I15: 0.65
A16: 2 | E16: 1.68 | I16: 1.1
A17: 3 | E17: 0.99 | I17: 0.82
A18: 4 | E18: 2.655 | I18: 0.68
A19: 5 | E19: 3 | I19: 0.68
A20: 6 | E20: 2.67 | I20: 1.36
A21: 7 | E21: 1.935 | I21: 0.48
A22: 8 | E22: 1.665 | I22: 0.53
A23: 9 | E23: 2.73 | I23: 0.55
A24: 10 | E24: 2.16 | I24: 0.6
A25: 11 | E25: 2.085 | I25: 0.55
... A37: 23 | E37: 5.73 | I37: 0.39
A38: 24
A39: Итого | E39: =SUM(E15:E38) -> 62.655 | I39: =SUM(I15:I38) -> 13.11 | M39: =SUM(M15:M38) -> 0 | Q39: =SUM(Q15:Q38) -> 0
A40: 1, При наличии на предприятии отклонений от нормальных режимов электропотребления (временное изменение схем питания, остановка на ремонт, резкое снижение
A41: эл,потребления и т,д,) последние необходимо перечислить,
A42: Главный инженер АО "Вологдаоблэнерго" А,В, Чурляев
A43: составляется самим предприятием с соблюдением всех пунктов настоящей таблицы,

Sheet 51=
B1: АО "Вологдаоблэнерго" | J1: код 900151 | N1: ПС Абаканово ф, Покров
B2: наименование предприятия | N2: наименование источника питания
N3: КТП Шухтовское Лесничество
B4: ул, Горького, 99 | I4: Таблица № 1
B5: адрес
A6: почасовых записей показаний электрических счетчиков
A7: ='1=='!A7:Q7 -> в режимный день 20 ДЕКАБРЯ 2023 г.
A8: 1630 | B8: 1628
A9: часы суток | B9: Активная энергия | J9: Реактивная энергия
B10: =N3 -> КТП Шухтовское Лесничество | F10: =N4 -> 0 | J10: =B10 -> КТП Шухтовское Лесничество | N10: =F10 -> 0
B11: Расчет, Коэф, | E11: 30 | F11: Расчет, Коэф, | I11: 120 | J11: Расчет, Коэф, | M11: =E11 -> 30 | N11: Расчет, Коэф, | Q11: =I11 -> 120
B12: показания счетчика | C12: разность | E12: расход эл,энергии за час | F12: показания счетчика | G12: разность | I12: расход эл,энергии за час | J12: показания счетчика | K12: разность | M12: расход эл,энергии за час | N12: показания счетчика | O12: разность | Q12: расход эл,энергии за час
A13: 1 | B13: 2 | C13: 3 | E13: 4 | F13: 5 | G13: 6 | I13: 7 | J13: 8 | K13: 9 | M13: 10 | N13: 11 | O13: 12 | Q13: 13
A14: 0 | E14: 8.6
A15: 1 | E15: 8.92
A16: 2 | E16: 8.24
A17: 3 | E17: 9.48
A18: 4 | E18: 8.88
A19: 5 | E19: 8.36
A20: 6 | E20: 8.44
A21: 7 | E21: 9.24
A22: 8 | E22: 14.92
A23: 9 | E23: 19.48
A24: 10 | E24: 20.4
A25: 11 | E25: 21.04
... A37: 23 | E37: 9.88
A38: 24
A39: Итого | E39: =SUM(E15:E38) -> 276.04 | I39: =SUM(I15:I38) -> 0 | M39: =SUM(M15:M38) -> 0 | Q39: =SUM(Q15:Q38) -> 0
A40: 1, При наличии на предприятии отклонений от нормальных режимов электропотребления (временное изменение схем питания, остановка на ремонт, резкое снижение
A41: эл,потребления и т,д,) последние необходимо перечислить,
A42: Главный инженер АО "Вологдаоблэнерго" А,В, Чурляев
A43: составляется самим предприятием с соблюдением всех пунктов настоящей таблицы,

Sheet 52=
B1: АО "Вологдаоблэнерго" | J1: код 900151 | N1: ПС Абаканово, ф, Маслово
B2: наименование предприятия | N2: наименование источника питания
N3: ЦРП-Маслово
B4: ул, Горького, 99 | I4: Таблица № 1
B5: адрес
A6: почасовых записей показаний электрических счетчиков
A7: ='1=='!A7:Q7 -> в режимный день 20 ДЕКАБРЯ 2023 г.
A8: 1630 | B8: 1628
A9: часы суток | B9: Активная энергия | J9: Реактивная энергия
B10: =N3 -> ЦРП-Маслово | F10: =N4 -> 0 | J10: =B10 -> ЦРП-Маслово | N10: =F10 -> 0
B11: Расчет, Коэф, | E11: 80 | F11: Расчет, Коэф, | I11: 120 | J11: Расчет, Коэф, | M11: =E11 -> 80 | N11: Расчет, Коэф, | Q11: =I11 -> 120
B12: показания счетчика | C12: разность | E12: расход эл,энергии за час | F12: показания счетчика | G12: разность | I12: расход эл,энергии за час | J12: показания счетчика | K12: разность | M12: расход эл,энергии за час | N12: показания счетчика | O12: разность | Q12: расход эл,энергии за час
A13: 1 | B13: 2 | C13: 3 | E13: 4 | F13: 5 | G13: 6 | I13: 7 | J13: 8 | K13: 9 | M13: 10 | N13: 11 | O13: 12 | Q13: 13
A14: 0 | E14: 9.64
A15: 1 | E15: 8.2
A16: 2 | E16: 7.48
A17: 3 | E17: 9
A18: 4 | E18: 9.24
A19: 5 | E19: 8.08
A20: 6 | E20: 8.16
A21: 7 | E21: 8.12
A22: 8 | E22: 8
A23: 9 | E23: 5.72
A24: 10 | E24: 5.68
A25: 11 | E25: 6
... A37: 23 | E37: 9
A38: 24
A39: Итого | E39: =SUM(E15:E38) -> 177.88 | I39: =SUM(I15:I38) -> 0 | M39: =SUM(M15:M38) -> 0 | Q39: =SUM(Q15:Q38) -> 0
A40: 1, При наличии на предприятии отклонений от нормальных режимов электропотребления (временное изменение схем питания, остановка на ремонт, резкое снижение
A41: эл,потребления и т,д,) последние необходимо перечислить,
A42: Главный инженер АО "Вологдаоблэнерго" А,В, Чурляев
A43: составляется самим предприятием с соблюдением всех пунктов настоящей таблицы,

Sheet 53=
B1: АО "Вологдаоблэнерго" | J1: код 900151 | N1: ПС Абаканово, ф,Шухободь
B2: наименование предприятия | N2: наименование источника питания
N3: ТП-227
B4: ул, Горького, 99 | I4: Таблица № 1
B5: адрес
A6: почасовых записей показаний электрических счетчиков
A7: ='1=='!A7:Q7 -> в режимный день 20 ДЕКАБРЯ 2023 г.
A8: 1630 | B8: 1628
A9: часы суток | B9: Активная энергия | J9: Реактивная энергия
B10: =N3 -> ТП-227 | F10: =N4 | J10: =B10 -> ТП-227 | N10: =F10
B11: Расчет, Коэф, | E11: 60 | F11: Расчет, Коэф, | I11: 120 | J11: Расчет, Коэф, | M11: =E11 -> 60 | N11: Расчет, Коэф, | Q11: =I11 -> 120
B12: показания счетчика | C12: разность | E12: расход эл,энергии за час | F12: показания счетчика | G12: разность | I12: расход эл,энергии за час | J12: показания счетчика | K12: разность | M12: расход эл,энергии за час | N12: показания счетчика | O12: разность | Q12: расход эл,энергии за час
A13: 1 | B13: 2 | C13: 3 | E13: 4 | F13: 5 | G13: 6 | I13: 7 | J13: 8 | K13: 9 | M13: 10 | N13: 11 | O13: 12 | Q13: 13
A14: 0 | E14: 4.815
A15: 1 | E15: 3.54
A16: 2 | E16: 3.33
A17: 3 | E17: 3.24
A18: 4 | E18: 3.315
A19: 5 | E19: 3.315
A20: 6 | E20: 3.315
A21: 7 | E21: 3.075
A22: 8 | E22: 1.665
A23: 9 | E23: 1.23
A24: 10 | E24: 3.87
A25: 11 | E25: 3.75
... A37: 23 | E37: 7.32
A38: 24
A39: Итого | E39: =SUM(E15:E38) -> 91.56 | I39: =SUM(I15:I38) -> 0 | M39: =SUM(M15:M38) -> 0 | Q39: =SUM(Q15:Q38) -> 0
A40: 1, При наличии на предприятии отклонений от нормальных режимов электропотребления (временное изменение схем питания, остановка на ремонт, резкое снижение
A41: эл,потребления и т,д,) последние необходимо перечислить,
A42: Главный инженер АО "Вологдаоблэнерго" А,В, Чурляев
A43: составляется самим предприятием с соблюдением всех пунктов настоящей таблицы,

Sheet 54==
B1: АО "Вологдаоблэнерго" | J1: код 900151 | N1: ПС Искра, ф, Оросительная
B2: наименование предприятия | N2: наименование источника питания
N3: КТП-3 Сад №9 "ЧереповецАгроСтрой"
B4: ул, Горького, 99 | I4: Таблица № 1 | N4: КТП-2 Сад №1 "Аммофос"
B5: адрес
A6: почасовых записей показаний электрических счетчиков
A7: ='1=='!A7:Q7 -> в режимный день 20 ДЕКАБРЯ 2023 г.
A8: 1630 | B8: 1628
A9: часы суток | B9: Активная энергия | J9: Реактивная энергия
B10: =N3 -> КТП-3 Сад №9 "ЧереповецАгроСтрой" | F10: =N4 -> КТП-2 Сад №1 "Аммофос" | J10: =B10 -> КТП-3 Сад №9 "ЧереповецАгроСтрой" | N10: =F10 -> КТП-2 Сад №1 "Аммофос"
B11: Расчет, Коэф, | E11: 60 | F11: Расчет, Коэф, | I11: 120 | J11: Расчет, Коэф, | M11: =E11 -> 60 | N11: Расчет, Коэф, | Q11: =I11 -> 120
B12: показания счетчика | C12: разность | E12: расход эл,энергии за час | F12: показания счетчика | G12: разность | I12: расход эл,энергии за час | J12: показания счетчика | K12: разность | M12: расход эл,энергии за час | N12: показания счетчика | O12: разность | Q12: расход эл,энергии за час
A13: 1 | B13: 2 | C13: 3 | E13: 4 | F13: 5 | G13: 6 | I13: 7 | J13: 8 | K13: 9 | M13: 10 | N13: 11 | O13: 12 | Q13: 13
A14: 0 | E14: 0 | I14: 73.14
A15: 1 | E15: 0 | I15: 38.76
A16: 2 | E16: 0 | I16: 34.62
A17: 3 | E17: 0 | I17: 31.98
A18: 4 | E18: 0 | I18: 31.8
A19: 5 | E19: 0 | I19: 33.42
A20: 6 | E20: 0 | I20: 38.22
A21: 7 | E21: 0 | I21: 47.1
A22: 8 | E22: 0 | I22: 52.56
A23: 9 | E23: 0 | I23: 60
A24: 10 | E24: 0 | I24: 57.84
A25: 11 | E25: 0 | I25: 59.82
... A37: 23 | E37: 0 | I37: 88.44
A38: 24
A39: Итого | E39: =SUM(E15:E38) -> 0 | I39: =SUM(I15:I38) -> 1443.3 | M39: =SUM(M15:M38) -> 0 | Q39: =SUM(Q15:Q38) -> 0
A40: 1, При наличии на предприятии отклонений от нормальных режимов электропотребления (временное изменение схем питания, остановка на ремонт, резкое снижение
A41: эл,потребления и т,д,) последние необходимо перечислить,
A42: Главный инженер АО "Вологдаоблэнерго" А,В, Чурляев
A43: составляется самим предприятием с соблюдением всех пунктов настоящей таблицы,

Sheet 55==
B1: АО "Вологдаоблэнерго" | J1: код 900151 | N1: ПС Искра, ф, Оросительная
B2: наименование предприятия | N2: наименование источника питания
N3: КТП-10 ЧМХС и №2 ЧСПЗ
B4: ул, Горького, 99 | I4: Таблица № 1 | N4: КТП Сад Вера
B5: адрес
A6: почасовых записей показаний электрических счетчиков
A7: ='1=='!A7:Q7 -> в режимный день 20 ДЕКАБРЯ 2023 г.
A8: 1630 | B8: 1628
A9: часы суток | B9: Активная энергия | J9: Реактивная энергия
B10: =N3 -> КТП-10 ЧМХС и №2 ЧСПЗ | F10: =N4 -> КТП Сад Вера | J10: =B10 -> КТП-10 ЧМХС и №2 ЧСПЗ | N10: =F10 -> КТП Сад Вера
B11: Расчет, Коэф, | E11: 80 | F11: Расчет, Коэф, | I11: 20 | J11: Расчет, Коэф, | M11: =E11 -> 80 | N11: Расчет, Коэф, | Q11: =I11 -> 20
B12: показания счетчика | C12: разность | E12: расход эл,энергии за час | F12: показания счетчика | G12: разность | I12: расход эл,энергии за час | J12: показания счетчика | K12: разность | M12: расход эл,энергии за час | N12: показания счетчика | O12: разность | Q12: расход эл,энергии за час
A13: 1 | B13: 2 | C13: 3 | E13: 4 | F13: 5 | G13: 6 | I13: 7 | J13: 8 | K13: 9 | M13: 10 | N13: 11 | O13: 12 | Q13: 13
A14: 0 | E14: 0 | I14: 15.52
A15: 1 | E15: 0 | I15: 10.16
A16: 2 | E16: 0 | I16: 9.28
A17: 3 | E17: 0 | I17: 9.76
A18: 4 | E18: 0 | I18: 10.24
A19: 5 | E19: 0 | I19: 9.76
A20: 6 | E20: 0 | I20: 11.12
A21: 7 | E21: 0 | I21: 15.36
A22: 8 | E22: 0 | I22: 20.64
A23: 9 | E23: 0 | I23: 18.88
A24: 10 | E24: 0 | I24: 20.48
A25: 11 | E25: 0 | I25: 21.52
... A37: 23 | E37: 0 | I37: 18.4
A38: 24
A39: Итого | E39: =SUM(E15:E38) -> 0 | I39: =SUM(I15:I38) -> 393.28 | M39: =SUM(M15:M38) -> 0 | Q39: =SUM(Q15:Q38) -> 0
A40: 1, При наличии на предприятии отклонений от нормальных режимов электропотребления (временное изменение схем питания, остановка на ремонт, резкое снижение
A41: эл,потребления и т,д,) последние необходимо перечислить,
A42: Главный инженер АО "Вологдаоблэнерго" А,В, Чурляев
A43: составляется самим предприятием с соблюдением всех пунктов настоящей таблицы,

Sheet 56==
B1: АО "Вологдаоблэнерго" | J1: код 900151 | N1: ПС Батран, ф,Льнозавод
B2: наименование предприятия | N2: наименование источника питания
N3: КТП-Льнозавод
B4: ул, Горького, 99 | I4: Таблица № 1 | N4: КТП-Детский сад
B5: адрес
A6: почасовых записей показаний электрических счетчиков
A7: ='1=='!A7:Q7 -> в режимный день 20 ДЕКАБРЯ 2023 г.
A8: 1630 | B8: 1628
A9: часы суток | B9: Активная энергия | J9: Реактивная энергия
B10: =N3 -> КТП-Льнозавод | F10: =N4 -> КТП-Детский сад | J10: =B10 -> КТП-Льнозавод | N10: =F10 -> КТП-Детский сад
B11: Расчет, Коэф, | E11: 120 | F11: Расчет, Коэф, | I11: 40 | J11: Расчет, Коэф, | M11: =E11 -> 120 | N11: Расчет, Коэф, | Q11: =I11 -> 40
B12: показания счетчика | C12: разность | E12: расход эл,энергии за час | F12: показания счетчика | G12: разность | I12: расход эл,энергии за час | J12: показания счетчика | K12: разность | M12: расход эл,энергии за час | N12: показания счетчика | O12: разность | Q12: расход эл,энергии за час
A13: 1 | B13: 2 | C13: 3 | E13: 4 | F13: 5 | G13: 6 | I13: 7 | J13: 8 | K13: 9 | M13: 10 | N13: 11 | O13: 12 | Q13: 13
A14: 0 | E14: 0 | I14: 9.62
A15: 1 | E15: 0 | I15: 6.16
A16: 2 | E16: 0 | I16: 6.8
A17: 3 | E17: 0 | I17: 6.92
A18: 4 | E18: 0 | I18: 5.62
A19: 5 | E19: 0 | I19: 5.4
A20: 6 | E20: 0 | I20: 5.26
A21: 7 | E21: 0 | I21: 6.74
A22: 8 | E22: 0 | I22: 10.32
A23: 9 | E23: 0 | I23: 9.92
A24: 10 | E24: 0 | I24: 9.88
A25: 11 | E25: 0 | I25: 10.52
... A37: 23 | E37: 0 | I37: 13.22
A38: 24
A39: Итого | E39: =SUM(E15:E38) -> 0 | I39: =SUM(I15:I38) -> 223.18 | M39: =SUM(M15:M38) -> 0 | Q39: =SUM(Q15:Q38) -> 0
A40: 1, При наличии на предприятии отклонений от нормальных режимов электропотребления (временное изменение схем питания, остановка на ремонт, резкое снижение
A41: эл,потребления и т,д,) последние необходимо перечислить,
A42: Главный инженер АО "Вологдаоблэнерго" А,В, Чурляев
A43: составляется самим предприятием с соблюдением всех пунктов настоящей таблицы,

Sheet 57==
B1: АО "Вологдаоблэнерго" | J1: код 900151 | N1: ПС Аксеново ф, Шалимово
B2: наименование предприятия | N2: наименование источника питания
N3: ТП-23 В-1
B4: ул, Горького, 99 | I4: Таблица № 1 | N4: КТП-Очистные
B5: адрес
A6: почасовых записей показаний электрических счетчиков
A7: ='1=='!A7:Q7 -> в режимный день 20 ДЕКАБРЯ 2023 г.
A8: 1630 | B8: 1628
A9: часы суток | B9: Активная энергия | J9: Реактивная энергия
B10: =N3 -> ТП-23 В-1 | F10: =N4 -> КТП-Очистные | J10: =B10 -> ТП-23 В-1 | N10: =F10 -> КТП-Очистные
B11: Расчет, Коэф, | E11: 120 | F11: Расчет, Коэф, | I11: 20 | J11: Расчет, Коэф, | M11: =E11 -> 120 | N11: Расчет, Коэф, | Q11: =I11 -> 20
B12: показания счетчика | C12: разность | E12: расход эл,энергии за час | F12: показания счетчика | G12: разность | I12: расход эл,энергии за час | J12: показания счетчика | K12: разность | M12: расход эл,энергии за час | N12: показания счетчика | O12: разность | Q12: расход эл,энергии за час
A13: 1 | B13: 2 | C13: 3 | E13: 4 | F13: 5 | G13: 6 | I13: 7 | J13: 8 | K13: 9 | M13: 10 | N13: 11 | O13: 12 | Q13: 13
A14: 0 | E14: 20.76 | I14: 8.48
A15: 1 | E15: 15.48 | I15: 6.208
A16: 2 | E16: 16.92 | I16: 6.408
A17: 3 | E17: 14.52 | I17: 6.168
A18: 4 | E18: 12.84 | I18: 6.272
A19: 5 | E19: 12.6 | I19: 6.64
A20: 6 | E20: 12.6 | I20: 6.888
A21: 7 | E21: 15.48 | I21: 6.616
A22: 8 | E22: 21.24 | I22: 6.624
A23: 9 | E23: 21 | I23: 6.192
A24: 10 | E24: 18.36 | I24: 6.432
A25: 11 | E25: 22.2 | I25: 6.336
... A37: 23 | E37: 22.2 | I37: 8.32
A38: 24
A39: Итого | E39: =SUM(E15:E38) -> 428.76 | I39: =SUM(I15:I38) -> 165.12 | M39: =SUM(M15:M38) -> 0 | Q39: =SUM(Q15:Q38) -> 0
A40: 1, При наличии на предприятии отклонений от нормальных режимов электропотребления (временное изменение схем питания, остановка на ремонт, резкое снижение
A41: эл,потребления и т,д,) последние необходимо перечислить,
A42: Главный инженер АО "Вологдаоблэнерго" А,В, Чурляев
A43: составляется самим предприятием с соблюдением всех пунктов настоящей таблицы,

Sheet 58==
B1: АО "Вологдаоблэнерго" | H1: код 900151 | K1: ПС Юрочкино, ф, Фоминское
B2: наименование предприятия | K2: наименование источника питания
K3: ТП-15
B4: ул, Горького, 99 | G4: Таблица № 1 | K4: ТП-23 В-2
B5: адрес
A6: почасовых записей показаний электрических счетчиков
A7: ='1=='!A7:Q7 -> в режимный день 20 ДЕКАБРЯ 2023 г.
A8: 1630 | B8: 1628
A9: часы суток | B9: Активная энергия | H9: Реактивная энергия
B10: =K3 -> ТП-15 | E10: =K4 -> ТП-23 В-2 | H10: =B10 -> ТП-15 | K10: =E10 -> ТП-23 В-2
B11: Расчет, Коэф, | D11: 40 | E11: Расчет, Коэф, | G11: 120 | H11: Расчет, Коэф, | J11: =D11 -> 40 | K11: Расчет, Коэф, | M11: =G11 -> 120
B12: показания счетчика | C12: разность | D12: расход эл,энергии за час | E12: показания счетчика | F12: разность | G12: расход эл,энергии за час | H12: показания счетчика | I12: разность | J12: расход эл,энергии за час | K12: показания счетчика | L12: разность | M12: расход эл,энергии за час
A13: 1 | B13: 2 | C13: 3 | D13: 4 | E13: 5 | F13: 6 | G13: 7 | H13: 8 | I13: 9 | J13: 10 | K13: 11 | L13: 12 | M13: 13
A14: 0 | D14: 0.14 | G14: 0
A15: 1 | D15: 0.12 | G15: 0
A16: 2 | D16: 0.14 | G16: 0
A17: 3 | D17: 0.12 | G17: 0
A18: 4 | D18: 0.1 | G18: 0
A19: 5 | D19: 0.12 | G19: 0
A20: 6 | D20: 0.1 | G20: 0
A21: 7 | D21: 0.1 | G21: 0
A22: 8 | D22: 0.24 | G22: 0
A23: 9 | D23: 25.82 | G23: 0
A24: 10 | D24: 28.74 | G24: 0
A25: 11 | D25: 18.76 | G25: 0
... A37: 23 | D37: 0.1 | G37: 0
A38: 24
A39: Итого | D39: =SUM(D15:D38) -> 206.1 | G39: =SUM(G15:G38) -> 0 | J39: =SUM(J15:J38) -> 0 | M39: =SUM(M15:M38) -> 0
A40: 1, При наличии на предприятии отклонений от нормальных режимов электропотребления (временное изменение схем питания, остановка на ремонт, резкое снижение
A41: эл,потребления и т,д,) последние необходимо перечислить,
A42: Главный инженер АО "Вологдаоблэнерго" А,В, Чурляев
A43: составляется самим предприятием с соблюдением всех пунктов настоящей таблицы,

Sheet 59==
B1: АО "Вологдаоблэнерго" | I1: код 900151 | L1: ПС Домозерово, ф, Дом-2
B2: наименование предприятия | L2: наименование источника питания
L3: ТП-74
B4: ул, Горького, 99 | H4: Таблица № 1 | L4: ТП-СЗМК-2(не баланс)
B5: адрес
A6: почасовых записей показаний электрических счетчиков
A7: ='1=='!A7:Q7 -> в режимный день 20 ДЕКАБРЯ 2023 г.
A8: 1630 | B8: 1628
A9: часы суток | B9: Активная энергия | I9: Реактивная энергия
B10: =L3 -> ТП-74 | E10: =L4 -> ТП-СЗМК-2(не баланс) | I10: =B10 -> ТП-74 | L10: =E10 -> ТП-СЗМК-2(не баланс)
B11: Расчет, Коэф, | D11: 120 | E11: Расчет, Коэф, | H11: 200 | I11: Расчет, Коэф, | K11: =D11 -> 120 | L11: Расчет, Коэф, | N11: =H11 -> 200
B12: показания счетчика | C12: разность | D12: расход эл,энергии за час | E12: показания счетчика | F12: разность | H12: расход эл,энергии за час | I12: показания счетчика | J12: разность | K12: расход эл,энергии за час | L12: показания счетчика | M12: разность | N12: расход эл,энергии за час
A13: 1 | B13: 2 | C13: 3 | D13: 4 | E13: 5 | F13: 6 | H13: 7 | I13: 8 | J13: 9 | K13: 10 | L13: 11 | M13: 12 | N13: 13
A14: 0 | D14: 30.504 | H14: 0
A15: 1 | D15: 32.544 | H15: 0.3
A16: 2 | D16: 29.832 | H16: 0.3
A17: 3 | D17: 31.176 | H17: 0.3
A18: 4 | D18: 30.024 | H18: 0.2
A19: 5 | D19: 30.816 | H19: 0
A20: 6 | D20: 28.872 | H20: 0
A21: 7 | D21: 28.488 | H21: 0.5
A22: 8 | D22: 29.304 | H22: 1
A23: 9 | D23: 50.592 | H23: 1
A24: 10 | D24: 66.048 | H24: 1
A25: 11 | D25: 58.752 | H25: 1.1
... A37: 23 | D37: 31.512 | H37: 0
A38: 24
A39: Итого | D39: =SUM(D15:D38) -> 945.864 | H39: =SUM(H15:H38) -> 8.6 | K39: =SUM(K15:K38) -> 0 | N39: =SUM(N15:N38) -> 0
A40: 1, При наличии на предприятии отклонений от нормальных режимов электропотребления (временное изменение схем питания, остановка на ремонт, резкое снижение
A41: эл,потребления и т,д,) последние необходимо перечислить,
A42: Главный инженер АО "Вологдаоблэнерго" А,В, Чурляев
A43: составляется самим предприятием с соблюдением всех пунктов настоящей таблицы,

Sheet 60==
B1: АО "Вологдаоблэнерго" | H1: код 900151 | K1: ПС Енюково, ф,Борисово
B2: наименование предприятия | K2: наименование источника питания
K3: ТП-Ферма Фенево В-1
B4: ул, Горького, 99 | G4: Таблица № 1 | K4: ТП-Ферма Фенево В-2
B5: адрес
A6: почасовых записей показаний электрических счетчиков
A7: ='1=='!A7:Q7 -> в режимный день 20 ДЕКАБРЯ 2023 г.
A8: 1630 | B8: 1628
A9: часы суток | B9: Активная энергия | H9: Реактивная энергия
B10: =K3 -> ТП-Ферма Фенево В-1 | E10: =K4 -> ТП-Ферма Фенево В-2 | H10: =B10 -> ТП-Ферма Фенево В-1 | K10: =E10 -> ТП-Ферма Фенево В-2
B11: Расчет, Коэф, | D11: 200 | E11: Расчет, Коэф, | G11: 200 | H11: Расчет, Коэф, | J11: =D11 -> 200 | K11: Расчет, Коэф, | M11: =G11 -> 200
B12: показания счетчика | C12: разность | D12: расход эл,энергии за час | E12: показания счетчика | F12: разность | G12: расход эл,энергии за час | H12: показания счетчика | I12: разность | J12: расход эл,энергии за час | K12: показания счетчика | L12: разность | M12: расход эл,энергии за час
A13: 1 | B13: 2 | C13: 3 | D13: 4 | E13: 5 | F13: 6 | G13: 7 | H13: 8 | I13: 9 | J13: 10 | K13: 11 | L13: 12 | M13: 13
A14: 0 | D14: 18 | G14: 8.9
A15: 1 | D15: 12.6 | G15: 9.5
A16: 2 | D16: 12.2 | G16: 17.8
A17: 3 | D17: 12.9 | G17: 39.5
A18: 4 | D18: 12.4 | G18: 68.6
A19: 5 | D19: 30.2 | G19: 72.6
A20: 6 | D20: 29.7 | G20: 62.3
A21: 7 | D21: 28.4 | G21: 29.8
A22: 8 | D22: 26.1 | G22: 34.4
A23: 9 | D23: 24.4 | G23: 43
A24: 10 | D24: 29.2 | G24: 33.1
A25: 11 | D25: 25.4 | G25: 21.9
... A37: 23 | D37: 27.9 | G37: 8.4
A38: 24
A39: Итого | D39: =SUM(D15:D38) -> 602 | G39: =SUM(G15:G38) -> 833.1 | J39: =SUM(J15:J38) -> 0 | M39: =SUM(M15:M38) -> 0
A40: 1, При наличии на предприятии отклонений от нормальных режимов электропотребления (временное изменение схем питания, остановка на ремонт, резкое снижение
A41: эл,потребления и т,д,) последние необходимо перечислить,
A42: Главный инженер АО "Вологдаоблэнерго" А,В, Чурляев
A43: составляется самим предприятием с соблюдением всех пунктов настоящей таблицы,

Sheet 61=
B1: АО "Вологдаоблэнерго" | H1: код 900151 | K1: ПС Поповка, ф, Аннино
B2: наименование предприятия | K2: наименование источника питания
K3: ТП-376
B4: ул, Горького, 99 | G4: Таблица № 1
B5: адрес
A6: почасовых записей показаний электрических счетчиков
A7: ='1=='!A7:Q7 -> в режимный день 20 ДЕКАБРЯ 2023 г.
A8: 1630 | B8: 1628
A9: часы суток | B9: Активная энергия | H9: Реактивная энергия
B10: =K3 -> ТП-376 | E10: =K4 -> 0 | H10: =B10 -> ТП-376 | K10: =E10 -> 0
B11: Расчет, Коэф, | D11: 60 | E11: Расчет, Коэф, | G11: 120 | H11: Расчет, Коэф, | J11: =D11 -> 60 | K11: Расчет, Коэф, | M11: =G11 -> 120
B12: показания счетчика | C12: разность | D12: расход эл,энергии за час | E12: показания счетчика | F12: разность | G12: расход эл,энергии за час | H12: показания счетчика | I12: разность | J12: расход эл,энергии за час | K12: показания счетчика | L12: разность | M12: расход эл,энергии за час
A13: 1 | B13: 2 | C13: 3 | D13: 4 | E13: 5 | F13: 6 | G13: 7 | H13: 8 | I13: 9 | J13: 10 | K13: 11 | L13: 12 | M13: 13
A14: 0 | D14: 15.24
A15: 1 | D15: 11.53
A16: 2 | D16: 11.18
A17: 3 | D17: 12.58
A18: 4 | D18: 12.77
A19: 5 | D19: 15.16
A20: 6 | D20: 14.41
A21: 7 | D21: 15.43
A22: 8 | D22: 17.23
A23: 9 | D23: 18.43
A24: 10 | D24: 18.1
A25: 11 | D25: 14.16
... A37: 23 | D37: 15.12
A38: 24
A39: Итого | D39: =SUM(D15:D38) -> 344.97 | G39: =SUM(G15:G38) -> 0 | J39: =SUM(J15:J38) -> 0 | M39: =SUM(M15:M38) -> 0
A40: 1, При наличии на предприятии отклонений от нормальных режимов электропотребления (временное изменение схем питания, остановка на ремонт, резкое снижение
A41: эл,потребления и т,д,) последние необходимо перечислить,
A42: Главный инженер АО "Вологдаоблэнерго" А,В, Чурляев
A43: составляется самим предприятием с соблюдением всех пунктов настоящей таблицы,

Sheet 62==
B1: АО "Вологдаоблэнерго" | H1: код 900151 | K1: ПС Поповка, ф, Красково
B2: наименование предприятия | K2: наименование источника питания
K3: КТП-ЭСПА
B4: ул, Горького, 99 | G4: Таблица № 1 | K4: КТП-Ново-Дубровка
B5: адрес
A6: почасовых записей показаний электрических счетчиков
A7: ='1=='!A7:Q7 -> в режимный день 20 ДЕКАБРЯ 2023 г.
A8: 1630 | B8: 1628
A9: часы суток | B9: Активная энергия | H9: Реактивная энергия
B10: =K3 -> КТП-ЭСПА | E10: =K4 -> КТП-Ново-Дубровка | H10: =B10 -> КТП-ЭСПА | K10: =E10 -> КТП-Ново-Дубровка
B11: Расчет, Коэф, | D11: 20 | E11: Расчет, Коэф, | G11: 20 | H11: Расчет, Коэф, | J11: =D11 -> 20 | K11: Расчет, Коэф, | M11: =G11 -> 20
B12: показания счетчика | C12: разность | D12: расход эл,энергии за час | E12: показания счетчика | F12: разность | G12: расход эл,энергии за час | H12: показания счетчика | I12: разность | J12: расход эл,энергии за час | K12: показания счетчика | L12: разность | M12: расход эл,энергии за час
A13: 1 | B13: 2 | C13: 3 | D13: 4 | E13: 5 | F13: 6 | G13: 7 | H13: 8 | I13: 9 | J13: 10 | K13: 11 | L13: 12 | M13: 13
A14: 0 | D14: 0.82 | G14: 0.7
A15: 1 | D15: 0.71 | G15: 0.7
A16: 2 | D16: 0.71 | G16: 0.7
A17: 3 | D17: 0.68 | G17: 0.59
A18: 4 | D18: 0.39 | G18: 0.32
A19: 5 | D19: 0.11 | G19: 0.26
A20: 6 | D20: 0.11 | G20: 0.24
A21: 7 | D21: 0.07 | G21: 0.54
A22: 8 | D22: 0.11 | G22: 1.16
A23: 9 | D23: 0.13 | G23: 1.73
A24: 10 | D24: 0.44 | G24: 1.2
A25: 11 | D25: 0.36 | G25: 0.59
... A37: 23 | D37: 0.81 | G37: 0.68
A38: 24
A39: Итого | D39: =SUM(D15:D38) -> 8.82 | G39: =SUM(G15:G38) -> 18.98 | J39: =SUM(J15:J38) -> 0 | M39: =SUM(M15:M38) -> 0
A40: 1, При наличии на предприятии отклонений от нормальных режимов электропотребления (временное изменение схем питания, остановка на ремонт, резкое снижение
A41: эл,потребления и т,д,) последние необходимо перечислить,
A42: Главный инженер АО "Вологдаоблэнерго" А,В, Чурляев
A43: составляется самим предприятием с соблюдением всех пунктов настоящей таблицы,

Sheet 63==
B1: АО "Вологдаоблэнерго" | H1: код 900151 | K1: ПС Поповка, ф, Красково
B2: наименование предприятия | K2: наименование источника питания
K3: КТП-Козлово-2
B4: ул, Горького, 99 | G4: Таблица № 1 | K4: ТП-319
B5: адрес
A6: почасовых записей показаний электрических счетчиков
A7: ='1=='!A7:Q7 -> в режимный день 20 ДЕКАБРЯ 2023 г.
A8: 1630 | B8: 1628
A9: часы суток | B9: Активная энергия | H9: Реактивная энергия
B10: =K3 -> КТП-Козлово-2 | E10: =K4 -> ТП-319 | H10: =B10 -> КТП-Козлово-2 | K10: =E10 -> ТП-319
B11: Расчет, Коэф, | D11: 60 | E11: Расчет, Коэф, | G11: 30 | H11: Расчет, Коэф, | J11: =D11 -> 60 | K11: Расчет, Коэф, | M11: =G11 -> 30
B12: показания счетчика | C12: разность | D12: расход эл,энергии за час | E12: показания счетчика | F12: разность | G12: расход эл,энергии за час | H12: показания счетчика | I12: разность | J12: расход эл,энергии за час | K12: показания счетчика | L12: разность | M12: расход эл,энергии за час
A13: 1 | B13: 2 | C13: 3 | D13: 4 | E13: 5 | F13: 6 | G13: 7 | H13: 8 | I13: 9 | J13: 10 | K13: 11 | L13: 12 | M13: 13
A14: 0 | D14: 5.96 | G14: 0
A15: 1 | D15: 5.64 | G15: 0
A16: 2 | D16: 6 | G16: 0
A17: 3 | D17: 3.8 | G17: 0
A18: 4 | D18: 3.8 | G18: 0
A19: 5 | D19: 3.56 | G19: 0
A20: 6 | D20: 4.96 | G20: 0
A21: 7 | D21: 6.24 | G21: 0
A22: 8 | D22: 6.6 | G22: 0
A23: 9 | D23: 6.88 | G23: 0
A24: 10 | D24: 9.16 | G24: 0
A25: 11 | D25: 5.92 | G25: 0
... A37: 23 | D37: 7.2 | G37: 0
A38: 24
A39: Итого | D39: =SUM(D15:D38) -> 145.28 | G39: =SUM(G15:G38) -> 0 | J39: =SUM(J15:J38) -> 0 | M39: =SUM(M15:M38) -> 0
A40: 1, При наличии на предприятии отклонений от нормальных режимов электропотребления (временное изменение схем питания, остановка на ремонт, резкое снижение
A41: эл,потребления и т,д,) последние необходимо перечислить,
A42: Главный инженер АО "Вологдаоблэнерго" А,В, Чурляев
A43: составляется самим предприятием с соблюдением всех пунктов настоящей таблицы,

Sheet 64==
B1: АО "Вологдаоблэнерго" | H1: код 900151 | K1: ПС Петринево, ф,Надпорожье
B2: наименование предприятия | K2: наименование источника питания
K3: КТП-Броды
B4: ул, Горького, 99 | G4: Таблица № 1 | K4: КТП-100 дачи "Водник"
B5: адрес
A6: почасовых записей показаний электрических счетчиков
A7: ='1=='!A7:Q7 -> в режимный день 20 ДЕКАБРЯ 2023 г.
A8: 1630 | B8: 1628
A9: часы суток | B9: Активная энергия | H9: Реактивная энергия
B10: =K3 -> КТП-Броды | E10: =K4 -> КТП-100 дачи "Водник" | H10: =B10 -> КТП-Броды | K10: =E10 -> КТП-100 дачи "Водник"
B11: Расчет, Коэф, | D11: 30 | E11: Расчет, Коэф, | G11: 40 | H11: Расчет, Коэф, | J11: =D11 -> 30 | K11: Расчет, Коэф, | M11: =G11 -> 40
B12: показания счетчика | C12: разность | D12: расход эл,энергии за час | E12: показания счетчика | F12: разность | G12: расход эл,энергии за час | H12: показания счетчика | I12: разность | J12: расход эл,энергии за час | K12: показания счетчика | L12: разность | M12: расход эл,энергии за час
A13: 1 | B13: 2 | C13: 3 | D13: 4 | E13: 5 | F13: 6 | G13: 7 | H13: 8 | I13: 9 | J13: 10 | K13: 11 | L13: 12 | M13: 13
A14: 0 | D14: 10.59 | G14: 5.01
A15: 1 | D15: 5.67 | G15: 2.91
A16: 2 | D16: 5.295 | G16: 2.61
A17: 3 | D17: 5.43 | G17: 2.685
A18: 4 | D18: 4.905 | G18: 2.67
A19: 5 | D19: 4.35 | G19: 2.835
A20: 6 | D20: 5.025 | G20: 2.925
A21: 7 | D21: 5.28 | G21: 3.3
A22: 8 | D22: 8.055 | G22: 5.67
A23: 9 | D23: 9.885 | G23: 7.305
A24: 10 | D24: 6.66 | G24: 6.42
A25: 11 | D25: 8.31 | G25: 4.815
... A37: 23 | D37: 11.565 | G37: 5.25
A38: 24
A39: Итого | D39: =SUM(D15:D38) -> 189.36 | G39: =SUM(G15:G38) -> 120.45 | J39: =SUM(J15:J38) -> 0 | M39: =SUM(M15:M38) -> 0
A40: 1, При наличии на предприятии отклонений от нормальных режимов электропотребления (временное изменение схем питания, остановка на ремонт, резкое снижение
A41: эл,потребления и т,д,) последние необходимо перечислить,
A42: Главный инженер АО "Вологдаоблэнерго" А,В, Чурляев
A43: составляется самим предприятием с соблюдением всех пунктов настоящей таблицы,

Sheet 65=
B1: АО "Вологдаоблэнерго" | H1: код 900151 | K1: ПС Петринево, ф,Надпорожье
B2: наименование предприятия | K2: наименование источника питания
K3: КТП-Сад№11 ЧМХС
B4: ул, Горького, 99 | G4: Таблица № 1
B5: адрес
A6: почасовых записей показаний электрических счетчиков
A7: ='1=='!A7:Q7 -> в режимный день 20 ДЕКАБРЯ 2023 г.
A8: 1630 | B8: 1628
A9: часы суток | B9: Активная энергия | H9: Реактивная энергия
B10: =K3 -> КТП-Сад№11 ЧМХС | E10: =K4 -> 0 | H10: =B10 -> КТП-Сад№11 ЧМХС | K10: =E10 -> 0
B11: Расчет, Коэф, | D11: 20 | E11: Расчет, Коэф, | G11: 120 | H11: Расчет, Коэф, | J11: =D11 -> 20 | K11: Расчет, Коэф, | M11: =G11 -> 120
B12: показания счетчика | C12: разность | D12: расход эл,энергии за час | E12: показания счетчика | F12: разность | G12: расход эл,энергии за час | H12: показания счетчика | I12: разность | J12: расход эл,энергии за час | K12: показания счетчика | L12: разность | M12: расход эл,энергии за час
A13: 1 | B13: 2 | C13: 3 | D13: 4 | E13: 5 | F13: 6 | G13: 7 | H13: 8 | I13: 9 | J13: 10 | K13: 11 | L13: 12 | M13: 13
A14: 0 | D14: 7.01
A15: 1 | D15: 6.91
A16: 2 | D16: 4.32
A17: 3 | D17: 3.57
A18: 4 | D18: 3.37
A19: 5 | D19: 3.13
A20: 6 | D20: 2.72
A21: 7 | D21: 3.38
A22: 8 | D22: 3.72
A23: 9 | D23: 3.59
A24: 10 | D24: 5.4
A25: 11 | D25: 7.17
... A37: 23 | D37: 7.34
A38: 24
A39: Итого | D39: =SUM(D15:D38) -> 136.93 | G39: =SUM(G15:G38) -> 0 | J39: =SUM(J15:J38) -> 0 | M39: =SUM(M15:M38) -> 0
A40: 1, При наличии на предприятии отклонений от нормальных режимов электропотребления (временное изменение схем питания, остановка на ремонт, резкое снижение
A41: эл,потребления и т,д,) последние необходимо перечислить,
A42: Главный инженер АО "Вологдаоблэнерго" А,В, Чурляев
A43: составляется самим предприятием с соблюдением всех пунктов настоящей таблицы,

Sheet 66=
B1: АО "Вологдаоблэнерго" | H1: код 900151 | K1: ПС Енюково, ф, Яганово
B2: наименование предприятия | K2: наименование источника питания
K3: КТП-КЗС-2
B4: ул, Горького, 99 | G4: Таблица № 1
B5: адрес
A6: почасовых записей показаний электрических счетчиков
A7: ='1=='!A7:Q7 -> в режимный день 20 ДЕКАБРЯ 2023 г.
A8: 1630 | B8: 1628
A9: часы суток | B9: Активная энергия | H9: Реактивная энергия
B10: =K3 -> КТП-КЗС-2 | E10: =K4 -> 0 | H10: =B10 -> КТП-КЗС-2 | K10: =E10 -> 0
B11: Расчет, Коэф, | D11: 80 | E11: Расчет, Коэф, | G11: 120 | H11: Расчет, Коэф, | J11: =D11 -> 80 | K11: Расчет, Коэф, | M11: =G11 -> 120
B12: показания счетчика | C12: разность | D12: расход эл,энергии за час | E12: показания счетчика | F12: разность | G12: расход эл,энергии за час | H12: показания счетчика | I12: разность | J12: расход эл,энергии за час | K12: показания счетчика | L12: разность | M12: расход эл,энергии за час
A13: 1 | B13: 2 | C13: 3 | D13: 4 | E13: 5 | F13: 6 | G13: 7 | H13: 8 | I13: 9 | J13: 10 | K13: 11 | L13: 12 | M13: 13
A14: 0 | D14: 3.96
A15: 1 | D15: 3.96
A16: 2 | D16: 3.88
A17: 3 | D17: 3.72
A18: 4 | D18: 3.84
A19: 5 | D19: 3.84
A20: 6 | D20: 3.88
A21: 7 | D21: 4.12
A22: 8 | D22: 4.04
A23: 9 | D23: 4.92
A24: 10 | D24: 4.48
A25: 11 | D25: 4.44
... A37: 23 | D37: 4.32
A38: 24
A39: Итого | D39: =SUM(D15:D38) -> 100.96 | G39: =SUM(G15:G38) -> 0 | J39: =SUM(J15:J38) -> 0 | M39: =SUM(M15:M38) -> 0
A40: 1, При наличии на предприятии отклонений от нормальных режимов электропотребления (временное изменение схем питания, остановка на ремонт, резкое снижение
A41: эл,потребления и т,д,) последние необходимо перечислить,
A42: Главный инженер АО "Вологдаоблэнерго" А,В, Чурляев
A43: составляется самим предприятием с соблюдением всех пунктов настоящей таблицы,

Sheet 67==
B1: АО "Вологдаоблэнерго" | H1: код 900151 | K1: ПС Климовская, ф,Лохта
B2: наименование предприятия | K2: наименование источника питания
K3: КТПН-400 Животноводческий комплекс
B4: ул, Горького, 99 | G4: Таблица № 1 | K4: КТП-Деревня
B5: адрес
A6: почасовых записей показаний электрических счетчиков
A7: ='1=='!A7:Q7 -> в режимный день 20 ДЕКАБРЯ 2023 г.
A8: 1630 | B8: 1628
A9: часы суток | B9: Активная энергия | H9: Реактивная энергия
B10: =K3 -> КТПН-400 Животноводческий комплекс | E10: =K4 -> КТП-Деревня | H10: =B10 -> КТПН-400 Животноводческий комплекс | K10: =E10 -> КТП-Деревня
B11: Расчет, Коэф, | D11: 120 | E11: Расчет, Коэф, | G11: 80 | H11: Расчет, Коэф, | J11: =D11 -> 120 | K11: Расчет, Коэф, | M11: =G11 -> 80
B12: показания счетчика | C12: разность | D12: расход эл,энергии за час | E12: показания счетчика | F12: разность | G12: расход эл,энергии за час | H12: показания счетчика | I12: разность | J12: расход эл,энергии за час | K12: показания счетчика | L12: разность | M12: расход эл,энергии за час
A13: 1 | B13: 2 | C13: 3 | D13: 4 | E13: 5 | F13: 6 | G13: 7 | H13: 8 | I13: 9 | J13: 10 | K13: 11 | L13: 12 | M13: 13
A14: 0 | D14: 16.68 | G14: 52.368
A15: 1 | D15: 20.58 | G15: 38.496
A16: 2 | D16: 35.46 | G16: 36.32
A17: 3 | D17: 26.94 | G17: 36.672
A18: 4 | D18: 30.84 | G18: 28.928
A19: 5 | D19: 47.64 | G19: 30.256
A20: 6 | D20: 45 | G20: 31.072
A21: 7 | D21: 45.84 | G21: 37.632
A22: 8 | D22: 41.16 | G22: 41.472
A23: 9 | D23: 34.8 | G23: 46.416
A24: 10 | D24: 29.34 | G24: 47.84
A25: 11 | D25: 26.22 | G25: 49.68
... A37: 23 | D37: 18.36 | G37: 62.752
A38: 24
A39: Итого | D39: =SUM(D15:D38) -> 810.18 | G39: =SUM(G15:G38) -> 1064.208 | J39: =SUM(J15:J38) -> 0 | M39: =SUM(M15:M38) -> 0
A40: 1, При наличии на предприятии отклонений от нормальных режимов электропотребления (временное изменение схем питания, остановка на ремонт, резкое снижение
A41: эл,потребления и т,д,) последние необходимо перечислить,
A42: Главный инженер АО "Вологдаоблэнерго" А,В, Чурляев
A43: составляется самим предприятием с соблюдением всех пунктов настоящей таблицы,

Sheet 68=
B1: АО "Вологдаоблэнерго" | H1: код 900151 | K1: ПС Енюково ф, Соболево
B2: наименование предприятия | K2: наименование источника питания
K3: ТП-323
B4: ул, Горького, 99 | G4: Таблица № 1
B5: адрес
A6: почасовых записей показаний электрических счетчиков
A7: ='1=='!A7:Q7 -> в режимный день 20 ДЕКАБРЯ 2023 г.
A8: 1630 | B8: 1628
A9: часы суток | B9: Активная энергия | H9: Реактивная энергия
B10: =K3 -> ТП-323 | E10: =K4 -> 0 | H10: =B10 -> ТП-323 | K10: =E10 -> 0
B11: Расчет, Коэф, | D11: 20 | E11: Расчет, Коэф, | G11: 120 | H11: Расчет, Коэф, | J11: =D11 -> 20 | K11: Расчет, Коэф, | M11: =G11 -> 120
B12: показания счетчика | C12: разность | D12: расход эл,энергии за час | E12: показания счетчика | F12: разность | G12: расход эл,энергии за час | H12: показания счетчика | I12: разность | J12: расход эл,энергии за час | K12: показания счетчика | L12: разность | M12: расход эл,энергии за час
A13: 1 | B13: 2 | C13: 3 | D13: 4 | E13: 5 | F13: 6 | G13: 7 | H13: 8 | I13: 9 | J13: 10 | K13: 11 | L13: 12 | M13: 13
A14: 0 | D14: 3.97
A15: 1 | D15: 4.18
A16: 2 | D16: 4.18
A17: 3 | D17: 4.15
A18: 4 | D18: 4.13
A19: 5 | D19: 4.14
A20: 6 | D20: 4.1
A21: 7 | D21: 0.8
A22: 8 | D22: 1.77
A23: 9 | D23: 4.79
A24: 10 | D24: 4.49
A25: 11 | D25: 4.66
... A37: 23 | D37: 3.98
A38: 24
A39: Итого | D39: =SUM(D15:D38) -> 88.53 | G39: =SUM(G15:G38) -> 0 | J39: =SUM(J15:J38) -> 0 | M39: =SUM(M15:M38) -> 0
A40: 1, При наличии на предприятии отклонений от нормальных режимов электропотребления (временное изменение схем питания, остановка на ремонт, резкое снижение
A41: эл,потребления и т,д,) последние необходимо перечислить,
A42: Главный инженер АО "Вологдаоблэнерго" А,В, Чурляев
A43: составляется самим предприятием с соблюдением всех пунктов настоящей таблицы,

Sheet 69=
B1: АО "Вологдаоблэнерго" | H1: код 900151 | K1: ПС Поповка, ф,Привалино
B2: наименование предприятия | K2: наименование источника питания
K3: КТП-Поселок Поповка
B4: ул, Горького, 99 | G4: Таблица № 1
B5: адрес
A6: почасовых записей показаний электрических счетчиков
A7: ='1=='!A7:Q7 -> в режимный день 20 ДЕКАБРЯ 2023 г.
A8: 1630 | B8: 1628
A9: часы суток | B9: Активная энергия | H9: Реактивная энергия
B10: =K3 -> КТП-Поселок Поповка | E10: =K4 -> 0 | H10: =B10 -> КТП-Поселок Поповка | K10: =E10 -> 0
B11: Расчет, Коэф, | D11: 40 | E11: Расчет, Коэф, | G11: 120 | H11: Расчет, Коэф, | J11: =D11 -> 40 | K11: Расчет, Коэф, | M11: =G11 -> 120
B12: показания счетчика | C12: разность | D12: расход эл,энергии за час | E12: показания счетчика | F12: разность | G12: расход эл,энергии за час | H12: показания счетчика | I12: разность | J12: расход эл,энергии за час | K12: показания счетчика | L12: разность | M12: расход эл,энергии за час
A13: 1 | B13: 2 | C13: 3 | D13: 4 | E13: 5 | F13: 6 | G13: 7 | H13: 8 | I13: 9 | J13: 10 | K13: 11 | L13: 12 | M13: 13
A14: 0 | D14: 18.72
A15: 1 | D15: 16.68
A16: 2 | D16: 16.08
A17: 3 | D17: 16.02
A18: 4 | D18: 17.1
A19: 5 | D19: 10.32
A20: 6 | D20: 10.32
A21: 7 | D21: 15.06
A22: 8 | D22: 17.4
A23: 9 | D23: 21.66
A24: 10 | D24: 21.06
A25: 11 | D25: 21.96
... A37: 23 | D37: 17.7
A38: 24
A39: Итого | D39: =SUM(D15:D38) -> 430.02 | G39: =SUM(G15:G38) -> 0 | J39: =SUM(J15:J38) -> 0 | M39: =SUM(M15:M38) -> 0
A40: 1, При наличии на предприятии отклонений от нормальных режимов электропотребления (временное изменение схем питания, остановка на ремонт, резкое снижение
A41: эл,потребления и т,д,) последние необходимо перечислить,
A42: Главный инженер АО "Вологдаоблэнерго" А,В, Чурляев
A43: составляется самим предприятием с соблюдением всех пунктов настоящей таблицы,

Sheet 70=
B1: АО "Вологдаоблэнерго" | H1: код 900151 | K1: ПС Загородная, ф,Парфеново
B2: наименование предприятия | K2: наименование источника питания
K3: ТП-69 (КТПН-23)
B4: ул, Горького, 99 | G4: Таблица № 1
B5: адрес
A6: почасовых записей показаний электрических счетчиков
A7: ='1=='!A7:Q7 -> в режимный день 20 ДЕКАБРЯ 2023 г.
A8: 1630 | B8: 1628
A9: часы суток | B9: Активная энергия | H9: Реактивная энергия
B10: =K3 -> ТП-69 (КТПН-23) | E10: =K4 -> 0 | H10: =B10 -> ТП-69 (КТПН-23) | K10: =E10 -> 0
B11: Расчет, Коэф, | D11: 20 | E11: Расчет, Коэф, | G11: 120 | H11: Расчет, Коэф, | J11: =D11 -> 20 | K11: Расчет, Коэф, | M11: =G11 -> 120
B12: показания счетчика | C12: разность | D12: расход эл,энергии за час | E12: показания счетчика | F12: разность | G12: расход эл,энергии за час | H12: показания счетчика | I12: разность | J12: расход эл,энергии за час | K12: показания счетчика | L12: разность | M12: расход эл,энергии за час
A13: 1 | B13: 2 | C13: 3 | D13: 4 | E13: 5 | F13: 6 | G13: 7 | H13: 8 | I13: 9 | J13: 10 | K13: 11 | L13: 12 | M13: 13
A14: 0 | D14: 0
A15: 1 | D15: 0
A16: 2 | D16: 0
A17: 3 | D17: 0
A18: 4 | D18: 0
A19: 5 | D19: 0
A20: 6 | D20: 0
A21: 7 | D21: 0
A22: 8 | D22: 0
A23: 9 | D23: 0
A24: 10 | D24: 0
A25: 11 | D25: 0
... A37: 23 | D37: 0
A38: 24
A39: Итого | D39: =SUM(D15:D38) -> 0 | G39: =SUM(G15:G38) -> 0 | J39: =SUM(J15:J38) -> 0 | M39: =SUM(M15:M38) -> 0
A40: 1, При наличии на предприятии отклонений от нормальных режимов электропотребления (временное изменение схем питания, остановка на ремонт, резкое снижение
A41: эл,потребления и т,д,) последние необходимо перечислить,
A42: Главный инженер АО "Вологдаоблэнерго" А,В, Чурляев
A43: составляется самим предприятием с соблюдением всех пунктов настоящей таблицы,

Sheet 71=
B1: АО "Вологдаоблэнерго" | H1: код 900151 | K1: ПС Нелазское, ф, к-сНелазское-1
B2: наименование предприятия | K2: наименование источника питания
K3: ТП-Мастерские Шулма
B4: ул, Горького, 99 | G4: Таблица № 1
B5: адрес
A6: почасовых записей показаний электрических счетчиков
A7: ='1=='!A7:Q7 -> в режимный день 20 ДЕКАБРЯ 2023 г.
A8: 1630 | B8: 1628
A9: часы суток | B9: Активная энергия | H9: Реактивная энергия
B10: =K3 -> ТП-Мастерские Шулма | E10: =K4 -> 0 | H10: =B10 -> ТП-Мастерские Шулма | K10: =E10 -> 0
B11: Расчет, Коэф, | D11: 60 | E11: Расчет, Коэф, | G11: 120 | H11: Расчет, Коэф, | J11: =D11 -> 60 | K11: Расчет, Коэф, | M11: =G11 -> 120
B12: показания счетчика | C12: разность | D12: расход эл,энергии за час | E12: показания счетчика | F12: разность | G12: расход эл,энергии за час | H12: показания счетчика | I12: разность | J12: расход эл,энергии за час | K12: показания счетчика | L12: разность | M12: расход эл,энергии за час
A13: 1 | B13: 2 | C13: 3 | D13: 4 | E13: 5 | F13: 6 | G13: 7 | H13: 8 | I13: 9 | J13: 10 | K13: 11 | L13: 12 | M13: 13
A14: 0 | D14: 1.74
A15: 1 | D15: 0.87
A16: 2 | D16: 0.87
A17: 3 | D17: 3.27
A18: 4 | D18: 4.95
A19: 5 | D19: 4.86
A20: 6 | D20: 4.17
A21: 7 | D21: 0.78
A22: 8 | D22: 1.35
A23: 9 | D23: 1.86
A24: 10 | D24: 3.6
A25: 11 | D25: 2.73
... A37: 23 | D37: 1.77
A38: 24
A39: Итого | D39: =SUM(D15:D38) -> 60.42 | G39: =SUM(G15:G38) -> 0 | J39: =SUM(J15:J38) -> 0 | M39: =SUM(M15:M38) -> 0
A40: 1, При наличии на предприятии отклонений от нормальных режимов электропотребления (временное изменение схем питания, остановка на ремонт, резкое снижение
A41: эл,потребления и т,д,) последние необходимо перечислить,
A42: Главный инженер АО "Вологдаоблэнерго" А,В, Чурляев
A43: составляется самим предприятием с соблюдением всех пунктов настоящей таблицы,

Sheet 72=
B1: АО "Вологдаоблэнерго" | H1: код 900151 | K1: ПС Нелазское, ф, Крутец
B2: наименование предприятия | K2: наименование источника питания
K3: КТП-Шулма, ул,Олимпийская
B4: ул, Горького, 99 | G4: Таблица № 1
B5: адрес
A6: почасовых записей показаний электрических счетчиков
A7: ='1=='!A7:Q7 -> в режимный день 20 ДЕКАБРЯ 2023 г.
A8: 1630 | B8: 1628
A9: часы суток | B9: Активная энергия | H9: Реактивная энергия
B10: =K3 -> КТП-Шулма, ул,Олимпийская | E10: =K4 -> 0 | H10: =B10 -> КТП-Шулма, ул,Олимпийская | K10: =E10 -> 0
B11: Расчет, Коэф, | D11: 60 | E11: Расчет, Коэф, | G11: 120 | H11: Расчет, Коэф, | J11: =D11 -> 60 | K11: Расчет, Коэф, | M11: =G11 -> 120
B12: показания счетчика | C12: разность | D12: расход эл,энергии за час | E12: показания счетчика | F12: разность | G12: расход эл,энергии за час | H12: показания счетчика | I12: разность | J12: расход эл,энергии за час | K12: показания счетчика | L12: разность | M12: расход эл,энергии за час
A13: 1 | B13: 2 | C13: 3 | D13: 4 | E13: 5 | F13: 6 | G13: 7 | H13: 8 | I13: 9 | J13: 10 | K13: 11 | L13: 12 | M13: 13
A14: 0 | D14: 29.49
A15: 1 | D15: 21.81
A16: 2 | D16: 22.02
A17: 3 | D17: 17.85
A18: 4 | D18: 16.41
A19: 5 | D19: 16.41
A20: 6 | D20: 18.27
A21: 7 | D21: 20.43
A22: 8 | D22: 22.02
A23: 9 | D23: 20.76
A24: 10 | D24: 21.93
A25: 11 | D25: 20.94
... A37: 23 | D37: 35.73
A38: 24
A39: Итого | D39: =SUM(D15:D38) -> 537.45 | G39: =SUM(G15:G38) -> 0 | J39: =SUM(J15:J38) -> 0 | M39: =SUM(M15:M38) -> 0
A40: 1, При наличии на предприятии отклонений от нормальных режимов электропотребления (временное изменение схем питания, остановка на ремонт, резкое снижение
A41: эл,потребления и т,д,) последние необходимо перечислить,
A42: Главный инженер АО "Вологдаоблэнерго" А,В, Чурляев
A43: составляется самим предприятием с соблюдением всех пунктов настоящей таблицы,

Sheet 73=
B1: АО "Вологдаоблэнерго" | H1: код 900151 | K1: ПС Домозерово, ф, Починок
B2: наименование предприятия | K2: наименование источника питания
K3: КТП-Бомк
B4: ул, Горького, 99 | G4: Таблица № 1
B5: адрес
A6: почасовых записей показаний электрических счетчиков
A7: ='1=='!A7:Q7 -> в режимный день 20 ДЕКАБРЯ 2023 г.
A8: 1630 | B8: 1628
A9: часы суток | B9: Активная энергия | H9: Реактивная энергия
B10: =K3 -> КТП-Бомк | E10: =K4 -> 0 | H10: =B10 -> КТП-Бомк | K10: =E10 -> 0
B11: Расчет, Коэф, | D11: 80 | E11: Расчет, Коэф, | G11: 120 | H11: Расчет, Коэф, | J11: =D11 -> 80 | K11: Расчет, Коэф, | M11: =G11 -> 120
B12: показания счетчика | C12: разность | D12: расход эл,энергии за час | E12: показания счетчика | F12: разность | G12: расход эл,энергии за час | H12: показания счетчика | I12: разность | J12: расход эл,энергии за час | K12: показания счетчика | L12: разность | M12: расход эл,энергии за час
A13: 1 | B13: 2 | C13: 3 | D13: 4 | E13: 5 | F13: 6 | G13: 7 | H13: 8 | I13: 9 | J13: 10 | K13: 11 | L13: 12 | M13: 13
A14: 0 | D14: 30.016
A15: 1 | D15: 22.576
A16: 2 | D16: 18.608
A17: 3 | D17: 17.744
A18: 4 | D18: 16.24
A19: 5 | D19: 18.528
A20: 6 | D20: 22.352
A21: 7 | D21: 20.112
A22: 8 | D22: 26.016
A23: 9 | D23: 30.768
A24: 10 | D24: 35.152
A25: 11 | D25: 35.312
... A37: 23 | D37: 38.848
A38: 24
A39: Итого | D39: =SUM(D15:D38) -> 738.88 | G39: =SUM(G15:G38) -> 0 | J39: =SUM(J15:J38) -> 0 | M39: =SUM(M15:M38) -> 0
A40: 1, При наличии на предприятии отклонений от нормальных режимов электропотребления (временное изменение схем питания, остановка на ремонт, резкое снижение
A41: эл,потребления и т,д,) последние необходимо перечислить,
A42: Главный инженер АО "Вологдаоблэнерго" А,В, Чурляев
A43: составляется самим предприятием с соблюдением всех пунктов настоящей таблицы,

Sheet 74=
B1: АО "Вологдаоблэнерго" | H1: код 900151 | K1: ПС Батран, ф,Гоша
B2: наименование предприятия | K2: наименование источника питания
K3: КТП-ДНТ Ульяновский
B4: ул, Горького, 99 | G4: Таблица № 1
B5: адрес
A6: почасовых записей показаний электрических счетчиков
A7: ='1=='!A7:Q7 -> в режимный день 20 ДЕКАБРЯ 2023 г.
A8: 1630 | B8: 1628
A9: часы суток | B9: Активная энергия | H9: Реактивная энергия
B10: =K3 -> КТП-ДНТ Ульяновский | E10: =K4 -> 0 | H10: =B10 -> КТП-ДНТ Ульяновский | K10: =E10 -> 0
B11: Расчет, Коэф, | D11: 60 | E11: Расчет, Коэф, | G11: 120 | H11: Расчет, Коэф, | J11: =D11 -> 60 | K11: Расчет, Коэф, | M11: =G11 -> 120
B12: показания счетчика | C12: разность | D12: расход эл,энергии за час | E12: показания счетчика | F12: разность | G12: расход эл,энергии за час | H12: показания счетчика | I12: разность | J12: расход эл,энергии за час | K12: показания счетчика | L12: разность | M12: расход эл,энергии за час
A13: 1 | B13: 2 | C13: 3 | D13: 4 | E13: 5 | F13: 6 | G13: 7 | H13: 8 | I13: 9 | J13: 10 | K13: 11 | L13: 12 | M13: 13
A14: 0 | D14: 1.08
A15: 1 | D15: 1.02
A16: 2 | D16: 1.08
A17: 3 | D17: 1.02
A18: 4 | D18: 0.99
A19: 5 | D19: 1.02
A20: 6 | D20: 0.9
A21: 7 | D21: 1.47
A22: 8 | D22: 2.19
A23: 9 | D23: 2.34
A24: 10 | D24: 2.61
A25: 11 | D25: 2.28
... A37: 23 | D37: 1.11
A38: 24
A39: Итого | D39: =SUM(D15:D38) -> 40.53 | G39: =SUM(G15:G38) -> 0 | J39: =SUM(J15:J38) -> 0 | M39: =SUM(M15:M38) -> 0
A40: 1, При наличии на предприятии отклонений от нормальных режимов электропотребления (временное изменение схем питания, остановка на ремонт, резкое снижение
A41: эл,потребления и т,д,) последние необходимо перечислить,
A42: Главный инженер АО "Вологдаоблэнерго" А,В, Чурляев
A43: составляется самим предприятием с соблюдением всех пунктов настоящей таблицы,

Sheet 75==
B1: АО "Вологдаоблэнерго" | H1: код 900151 | K1: ПС Малечкино, ф,Котельная
B2: наименование предприятия | K2: наименование источника питания
K3: ТП-47 В-1
B4: ул, Горького, 99 | G4: Таблица № 1 | K4: ТП-47 В-2
B5: адрес
A6: почасовых записей показаний электрических счетчиков
A7: ='1=='!A7:Q7 -> в режимный день 20 ДЕКАБРЯ 2023 г.
A8: 1630 | B8: 1628
A9: часы суток | B9: Активная энергия | H9: Реактивная энергия
B10: =K3 -> ТП-47 В-1 | E10: =K4 -> ТП-47 В-2 | H10: =B10 -> ТП-47 В-1 | K10: =E10 -> ТП-47 В-2
B11: Расчет, Коэф, | D11: 120 | E11: Расчет, Коэф, | G11: 120 | H11: Расчет, Коэф, | J11: =D11 -> 120 | K11: Расчет, Коэф, | M11: =G11 -> 120
B12: показания счетчика | C12: разность | D12: расход эл,энергии за час | E12: показания счетчика | F12: разность | G12: расход эл,энергии за час | H12: показания счетчика | I12: разность | J12: расход эл,энергии за час | K12: показания счетчика | L12: разность | M12: расход эл,энергии за час
A13: 1 | B13: 2 | C13: 3 | D13: 4 | E13: 5 | F13: 6 | G13: 7 | H13: 8 | I13: 9 | J13: 10 | K13: 11 | L13: 12 | M13: 13
A14: 0 | D14: 0 | G14: 33.696
A15: 1 | D15: 0 | G15: 31.512
A16: 2 | D16: 0 | G16: 33.36
A17: 3 | D17: 0 | G17: 31.152
A18: 4 | D18: 0 | G18: 31.152
A19: 5 | D19: 0 | G19: 33
A20: 6 | D20: 0 | G20: 31.104
A21: 7 | D21: 0 | G21: 34.248
A22: 8 | D22: 0 | G22: 33.504
A23: 9 | D23: 0 | G23: 31.56
A24: 10 | D24: 0 | G24: 33.12
A25: 11 | D25: 0 | G25: 30.504
... A37: 23 | D37: 0 | G37: 34.704
A38: 24
A39: Итого | D39: =SUM(D15:D38) -> 0 | G39: =SUM(G15:G38) -> 754.392 | J39: =SUM(J15:J38) -> 0 | M39: =SUM(M15:M38) -> 0
A40: 1, При наличии на предприятии отклонений от нормальных режимов электропотребления (временное изменение схем питания, остановка на ремонт, резкое снижение
A41: эл,потребления и т,д,) последние необходимо перечислить,
A42: Главный инженер АО "Вологдаоблэнерго" А,В, Чурляев
A43: составляется самим предприятием с соблюдением всех пунктов настоящей таблицы,

Sheet 76=
B1: АО "Вологдаоблэнерго" | H1: код 900151 | K1: ПС Малечкино, ф,Птицефабрика
B2: наименование предприятия | K2: наименование источника питания
K3: ТП-9 В-1
B4: ул, Горького, 99 | G4: Таблица № 1
B5: адрес
A6: почасовых записей показаний электрических счетчиков
A7: ='1=='!A7:Q7 -> в режимный день 20 ДЕКАБРЯ 2023 г.
A8: 1630 | B8: 1628
A9: часы суток | B9: Активная энергия | H9: Реактивная энергия
B10: =K3 -> ТП-9 В-1 | E10: =K4 -> 0 | H10: =B10 -> ТП-9 В-1 | K10: =E10 -> 0
B11: Расчет, Коэф, | D11: 40 | E11: Расчет, Коэф, | G11: 120 | H11: Расчет, Коэф, | J11: =D11 -> 40 | K11: Расчет, Коэф, | M11: =G11 -> 120
B12: показания счетчика | C12: разность | D12: расход эл,энергии за час | E12: показания счетчика | F12: разность | G12: расход эл,энергии за час | H12: показания счетчика | I12: разность | J12: расход эл,энергии за час | K12: показания счетчика | L12: разность | M12: расход эл,энергии за час
A13: 1 | B13: 2 | C13: 3 | D13: 4 | E13: 5 | F13: 6 | G13: 7 | H13: 8 | I13: 9 | J13: 10 | K13: 11 | L13: 12 | M13: 13
A14: 0 | D14: 0
A15: 1 | D15: 0
A16: 2 | D16: 0
A17: 3 | D17: 0
A18: 4 | D18: 0
A19: 5 | D19: 0
A20: 6 | D20: 0
A21: 7 | D21: 0
A22: 8 | D22: 0
A23: 9 | D23: 0
A24: 10 | D24: 0
A25: 11 | D25: 0
... A37: 23 | D37: 0
A38: 24
A39: Итого | D39: =SUM(D15:D38) -> 0 | G39: =SUM(G15:G38) -> 0 | J39: =SUM(J15:J38) -> 0 | M39: =SUM(M15:M38) -> 0
A40: 1, При наличии на предприятии отклонений от нормальных режимов электропотребления (временное изменение схем питания, остановка на ремонт, резкое снижение
A41: эл,потребления и т,д,) последние необходимо перечислить,
A42: Главный инженер АО "Вологдаоблэнерго" А,В, Чурляев
A43: составляется самим предприятием с соблюдением всех пунктов настоящей таблицы,

Sheet 77=
B1: АО "Вологдаоблэнерго" | H1: код 900151 | K1: ПС Малечкино, ф,Котельная
B2: наименование предприятия | K2: наименование источника питания
K3: ТП-9 В-2
B4: ул, Горького, 99 | G4: Таблица № 1
B5: адрес
A6: почасовых записей показаний электрических счетчиков
A7: ='1=='!A7:Q7 -> в режимный день 20 ДЕКАБРЯ 2023 г.
A8: 1630 | B8: 1628
A9: часы суток | B9: Активная энергия | H9: Реактивная энергия
B10: =K3 -> ТП-9 В-2 | E10: =K4 -> 0 | H10: =B10 -> ТП-9 В-2 | K10: =E10 -> 0
B11: Расчет, Коэф, | D11: 40 | E11: Расчет, Коэф, | G11: 120 | H11: Расчет, Коэф, | J11: =D11 -> 40 | K11: Расчет, Коэф, | M11: =G11 -> 120
B12: показания счетчика | C12: разность | D12: расход эл,энергии за час | E12: показания счетчика | F12: разность | G12: расход эл,энергии за час | H12: показания счетчика | I12: разность | J12: расход эл,энергии за час | K12: показания счетчика | L12: разность | M12: расход эл,энергии за час
A13: 1 | B13: 2 | C13: 3 | D13: 4 | E13: 5 | F13: 6 | G13: 7 | H13: 8 | I13: 9 | J13: 10 | K13: 11 | L13: 12 | M13: 13
A14: 0 | D14: 5.672
A15: 1 | D15: 4.696
A16: 2 | D16: 4.568
A17: 3 | D17: 4.456
A18: 4 | D18: 4.336
A19: 5 | D19: 4.712
A20: 6 | D20: 6.448
A21: 7 | D21: 7.432
A22: 8 | D22: 10.584
A23: 9 | D23: 9.592
A24: 10 | D24: 9.192
A25: 11 | D25: 8.184
... A37: 23 | D37: 6.272
A38: 24
A39: Итого | D39: =SUM(D15:D38) -> 152.28 | G39: =SUM(G15:G38) -> 0 | J39: =SUM(J15:J38) -> 0 | M39: =SUM(M15:M38) -> 0
A40: 1, При наличии на предприятии отклонений от нормальных режимов электропотребления (временное изменение схем питания, остановка на ремонт, резкое снижение
A41: эл,потребления и т,д,) последние необходимо перечислить,
A42: Главный инженер АО "Вологдаоблэнерго" А,В, Чурляев
A43: составляется самим предприятием с соблюдением всех пунктов настоящей таблицы,

Sheet 78==
B1: АО "Вологдаоблэнерго" | H1: код 900151 | K1: ПС Загородная, ф,Солнаское
B2: наименование предприятия | K2: наименование источника питания
K3: ТП Северо-Западный т,д,
B4: ул, Горького, 99 | G4: Таблица № 1 | K4: КТП- Мелиоводстрой
B5: адрес
A6: почасовых записей показаний электрических счетчиков
A7: ='1=='!A7:Q7 -> в режимный день 20 ДЕКАБРЯ 2023 г.
A8: 1630 | B8: 1628
A9: часы суток | B9: Активная энергия | H9: Реактивная энергия
B10: =K3 -> ТП Северо-Западный т,д, | E10: =K4 -> КТП- Мелиоводстрой | H10: =B10 -> ТП Северо-Западный т,д, | K10: =E10 -> КТП- Мелиоводстрой
B11: Расчет, Коэф, | D11: 120 | E11: Расчет, Коэф, | G11: 200 | H11: Расчет, Коэф, | J11: =D11 -> 120 | K11: Расчет, Коэф, | M11: =G11 -> 200
B12: показания счетчика | C12: разность | D12: расход эл,энергии за час | E12: показания счетчика | F12: разность | G12: расход эл,энергии за час | H12: показания счетчика | I12: разность | J12: расход эл,энергии за час | K12: показания счетчика | L12: разность | M12: расход эл,энергии за час
A13: 1 | B13: 2 | C13: 3 | D13: 4 | E13: 5 | F13: 6 | G13: 7 | H13: 8 | I13: 9 | J13: 10 | K13: 11 | L13: 12 | M13: 13
A14: 0 | D14: 1.98 | G14: 76.92
A15: 1 | D15: 2.1 | G15: 60.96
A16: 2 | D16: 1.86 | G16: 56.64
A17: 3 | D17: 1.98 | G17: 54.44
A18: 4 | D18: 1.98 | G18: 53.64
A19: 5 | D19: 0.9 | G19: 48.12
A20: 6 | D20: 0.9 | G20: 47.48
A21: 7 | D21: 0.84 | G21: 59.28
A22: 8 | D22: 2.04 | G22: 60.08
A23: 9 | D23: 3.24 | G23: 82.56
A24: 10 | D24: 3.42 | G24: 81.32
A25: 11 | D25: 3.6 | G25: 84.32
... A37: 23 | D37: 1.74 | G37: 90.48
A38: 24
A39: Итого | D39: =SUM(D15:D38) -> 72.18 | G39: =SUM(G15:G38) -> 1748.24 | J39: =SUM(J15:J38) -> 0 | M39: =SUM(M15:M38) -> 0
A40: 1, При наличии на предприятии отклонений от нормальных режимов электропотребления (временное изменение схем питания, остановка на ремонт, резкое снижение
A41: эл,потребления и т,д,) последние необходимо перечислить,
A42: Главный инженер АО "Вологдаоблэнерго" А,В, Чурляев
A43: составляется самим предприятием с соблюдением всех пунктов настоящей таблицы,

Sheet 79=
B1: АО "Вологдаоблэнерго" | H1: код 900151 | K1: ПС Суда, ф, Андога
B2: наименование предприятия | K2: наименование источника питания
K3: КТП-100 Детский дом
B4: ул, Горького, 99 | G4: Таблица № 1
B5: адрес
A6: почасовых записей показаний электрических счетчиков
A7: ='1=='!A7:Q7 -> в режимный день 20 ДЕКАБРЯ 2023 г.
A8: 1630 | B8: 1628
A9: часы суток | B9: Активная энергия | H9: Реактивная энергия
B10: =K3 -> КТП-100 Детский дом | E10: =K4 -> 0 | H10: =B10 -> КТП-100 Детский дом | K10: =E10 -> 0
B11: Расчет, Коэф, | D11: 20 | E11: Расчет, Коэф, | G11: 200 | H11: Расчет, Коэф, | J11: =D11 -> 20 | K11: Расчет, Коэф, | M11: =G11 -> 200
B12: показания счетчика | C12: разность | D12: расход эл,энергии за час | E12: показания счетчика | F12: разность | G12: расход эл,энергии за час | H12: показания счетчика | I12: разность | J12: расход эл,энергии за час | K12: показания счетчика | L12: разность | M12: расход эл,энергии за час
A13: 1 | B13: 2 | C13: 3 | D13: 4 | E13: 5 | F13: 6 | G13: 7 | H13: 8 | I13: 9 | J13: 10 | K13: 11 | L13: 12 | M13: 13
A14: 0 | D14: 1.136
A15: 1 | D15: 0.76
A16: 2 | D16: 0.748
A17: 3 | D17: 1.004
A18: 4 | D18: 1.076
A19: 5 | D19: 0.744
A20: 6 | D20: 1.02
A21: 7 | D21: 0.884
A22: 8 | D22: 0.912
A23: 9 | D23: 0.716
A24: 10 | D24: 0.7
A25: 11 | D25: 0.636
... A37: 23 | D37: 1.616
A38: 24
A39: Итого | D39: =SUM(D15:D38) -> 20.18 | G39: =SUM(G15:G38) -> 0 | J39: =SUM(J15:J38) -> 0 | M39: =SUM(M15:M38) -> 0
A40: 1, При наличии на предприятии отклонений от нормальных режимов электропотребления (временное изменение схем питания, остановка на ремонт, резкое снижение
A41: эл,потребления и т,д,) последние необходимо перечислить,
A42: Главный инженер АО "Вологдаоблэнерго" А,В, Чурляев
A43: составляется самим предприятием с соблюдением всех пунктов настоящей таблицы,

Sheet 80=
B1: АО "Вологдаоблэнерго" | H1: код 900151 | K1: ПС Климовская, ф, Лохта
B2: наименование предприятия | K2: наименование источника питания
K3: ТП-325
B4: ул, Горького, 99 | G4: Таблица № 1
B5: адрес
A6: почасовых записей показаний электрических счетчиков
A7: ='1=='!A7:Q7 -> в режимный день 20 ДЕКАБРЯ 2023 г.
A8: 1630 | B8: 1628
A9: часы суток | B9: Активная энергия | H9: Реактивная энергия
B10: =K3 -> ТП-325 | E10: =K4 -> 0 | H10: =B10 -> ТП-325 | K10: =E10 -> 0
B11: Расчет, Коэф, | D11: 120 | E11: Расчет, Коэф, | G11: 200 | H11: Расчет, Коэф, | J11: =D11 -> 120 | K11: Расчет, Коэф, | M11: =G11 -> 200
B12: показания счетчика | C12: разность | D12: расход эл,энергии за час | E12: показания счетчика | F12: разность | G12: расход эл,энергии за час | H12: показания счетчика | I12: разность | J12: расход эл,энергии за час | K12: показания счетчика | L12: разность | M12: расход эл,энергии за час
A13: 1 | B13: 2 | C13: 3 | D13: 4 | E13: 5 | F13: 6 | G13: 7 | H13: 8 | I13: 9 | J13: 10 | K13: 11 | L13: 12 | M13: 13
A14: 0 | D14: 0.48
A15: 1 | D15: 0.42
A16: 2 | D16: 0.48
A17: 3 | D17: 0.48
A18: 4 | D18: 0.48
A19: 5 | D19: 0.42
A20: 6 | D20: 0.54
A21: 7 | D21: 0.42
A22: 8 | D22: 0.48
A23: 9 | D23: 5.4
A24: 10 | D24: 5.16
A25: 11 | D25: 8.64
... A37: 23 | D37: 0.48
A38: 24
A39: Итого | D39: =SUM(D15:D38) -> 42.3 | G39: =SUM(G15:G38) -> 0 | J39: =SUM(J15:J38) -> 0 | M39: =SUM(M15:M38) -> 0
A40: 1, При наличии на предприятии отклонений от нормальных режимов электропотребления (временное изменение схем питания, остановка на ремонт, резкое снижение
A41: эл,потребления и т,д,) последние необходимо перечислить,
A42: Главный инженер АО "Вологдаоблэнерго" А,В, Чурляев
A43: составляется самим предприятием с соблюдением всех пунктов настоящей таблицы,

Sheet 81==
B1: АО "Вологдаоблэнерго" | H1: код 900151 | K1: ПС Енюково, ф, Ботово
B2: наименование предприятия | K2: наименование источника питания
K3: ТП-Новое Ботово
B4: ул, Горького, 99 | G4: Таблица № 1 | K4: КТП- д,Ботово
B5: адрес
A6: почасовых записей показаний электрических счетчиков
A7: ='1=='!A7:Q7 -> в режимный день 20 ДЕКАБРЯ 2023 г.
A8: 1630 | B8: 1628
A9: часы суток | B9: Активная энергия | H9: Реактивная энергия
B10: =K3 -> ТП-Новое Ботово | E10: =K4 -> КТП- д,Ботово | H10: =B10 -> ТП-Новое Ботово | K10: =E10 -> КТП- д,Ботово
B11: Расчет, Коэф, | D11: 40 | E11: Расчет, Коэф, | G11: 40 | H11: Расчет, Коэф, | J11: =D11 -> 40 | K11: Расчет, Коэф, | M11: =G11 -> 40
B12: показания счетчика | C12: разность | D12: расход эл,энергии за час | E12: показания счетчика | F12: разность | G12: расход эл,энергии за час | H12: показания счетчика | I12: разность | J12: расход эл,энергии за час | K12: показания счетчика | L12: разность | M12: расход эл,энергии за час
A13: 1 | B13: 2 | C13: 3 | D13: 4 | E13: 5 | F13: 6 | G13: 7 | H13: 8 | I13: 9 | J13: 10 | K13: 11 | L13: 12 | M13: 13
A14: 0 | D14: 6.32 | G14: 10.845
A15: 1 | D15: 5.5 | G15: 8.415
A16: 2 | D16: 4.06 | G16: 7.425
A17: 3 | D17: 1.84 | G17: 4.275
A18: 4 | D18: 1.98 | G18: 4.305
A19: 5 | D19: 1.6 | G19: 4.14
A20: 6 | D20: 1.36 | G20: 3.375
A21: 7 | D21: 2.84 | G21: 4.545
A22: 8 | D22: 4.02 | G22: 6.33
A23: 9 | D23: 4.12 | G23: 10.035
A24: 10 | D24: 2.66 | G24: 12.12
A25: 11 | D25: 1.22 | G25: 12.81
... A37: 23 | D37: 3.96 | G37: 8.1
A38: 24
A39: Итого | D39: =SUM(D15:D38) -> 68.78 | G39: =SUM(G15:G38) -> 211.725 | J39: =SUM(J15:J38) -> 0 | M39: =SUM(M15:M38) -> 0
A40: 1, При наличии на предприятии отклонений от нормальных режимов электропотребления (временное изменение схем питания, остановка на ремонт, резкое снижение
A41: эл,потребления и т,д,) последние необходимо перечислить,
A42: Главный инженер АО "Вологдаоблэнерго" А,В, Чурляев
A43: составляется самим предприятием с соблюдением всех пунктов настоящей таблицы,

Sheet 82=
B1: АО "Вологдаоблэнерго" | H1: код 900151 | K1: ПС Енюково, ф, Борисово
B2: наименование предприятия | K2: наименование источника питания
K3: КТП-100 АЗС №43
B4: ул, Горького, 99 | G4: Таблица № 1
B5: адрес
A6: почасовых записей показаний электрических счетчиков
A7: ='1=='!A7:Q7 -> в режимный день 20 ДЕКАБРЯ 2023 г.
A8: 1630 | B8: 1628
A9: часы суток | B9: Активная энергия | H9: Реактивная энергия
B10: =K3 -> КТП-100 АЗС №43 | E10: =K4 -> 0 | H10: =B10 -> КТП-100 АЗС №43 | K10: =E10 -> 0
B11: Расчет, Коэф, | D11: 30 | E11: Расчет, Коэф, | G11: 40 | H11: Расчет, Коэф, | J11: =D11 -> 30 | K11: Расчет, Коэф, | M11: =G11 -> 40
B12: показания счетчика | C12: разность | D12: расход эл,энергии за час | E12: показания счетчика | F12: разность | G12: расход эл,энергии за час | H12: показания счетчика | I12: разность | J12: расход эл,энергии за час | K12: показания счетчика | L12: разность | M12: расход эл,энергии за час
A13: 1 | B13: 2 | C13: 3 | D13: 4 | E13: 5 | F13: 6 | G13: 7 | H13: 8 | I13: 9 | J13: 10 | K13: 11 | L13: 12 | M13: 13
A14: 0 | D14: 11.826
A15: 1 | D15: 11.604
A16: 2 | D16: 11.142
A17: 3 | D17: 13.236
A18: 4 | D18: 12.678
A19: 5 | D19: 9.192
A20: 6 | D20: 5.022
A21: 7 | D21: 6.978
A22: 8 | D22: 8.178
A23: 9 | D23: 8.142
A24: 10 | D24: 8.328
A25: 11 | D25: 7.716
... A37: 23 | D37: 11.208
A38: 24
A39: Итого | D39: =SUM(D15:D38) -> 185.526 | G39: =SUM(G15:G38) -> 0 | J39: =SUM(J15:J38) -> 0 | M39: =SUM(M15:M38) -> 0
A40: 1, При наличии на предприятии отклонений от нормальных режимов электропотребления (временное изменение схем питания, остановка на ремонт, резкое снижение
A41: эл,потребления и т,д,) последние необходимо перечислить,
A42: Главный инженер АО "Вологдаоблэнерго" А,В, Чурляев
A43: составляется самим предприятием с соблюдением всех пунктов настоящей таблицы,

Sheet 83==
B1: АО "Вологдаоблэнерго" | H1: код 900151 | K1: ПС Енюково, ф, Борисово
B2: наименование предприятия | K2: наименование источника питания
K3: КТП-100 АЗС №43
B4: ул, Горького, 99 | G4: Таблица № 1 | K4: ТП- "Освещение дороги" (Аэропорт)
B5: адрес
A6: почасовых записей показаний электрических счетчиков
A7: ='1=='!A7:Q7 -> в режимный день 20 ДЕКАБРЯ 2023 г.
A8: 1630 | B8: 1628
A9: часы суток | B9: Активная энергия | H9: Реактивная энергия
B10: =K3 -> КТП-100 АЗС №43 | E10: =K4 -> ТП- "Освещение дороги" (Аэропорт) | H10: =B10 -> КТП-100 АЗС №43 | K10: =E10 -> ТП- "Освещение дороги" (Аэропорт)
B11: Расчет, Коэф, | D11: 30 | E11: Расчет, Коэф, | G11: 1 | H11: Расчет, Коэф, | J11: =D11 -> 30 | K11: Расчет, Коэф, | M11: =G11 -> 1
B12: показания счетчика | C12: разность | D12: расход эл,энергии за час | E12: показания счетчика | F12: разность | G12: расход эл,энергии за час | H12: показания счетчика | I12: разность | J12: расход эл,энергии за час | K12: показания счетчика | L12: разность | M12: расход эл,энергии за час
A13: 1 | B13: 2 | C13: 3 | D13: 4 | E13: 5 | F13: 6 | G13: 7 | H13: 8 | I13: 9 | J13: 10 | K13: 11 | L13: 12 | M13: 13
A14: 0 | D14: 11.826 | G14: 11.678
A15: 1 | D15: 11.604 | G15: 11.814
A16: 2 | D16: 11.142 | G16: 11.731
A17: 3 | D17: 13.236 | G17: 9.309
A18: 4 | D18: 12.678 | G18: 0.019
A19: 5 | D19: 9.192 | G19: 0.019
A20: 6 | D20: 5.022 | G20: 0.02
A21: 7 | D21: 6.978 | G21: 0.019
A22: 8 | D22: 8.178 | G22: 0.02
A23: 9 | D23: 8.142 | G23: 0.019
A24: 10 | D24: 8.328 | G24: 0.018
A25: 11 | D25: 7.716 | G25: 0.018
... A37: 23 | D37: 11.208 | G37: 8.743
A38: 24
A39: Итого | D39: =SUM(D15:D38) -> 185.526 | G39: =SUM(G15:G38) -> 41.96 | J39: =SUM(J15:J38) -> 0 | M39: =SUM(M15:M38) -> 0
A40: 1, При наличии на предприятии отклонений от нормальных режимов электропотребления (временное изменение схем питания, остановка на ремонт, резкое снижение
A41: эл,потребления и т,д,) последние необходимо перечислить,
A42: Главный инженер АО "Вологдаоблэнерго" А,В, Чурляев
A43: составляется самим предприятием с соблюдением всех пунктов настоящей таблицы,

Sheet 84=
B1: АО "Вологдаоблэнерго" | H1: код 900151 | K1: ПС РПП-1, ф, Шубацкое
B2: наименование предприятия | K2: наименование источника питания
K3: КТП-63 "ЧЭТС"
B4: ул, Горького, 99 | G4: Таблица № 1
B5: адрес
A6: почасовых записей показаний электрических счетчиков
A7: ='1=='!A7:Q7 -> в режимный день 20 ДЕКАБРЯ 2023 г.
A8: 1630 | B8: 1628
A9: часы суток | B9: Активная энергия | H9: Реактивная энергия
B10: =K3 -> КТП-63 "ЧЭТС" | E10: =K4 -> 0 | H10: =B10 -> КТП-63 "ЧЭТС" | K10: =E10 -> 0
B11: Расчет, Коэф, | D11: 20 | E11: Расчет, Коэф, | G11: 40 | H11: Расчет, Коэф, | J11: =D11 -> 20 | K11: Расчет, Коэф, | M11: =G11 -> 40
B12: показания счетчика | C12: разность | D12: расход эл,энергии за час | E12: показания счетчика | F12: разность | G12: расход эл,энергии за час | H12: показания счетчика | I12: разность | J12: расход эл,энергии за час | K12: показания счетчика | L12: разность | M12: расход эл,энергии за час
A13: 1 | B13: 2 | C13: 3 | D13: 4 | E13: 5 | F13: 6 | G13: 7 | H13: 8 | I13: 9 | J13: 10 | K13: 11 | L13: 12 | M13: 13
A14: 0 | D14: 4.87
A15: 1 | D15: 5.01
A16: 2 | D16: 4.53
A17: 3 | D17: 4.67
A18: 4 | D18: 4.44
A19: 5 | D19: 5.78
A20: 6 | D20: 5.99
A21: 7 | D21: 6.1
A22: 8 | D22: 8.73
A23: 9 | D23: 8.21
A24: 10 | D24: 8.47
A25: 11 | D25: 8.6
... A37: 23 | D37: 5.3
A38: 24
A39: Итого | D39: =SUM(D15:D38) -> 155.16 | G39: =SUM(G15:G38) -> 0 | J39: =SUM(J15:J38) -> 0 | M39: =SUM(M15:M38) -> 0
A40: 1, При наличии на предприятии отклонений от нормальных режимов электропотребления (временное изменение схем питания, остановка на ремонт, резкое снижение
A41: эл,потребления и т,д,) последние необходимо перечислить,
A42: Главный инженер АО "Вологдаоблэнерго" А,В, Чурляев
A43: составляется самим предприятием с соблюдением всех пунктов настоящей таблицы,

Sheet 85==
B1: АО "Вологдаоблэнерго" | H1: код 900151 | K1: ПС Климовская, ф, Лохта
B2: наименование предприятия | K2: наименование источника питания
K3: КТП-Деревня
B4: ул, Горького, 99 | G4: Таблица № 1 | K4: ТП-321
B5: адрес
A6: почасовых записей показаний электрических счетчиков
A7: ='1=='!A7:Q7 -> в режимный день 20 ДЕКАБРЯ 2023 г.
A8: 1630 | B8: 1628
A9: часы суток | B9: Активная энергия | H9: Реактивная энергия
B10: =K3 -> КТП-Деревня | E10: =K4 -> ТП-321 | H10: =B10 -> КТП-Деревня | K10: =E10 -> ТП-321
B11: Расчет, Коэф, | D11: 80 | E11: Расчет, Коэф, | G11: 30 | H11: Расчет, Коэф, | J11: =D11 -> 80 | K11: Расчет, Коэф, | M11: =G11 -> 30
B12: показания счетчика | C12: разность | D12: расход эл,энергии за час | E12: показания счетчика | F12: разность | G12: расход эл,энергии за час | H12: показания счетчика | I12: разность | J12: расход эл,энергии за час | K12: показания счетчика | L12: разность | M12: расход эл,энергии за час
A13: 1 | B13: 2 | C13: 3 | D13: 4 | E13: 5 | F13: 6 | G13: 7 | H13: 8 | I13: 9 | J13: 10 | K13: 11 | L13: 12 | M13: 13
A14: 0 | D14: 52.368 | G14: 4.14
A15: 1 | D15: 38.496 | G15: 3.945
A16: 2 | D16: 36.32 | G16: 3.87
A17: 3 | D17: 36.672 | G17: 3.9
A18: 4 | D18: 28.928 | G18: 3.855
A19: 5 | D19: 30.256 | G19: 4.02
A20: 6 | D20: 31.072 | G20: 6.9
A21: 7 | D21: 37.632 | G21: 6.54
A22: 8 | D22: 41.472 | G22: 5.16
A23: 9 | D23: 46.416 | G23: 4.425
A24: 10 | D24: 47.84 | G24: 2.07
A25: 11 | D25: 49.68 | G25: 1.65
... A37: 23 | D37: 62.752 | G37: 6.54
A38: 24
A39: Итого | D39: =SUM(D15:D38) -> 1064.208 | G39: =SUM(G15:G38) -> 117.525 | J39: =SUM(J15:J38) -> 0 | M39: =SUM(M15:M38) -> 0
A40: 1, При наличии на предприятии отклонений от нормальных режимов электропотребления (временное изменение схем питания, остановка на ремонт, резкое снижение
A41: эл,потребления и т,д,) последние необходимо перечислить,
A42: Главный инженер АО "Вологдаоблэнерго" А,В, Чурляев
A43: составляется самим предприятием с соблюдением всех пунктов настоящей таблицы,

Sheet 86=
B1: АО "Вологдаоблэнерго" | H1: код 900151 | K1: ПС Енюково
B2: наименование предприятия | K2: наименование источника питания
K3: ф, КУФ-3
B4: ул, Горького, 99 | G4: Таблица № 1
B5: адрес
A6: почасовых записей показаний электрических счетчиков
A7: ='1=='!A7:Q7 -> в режимный день 20 ДЕКАБРЯ 2023 г.
A8: 1630 | B8: 1628
A9: часы суток | B9: Активная энергия | H9: Реактивная энергия
B10: =K3 -> ф, КУФ-3 | E10: =K4 -> 0 | H10: =B10 -> ф, КУФ-3 | K10: =E10 -> 0
B11: Расчет, Коэф, | D11: 80 | E11: Расчет, Коэф, | G11: 30 | H11: Расчет, Коэф, | J11: =D11 -> 80 | K11: Расчет, Коэф, | M11: =G11 -> 30
B12: показания счетчика | C12: разность | D12: расход эл,энергии за час | E12: показания счетчика | F12: разность | G12: расход эл,энергии за час | H12: показания счетчика | I12: разность | J12: расход эл,энергии за час | K12: показания счетчика | L12: разность | M12: расход эл,энергии за час
A13: 1 | B13: 2 | C13: 3 | D13: 4 | E13: 5 | F13: 6 | G13: 7 | H13: 8 | I13: 9 | J13: 10 | K13: 11 | L13: 12 | M13: 13
A14: 0 | D14: 0
A15: 1 | D15: 0
A16: 2 | D16: 0
A17: 3 | D17: 0
A18: 4 | D18: 0
A19: 5 | D19: 0
A20: 6 | D20: 0
A21: 7 | D21: 0
A22: 8 | D22: 0
A23: 9 | D23: 0
A24: 10 | D24: 0
A25: 11 | D25: 0
... A37: 23 | D37: 0
A38: 24
A39: Итого | D39: =SUM(D15:D38) -> 0 | G39: =SUM(G15:G38) -> 0 | J39: =SUM(J15:J38) -> 0 | M39: =SUM(M15:M38) -> 0
A40: 1, При наличии на предприятии отклонений от нормальных режимов электропотребления (временное изменение схем питания, остановка на ремонт, резкое снижение
A41: эл,потребления и т,д,) последние необходимо перечислить,
A42: Главный инженер АО "Вологдаоблэнерго" А,В, Чурляев
A43: составляется самим предприятием с соблюдением всех пунктов настоящей таблицы,

Sheet 87==
B1: АО "Вологдаоблэнерго" | H1: код 900151 | K1: ПС Ирдоматка
B2: наименование предприятия | K2: наименование источника питания
K3: ф, Промкомбинат
B4: ул, Горького, 99 | G4: Таблица № 1 | K4: ф, Романда
B5: адрес
A6: почасовых записей показаний электрических счетчиков
A7: ='1=='!A7:Q7 -> в режимный день 20 ДЕКАБРЯ 2023 г.
A8: 1630 | B8: 1628
A9: часы суток | B9: Активная энергия | H9: Реактивная энергия
B10: =K3 -> ф, Промкомбинат | E10: =K4 -> ф, Романда | H10: =B10 -> ф, Промкомбинат | K10: =E10 -> ф, Романда
B11: Расчет, Коэф, | D11: 80 | E11: Расчет, Коэф, | G11: 30 | H11: Расчет, Коэф, | J11: =D11 -> 80 | K11: Расчет, Коэф, | M11: =G11 -> 30
B12: показания счетчика | C12: разность | D12: расход эл,энергии за час | E12: показания счетчика | F12: разность | G12: расход эл,энергии за час | H12: показания счетчика | I12: разность | J12: расход эл,энергии за час | K12: показания счетчика | L12: разность | M12: расход эл,энергии за час
A13: 1 | B13: 2 | C13: 3 | D13: 4 | E13: 5 | F13: 6 | G13: 7 | H13: 8 | I13: 9 | J13: 10 | K13: 11 | L13: 12 | M13: 13
A14: 0 | D14: 224 | G14: 285.2
A15: 1 | D15: 195.4 | G15: 280.6
A16: 2 | D16: 201.2 | G16: 273.6
A17: 3 | D17: 261.8 | G17: 269.4
A18: 4 | D18: 257 | G18: 273.6
A19: 5 | D19: 248.4 | G19: 268.6
A20: 6 | D20: 224.4 | G20: 269.8
A21: 7 | D21: 233.8 | G21: 256.8
A22: 8 | D22: 220 | G22: 259
A23: 9 | D23: 272.4 | G23: 270.4
A24: 10 | D24: 261.2 | G24: 248.8
A25: 11 | D25: 286.2 | G25: 255.8
... A37: 23 | D37: 223.6 | G37: 301.6
A38: 24
A39: Итого | D39: =SUM(D15:D38) -> 5418.8 | G39: =SUM(G15:G38) -> 6181.8 | J39: =SUM(J15:J38) -> 0 | M39: =SUM(M15:M38) -> 0
A40: 1, При наличии на предприятии отклонений от нормальных режимов электропотребления (временное изменение схем питания, остановка на ремонт, резкое снижение
A41: эл,потребления и т,д,) последние необходимо перечислить,
A42: Главный инженер АО "Вологдаоблэнерго" А,В, Чурляев
A43: составляется самим предприятием с соблюдением всех пунктов настоящей таблицы,

Sheet 88++
B1: АО "Вологдаоблэнерго" | H1: код 900151 | K1: ПС Вишняки
B2: наименование предприятия | K2: наименование источника питания
K3: ф, Парус-1
B4: ул, Горького, 99 | G4: Таблица № 1 | K4: ф, Парус-2
B5: адрес
A6: почасовых записей показаний электрических счетчиков
A7: ='1=='!A7:Q7 -> в режимный день 20 ДЕКАБРЯ 2023 г.
A8: 1630 | B8: 1628
A9: часы суток | B9: Активная энергия | H9: Реактивная энергия
B10: =K3 -> ф, Парус-1 | E10: =K4 -> ф, Парус-2 | H10: =B10 -> ф, Парус-1 | K10: =E10 -> ф, Парус-2
B11: Расчет, Коэф, | D11: 80 | E11: Расчет, Коэф, | G11: 30 | H11: Расчет, Коэф, | J11: =D11 -> 80 | K11: Расчет, Коэф, | M11: =G11 -> 30
B12: показания счетчика | C12: разность | D12: расход эл,энергии за час | E12: показания счетчика | F12: разность | G12: расход эл,энергии за час | H12: показания счетчика | I12: разность | J12: расход эл,энергии за час | K12: показания счетчика | L12: разность | M12: расход эл,энергии за час
A13: 1 | B13: 2 | C13: 3 | D13: 4 | E13: 5 | F13: 6 | G13: 7 | H13: 8 | I13: 9 | J13: 10 | K13: 11 | L13: 12 | M13: 13
A14: 0 | D14: 51.2 | G14: 5.8
A15: 1 | D15: 40.8 | G15: 17.6
A16: 2 | D16: 39.8 | G16: 17.4
A17: 3 | D17: 37.2 | G17: 17.2
A18: 4 | D18: 37.2 | G18: 17.2
A19: 5 | D19: 37.6 | G19: 16.8
A20: 6 | D20: 52.6 | G20: 17
A21: 7 | D21: 113.6 | G21: 17.2
A22: 8 | D22: 96 | G22: 12.4
A23: 9 | D23: 80.2 | G23: 6.6
A24: 10 | D24: 95 | G24: 5.8
A25: 11 | D25: 105.6 | G25: 5.8
... A37: 23 | D37: 68.2 | G37: 6
A38: 24
A39: Итого | D39: =SUM(D15:D38) -> 1826.2 | G39: =SUM(G15:G38) -> 221.8 | J39: =SUM(J15:J38) -> 0 | M39: =SUM(M15:M38) -> 0
A40: 1, При наличии на предприятии отклонений от нормальных режимов электропотребления (временное изменение схем питания, остановка на ремонт, резкое снижение
A41: эл,потребления и т,д,) последние необходимо перечислить,
A42: Главный инженер АО "Вологдаоблэнерго" А,В, Чурляев
A43: составляется самим предприятием с соблюдением всех пунктов настоящей таблицы,

Sheet 89==
B1: АО "Вологдаоблэнерго" | H1: код 900151 | K1: ПС Искра
B2: наименование предприятия | K2: наименование источника питания
K3: ф, Садовая
B4: ул, Горького, 99 | G4: Таблица № 1 | K4: ф, Газовая-1
B5: адрес
A6: почасовых записей показаний электрических счетчиков
A7: ='1=='!A7:Q7 -> в режимный день 20 ДЕКАБРЯ 2023 г.
A8: 1630 | B8: 1628
A9: часы суток | B9: Активная энергия | H9: Реактивная энергия
B10: =K3 -> ф, Садовая | E10: =K4 -> ф, Газовая-1 | H10: =B10 -> ф, Садовая | K10: =E10 -> ф, Газовая-1
B11: Расчет, Коэф, | D11: 80 | E11: Расчет, Коэф, | G11: 30 | H11: Расчет, Коэф, | J11: =D11 -> 80 | K11: Расчет, Коэф, | M11: =G11 -> 30
B12: показания счетчика | C12: разность | D12: расход эл,энергии за час | E12: показания счетчика | F12: разность | G12: расход эл,энергии за час | H12: показания счетчика | I12: разность | J12: расход эл,энергии за час | K12: показания счетчика | L12: разность | M12: расход эл,энергии за час
A13: 1 | B13: 2 | C13: 3 | D13: 4 | E13: 5 | F13: 6 | G13: 7 | H13: 8 | I13: 9 | J13: 10 | K13: 11 | L13: 12 | M13: 13
A14: 0 | D14: 595.34717 | G14: 362.14395
A15: 1 | D15: 539.85226 | G15: 390.37637
A16: 2 | D16: 534.00488 | G16: 299.27747
A17: 3 | D17: 519.94757 | G17: 313.59113
A18: 4 | D18: 507.47681 | G18: 322.71558
A19: 5 | D19: 520.80669 | G19: 331.1264
A20: 6 | D20: 544.31406 | G20: 316.98595
A21: 7 | D21: 567.3157 | G21: 374.91263
A22: 8 | D22: 578.52551 | G22: 426.36838
A23: 9 | D23: 583.29904 | G23: 662.65463
A24: 10 | D24: 581.76791 | G24: 704.45941
A25: 11 | D25: 575.42169 | G25: 790.67389
... A37: 23 | D37: 613.99789 | G37: 383.66988
A38: 24
A39: Итого | D39: =SUM(D15:D38) -> 13278.429 | G39: =SUM(G15:G38) -> 12223.029 | J39: =SUM(J15:J38) -> 0 | M39: =SUM(M15:M38) -> 0
A40: 1, При наличии на предприятии отклонений от нормальных режимов электропотребления (временное изменение схем питания, остановка на ремонт, резкое снижение
A41: эл,потребления и т,д,) последние необходимо перечислить,
A42: Главный инженер АО "Вологдаоблэнерго" А,В, Чурляев
A43: составляется самим предприятием с соблюдением всех пунктов настоящей таблицы,

Sheet 90==
B1: АО "Вологдаоблэнерго" | H1: код 900151 | K1: ПС Климовская
B2: наименование предприятия | K2: наименование источника питания
K3: ф, КУФ-1
B4: ул, Горького, 99 | G4: Таблица № 1 | K4: ф, КУФ-2
B5: адрес
A6: почасовых записей показаний электрических счетчиков
A7: ='1=='!A7:Q7 -> в режимный день 20 ДЕКАБРЯ 2023 г.
A8: 1630 | B8: 1628
A9: часы суток | B9: Активная энергия | H9: Реактивная энергия
B10: =K3 -> ф, КУФ-1 | E10: =K4 -> ф, КУФ-2 | H10: =B10 -> ф, КУФ-1 | K10: =E10 -> ф, КУФ-2
B11: Расчет, Коэф, | D11: 80 | E11: Расчет, Коэф, | G11: 30 | H11: Расчет, Коэф, | J11: =D11 -> 80 | K11: Расчет, Коэф, | M11: =G11 -> 30
B12: показания счетчика | C12: разность | D12: расход эл,энергии за час | E12: показания счетчика | F12: разность | G12: расход эл,энергии за час | H12: показания счетчика | I12: разность | J12: расход эл,энергии за час | K12: показания счетчика | L12: разность | M12: расход эл,энергии за час
A13: 1 | B13: 2 | C13: 3 | D13: 4 | E13: 5 | F13: 6 | G13: 7 | H13: 8 | I13: 9 | J13: 10 | K13: 11 | L13: 12 | M13: 13
A14: 0 | D14: 35.1 | G14: 118.2
A15: 1 | D15: 34.2 | G15: 121.2
A16: 2 | D16: 33.9 | G16: 131.1
A17: 3 | D17: 33.6 | G17: 125.7
A18: 4 | D18: 33.6 | G18: 114.3
A19: 5 | D19: 33 | G19: 116.4
A20: 6 | D20: 33.6 | G20: 117.6
A21: 7 | D21: 33.6 | G21: 133.5
A22: 8 | D22: 34.5 | G22: 122.4
A23: 9 | D23: 34.2 | G23: 120.9
A24: 10 | D24: 35.7 | G24: 139.2
A25: 11 | D25: 35.7 | G25: 120.9
... A37: 23 | D37: 36.3 | G37: 115.5
A38: 24
A39: Итого | D39: =SUM(D15:D38) -> 798 | G39: =SUM(G15:G38) -> 2812.2 | J39: =SUM(G15:G38) -> 2812.2 | M39: =SUM(M15:M38) -> 0
A40: 1, При наличии на предприятии отклонений от нормальных режимов электропотребления (временное изменение схем питания, остановка на ремонт, резкое снижение
A41: эл,потребления и т,д,) последние необходимо перечислить,
A42: Главный инженер АО "Вологдаоблэнерго" А,В, Чурляев
A43: составляется самим предприятием с соблюдением всех пунктов настоящей таблицы,

Sheet 91==
B1: АО "Вологдаоблэнерго" | H1: код 900151 | K1: ПС Климовская
B2: наименование предприятия | K2: наименование источника питания
K3: ф, Поселок
B4: ул, Горького, 99 | G4: Таблица № 1 | K4: ф, ПТФ-2
B5: адрес
A6: почасовых записей показаний электрических счетчиков
A7: ='1=='!A7:Q7 -> в режимный день 20 ДЕКАБРЯ 2023 г.
A8: 1630 | B8: 1628
A9: часы суток | B9: Активная энергия | H9: Реактивная энергия
B10: =K3 -> ф, Поселок | E10: =K4 -> ф, ПТФ-2 | H10: =B10 -> ф, Поселок | K10: =E10 -> ф, ПТФ-2
B11: Расчет, Коэф, | D11: 80 | E11: Расчет, Коэф, | G11: 30 | H11: Расчет, Коэф, | J11: =D11 -> 80 | K11: Расчет, Коэф, | M11: =G11 -> 30
B12: показания счетчика | C12: разность | D12: расход эл,энергии за час | E12: показания счетчика | F12: разность | G12: расход эл,энергии за час | H12: показания счетчика | I12: разность | J12: расход эл,энергии за час | K12: показания счетчика | L12: разность | M12: расход эл,энергии за час
A13: 1 | B13: 2 | C13: 3 | D13: 4 | E13: 5 | F13: 6 | G13: 7 | H13: 8 | I13: 9 | J13: 10 | K13: 11 | L13: 12 | M13: 13
A14: 0 | D14: 201.6 | G14: 24
A15: 1 | D15: 190 | G15: 22.4
A16: 2 | D16: 185.8 | G16: 22.8
A17: 3 | D17: 181 | G17: 23.2
A18: 4 | D18: 187 | G18: 22.8
A19: 5 | D19: 187 | G19: 23.6
A20: 6 | D20: 188.6 | G20: 24.4
A21: 7 | D21: 192.4 | G21: 26.4
A22: 8 | D22: 205.8 | G22: 31.2
A23: 9 | D23: 239.2 | G23: 35.6
A24: 10 | D24: 242.8 | G24: 30.8
A25: 11 | D25: 256.6 | G25: 32.8
... A37: 23 | D37: 213.8 | G37: 25.2
A38: 24
A39: Итого | D39: =SUM(D15:D38) -> 5241.2 | G39: =SUM(G15:G38) -> 670.8 | J39: =SUM(J15:J38) -> 0 | M39: =SUM(M15:M38) -> 0
A40: 1, При наличии на предприятии отклонений от нормальных режимов электропотребления (временное изменение схем питания, остановка на ремонт, резкое снижение
A41: эл,потребления и т,д,) последние необходимо перечислить,
A42: Главный инженер АО "Вологдаоблэнерго" А,В, Чурляев
A43: составляется самим предприятием с соблюдением всех пунктов настоящей таблицы,

Sheet 92==
B1: АО "Вологдаоблэнерго" | H1: код 900151 | K1: ПС Климовская
B2: наименование предприятия | K2: наименование источника питания
K3: ф, ПТФ-3
B4: ул, Горького, 99 | G4: Таблица № 1 | K4: ф, ПТФ-4
B5: адрес
A6: почасовых записей показаний электрических счетчиков
A7: ='1=='!A7:Q7 -> в режимный день 20 ДЕКАБРЯ 2023 г.
A8: 1630 | B8: 1628
A9: часы суток | B9: Активная энергия | H9: Реактивная энергия
B10: =K3 -> ф, ПТФ-3 | E10: =K4 -> ф, ПТФ-4 | H10: =B10 -> ф, ПТФ-3 | K10: =E10 -> ф, ПТФ-4
B11: Расчет, Коэф, | D11: 80 | E11: Расчет, Коэф, | G11: 30 | H11: Расчет, Коэф, | J11: =D11 -> 80 | K11: Расчет, Коэф, | M11: =G11 -> 30
B12: показания счетчика | C12: разность | D12: расход эл,энергии за час | E12: показания счетчика | F12: разность | G12: расход эл,энергии за час | H12: показания счетчика | I12: разность | J12: расход эл,энергии за час | K12: показания счетчика | L12: разность | M12: расход эл,энергии за час
A13: 1 | B13: 2 | C13: 3 | D13: 4 | E13: 5 | F13: 6 | G13: 7 | H13: 8 | I13: 9 | J13: 10 | K13: 11 | L13: 12 | M13: 13
A14: 0 | D14: 220 | G14: 31.8
A15: 1 | D15: 204.8 | G15: 33
A16: 2 | D16: 190.4 | G16: 31.2
A17: 3 | D17: 190.4 | G17: 28.8
A18: 4 | D18: 194.4 | G18: 31.8
A19: 5 | D19: 196.8 | G19: 30.6
A20: 6 | D20: 212 | G20: 29.4
A21: 7 | D21: 269.6 | G21: 31.8
A22: 8 | D22: 280.8 | G22: 37.2
A23: 9 | D23: 291.2 | G23: 42
A24: 10 | D24: 297.6 | G24: 46.2
A25: 11 | D25: 282.4 | G25: 45
... A37: 23 | D37: 250.4 | G37: 31.8
A38: 24
A39: Итого | D39: =SUM(D15:D38) -> 6042.4 | G39: =SUM(G15:G38) -> 858.6 | J39: =SUM(J15:J38) -> 0 | M39: =SUM(M15:M38) -> 0
A40: 1, При наличии на предприятии отклонений от нормальных режимов электропотребления (временное изменение схем питания, остановка на ремонт, резкое снижение
A41: эл,потребления и т,д,) последние необходимо перечислить,
A42: Главный инженер АО "Вологдаоблэнерго" А,В, Чурляев
A43: составляется самим предприятием с соблюдением всех пунктов настоящей таблицы,

Sheet 93==
B1: АО "Вологдаоблэнерго" | H1: код 900151 | K1: ПС Новые Углы
B2: наименование предприятия | K2: наименование источника питания
K3: ф, Подсобное хоз,-1
B4: ул, Горького, 99 | G4: Таблица № 1 | K4: ф, Подсобное хоз,-2
B5: адрес
A6: почасовых записей показаний электрических счетчиков
A7: ='1=='!A7:Q7 -> в режимный день 20 ДЕКАБРЯ 2023 г.
A8: 1630 | B8: 1628
A9: часы суток | B9: Активная энергия | H9: Реактивная энергия
B10: =K3 -> ф, Подсобное хоз,-1 | E10: =K4 -> ф, Подсобное хоз,-2 | H10: =B10 -> ф, Подсобное хоз,-1 | K10: =E10 -> ф, Подсобное хоз,-2
B11: Расчет, Коэф, | D11: 80 | E11: Расчет, Коэф, | G11: 30 | H11: Расчет, Коэф, | J11: =D11 -> 80 | K11: Расчет, Коэф, | M11: =G11 -> 30
B12: показания счетчика | C12: разность | D12: расход эл,энергии за час | E12: показания счетчика | F12: разность | G12: расход эл,энергии за час | H12: показания счетчика | I12: разность | J12: расход эл,энергии за час | K12: показания счетчика | L12: разность | M12: расход эл,энергии за час
A13: 1 | B13: 2 | C13: 3 | D13: 4 | E13: 5 | F13: 6 | G13: 7 | H13: 8 | I13: 9 | J13: 10 | K13: 11 | L13: 12 | M13: 13
A14: 0 | D14: 250.8 | G14: 184.8
A15: 1 | D15: 215.2 | G15: 175.6
A16: 2 | D16: 210.4 | G16: 168
A17: 3 | D17: 229.2 | G17: 157.2
A18: 4 | D18: 221.2 | G18: 150
A19: 5 | D19: 218.8 | G19: 155.6
A20: 6 | D20: 230.4 | G20: 163.2
A21: 7 | D21: 259.6 | G21: 176
A22: 8 | D22: 254.4 | G22: 250.4
A23: 9 | D23: 307.2 | G23: 245.6
A24: 10 | D24: 334.4 | G24: 272.4
A25: 11 | D25: 320 | G25: 248.4
... A37: 23 | D37: 276.8 | G37: 194.4
A38: 24
A39: Итого | D39: =SUM(D15:D38) -> 6483.6 | G39: =SUM(G15:G38) -> 4795.2 | J39: =SUM(J15:J38) -> 0 | M39: =SUM(M15:M38) -> 0
A40: 1, При наличии на предприятии отклонений от нормальных режимов электропотребления (временное изменение схем питания, остановка на ремонт, резкое снижение
A41: эл,потребления и т,д,) последние необходимо перечислить,
A42: Главный инженер АО "Вологдаоблэнерго" А,В, Чурляев
A43: составляется самим предприятием с соблюдением всех пунктов настоящей таблицы,

Sheet 94+
B1: АО "Вологдаоблэнерго" | H1: код 900151 | K1: ПС Нелазкое
B2: наименование предприятия | K2: наименование источника питания
K3: ф, Нелазкое-2
B4: ул, Горького, 99 | G4: Таблица № 1
B5: адрес
A6: почасовых записей показаний электрических счетчиков
A7: ='1=='!A7:Q7 -> в режимный день 20 ДЕКАБРЯ 2023 г.
A8: 1630 | B8: 1628
A9: часы суток | B9: Активная энергия | H9: Реактивная энергия
B10: =K3 -> ф, Нелазкое-2 | E10: =K4 -> 0 | H10: =B10 -> ф, Нелазкое-2 | K10: =E10 -> 0
B11: Расчет, Коэф, | D11: 80 | E11: Расчет, Коэф, | G11: 30 | H11: Расчет, Коэф, | J11: =D11 -> 80 | K11: Расчет, Коэф, | M11: =G11 -> 30
B12: показания счетчика | C12: разность | D12: расход эл,энергии за час | E12: показания счетчика | F12: разность | G12: расход эл,энергии за час | H12: показания счетчика | I12: разность | J12: расход эл,энергии за час | K12: показания счетчика | L12: разность | M12: расход эл,энергии за час
A13: 1 | B13: 2 | C13: 3 | D13: 4 | E13: 5 | F13: 6 | G13: 7 | H13: 8 | I13: 9 | J13: 10 | K13: 11 | L13: 12 | M13: 13
A14: 0 | D14: 60
A15: 1 | D15: 62.4
A16: 2 | D16: 40.6
A17: 3 | D17: 39.6
A18: 4 | D18: 58.6
A19: 5 | D19: 40.6
A20: 6 | D20: 59.4
A21: 7 | D21: 45.8
A22: 8 | D22: 44.4
A23: 9 | D23: 75.2
A24: 10 | D24: 34
A25: 11 | D25: 38
... A37: 23 | D37: 47
A38: 24
A39: Итого | D39: =SUM(D15:D38) -> 1319.2 | G39: =SUM(G15:G38) -> 0 | J39: =SUM(J15:J38) -> 0 | M39: =SUM(M15:M38) -> 0
A40: 1, При наличии на предприятии отклонений от нормальных режимов электропотребления (временное изменение схем питания, остановка на ремонт, резкое снижение
A41: эл,потребления и т,д,) последние необходимо перечислить,
A42: Главный инженер АО "Вологдаоблэнерго" А,В, Чурляев
A43: составляется самим предприятием с соблюдением всех пунктов настоящей таблицы,

Sheet 95==
B1: АО "Вологдаоблэнерго" | H1: код 900151 | K1: ПС Суда
B2: наименование предприятия | K2: наименование источника питания
K3: ф, Котельная
B4: ул, Горького, 99 | G4: Таблица № 1 | K4: ф, Межное
B5: адрес
A6: почасовых записей показаний электрических счетчиков
A7: ='1=='!A7:Q7 -> в режимный день 20 ДЕКАБРЯ 2023 г.
A8: 1630 | B8: 1628
A9: часы суток | B9: Активная энергия | H9: Реактивная энергия
B10: =K3 -> ф, Котельная | E10: =K4 -> ф, Межное | H10: =B10 -> ф, Котельная | K10: =E10 -> ф, Межное
B11: Расчет, Коэф, | D11: 80 | E11: Расчет, Коэф, | G11: 30 | H11: Расчет, Коэф, | J11: =D11 -> 80 | K11: Расчет, Коэф, | M11: =G11 -> 30
B12: показания счетчика | C12: разность | D12: расход эл,энергии за час | E12: показания счетчика | F12: разность | G12: расход эл,энергии за час | H12: показания счетчика | I12: разность | J12: расход эл,энергии за час | K12: показания счетчика | L12: разность | M12: расход эл,энергии за час
A13: 1 | B13: 2 | C13: 3 | D13: 4 | E13: 5 | F13: 6 | G13: 7 | H13: 8 | I13: 9 | J13: 10 | K13: 11 | L13: 12 | M13: 13
A14: 0 | D14: 111.2 | G14: 511.2
A15: 1 | D15: 113.2 | G15: 477.6
A16: 2 | D16: 112.8 | G16: 471.6
A17: 3 | D17: 113.2 | G17: 460.8
A18: 4 | D18: 112.8 | G18: 463.2
A19: 5 | D19: 113.2 | G19: 475.2
A20: 6 | D20: 113.2 | G20: 520.8
A21: 7 | D21: 112.8 | G21: 597.6
A22: 8 | D22: 112.8 | G22: 682.8
A23: 9 | D23: 112.4 | G23: 688.8
A24: 10 | D24: 114 | G24: 711.6
A25: 11 | D25: 112.8 | G25: 708
... A37: 23 | D37: 111.6 | G37: 542.4
A38: 24
A39: Итого | D39: =SUM(D15:D38) -> 2588 | G39: =SUM(G15:G38) -> 13969.2 | J39: =SUM(J15:J38) -> 0 | M39: =SUM(M15:M38) -> 0
A40: 1, При наличии на предприятии отклонений от нормальных режимов электропотребления (временное изменение схем питания, остановка на ремонт, резкое снижение
A41: эл,потребления и т,д,) последние необходимо перечислить,
A42: Главный инженер АО "Вологдаоблэнерго" А,В, Чурляев
A43: составляется самим предприятием с соблюдением всех пунктов настоящей таблицы,

Sheet 96+
B1: АО "Вологдаоблэнерго" | H1: код 900151 | K1: ПС Суда
B2: наименование предприятия | K2: наименование источника питания
K3: ф, ЛПБ
B4: ул, Горького, 99 | G4: Таблица № 1
B5: адрес
A6: почасовых записей показаний электрических счетчиков
A7: ='1=='!A7:Q7 -> в режимный день 20 ДЕКАБРЯ 2023 г.
A8: 1630 | B8: 1628
A9: часы суток | B9: Активная энергия | H9: Реактивная энергия
B10: =K3 -> ф, ЛПБ | E10: =K4 -> 0 | H10: =B10 -> ф, ЛПБ | K10: =E10 -> 0
B11: Расчет, Коэф, | D11: 80 | E11: Расчет, Коэф, | G11: 30 | H11: Расчет, Коэф, | J11: =D11 -> 80 | K11: Расчет, Коэф, | M11: =G11 -> 30
B12: показания счетчика | C12: разность | D12: расход эл,энергии за час | E12: показания счетчика | F12: разность | G12: расход эл,энергии за час | H12: показания счетчика | I12: разность | J12: расход эл,энергии за час | K12: показания счетчика | L12: разность | M12: расход эл,энергии за час
A13: 1 | B13: 2 | C13: 3 | D13: 4 | E13: 5 | F13: 6 | G13: 7 | H13: 8 | I13: 9 | J13: 10 | K13: 11 | L13: 12 | M13: 13
A14: 0 | D14: 144.8
A15: 1 | D15: 119.2
A16: 2 | D16: 102.4
A17: 3 | D17: 103.6
A18: 4 | D18: 88.8
A19: 5 | D19: 92
A20: 6 | D20: 101.6
A21: 7 | D21: 116.8
A22: 8 | D22: 130.8
A23: 9 | D23: 214
A24: 10 | D24: 215.2
A25: 11 | D25: 34.8
... A37: 23 | D37: 174.8
A38: 24
A39: Итого | D39: =SUM(D15:D38) -> 2680.8 | G39: =SUM(G15:G38) -> 0 | J39: =SUM(J15:J38) -> 0 | M39: =SUM(M15:M38) -> 0
A40: 1, При наличии на предприятии отклонений от нормальных режимов электропотребления (временное изменение схем питания, остановка на ремонт, резкое снижение
A41: эл,потребления и т,д,) последние необходимо перечислить,
A42: Главный инженер АО "Вологдаоблэнерго" А,В, Чурляев
A43: составляется самим предприятием с соблюдением всех пунктов настоящей таблицы,

Sheet 97++
B1: АО "Вологдаоблэнерго" | H1: код 900151 | K1: ПС Зашекснинская
B2: наименование предприятия | K2: наименование источника питания
K3: ф, Берег
B4: ул, Горького, 99 | G4: Таблица № 1 | K4: ф, Городище
B5: адрес
A6: почасовых записей показаний электрических счетчиков
A7: ='1=='!A7:Q7 -> в режимный день 20 ДЕКАБРЯ 2023 г.
A8: 1630 | B8: 1628
A9: часы суток | B9: Активная энергия | H9: Реактивная энергия
B10: =K3 -> ф, Берег | E10: =K4 -> ф, Городище | H10: =B10 -> ф, Берег | K10: =E10 -> ф, Городище
B11: Расчет, Коэф, | D11: 80 | E11: Расчет, Коэф, | G11: 30 | H11: Расчет, Коэф, | J11: =D11 -> 80 | K11: Расчет, Коэф, | M11: =G11 -> 30
B12: показания счетчика | C12: разность | D12: расход эл,энергии за час | E12: показания счетчика | F12: разность | G12: расход эл,энергии за час | H12: показания счетчика | I12: разность | J12: расход эл,энергии за час | K12: показания счетчика | L12: разность | M12: расход эл,энергии за час
A13: 1 | B13: 2 | C13: 3 | D13: 4 | E13: 5 | F13: 6 | G13: 7 | H13: 8 | I13: 9 | J13: 10 | K13: 11 | L13: 12 | M13: 13
A14: 0 | D14: 188.8 | G14: 246
A15: 1 | D15: 137.2 | G15: 184.4
A16: 2 | D16: 116 | G16: 183.6
A17: 3 | D17: 114 | G17: 170.8
A18: 4 | D18: 104 | G18: 185.6
A19: 5 | D19: 107.6 | G19: 192.2
A20: 6 | D20: 102.8 | G20: 188.6
A21: 7 | D21: 124.8 | G21: 194
A22: 8 | D22: 156 | G22: 194.6
A23: 9 | D23: 160.4 | G23: 220.4
A24: 10 | D24: 172.4 | G24: 222.8
A25: 11 | D25: 186 | G25: 210
... A37: 23 | D37: 192.4 | G37: 255.6
A38: 24
A39: Итого | D39: =SUM(D15:D38) -> 3428.4 | G39: =SUM(G15:G38) -> 4630.6 | J39: =SUM(J15:J38) -> 0 | M39: =SUM(M15:M38) -> 0
A40: 1, При наличии на предприятии отклонений от нормальных режимов электропотребления (временное изменение схем питания, остановка на ремонт, резкое снижение
A41: эл,потребления и т,д,) последние необходимо перечислить,
A42: Главный инженер АО "Вологдаоблэнерго" А,В, Чурляев
A43: составляется самим предприятием с соблюдением всех пунктов настоящей таблицы,

Sheet 98=
B1: АО "Вологдаоблэнерго" | H1: код 900151 | K1: ПС Ирдоматка
B2: наименование предприятия | K2: наименование источника питания
K3: ф,10кВ Шайма (ОборнЭнерго)
B4: ул, Горького, 99 | G4: Таблица № 1
B5: адрес
A6: почасовых записей показаний электрических счетчиков
A7: ='1=='!A7:Q7 -> в режимный день 20 ДЕКАБРЯ 2023 г.
A8: 1630 | B8: 1628
A9: часы суток | B9: Активная энергия | H9: Реактивная энергия
B10: =K3 -> ф,10кВ Шайма (ОборнЭнерго) | E10: =K4 -> 0 | H10: =B10 -> ф,10кВ Шайма (ОборнЭнерго) | K10: =E10 -> 0
B11: Расчет, Коэф, | D11: 80 | E11: Расчет, Коэф, | G11: 30 | H11: Расчет, Коэф, | J11: =D11 -> 80 | K11: Расчет, Коэф, | M11: =G11 -> 30
B12: показания счетчика | C12: разность | D12: расход эл,энергии за час | E12: показания счетчика | F12: разность | G12: расход эл,энергии за час | H12: показания счетчика | I12: разность | J12: расход эл,энергии за час | K12: показания счетчика | L12: разность | M12: расход эл,энергии за час
A13: 1 | B13: 2 | C13: 3 | D13: 4 | E13: 5 | F13: 6 | G13: 7 | H13: 8 | I13: 9 | J13: 10 | K13: 11 | L13: 12 | M13: 13
A14: 0 | D14: 403.4
A15: 1 | D15: 389.4
A16: 2 | D16: 381.6
A17: 3 | D17: 388.6
A18: 4 | D18: 387.2
A19: 5 | D19: 387
A20: 6 | D20: 384.4
A21: 7 | D21: 426
A22: 8 | D22: 413.8
A23: 9 | D23: 391.8
A24: 10 | D24: 386.2
A25: 11 | D25: 395.6
... A37: 23 | D37: 415
A38: 24
A39: Итого | D39: =SUM(D15:D38) -> 9317.8 | G39: =SUM(G15:G38) -> 0 | J39: =SUM(J15:J38) -> 0 | M39: =SUM(M15:M38) -> 0
A40: 1, При наличии на предприятии отклонений от нормальных режимов электропотребления (временное изменение схем питания, остановка на ремонт, резкое снижение
A41: эл,потребления и т,д,) последние необходимо перечислить,
A42: Главный инженер АО "Вологдаоблэнерго" А,В, Чурляев
A43: составляется самим предприятием с соблюдением всех пунктов настоящей таблицы,

Sheet 99==
B1: АО "Вологдаоблэнерго" | H1: код 900151 | K1: РПП-1
B2: наименование предприятия | K2: наименование источника питания
K3: ТП-107 база (МУП Электросеть)
B4: ул, Горького, 99 | G4: Таблица № 1 | K4: ТП-107 офис (МУП Электросеть)
B5: адрес
A6: почасовых записей показаний электрических счетчиков
A7: ='1=='!A7:Q7 -> в режимный день 20 ДЕКАБРЯ 2023 г.
A8: 1630 | B8: 1628
A9: часы суток | B9: Активная энергия | H9: Реактивная энергия
B10: =K3 -> ТП-107 база (МУП Электросеть) | E10: =K4 -> ТП-107 офис (МУП Электросеть) | H10: =B10 -> ТП-107 база (МУП Электросеть) | K10: =E10 -> ТП-107 офис (МУП Электросеть)
B11: Расчет, Коэф, | D11: 80 | E11: Расчет, Коэф, | G11: 30 | H11: Расчет, Коэф, | J11: =D11 -> 80 | K11: Расчет, Коэф, | M11: =G11 -> 30
B12: показания счетчика | C12: разность | D12: расход эл,энергии за час | E12: показания счетчика | F12: разность | G12: расход эл,энергии за час | H12: показания счетчика | I12: разность | J12: расход эл,энергии за час | K12: показания счетчика | L12: разность | M12: расход эл,энергии за час
A13: 1 | B13: 2 | C13: 3 | D13: 4 | E13: 5 | F13: 6 | G13: 7 | H13: 8 | I13: 9 | J13: 10 | K13: 11 | L13: 12 | M13: 13
A14: 0 | D14: 8 | G14: 0
A15: 1 | D15: 9 | G15: 0
A16: 2 | D16: 9 | G16: 0
A17: 3 | D17: 8 | G17: 0
A18: 4 | D18: 7 | G18: 0
A19: 5 | D19: 7 | G19: 0
A20: 6 | D20: 8 | G20: 0
A21: 7 | D21: 10 | G21: 0
A22: 8 | D22: 15 | G22: 0
A23: 9 | D23: 45 | G23: 0
A24: 10 | D24: 52 | G24: 0
A25: 11 | D25: 51 | G25: 0
... A37: 23 | D37: 10 | G37: 0
A38: 24
A39: Итого | D39: =SUM(D15:D38) -> 574 | G39: =SUM(G15:G38) -> 0 | J39: =SUM(J15:J38) -> 0 | M39: =SUM(M15:M38) -> 0
A40: 1, При наличии на предприятии отклонений от нормальных режимов электропотребления (временное изменение схем питания, остановка на ремонт, резкое снижение
A41: эл,потребления и т,д,) последние необходимо перечислить,
A42: Главный инженер АО "Вологдаоблэнерго" А,В, Чурляев
A43: составляется самим предприятием с соблюдением всех пунктов настоящей таблицы,

Sheet 100==
B1: АО "Вологдаоблэнерго" | H1: код 900151 | K1: ПС Первомайская
B2: наименование предприятия | K2: наименование источника питания
K3: ТП-451 (МУП Электросеть) В-1
B4: ул, Горького, 99 | G4: Таблица № 1 | K4: ТП-451 (МУП Электросеть) В-2
B5: адрес
A6: почасовых записей показаний электрических счетчиков
A7: ='1=='!A7:Q7 -> в режимный день 20 ДЕКАБРЯ 2023 г.
A8: 1630 | B8: 1628
A9: часы суток | B9: Активная энергия | H9: Реактивная энергия
B10: =K3 -> ТП-451 (МУП Электросеть) В-1 | E10: =K4 -> ТП-451 (МУП Электросеть) В-2 | H10: =B10 -> ТП-451 (МУП Электросеть) В-1 | K10: =E10 -> ТП-451 (МУП Электросеть) В-2
B11: Расчет, Коэф, | D11: 80 | E11: Расчет, Коэф, | G11: 80 | H11: Расчет, Коэф, | J11: =D11 -> 80 | K11: Расчет, Коэф, | M11: =G11 -> 80
B12: показания счетчика | C12: разность | D12: расход эл,энергии за час | E12: показания счетчика | F12: разность | G12: расход эл,энергии за час | H12: показания счетчика | I12: разность | J12: расход эл,энергии за час | K12: показания счетчика | L12: разность | M12: расход эл,энергии за час
A13: 1 | B13: 2 | C13: 3 | D13: 4 | E13: 5 | F13: 6 | G13: 7 | H13: 8 | I13: 9 | J13: 10 | K13: 11 | L13: 12 | M13: 13
A14: 0 | D14: 38 | G14: 222
A15: 1 | D15: 40 | G15: 198
A16: 2 | D16: 47 | G16: 186
A17: 3 | D17: 56 | G17: 193
A18: 4 | D18: 37 | G18: 187
A19: 5 | D19: 28 | G19: 184
A20: 6 | D20: 38 | G20: 191
A21: 7 | D21: 71 | G21: 203
A22: 8 | D22: 66 | G22: 222
A23: 9 | D23: 49 | G23: 204
A24: 10 | D24: 43 | G24: 203
A25: 11 | D25: 53 | G25: 207
... A37: 23 | D37: 39 | G37: 228
A38: 24
A39: Итого | D39: =SUM(D15:D38) -> 1191 | G39: =SUM(G15:G38) -> 4791 | J39: =SUM(J15:J38) -> 0 | M39: =SUM(M15:M38) -> 0
A40: 1, При наличии на предприятии отклонений от нормальных режимов электропотребления (временное изменение схем питания, остановка на ремонт, резкое снижение
A41: эл,потребления и т,д,) последние необходимо перечислить,
A42: Главный инженер АО "Вологдаоблэнерго" А,В, Чурляев
A43: составляется самим предприятием с соблюдением всех пунктов настоящей таблицы,

Sheet 101==
B1: АО "Вологдаоблэнерго" | H1: код 900151 | K1: ПС Южная, ф,Матурино
B2: наименование предприятия | K2: наименование источника питания
K3: ТП-59
B4: ул, Горького, 99 | G4: Таблица № 1 | K4: ГПП-5 Фосагро
B5: адрес
A6: почасовых записей показаний электрических счетчиков
A7: ='1=='!A7:Q7 -> в режимный день 20 ДЕКАБРЯ 2023 г.
A8: 1630 | B8: 1628
A9: часы суток | B9: Активная энергия | H9: Реактивная энергия
B10: =K3 -> ТП-59 | E10: =K4 -> ГПП-5 Фосагро | H10: =B10 -> ТП-59 | K10: =E10 -> ГПП-5 Фосагро
B11: Расчет, Коэф, | D11: 60 | E11: Расчет, Коэф, | H11: Расчет, Коэф, | J11: =D11 -> 60 | K11: Расчет, Коэф, | M11: =G11 -> 0
B12: показания счетчика | C12: разность | D12: расход эл,энергии за час | E12: показания счетчика | F12: разность | G12: расход эл,энергии за час | H12: показания счетчика | I12: разность | J12: расход эл,энергии за час | K12: показания счетчика | L12: разность | M12: расход эл,энергии за час
A13: 1 | B13: 2 | C13: 3 | D13: 4 | E13: 5 | F13: 6 | G13: 7 | H13: 8 | I13: 9 | J13: 10 | K13: 11 | L13: 12 | M13: 13
A14: 0 | D14: 0.348 | G14: 10.8
A15: 1 | D15: 0.384 | G15: 9.36
A16: 2 | D16: 0.324 | G16: 9
A17: 3 | D17: 0.276 | G17: 9.18
A18: 4 | D18: 0.312 | G18: 9.18
A19: 5 | D19: 0.3 | G19: 9.36
A20: 6 | D20: 0.744 | G20: 10.98
A21: 7 | D21: 2.1 | G21: 10.8
A22: 8 | D22: 1.116 | G22: 9.54
A23: 9 | D23: 1.008 | G23: 9.54
A24: 10 | D24: 0.648 | G24: 9.54
A25: 11 | D25: 0.336 | G25: 8.64
... A37: 23 | D37: 0.312 | G37: 9.36
A38: 24
A39: Итого | D39: =SUM(D15:D38) -> 19.284 | G39: =SUM(G15:G38) -> 215.1 | J39: =SUM(J15:J38) -> 0 | M39: =SUM(M15:M38) -> 0
A40: 1, При наличии на предприятии отклонений от нормальных режимов электропотребления (временное изменение схем питания, остановка на ремонт, резкое снижение
A41: эл,потребления и т,д,) последние необходимо перечислить,
A42: Главный инженер АО "Вологдаоблэнерго" А,В, Чурляев
A43: составляется самим предприятием с соблюдением всех пунктов настоящей таблицы,

Sheet 102==
B1: АО "Вологдаоблэнерго" | H1: код 900151 | K1: ПС Зашекснинская
B2: наименование предприятия | K2: наименование источника питания
K3: ТП-108-1 В-1
B4: ул, Горького, 99 | G4: Таблица № 1 | K4: ТП-108-1 В-2
B5: адрес
A6: почасовых записей показаний электрических счетчиков
A7: ='1=='!A7:Q7 -> в режимный день 20 ДЕКАБРЯ 2023 г.
A8: 1630 | B8: 1628
A9: часы суток | B9: Активная энергия | H9: Реактивная энергия
