Workbook

Sheet Содержание книги
A1: Содержание
A4: № листа | B4: Электросетевой участок | C4: Центр питания
A5: 1 а | B5: г. Вологда | C5: ОАО "БМЗ"
A6: 1, 2 | B6: г. Вологда | C6: ПС "АНАНЬИНО"
A7: 3 | B7: г. Вологда | C7: ПС "ИСКРА"
A8: 4 | B8: г. Вологда | C8: ПС "МАЕГА"
A9: 5,6, 7, 8, 9 | B9: г. Вологда | C9: ПС "ЗАПАДНАЯ
A10: 10 | B10: г. Вологда | C10: ПС "СЕВЕРНАЯ 35/6 кВ
A11: 11 | B11: г. Вологда | C11: РТП "ТЕПЛИЧНОГО ХОЗ - ВА"
A12: 12,13, 14 | B12: г. Вологда | C12: ГПП 110/10 кВ "ВОМЗ"
A13: 15,16,17,18,19,20, 21 | B13: г. Вологда | C13: ПС ВОЛОГДА-ЮЖНАЯ РУ - 6 -10 кВ
A14: 22 | B14: г. Вологда | C14: ГПП ВОЛОГДА - ТЯГОВАЯ 110/27,5/6 кВ
A15: 23 | B15: г. Вологда | C15: ТП 10 СЖД ОАО РЖД
A16: 24 | B16: г. Вологда | C16: ТП 34 СЖД ОАО РЖД
A17: 25,26,27,28,29 | B17: г. Вологда | C17: ТГК- 2 ВТЭЦ РП 6 кВ
A18: 30,31,32,33,34 | B18: г. Вологда | C18: ПС "ЦЕНТРАЛЬНАЯ" 110/6 кВ
A19: 35, 36 | B19: г. Вологда | C19: ПС "ГОРОДСКАЯ" 35/6 кВ
A20: 37, 38, 39 | B20: г. Вологда | C20: ПС "ВОСТОЧНАЯ" 110/35/10 кВ
A21: 40, 41 | B21: г. Вологда | C21: ПС "ЛУГОВАЯ"
A22: 42 | B22: г. Вологда | C22: РП "ГОРКА"
A23: 43, 44 | B23: г. Вологда | C23: ГПП 2 ЗАО ВПЗ
A24: 45 | B24: г. Вологда | C24: ГПП 1 ЗАО ВПЗ
A25: 46 | B25: ЭСУ "Кубенское" | C25: ПС "Кубенское"
A26: 47, 48 | B26: ЭСУ п. Молочное | C26: ПС "Молочное" 35/10 кВ
A27: 49, 50, 50-1, 50-2, 50-3 | B27: ЭСУ "Устье-Кубенское" | C27: РТП "КОРНИЛОВО" 35/10 кВ
A28: 51, 52, 53 | B28: ЭСУ "Шуйское" | C28: ПС "ШУЙСКОЕ" 35/ 10 кВ
A29: 54.55 | B29: ЭСУ г. Сокол | C29: ПС "ГДЗ" 110/6 кВ
B30: ЭСУ г. Сокол
A31: 56, 57, 58, | B31: ЭСУ г. Сокол | C31: ОАО "Сокольский" ЦБК" ГПП 35/6 кВ
A32: 59 | B32: ЭСУ г. Сокол | C32: ОАО "Сокольский" ЦБК" ГПП 110/6 кВ
A33: 60, 61, 62, 63 | B33: ЭСУ г. Сокол | C33: ООО "Сухонский ЦБК" ГПП 110/6 кВ
A34: 64-66 | B34: ЭСУ "Белозерск"
A35: 67-75 | B35: ЭСУ "Вытегра"
A36: 76-81_1 | B36: ЭСУ "Харовск"
A37: 82-86 | B37: ЭТУ "Вожега"
A38: 87-91 | B38: ЭТУ "Тотьма"
A39: 92-95 | B39: ЭСУ "Сямжа"
A40: 96-97 | B40: ЭСУ "Грязовец"
A42: Содержание
A45: № листа | B45: Электросетевой участок | C45: Центр питания
A46: 1 а | B46: г. Вологда | C46: ОАО "БМЗ"
D47: яч. Т1, яч. Т2
A48: 1, 2 | B48: г. Вологда | C48: ПС "АНАНЬИНО"
D49: яч.7 - ф."Город-7"
D50: яч.8 - ф."Городской", яч.2 - ф."Овощехранилище"
A51: 3 | B51: г. Вологда | C51: ПС "ИСКРА"
D52: яч.18 - ф."РУБЦОВО"- СВ - ВЛ№2
A53: 4 | B53: г. Вологда | C53: ПС "МАЕГА"
D54: яч.13 - ф."НИКИТИНО"-СВ - ВЛ№27
A55: 5,6, 7, 8, 9 | B55: г. Вологда | C55: ПС "ЗАПАДНАЯ
D56: яч.19 - "РМЗ-1", яч.24 - "РМЗ-2"
D57: яч.15 -"ОЧИСТНЫЕ-1", яч.9 -"ГОРОД-1"
D58: яч.21- "П/я-1", яч.20 - "П/я-2"
D59: яч.33 - "РП-35", яч.35 - "РП-37"
D60: яч.11 - "ГОРОД-2", яч.18 - "ОЧИСТНЫЕ-2"
A61: 10 | B61: г. Вологда | C61: ПС "СЕВЕРНАЯ 35/6 кВ
D62: Т1 - РП5ф3 ввод №1, Т2 - РП5ф17 ввод №2
A63: 11 | B63: г. Вологда | C63: РТП "ТЕПЛИЧНОГО ХОЗ - ВА"
D64: яч. 3 - ф."Микрорайон-1" ввод № 1, яч.13 - ф."Микрорайон-2" ввод № 2
A65: 12,13, 14 | B65: г. Вологда | C65: ГПП 110/10 кВ "ВОМЗ"
D66: яч.47 - РП 29 ввод № 1, яч.31 - РП 29 ввод № 2
D67: яч.5 - РП 14 ввод № 1, яч.22 - РП 14 ввод № 2
D68: яч.44 - РП 2 ввод № 1, яч.26в - РП 2 ввод № 2
A69: 15,16,17,18,19,20, 21 | B69: г. Вологда | C69: ПС ВОЛОГДА-ЮЖНАЯ РУ - 6 -10 кВ
D70: яч.15 - "ГОРОД-15", яч.24 - "ТУБДИСПАНСЕР"
D71: яч.10 - "ГОРОД-10", яч.14 - "ГОРОД-14"
D72: яч.20 - "ГОРОД 20"
D73: яч. 7- ф."ГОРОД 7", яч.17 - ф."ГОРОД 17"
D74: яч.3 - "ГОРОД-3", яч.5 - "ГОРОД-5"
D75: яч. 1 - "ГОРОД -1", яч. 20 - "РП 27"
D76: яч. 4 ф."РОДИОНЦЕВО" - ПКУ
D77: яч. 307, 409 ф."Охмыльцево"
A78: 22 | B78: г. Вологда | C78: ГПП ВОЛОГДА - ТЯГОВАЯ 110/27,5/6 кВ
D79: яч. 1 - ТП 450
A80: 23 | B80: г. Вологда | C80: ТП 10 СЖД ОАО РЖД
D81: яч.5 - ТП 238, яч.7 - ТП 651
A82: 24 | B82: г. Вологда | C82: ТП 34 СЖД ОАО РЖД
D83: яч.2 - ТП 660, яч.6 - ТП 662
A84: 25,26,27,28,29 | B84: г. Вологда | C84: ТГК- 2 ВТЭЦ РП 6 кВ
D85: яч.10 - РП 3 ввод № 1, яч. 115 - РП 3 ввод № 2
D86: яч. 114 - РП 23 ввод № 1, яч. 107 - РП 23 ввод № 2
D87: яч. 3 - ТП 217
D88: яч. 5 - РП 1 ввод № 1, яч. 12 - РП 1 ввод № 2
D89: яч. 4 - РП 20 ввод № 1, яч. 7 - РП 20 ввод № 2
A90: 30,31,32,33,34,34-1 | B90: г. Вологда | C90: ПС "ЦЕНТРАЛЬНАЯ" 110/6 кВ
D91: яч.4 - ТП 54 -Ι ввод № 1, яч. 30 - ТП 54 - ΙΙ ввод № 2
D92: яч. 14 - РП 13- Ι , яч. 22 - РП 13- ΙΙ
D93: яч.12 - РП 4 -Ι , яч. 24 - РП 4 -ΙΙ
D94: яч. 2 - РП 8 яч. 11
D95: яч.28 - ТП 11 -ΙΙ
D96: яч.22 - РП 21-I, яч.7 - РП 21-II
A97: 35, 36 | B97: г. Вологда | C97: ПС "ГОРОДСКАЯ" 35/6 кВ
D98: Т-1 - ЗРУ ф.1 ввод № 1, Т-3 - ЗРУ ф.20 ввод № 2 .
D99: Т-2 - РП 9 ф. 11
A100: 37, 38, 39 | B100: г. Вологда | C100: ПС "ВОСТОЧНАЯ" 110/35/10 кВ
D101: яч.2 - "РП 39-1", яч. 21 - "РП 39-2"
D102: яч.15 - "РМЗ-1", яч.32 - "РМЗ-2"
D103: яч. 11- "ГОРОД-1", яч. 28- "ГОРОД-2"
A104: 40, 41 | B104: г. Вологда | C104: ПС "ЛУГОВАЯ"
D105: яч. 23 - ф."ГОРОД-2 , яч. 2 - ф."ГОРОД-3"
...

Sheet 1а
B1: АО "Вологдаоблэнерго" | J1: код 900151 | K1: ПС "Вологда-Южная"РУ 6кВ - транзит через "БМЗ"
A2: наименование предприятия | N2: наименование источника питания
N3: _________________________________
B4: ул. Горького, 99 | I4: Таблица № 1 | O4: РТП 25 Т1, Т2
A5: адрес
A6: почасовых записей показаний электрических счетчиков
A7: в режимный день18 ДЕКАБРЯ 2019 г..
A8: 143 | B8: 144
A9: часы суток | B9: Активная энергия | J9: Реактивная энергия
B10: яч. Т1 | F10: яч. Т2 | J10: яч. Т1 | N10: яч. Т2
B11: Расчет. Коэф. | E11: 600 | F11: расчетный коэф. | I11: 600 | J11: расчетный коэф. | M11: =E11 -> 600 | N11: расчетный коэф. | Q11: =I11 -> 600
B12: показания счетчика | C12: разность | E12: расход эл.энергии за час | F12: показания счетчика | G12: разность | I12: расход эл.энергии за час | J12: показания счетчика | K12: разность | M12: расход эл.энергии за час | N12: показания счетчика | O12: разность | Q12: расход эл.энергии за час
A13: 1 | B13: 2 | C13: 3 | E13: 4 | F13: 5 | G13: 6 | I13: 7 | J13: 8 | K13: 9 | M13: 10 | N13: 11 | O13: 12 | Q13: 13
A14: 0
A15: 1 | E15: 192.12 | I15: 61.86 | M15: 30 | Q15: 36.6
A16: 2 | E16: 182.76 | I16: 54 | M16: 29.16 | Q16: 35.04
A17: 3 | E17: 178.68 | I17: 49.02 | M17: 28.56 | Q17: 33.78
A18: 4 | E18: 177 | I18: 47.28 | M18: 27.96 | Q18: 34.14
A19: 5 | E19: 177.36 | I19: 46.26 | M19: 28.32 | Q19: 32.94
A20: 6 | E20: 189.6 | I20: 53.04 | M20: 29.4 | Q20: 32.58
A21: 7 | E21: 201.6 | I21: 88.5 | M21: 28.92 | Q21: 32.76
A22: 8 | E22: 224.04 | I22: 113.88 | M22: 35.16 | Q22: 34.56
A23: 9 | E23: 249.6 | I23: 114 | M23: 49.32 | Q23: 38.58
A24: 10 | E24: 263.4 | I24: 113.46 | M24: 54.24 | Q24: 40.32
A25: 11 | E25: 266.52 | I25: 112.32 | M25: 53.88 | Q25: 42.24
A26: 12 | E26: 260.16 | I26: 105.42 | M26: 52.44 | Q26: 42.54
... A38: 24 | E38: 212.52 | I38: 82.26 | M38: 33.96 | Q38: 37.92
A39: Итого | E39: =SUM(E15:E38) -> 5658.36 | I39: =SUM(I15:I38) -> 2246.82 | M39: =SUM(M15:M38) -> 961.56 | Q39: =SUM(Q15:Q38) -> 923.1
A40: 1. При наличии на предприятии отклонений от нормальных режимов электропотребления (временное изменение схем питания, остановка на ремонт, резкое снижение
A41: эл.потребления и т.д.) последние необходимо перечислить.
A42: 2. При наличии нескольких источников питания и большого количества вводов таблица
A43: составляется самим предприятием с соблюдением всех пунктов настоящей таблицы. | K43: Главный инженер _____________________________ | Q43: А.А. Михалин
A48: 1 | B48: 2 | C48: 3 | D48: 4 | E48: 5 | F48: 6 | G48: 7 | H48: 8 | I48: 9 | J48: 10 | K48: 11 | L48: 12 | M48: 13 | N48: 14 | O48: 15 | P48: 16 | Q48: 17

Sheet 1
B1: АО "Вологдаоблэнерго" | J1: код 900151 | N1: ПС "АНАНЬИНО"
B2: наименование предприятия | N2: наименование источника питания
N3: _________________________________
B4: ул. Горького, 99 | I4: Таблица № 1 | O4: ВЛ № 31
B5: адрес
A6: почасовых записей показаний электрических счетчиков
A7: в режимный день18 ДЕКАБРЯ 2019 г..
A8: 1629
A9: часы суток | B9: Активная энергия | J9: Реактивная энергия
B10: ЯЧ. № 7 - Ф."Город 7" | J10: ЯЧ. № 7 - Ф."Город 7"
B11: Расчет. Коэф. | E11: 3600 | F11: Расчет. Коэф. | J11: Расчет. Коэф. | M11: =E11 -> 3600 | N11: Расчет. Коэф.
B12: показания счетчика | C12: разность | E12: расход эл.энергии за час | F12: показания счетчика | G12: разность | I12: расход эл.энергии за час | J12: показания счетчика | K12: разность | M12: расход эл.энергии за час | N12: показания счетчика | O12: разность | Q12: расход эл.энергии за час
A13: 1 | B13: 2 | C13: 3 | E13: 4 | F13: 5 | G13: 6 | I13: 7 | J13: 8 | K13: 9 | M13: 10 | N13: 11 | O13: 12 | Q13: 13
A14: 0
A15: 1 | E15: 636 | M15: 178
A16: 2 | E16: 610 | M16: 179
A17: 3 | E17: 589 | M17: 178
A18: 4 | E18: 584 | M18: 174
A19: 5 | E19: 601 | M19: 172
A20: 6 | E20: 611 | M20: 168
A21: 7 | E21: 659 | M21: 172
A22: 8 | E22: 732 | M22: 192
A23: 9 | E23: 824 | M23: 237
A24: 10 | E24: 892 | M24: 269
A25: 11 | E25: 877 | M25: 277
A26: 12 | E26: 855 | M26: 269
... A38: 24 | E38: 649 | M38: 197
A39: Итого | E39: =SUM(E15:E38) -> 17642 | I39: =SUM(I15:I38) -> 0 | M39: =SUM(M15:M38) -> 5240 | Q39: =SUM(Q15:Q38) -> 0
A40: 1. При наличии на предприятии отклонений от нормальных режимов электропотребления (временное изменение схем питания, остановка на ремонт, резкое снижение
A41: эл.потребления и т.д.) последние необходимо перечислить.
A42: 2. При наличии нескольких источников питания и большого количества вводов таблица
A43: составляется самим предприятием с соблюдением всех пунктов настоящей таблицы. | K43: Главный инженер ___________________ А.А. Михалин

Sheet 2
B1: АО "Вологдаоблэнерго" | J1: код 900151 | N1: ПС "АНАНЬИНО"
B2: наименование предприятия | N2: наименование источника питания
N3: _________________________________
B4: ул. Горького, 99 | I4: Таблица № 1 | O4: РП 36 ф 16; ТП 360
B5: адрес
A6: почасовых записей показаний электрических счетчиков
A7: в режимный день18 ДЕКАБРЯ 2019 г..
A8: 1630 | B8: 1628
A9: часы суток | B9: Активная энергия | J9: Реактивная энергия
B10: ЯЧ. № 2 - Ф."Овощехранилище" | F10: ЯЧ. № 8 - Ф."Городской" | J10: ЯЧ. № 2 - Ф."Овощехранилище" | N10: ЯЧ. № 8 - Ф."Городской"
B11: Расчет. Коэф. | E11: 3600 | F11: Расчет. Коэф. | I11: 2400 | J11: Расчет. Коэф. | M11: =E11 -> 3600 | N11: Расчет. Коэф. | Q11: =I11 -> 2400
B12: показания счетчика | C12: разность | E12: расход эл.энергии за час | F12: показания счетчика | G12: разность | I12: расход эл.энергии за час | J12: показания счетчика | K12: разность | M12: расход эл.энергии за час | N12: показания счетчика | O12: разность | Q12: расход эл.энергии за час
A13: 1 | B13: 2 | C13: 3 | E13: 4 | F13: 5 | G13: 6 | I13: 7 | J13: 8 | K13: 9 | M13: 10 | N13: 11 | O13: 12 | Q13: 13
A14: 0
A15: 1 | E15: 279 | I15: 263 | M15: 132 | Q15: 77
A16: 2 | E16: 284 | I16: 247 | M16: 134 | Q16: 78
A17: 3 | E17: 258 | I17: 243 | M17: 126 | Q17: 77
A18: 4 | E18: 271 | I18: 238 | M18: 131 | Q18: 75
A19: 5 | E19: 276 | I19: 255 | M19: 127 | Q19: 74
A20: 6 | E20: 255 | I20: 272 | M20: 121 | Q20: 75
A21: 7 | E21: 211 | I21: 297 | M21: 75 | Q21: 81
A22: 8 | E22: 221 | I22: 327 | M22: 59 | Q22: 93
A23: 9 | E23: 369 | I23: 318 | M23: 157 | Q23: 89
A24: 10 | E24: 471 | I24: 301 | M24: 238 | Q24: 84
A25: 11 | E25: 437 | I25: 295 | M25: 208 | Q25: 81
A26: 12 | E26: 433 | I26: 303 | M26: 229 | Q26: 80
... A38: 24 | E38: 284 | I38: 294 | M38: 143 | Q38: 81
A39: Итого | E39: =SUM(E15:E38) -> 8027 | I39: =SUM(I15:I38) -> 7163 | M39: =SUM(M15:M38) -> 3868 | Q39: =SUM(Q15:Q38) -> 2006
A40: 1. При наличии на предприятии отклонений от нормальных режимов электропотребления (временное изменение схем питания, остановка на ремонт, резкое снижение
A41: эл.потребления и т.д.) последние необходимо перечислить.
A42: 2. При наличии нескольких источников питания и большого количества вводов таблица
A43: составляется самим предприятием с соблюдением всех пунктов настоящей таблицы. | K43: Главный инженер ___________________ А.А. Михалин

Sheet 3
B1: АО "Вологдаоблэнерго" | J1: код 900151 | N1: ПС "ИСКРА"
B2: наименование предприятия | N2: наименование источника питания
N3: яч. 18 ф."РУБЦОВО"
B4: ул. Горького, 99 | I4: Таблица № 1 | O4: ВЛ-10кВ № 2
B5: адрес
A6: почасовых записей показаний электрических счетчиков
A7: в режимный день18 ДЕКАБРЯ 2019 г..
A8: 374
A9: часы суток | B9: Активная энергия | J9: Реактивная энергия
B10: яч. 18 ф."РУБЦОВО"- СВ - ВЛ№2 | J10: яч. 18 ф."РУБЦОВО"- СВ - ВЛ№2
B11: Расчет. Коэф. | E11: 1000 | F11: Расчет. Коэф. | I11: 0 | J11: Расчет. Коэф. | M11: =E11 -> 1000 | N11: Расчет. Коэф. | Q11: =I11 -> 0
B12: показания счетчика | C12: разность | E12: расход эл.энергии за час | F12: показания счетчика | G12: разность | I12: расход эл.энергии за час | J12: показания счетчика | K12: разность | M12: расход эл.энергии за час | N12: показания счетчика | O12: разность | Q12: расход эл.энергии за час
A13: 1 | B13: 2 | C13: 3 | E13: 4 | F13: 5 | G13: 6 | I13: 7 | J13: 8 | K13: 9 | M13: 10 | N13: 11 | O13: 12 | Q13: 13
A14: 0
A15: 1 | E15: 494.8 | M15: 46.8
A16: 2 | E16: 500.2 | M16: 44.8
A17: 3 | E17: 483 | M17: 45.6
A18: 4 | E18: 481.8 | M18: 44.4
A19: 5 | E19: 457.4 | M19: 42.2
A20: 6 | E20: 491.8 | M20: 43
A21: 7 | E21: 526.4 | M21: 43.4
A22: 8 | E22: 513.8 | M22: 43.2
A23: 9 | E23: 518.8 | M23: 44.4
A24: 10 | E24: 474.4 | M24: 51.8
A25: 11 | E25: 471.8 | M25: 54.4
A26: 12 | E26: 458.6 | M26: 53
... A38: 24 | E38: 522.4 | M38: 54.8
A39: Итого | E39: =SUM(E15:E38) -> 12141.2 | I39: =SUM(I15:I38) -> 0 | M39: =SUM(M15:M38) -> 1226.2 | Q39: =SUM(Q15:Q38) -> 0
A40: 1. При наличии на предприятии отклонений от нормальных режимов электропотребления (временное изменение схем питания, остановка на ремонт, резкое снижение
A41: эл.потребления и т.д.) последние необходимо перечислить.
A42: 2. При наличии нескольких источников питания и большого количества вводов таблица
A43: составляется самим предприятием с соблюдением всех пунктов настоящей таблицы. | K43: Главный инженер ___________________ А.А. Михалин

Sheet 4
B1: АО "Вологдаоблэнерго" | J1: код 900151 | N1: ПС "МАЕГА"
B2: наименование предприятия | N2: наименование источника питания
N3: яч. 13 - Ф НИКИТИНО
B4: ул. Горького, 99 | I4: Таблица № 1 | O4: ВЛ №27
B5: адрес
A6: почасовых записей показаний электрических счетчиков
A7: в режимный день18 ДЕКАБРЯ 2019 г..
A8: 363
A9: часы суток | B9: Активная энергия | J9: Реактивная энергия
B10: яч. 13 - Ф НИКИТИНО-СВ - ВЛ№27 | J10: яч. 13 - Ф НИКИТИНО-СВ - ВЛ№27
B11: Расчет. Коэф. | E11: 1500 | F11: Расчет. Коэф. | I11: 0 | J11: Расчет. Коэф. | M11: =E11 -> 1500 | N11: Расчет. Коэф. | Q11: =I11 -> 0
B12: показания счетчика | C12: разность | E12: расход эл.энергии за час | F12: показания счетчика | G12: разность | I12: расход эл.энергии за час | J12: показания счетчика | K12: разность | M12: расход эл.энергии за час | N12: показания счетчика | O12: разность | Q12: расход эл.энергии за час
A13: 1 | B13: 2 | C13: 3 | E13: 4 | F13: 5 | G13: 6 | I13: 7 | J13: 8 | K13: 9 | M13: 10 | N13: 11 | O13: 12 | Q13: 13
A14: 0
A15: 1 | E15: 585.3 | M15: 50.25
A16: 2 | E16: 539.4 | M16: 46.65
A17: 3 | E17: 525.15 | M17: 44.55
A18: 4 | E18: 521.7 | M18: 45
A19: 5 | E19: 535.8 | M19: 41.4
A20: 6 | E20: 585.75 | M20: 46.65
A21: 7 | E21: 651 | M21: 52.35
A22: 8 | E22: 679.95 | M22: 69.15
A23: 9 | E23: 688.95 | M23: 88.2
A24: 10 | E24: 671.55 | M24: 91.2
A25: 11 | E25: 647.4 | M25: 80.1
A26: 12 | E26: 699.15 | M26: 98.1
... A38: 24 | E38: 628.8 | M38: 54
A39: Итого | E39: =SUM(E15:E38) -> 15986.7 | I39: =SUM(I15:I38) -> 0 | M39: =SUM(M15:M38) -> 1645.65 | Q39: =SUM(Q15:Q38) -> 0
A40: 1. При наличии на предприятии отклонений от нормальных режимов электропотребления (временное изменение схем питания, остановка на ремонт, резкое снижение
A41: эл.потребления и т.д.) последние необходимо перечислить.
A42: 2. При наличии нескольких источников питания и большого количества вводов таблица
A43: составляется самим предприятием с соблюдением всех пунктов настоящей таблицы. | K43: Главный инженер ___________________ А.А. Михалин

Sheet 5
B1: АО "Вологдаоблэнерго" | J1: код 900151 | N1: ПС "ЗАПАДНАЯ"
B2: наименование предприятия | N2: наименование источника питания
N3: _________________________________
B4: ул. Горького, 99 | I4: Таблица № 1 | O4: РП 16
B5: адрес
A6: почасовых записей показаний электрических счетчиков
A7: в режимный день18 ДЕКАБРЯ 2019 г..
A8: 372 | B8: 368
A9: часы суток | B9: Активная энергия | J9: Реактивная энергия
B10: Яч. 21 - "РМЗ-1" | F10: Яч. 28 - "РМЗ-2" | J10: Яч. 21 - "РМЗ-1" | N10: Яч. 28 - "РМЗ-2"
B11: Расчет. Коэф. | E11: 7200 | F11: Расчет. Коэф. | I11: 7200 | J11: Расчет. Коэф. | M11: =E11 -> 7200 | N11: Расчет. Коэф. | Q11: =I11 -> 7200
B12: показания счетчика | C12: разность | E12: расход эл.энергии за час | F12: показания счетчика | G12: разность | I12: расход эл.энергии за час | J12: показания счетчика | K12: разность | M12: расход эл.энергии за час | N12: показания счетчика | O12: разность | Q12: расход эл.энергии за час
A13: 1 | B13: 2 | C13: 3 | E13: 4 | F13: 5 | G13: 6 | I13: 7 | J13: 8 | K13: 9 | M13: 10 | N13: 11 | O13: 12 | Q13: 13
A14: 0
A15: 1 | E15: 353 | I15: 1075 | M15: 84 | Q15: 212
A16: 2 | E16: 329 | I16: 1002 | M16: 85 | Q16: 209
A17: 3 | E17: 318 | I17: 966 | M17: 84 | Q17: 210
A18: 4 | E18: 338 | I18: 965 | M18: 86 | Q18: 206
A19: 5 | E19: 361 | I19: 945 | M19: 86 | Q19: 201
A20: 6 | E20: 374 | I20: 1016 | M20: 87 | Q20: 203
A21: 7 | E21: 422 | I21: 1257 | M21: 102 | Q21: 222
A22: 8 | E22: 597 | I22: 1475 | M22: 207 | Q22: 327
A23: 9 | E23: 740 | I23: 1662 | M23: 301 | Q23: 402
A24: 10 | E24: 805 | I24: 1829 | M24: 318 | Q24: 475
A25: 11 | E25: 812 | I25: 1984 | M25: 306 | Q25: 532
A26: 12 | E26: 781 | I26: 2042 | M26: 315 | Q26: 572
... A38: 24 | E38: 406 | I38: 1239 | M38: 84 | Q38: 221
A39: Итого | E39: =SUM(E15:E38) -> 14168 | I39: =SUM(I15:I38) -> 37143 | M39: =SUM(M15:M38) -> 4540 | Q39: =SUM(Q15:Q38) -> 8252
A40: 1. При наличии на предприятии отклонений от нормальных режимов электропотребления (временное изменение схем питания, остановка на ремонт, резкое снижение
A41: эл.потребления и т.д.) последние необходимо перечислить.
A42: 2. При наличии нескольких источников питания и большого количества вводов таблица
A43: составляется самим предприятием с соблюдением всех пунктов настоящей таблицы. | K43: Главный инженер ___________________ А.А. Михалин

Sheet 6
B1: АО "Вологдаоблэнерго" | J1: код 900151 | N1: ПС "ЗАПАДНАЯ"
B2: наименование предприятия | N2: наименование источника питания
N3: _________________________________
B4: ул. Горького, 99 | I4: Таблица № 1 | N4: РП 10 ф7 | Q4: РП 36 ф17
B5: адрес
A6: почасовых записей показаний электрических счетчиков
A7: в режимный день18 ДЕКАБРЯ 2019 г..
A8: 370 | B8: 365
A9: часы суток | B9: Активная энергия | J9: Реактивная энергия
B10: яч. 16 - ф."ОЧИСТНЫЕ-1" | F10: яч. 24 - "ГОРОД-1" | J10: яч. 16 - ф."ОЧИСТНЫЕ-1" | N10: яч. 24 - "ГОРОД-1"
B11: Расчет. Коэф. | E11: 4800 | F11: Расчет. Коэф. | I11: 7200 | J11: Расчет. Коэф. | M11: =E11 -> 4800 | N11: Расчет. Коэф. | Q11: =I11 -> 7200
B12: показания счетчика | C12: разность | E12: расход эл.энергии за час | F12: показания счетчика | G12: разность | I12: расход эл.энергии за час | J12: показания счетчика | K12: разность | M12: расход эл.энергии за час | N12: показания счетчика | O12: разность | Q12: расход эл.энергии за час
A13: 1 | B13: 2 | C13: 3 | E13: 4 | F13: 5 | G13: 6 | I13: 7 | J13: 8 | K13: 9 | M13: 10 | N13: 11 | O13: 12 | Q13: 13
A14: 0
A15: 1 | E15: 298 | I15: 1114 | M15: 57 | Q15: 583
A16: 2 | E16: 267 | I16: 1026 | M16: 52 | Q16: 523
A17: 3 | E17: 257 | I17: 1026 | M17: 51 | Q17: 475
A18: 4 | E18: 256 | I18: 1103 | M18: 48 | Q18: 562
A19: 5 | E19: 256 | I19: 1014 | M19: 49 | Q19: 545
A20: 6 | E20: 258 | I20: 1051 | M20: 50 | Q20: 543
A21: 7 | E21: 273 | I21: 980 | M21: 52 | Q21: 517
A22: 8 | E22: 353 | I22: 1046 | M22: 65 | Q22: 500
A23: 9 | E23: 363 | I23: 1085 | M23: 65 | Q23: 512
A24: 10 | E24: 538 | I24: 1143 | M24: 97 | Q24: 517
A25: 11 | E25: 661 | I25: 1260 | M25: 122 | Q25: 595
A26: 12 | E26: 573 | I26: 1158 | M26: 100 | Q26: 528
... A38: 24 | E38: 347 | I38: 1026 | M38: 63 | Q38: 510
A39: Итого | E39: =SUM(E15:E38) -> 9840 | I39: =SUM(I15:I38) -> 26703 | M39: =SUM(M15:M38) -> 1784 | Q39: =SUM(Q15:Q38) -> 13009
A40: 1. При наличии на предприятии отклонений от нормальных режимов электропотребления (временное изменение схем питания, остановка на ремонт, резкое снижение
A41: эл.потребления и т.д.) последние необходимо перечислить.
A42: 2. При наличии нескольких источников питания и большого количества вводов таблица
A43: составляется самим предприятием с соблюдением всех пунктов настоящей таблицы. | K43: Главный инженер ___________________ А.А. Михалин

Sheet 7
B1: АО "Вологдаоблэнерго" | J1: код 900151 | N1: ПС "ЗАПАДНАЯ"
B2: наименование предприятия | N2: наименование источника питания
N3: _________________________________
B4: ул. Горького, 99 | I4: Таблица № 1 | O4: РП 7
B5: адрес
A6: почасовых записей показаний электрических счетчиков
A7: в режимный день18 ДЕКАБРЯ 2019 г..
A8: 371 | B8: 367
A9: часы суток | B9: Активная энергия | J9: Реактивная энергия
B10: яч. 3 "П/Я-1" | F10: яч. 10 "П/Я-2" | J10: яч. 3 "П/Я-1" | N10: яч. 10 "П/Я-2"
B11: Расчет. Коэф. | E11: 12000 | F11: Расчет. Коэф. | I11: 7200 | J11: Расчет. Коэф. | M11: =E11 -> 12000 | N11: Расчет. Коэф. | Q11: =I11 -> 7200
B12: показания счетчика | C12: разность | E12: расход эл.энергии за час | F12: показания счетчика | G12: разность | I12: расход эл.энергии за час | J12: показания счетчика | K12: разность | M12: расход эл.энергии за час | N12: показания счетчика | O12: разность | Q12: расход эл.энергии за час
A13: 1 | B13: 2 | C13: 3 | E13: 4 | F13: 5 | G13: 6 | I13: 7 | J13: 8 | K13: 9 | M13: 10 | N13: 11 | O13: 12 | Q13: 13
A14: 0
A15: 1 | E15: 1116 | I15: 1989 | M15: 361 | Q15: 651
A16: 2 | E16: 1098 | I16: 1906 | M16: 371 | Q16: 635
A17: 3 | E17: 1077 | I17: 1813 | M17: 366 | Q17: 613
A18: 4 | E18: 1093 | I18: 1803 | M18: 365 | Q18: 619
A19: 5 | E19: 1102 | I19: 1822 | M19: 360 | Q19: 616
A20: 6 | E20: 1143 | I20: 1911 | M20: 321 | Q20: 623
A21: 7 | E21: 1122 | I21: 2206 | M21: 304 | Q21: 646
A22: 8 | E22: 1253 | I22: 2393 | M22: 316 | Q22: 659
A23: 9 | E23: 1448 | I23: 2584 | M23: 492 | Q23: 743
A24: 10 | E24: 1532 | I24: 2541 | M24: 488 | Q24: 774
A25: 11 | E25: 1533 | I25: 2494 | M25: 515 | Q25: 737
A26: 12 | E26: 1445 | I26: 2468 | M26: 514 | Q26: 737
... A38: 24 | E38: 1131 | I38: 2155 | M38: 354 | Q38: 646
A39: Итого | E39: =SUM(E15:E38) -> 30810 | I39: =SUM(I15:I38) -> 56835 | M39: =SUM(M15:M38) -> 9447 | Q39: =SUM(Q15:Q38) -> 16540
A40: 1. При наличии на предприятии отклонений от нормальных режимов электропотребления (временное изменение схем питания, остановка на ремонт, резкое снижение
A41: эл.потребления и т.д.) последние необходимо перечислить.
A42: 2. При наличии нескольких источников питания и большого количества вводов таблица
A43: составляется самим предприятием с соблюдением всех пунктов настоящей таблицы. | K43: Главный инженер ___________________ А.А. Михалин

Sheet 8
B1: АО "Вологдаоблэнерго" | J1: код 900151 | N1: ПС "ЗАПАДНАЯ"
B2: наименование предприятия | I2: _ | N2: наименование источника питания
N3: _________________________________
B4: ул. Горького, 99 | I4: Таблица № 1 | O4: РП 35; РП 37
B5: адрес
A6: почасовых записей показаний электрических счетчиков
A7: в режимный день18 ДЕКАБРЯ 2019 г..
A8: 129 | B8: 130
A9: часы суток | B9: Активная энергия | J9: Реактивная энергия
B10: яч. 15 "РП -35" | F10: яч. 35 "РП-37" | J10: яч. 15 "РП -35" | N10: яч. 35 "РП-37"
B11: Расчет. Коэф. | E11: 3600 | F11: Расчет. Коэф. | I11: 4800 | J11: Расчет. Коэф. | M11: =E11 -> 3600 | N11: Расчет. Коэф. | Q11: =I11 -> 4800
B12: показания счетчика | C12: разность | E12: расход эл.энергии за час | F12: показания счетчика | G12: разность | I12: расход эл.энергии за час | J12: показания счетчика | K12: разность | M12: расход эл.энергии за час | N12: показания счетчика | O12: разность | Q12: расход эл.энергии за час
A13: 1 | B13: 2 | C13: 3 | E13: 4 | F13: 5 | G13: 6 | I13: 7 | J13: 8 | K13: 9 | M13: 10 | N13: 11 | O13: 12 | Q13: 13
A14: 0
A15: 1 | E15: 0 | I15: 667 | M15: 0 | Q15: 237
A16: 2 | E16: 0 | I16: 664 | M16: 0 | Q16: 238
A17: 3 | E17: 0 | I17: 705 | M17: 0 | Q17: 259
A18: 4 | E18: 0 | I18: 631 | M18: 0 | Q18: 225
A19: 5 | E19: 0 | I19: 617 | M19: 0 | Q19: 219
A20: 6 | E20: 0 | I20: 690 | M20: 0 | Q20: 196
A21: 7 | E21: 0 | I21: 724 | M21: 0 | Q21: 196
A22: 8 | E22: 0 | I22: 757 | M22: 0 | Q22: 200
A23: 9 | E23: 0 | I23: 830 | M23: 0 | Q23: 241
A24: 10 | E24: 0 | I24: 828 | M24: 0 | Q24: 264
A25: 11 | E25: 0 | I25: 901 | M25: 0 | Q25: 300
A26: 12 | E26: 0 | I26: 816 | M26: 0 | Q26: 256
... A38: 24 | E38: 0 | I38: 702 | M38: 0 | Q38: 231
A39: Итого | E39: =SUM(E15:E38) -> 0 | I39: =SUM(I15:I38) -> 18518 | M39: =SUM(M15:M38) -> 0 | Q39: =SUM(Q15:Q38) -> 5919
A40: 1. При наличии на предприятии отклонений от нормальных режимов электропотребления (временное изменение схем питания, остановка на ремонт, резкое снижение
A41: эл.потребления и т.д.) последние необходимо перечислить.
A42: 2. При наличии нескольких источников питания и большого количества вводов таблица
A43: составляется самим предприятием с соблюдением всех пунктов настоящей таблицы. | K43: Главный инженер ___________________ А.А. Михалин

Sheet 9
B1: АО "Вологдаоблэнерго" | J1: код 900151 | N1: ПС "ЗАПАДНАЯ"
B2: наименование предприятия | N2: наименование источника питания
N3: _________________________________
B4: ул. Горького, 99 | I4: Таблица № 1 | O4: РП 28
B5: адрес
A6: почасовых записей показаний электрических счетчиков
A7: в режимный день18 ДЕКАБРЯ 2019 г..
A8: 366 | B8: 369
A9: часы суток | B9: Активная энергия | J9: Реактивная энергия
B10: яч. 17 "ГОРОД-2" | F10: яч. 22 - "ОЧИСТНЫЕ-2" | J10: ЯЧ. №11 - "ГОРОД-2" | N10: ЯЧ. №18 - "ОЧИСТНЫЕ-2"
B11: Расчет. Коэф. | E11: 7200 | F11: Расчет. Коэф. | I11: 7200 | J11: Расчет. Коэф. | M11: =E11 -> 7200 | N11: Расчет. Коэф. | Q11: =I11 -> 7200
B12: показания счетчика | C12: разность | E12: расход эл.энергии за час | F12: показания счетчика | G12: разность | I12: расход эл.энергии за час | J12: показания счетчика | K12: разность | M12: расход эл.энергии за час | N12: показания счетчика | O12: разность | Q12: расход эл.энергии за час
A13: 1 | B13: 2 | C13: 3 | E13: 4 | F13: 5 | G13: 6 | I13: 7 | J13: 8 | K13: 9 | M13: 10 | N13: 11 | O13: 12 | Q13: 13
A14: 0
A15: 1 | E15: 685 | I15: 1069 | M15: 211 | Q15: 632
A16: 2 | E16: 662 | I16: 1111 | M16: 216 | Q16: 664
A17: 3 | E17: 649 | I17: 1140 | M17: 210 | Q17: 674
A18: 4 | E18: 638 | I18: 1075 | M18: 204 | Q18: 631
A19: 5 | E19: 639 | I19: 1079 | M19: 204 | Q19: 635
A20: 6 | E20: 657 | I20: 1060 | M20: 203 | Q20: 570
A21: 7 | E21: 744 | I21: 1389 | M21: 207 | Q21: 568
A22: 8 | E22: 868 | I22: 1505 | M22: 249 | Q22: 625
A23: 9 | E23: 1071 | I23: 1523 | M23: 379 | Q23: 700
A24: 10 | E24: 1142 | I24: 1429 | M24: 456 | Q24: 726
A25: 11 | E25: 1164 | I25: 1430 | M25: 444 | Q25: 767
A26: 12 | E26: 1132 | I26: 1298 | M26: 451 | Q26: 669
... A38: 24 | E38: 756 | I38: 1117 | M38: 208 | Q38: 626
A39: Итого | E39: =SUM(E15:E38) -> 22168 | I39: =SUM(I15:I38) -> 30992 | M39: =SUM(M15:M38) -> 7478 | Q39: =SUM(Q15:Q38) -> 15363
A40: 1. При наличии на предприятии отклонений от нормальных режимов электропотребления (временное изменение схем питания, остановка на ремонт, резкое снижение
A41: эл.потребления и т.д.) последние необходимо перечислить.
A42: 2. При наличии нескольких источников питания и большого количества вводов таблица
A43: составляется самим предприятием с соблюдением всех пунктов настоящей таблицы. | K43: Главный инженер ___________________ А.А. Михалин

Sheet 10
B1: АО "Вологдаоблэнерго" | J1: код 900151 | N1: ПС "СЕВЕРНАЯ 35/6 кВ
B2: наименование предприятия | N2: наименование источника питания
N3: _________________________________
B4: ул. Горького, 99 | I4: Таблица № 1 | N4: Т1, Т2 | O4: РП 5
B5: адрес
A6: почасовых записей показаний электрических счетчиков
A7: в режимный день18 ДЕКАБРЯ 2019 г..
A8: 325 | B8: 328
A9: часы суток | B9: Активная энергия | J9: Реактивная энергия
B10: Т 1 -РП 5 Ф 3 ввод № 1 | F10: Т 2 - РП 5 Ф 17 ввод № 2 | J10: Т 1 -РП 5 Ф 3 ввод № 1 | N10: Т 2 - РП 5 Ф 17 ввод № 2
B11: Расчет. Коэф. | E11: 18000 | F11: Расчет. Коэф. | I11: 18000 | J11: Расчет. Коэф. | M11: =E11 -> 18000 | N11: Расчет. Коэф. | Q11: =I11 -> 18000
B12: показания счетчика | C12: разность | E12: расход эл.энергии за час | F12: показания счетчика | G12: разность | I12: расход эл.энергии за час | J12: показания счетчика | K12: разность | M12: расход эл.энергии за час | N12: показания счетчика | O12: разность | Q12: расход эл.энергии за час
A13: 1 | B13: 2 | C13: 3 | E13: 4 | F13: 5 | G13: 6 | I13: 7 | J13: 8 | K13: 9 | M13: 10 | N13: 11 | O13: 12 | Q13: 13
A14: 0
A15: 1 | E15: 1314 | I15: 2046.6 | M15: 318.6 | Q15: 570.6
A16: 2 | E16: 1292.4 | I16: 1953 | M16: 340.2 | Q16: 572.4
A17: 3 | E17: 1274.4 | I17: 1895.4 | M17: 325.8 | Q17: 572.4
A18: 4 | E18: 1261.8 | I18: 1881 | M18: 343.8 | Q18: 558
A19: 5 | E19: 1260 | I19: 1879.2 | M19: 329.4 | Q19: 556.2
A20: 6 | E20: 1301.4 | I20: 2023.2 | M20: 324 | Q20: 554.4
A21: 7 | E21: 1441.8 | I21: 2419.2 | M21: 374.4 | Q21: 547.2
A22: 8 | E22: 1611 | I22: 2827.8 | M22: 412.2 | Q22: 658.8
A23: 9 | E23: 1699.2 | I23: 3178.8 | M23: 473.4 | Q23: 829.8
A24: 10 | E24: 1632.6 | I24: 3277.8 | M24: 469.8 | Q24: 846
A25: 11 | E25: 1636.2 | I25: 3270.6 | M25: 415.8 | Q25: 811.8
A26: 12 | E26: 1672.2 | I26: 3231 | M26: 482.4 | Q26: 806.4
... A38: 24 | E38: 1422 | I38: 2296.8 | M38: 342 | Q38: 556.2
A39: Итого | E39: =SUM(E15:E38) -> 37231.2 | I39: =SUM(I15:I38) -> 67131 | M39: =SUM(M15:M38) -> 9221.4 | Q39: =SUM(Q15:Q38) -> 16372.8
A40: 1. При наличии на предприятии отклонений от нормальных режимов электропотребления (временное изменение схем питания, остановка на ремонт, резкое снижение
A41: эл.потребления и т.д.) последние необходимо перечислить.
A42: 2. При наличии нескольких источников питания и большого количества вводов таблица
A43: составляется самим предприятием с соблюдением всех пунктов настоящей таблицы. | K43: Главный инженер ___________________ А.А. Михалин

Sheet 11
B1: АО "Вологдаоблэнерго" | G1: код 900151 | I1: ПС "ВОЛОГДА-ЮЖНАЯ" 110/6 транзит через РТП "ТЕПЛИЧНОГО ХОЗ - ВА"
B2: наименование предприятия | N2: наименование источника питания
N3: _________________________________
B4: ул. Горького, 99 | I4: Таблица № 1 | O4: ТП 438
B5: адрес
A6: почасовых записей показаний электрических счетчиков
A7: в режимный день18 ДЕКАБРЯ 2019 г..
A8: 635 | B8: 634
A9: часы суток | B9: Активная энергия | J9: Реактивная энергия
B10: ЯЧ. 3 - ф. "Микрорайон-1" ввод № 1 | F10: яч. 13 - ф. "Микрорайон-2" ввод № 2 | J10: ЯЧ. 3 - ф. "Микрорайон-1" ввод № 1 | N10: яч. 13 - ф. "Микрорайон-2" ввод № 2
B11: Расчет. Коэф. | E11: 3600 | F11: Расчет. Коэф. | I11: 3600 | J11: Расчет. Коэф. | M11: =E11 -> 3600 | N11: Расчет. Коэф. | Q11: =I11 -> 3600
B12: показания счетчика | C12: разность | E12: расход эл.энергии за час | F12: показания счетчика | G12: разность | I12: расход эл.энергии за час | J12: показания счетчика | K12: разность | M12: расход эл.энергии за час | N12: показания счетчика | O12: разность | Q12: расход эл.энергии за час
A13: 1 | B13: 2 | C13: 3 | E13: 4 | F13: 5 | G13: 6 | I13: 7 | J13: 8 | K13: 9 | M13: 10 | N13: 11 | O13: 12 | Q13: 13
A14: 0
A15: 1 | E15: 118.8 | I15: 126 | M15: 40.32 | Q15: 44.64
A16: 2 | E16: 105.84 | I16: 110.52 | M16: 38.16 | Q16: 43.56
A17: 3 | E17: 104.04 | I17: 105.84 | M17: 37.44 | Q17: 44.64
A18: 4 | E18: 101.88 | I18: 99 | M18: 37.44 | Q18: 43.2
A19: 5 | E19: 100.44 | I19: 99 | M19: 37.08 | Q19: 43.2
A20: 6 | E20: 111.96 | I20: 120.6 | M20: 37.8 | Q20: 45.72
A21: 7 | E21: 158.4 | I21: 169.92 | M21: 40.32 | Q21: 47.16
A22: 8 | E22: 181.8 | I22: 191.88 | M22: 45 | Q22: 50.4
A23: 9 | E23: 200.16 | I23: 245.52 | M23: 54 | Q23: 57.6
A24: 10 | E24: 200.52 | I24: 218.16 | M24: 55.8 | Q24: 51.12
A25: 11 | E25: 205.56 | I25: 223.2 | M25: 55.08 | Q25: 54
A26: 12 | E26: 204.84 | I26: 213.84 | M26: 54.72 | Q26: 53.64
... A38: 24 | E38: 143.64 | I38: 166.68 | M38: 45.36 | Q38: 53.28
A39: Итого | E39: =SUM(E15:E38) -> 4164.48 | I39: =SUM(I15:I38) -> 4752.72 | M39: =SUM(M15:M38) -> 1166.76 | Q39: =SUM(Q15:Q38) -> 1240.56
A40: 1. При наличии на предприятии отклонений от нормальных режимов электропотребления (временное изменение схем питания, остановка на ремонт, резкое снижение
A41: эл.потребления и т.д.) последние необходимо перечислить.
A42: 2. При наличии нескольких источников питания и большого количества вводов таблица
A43: составляется самим предприятием с соблюдением всех пунктов настоящей таблицы. | K43: Главный инженер _____________________________ | Q43: А.А. Михалин

Sheet 12
B1: АО "Вологдаоблэнерго" | J1: код 900151 | N1: ГПП 110/10 кВ "ВОМЗ"
B2: наименование предприятия | N2: наименование источника питания
N3: _________________________________
B4: ул. Горького, 99 | I4: Таблица № 1 | O4: РП 29
B5: адрес
A6: почасовых записей показаний электрических счетчиков
A7: в режимный день18 ДЕКАБРЯ 2019 г..
A8: 613 | B8: 610
A9: часы суток | B9: Активная энергия | J9: Реактивная энергия
B10: ЯЧ.47 - РП 29 ввод № 1 | F10: ЯЧ.31 - РП 29 ввод № 2 | J10: ЯЧ.47 - РП 29 ввод № 1 | N10: ЯЧ.31 - РП 29 ввод № 2
B11: Расчет. Коэф. | E11: 12000 | F11: Расчет. Коэф. | I11: 20000 | J11: Расчет. Коэф. | M11: =E11 -> 12000 | N11: Расчет. Коэф. | Q11: =I11 -> 20000
B12: показания счетчика | C12: разность | E12: расход эл.энергии за час | F12: показания счетчика | G12: разность | I12: расход эл.энергии за час | J12: показания счетчика | K12: разность | M12: расход эл.энергии за час | N12: показания счетчика | O12: разность | Q12: расход эл.энергии за час
A13: 1 | B13: 2 | C13: 3 | E13: 4 | F13: 5 | G13: 6 | I13: 7 | J13: 8 | K13: 9 | M13: 10 | N13: 11 | O13: 12 | Q13: 13
A14: 0
A15: 1 | E15: 1323 | I15: 422 | M15: 397 | Q15: 68
A16: 2 | E16: 1176 | I16: 392 | M16: 388 | Q16: 68
A17: 3 | E17: 1101 | I17: 386 | M17: 377 | Q17: 64
A18: 4 | E18: 1073 | I18: 380 | M18: 366 | Q18: 66
A19: 5 | E19: 1093 | I19: 384 | M19: 369 | Q19: 60
A20: 6 | E20: 1256 | I20: 400 | M20: 365 | Q20: 62
A21: 7 | E21: 1648 | I21: 528 | M21: 376 | Q21: 66
A22: 8 | E22: 2099 | I22: 738 | M22: 458 | Q22: 90
A23: 9 | E23: 2444 | I23: 988 | M23: 551 | Q23: 126
A24: 10 | E24: 2624 | I24: 1084 | M24: 547 | Q24: 138
A25: 11 | E25: 2724 | I25: 1128 | M25: 551 | Q25: 142
A26: 12 | E26: 2684 | I26: 1114 | M26: 549 | Q26: 138
... A38: 24 | E38: 1621 | I38: 510 | M38: 440 | Q38: 92
A39: Итого | E39: =SUM(E15:E38) -> 51337 | I39: =SUM(I15:I38) -> 18332 | M39: =SUM(M15:M38) -> 11508 | Q39: =SUM(Q15:Q38) -> 2536
A40: 1. При наличии на предприятии отклонений от нормальных режимов электропотребления (временное изменение схем питания, остановка на ремонт, резкое снижение
A41: эл.потребления и т.д.) последние необходимо перечислить.
A42: 2. При наличии нескольких источников питания и большого количества вводов таблица
A43: составляется самим предприятием с соблюдением всех пунктов настоящей таблицы. | K43: Главный инженер ___________________ А.А. Михалин

Sheet 13
B1: АО "Вологдаоблэнерго" | J1: код 900151 | N1: ГПП 110/10 кВ "ВОМЗ"
B2: наименование предприятия | N2: наименование источника питания
N3: _________________________________
B4: ул. Горького, 99 | I4: Таблица № 1 | O4: РП 14
B5: адрес
A6: почасовых записей показаний электрических счетчиков
A7: в режимный день18 ДЕКАБРЯ 2019 г..
A8: 614 | B8: 615
A9: часы суток | B9: Активная энергия | J9: Реактивная энергия
B10: ЯЧ.5 - РП 14 ввод № 1 | F10: ЯЧ.22 - РП 14 ввод № 2 | J10: ЯЧ.5 - РП 14 ввод № 1 | N10: ЯЧ.22 - РП 14 ввод № 2
B11: Расчет. Коэф. | E11: 12000 | F11: Расчет. Коэф. | I11: 12000 | J11: Расчет. Коэф. | M11: =E11 -> 12000 | N11: Расчет. Коэф. | Q11: =I11 -> 12000
B12: показания счетчика | C12: разность | E12: расход эл.энергии за час | F12: показания счетчика | G12: разность | I12: расход эл.энергии за час | J12: показания счетчика | K12: разность | M12: расход эл.энергии за час | N12: показания счетчика | O12: разность | Q12: расход эл.энергии за час
A13: 1 | B13: 2 | C13: 3 | E13: 4 | F13: 5 | G13: 6 | I13: 7 | J13: 8 | K13: 9 | M13: 10 | N13: 11 | O13: 12 | Q13: 13
A14: 0
A15: 1 | E15: 2814 | I15: 2570 | M15: 292 | Q15: 318
A16: 2 | E16: 2592 | I16: 2356 | M16: 267 | Q16: 300
A17: 3 | E17: 2459 | I17: 2264 | M17: 267 | Q17: 300
A18: 4 | E18: 2402 | I18: 2241 | M18: 245 | Q18: 289
A19: 5 | E19: 2440 | I19: 2255 | M19: 239 | Q19: 286
A20: 6 | E20: 2555 | I20: 2365 | M20: 240 | Q20: 279
A21: 7 | E21: 3050 | I21: 3084 | M21: 253 | Q21: 319
A22: 8 | E22: 3571 | I22: 3602 | M22: 343 | Q22: 406
A23: 9 | E23: 4031 | I23: 4019 | M23: 436 | Q23: 506
A24: 10 | E24: 4368 | I24: 4348 | M24: 478 | Q24: 554
A25: 11 | E25: 4591 | I25: 4442 | M25: 493 | Q25: 592
A26: 12 | E26: 4476 | I26: 4409 | M26: 459 | Q26: 590
... A38: 24 | E38: 3291 | I38: 3065 | M38: 349 | Q38: 385
A39: Итого | E39: =SUM(E15:E38) -> 93572 | I39: =SUM(I15:I38) -> 89094 | M39: =SUM(M15:M38) -> 9535 | Q39: =SUM(Q15:Q38) -> 11269
A40: 1. При наличии на предприятии отклонений от нормальных режимов электропотребления (временное изменение схем питания, остановка на ремонт, резкое снижение
A41: эл.потребления и т.д.) последние необходимо перечислить.
A42: 2. При наличии нескольких источников питания и большого количества вводов таблица
A43: составляется самим предприятием с соблюдением всех пунктов настоящей таблицы. | K43: Главный инженер ___________________ А.А. Михалин

Sheet 14
B1: АО "Вологдаоблэнерго" | J1: код 900151 | N1: ГПП 110/10 кВ "ВОМЗ"
B2: наименование предприятия | N2: наименование источника питания
N3: _________________________________
B4: ул. Горького, 99 | I4: Таблица № 1 | O4: РП 2
B5: адрес
A6: почасовых записей показаний электрических счетчиков
A7: в режимный день18 ДЕКАБРЯ 2019 г..
A8: 612 | B8: 611
A9: часы суток | B9: Активная энергия | J9: Реактивная энергия
B10: ЯЧ.44 - РП 2 ввод № 1 | F10: ЯЧ.26в - РП 2 ввод № 2 | J10: ЯЧ.44 - РП 2 ввод № 1 | N10: ЯЧ.26в - РП 2 ввод № 2
B11: Расчет. Коэф. | E11: 12000 | F11: Расчет. Коэф. | I11: 12000 | J11: Расчет. Коэф. | M11: =E11 -> 12000 | N11: Расчет. Коэф. | Q11: =I11 -> 12000
B12: показания счетчика | C12: разность | E12: расход эл.энергии за час | F12: показания счетчика | G12: разность | I12: расход эл.энергии за час | J12: показания счетчика | K12: разность | M12: расход эл.энергии за час | N12: показания счетчика | O12: разность | Q12: расход эл.энергии за час
A13: 1 | B13: 2 | C13: 3 | E13: 4 | F13: 5 | G13: 6 | I13: 7 | J13: 8 | K13: 9 | M13: 10 | N13: 11 | O13: 12 | Q13: 13
A14: 0
A15: 1 | E15: 484 | I15: 535 | M15: 29 | Q15: 31
A16: 2 | E16: 444 | I16: 491 | M16: 29 | Q16: 30
A17: 3 | E17: 418 | I17: 482 | M17: 26 | Q17: 44
A18: 4 | E18: 410 | I18: 472 | M18: 25 | Q18: 45
A19: 5 | E19: 419 | I19: 492 | M19: 20 | Q19: 38
A20: 6 | E20: 471 | I20: 517 | M20: 15 | Q20: 18
A21: 7 | E21: 555 | I21: 647 | M21: 15 | Q21: 31
A22: 8 | E22: 669 | I22: 773 | M22: 42 | Q22: 49
A23: 9 | E23: 794 | I23: 897 | M23: 93 | Q23: 90
A24: 10 | E24: 844 | I24: 1006 | M24: 102 | Q24: 90
A25: 11 | E25: 837 | I25: 1067 | M25: 105 | Q25: 106
A26: 12 | E26: 825 | I26: 1042 | M26: 90 | Q26: 104
... A38: 24 | E38: 572 | I38: 614 | M38: 48 | Q38: 59
A39: Итого | E39: =SUM(E15:E38) -> 16860 | I39: =SUM(I15:I38) -> 19627 | M39: =SUM(M15:M38) -> 1606 | Q39: =SUM(Q15:Q38) -> 1695
A40: 1. При наличии на предприятии отклонений от нормальных режимов электропотребления (временное изменение схем питания, остановка на ремонт, резкое снижение
A41: эл.потребления и т.д.) последние необходимо перечислить.
A42: 2. При наличии нескольких источников питания и большого количества вводов таблица
A43: составляется самим предприятием с соблюдением всех пунктов настоящей таблицы. | K43: Главный инженер ___________________ А.А. Михалин

Sheet 15
B1: АО "Вологдаоблэнерго" | J1: код 900151 | N1: ПС ВОЛОГДА-ЮЖНАЯ РУ - 6 кВ
B2: наименование предприятия | N2: наименование источника питания
N3: _________________________________
B4: ул. Горького, 99 | I4: Таблица № 1 | N4: ТП 450 | Q4: ТП 630
B5: адрес
A6: почасовых записей показаний электрических счетчиков
A7: в режимный день 18 ДЕКАБРЯ 2019 г..
A8: 591 | B8: 595
A9: часы суток | B9: Активная энергия | J9: Реактивная энергия
B10: ЯЧ.№ 206 - "ГОРОД-15" | F10: ЯЧ.№103 - "ТУБДИСПАНСЕР" | J10: =B10 -> ЯЧ.№ 206 - "ГОРОД-15" | N10: =F10 -> ЯЧ.№103 - "ТУБДИСПАНСЕР"
B11: Расчет. Коэф. | E11: 4800 | F11: Расчет. Коэф. | I11: 2400 | J11: Расчет. Коэф. | M11: =E11 -> 4800 | N11: Расчет. Коэф. | Q11: =I11 -> 2400
B12: показания счетчика | C12: разность | E12: расход эл.энергии за час | F12: показания счетчика | G12: разность | I12: расход эл.энергии за час | J12: показания счетчика | K12: разность | M12: расход эл.энергии за час | N12: показания счетчика | O12: разность | Q12: расход эл.энергии за час
A13: 1 | B13: 2 | C13: 3 | E13: 4 | F13: 5 | G13: 6 | I13: 7 | J13: 8 | K13: 9 | M13: 10 | N13: 11 | O13: 12 | Q13: 13
A14: 0
A15: 1 | E15: 171 | I15: 335 | M15: 52 | Q15: 70
A16: 2 | E16: 166 | I16: 318 | M16: 46 | Q16: 73
A17: 3 | E17: 124 | I17: 314 | M17: 24 | Q17: 71
A18: 4 | E18: 122 | I18: 301 | M18: 23 | Q18: 68
A19: 5 | E19: 121 | I19: 299 | M19: 22 | Q19: 64
A20: 6 | E20: 165 | I20: 345 | M20: 29 | Q20: 73
A21: 7 | E21: 176 | I21: 374 | M21: 33 | Q21: 67
A22: 8 | E22: 248 | I22: 416 | M22: 76 | Q22: 79
A23: 9 | E23: 365 | I23: 498 | M23: 214 | Q23: 99
A24: 10 | E24: 408 | I24: 488 | M24: 238 | Q24: 109
A25: 11 | E25: 419 | I25: 481 | M25: 218 | Q25: 102
A26: 12 | E26: 426 | I26: 505 | M26: 248 | Q26: 106
... A38: 24 | E38: 179 | I38: 422 | M38: 60 | Q38: 83
A39: Итого | E39: =SUM(E15:E38) -> 6383 | I39: =SUM(I15:I38) -> 10653 | M39: =SUM(M15:M38) -> 2819 | Q39: =SUM(Q15:Q38) -> 2100
A40: 1. При наличии на предприятии отклонений от нормальных режимов электропотребления (временное изменение схем питания, остановка на ремонт, резкое снижение
A41: эл.потребления и т.д.) последние необходимо перечислить.
A42: 2. При наличии нескольких источников питания и большого количества вводов таблица
A43: составляется самим предприятием с соблюдением всех пунктов настоящей таблицы. | K43: Главный инженер ___________________ А.А. Михалин

Sheet 16
B1: АО "Вологдаоблэнерго" | J1: код 900151 | N1: ПС ВОЛОГДА-ЮЖНАЯ РУ-10 кВ
B2: наименование предприятия | I2: _ | N2: наименование источника питания
N3: _________________________________
B4: ул. Горького, 99 | I4: Таблица № 1 | O4: РП 32
B5: адрес
A6: почасовых записей показаний электрических счетчиков
A7: в режимный день18 ДЕКАБРЯ 2019 г..
A8: 590 | B8: 593
A9: часы суток | B9: Активная энергия | J9: Реактивная энергия
B10: ЯЧ.№206 - "ГОРОД-10" | F10: ЯЧ.№404- "ГОРОД-14" | J10: =B10 -> ЯЧ.№206 - "ГОРОД-10" | N10: =F10 -> ЯЧ.№404- "ГОРОД-14"
B11: Расчет. Коэф. | E11: 6000 | F11: Расчет. Коэф. | I11: 3000 | J11: Расчет. Коэф. | M11: =E11 -> 6000 | N11: Расчет. Коэф. | Q11: =I11 -> 3000
B12: показания счетчика | C12: разность | E12: расход эл.энергии за час | F12: показания счетчика | G12: разность | I12: расход эл.энергии за час | J12: показания счетчика | K12: разность | M12: расход эл.энергии за час | N12: показания счетчика | O12: разность | Q12: расход эл.энергии за час
A13: 1 | B13: 2 | C13: 3 | E13: 4 | F13: 5 | G13: 6 | I13: 7 | J13: 8 | K13: 9 | M13: 10 | N13: 11 | O13: 12 | Q13: 13
A14: 0
A15: 1 | E15: 369 | I15: 293 | M15: 81 | Q15: 24
A16: 2 | E16: 365 | I16: 290 | M16: 80 | Q16: 24
A17: 3 | E17: 361 | I17: 288 | M17: 82 | Q17: 24
A18: 4 | E18: 355 | I18: 283 | M18: 79 | Q18: 20
A19: 5 | E19: 354 | I19: 383 | M19: 79 | Q19: 26
A20: 6 | E20: 365 | I20: 401 | M20: 82 | Q20: 26
A21: 7 | E21: 413 | I21: 355 | M21: 82 | Q21: 33
A22: 8 | E22: 630 | I22: 447 | M22: 101 | Q22: 51
A23: 9 | E23: 918 | I23: 641 | M23: 161 | Q23: 132
A24: 10 | E24: 1015 | I24: 696 | M24: 184 | Q24: 152
A25: 11 | E25: 985 | I25: 699 | M25: 179 | Q25: 162
A26: 12 | E26: 951 | I26: 660 | M26: 171 | Q26: 163
... A38: 24 | E38: 395 | I38: 297 | M38: 95 | Q38: 41
A39: Итого | E39: =SUM(E15:E38) -> 14580 | I39: =SUM(I15:I38) -> 10702 | M39: =SUM(M15:M38) -> 2945 | Q39: =SUM(Q15:Q38) -> 2015
A40: 1. При наличии на предприятии отклонений от нормальных режимов электропотребления (временное изменение схем питания, остановка на ремонт, резкое снижение
A41: эл.потребления и т.д.) последние необходимо перечислить.
A42: 2. При наличии нескольких источников питания и большого количества вводов таблица
A43: составляется самим предприятием с соблюдением всех пунктов настоящей таблицы. | K43: Главный инженер ___________________ А.А. Михалин

Sheet 17
B1: АО "Вологдаоблэнерго" | J1: код 900151 | N1: ПС ВОЛОГДА-ЮЖНАЯ РУ- 6 кВ
B2: наименование предприятия | N2: наименование источника питания
N3: _________________________________
B4: ул. Горького, 99 | I4: Таблица № 1 | O4: ТП 461
B5: адрес
A6: почасовых записей показаний электрических счетчиков
A7: в режимный день18 ДЕКАБРЯ 2019 г..
A8: 594
A9: часы суток | B9: Активная энергия | J9: Реактивная энергия
B10: ЯЧ.№203 - "ГОРОД 20" | J10: ЯЧ.№203 - "ГОРОД 20"
B11: Расчет. Коэф. | E11: 7200 | F11: Расчет. Коэф. | I11: 0 | J11: Расчет. Коэф. | M11: =E11 -> 7200 | N11: Расчет. Коэф. | Q11: =I11 -> 0
B12: показания счетчика | C12: разность | E12: расход эл.энергии за час | F12: показания счетчика | G12: разность | I12: расход эл.энергии за час | J12: показания счетчика | K12: разность | M12: расход эл.энергии за час | N12: показания счетчика | O12: разность | Q12: расход эл.энергии за час
A13: 1 | B13: 2 | C13: 3 | E13: 4 | F13: 5 | G13: 6 | I13: 7 | J13: 8 | K13: 9 | M13: 10 | N13: 11 | O13: 12 | Q13: 13
A14: 0
A15: 1 | E15: 140 | M15: 30
A16: 2 | E16: 124 | M16: 31
A17: 3 | E17: 110 | M17: 28
A18: 4 | E18: 107 | M18: 29
A19: 5 | E19: 121 | M19: 30
A20: 6 | E20: 208 | M20: 35
A21: 7 | E21: 235 | M21: 40
A22: 8 | E22: 268 | M22: 52
A23: 9 | E23: 338 | M23: 61
A24: 10 | E24: 355 | M24: 63
A25: 11 | E25: 317 | M25: 65
A26: 12 | E26: 296 | M26: 61
... A38: 24 | E38: 172 | M38: 40
A39: Итого | E39: =SUM(E15:E38) -> 5514 | I39: =SUM(I15:I38) -> 0 | M39: =SUM(M15:M38) -> 1134 | Q39: =SUM(Q15:Q38) -> 0
A40: 1. При наличии на предприятии отклонений от нормальных режимов электропотребления (временное изменение схем питания, остановка на ремонт, резкое снижение
A41: эл.потребления и т.д.) последние необходимо перечислить.
A42: 2. При наличии нескольких источников питания и большого количества вводов таблица
A43: составляется самим предприятием с соблюдением всех пунктов настоящей таблицы. | K43: Главный инженер ___________________ А.А. Михалин

Sheet 18
B1: АО "Вологдаоблэнерго" | J1: код 900151 | N1: ПС ВОЛОГДА-ЮЖНАЯ РУ-10 кВ
B2: наименование предприятия | N2: наименование источника питания
N3: _________________________________
B4: ул. Горького, 99 | I4: Таблица № 1 | O4: РП 26
B5: адрес
A6: почасовых записей показаний электрических счетчиков
A7: в режимный день 16 ДЕКАБРЯ 2015 __ г.
A8: 589 | B8: 592
A9: часы суток | B9: Активная энергия | J9: Реактивная энергия
B10: ЯЧ. № 107- ф."ГОРОД 7" | F10: ЯЧ. № 204 - ф."ГОРОД 17" | J10: ЯЧ. № 107- ф."ГОРОД 7" | N10: ЯЧ. № 204 - ф."ГОРОД 17"
B11: Расчет. Коэф. | E11: 8000 | F11: Расчет. Коэф. | I11: 8000 | J11: Расчет. Коэф. | M11: =E11 -> 8000 | N11: Расчет. Коэф. | Q11: =I11 -> 8000
B12: показания счетчика | C12: разность | E12: расход эл.энергии за час | F12: показания счетчика | G12: разность | I12: расход эл.энергии за час | J12: показания счетчика | K12: разность | M12: расход эл.энергии за час | N12: показания счетчика | O12: разность | Q12: расход эл.энергии за час
A13: 1 | B13: 2 | C13: 3 | E13: 4 | F13: 5 | G13: 6 | I13: 7 | J13: 8 | K13: 9 | M13: 10 | N13: 11 | O13: 12 | Q13: 13
A14: 0
A15: 1 | E15: 835 | I15: 1310 | M15: 95 | Q15: 136
A16: 2 | E16: 731 | I16: 1192 | M16: 91 | Q16: 125
A17: 3 | E17: 691 | I17: 1143 | M17: 89 | Q17: 128
A18: 4 | E18: 678 | I18: 1130 | M18: 86 | Q18: 118
A19: 5 | E19: 676 | I19: 1156 | M19: 81 | Q19: 123
A20: 6 | E20: 736 | I20: 1354 | M20: 90 | Q20: 131
A21: 7 | E21: 998 | I21: 1632 | M21: 117 | Q21: 154
A22: 8 | E22: 1203 | I22: 1953 | M22: 196 | Q22: 248
A23: 9 | E23: 1298 | I23: 2154 | M23: 202 | Q23: 376
A24: 10 | E24: 1292 | I24: 2188 | M24: 190 | Q24: 370
A25: 11 | E25: 1280 | I25: 2135 | M25: 190 | Q25: 353
A26: 12 | E26: 1314 | I26: 2087 | M26: 192 | Q26: 336
... A38: 24 | E38: 1021 | I38: 1581 | M38: 116 | Q38: 166
A39: Итого | E39: =SUM(E15:E38) -> 28468 | I39: =SUM(I15:I38) -> 44937 | M39: =SUM(M15:M38) -> 3921 | Q39: =SUM(Q15:Q38) -> 5879
A40: 1. При наличии на предприятии отклонений от нормальных режимов электропотребления (временное изменение схем питания, остановка на ремонт, резкое снижение
A41: эл.потребления и т.д.) последние необходимо перечислить.
A42: 2. При наличии нескольких источников питания и большого количества вводов таблица
A43: составляется самим предприятием с соблюдением всех пунктов настоящей таблицы. | K43: Главный инженер ___________________ А.А. Михалин

Sheet 19
B1: АО "Вологдаоблэнерго" | J1: код 900151 | N1: ПС ВОЛОГДА-ЮЖНАЯ РУ - 10 кВ
B2: наименование предприятия | N2: наименование источника питания
N3: _________________________________
B4: ул. Горького, 99 | I4: Таблица № 1 | O4: ТП 682
B5: адрес
A6: почасовых записей показаний электрических счетчиков
A7: в режимный день18 ДЕКАБРЯ 2019 г..
A8: 597 | B8: 596
A9: часы суток | B9: Активная энергия | J9: Реактивная энергия
B10: ЯЧ.№ 407 - "ГОРОД-3" | F10: ЯЧ.№ 305 - "ГОРОД-5" | J10: ЯЧ.№ 407- "ГОРОД-3" | N10: ЯЧ.№ 305- "ГОРОД-5"
B11: Расчет. Коэф. | E11: 6000 | F11: Расчет. Коэф. | I11: 4000 | J11: Расчет. Коэф. | M11: =E11 -> 6000 | N11: Расчет. Коэф. | Q11: =I11 -> 4000
B12: показания счетчика | C12: разность | E12: расход эл.энергии за час | F12: показания счетчика | G12: разность | I12: расход эл.энергии за час | J12: показания счетчика | K12: разность | M12: расход эл.энергии за час | N12: показания счетчика | O12: разность | Q12: расход эл.энергии за час
A13: 1 | B13: 2 | C13: 3 | E13: 4 | F13: 5 | G13: 6 | I13: 7 | J13: 8 | K13: 9 | M13: 10 | N13: 11 | O13: 12 | Q13: 13
A14: 0
A15: 1 | E15: 862 | I15: 998 | M15: 59 | Q15: 161
A16: 2 | E16: 819 | I16: 921 | M16: 64 | Q16: 164
A17: 3 | E17: 793 | I17: 909 | M17: 60 | Q17: 162
A18: 4 | E18: 780 | I18: 881 | M18: 60 | Q18: 157
A19: 5 | E19: 795 | I19: 916 | M19: 58 | Q19: 163
A20: 6 | E20: 865 | I20: 1008 | M20: 67 | Q20: 161
A21: 7 | E21: 1011 | I21: 1219 | M21: 76 | Q21: 177
A22: 8 | E22: 1279 | I22: 1326 | M22: 108 | Q22: 218
A23: 9 | E23: 1525 | I23: 1369 | M23: 139 | Q23: 253
A24: 10 | E24: 1742 | I24: 1452 | M24: 170 | Q24: 261
A25: 11 | E25: 1729 | I25: 1508 | M25: 164 | Q25: 268
A26: 12 | E26: 1677 | I26: 1504 | M26: 158 | Q26: 276
... A38: 24 | E38: 1022 | I38: 1139 | M38: 83 | Q38: 182
A39: Итого | E39: =SUM(E15:E38) -> 32923 | I39: =SUM(I15:I38) -> 32530 | M39: =SUM(M15:M38) -> 2950 | Q39: =SUM(Q15:Q38) -> 5435
A40: 1. При наличии на предприятии отклонений от нормальных режимов электропотребления (временное изменение схем питания, остановка на ремонт, резкое снижение
A41: эл.потребления и т.д.) последние необходимо перечислить.
A42: 2. При наличии нескольких источников питания и большого количества вводов таблица
A43: составляется самим предприятием с соблюдением всех пунктов настоящей таблицы. | K43: Главный инженер ___________________ А.А. Михалин

Sheet 20
B1: АО "Вологдаоблэнерго" | J1: код 900151 | N1: ПС ВОЛОГДА-ЮЖНАЯ РУ-10 кВ
B2: наименование предприятия | N2: наименование источника питания
N3: _________________________________
B4: ул. Горького, 99 | I4: Таблица № 1 | O4: РП 27
B5: адрес
A6: почасовых записей показаний электрических счетчиков
A7: в режимный день 16 ДЕКАБРЯ 2015 __ г.
A8: 30 | B8: 49
A9: часы суток | B9: Активная энергия | J9: Реактивная энергия
B10: ЯЧ. № 408 - "ГОРОД -1" | F10: ЯЧ.№ 105 - "РП 27" | J10: ЯЧ. № 408 - "ГОРОД -1" | N10: ЯЧ.№ 105 - "РП 27"
B11: Расчет. Коэф. | E11: 12000 | F11: Расчет. Коэф. | I11: 12000 | J11: Расчет. Коэф. | M11: =E11 -> 12000 | N11: Расчет. Коэф. | Q11: =I11 -> 12000
B12: показания счетчика | C12: разность | E12: расход эл.энергии за час | F12: показания счетчика | G12: разность | I12: расход эл.энергии за час | J12: показания счетчика | K12: разность | M12: расход эл.энергии за час | N12: показания счетчика | O12: разность | Q12: расход эл.энергии за час
A13: 1 | B13: 2 | C13: 3 | E13: 4 | F13: 5 | G13: 6 | I13: 7 | J13: 8 | K13: 9 | M13: 10 | N13: 11 | O13: 12 | Q13: 13
A14: 0
A15: 1 | I15: 1560 | Q15: 290.4
A16: 2 | I16: 1400.4 | Q16: 289.2
A17: 3 | I17: 1334.4 | Q17: 294
A18: 4 | I18: 1304.4 | Q18: 282
A19: 5 | I19: 1318.8 | Q19: 276
A20: 6 | I20: 1485.6 | Q20: 279.6
A21: 7 | I21: 1819.2 | Q21: 309.6
A22: 8 | I22: 2212.8 | Q22: 398.4
A23: 9 | I23: 2414.4 | Q23: 494.4
A24: 10 | I24: 2581.2 | Q24: 507.6
A25: 11 | I25: 2727.6 | Q25: 488.4
A26: 12 | I26: 2691.6 | Q26: 502.8
... A38: 24 | I38: 1864.8 | Q38: 328.8
A39: Итого | E39: =SUM(E15:E38) -> 0 | I39: =SUM(I15:I38) -> 55786.8 | M39: =SUM(M15:M38) -> 0 | Q39: =SUM(Q15:Q38) -> 9939.6
A40: 1. При наличии на предприятии отклонений от нормальных режимов электропотребления (временное изменение схем питания, остановка на ремонт, резкое снижение
A41: эл.потребления и т.д.) последние необходимо перечислить.
A42: 2. При наличии нескольких источников питания и большого количества вводов таблица
A43: составляется самим предприятием с соблюдением всех пунктов настоящей таблицы. | K43: Главный инженер ___________________ А.А. Михалин

Sheet 21
B1: АО "Вологдаоблэнерго" | J1: код 900151 | N1: ПС ВОЛОГДА-ЮЖНАЯ РУ-10 кВ
B2: наименование предприятия | N2: наименование источника питания
N3: яч. 406 ф "РОДИОНЦЕВО", КТП-906
B4: ул. Горького, 99 | I4: Таблица № 1
B5: адрес
A6: почасовых записей показаний электрических счетчиков
A7: в режимный день18 ДЕКАБРЯ 2019 г..
A8: 362 | B8: 985
A9: часы суток | B9: Активная энергия | J9: Реактивная энергия
B10: яч. 406 ф "РОДИОНЦЕВО" - ПКУ | F10: КТП-906 | J10: яч. 406 ф "РОДИОНЦЕВО" - ПКУ | N10: КТП-906
B11: Расчет. Коэф. | E11: 2000 | F11: Расчет. Коэф. | I11: 80 | J11: Расчет. Коэф. | M11: =E11 -> 2000 | N11: Расчет. Коэф. | Q11: =I11 -> 80
B12: показания счетчика | C12: разность | E12: расход эл.энергии за час | F12: показания счетчика | G12: разность | I12: расход эл.энергии за час | J12: показания счетчика | K12: разность | M12: расход эл.энергии за час | N12: показания счетчика | O12: разность | Q12: расход эл.энергии за час
A13: 1 | B13: 2 | C13: 3 | E13: 4 | F13: 5 | G13: 6 | I13: 7 | J13: 8 | K13: 9 | M13: 10 | N13: 11 | O13: 12 | Q13: 13
A14: 0
A15: 1 | E15: 13.6 | I15: 35.84 | M15: 0 | Q15: 3.92
A16: 2 | E16: 13.2 | I16: 35.12 | M16: 0 | Q16: 3.68
A17: 3 | E17: 13.4 | I17: 34.4 | M17: 0 | Q17: 3.52
A18: 4 | E18: 14.6 | I18: 33.04 | M18: 0 | Q18: 3.76
A19: 5 | E19: 15 | I19: 32.44 | M19: 0 | Q19: 3.8
A20: 6 | E20: 14.8 | I20: 35.12 | M20: 0 | Q20: 3.48
A21: 7 | E21: 15 | I21: 37.08 | M21: 0 | Q21: 3.48
A22: 8 | E22: 16 | I22: 41.12 | M22: 0 | Q22: 3.8
A23: 9 | E23: 19.2 | I23: 43.68 | M23: 0 | Q23: 4.08
A24: 10 | E24: 14.2 | I24: 43.96 | M24: 0 | Q24: 3.64
A25: 11 | E25: 15 | I25: 42.8 | M25: 0 | Q25: 3.76
A26: 12 | E26: 15.8 | I26: 42.92 | M26: 0 | Q26: 3.64
... A38: 24 | E38: 14.6 | I38: 36.4 | M38: 0 | Q38: 4.04
A39: Итого | E39: =SUM(E15:E38) -> 378.6 | I39: =SUM(I15:I38) -> 983.2 | M39: =SUM(M15:M38) -> 0.2 | Q39: =SUM(Q15:Q38) -> 97.6
A40: 1. При наличии на предприятии отклонений от нормальных режимов электропотребления (временное изменение схем питания, остановка на ремонт, резкое снижение
A41: эл.потребления и т.д.) последние необходимо перечислить.
A42: 2. При наличии нескольких источников питания и большого количества вводов таблица
A43: составляется самим предприятием с соблюдением всех пунктов настоящей таблицы. | K43: Главный инженер ___________________ А.А. Михалин

Sheet 21_1
B1: АО "Вологдаоблэнерго" | J1: код 900151 | N1: ПС ВОЛОГДА-ЮЖНАЯ РУ-10 кВ
B2: наименование предприятия | N2: наименование источника питания
N3: РП-44
B4: ул. Горького, 99 | I4: Таблица № 1
B5: адрес
A6: почасовых записей показаний электрических счетчиков
A7: в режимный день18 ДЕКАБРЯ 2019 г..
A9: часы суток | B9: Активная энергия | J9: Реактивная энергия
B10: яч. 307 ф "Охмыльцево-1" | F10: яч. 409 ф "Охмыльцево-2" | J10: яч. 307 ф "Охмыльцево-1" | N10: яч. 409 ф "Охмыльцево-2"
B11: Расчет. Коэф. | F11: Расчет. Коэф. | J11: Расчет. Коэф. | N11: Расчет. Коэф.
B12: показания счетчика | C12: разность | E12: расход эл.энергии за час | F12: показания счетчика | G12: разность | I12: расход эл.энергии за час | J12: показания счетчика | K12: разность | M12: расход эл.энергии за час | N12: показания счетчика | O12: разность | Q12: расход эл.энергии за час
A13: 1 | B13: 2 | C13: 3 | E13: 4 | F13: 5 | G13: 6 | I13: 7 | J13: 8 | K13: 9 | M13: 10 | N13: 11 | O13: 12 | Q13: 13
A14: 0
A15: 1 | E15: 477 | I15: 515 | M15: 0 | Q15: 0
A16: 2 | E16: 430 | I16: 473 | M16: 0 | Q16: 0
A17: 3 | E17: 403 | I17: 452 | M17: 0 | Q17: 0
A18: 4 | E18: 389 | I18: 440 | M18: 0 | Q18: 0
A19: 5 | E19: 394 | I19: 442 | M19: 0 | Q19: 0
A20: 6 | E20: 440 | I20: 471 | M20: 0 | Q20: 0
A21: 7 | E21: 579 | I21: 605 | M21: 0 | Q21: 0
A22: 8 | E22: 639 | I22: 687 | M22: 0 | Q22: 0
A23: 9 | E23: 649 | I23: 724 | M23: 0 | Q23: 60
A24: 10 | E24: 696 | I24: 763 | M24: 0 | Q24: 62
A25: 11 | E25: 720 | I25: 747 | M25: 1 | Q25: 50
A26: 12 | E26: 730 | I26: 735 | M26: 0 | Q26: 51
... A38: 24 | E38: 617 | I38: 579 | M38: 0 | Q38: 0
A39: Итого | E39: =SUM(E15:E38) -> 16561 | H39: =SUM(H15:H38) -> 0 | I39: =SUM(I15:I38) -> 16109 | L39: =SUM(L15:L38) -> 0 | M39: =SUM(M15:M38) -> 9 | P39: =SUM(P15:P38) -> 0 | Q39: =SUM(Q15:Q38) -> 423
A40: 1. При наличии на предприятии отклонений от нормальных режимов электропотребления (временное изменение схем питания, остановка на ремонт, резкое снижение
A41: эл.потребления и т.д.) последние необходимо перечислить.
A42: 2. При наличии нескольких источников питания и большого количества вводов таблица
A43: составляется самим предприятием с соблюдением всех пунктов настоящей таблицы. | K43: Главный инженер ___________________ А.А. Михалин

Sheet 22
B1: АО "Вологдаоблэнерго" | J1: код 900151 | M1: ПС ВОЛОГДА - ТЯГОВАЯ 110/27,5/6 кВ
B2: наименование предприятия | N2: наименование источника питания
N3: _________________________________
B4: ул. Горького, 99 | I4: Таблица № 1 | O4: ТП 450
A6: почасовых записей показаний электрических счетчиков
A7: в режимный день18 ДЕКАБРЯ 2019 г..
A8: 636
A9: часы суток | B9: Активная энергия | J9: Реактивная энергия
B10: ЯЧ. 1 - ТП 450 | J10: ЯЧ. 1 - ТП 450
B11: Расчет. Коэф. | E11: 7200 | F11: Расчет. Коэф. | I11: =Q11 -> 0 | J11: Расчет. Коэф. | M11: =E11 -> 7200 | N11: Расчет. Коэф. | Q11: 0
B12: показания счетчика | C12: разность | E12: расход эл.энергии за час | F12: показания счетчика | G12: разность | I12: расход эл.энергии за час | J12: показания счетчика | K12: разность | M12: расход эл.энергии за час | N12: показания счетчика | O12: разность | Q12: расход эл.энергии за час
A13: 1 | B13: 2 | C13: 3 | E13: 4 | F13: 5 | G13: 6 | I13: 7 | J13: 8 | K13: 9 | M13: 10 | N13: 11 | O13: 12 | Q13: 13
A14: 0
A15: 1 | E15: 0 | M15: 0
A16: 2 | E16: 0 | M16: 0
A17: 3 | E17: 0 | M17: 0
A18: 4 | E18: 0 | M18: 0
A19: 5 | E19: 0 | M19: 0
A20: 6 | E20: 0 | M20: 0
A21: 7 | E21: 0 | M21: 0
A22: 8 | E22: 0 | M22: 0
A23: 9 | E23: 0 | M23: 0
A24: 10 | E24: 0 | M24: 0
A25: 11 | E25: 0 | M25: 0
A26: 12 | E26: 0 | M26: 0
... A38: 24 | E38: 0 | M38: 0
A39: Итого | E39: =SUM(E15:E38) -> 0 | I39: =SUM(I15:I38) -> 0 | M39: =SUM(M15:M38) -> 0
A40: 1. При наличии на предприятии отклонений от нормальных режимов электропотребления (временное изменение схем питания, остановка на ремонт, резкое снижение
A41: эл.потребления и т.д.) последние необходимо перечислить.
A42: 2. При наличии нескольких источников питания и большого количества вводов таблица
A43: составляется самим предприятием с соблюдением всех пунктов настоящей таблицы. | K43: Главный инженер ___________________ А.А. Михалин

Sheet 23
B1: АО "Вологдаоблэнерго" | I1: код 900151 | K1: ТГК -2 "ВТЭЦ" РП 6 кВ танзит через ТП 10 СЖД ОАО РЖД
B2: наименование предприятия | N2: наименование источника питания
N3: _________________________________
B4: ул. Горького, 99 | I4: Таблица № 1 | O4: ТП 238; ТП 651
A6: почасовых записей показаний электрических счетчиков
A7: в режимный день18 ДЕКАБРЯ 2019 г..
A8: 640 | B8: 641
A9: часы суток | B9: Активная энергия | J9: Реактивная энергия
B10: ЯЧ.5 - ТП 238 | F10: ЯЧ.7 - ТП 651 | J10: ЯЧ.5 - ТП 238 | N10: ЯЧ.7 - ТП 651
B11: Расчет. Коэф. | E11: 1800 | F11: Расчет. Коэф. | I11: 1800 | J11: Расчет. Коэф. | M11: =E11 -> 1800 | N11: Расчет. Коэф. | Q11: =I11 -> 1800
B12: показания счетчика | C12: разность | E12: расход эл.энергии за час | F12: показания счетчика | G12: разность | I12: расход эл.энергии за час | J12: показания счетчика | K12: разность | M12: расход эл.энергии за час | N12: показания счетчика | O12: разность | Q12: расход эл.энергии за час
A13: 1 | B13: 2 | C13: 3 | E13: 4 | F13: 5 | G13: 6 | I13: 7 | J13: 8 | K13: 9 | M13: 10 | N13: 11 | O13: 12 | Q13: 13
A14: 0
A15: 1 | E15: 183.78 | I15: 271.98 | M15: 68.04 | Q15: 94.14
A16: 2 | E16: 165.24 | I16: 247.32 | M16: 66.42 | Q16: 94.32
A17: 3 | E17: 158.58 | I17: 231.66 | M17: 66.06 | Q17: 91.26
A18: 4 | E18: 179.46 | I18: 224.28 | M18: 66.78 | Q18: 89.82
A19: 5 | E19: 192.06 | I19: 233.28 | M19: 67.68 | Q19: 91.62
A20: 6 | E20: 218.16 | I20: 271.26 | M20: 68.58 | Q20: 91.98
A21: 7 | E21: 255.6 | I21: 330.3 | M21: 73.44 | Q21: 92.7
A22: 8 | E22: 318.96 | I22: 378 | M22: 94.32 | Q22: 104.58
A23: 9 | E23: 338.04 | I23: 409.32 | M23: 121.32 | Q23: 119.88
A24: 10 | E24: 328.68 | I24: 388.8 | M24: 121.68 | Q24: 122.4
A25: 11 | E25: 323.1 | I25: 392.04 | M25: 116.46 | Q25: 116.64
A26: 12 | E26: 317.7 | I26: 373.32 | M26: 116.64 | Q26: 106.74
... A38: 24 | E38: 204.3 | I38: 334.8 | M38: 71.1 | Q38: 97.38
A39: Итого | E39: =SUM(E15:E38) -> 6235.02 | I39: =SUM(I15:I38) -> 9196.2 | M39: =SUM(M15:M38) -> 2123.1 | Q39: =SUM(Q15:Q38) -> 2575.26
A40: 1. При наличии на предприятии отклонений от нормальных режимов электропотребления (временное изменение схем питания, остановка на ремонт, резкое снижение
A41: эл.потребления и т.д.) последние необходимо перечислить.
A42: 2. При наличии нескольких источников питания и большого количества вводов таблица
A43: составляется самим предприятием с соблюдением всех пунктов настоящей таблицы. | K43: Главный инженер ___________________ А.А. Михалин

Sheet 24
B1: АО "Вологдаоблэнерго" | G1: код 900151 | I1: ГПП ВОЛОГДА -ТЯГОВАЯ СЖД 110 /27,5/6 кВ транзит через ТП 34 СЖД ОАО РЖД
B2: наименование предприятия | N2: наименование источника питания
N3: _________________________________
B4: ул. Горького, 99 | I4: Таблица № 1 | O4: ТП 660; ТП 662
A6: почасовых записей показаний электрических счетчиков
A7: в режимный день18 ДЕКАБРЯ 2019 г..
A8: 637 | B8: 639
A9: часы суток | B9: Активная энергия | J9: Реактивная энергия
B10: ЯЧ.2 - ТП 660 | F10: ЯЧ.6 - ТП 662 | J10: ЯЧ.2 - ТП 660 | N10: ЯЧ.6 - ТП 662
B11: Расчет. Коэф. | E11: 2400 | F11: Расчет. Коэф. | I11: 2400 | J11: Расчет. Коэф. | M11: =E11 -> 2400 | N11: Расчет. Коэф. | Q11: =I11 -> 2400
B12: показания счетчика | C12: разность | E12: расход эл.энергии за час | F12: показания счетчика | G12: разность | I12: расход эл.энергии за час | J12: показания счетчика | K12: разность | M12: расход эл.энергии за час | N12: показания счетчика | O12: разность | Q12: расход эл.энергии за час
A13: 1 | B13: 2 | C13: 3 | E13: 4 | F13: 5 | G13: 6 | I13: 7 | J13: 8 | K13: 9 | M13: 10 | N13: 11 | O13: 12 | Q13: 13
A14: 0
A15: 1 | E15: 368.4 | I15: 304.08 | M15: 145.92 | Q15: 62.64
A16: 2 | E16: 334.08 | I16: 273.12 | M16: 142.32 | Q16: 61.44
A17: 3 | E17: 314.16 | I17: 258.24 | M17: 139.68 | Q17: 60.72
A18: 4 | E18: 305.28 | I18: 253.2 | M18: 136.32 | Q18: 59.04
A19: 5 | E19: 297.84 | I19: 252.48 | M19: 135.12 | Q19: 56.4
A20: 6 | E20: 317.52 | I20: 275.28 | M20: 131.76 | Q20: 55.92
A21: 7 | E21: 424.32 | I21: 371.52 | M21: 128.4 | Q21: 63.12
A22: 8 | E22: 455.28 | I22: 444.72 | M22: 129.36 | Q22: 95.52
A23: 9 | E23: 444.96 | I23: 484.56 | M23: 133.92 | Q23: 121.92
A24: 10 | E24: 449.04 | I24: 476.64 | M24: 138.24 | Q24: 113.04
A25: 11 | E25: 448.32 | I25: 458.4 | M25: 137.28 | Q25: 102.96
A26: 12 | E26: 452.88 | I26: 465.36 | M26: 147.12 | Q26: 102
... A38: 24 | E38: 441.6 | I38: 378.72 | M38: 157.92 | Q38: 73.44
A39: Итого | E39: =SUM(E15:E38) -> 11322.48 | I39: =SUM(I15:I38) -> 10622.64 | M39: =SUM(M15:M38) -> 3521.04 | Q39: =SUM(Q15:Q38) -> 2156.4
A40: 1. При наличии на предприятии отклонений от нормальных режимов электропотребления (временное изменение схем питания, остановка на ремонт, резкое снижение
A41: эл.потребления и т.д.) последние необходимо перечислить.
A42: 2. При наличии нескольких источников питания и большого количества вводов таблица
A43: составляется самим предприятием с соблюдением всех пунктов настоящей таблицы. | K43: Главный инженер ___________________ А.А. Михалин

Sheet 25
B1: АО "Вологдаоблэнерго" | J1: код 900151 | N1: ТГК-2 ВТЭЦ РП 6 кВ
B2: наименование предприятия | N2: наименование источника питания
N3: _________________________________
B4: ул. Горького, 99 | I4: Таблица № 1 | O4: РП 3
B5: адрес
A6: почасовых записей показаний электрических счетчиков
A7: в режимный день18 ДЕКАБРЯ 2019 г..
A8: 381 | B8: 384
A9: часы суток | B9: Активная энергия | J9: Реактивная энергия
B10: ЯЧ.10 - РП 3 ввод № 1 | F10: ЯЧ. 115 - РП 3 ввод № 2 | J10: ЯЧ.10 - РП 3 ввод № 1 | N10: ЯЧ. 115 - РП 3 ввод № 2
B11: Расчет. Коэф. | E11: 7200 | F11: Расчет. Коэф. | I11: 3600 | J11: Расчет. Коэф. | M11: =E11 -> 7200 | N11: Расчет. Коэф. | Q11: =I11 -> 3600
B12: показания счетчика | C12: разность | E12: расход эл.энергии за час | F12: показания счетчика | G12: разность | I12: расход эл.энергии за час | J12: показания счетчика | K12: разность | M12: расход эл.энергии за час | N12: показания счетчика | O12: разность | Q12: расход эл.энергии за час
A13: 1 | B13: 2 | C13: 3 | E13: 4 | F13: 5 | G13: 6 | I13: 7 | J13: 8 | K13: 9 | M13: 10 | N13: 11 | O13: 12 | Q13: 13
A14: 0
A15: 1 | E15: 1909 | I15: 315 | M15: 907 | Q15: 75
A16: 2 | E16: 1766 | I16: 296 | M16: 805 | Q16: 69
A17: 3 | E17: 1697 | I17: 289 | M17: 715 | Q17: 70
A18: 4 | E18: 1649 | I18: 287 | M18: 704 | Q18: 69
A19: 5 | E19: 1622 | I19: 289 | M19: 686 | Q19: 70
A20: 6 | E20: 1636 | I20: 309 | M20: 693 | Q20: 76
A21: 7 | E21: 1861 | I21: 337 | M21: 738 | Q21: 78
A22: 8 | E22: 2334 | I22: 425 | M22: 927 | Q22: 91
A23: 9 | E23: 2751 | I23: 547 | M23: 1113 | Q23: 151
A24: 10 | E24: 3039 | I24: 588 | M24: 1342 | Q24: 175
A25: 11 | E25: 3073 | I25: 584 | M25: 1378 | Q25: 167
A26: 12 | E26: 2925 | I26: 592 | M26: 1252 | Q26: 166
... A38: 24 | E38: 2011 | I38: 374 | M38: 923 | Q38: 105
A39: Итого | E39: =SUM(E15:E38) -> 56952 | I39: =SUM(I15:I38) -> 10493 | M39: =SUM(M15:M38) -> 24772 | Q39: =SUM(Q15:Q38) -> 2722
A40: 1. При наличии на предприятии отклонений от нормальных режимов электропотребления (временное изменение схем питания, остановка на ремонт, резкое снижение
A41: эл.потребления и т.д.) последние необходимо перечислить.
A42: 2. При наличии нескольких источников питания и большого количества вводов таблица
A43: составляется самим предприятием с соблюдением всех пунктов настоящей таблицы. | K43: Главный инженер ___________________ А.А. Михалин

Sheet 26
B1: АО "Вологдаоблэнерго" | J1: код 900151 | N1: ТГК-2 ВТЭЦ РП 6 кВ
B2: наименование предприятия | N2: наименование источника питания
N3: _________________________________
B4: ул. Горького, 99 | I4: Таблица № 1 | O4: РП 23
B5: адрес
A6: почасовых записей показаний электрических счетчиков
A7: в режимный день18 ДЕКАБРЯ 2019 г..
A8: 385 | B8: 383
A9: часы суток | B9: Активная энергия | J9: Реактивная энергия
B10: ЯЧ. 114 - РП 23 ввод № 1 | F10: ЯЧ. 107 - РП 23 ввод № 2 | J10: ЯЧ. 114 - РП 23 ввод № 1 | N10: ЯЧ. 107 - РП 23 ввод № 2
B11: Расчет. Коэф. | E11: 3600 | F11: Расчет. Коэф. | I11: 3600 | J11: Расчет. Коэф. | M11: =E11 -> 3600 | N11: Расчет. Коэф. | Q11: =I11 -> 3600
B12: показания счетчика | C12: разность | E12: расход эл.энергии за час | F12: показания счетчика | G12: разность | I12: расход эл.энергии за час | J12: показания счетчика | K12: разность | M12: расход эл.энергии за час | N12: показания счетчика | O12: разность | Q12: расход эл.энергии за час
A13: 1 | B13: 2 | C13: 3 | E13: 4 | F13: 5 | G13: 6 | I13: 7 | J13: 8 | K13: 9 | M13: 10 | N13: 11 | O13: 12 | Q13: 13
A14: 0
A15: 1 | E15: 719 | I15: 103 | M15: 668 | Q15: 30
A16: 2 | E16: 726 | I16: 144 | M16: 666 | Q16: 46
A17: 3 | E17: 711 | I17: 118 | M17: 665 | Q17: 37
A18: 4 | E18: 730 | I18: 111 | M18: 674 | Q18: 37
A19: 5 | E19: 695 | I19: 140 | M19: 631 | Q19: 47
A20: 6 | E20: 743 | I20: 76 | M20: 620 | Q20: 14
A21: 7 | E21: 787 | I21: 82 | M21: 656 | Q21: 18
A22: 8 | E22: 874 | I22: 146 | M22: 694 | Q22: 43
A23: 9 | E23: 1077 | I23: 154 | M23: 837 | Q23: 51
A24: 10 | E24: 1167 | I24: 158 | M24: 947 | Q24: 49
A25: 11 | E25: 1094 | I25: 151 | M25: 899 | Q25: 48
A26: 12 | E26: 1168 | I26: 164 | M26: 914 | Q26: 51
... A38: 24 | E38: 707 | I38: 158 | M38: 644 | Q38: 50
A39: Итого | E39: =SUM(E15:E38) -> 21011 | I39: =SUM(I15:I38) -> 3681 | M39: =SUM(M15:M38) -> 17876 | Q39: =SUM(Q15:Q38) -> 1113
A40: 1. При наличии на предприятии отклонений от нормальных режимов электропотребления (временное изменение схем питания, остановка на ремонт, резкое снижение
A41: эл.потребления и т.д.) последние необходимо перечислить.
A42: 2. При наличии нескольких источников питания и большого количества вводов таблица
A43: составляется самим предприятием с соблюдением всех пунктов настоящей таблицы. | K43: Главный инженер ___________________ А.А. Михалин

Sheet 27
B1: АО "Вологдаоблэнерго" | J1: код 900151 | N1: ТГК-2 ВТЭЦ РП 6 кВ
B2: наименование предприятия | N2: наименование источника питания
N3: _________________________________
B4: ул. Горького, 99 | I4: Таблица № 1 | O4: ТП 217 ^ ТП 595
B5: адрес
A6: почасовых записей показаний электрических счетчиков
A7: в режимный день18 ДЕКАБРЯ 2019 г..
A8: 375
A9: часы суток | B9: Активная энергия | J9: Реактивная энергия
B10: ЯЧ. 3 - ТП 217 ^ ТП 595 | J10: ЯЧ. 3 - ТП 217 ^ ТП 595
B11: Расчет. Коэф. | E11: 3600 | F11: Расчет. Коэф. | I11: 0 | J11: Расчет. Коэф. | M11: =E11 -> 3600 | N11: Расчет. Коэф. | Q11: =I11 -> 0
B12: показания счетчика | C12: разность | E12: расход эл.энергии за час | F12: показания счетчика | G12: разность | I12: расход эл.энергии за час | J12: показания счетчика | K12: разность | M12: расход эл.энергии за час | N12: показания счетчика | O12: разность | Q12: расход эл.энергии за час
A13: 1 | B13: 2 | C13: 3 | E13: 4 | F13: 5 | G13: 6 | I13: 7 | J13: 8 | K13: 9 | M13: 10 | N13: 11 | O13: 12 | Q13: 13
A14: 0
A15: 1 | E15: 286 | M15: 63
A16: 2 | E16: 260 | M16: 60
A17: 3 | E17: 246 | M17: 61
A18: 4 | E18: 233 | M18: 59
A19: 5 | E19: 239 | M19: 58
A20: 6 | E20: 260 | M20: 58
A21: 7 | E21: 335 | M21: 57
A22: 8 | E22: 390 | M22: 65
A23: 9 | E23: 412 | M23: 76
A24: 10 | E24: 396 | M24: 71
A25: 11 | E25: 426 | M25: 72
A26: 12 | E26: 438 | M26: 71
... A38: 24 | E38: 340 | M38: 62
A39: Итого | E39: =SUM(E15:E38) -> 9673 | M39: =SUM(M15:M38) -> 1636
A40: 1. При наличии на предприятии отклонений от нормальных режимов электропотребления (временное изменение схем питания, остановка на ремонт, резкое снижение
A41: эл.потребления и т.д.) последние необходимо перечислить.
A42: 2. При наличии нескольких источников питания и большого количества вводов таблица
A43: составляется самим предприятием с соблюдением всех пунктов настоящей таблицы. | K43: Главный инженер ___________________ А.А. Михалин

Sheet 28
B1: АО "Вологдаоблэнерго" | J1: код 900151 | N1: ТГК-2 ВТЭЦ РП 6 кВ
B2: наименование предприятия | N2: наименование источника питания
N3: _________________________________
B4: ул. Горького, 99 | I4: Таблица № 1 | O4: РП 8
B5: адрес
A6: почасовых записей показаний электрических счетчиков
A7: в режимный день18 ДЕКАБРЯ 2019 г..
A8: 378 | B8: 382
A9: часы суток | B9: Активная энергия | J9: Реактивная энергия
B10: ЯЧ. 5 - РП 8 ввод № 1 | F10: ЯЧ. 12 - РП 8 ввод № 2 | J10: ЯЧ. 5 - РП 8 ввод № 1 | N10: ЯЧ. 12 - РП 8 ввод № 2
B11: Расчет. Коэф. | E11: 3600 | F11: Расчет. Коэф. | I11: 3600 | J11: Расчет. Коэф. | M11: =E11 -> 3600 | N11: Расчет. Коэф. | Q11: =I11 -> 3600
B12: показания счетчика | C12: разность | E12: расход эл.энергии за час | F12: показания счетчика | G12: разность | I12: расход эл.энергии за час | J12: показания счетчика | K12: разность | M12: расход эл.энергии за час | N12: показания счетчика | O12: разность | Q12: расход эл.энергии за час
A13: 1 | B13: 2 | C13: 3 | E13: 4 | F13: 5 | G13: 6 | I13: 7 | J13: 8 | K13: 9 | M13: 10 | N13: 11 | O13: 12 | Q13: 13
A14: 0
A15: 1 | E15: 916 | I15: 943 | M15: 220 | Q15: 276
A16: 2 | E16: 883 | I16: 857 | M16: 246 | Q16: 274
A17: 3 | E17: 925 | I17: 813 | M17: 301 | Q17: 275
A18: 4 | E18: 845 | I18: 802 | M18: 266 | Q18: 272
A19: 5 | E19: 943 | I19: 797 | M19: 318 | Q19: 270
A20: 6 | E20: 920 | I20: 843 | M20: 219 | Q20: 268
A21: 7 | E21: 1255 | I21: 1065 | M21: 315 | Q21: 272
A22: 8 | E22: 1606 | I22: 1461 | M22: 395 | Q22: 313
A23: 9 | E23: 1808 | I23: 1796 | M23: 443 | Q23: 395
A24: 10 | E24: 1808 | I24: 1953 | M24: 433 | Q24: 403
A25: 11 | E25: 1547 | I25: 1999 | M25: 259 | Q25: 415
A26: 12 | E26: 1757 | I26: 1966 | M26: 392 | Q26: 411
... A38: 24 | E38: 1205 | I38: 1169 | M38: 287 | Q38: 289
A39: Итого | E39: =SUM(E15:E38) -> 34013 | I39: =SUM(I15:I38) -> 36141 | M39: =SUM(M15:M38) -> 7188 | Q39: =SUM(Q15:Q38) -> 8238
A40: 1. При наличии на предприятии отклонений от нормальных режимов электропотребления (временное изменение схем питания, остановка на ремонт, резкое снижение
A41: эл.потребления и т.д.) последние необходимо перечислить.
A42: 2. При наличии нескольких источников питания и большого количества вводов таблица
A43: составляется самим предприятием с соблюдением всех пунктов настоящей таблицы. | K43: Главный инженер ___________________ А.А. Михалин

Sheet 29
B1: АО "Вологдаоблэнерго" | J1: код 900151 | N1: ТГК-2 ВТЭЦ РП 6 кВ
B2: наименование предприятия | N2: наименование источника питания
N3: _________________________________
B4: ул. Горького, 99 | I4: Таблица № 1 | O4: РП 20
B5: адрес
A6: почасовых записей показаний электрических счетчиков
A7: в режимный день18 ДЕКАБРЯ 2019 г..
A8: 380 | B8: 379
A9: часы суток | B9: Активная энергия | J9: Реактивная энергия
B10: ЯЧ. 4- РП 20 ввод № 1 | F10: ЯЧ. 7 - РП 20 ввод № 2 | J10: ЯЧ. 4- РП 20 ввод № 1 | N10: ЯЧ. 7 - РП 20 ввод № 2
B11: Расчет. Коэф. | E11: 3600 | F11: Расчет. Коэф. | I11: 3600 | J11: Расчет. Коэф. | M11: =E11 -> 3600 | N11: Расчет. Коэф. | Q11: =I11 -> 3600
B12: показания счетчика | C12: разность | E12: расход эл.энергии за час | F12: показания счетчика | G12: разность | I12: расход эл.энергии за час | J12: показания счетчика | K12: разность | M12: расход эл.энергии за час | N12: показания счетчика | O12: разность | Q12: расход эл.энергии за час
A13: 1 | B13: 2 | C13: 3 | E13: 4 | F13: 5 | G13: 6 | I13: 7 | J13: 8 | K13: 9 | M13: 10 | N13: 11 | O13: 12 | Q13: 13
A14: 0
A15: 1 | E15: 148 | I15: 74 | M15: 27 | Q15: 23
A16: 2 | E16: 134 | I16: 64 | M16: 27 | Q16: 25
A17: 3 | E17: 127 | I17: 62 | M17: 26 | Q17: 24
A18: 4 | E18: 122 | I18: 62 | M18: 25 | Q18: 25
A19: 5 | E19: 140 | I19: 75 | M19: 23 | Q19: 24
A20: 6 | E20: 203 | I20: 143 | M20: 25 | Q20: 29
A21: 7 | E21: 233 | I21: 236 | M21: 28 | Q21: 47
A22: 8 | E22: 279 | I22: 312 | M22: 44 | Q22: 77
A23: 9 | E23: 327 | I23: 352 | M23: 52 | Q23: 94
A24: 10 | E24: 367 | I24: 390 | M24: 52 | Q24: 99
A25: 11 | E25: 375 | I25: 370 | M25: 63 | Q25: 89
A26: 12 | E26: 358 | I26: 370 | M26: 63 | Q26: 92
... A38: 24 | E38: 179 | I38: 54 | M38: 27 | Q38: 21
A39: Итого | E39: =SUM(E15:E38) -> 6339 | I39: =SUM(I15:I38) -> 4870 | M39: =SUM(M15:M38) -> 1033 | Q39: =SUM(Q15:Q38) -> 1297
A40: 1. При наличии на предприятии отклонений от нормальных режимов электропотребления (временное изменение схем питания, остановка на ремонт, резкое снижение
A41: эл.потребления и т.д.) последние необходимо перечислить.
A42: 2. При наличии нескольких источников питания и большого количества вводов таблица
A43: составляется самим предприятием с соблюдением всех пунктов настоящей таблицы. | K43: Главный инженер ___________________ А.А. Михалин

Sheet 30
B1: АО "Вологдаоблэнерго" | J1: код 900151 | N1: ПС "ЦЕНТРАЛЬНАЯ" 110/6 кВ
B2: наименование предприятия | N2: наименование источника питания
N3: _________________________________
B4: ул. Горького, 99 | I4: Таблица № 1 | O4: ТП 54
B5: адрес
A6: почасовых записей показаний электрических счетчиков
A7: в режимный день18 ДЕКАБРЯ 2019 г..
A8: 1520 | B8: 1526
A9: часы суток | B9: Активная энергия | J9: Реактивная энергия
B10: ЯЧ.4 - ТП 54 -Ι ввод № 1 | F10: ЯЧ. 30 - ТП 54 - ΙΙ ввод № 2 | J10: ЯЧ.4 - ТП 54 -Ι ввод № 1 | N10: ЯЧ. 30 - ТП 54 - ΙΙ ввод № 2
B11: Расчет. Коэф. | E11: 2400 | F11: Расчет. Коэф. | I11: 4800 | J11: Расчет. Коэф. | M11: =E11 -> 2400 | N11: Расчет. Коэф. | Q11: =I11 -> 4800
B12: показания счетчика | C12: разность | E12: расход эл.энергии за час | F12: показания счетчика | G12: разность | I12: расход эл.энергии за час | J12: показания счетчика | K12: разность | M12: расход эл.энергии за час | N12: показания счетчика | O12: разность | Q12: расход эл.энергии за час
A13: 1 | B13: 2 | C13: 3 | E13: 4 | F13: 5 | G13: 6 | I13: 7 | J13: 8 | K13: 9 | M13: 10 | N13: 11 | O13: 12 | Q13: 13
A14: 0
A15: 1 | E15: 462 | I15: 553 | M15: 125 | Q15: 230
A16: 2 | E16: 455 | I16: 507 | M16: 123 | Q16: 226
A17: 3 | E17: 450 | I17: 483 | M17: 122 | Q17: 222
A18: 4 | E18: 447 | I18: 474 | M18: 115 | Q18: 221
A19: 5 | E19: 484 | I19: 487 | M19: 115 | Q19: 222
A20: 6 | E20: 551 | I20: 531 | M20: 117 | Q20: 225
A21: 7 | E21: 605 | I21: 634 | M21: 124 | Q21: 221
A22: 8 | E22: 732 | I22: 755 | M22: 131 | Q22: 243
A23: 9 | E23: 1003 | I23: 974 | M23: 159 | Q23: 289
A24: 10 | E24: 1075 | I24: 1073 | M24: 165 | Q24: 275
A25: 11 | E25: 1103 | I25: 1145 | M25: 165 | Q25: 295
A26: 12 | E26: 1101 | I26: 1139 | M26: 162 | Q26: 291
... A38: 24 | E38: 485 | I38: 678 | M38: 141 | Q38: 242
A39: Итого | E39: =SUM(E15:E38) -> 18478 | I39: =SUM(I16:I38) -> 20529 | M39: =SUM(M15:M38) -> 3480 | Q39: =SUM(Q16:Q38) -> 5983
A40: 1. При наличии на предприятии отклонений от нормальных режимов электропотребления (временное изменение схем питания, остановка на ремонт, резкое снижение
A41: эл.потребления и т.д.) последние необходимо перечислить.
A42: 2. При наличии нескольких источников питания и большого количества вводов таблица
A43: составляется самим предприятием с соблюдением всех пунктов настоящей таблицы. | K43: Главный инженер ___________________ А.А. Михалин

Sheet 31
B1: АО "Вологдаоблэнерго" | J1: код 900151 | N1: ПС "ЦЕНТРАЛЬНАЯ" 110/6 кВ
B2: наименование предприятия | N2: наименование источника питания
N3: _________________________________
B4: ул. Горького, 99 | I4: Таблица № 1 | O4: РП 13
B5: адрес
A6: почасовых записей показаний электрических счетчиков
A7: в режимный день18 ДЕКАБРЯ 2019 г..
A8: 1522 | B8: 1523
A9: часы суток | B9: Активная энергия | J9: Реактивная энергия
B10: ЯЧ. 14 - РП 13- Ι | F10: ЯЧ. 22 - РП 13- ΙΙ | J10: ЯЧ. 14 - РП 13- Ι | N10: ЯЧ. 22 - РП 13- ΙΙ
B11: Расчет. Коэф. | E11: 7200 | F11: Расчет. Коэф. | I11: 7200 | J11: Расчет. Коэф. | M11: =E11 -> 7200 | N11: Расчет. Коэф. | Q11: =I11 -> 7200
B12: показания счетчика | C12: разность | E12: расход эл.энергии за час | F12: показания счетчика | G12: разность | I12: расход эл.энергии за час | J12: показания счетчика | K12: разность | M12: расход эл.энергии за час | N12: показания счетчика | O12: разность | Q12: расход эл.энергии за час
A13: 1 | B13: 2 | C13: 3 | E13: 4 | F13: 5 | G13: 6 | I13: 7 | J13: 8 | K13: 9 | M13: 10 | N13: 11 | O13: 12 | Q13: 13
A14: 0
A15: 1 | E15: 1003 | I15: 1445 | M15: 201 | Q15: 292
A16: 2 | E16: 947 | I16: 1320 | M16: 199 | Q16: 258
A17: 3 | E17: 903 | I17: 1346 | M17: 200 | Q17: 281
A18: 4 | E18: 885 | I18: 1251 | M18: 194 | Q18: 246
A19: 5 | E19: 878 | I19: 1358 | M19: 189 | Q19: 276
A20: 6 | E20: 957 | I20: 1367 | M20: 198 | Q20: 241
A21: 7 | E21: 1203 | I21: 1666 | M21: 222 | Q21: 269
A22: 8 | E22: 1582 | I22: 2104 | M22: 262 | Q22: 305
A23: 9 | E23: 2143 | I23: 2820 | M23: 341 | Q23: 384
A24: 10 | E24: 2315 | I24: 3072 | M24: 357 | Q24: 385
A25: 11 | E25: 2363 | I25: 3174 | M25: 335 | Q25: 358
A26: 12 | E26: 2290 | I26: 3191 | M26: 332 | Q26: 375
... A38: 24 | E38: 1121 | I38: 1609 | M38: 235 | Q38: 345
A39: Итого | E39: =SUM(E15:E38) -> 40636 | I39: =SUM(I15:I38) -> 55856 | M39: =SUM(M15:M38) -> 6612 | Q39: =SUM(Q15:Q38) -> 8218
A40: 1. При наличии на предприятии отклонений от нормальных режимов электропотребления (временное изменение схем питания, остановка на ремонт, резкое снижение
A41: эл.потребления и т.д.) последние необходимо перечислить.
A42: 2. При наличии нескольких источников питания и большого количества вводов таблица
A43: составляется самим предприятием с соблюдением всех пунктов настоящей таблицы. | K43: Главный инженер ___________________ А.А. Михалин

Sheet 32
B1: АО "Вологдаоблэнерго" | J1: код 900151 | N1: ПС "ЦЕНТРАЛЬНАЯ" 110/6 кВ
B2: наименование предприятия | N2: наименование источника питания
N3: _________________________________
B4: ул. Горького, 99 | I4: Таблица № 1 | O4: РП 4
B5: адрес
A6: почасовых записей показаний электрических счетчиков
A7: в режимный день18 ДЕКАБРЯ 2019 г..
A8: 1521 | B8: 1524
A9: часы суток | B9: Активная энергия | J9: Реактивная энергия
B10: ЯЧ.12 - РП 4 -Ι | F10: ЯЧ. 24 - РП 4 -ΙΙ | J10: ЯЧ.12 - РП 4 -Ι | N10: ЯЧ. 24 - РП 4 -ΙΙ
B11: Расчет. Коэф. | E11: 4800 | F11: Расчет. Коэф. | I11: 4800 | J11: Расчет. Коэф. | M11: =E11 -> 4800 | N11: Расчет. Коэф. | Q11: =I11 -> 4800
B12: показания счетчика | C12: разность | E12: расход эл.энергии за час | F12: показания счетчика | G12: разность | I12: расход эл.энергии за час | J12: показания счетчика | K12: разность | M12: расход эл.энергии за час | N12: показания счетчика | O12: разность | Q12: расход эл.энергии за час
A13: 1 | B13: 2 | C13: 3 | E13: 4 | F13: 5 | G13: 6 | I13: 7 | J13: 8 | K13: 9 | M13: 10 | N13: 11 | O13: 12 | Q13: 13
A14: 0
A15: 1 | E15: 677 | I15: 516 | M15: 120 | Q15: 78
A16: 2 | E16: 654 | I16: 498 | M16: 124 | Q16: 81
A17: 3 | E17: 625 | I17: 485 | M17: 119 | Q17: 78
A18: 4 | E18: 628 | I18: 472 | M18: 118 | Q18: 78
A19: 5 | E19: 619 | I19: 501 | M19: 113 | Q19: 73
A20: 6 | E20: 691 | I20: 584 | M20: 118 | Q20: 79
A21: 7 | E21: 863 | I21: 679 | M21: 146 | Q21: 86
A22: 8 | E22: 1122 | I22: 840 | M22: 185 | Q22: 109
A23: 9 | E23: 1445 | I23: 1092 | M23: 252 | Q23: 127
A24: 10 | E24: 1601 | I24: 1277 | M24: 272 | Q24: 147
A25: 11 | E25: 1637 | I25: 1359 | M25: 282 | Q25: 151
A26: 12 | E26: 1657 | I26: 1372 | M26: 279 | Q26: 163
... A38: 24 | E38: 756 | I38: 630 | M38: 144 | Q38: 101
A39: Итого | E39: =SUM(E15:E38) -> 27424 | I39: =SUM(I15:I38) -> 23237 | M39: =SUM(M15:M38) -> 4800 | Q39: =SUM(Q15:Q38) -> 3006
A40: 1. При наличии на предприятии отклонений от нормальных режимов электропотребления (временное изменение схем питания, остановка на ремонт, резкое снижение
A41: эл.потребления и т.д.) последние необходимо перечислить.
A42: 2. При наличии нескольких источников питания и большого количества вводов таблица
A43: составляется самим предприятием с соблюдением всех пунктов настоящей таблицы. | K43: Главный инженер ___________________ А.А. Михалин

Sheet 33
B1: АО "Вологдаоблэнерго" | J1: код 900151 | N1: ПС "ЦЕНТРАЛЬНАЯ" 110/6 кВ
B2: наименование предприятия | N2: наименование источника питания
N3: _________________________________
B4: ул. Горького, 99 | I4: Таблица № 1 | O4: РП 8; РП 33
B5: адрес
A6: почасовых записей показаний электрических счетчиков
A7: в режимный день18 ДЕКАБРЯ 2019 г..
A8: 1518 | B8: 1519
A9: часы суток | B9: Активная энергия | J9: Реактивная энергия
B10: ЯЧ. 2 - РП 8 ф.11 | F10: ЯЧ. 3 - РП-33 | J10: ЯЧ. 2 - РП 8 ф.11 | N10: ЯЧ. 3 - РП-33
B11: Расчет. Коэф. | E11: 7200 | F11: Расчет. Коэф. | J11: Расчет. Коэф. | M11: =E11 -> 7200 | N11: Расчет. Коэф.
B12: показания счетчика | C12: разность | E12: расход эл.энергии за час | F12: показания счетчика | G12: разность | I12: расход эл.энергии за час | J12: показания счетчика | K12: разность | M12: расход эл.энергии за час | N12: показания счетчика | O12: разность | Q12: расход эл.энергии за час
A13: 1 | B13: 2 | C13: 3 | E13: 4 | F13: 5 | G13: 6 | I13: 7 | J13: 8 | K13: 9 | M13: 10 | N13: 11 | O13: 12 | Q13: 13
A14: 0
A15: 1 | E15: 0 | I15: 210 | M15: 0 | Q15: 1
A16: 2 | E16: 0 | I16: 195 | M16: 0 | Q16: 0
A17: 3 | E17: 0 | I17: 190 | M17: 0 | Q17: 1
A18: 4 | E18: 0 | I18: 191 | M18: 0 | Q18: 1
A19: 5 | E19: 0 | I19: 193 | M19: 0 | Q19: 0
A20: 6 | E20: 0 | I20: 201 | M20: 0 | Q20: 0
A21: 7 | E21: 0 | I21: 229 | M21: 0 | Q21: 0
A22: 8 | E22: 0 | I22: 315 | M22: 0 | Q22: 0
A23: 9 | E23: 0 | I23: 401 | M23: 0 | Q23: 1
A24: 10 | E24: 0 | I24: 427 | M24: 0 | Q24: 1
A25: 11 | E25: 0 | I25: 438 | M25: 0 | Q25: 2
A26: 12 | E26: 0 | I26: 434 | M26: 0 | Q26: 2
... A38: 24 | E38: 0 | I38: 236 | M38: 0 | Q38: 3
A39: Итого | E39: =SUM(E15:E38) -> 0 | I39: =SUM(I15:I38) -> 7782 | M39: =SUM(M15:M38) -> 0 | Q39: =SUM(Q15:Q38) -> 69
A40: 1. При наличии на предприятии отклонений от нормальных режимов электропотребления (временное изменение схем питания, остановка на ремонт, резкое снижение
A41: эл.потребления и т.д.) последние необходимо перечислить.
A42: 2. При наличии нескольких источников питания и большого количества вводов таблица
A43: составляется самим предприятием с соблюдением всех пунктов настоящей таблицы. | K43: Главный инженер ___________________ А.А. Михалин

Sheet 34
B1: АО "Вологдаоблэнерго" | J1: код 900151 | N1: ПС "ЦЕНТРАЛЬНАЯ" 110/6 кВ
B2: наименование предприятия | N2: наименование источника питания
N3: _________________________________
B4: ул. Горького, 99 | I4: Таблица № 1 | O4: ТП 11
B5: адрес
A6: почасовых записей показаний электрических счетчиков
A7: в режимный день18 ДЕКАБРЯ 2019 г..
A8: 1525
A9: часы суток | B9: Активная энергия | J9: Реактивная энергия
B10: ЯЧ.28 - ТП 11 -ΙΙ | J10: ЯЧ.28 - ТП 11 -ΙΙ
B11: Расчет. Коэф. | E11: 7200 | F11: Расчет. Коэф. | I11: 0 | J11: Расчет. Коэф. | M11: =E11 -> 7200 | N11: Расчет. Коэф. | Q11: =I11 -> 0
B12: показания счетчика | C12: разность | E12: расход эл.энергии за час | F12: показания счетчика | G12: разность | I12: расход эл.энергии за час | J12: показания счетчика | K12: разность | M12: расход эл.энергии за час | N12: показания счетчика | O12: разность | Q12: расход эл.энергии за час
A13: 1 | B13: 2 | C13: 3 | E13: 4 | F13: 5 | G13: 6 | I13: 7 | J13: 8 | K13: 9 | M13: 10 | N13: 11 | O13: 12 | Q13: 13
A14: 0
A15: 1 | E15: 137 | M15: 0
A16: 2 | E16: 138 | M16: 0
A17: 3 | E17: 136 | M17: 0
A18: 4 | E18: 136 | M18: 0
A19: 5 | E19: 137 | M19: 0
A20: 6 | E20: 135 | M20: 0
A21: 7 | E21: 176 | M21: 0
A22: 8 | E22: 258 | M22: 7
A23: 9 | E23: 391 | M23: 36
A24: 10 | E24: 426 | M24: 40
A25: 11 | E25: 444 | M25: 43
A26: 12 | E26: 436 | M26: 43
... A38: 24 | E38: 140 | M38: 0
A39: Итого | E39: =SUM(E15:E38) -> 6504 | I39: =SUM(I15:I38) -> 0 | M39: =SUM(M15:M38) -> 417 | Q39: =SUM(Q15:Q38) -> 0
A40: 1. При наличии на предприятии отклонений от нормальных режимов электропотребления (временное изменение схем питания, остановка на ремонт, резкое снижение
A41: эл.потребления и т.д.) последние необходимо перечислить.
A42: 2. При наличии нескольких источников питания и большого количества вводов таблица
A43: составляется самим предприятием с соблюдением всех пунктов настоящей таблицы. | K43: Главный инженер ___________________ А.А. Михалин

Sheet 34_1
B1: АО "Вологдаоблэнерго" | J1: код 900151 | N1: ПС "ЦЕНТРАЛЬНАЯ" 110/10 кВ
B2: наименование предприятия | N2: наименование источника питания
N3: _________________________________
B4: ул. Горького, 99 | I4: Таблица № 1 | O4: РП-21
B5: адрес
A6: почасовых записей показаний электрических счетчиков
A7: в режимный день18 ДЕКАБРЯ 2019 г..
A8: 911 | B8: 910
A9: часы суток | B9: Активная энергия | J9: Реактивная энергия
B10: ЯЧ.22 - РП 21- Ι | F10: ЯЧ.7 - РП 21- ΙI | J10: ЯЧ.22 - РП 21- Ι | N10: ЯЧ.7 - РП 21- ΙI
B11: Расчет. Коэф. | E11: 7200 | F11: Расчет. Коэф. | I11: 0 | J11: Расчет. Коэф. | M11: =E11 -> 7200 | N11: Расчет. Коэф. | Q11: =I11 -> 0
B12: показания счетчика | C12: разность | E12: расход эл.энергии за час | F12: показания счетчика | G12: разность | I12: расход эл.энергии за час | J12: показания счетчика | K12: разность | M12: расход эл.энергии за час | N12: показания счетчика | O12: разность | Q12: расход эл.энергии за час
A13: 1 | B13: 2 | C13: 3 | E13: 4 | F13: 5 | G13: 6 | I13: 7 | J13: 8 | K13: 9 | M13: 10 | N13: 11 | O13: 12 | Q13: 13
A14: 0
A15: 1 | E15: 418 | I15: 413 | M15: 0 | Q15: 41
A16: 2 | E16: 417 | I16: 402 | M16: 2 | Q16: 51
A17: 3 | E17: 408 | I17: 389 | M17: 2 | Q17: 31
A18: 4 | E18: 400 | I18: 395 | M18: 4 | Q18: 28
A19: 5 | E19: 406 | I19: 396 | M19: 2 | Q19: 24
A20: 6 | E20: 402 | I20: 427 | M20: 0 | Q20: 21
A21: 7 | E21: 496 | I21: 488 | M21: 4 | Q21: 26
A22: 8 | E22: 699 | I22: 652 | M22: 56 | Q22: 77
A23: 9 | E23: 1041 | I23: 955 | M23: 109 | Q23: 171
A24: 10 | E24: 1213 | I24: 1194 | M24: 119 | Q24: 201
A25: 11 | E25: 1315 | I25: 1286 | M25: 136 | Q25: 240
A26: 12 | E26: 1333 | I26: 1296 | M26: 123 | Q26: 249
... A38: 24 | E38: 443 | I38: 451 | M38: 0 | Q38: 69
A39: Итого | E39: =SUM(E15:E38) -> 19962 | I39: =SUM(I15:I38) -> 19817 | M39: =SUM(M15:M38) -> 1538 | Q39: =SUM(Q15:Q38) -> 3183
A40: 1. При наличии на предприятии отклонений от нормальных режимов электропотребления (временное изменение схем питания, остановка на ремонт, резкое снижение
A41: эл.потребления и т.д.) последние необходимо перечислить.
A42: 2. При наличии нескольких источников питания и большого количества вводов таблица
A43: составляется самим предприятием с соблюдением всех пунктов настоящей таблицы. | K43: Главный инженер ___________________ А.А. Михалин

Sheet 35
B1: АО "Вологдаоблэнерго" | J1: код 900151 | N1: ПС "ГОРОДСКАЯ" 35/6 кВ
B2: наименование предприятия | N2: наименование источника питания
N3: _________________________________
B4: ул. Горького, 99 | I4: Таблица № 1 | O4: Т-1, Т-3 (ЗРУ 6 кВ)
B5: адрес
A6: почасовых записей показаний электрических счетчиков
A7: в режимный день18 ДЕКАБРЯ 2019 г..
A8: 300 | B8: 304
A9: часы суток | B9: Активная энергия | J9: Реактивная энергия
B10: Т-1 - ЗРУ Ф.1 ввод № 1 | F10: Т-3 - ЗРУ Ф.20 ввод № 2 . | J10: Т-1 - ЗРУ Ф.1 ввод № 1 | N10: Т-3 - ЗРУ Ф.20 ввод № 2 .
B11: Расчет. Коэф. | E11: 18000 | F11: Расчет. Коэф. | I11: 18000 | J11: Расчет. Коэф. | M11: =E11 -> 18000 | N11: Расчет. Коэф. | Q11: =I11 -> 18000
B12: показания счетчика | C12: разность | E12: расход эл.энергии за час | F12: показания счетчика | G12: разность | I12: расход эл.энергии за час | J12: показания счетчика | K12: разность | M12: расход эл.энергии за час | N12: показания счетчика | O12: разность | Q12: расход эл.энергии за час
A13: 1 | B13: 2 | C13: 3 | E13: 4 | F13: 5 | G13: 6 | I13: 7 | J13: 8 | K13: 9 | M13: 10 | N13: 11 | O13: 12 | Q13: 13
A14: 0
A15: 1 | E15: 3850.2 | I15: 0 | M15: 1337.4 | Q15: 0
A16: 2 | E16: 3639.6 | I16: 0 | M16: 1364.4 | Q16: 0
A17: 3 | E17: 3504.6 | I17: 0 | M17: 1332 | Q17: 0
A18: 4 | E18: 3481.2 | I18: 0 | M18: 1301.4 | Q18: 0
A19: 5 | E19: 3565.8 | I19: 0 | M19: 1292.4 | Q19: 0
A20: 6 | E20: 3747.6 | I20: 0 | M20: 1290.6 | Q20: 0
A21: 7 | E21: 4341.6 | I21: 0 | M21: 1270.8 | Q21: 0
A22: 8 | E22: 5164.2 | I22: 0 | M22: 1346.4 | Q22: 0
A23: 9 | E23: 6224.4 | I23: 0 | M23: 1544.4 | Q23: 0
A24: 10 | E24: 6334.2 | I24: 0 | M24: 1600.2 | Q24: 0
A25: 11 | E25: 6323.4 | I25: 0 | M25: 1596.6 | Q25: 0
A26: 12 | E26: 6192 | I26: 0 | M26: 1620 | Q26: 0
... A38: 24 | E38: 4188.6 | I38: 0 | M38: 1297.8 | Q38: 0
A39: Итого | E39: =SUM(E15:E38) -> 123546.6 | I39: =SUM(I15:I38) -> 0 | M39: =SUM(M15:M38) -> 34221.6 | Q39: =SUM(Q15:Q38) -> 0
A40: 1. При наличии на предприятии отклонений от нормальных режимов электропотребления (временное изменение схем питания, остановка на ремонт, резкое снижение
A41: эл.потребления и т.д.) последние необходимо перечислить.
A42: 2. При наличии нескольких источников питания и большого количества вводов таблица
A43: составляется самим предприятием с соблюдением всех пунктов настоящей таблицы. | K43: Главный инженер ___________________ А.А. Михалин

Sheet 36
B1: АО "Вологдаоблэнерго" | J1: код 900151 | N1: ПС "ГОРОДСКАЯ" 35/6 кВ
B2: наименование предприятия | N2: наименование источника питания
N3: _________________________________
B4: ул. Горького, 99 | I4: Таблица № 1 | O4: Т-2 (РП 9)
B5: адрес
A6: почасовых записей показаний электрических счетчиков
A7: в режимный день18 ДЕКАБРЯ 2019 г..
A8: 297
A9: часы суток | B9: Активная энергия | J9: Реактивная энергия
B10: Т-2 - РП 9 ф. 11 | J10: Т-2 - РП 9 ф. 11
B11: Расчет. Коэф. | E11: 7200 | F11: Расчет. Коэф. | I11: 0 | J11: Расчет. Коэф. | M11: =E11 -> 7200 | N11: Расчет. Коэф. | Q11: 0
B12: показания счетчика | C12: разность | E12: расход эл.энергии за час | F12: показания счетчика | G12: разность | I12: расход эл.энергии за час | J12: показания счетчика | K12: разность | M12: расход эл.энергии за час | N12: показания счетчика | O12: разность | Q12: расход эл.энергии за час
A13: 1 | B13: 2 | C13: 3 | E13: 4 | F13: 5 | G13: 6 | I13: 7 | J13: 8 | K13: 9 | M13: 10 | N13: 11 | O13: 12 | Q13: 13
A14: 0
A15: 1 | E15: 1748.16 | M15: 591.12
A16: 2 | E16: 1607.04 | M16: 587.52
A17: 3 | E17: 1542.24 | M17: 589.68
A18: 4 | E18: 1517.04 | M18: 575.28
A19: 5 | E19: 1523.52 | M19: 571.68
A20: 6 | E20: 1730.16 | M20: 568.8
A21: 7 | E21: 2047.68 | M21: 568.8
A22: 8 | E22: 2333.52 | M22: 626.4
A23: 9 | E23: 2799.36 | M23: 807.12
A24: 10 | E24: 2949.12 | M24: 838.8
A25: 11 | E25: 2974.32 | M25: 816.48
A26: 12 | E26: 2966.4 | M26: 822.96
... A38: 24 | E38: 2000.16 | M38: 595.44
A39: Итого | E39: =SUM(E15:E38) -> 59220 | I39: =SUM(I15:I38) -> 0 | M39: =SUM(M15:M38) -> 16729.92 | Q39: =SUM(Q15:Q38) -> 0
A40: 1. При наличии на предприятии отклонений от нормальных режимов электропотребления (временное изменение схем питания, остановка на ремонт, резкое снижение
A41: эл.потребления и т.д.) последние необходимо перечислить.
A42: 2. При наличии нескольких источников питания и большого количества вводов таблица
A43: составляется самим предприятием с соблюдением всех пунктов настоящей таблицы. | K43: Главный инженер ___________________ А.А. Михалин

Sheet 37
B1: АО "Вологдаоблэнерго" | J1: код 900151 | N1: ПС "ВОСТОЧНАЯ" 110/35/10 кВ
B2: наименование предприятия | N2: наименование источника питания
N3: _________________________________
B4: ул. Горького, 99 | I4: Таблица № 1 | O4: РП 39
B5: адрес
A6: почасовых записей показаний электрических счетчиков
A7: в режимный день18 ДЕКАБРЯ 2019 г..
A8: 1633 | B8: 1634
A9: часы суток | B9: Активная энергия | J9: Реактивная энергия
B10: ЯЧ.№2 - "РП 39-1" | F10: ЯЧ.№ 21 - "РП 39-2" | J10: ЯЧ.№2 - "РП 39-1" | N10: ЯЧ.№ 21 - "РП 39-2"
B11: Расчет. Коэф. | E11: 8000 | F11: Расчет. Коэф. | I11: 6000 | J11: Расчет. Коэф. | M11: =E11 -> 8000 | N11: Расчет. Коэф. | Q11: =I11 -> 6000
B12: показания счетчика | C12: разность | E12: расход эл.энергии за час | F12: показания счетчика | G12: разность | I12: расход эл.энергии за час | J12: показания счетчика | K12: разность | M12: расход эл.энергии за час | N12: показания счетчика | O12: разность | Q12: расход эл.энергии за час
A13: 1 | B13: 2 | C13: 3 | E13: 4 | F13: 5 | G13: 6 | I13: 7 | J13: 8 | K13: 9 | M13: 10 | N13: 11 | O13: 12 | Q13: 13
A14: 0
A15: 1 | E15: 760 | I15: 520 | M15: 53 | Q15: 104
A16: 2 | E16: 699 | I16: 431 | M16: 35 | Q16: 88
A17: 3 | E17: 714 | I17: 403 | M17: 44 | Q17: 87
A18: 4 | E18: 745 | I18: 392 | M18: 39 | Q18: 84
A19: 5 | E19: 721 | I19: 424 | M19: 34 | Q19: 92
A20: 6 | E20: 775 | I20: 474 | M20: 32 | Q20: 76
A21: 7 | E21: 895 | I21: 653 | M21: 27 | Q21: 72
A22: 8 | E22: 904 | I22: 730 | M22: 35 | Q22: 96
A23: 9 | E23: 969 | I23: 718 | M23: 80 | Q23: 109
A24: 10 | E24: 967 | I24: 782 | M24: 73 | Q24: 130
A25: 11 | E25: 977 | I25: 755 | M25: 66 | Q25: 111
A26: 12 | E26: 999 | I26: 740 | M26: 70 | Q26: 108
... A38: 24 | E38: 885 | I38: 771 | M38: 90 | Q38: 135
A39: Итого | E39: =SUM(E15:E38) -> 22128 | I39: =SUM(I15:I38) -> 18184 | M39: =SUM(M15:M38) -> 1525 | Q39: =SUM(Q15:Q38) -> 2531
A40: 1. При наличии на предприятии отклонений от нормальных режимов электропотребления (временное изменение схем питания, остановка на ремонт, резкое снижение
A41: эл.потребления и т.д.) последние необходимо перечислить.
A42: 2. При наличии нескольких источников питания и большого количества вводов таблица
A43: составляется самим предприятием с соблюдением всех пунктов настоящей таблицы. | K43: Главный инженер ___________________ А.А. Михалин

Sheet 38
B1: АО "Вологдаоблэнерго" | J1: код 900151 | N1: ПС "ВОСТОЧНАЯ" 110/35/10 кВ
B2: наименование предприятия | N2: наименование источника питания
N3: _________________________________
B4: ул. Горького, 99 | I4: Таблица № 1 | O4: РП 30
B5: адрес
A6: почасовых записей показаний электрических счетчиков
A7: в режимный день18 ДЕКАБРЯ 2019 г..
A8: 1637 | B8: 1638
A9: часы суток | B9: Активная энергия | J9: Реактивная энергия
B10: ЯЧ.№15 - "РМЗ-1" | F10: ЯЧ.№32 - "РМЗ-2" | J10: ЯЧ.№15 - "РМЗ-1" | N10: ЯЧ.№32 - "РМЗ-2"
B11: Расчет. Коэф. | E11: 8000 | F11: Расчет. Коэф. | I11: 8000 | J11: Расчет. Коэф. | M11: =E11 -> 8000 | N11: Расчет. Коэф. | Q11: =I11 -> 8000
B12: показания счетчика | C12: разность | E12: расход эл.энергии за час | F12: показания счетчика | G12: разность | I12: расход эл.энергии за час | J12: показания счетчика | K12: разность | M12: расход эл.энергии за час | N12: показания счетчика | O12: разность | Q12: расход эл.энергии за час
A13: 1 | B13: 2 | C13: 3 | E13: 4 | F13: 5 | G13: 6 | I13: 7 | J13: 8 | K13: 9 | M13: 10 | N13: 11 | O13: 12 | Q13: 13
A14: 0
A15: 1 | E15: 77 | I15: 1134 | M15: 0 | Q15: 362
A16: 2 | E16: 77 | I16: 1096 | M16: 0 | Q16: 363
A17: 3 | E17: 76 | I17: 1112 | M17: 0 | Q17: 398
A18: 4 | E18: 78 | I18: 1068 | M18: 0 | Q18: 371
A19: 5 | E19: 76 | I19: 1085 | M19: 0 | Q19: 342
A20: 6 | E20: 76 | I20: 1110 | M20: 0 | Q20: 341
A21: 7 | E21: 84 | I21: 1309 | M21: 0 | Q21: 382
A22: 8 | E22: 129 | I22: 1412 | M22: 1 | Q22: 418
A23: 9 | E23: 151 | I23: 1680 | M23: 4 | Q23: 656
A24: 10 | E24: 172 | I24: 1808 | M24: 4 | Q24: 785
A25: 11 | E25: 168 | I25: 1755 | M25: 18 | Q25: 737
A26: 12 | E26: 200 | I26: 1833 | M26: 52 | Q26: 832
... A38: 24 | E38: 78 | I38: 1223 | M38: 0 | Q38: 369
A39: Итого | E39: =SUM(E15:E38) -> 2893 | I39: =SUM(I15:I38) -> 35981 | M39: =SUM(M15:M38) -> 163 | Q39: =SUM(Q15:Q38) -> 12458
A40: 1. При наличии на предприятии отклонений от нормальных режимов электропотребления (временное изменение схем питания, остановка на ремонт, резкое снижение
A41: эл.потребления и т.д.) последние необходимо перечислить.
A42: 2. При наличии нескольких источников питания и большого количества вводов таблица
A43: составляется самим предприятием с соблюдением всех пунктов настоящей таблицы. | K43: Главный инженер ___________________ А.А. Михалин

Sheet 39
B1: АО "Вологдаоблэнерго" | J1: код 900151 | N1: ПС "ВОСТОЧНАЯ" 110/35/10 кВ
B2: наименование предприятия | N2: наименование источника питания
N3: _________________________________
B4: ул. Горького, 99 | I4: Таблица № 1 | O4: РП 31
B5: адрес
A6: почасовых записей показаний электрических счетчиков
A7: в режимный день18 ДЕКАБРЯ 2019 г..
A8: 1635 | B8: 1636
A9: часы суток | B9: Активная энергия | J9: Реактивная энергия
B10: ЯЧ. № 11- "ГОРОД-1" | F10: ЯЧ. № 28- "ГОРОД-2" | J10: ЯЧ. № 11- "ГОРОД-1" | N10: ЯЧ. № 28- "ГОРОД-2"
B11: Расчет. Коэф. | E11: 12000 | F11: Расчет. Коэф. | I11: 12000 | J11: Расчет. Коэф. | M11: =E11 -> 12000 | N11: Расчет. Коэф. | Q11: =I11 -> 12000
B12: показания счетчика | C12: разность | E12: расход эл.энергии за час | F12: показания счетчика | G12: разность | I12: расход эл.энергии за час | J12: показания счетчика | K12: разность | M12: расход эл.энергии за час | N12: показания счетчика | O12: разность | Q12: расход эл.энергии за час
A13: 1 | B13: 2 | C13: 3 | E13: 4 | F13: 5 | G13: 6 | I13: 7 | J13: 8 | K13: 9 | M13: 10 | N13: 11 | O13: 12 | Q13: 13
A14: 0
A15: 1 | E15: 1977 | I15: 2766 | M15: 402 | Q15: 813
A16: 2 | E16: 1827 | I16: 2559 | M16: 406 | Q16: 789
A17: 3 | E17: 1705 | I17: 2484 | M17: 389 | Q17: 784
A18: 4 | E18: 1689 | I18: 2404 | M18: 380 | Q18: 744
A19: 5 | E19: 1775 | I19: 2429 | M19: 387 | Q19: 719
A20: 6 | E20: 1950 | I20: 2677 | M20: 374 | Q20: 744
A21: 7 | E21: 2539 | I21: 3168 | M21: 420 | Q21: 785
A22: 8 | E22: 2984 | I22: 3746 | M22: 508 | Q22: 1023
A23: 9 | E23: 3298 | I23: 4290 | M23: 650 | Q23: 1278
A24: 10 | E24: 3440 | I24: 4345 | M24: 686 | Q24: 1326
A25: 11 | E25: 3546 | I25: 4302 | M25: 729 | Q25: 1336
A26: 12 | E26: 3482 | I26: 4156 | M26: 725 | Q26: 1178
... A38: 24 | E38: 2383 | I38: 3202 | M38: 482 | Q38: 832
A39: Итого | E39: =SUM(E15:E38) -> 71763 | I39: =SUM(I15:I38) -> 89058 | M39: =SUM(M15:M38) -> 13583 | Q39: =SUM(Q15:Q38) -> 23574
A40: 1. При наличии на предприятии отклонений от нормальных режимов электропотребления (временное изменение схем питания, остановка на ремонт, резкое снижение
A41: эл.потребления и т.д.) последние необходимо перечислить.
A42: 2. При наличии нескольких источников питания и большого количества вводов таблица
A43: составляется самим предприятием с соблюдением всех пунктов настоящей таблицы. | K43: Главный инженер ___________________ А.А. Михалин

Sheet 39_1
B1: АО "Вологдаоблэнерго" | J1: код 900151 | N1: ПС "ВОСТОЧНАЯ" 110/35/10 кВ
B2: наименование предприятия | N2: наименование источника питания
N3: _________________________________ | O3: ТП-561-1
B4: ул. Горького, 99 | I4: Таблица № 1
B5: адрес
A6: почасовых записей показаний электрических счетчиков
A7: в режимный день18 ДЕКАБРЯ 2019 г..
A8: 1737
A9: часы суток | B9: Активная энергия | J9: Реактивная энергия
B10: ЯЧ. № 5- "ГОРОД-3" | J10: ЯЧ. № 5- "ГОРОД-3"
B11: Расчет. Коэф. | F11: Расчет. Коэф. | J11: Расчет. Коэф. | N11: Расчет. Коэф.
B12: показания счетчика | C12: разность | E12: расход эл.энергии за час | F12: показания счетчика | G12: разность | I12: расход эл.энергии за час | J12: показания счетчика | K12: разность | M12: расход эл.энергии за час | N12: показания счетчика | O12: разность | Q12: расход эл.энергии за час
A13: 1 | B13: 2 | C13: 3 | E13: 4 | F13: 5 | G13: 6 | I13: 7 | J13: 8 | K13: 9 | M13: 10 | N13: 11 | O13: 12 | Q13: 13
A14: 0
A15: 1 | E15: 280 | M15: 73
A16: 2 | E16: 257 | M16: 77
A17: 3 | E17: 237 | M17: 73
A18: 4 | E18: 234 | M18: 74
A19: 5 | E19: 231 | M19: 71
A20: 6 | E20: 259 | M20: 73
A21: 7 | E21: 365 | M21: 82
A22: 8 | E22: 404 | M22: 104
A23: 9 | E23: 379 | M23: 94
A24: 10 | E24: 371 | M24: 98
A25: 11 | E25: 375 | M25: 96
A26: 12 | E26: 372 | M26: 95
... A38: 24 | E38: 347 | M38: 84
A39: Итого | E39: =SUM(E15:E38) -> 9353 | I39: =SUM(I15:I38) -> 0 | M39: =SUM(M15:M38) -> 2234 | Q39: =SUM(Q15:Q38) -> 0
A40: 1. При наличии на предприятии отклонений от нормальных режимов электропотребления (временное изменение схем питания, остановка на ремонт, резкое снижение
A41: эл.потребления и т.д.) последние необходимо перечислить.
A42: 2. При наличии нескольких источников питания и большого количества вводов таблица
A43: составляется самим предприятием с соблюдением всех пунктов настоящей таблицы. | K43: Главный инженер ___________________ А.А. Михалин

Sheet 40
B1: АО "Вологдаоблэнерго" | J1: код 900151 | N1: ПС "ЛУГОВАЯ"
B2: наименование предприятия | N2: наименование источника питания
N3: _________________________________
B4: ул. Горького, 99 | I4: Таблица № 1 | O4: РП 19
B5: адрес
A6: почасовых записей показаний электрических счетчиков
A7: в режимный день18 ДЕКАБРЯ 2019 г..
A8: 1516 | B8: 1514
A9: часы суток | B9: Активная энергия | J9: Реактивная энергия
B10: ЯЧ. 23 - ф "ГОРОД-2 | F10: ЯЧ. 2 - ф "ГОРОД-3" | J10: ЯЧ. 23 - ф "ГОРОД-2 | N10: ЯЧ. 2 - ф "ГОРОД-3"
B11: Расчет. Коэф. | E11: 12000 | F11: Расчет. Коэф. | I11: 12000 | J11: Расчет. Коэф. | M11: =E11 -> 12000 | N11: Расчет. Коэф. | Q11: =I11 -> 12000
B12: показания счетчика | C12: разность | E12: расход эл.энергии за час | F12: показания счетчика | G12: разность | I12: расход эл.энергии за час | J12: показания счетчика | K12: разность | M12: расход эл.энергии за час | N12: показания счетчика | O12: разность | Q12: расход эл.энергии за час
A13: 1 | B13: 2 | C13: 3 | E13: 4 | F13: 5 | G13: 6 | I13: 7 | J13: 8 | K13: 9 | M13: 10 | N13: 11 | O13: 12 | Q13: 13
A14: 0
A15: 1 | E15: 1309 | I15: 3480 | M15: 243 | Q15: 552
A16: 2 | E16: 1178 | I16: 3181 | M16: 235 | Q16: 526
A17: 3 | E17: 1132 | I17: 3047 | M17: 228 | Q17: 523
A18: 4 | E18: 1100 | I18: 2968 | M18: 220 | Q18: 515
A19: 5 | E19: 1163 | I19: 3012 | M19: 224 | Q19: 498
A20: 6 | E20: 1363 | I20: 3404 | M20: 226 | Q20: 506
A21: 7 | E21: 1631 | I21: 4176 | M21: 241 | Q21: 534
A22: 8 | E22: 1918 | I22: 4636 | M22: 279 | Q22: 641
A23: 9 | E23: 2095 | I23: 5199 | M23: 395 | Q23: 842
A24: 10 | E24: 2123 | I24: 5321 | M24: 412 | Q24: 881
A25: 11 | E25: 2166 | I25: 5231 | M25: 414 | Q25: 874
A26: 12 | E26: 2119 | I26: 5147 | M26: 398 | Q26: 819
... A38: 24 | E38: 1945 | I38: 2240 | M38: 283 | Q38: 252
A39: Итого | E39: =SUM(E15:E38) -> 46201 | I39: =SUM(I15:I38) -> 99985 | M39: =SUM(M15:M38) -> 7937 | Q39: =SUM(Q15:Q38) -> 14609
A40: 1. При наличии на предприятии отклонений от нормальных режимов электропотребления (временное изменение схем питания, остановка на ремонт, резкое снижение
A41: эл.потребления и т.д.) последние необходимо перечислить.
A42: 2. При наличии нескольких источников питания и большого количества вводов таблица
A43: составляется самим предприятием с соблюдением всех пунктов настоящей таблицы. | K43: Главный инженер ___________________ А.А. Михалин

Sheet 41
B1: АО "Вологдаоблэнерго" | J1: код 900151 | N1: ПС "ЛУГОВАЯ"
B2: наименование предприятия | N2: наименование источника питания
N3: _________________________________
B4: ул. Горького, 99 | I4: Таблица № 1 | O4: РП 38
B5: адрес
A6: почасовых записей показаний электрических счетчиков
A7: в режимный день18 ДЕКАБРЯ 2019 г..
A8: 1515 | B8: 1517
A9: часы суток | B9: Активная энергия | J9: Реактивная энергия
B10: ЯЧ.10 - ф "ГОРОД-1" | F10: ЯЧ.25 - ф "ГОРОД-4" | J10: ЯЧ.10 - ф "ГОРОД-1" | N10: ЯЧ.25 - ф "ГОРОД-4"
B11: Расчет. Коэф. | E11: 12000 | F11: Расчет. Коэф. | I11: 12000 | J11: Расчет. Коэф. | M11: =E11 -> 12000 | N11: Расчет. Коэф. | Q11: =I11 -> 12000
B12: показания счетчика | C12: разность | E12: расход эл.энергии за час | F12: показания счетчика | G12: разность | I12: расход эл.энергии за час | J12: показания счетчика | K12: разность | M12: расход эл.энергии за час | N12: показания счетчика | O12: разность | Q12: расход эл.энергии за час
A13: 1 | B13: 2 | C13: 3 | E13: 4 | F13: 5 | G13: 6 | I13: 7 | J13: 8 | K13: 9 | M13: 10 | N13: 11 | O13: 12 | Q13: 13
A14: 0
A15: 1 | E15: 0 | I15: 837 | M15: 0 | Q15: 83
A16: 2 | E16: 0 | I16: 747 | M16: 0 | Q16: 75
A17: 3 | E17: 0 | I17: 737 | M17: 0 | Q17: 75
A18: 4 | E18: 0 | I18: 712 | M18: 0 | Q18: 67
A19: 5 | E19: 0 | I19: 732 | M19: 0 | Q19: 75
A20: 6 | E20: 0 | I20: 781 | M20: 0 | Q20: 80
A21: 7 | E21: 0 | I21: 966 | M21: 0 | Q21: 91
A22: 8 | E22: 0 | I22: 1054 | M22: 0 | Q22: 108
A23: 9 | E23: 0 | I23: 1087 | M23: 0 | Q23: 111
A24: 10 | E24: 0 | I24: 1137 | M24: 0 | Q24: 123
A25: 11 | E25: 0 | I25: 1169 | M25: 0 | Q25: 123
A26: 12 | E26: 0 | I26: 1210 | M26: 0 | Q26: 140
... A38: 24 | E38: 1610 | I38: 979 | M38: 283 | Q38: 103
A39: Итого | E39: =SUM(E15:E38) -> 14108 | I39: =SUM(I15:I38) -> 26398 | M39: =SUM(M15:M38) -> 1758 | Q39: =SUM(Q15:Q38) -> 2719
A40: 1. При наличии на предприятии отклонений от нормальных режимов электропотребления (временное изменение схем питания, остановка на ремонт, резкое снижение
A41: эл.потребления и т.д.) последние необходимо перечислить.
A42: 2. При наличии нескольких источников питания и большого количества вводов таблица
A43: составляется самим предприятием с соблюдением всех пунктов настоящей таблицы. | K43: Главный инженер ___________________ А.А. Михалин

Sheet 41_1
B1: АО "Вологдаоблэнерго" | J1: код 900151 | N1: ПС "ЛУГОВАЯ"
B2: наименование предприятия | N2: наименование источника питания
N3: _________________________________
B4: ул. Горького, 99 | I4: Таблица № 1 | O4: КТП-663
B5: адрес
A6: почасовых записей показаний электрических счетчиков
A7: в режимный день18 ДЕКАБРЯ 2019 г..
A8: 336
A9: часы суток | B9: Активная энергия | J9: Реактивная энергия
B10: ф.Родина - КТП-663 | J10: ф.Родина - КТП-663
B11: Расчет. Коэф. | E11: 40 | F11: Расчет. Коэф. | J11: Расчет. Коэф. | M11: 40 | N11: Расчет. Коэф.
B12: показания счетчика | C12: разность | E12: расход эл.энергии за час | F12: показания счетчика | G12: разность | I12: расход эл.энергии за час | J12: показания счетчика | K12: разность | M12: расход эл.энергии за час | N12: показания счетчика | O12: разность | Q12: расход эл.энергии за час
A13: 1 | B13: 2 | C13: 3 | E13: 4 | F13: 5 | G13: 6 | I13: 7 | J13: 8 | K13: 9 | M13: 10 | N13: 11 | O13: 12 | Q13: 13
A14: 0
A15: 1 | E15: 12.22 | M15: 1.98
A16: 2 | E16: 11.8 | M16: 1.7
A17: 3 | E17: 12.14 | M17: 1.72
A18: 4 | E18: 11.06 | M18: 1.32
A19: 5 | E19: 11.48 | M19: 1.54
A20: 6 | E20: 12.46 | M20: 1.56
A21: 7 | E21: 14.62 | M21: 2.4
A22: 8 | E22: 14.38 | M22: 2.06
A23: 9 | E23: 17.36 | M23: 3.24
A24: 10 | E24: 18.96 | M24: 4.58
A25: 11 | E25: 21.54 | M25: 4.12
A26: 12 | E26: 21.44 | M26: 4.86
... A38: 24 | E38: 13.04 | M38: 2.24
A39: Итого | E39: =SUM(E15:E38) -> 435.42 | M39: =SUM(M15:M38) -> 82.5 | Q39: =SUM(Q15:Q38) -> 0
A40: 1. При наличии на предприятии отклонений от нормальных режимов электропотребления (временное изменение схем питания, остановка на ремонт, резкое снижение
A41: эл.потребления и т.д.) последние необходимо перечислить.
A42: 2. При наличии нескольких источников питания и большого количества вводов таблица
A43: составляется самим предприятием с соблюдением всех пунктов настоящей таблицы. | K43: Главный инженер ___________________ А.А. Михалин

Sheet 42
B1: АО "Вологдаоблэнерго" | J1: код 900151 | N1: РП "ГОРКА"
B2: наименование предприятия | N2: наименование источника питания
N3: _________________________________
B4: ул. Горького, 99 | I4: Таблица № 1 | O4: ВЛ - 10кВ № 37
B5: адрес
A6: почасовых записей показаний электрических счетчиков
A7: в режимный день18 ДЕКАБРЯ 2019 г..
A8: 1528 | B8: 1527
A9: часы суток | B9: Активная энергия | J9: Реактивная энергия
B10: ЯЧ. 4 - ф,"ЛОСТА-1" | F10: ЯЧ. 8 - ф."ЛОСТА-2" | J10: ЯЧ. 4 - ф,"ЛОСТА-1" | N10: ЯЧ. 8 - ф."ЛОСТА-2"
B11: Расчет. Коэф. | E11: 2000 | F11: Расчет. Коэф. | I11: 2000 | J11: Расчет. Коэф. | M11: =E11 -> 2000 | N11: Расчет. Коэф. | Q11: =I11 -> 2000
B12: показания счетчика | C12: разность | E12: расход эл.энергии за час | F12: показания счетчика | G12: разность | I12: расход эл.энергии за час | J12: показания счетчика | K12: разность | M12: расход эл.энергии за час | N12: показания счетчика | O12: разность | Q12: расход эл.энергии за час
A13: 1 | B13: 2 | C13: 3 | E13: 4 | F13: 5 | G13: 6 | I13: 7 | J13: 8 | K13: 9 | M13: 10 | N13: 11 | O13: 12 | Q13: 13
A14: 0
A15: 1 | E15: 52 | I15: 291 | M15: 26 | Q15: 117
A16: 2 | E16: 46 | I16: 265 | M16: 24 | Q16: 118
A17: 3 | E17: 44 | I17: 252 | M17: 24 | Q17: 118
A18: 4 | E18: 45 | I18: 241 | M18: 22 | Q18: 112
A19: 5 | E19: 47 | I19: 235 | M19: 22 | Q19: 109
A20: 6 | E20: 54 | I20: 255 | M20: 22 | Q20: 111
A21: 7 | E21: 63 | I21: 343 | M21: 22 | Q21: 110
A22: 8 | E22: 68 | I22: 426 | M22: 22 | Q22: 115
A23: 9 | E23: 89 | I23: 439 | M23: 40 | Q23: 134
A24: 10 | E24: 97 | I24: 427 | M24: 53 | Q24: 147
A25: 11 | E25: 101 | I25: 432 | M25: 46 | Q25: 146
A26: 12 | E26: 109 | I26: 431 | M26: 56 | Q26: 144
... A38: 24 | E38: 57 | I38: 350 | M38: 26 | Q38: 127
A39: Итого | E39: =SUM(E15:E38) -> 2125 | I39: =SUM(I15:I38) -> 9567 | M39: =SUM(M15:M38) -> 940 | Q39: =SUM(Q15:Q38) -> 3126
A40: 1. При наличии на предприятии отклонений от нормальных режимов электропотребления (временное изменение схем питания, остановка на ремонт, резкое снижение
A41: эл.потребления и т.д.) последние необходимо перечислить.
A42: 2. При наличии нескольких источников питания и большого количества вводов таблица
A43: составляется самим предприятием с соблюдением всех пунктов настоящей таблицы. | K43: Главный инженер ___________________ А.А. Михалин

Sheet 43
B1: АО "Вологдаоблэнерго" | J1: код 900151 | N1: ГПП 2 ЗАО ВПЗ
B2: наименование предприятия | N2: наименование источника питания
N3: _________________________________
B4: ул. Горького, 99 | I4: Таблица № 1 | N4: ПКУ | O4: ВЛ 10 кВ № 8
B5: адрес
A6: почасовых записей показаний электрических счетчиков
A7: в режимный день18 ДЕКАБРЯ 2019 г..
A8: 618
A9: часы суток | B9: Активная энергия | J9: Реактивная энергия
B10: ЯЧ. 53 - ВЛ № 8 | J10: ЯЧ. 53 - ВЛ № 8
B11: Расчет. Коэф. | E11: 3000 | F11: Расчет. Коэф. | I11: 0 | J11: Расчет. Коэф. | M11: =E11 -> 3000 | N11: Расчет. Коэф. | Q11: =I11 -> 0
B12: показания счетчика | C12: разность | E12: расход эл.энергии за час | F12: показания счетчика | G12: разность | I12: расход эл.энергии за час | J12: показания счетчика | K12: разность | M12: расход эл.энергии за час | N12: показания счетчика | O12: разность | Q12: расход эл.энергии за час
A13: 1 | B13: 2 | C13: 3 | E13: 4 | F13: 5 | G13: 6 | I13: 7 | J13: 8 | K13: 9 | M13: 10 | N13: 11 | O13: 12 | Q13: 13
A14: 0
A15: 1 | E15: 345 | M15: 203.2
A16: 2 | E16: 360 | M16: 211.2
A17: 3 | E17: 380.1 | M17: 217.2
A18: 4 | E18: 528.9 | M18: 308.4
A19: 5 | E19: 517.5 | M19: 317.4
A20: 6 | E20: 495.3 | M20: 315.9
A21: 7 | E21: 591.3 | M21: 311.7
A22: 8 | E22: 991.2 | M22: 659.4
A23: 9 | E23: 1238.1 | M23: 861.3
A24: 10 | E24: 1169.7 | M24: 816.9
A25: 11 | E25: 1188.9 | M25: 845.7
A26: 12 | E26: 1071.3 | M26: 702
... A38: 24 | E38: 320.4 | M38: 170.1
A39: Итого | E39: =SUM(E15:E38) -> 19006.5 | I39: =SUM(I15:I38) -> 0 | M39: =SUM(M15:M38) -> 12368.8 | Q39: =SUM(Q15:Q38) -> 0
A40: 1. При наличии на предприятии отклонений от нормальных режимов электропотребления (временное изменение схем питания, остановка на ремонт, резкое снижение
A41: эл.потребления и т.д.) последние необходимо перечислить.
A42: 2. При наличии нескольких источников питания и большого количества вводов таблица
A43: составляется самим предприятием с соблюдением всех пунктов настоящей таблицы. | K43: Главный инженер ___________________ А.А. Михалин

Sheet 44
B1: АО "Вологдаоблэнерго" | J1: код 900151 | N1: ГПП 2 220/10 кВ "ЗАО ВПЗ"
B2: наименование предприятия | N2: наименование источника питания
N3: _________________________________
B4: ул. Горького, 99 | I4: Таблица № 1 | O4: ТП 535; ТП 536
B5: адрес
A6: почасовых записей показаний электрических счетчиков
A7: в режимный день18 ДЕКАБРЯ 2019 г..
A8: 616 | B8: 617
A9: часы суток | B9: Активная энергия | J9: Реактивная энергия
B10: ЯЧ. 6 - ТП 535 | F10: ЯЧ. 24 - ТП 536 | J10: ЯЧ. 6 - ТП 535 | N10: ЯЧ. 24 - ТП 536
B11: Расчет. Коэф. | E11: 6000 | F11: Расчет. Коэф. | I11: 6000 | J11: Расчет. Коэф. | M11: =E11 -> 6000 | N11: Расчет. Коэф. | Q11: =I11 -> 6000
B12: показания счетчика | C12: разность | E12: расход эл.энергии за час | F12: показания счетчика | G12: разность | I12: расход эл.энергии за час | J12: показания счетчика | K12: разность | M12: расход эл.энергии за час | N12: показания счетчика | O12: разность | Q12: расход эл.энергии за час
A13: 1 | B13: 2 | C13: 3 | E13: 4 | F13: 5 | G13: 6 | I13: 7 | J13: 8 | K13: 9 | M13: 10 | N13: 11 | O13: 12 | Q13: 13
A14: 0
A15: 1 | E15: 930.6 | I15: 886 | M15: 212.4 | O15: 142.8
A16: 2 | E16: 862.2 | I16: 801.6 | M16: 206.4 | O16: 132
A17: 3 | E17: 826.8 | I17: 766 | M17: 201.6 | O17: 130.8
A18: 4 | E18: 804 | I18: 756.8 | M18: 195 | O18: 123.6
A19: 5 | E19: 864.6 | I19: 788.4 | M19: 199.2 | O19: 127.6
A20: 6 | E20: 980.4 | I20: 878.8 | M20: 208.8 | O20: 128.8
A21: 7 | E21: 1142.4 | I21: 1074 | M21: 228 | O21: 139.2
A22: 8 | E22: 1310.4 | I22: 1262.4 | M22: 289.2 | O22: 190.4
A23: 9 | E23: 1500.6 | I23: 1505.2 | M23: 368.4 | O23: 328.8
A24: 10 | E24: 1492.2 | I24: 1529.2 | M24: 345.6 | O24: 361.2
A25: 11 | E25: 1472.4 | I25: 1525.6 | M25: 350.4 | O25: 355.6
A26: 12 | E26: 1476 | I26: 1481.6 | M26: 346.2 | O26: 344.4
... A38: 24 | E38: 1057.2 | I38: 1018.4 | M38: 236.4 | O38: 163.2
A39: Итого | E39: =SUM(E15:E38) -> 31794 | I39: =SUM(I15:I38) -> 30039.2 | M39: =SUM(M15:M38) -> 7125 | Q39: =SUM(Q15:Q38) -> 0
A40: 1. При наличии на предприятии отклонений от нормальных режимов электропотребления (временное изменение схем питания, остановка на ремонт, резкое снижение
A41: эл.потребления и т.д.) последние необходимо перечислить.
A42: 2. При наличии нескольких источников питания и большого количества вводов таблица
A43: составляется самим предприятием с соблюдением всех пунктов настоящей таблицы. | K43: Главный инженер ___________________ А.А. Михалин

Sheet 45
B1: АО "Вологдаоблэнерго" | J1: код 900151 | N1: ГПП 1 110/10 кВ "ЗАО ВПЗ"
B2: наименование предприятия | N2: наименование источника питания
N3: _________________________________
B4: ул. Горького, 99 | I4: Таблица № 1 | O4: РП42
B5: адрес
A6: почасовых записей показаний электрических счетчиков
A7: в режимный день18 ДЕКАБРЯ 2019 г..
A8: 606 | B8: 607
A9: часы суток | B9: Активная энергия | J9: Реактивная энергия
B10: ЯЧ. 10 - РП42 ф.1 | F10: ЯЧ. 34 - РП42 ф.6 | J10: ЯЧ. 10 - РП42 ф.1 | N10: ЯЧ. 34 - РП42 ф.6
B11: Расчет. Коэф. | E11: 8000 | F11: Расчет. Коэф. | I11: 8000 | J11: Расчет. Коэф. | M11: =E11 -> 8000 | N11: Расчет. Коэф. | Q11: =I11 -> 8000
B12: показания счетчика | C12: разность | E12: расход эл.энергии за час | F12: показания счетчика | G12: разность | I12: расход эл.энергии за час | J12: показания счетчика | K12: разность | M12: расход эл.энергии за час | N12: показания счетчика | O12: разность | Q12: расход эл.энергии за час
A13: 1 | B13: 2 | C13: 3 | E13: 4 | F13: 5 | G13: 6 | I13: 7 | J13: 8 | K13: 9 | M13: 10 | N13: 11 | O13: 12 | Q13: 13
A14: 0
A15: 1 | E15: 814 | I15: 721 | M15: 108 | Q15: 43
A16: 2 | E16: 734 | I16: 655 | M16: 104 | Q16: 37
A17: 3 | E17: 696 | I17: 614 | M17: 98 | Q17: 36
A18: 4 | E18: 681 | I18: 592 | M18: 95 | Q18: 28
A19: 5 | E19: 709 | I19: 593 | M19: 97 | Q19: 32
A20: 6 | E20: 783 | I20: 617 | M20: 100 | Q20: 32
A21: 7 | E21: 1041 | I21: 789 | M21: 150 | Q21: 32
A22: 8 | E22: 1247 | I22: 963 | M22: 162 | Q22: 84
A23: 9 | E23: 1419 | I23: 1142 | M23: 174 | Q23: 108
A24: 10 | E24: 1507 | I24: 1170 | M24: 168 | Q24: 100
A25: 11 | E25: 1525 | I25: 1219 | M25: 162 | Q25: 98
A26: 12 | E26: 1549 | I26: 1216 | M26: 163 | Q26: 98
... A38: 24 | E38: 961 | I38: 854 | M38: 141 | Q38: 63
A39: Итого | E39: =SUM(E15:E38) -> 30560 | I39: =SUM(I15:I38) -> 25090 | M39: =SUM(M15:M38) -> 3754 | Q39: =SUM(Q15:Q38) -> 1933
A40: 1. При наличии на предприятии отклонений от нормальных режимов электропотребления (временное изменение схем питания, остановка на ремонт, резкое снижение
A41: эл.потребления и т.д.) последние необходимо перечислить.
A42: 2. При наличии нескольких источников питания и большого количества вводов таблица
A43: составляется самим предприятием с соблюдением всех пунктов настоящей таблицы. | K43: Главный инженер ___________________ А.А. Михалин

Sheet 45_1
B1: АО "Вологдаоблэнерго" | J1: код 900151 | N1: ПС "Молочное" 35/10 кВ
B2: наименование предприятия | N2: наименование источника питания
O3: КТП-297
B4: ул. Горького, 99 | I4: Таблица № 1
B5: адрес
A6: почасовых записей показаний электрических счетчиков
A7: в режимный день18 ДЕКАБРЯ 2019 г..
A8: 943
A9: часы суток | B9: Активная энергия | J9: Реактивная энергия
B10: ф. Красная Звезда - КТП-297 | J10: ф. Красная Звезда - КТП-297
B11: Расчет. Коэф. | F11: Расчет. Коэф. | J11: Расчет. Коэф. | N11: Расчет. Коэф.
B12: показания счетчика | C12: разность | E12: расход эл.энергии за час | F12: показания счетчика | G12: разность | I12: расход эл.энергии за час | J12: показания счетчика | K12: разность | M12: расход эл.энергии за час | N12: показания счетчика | O12: разность | Q12: расход эл.энергии за час
A13: 1 | B13: 2 | C13: 3 | E13: 4 | F13: 5 | G13: 6 | I13: 7 | J13: 8 | K13: 9 | M13: 10 | N13: 11 | O13: 12 | Q13: 13
A14: 0
A15: 1 | E15: 65.8 | M15: 2.24
A16: 2 | E16: 77.36 | M16: 2.24
A17: 3 | E17: 75.4 | M17: 2.24
A18: 4 | E18: 72.2 | M18: 2.08
A19: 5 | E19: 66.6 | M19: 1.76
A20: 6 | E20: 72.56 | M20: 2.28
A21: 7 | E21: 75.28 | M21: 2
A22: 8 | E22: 83.68 | M22: 1.88
A23: 9 | E23: 81.84 | M23: 2.16
A24: 10 | E24: 65.64 | M24: 3.16
A25: 11 | E25: 66.6 | M25: 2.84
A26: 12 | E26: 81.12 | M26: 2.84
... A38: 24 | E38: 72.84 | M38: 2.4
A39: Итого | E39: =SUM(E15:E38) -> 1753.36 | M39: =SUM(M15:M38) -> 54.76
A40: 1. При наличии на предприятии отклонений от нормальных режимов электропотребления (временное изменение схем питания, остановка на ремонт, резкое снижение
A41: эл.потребления и т.д.) последние необходимо перечислить.
A42: 2. При наличии нескольких источников питания и большого количества вводов таблица
A43: составляется самим предприятием с соблюдением всех пунктов настоящей таблицы. | K43: Главный инженер ___________________ А.А. Михалин

Sheet свод.табл.г.Вологда
G1: код 900151
B2: Таблица № 3
A4: сводных данных режимного дня18 ДЕКАБРЯ 2019 г..
A6: о потреблении электрической энергии по АО "Вологдаоблэнерго"
A8: г. ВОЛОГДА
A10: часы суток | B10: Активная энергия | E10: Реактивная энергия
B11: Суммарный расход эл.энергии по всем вводам | C11: Суммарный расход эл.энергии всеми сторонними потребителями | D11: Расход эл.энергии предприятием (2-3) | E11: Суммарный расход эл.энергии по всем вводам | F11: Суммарный расход эл.энергии всеми сторонними потребителями | G11: Расход эл.энергии предприятием (5-6)
A12: 1 | B12: 2 | C12: 3 | D12: 4 | E12: 5 | F12: 6 | G12: 7
A13: 1 | B13: =SUM('1а:45_1'!E15,'1а:45_1'!I15) -> 65777.14 | D13: =B13 -> 65777.14 | E13: =SUM('1а:45_1'!M15,'1а:45_1'!Q15) -> 15765.21 | G13: =E13 -> 15765.21
A14: 2 | B14: =SUM('1а:45_1'!E16,'1а:45_1'!I16) -> 61467.2 | D14: =B14 -> 61467.2 | E14: =SUM('1а:45_1'!M16,'1а:45_1'!Q16) -> 15503.81 | G14: =E14 -> 15503.81
A15: 3 | B15: =SUM('1а:45_1'!E17,'1а:45_1'!I17) -> 59462.65 | D15: =B15 -> 59462.65 | E15: =SUM('1а:45_1'!M17,'1а:45_1'!Q17) -> 15308.45 | G15: =E15 -> 15308.45
A16: 4 | B16: =SUM('1а:45_1'!E18,'1а:45_1'!I18) -> 58564.92 | D16: =B16 -> 58564.92 | E16: =SUM('1а:45_1'!M18,'1а:45_1'!Q18) -> 15044.14 | G16: =E16 -> 15044.14
A17: 5 | B17: =SUM('1а:45_1'!E19,'1а:45_1'!I19) -> 59573.26 | D17: =B17 -> 59573.26 | E17: =SUM('1а:45_1'!M19,'1а:45_1'!Q19) -> 14914.34 | G17: =E17 -> 14914.34
A18: 6 | B18: =SUM('1а:45_1'!E20,'1а:45_1'!I20) -> 64189.37 | D18: =B18 -> 64189.37 | E18: =SUM('1а:45_1'!M20,'1а:45_1'!Q20) -> 14683.81 | G18: =E18 -> 14683.81
A19: 7 | B19: =SUM('1а:45_1'!E21,'1а:45_1'!I21) -> 76841.72 | D19: =B19 -> 76841.72 | E19: =SUM('1а:45_1'!M21,'1а:45_1'!Q21) -> 15456.95 | G19: =E19 -> 15456.95
A20: 8 | B20: =SUM('1а:45_1'!E22,'1а:45_1'!I22) -> 90952.81 | D20: =B20 -> 90952.81 | E20: =SUM('1а:45_1'!M22,'1а:45_1'!Q22) -> 18728.79 | G20: =E20 -> 18728.79
A21: 9 | B21: =SUM('1а:45_1'!E23,'1а:45_1'!I23) -> 105329.05 | D21: =B21 -> 105329.05 | E21: =SUM('1а:45_1'!M23,'1а:45_1'!Q23) -> 23790.44 | G21: =E21 -> 23790.44
A22: 10 | B22: =SUM('1а:45_1'!E24,'1а:45_1'!I24) -> 110719.43 | D22: =B22 -> 110719.43 | E22: =SUM('1а:45_1'!M24,'1а:45_1'!Q24) -> 25209.12 | G22: =E22 -> 25209.12
A23: 11 | B23: =SUM('1а:45_1'!E25,'1а:45_1'!I25) -> 112074.62 | D23: =B23 -> 112074.62 | E23: =SUM('1а:45_1'!M25,'1а:45_1'!Q25) -> 25126.94 | G23: =E23 -> 25126.94
A24: 12 | B24: =SUM('1а:45_1'!E26,'1а:45_1'!I26) -> 110783.65 | D24: =B24 -> 110783.65 | E24: =SUM('1а:45_1'!M26,'1а:45_1'!Q26) -> 24842.04 | G24: =E24 -> 24842.04
... A36: 24 | B36: =SUM('1а:45_1'!E38,'1а:45_1'!I38) -> 75254.96 | D36: =B36 -> 75254.96 | E36: =SUM('1а:45_1'!M38,'1а:45_1'!Q38) -> 16775.58 | G36: =E36 -> 16775.58
A37: Итого | B37: =SUM(B13:B36) -> 2225168.5 | D37: =B37 -> 2225168.5 | E37: =SUM(E13:E36) -> 481233.81 | G37: =SUM(G13:G36) -> 481233.81
C41: Главный инженер ___________________ А.А. Михалин
D48: =MAX(D13:D36) -> 114393.77 | G48: =MAX(G13:G37) -> 481233.81

Sheet 46
B1: АО "Вологдаоблэнерго" | J1: код 900151 | N1: РТП "Кубенское"
B2: наименование предприятия | N2: наименование источника питания
B3: уч-к "Кубенское" | N3: _________________________________
B4: ул. Горького, 99 | I4: Таблица № 1 | O4: СПТУ, ПКУ
B5: адрес
A6: почасовых записей показаний электрических счетчиков
A7: в режимный день18 ДЕКАБРЯ 2019 г..
A8: 1640 | B8: 411
A9: часы суток | B9: Активная энергия | J9: Реактивная энергия
B10: ф.8 - СПТУ | F10: ф.9 - ПКУ | J10: ф.8 - СПТУ | N10: ф.9 - ПКУ
B11: Расчет. Коэф. | E11: 3000 | F11: Расчет. Коэф. | I11: 1500 | J11: Расчет. Коэф. | M11: 3000 | N11: Расчет. Коэф. | Q11: 1500
B12: показания счетчика | C12: разность | E12: расход эл.энергии за час | F12: показания счетчика | G12: разность | I12: расход эл.энергии за час | J12: показания счетчика | K12: разность | M12: расход эл.энергии за час | N12: показания счетчика | O12: разность | Q12: расход эл.энергии за час
A13: 1 | B13: 2 | C13: 3 | E13: 4 | F13: 5 | G13: 6 | I13: 7 | J13: 8 | K13: 9 | M13: 10 | N13: 11 | O13: 12 | Q13: 13
A14: 0
A15: 1 | E15: 218 | I15: 233.1 | M15: 106 | Q15: 131.4
A16: 2 | E16: 207 | I16: 203.4 | M16: 106 | Q16: 112.8
A17: 3 | E17: 202 | I17: 197.55 | M17: 106 | Q17: 104.85
A18: 4 | E18: 200 | I18: 195.15 | M18: 103 | Q18: 101.55
A19: 5 | E19: 198 | I19: 197.7 | M19: 101 | Q19: 99.15
A20: 6 | E20: 243 | I20: 209.7 | M20: 103 | Q20: 101.7
A21: 7 | E21: 321 | I21: 261 | M21: 108 | Q21: 112.35
A22: 8 | E22: 387 | I22: 286.95 | M22: 109 | Q22: 114.3
A23: 9 | E23: 404 | I23: 293.1 | M23: 115 | Q23: 126.15
A24: 10 | E24: 392 | I24: 341.85 | M24: 113 | Q24: 175.65
A25: 11 | E25: 391 | I25: 332.1 | M25: 115 | Q25: 172.05
A26: 12 | E26: 388 | I26: 344.85 | M26: 114 | Q26: 173.85
... A38: 24 | E38: 235 | I38: 257.4 | M38: 110 | Q38: 127.35
A39: Итого | E39: =SUM(E15:E38) -> 7512 | I39: =SUM(I15:I38) -> 7113.75 | M39: =SUM(M15:M38) -> 2664 | Q39: =SUM(Q15:Q38) -> 3304.05
A40: 1. При наличии на предприятии отклонений от нормальных режимов электропотребления (временное изменение схем питания, остановка на ремонт, резкое снижение
A41: эл.потребления и т.д.) последние необходимо перечислить.
A42: 2. При наличии нескольких источников питания и большого количества вводов таблица
A43: составляется самим предприятием с соблюдением всех пунктов настоящей таблицы. | K43: Главный инженер ___________________ А.А. Михалин

Sheet 47
B1: АО "Вологдаоблэнерго" | J1: код 900151 | N1: ПС "Молочное" 35/10 кВ
B2: наименование предприятия | N2: наименование источника питания
B3: уч-к п. Молочное | N3: _________________________________
B4: ул. Горького, 99 | I4: Таблица № 1
B5: адрес
A6: почасовых записей показаний электрических счетчиков
A7: в режимный день18 ДЕКАБРЯ 2019 г..
A8: 1450 | B8: 1449
A9: часы суток | B9: Активная энергия | J9: Реактивная энергия
B10: яч.17 - ф.Молочное-1 | F10: яч.12 - ф.Молочное-2 | J10: яч.17 - ф.Молочное-1 | N10: яч.12 - ф.Молочное-2
B11: Расчет. Коэф. | E11: 3000 | F11: Расчет. Коэф. | I11: 3000 | J11: Расчет. Коэф. | M11: 3000 | N11: Расчет. Коэф. | Q11: 3000
B12: показания счетчика | C12: разность | E12: расход эл.энергии за час | F12: показания счетчика | G12: разность | I12: расход эл.энергии за час | J12: показания счетчика | K12: разность | M12: расход эл.энергии за час | N12: показания счетчика | O12: разность | Q12: расход эл.энергии за час
A13: 1 | B13: 2 | C13: 3 | E13: 4 | F13: 5 | G13: 6 | I13: 7 | J13: 8 | K13: 9 | M13: 10 | N13: 11 | O13: 12 | Q13: 13
A14: 0
A15: 1 | E15: 518 | I15: 81 | M15: 157 | Q15: 22
A16: 2 | E16: 485 | I16: 69 | M16: 159 | Q16: 19
A17: 3 | E17: 471 | I17: 65 | M17: 157 | Q17: 22
A18: 4 | E18: 470 | I18: 61 | M18: 152 | Q18: 19
A19: 5 | E19: 489 | I19: 59 | M19: 144 | Q19: 18
A20: 6 | E20: 551 | I20: 62 | M20: 146 | Q20: 19
A21: 7 | E21: 686 | I21: 76 | M21: 144 | Q21: 24
A22: 8 | E22: 801 | I22: 65 | M22: 155 | Q22: 20
A23: 9 | E23: 963 | I23: 90 | M23: 194 | Q23: 30
A24: 10 | E24: 989 | I24: 95 | M24: 209 | Q24: 48
A25: 11 | E25: 927 | I25: 100 | M25: 199 | Q25: 46
A26: 12 | E26: 872 | I26: 93 | M26: 185 | Q26: 45
... A38: 24 | E38: 585 | I38: 71 | M38: 162 | Q38: 16
A39: Итого | E39: =SUM(E15:E38) -> 17976 | I39: =SUM(I15:I38) -> 1953 | M39: =SUM(M15:M38) -> 4052 | Q39: =SUM(Q15:Q38) -> 709
A40: 1. При наличии на предприятии отклонений от нормальных режимов электропотребления (временное изменение схем питания, остановка на ремонт, резкое снижение
A41: эл.потребления и т.д.) последние необходимо перечислить.
A42: 2. При наличии нескольких источников питания и большого количества вводов таблица
A43: составляется самим предприятием с соблюдением всех пунктов настоящей таблицы. | K43: Главный инженер ___________________ А.А. Михалин

Sheet 48
B1: АО "Вологдаоблэнерго" | J1: код 900151 | N1: ПС "Молочное" 35/10 кВ
B2: наименование предприятия | N2: наименование источника питания
B3: уч-к п. Молочное | N3: _________________________________
B4: ул. Горького, 99 | I4: Таблица № 1
B5: адрес
A6: почасовых записей показаний электрических счетчиков
A7: в режимный день18 ДЕКАБРЯ 2019 г..
A8: 1451 | B8: 1448
A9: часы суток | B9: Активная энергия | J9: Реактивная энергия
B10: яч 18 - ф.Молочное-3 | F10: яч 10. - ф.Очистные | J10: яч. 18 - ф.Молочное-3 | N10: яч 10 - ф.Очистные
B11: Расчет. Коэф. | E11: 3000 | F11: Расчет. Коэф. | I11: 2000 | J11: Расчет. Коэф. | M11: 3000 | N11: Расчет. Коэф. | Q11: 2000
B12: показания счетчика | C12: разность | E12: расход эл.энергии за час | F12: показания счетчика | G12: разность | I12: расход эл.энергии за час | J12: показания счетчика | K12: разность | M12: расход эл.энергии за час | N12: показания счетчика | O12: разность | Q12: расход эл.энергии за час
A13: 1 | B13: 2 | C13: 3 | E13: 4 | F13: 5 | G13: 6 | I13: 7 | J13: 8 | K13: 9 | M13: 10 | N13: 11 | O13: 12 | Q13: 13
A14: 0
A15: 1 | E15: 336 | I15: 374 | M15: 110 | Q15: 96
A16: 2 | E16: 310 | I16: 373 | M16: 106 | Q16: 95
A17: 3 | E17: 301 | I17: 377 | M17: 103 | Q17: 88
A18: 4 | E18: 317 | I18: 386 | M18: 102 | Q18: 92
A19: 5 | E19: 321 | I19: 394 | M19: 99 | Q19: 92
A20: 6 | E20: 356 | I20: 403 | M20: 102 | Q20: 94
A21: 7 | E21: 386 | I21: 419 | M21: 110 | Q21: 93
A22: 8 | E22: 439 | I22: 470 | M22: 115 | Q22: 99
A23: 9 | E23: 545 | I23: 530 | M23: 147 | Q23: 114
A24: 10 | E24: 584 | I24: 540 | M24: 171 | Q24: 137
A25: 11 | E25: 575 | I25: 532 | M25: 177 | Q25: 142
A26: 12 | E26: 556 | I26: 548 | M26: 180 | Q26: 145
... A38: 24 | E38: 369 | I38: 415 | M38: 102 | Q38: 95
A39: Итого | E39: =SUM(E15:E38) -> 10996 | I39: =SUM(I15:I38) -> 11378 | M39: =SUM(M15:M38) -> 3225 | Q39: =SUM(Q15:Q38) -> 2682
A40: 1. При наличии на предприятии отклонений от нормальных режимов электропотребления (временное изменение схем питания, остановка на ремонт, резкое снижение
A41: эл.потребления и т.д.) последние необходимо перечислить.
A42: 2. При наличии нескольких источников питания и большого количества вводов таблица
A43: составляется самим предприятием с соблюдением всех пунктов настоящей таблицы. | K43: Главный инженер ___________________ А.А. Михалин

Sheet 48_1
B1: АО "Вологдаоблэнерго" | J1: код 900151 | N1: ПС "Молочное" 35/10 кВ
B2: наименование предприятия | N2: наименование источника питания
B3: уч-к п. Молочное | N3: _________________________________
B4: ул. Горького, 99 | I4: Таблица № 1
B5: адрес
A6: почасовых записей показаний электрических счетчиков
A7: в режимный день18 ДЕКАБРЯ 2019 г..
A8: 624 | B8: 633
A9: часы суток | B9: Активная энергия | J9: Реактивная энергия
B10: ф. Ивлево, ф. Майский - ТП28 Т1 | F10: ф. Ивлево, ф. Майский - ТП28 Т2 | J10: ф. Ивлево, ф. Майский - ТП28 Т1 | N10: ф. Ивлево, ф. Майский - ТП28 Т2
B11: Расчет. Коэф. | E11: 120 | F11: Расчет. Коэф. | I11: 120 | J11: Расчет. Коэф. | M11: 120 | N11: Расчет. Коэф. | Q11: 120
B12: показания счетчика | C12: разность | E12: расход эл.энергии за час | F12: показания счетчика | G12: разность | I12: расход эл.энергии за час | J12: показания счетчика | K12: разность | M12: расход эл.энергии за час | N12: показания счетчика | O12: разность | Q12: расход эл.энергии за час
A13: 1 | B13: 2 | C13: 3 | E13: 4 | F13: 5 | G13: 6 | I13: 7 | J13: 8 | K13: 9 | M13: 10 | N13: 11 | O13: 12 | Q13: 13
A14: 0
A15: 1 | E15: 80.7 | I15: 0 | M15: 18.24 | Q15: 0
A16: 2 | E16: 78.06 | I16: 0 | M16: 17.1 | Q16: 0
A17: 3 | E17: 74.64 | I17: 0 | M17: 17.1 | Q17: 0
A18: 4 | E18: 71.22 | I18: 0 | M18: 16.32 | Q18: 0
A19: 5 | E19: 71.88 | I19: 0 | M19: 16.02 | Q19: 0
A20: 6 | E20: 78.72 | I20: 0 | M20: 16.68 | Q20: 0
A21: 7 | E21: 95.16 | I21: 0 | M21: 17.04 | Q21: 0
A22: 8 | E22: 103.56 | I22: 0 | M22: 18.36 | Q22: 0
A23: 9 | E23: 92.28 | I23: 0 | M23: 17.58 | Q23: 0
A24: 10 | E24: 90.9 | I24: 0 | M24: 19.26 | Q24: 0
A25: 11 | E25: 89.46 | I25: 0 | M25: 19.92 | Q25: 0
A26: 12 | E26: 97.92 | I26: 0 | M26: 21.24 | Q26: 0
... A38: 24 | E38: 95.64 | I38: 0 | M38: 20.1 | Q38: 0
A39: Итого | E39: =SUM(E15:E38) -> 2379.54 | I39: =SUM(I15:I38) -> 0 | M39: =SUM(M15:M38) -> 481.02 | Q39: =SUM(Q15:Q38) -> 0
A40: 1. При наличии на предприятии отклонений от нормальных режимов электропотребления (временное изменение схем питания, остановка на ремонт, резкое снижение
A41: эл.потребления и т.д.) последние необходимо перечислить.
A42: 2. При наличии нескольких источников питания и большого количества вводов таблица
A43: составляется самим предприятием с соблюдением всех пунктов настоящей таблицы. | K43: Главный инженер ___________________ А.А. Михалин

Sheet 48_2
B1: АО "Вологдаоблэнерго" | J1: код 900151 | N1: ПС "Молочное" 35/10 кВ
B2: наименование предприятия | N2: наименование источника питания
B3: уч-к п. Молочное | N3: _________________________________
B4: ул. Горького, 99 | I4: Таблица № 1
B5: адрес
A6: почасовых записей показаний электрических счетчиков
A7: в режимный день18 ДЕКАБРЯ 2019 г..
A8: 621
A9: часы суток | B9: Активная энергия | J9: Реактивная энергия
B10: ф. Ивлево, ф. Майский - ТП27 Т1 | J10: ф. Ивлево, ф. Майский - ТП27 Т1
B11: Расчет. Коэф. | F11: Расчет. Коэф. | J11: Расчет. Коэф. | N11: Расчет. Коэф.
B12: показания счетчика | C12: разность | E12: расход эл.энергии за час | F12: показания счетчика | G12: разность | I12: расход эл.энергии за час | J12: показания счетчика | K12: разность | M12: расход эл.энергии за час | N12: показания счетчика | O12: разность | Q12: расход эл.энергии за час
A13: 1 | B13: 2 | C13: 3 | E13: 4 | F13: 5 | G13: 6 | I13: 7 | J13: 8 | K13: 9 | M13: 10 | N13: 11 | O13: 12 | Q13: 13
A14: 0
A15: 1 | E15: 61.38 | M15: 8.52
A16: 2 | E16: 56.64 | M16: 8.64
A17: 3 | E17: 55.44 | M17: 8.46
A18: 4 | E18: 56.52 | M18: 8.46
A19: 5 | E19: 53.34 | M19: 7.98
A20: 6 | E20: 56.64 | M20: 8.04
A21: 7 | E21: 62.94 | M21: 8.64
A22: 8 | E22: 69.48 | M22: 8.16
A23: 9 | E23: 69.78 | M23: 8.58
A24: 10 | E24: 73.92 | M24: 9.72
A25: 11 | E25: 72.18 | M25: 9.78
A26: 12 | E26: 69.24 | M26: 9.78
... A38: 24 | E38: 66.12 | M38: 9.18
A39: Итого | E39: =SUM(E15:E38) -> 1728 | M39: =SUM(M15:M38) -> 231.9
A40: 1. При наличии на предприятии отклонений от нормальных режимов электропотребления (временное изменение схем питания, остановка на ремонт, резкое снижение
A41: эл.потребления и т.д.) последние необходимо перечислить.
A42: 2. При наличии нескольких источников питания и большого количества вводов таблица
A43: составляется самим предприятием с соблюдением всех пунктов настоящей таблицы. | K43: Главный инженер ___________________ А.А. Михалин

Sheet 49
B1: АО "Вологдаоблэнерго" | J1: код 900151 | N1: РТП "КОРНИЛОВО" 35/10 кВ
B2: наименование предприятия | N2: наименование источника питания
B3: уч-к "Устье-Кубенское" | N3: _________________________________
B4: ул. Горького, 99 | I4: Таблица № 1
B5: адрес
A6: почасовых записей показаний электрических счетчиков
A7: в режимный день18 ДЕКАБРЯ 2019 г..
A8: 1639
A9: часы суток | B9: Активная энергия | J9: Реактивная энергия
B10: ф. "КОММУНАЛЬНЫЙ" | J10: ф. "КОММУНАЛЬНЫЙ"
B11: Расчет. Коэф. | E11: 2000 | F11: Расчет. Коэф. | I11: 0 | J11: Расчет. Коэф. | M11: 2000 | N11: Расчет. Коэф. | Q11: 0
B12: показания счетчика | C12: разность | E12: расход эл.энергии за час | F12: показания счетчика | G12: разность | I12: расход эл.энергии за час | J12: показания счетчика | K12: разность | M12: расход эл.энергии за час | N12: показания счетчика | O12: разность | Q12: расход эл.энергии за час
A13: 1 | B13: 2 | C13: 3 | E13: 4 | F13: 5 | G13: 6 | I13: 7 | J13: 8 | K13: 9 | M13: 10 | N13: 11 | O13: 12 | Q13: 13
A14: 0
A15: 1 | E15: 314 | M15: 142
A16: 2 | E16: 308 | M16: 142
A17: 3 | E17: 296 | M17: 142
A18: 4 | E18: 292 | M18: 140
A19: 5 | E19: 300 | M19: 139
A20: 6 | E20: 305 | M20: 136
A21: 7 | E21: 351 | M21: 144
A22: 8 | E22: 409 | M22: 144
A23: 9 | E23: 483 | M23: 189
A24: 10 | E24: 468 | M24: 197
A25: 11 | E25: 458 | M25: 173
A26: 12 | E26: 465 | M26: 213
... A38: 24 | E38: 332 | M38: 135
A39: Итого | E39: =SUM(E15:E38) -> 10059 | M39: =SUM(M15:M38) -> 3944
B41: Питание потребителей ф."Коммунальный" переведено на ф."Устье"
K43: Главный инженер ___________________ А.А. Михалин

Sheet 50
B1: АО "Вологдаоблэнерго" | J1: код 900151 | N1: РТП "КОРНИЛОВО" 35/10 кВ
B2: наименование предприятия | N2: наименование источника питания
B3: уч-к "Устье-Кубенское" | N3: _________________________________
B4: ул. Горького, 99 | I4: Таблица № 1
B5: адрес
A6: почасовых записей показаний электрических счетчиков
A7: в режимный день18 ДЕКАБРЯ 2019 г..
A8: 393 | B8: 392
A9: часы суток | B9: Активная энергия | J9: Реактивная энергия
B10: ф. "УСТЬЕ" | F10: ф. "СХТ" | J10: ф. "УСТЬЕ" | N10: ф. "СХТ"
B11: Расчет. Коэф. | E11: 3000 | F11: Расчет. Коэф. | I11: 2000 | J11: Расчет. Коэф. | M11: =E11 -> 3000 | N11: Расчет. Коэф. | Q11: 2000
B12: показания счетчика | C12: разность | E12: расход эл.энергии за час | F12: показания счетчика | G12: разность | I12: расход эл.энергии за час | J12: показания счетчика | K12: разность | M12: расход эл.энергии за час | N12: показания счетчика | O12: разность | Q12: расход эл.энергии за час
A13: 1 | B13: 2 | C13: 3 | E13: 4 | F13: 5 | G13: 6 | I13: 7 | J13: 8 | K13: 9 | M13: 10 | N13: 11 | O13: 12 | Q13: 13
A14: 0
A15: 1 | E15: 330 | I15: 167.2 | M15: 164.7 | Q15: 86
A16: 2 | E16: 315.3 | I16: 158.2 | M16: 162.9 | Q16: 85.2
A17: 3 | E17: 325.8 | I17: 156 | M17: 163.2 | Q17: 84.2
A18: 4 | E18: 321 | I18: 153.2 | M18: 165.6 | Q18: 84.8
A19: 5 | E19: 338.7 | I19: 159.6 | M19: 162 | Q19: 84.6
A20: 6 | E20: 381.6 | I20: 187.2 | M20: 161.7 | Q20: 84.2
A21: 7 | E21: 441.3 | I21: 216 | M21: 163.5 | Q21: 85.4
A22: 8 | E22: 489 | I22: 245.6 | M22: 171 | Q22: 82.6
A23: 9 | E23: 581.4 | I23: 216.8 | M23: 251.4 | Q23: 71
A24: 10 | E24: 637.8 | I24: 213.6 | M24: 242.7 | Q24: 72.4
A25: 11 | E25: 596.7 | I25: 193.8 | M25: 247.2 | Q25: 71
A26: 12 | E26: 596.7 | I26: 187.4 | M26: 268.2 | Q26: 69.4
... A38: 24 | E38: 350.4 | I38: 183.6 | M38: 151.2 | Q38: 81.2
A39: Итого | E39: =SUM(E15:E38) -> 11201.7 | I39: =SUM(I15:I38) -> 4964.8 | M39: =SUM(M15:M38) -> 4760.7 | Q39: =SUM(Q15:Q38) -> 1913.2
A40: 1. При наличии на предприятии отклонений от нормальных режимов электропотребления (временное изменение схем питания, остановка на ремонт, резкое снижение
A41: эл.потребления и т.д.) последние необходимо перечислить.
A42: 2. При наличии нескольких источников питания и большого количества вводов таблица
A43: составляется самим предприятием с соблюдением всех пунктов настоящей таблицы. | K43: Главный инженер ___________________ А.А. Михалин

Sheet 50-1
B1: АО "Вологдаоблэнерго" | J1: код 900151 | N1: РТП "КОРНИЛОВО" 35/10 кВ
B2: наименование предприятия | N2: наименование источника питания
B3: уч-к "Устье-Кубенское" | N3: ВЛ 10кВ ф. МСЗ
B4: ул. Горького, 99 | I4: Таблица № 1
B5: адрес
A6: почасовых записей показаний электрических счетчиков
A7: в режимный день18 ДЕКАБРЯ 2019 г..
A8: 389 | B8: 388
A9: часы суток | B9: Активная энергия | J9: Реактивная энергия
B10: ф.7 - КТП-21 | F10: ф.7 - КТП-16 | J10: ф.7 - КТП-21 | N10: ф.7 - КТП-16
B11: Расчет. Коэф. | E11: 30 | F11: Расчет. Коэф. | I11: 40 | J11: Расчет. Коэф. | M11: =E11 -> 30 | N11: Расчет. Коэф. | Q11: 40
B12: показания счетчика | C12: разность | E12: расход эл.энергии за час | F12: показания счетчика | G12: разность | I12: расход эл.энергии за час | J12: показания счетчика | K12: разность | M12: расход эл.энергии за час | N12: показания счетчика | O12: разность | Q12: расход эл.энергии за час
A13: 1 | B13: 2 | C13: 3 | E13: 4 | F13: 5 | G13: 6 | I13: 7 | J13: 8 | K13: 9 | M13: 10 | N13: 11 | O13: 12 | Q13: 13
A14: 0
A15: 1 | E15: 20.55 | I15: 4.54 | M15: 8.76 | Q15: 2.7
A16: 2 | E16: 21.51 | I16: 4.1 | M16: 8.715 | Q16: 2.34
A17: 3 | E17: 21.78 | I17: 4.14 | M17: 8.64 | Q17: 2.26
A18: 4 | E18: 19.125 | I18: 4.34 | M18: 8.145 | Q18: 2.48
A19: 5 | E19: 20.22 | I19: 4.3 | M19: 7.62 | Q19: 2.6
A20: 6 | E20: 22.26 | I20: 4.62 | M20: 7.83 | Q20: 2.7
A21: 7 | E21: 29.985 | I21: 4.54 | M21: 8.31 | Q21: 2.62
A22: 8 | E22: 33.63 | I22: 5.16 | M22: 8.7 | Q22: 2.76
A23: 9 | E23: 25.86 | I23: 6.82 | M23: 9.03 | Q23: 2.76
A24: 10 | E24: 30.135 | I24: 6.62 | M24: 8.985 | Q24: 2.72
A25: 11 | E25: 26.715 | I25: 6.46 | M25: 9.42 | Q25: 2.96
A26: 12 | E26: 27.99 | I26: 5.58 | M26: 9.15 | Q26: 3.58
... A38: 24 | E38: 26.295 | I38: 5.92 | M38: 9.015 | Q38: 2.98
A39: Итого | E39: =SUM(E15:E38) -> 683.52 | I39: =SUM(I15:I38) -> 149.1 | M39: =SUM(M15:M38) -> 216.705 | Q39: =SUM(Q15:Q38) -> 66.06
A40: 1. При наличии на предприятии отклонений от нормальных режимов электропотребления (временное изменение схем питания, остановка на ремонт, резкое снижение
A41: эл.потребления и т.д.) последние необходимо перечислить.
A42: 2. При наличии нескольких источников питания и большого количества вводов таблица
A43: составляется самим предприятием с соблюдением всех пунктов настоящей таблицы. | K43: Главный инженер ___________________ А.А. Михалин

Sheet 50-2
B1: АО "Вологдаоблэнерго" | J1: код 900151 | N1: РТП "КОРНИЛОВО" 35/10 кВ
B2: наименование предприятия | N2: наименование источника питания
B3: уч-к "Устье-Кубенское" | N3: ВЛ 10кВ ф. МСЗ
B4: ул. Горького, 99 | I4: Таблица № 1
B5: адрес
A6: почасовых записей показаний электрических счетчиков
A7: в режимный день18 ДЕКАБРЯ 2019 г..
A8: 390 | B8: 391
A9: часы суток | B9: Активная энергия | J9: Реактивная энергия
B10: ф.7 - КТП-4 | F10: ф.14 - ТП-24 | J10: ф.7 - КТП-4 | N10: ф.14 - ТП-24
B11: Расчет. Коэф. | E11: 60 | F11: Расчет. Коэф. | I11: 40 | J11: Расчет. Коэф. | M11: =E11 -> 60 | N11: Расчет. Коэф. | Q11: 40
B12: показания счетчика | C12: разность | E12: расход эл.энергии за час | F12: показания счетчика | G12: разность | I12: расход эл.энергии за час | J12: показания счетчика | K12: разность | M12: расход эл.энергии за час | N12: показания счетчика | O12: разность | Q12: расход эл.энергии за час
A13: 1 | B13: 2 | C13: 3 | E13: 4 | F13: 5 | G13: 6 | I13: 7 | J13: 8 | K13: 9 | M13: 10 | N13: 11 | O13: 12 | Q13: 13
A14: 0
A15: 1 | E15: 28.74 | I15: 41.34 | M15: 15.06 | Q15: 15.96
A16: 2 | E16: 27.27 | I16: 41.32 | M16: 14.31 | Q16: 15.38
A17: 3 | E17: 27.3 | I17: 40.74 | M17: 14.25 | Q17: 14.36
A18: 4 | E18: 26.7 | I18: 35.72 | M18: 14.7 | Q18: 11.98
A19: 5 | E19: 26.31 | I19: 32.96 | M19: 14.64 | Q19: 9.84
A20: 6 | E20: 27.21 | I20: 31.76 | M20: 14.13 | Q20: 8.56
A21: 7 | E21: 29.82 | I21: 34.8 | M21: 13.5 | Q21: 8.08
A22: 8 | E22: 33.57 | I22: 40.04 | M22: 13.89 | Q22: 9.48
A23: 9 | E23: 27.72 | I23: 35.56 | M23: 9.93 | Q23: 10.46
A24: 10 | E24: 33.09 | I24: 33.56 | M24: 6.09 | Q24: 11.56
A25: 11 | E25: 31.68 | I25: 32.86 | M25: 6.3 | Q25: 9.62
A26: 12 | E26: 33.21 | I26: 29.4 | M26: 6.81 | Q26: 8.32
... A38: 24 | E38: 28.89 | I38: 41.16 | M38: 14.19 | Q38: 15
A39: Итого | E39: =SUM(E15:E38) -> 759 | I39: =SUM(I15:I38) -> 920.44 | M39: =SUM(M15:M38) -> 288.69 | Q39: =SUM(Q15:Q38) -> 277.68
A40: 1. При наличии на предприятии отклонений от нормальных режимов электропотребления (временное изменение схем питания, остановка на ремонт, резкое снижение
A41: эл.потребления и т.д.) последние необходимо перечислить.
A42: 2. При наличии нескольких источников питания и большого количества вводов таблица
A43: составляется самим предприятием с соблюдением всех пунктов настоящей таблицы. | K43: Главный инженер ___________________ А.А. Михалин

Sheet 50-3
B1: АО "Вологдаоблэнерго" | J1: код 900151 | N1: РТП "КОРНИЛОВО" 35/10 кВ
B2: наименование предприятия | N2: наименование источника питания
B3: уч-к "Устье-Кубенское" | N3: ВЛ 10кВ ф. МСЗ
B4: ул. Горького, 99 | I4: Таблица № 1
B5: адрес
A6: почасовых записей показаний электрических счетчиков
A7: в режимный день18 ДЕКАБРЯ 2019 г..
A8: 816 | B8: 907
A9: часы суток | B9: Активная энергия | J9: Реактивная энергия
B10: ф.1 - КТП-36 | F10: ф.7 - КТП25 | J10: ф.1 - КТП-36 | N10: ф.7 - ТП-25
B11: Расчет. Коэф. | E11: 60 | F11: Расчет. Коэф. | I11: 40 | J11: Расчет. Коэф. | M11: =E11 -> 60 | N11: Расчет. Коэф. | Q11: 40
B12: показания счетчика | C12: разность | E12: расход эл.энергии за час | F12: показания счетчика | G12: разность | I12: расход эл.энергии за час | J12: показания счетчика | K12: разность | M12: расход эл.энергии за час | N12: показания счетчика | O12: разность | Q12: расход эл.энергии за час
A13: 1 | B13: 2 | C13: 3 | E13: 4 | F13: 5 | G13: 6 | I13: 7 | J13: 8 | K13: 9 | M13: 10 | N13: 11 | O13: 12 | Q13: 13
A14: 0
A15: 1 | E15: 0 | I15: 14.68 | M15: 0 | Q15: 3.56
A16: 2 | E16: 0 | I16: 13.74 | M16: 0 | Q16: 3.38
A17: 3 | E17: 0 | I17: 18.02 | M17: 0 | Q17: 3.08
A18: 4 | E18: 0 | I18: 15 | M18: 0 | Q18: 2.82
A19: 5 | E19: 0 | I19: 17.8 | M19: 0 | Q19: 3.2
A20: 6 | E20: 0 | I20: 17.58 | M20: 0 | Q20: 3.08
A21: 7 | E21: 0 | I21: 17.62 | M21: 0 | Q21: 2.98
A22: 8 | E22: 0 | I22: 19.86 | M22: 0 | Q22: 3.2
A23: 9 | E23: 0 | I23: 17.58 | M23: 0 | Q23: 3.44
A24: 10 | E24: 0 | I24: 18.48 | M24: 0 | Q24: 3.46
A25: 11 | E25: 0 | I25: 16.34 | M25: 0 | Q25: 3.24
A26: 12 | E26: 0 | I26: 16.26 | M26: 0 | Q26: 3.62
... A34: 20 | E34: 0 | I34: 20.84 | M34: 0 | Q34: 3.74
A35: 21 | E35: 0 | I35: 21.12 | M35: 0 | Q35: 3.72 | R35: =I35+'50-2'!I35+'50-2'!E35+'50-1'!I35+'50-1'!E35 -> 155.17
A36: 22 | E36: 0 | I36: 20.34 | M36: 0 | Q36: 4.1
A37: 23 | E37: 0 | I37: 17.76 | M37: 0 | Q37: 3.08
A38: 24 | E38: 0 | I38: 16.06 | M38: 0 | Q38: 3.26
A39: Итого | E39: =SUM(E15:E38) -> 0 | I39: =SUM(I15:I38) -> 446.3 | M39: =SUM(M15:M38) -> 0 | Q39: =SUM(Q15:Q38) -> 85.58
A40: 1. При наличии на предприятии отклонений от нормальных режимов электропотребления (временное изменение схем питания, остановка на ремонт, резкое снижение
A41: эл.потребления и т.д.) последние необходимо перечислить.
A42: 2. При наличии нескольких источников питания и большого количества вводов таблица
A43: составляется самим предприятием с соблюдением всех пунктов настоящей таблицы. | K43: Главный инженер ___________________ А.А. Михалин

Sheet 51
B1: АО "Вологдаоблэнерго" | J1: код 900151 | N1: ПС "ШУЙСКОЕ" 35/ 10 кВ
B2: наименование предприятия | N2: наименование источника питания
B3: уч-к "Шуйское" | N3: _________________________________
B4: ул. Горького, 99 | I4: Таблица № 1
B5: адрес
A6: почасовых записей показаний электрических счетчиков
A7: в режимный день18 ДЕКАБРЯ 2019 г..
A8: 1643
A9: часы суток | B9: Активная энергия | J9: Реактивная энергия
B10: яч.№ 16 - ф. "Биокомплекс" | J10: яч.№ 16 - ф. "Биокомплекс"
B11: Расчет. Коэф. | E11: 1000 | F11: Расчет. Коэф. | I11: 10 | J11: Расчет. Коэф. | M11: =E11 -> 1000 | N11: Расчет. Коэф. | Q11: 10
B12: показания счетчика | C12: разность | E12: расход эл.энергии за час | F12: показания счетчика | G12: разность | I12: расход эл.энергии за час | J12: показания счетчика | K12: разность | M12: расход эл.энергии за час | N12: показания счетчика | O12: разность | Q12: расход эл.энергии за час
A13: 1 | B13: 2 | C13: 3 | E13: 4 | F13: 5 | G13: 6 | I13: 7 | J13: 8 | K13: 9 | M13: 10 | N13: 11 | O13: 12 | Q13: 13
A14: 0
A15: 1 | E15: 2 | M15: 2
A16: 2 | E16: 2 | M16: 3
A17: 3 | E17: 2 | M17: 3
A18: 4 | E18: 1 | M18: 2
A19: 5 | E19: 2 | M19: 3
A20: 6 | E20: 2 | M20: 3
A21: 7 | E21: 2 | M21: 2
A22: 8 | E22: 2 | M22: 3
A23: 9 | E23: 2 | M23: 2
A24: 10 | E24: 1 | M24: 3
A25: 11 | E25: 2 | M25: 2
A26: 12 | E26: 2 | M26: 3
... A38: 24 | E38: 2 | M38: 2
A39: Итого | E39: =SUM(E15:E38) -> 43 | M39: =SUM(M15:M38) -> 60
A40: 1. При наличии на предприятии отклонений от нормальных режимов электропотребления (временное изменение схем питания, остановка на ремонт, резкое снижение
A41: эл.потребления и т.д.) последние необходимо перечислить.
A42: 2. При наличии нескольких источников питания и большого количества вводов таблица
A43: составляется самим предприятием с соблюдением всех пунктов настоящей таблицы. | K43: Главный инженер ___________________ А.А. Михалин

Sheet 52
B1: АО "Вологдаоблэнерго" | J1: код 900151 | N1: ПС "ШУЙСКОЕ" 35/ 10 кВ
B2: наименование предприятия | N2: наименование источника питания
B3: уч-к "Шуйское" | N3: _________________________________
B4: ул. Горького, 99 | I4: Таблица № 1
B5: адрес
A6: почасовых записей показаний электрических счетчиков
A7: в режимный день18 ДЕКАБРЯ 2019 г..
A8: 1641 | B8: 1642
A9: часы суток | B9: Активная энергия | J9: Реактивная энергия
B10: яч. №7 - ф."Райцентр" | F10: яч. 14 - ф. "Школа" | J10: яч. №7 - ф."Райцентр" | N10: =F10 -> яч. 14 - ф. "Школа"
B11: Расчет. Коэф. | E11: 1500 | F11: Расчет. Коэф. | I11: 2000 | J11: Расчет. Коэф. | M11: =E11 -> 1500 | N11: Расчет. Коэф. | Q11: 2000
B12: показания счетчика | C12: разность | E12: расход эл.энергии за час | F12: показания счетчика | G12: разность | I12: расход эл.энергии за час | J12: показания счетчика | K12: разность | M12: расход эл.энергии за час | N12: показания счетчика | O12: разность | Q12: расход эл.энергии за час
A13: 1 | B13: 2 | C13: 3 | E13: 4 | F13: 5 | G13: 6 | I13: 7 | J13: 8 | K13: 9 | M13: 10 | N13: 11 | O13: 12 | Q13: 13
A14: 0
A15: 1 | E15: 174 | I15: 272 | M15: 71 | Q15: 116
A16: 2 | E16: 169 | I16: 267 | M16: 72 | Q16: 118
A17: 3 | E17: 165 | I17: 259 | M17: 72 | Q17: 116
A18: 4 | E18: 162 | I18: 261 | M18: 71 | Q18: 115
A19: 5 | E19: 167 | I19: 275 | M19: 69 | Q19: 116
A20: 6 | E20: 180 | I20: 313 | M20: 70 | Q20: 113
A21: 7 | E21: 213 | I21: 357 | M21: 72 | Q21: 114
A22: 8 | E22: 266 | I22: 425 | M22: 79 | Q22: 121
A23: 9 | E23: 263 | I23: 484 | M23: 76 | Q23: 124
A24: 10 | E24: 243 | I24: 475 | M24: 76 | Q24: 121
A25: 11 | E25: 247 | I25: 454 | M25: 80 | Q25: 122
A26: 12 | E26: 239 | I26: 438 | M26: 78 | Q26: 121
... A38: 24 | E38: 193 | I38: 302 | M38: 70 | Q38: 111
A39: Итого | E39: =SUM(E15:E38) -> 5606 | I39: =SUM(I15:I38) -> 9216 | M39: =SUM(M15:M38) -> 1846 | Q39: =SUM(Q15:Q38) -> 2873
A40: 1. При наличии на предприятии отклонений от нормальных режимов электропотребления (временное изменение схем питания, остановка на ремонт, резкое снижение
A41: эл.потребления и т.д.) последние необходимо перечислить.
A42: 2. При наличии нескольких источников питания и большого количества вводов таблица
A43: составляется самим предприятием с соблюдением всех пунктов настоящей таблицы. | K43: Главный инженер ___________________ А.А. Михалин

Sheet 54
B1: АО "Вологдаоблэнерго" | J1: код 900151 | N1: ПС "ГДЗ" 110/6 кВ
B2: наименование предприятия | N2: наименование источника питания
B3: уч -к г. Сокол | N3: _________________________________
B4: ул. Горького, 99 | I4: Таблица № 1 | O4: РТП 6
B5: адрес
A6: почасовых записей показаний электрических счетчиков
A7: в режимный день18 ДЕКАБРЯ 2019 г..
A8: 358 | B8: 360
A9: часы суток | B9: Активная энергия | J9: Реактивная энергия
B10: яч. 7 - ГДЗ-1 -РТП 6 | F10: яч. 17 - ГДЗ-2 - РТП 6 | J10: яч. 7 - ГДЗ-1 -РТП 6 | N10: яч. 17 - ГДЗ-2 - РТП 6
B11: Расчет. Коэф. | E11: 4800 | F11: Расчет. Коэф. | I11: 4800 | J11: Расчет. Коэф. | M11: 4800 | N11: Расчет. Коэф. | Q11: =I11 -> 4800
B12: показания счетчика | C12: разность | E12: расход эл.энергии за час | F12: показания счетчика | G12: разность | I12: расход эл.энергии за час | J12: показания счетчика | K12: разность | M12: расход эл.энергии за час | N12: показания счетчика | O12: разность | Q12: расход эл.энергии за час
A13: 1 | B13: 2 | C13: 3 | E13: 4 | F13: 5 | G13: 6 | I13: 7 | J13: 8 | K13: 9 | M13: 10 | N13: 11 | O13: 12 | Q13: 13
A14: 0
A15: 1 | E15: 541.92 | I15: 324.96 | M15: 208.32 | Q15: 87.36
A16: 2 | E16: 538.08 | I16: 305.76 | M16: 211.2 | Q16: 85.92
A17: 3 | E17: 517.92 | I17: 313.44 | M17: 211.2 | Q17: 96
A18: 4 | E18: 489.12 | I18: 300.48 | M18: 202.56 | Q18: 88.8
A19: 5 | E19: 508.32 | I19: 297.6 | M19: 197.28 | Q19: 82.08
A20: 6 | E20: 560.64 | I20: 318.24 | M20: 213.6 | Q20: 84.48
A21: 7 | E21: 674.88 | I21: 377.28 | M21: 238.08 | Q21: 84
A22: 8 | E22: 722.88 | I22: 438.24 | M22: 254.88 | Q22: 96
A23: 9 | E23: 865.44 | I23: 480.48 | M23: 391.68 | Q23: 98.88
A24: 10 | E24: 862.56 | I24: 500.16 | M24: 404.64 | Q24: 99.84
A25: 11 | E25: 833.28 | I25: 520.32 | M25: 424.32 | Q25: 104.16
A26: 12 | E26: 877.92 | I26: 496.8 | M26: 445.44 | Q26: 106.08
... A38: 24 | E38: 613.44 | I38: 361.92 | M38: 208.32 | Q38: 82.08
A39: Итого | E39: =SUM(E15:E38) -> 17106.72 | I39: =SUM(I15:I38) -> 10739.52 | M39: =SUM(M15:M38) -> 7086.24 | Q39: =SUM(Q15:Q38) -> 2325.6
A40: 1. При наличии на предприятии отклонений от нормальных режимов электропотребления (временное изменение схем питания, остановка на ремонт, резкое снижение
A41: эл.потребления и т.д.) последние необходимо перечислить.
A42: 2. При наличии нескольких источников питания и большого количества вводов таблица
A43: составляется самим предприятием с соблюдением всех пунктов настоящей таблицы. | K43: Главный инженер ___________________ А.А. Михалин

Sheet 55
B1: АО "Вологдаоблэнерго" | J1: код 900151 | N1: ПС "ГДЗ" 110/6 кВ
B2: наименование предприятия | N2: наименование источника питания
B3: уч -к г. Сокол | N3: _________________________________
B4: ул. Горького, 99 | I4: Таблица № 1 | O4: ЛПК-1
B5: адрес
A6: почасовых записей показаний электрических счетчиков
A7: в режимный день18 ДЕКАБРЯ 2019 г..
A8: 359
A9: часы суток | B9: Активная энергия | J9: Реактивная энергия
B10: яч. 14 - ГДЗ - ЛПК-1 | J10: яч. 14 - ГДЗ - ЛПК-1
B11: Расчет. Коэф. | E11: 7200 | F11: Расчет. Коэф. | J11: Расчет. Коэф. | M11: =E11 -> 7200 | N11: Расчет. Коэф.
B12: показания счетчика | C12: разность | E12: расход эл.энергии за час | F12: показания счетчика | G12: разность | I12: расход эл.энергии за час | J12: показания счетчика | K12: разность | M12: расход эл.энергии за час | N12: показания счетчика | O12: разность | Q12: расход эл.энергии за час
A13: 1 | B13: 2 | C13: 3 | E13: 4 | F13: 5 | G13: 6 | I13: 7 | J13: 8 | K13: 9 | M13: 10 | N13: 11 | O13: 12 | Q13: 13
A14: 0
A15: 1 | E15: 510.48 | M15: 137.52
A16: 2 | E16: 499.68 | M16: 157.68
A17: 3 | E17: 486 | M17: 151.2
A18: 4 | E18: 480.24 | M18: 144.72
A19: 5 | E19: 505.44 | M19: 147.6
A20: 6 | E20: 510.48 | M20: 146.88
A21: 7 | E21: 586.08 | M21: 142.56
A22: 8 | E22: 645.12 | M22: 149.04
A23: 9 | E23: 743.04 | M23: 221.76
A24: 10 | E24: 791.28 | M24: 221.04
A25: 11 | E25: 833.76 | M25: 213.12
A26: 12 | E26: 831.6 | M26: 219.6
... A38: 24 | E38: 539.28 | M38: 137.52
A39: Итого | E39: =SUM(E15:E38) -> 16131.6 | I39: =SUM(I15:I38) -> 0 | M39: =SUM(M15:M38) -> 4104.72 | Q39: =SUM(Q15:Q38) -> 0
A40: 1. При наличии на предприятии отклонений от нормальных режимов электропотребления (временное изменение схем питания, остановка на ремонт, резкое снижение
A41: эл.потребления и т.д.) последние необходимо перечислить.
A42: 2. При наличии нескольких источников питания и большого количества вводов таблица
A43: составляется самим предприятием с соблюдением всех пунктов настоящей таблицы. | K43: Главный инженер ___________________ А.А. Михалин

Sheet 56
B1: АО "Вологдаоблэнерго" | J1: код 900151 | M1: ОАО "Сокольский" ЦБК" ГПП 35/6 кВ
B2: наименование предприятия | M2: наименование источника питания
B3: уч -к г. Сокол | N3: _________________________________
B4: ул. Горького, 99 | I4: Таблица № 1 | O4: РП 5
B5: адрес
A6: почасовых записей показаний электрических счетчиков
A7: в режимный день18 ДЕКАБРЯ 2019 г..
A8: 400 | B8: 397
A9: часы суток | B9: Активная энергия | J9: Реактивная энергия
B10: яч.4 - РП 5 | F10: яч. 6 - ТП-40 | J10: яч.4 - РП 5 | N10: яч. 6 - ТП-40
B11: Расчет. Коэф. | E11: 2400 | F11: Расчет. Коэф. | I11: 7200 | J11: Расчет. Коэф. | M11: =E11 -> 2400 | N11: Расчет. Коэф. | Q11: =I11 -> 7200
B12: показания счетчика | C12: разность | E12: расход эл.энергии за час | F12: показания счетчика | G12: разность | I12: расход эл.энергии за час | J12: показания счетчика | K12: разность | M12: расход эл.энергии за час | N12: показания счетчика | O12: разность | Q12: расход эл.энергии за час
A13: 1 | B13: 2 | C13: 3 | E13: 4 | F13: 5 | G13: 6 | I13: 7 | J13: 8 | K13: 9 | M13: 10 | N13: 11 | O13: 12 | Q13: 13
A14: 0
A15: 1 | E15: 195.12 | I15: 442.8 | M15: 61.2 | Q15: 196.56
A16: 2 | E16: 182.4 | I16: 411.84 | M16: 65.52 | Q16: 195.12
A17: 3 | E17: 157.2 | I17: 400.32 | M17: 56.64 | Q17: 192.24
A18: 4 | E18: 140.16 | I18: 394.56 | M18: 59.76 | Q18: 187.2
A19: 5 | E19: 146.16 | I19: 406.8 | M19: 54.48 | Q19: 187.92
A20: 6 | E20: 159.6 | I20: 429.84 | M20: 60.96 | Q20: 189.36
A21: 7 | E21: 199.44 | I21: 577.44 | M21: 54.24 | Q21: 198
A22: 8 | E22: 234 | I22: 677.52 | M22: 69.36 | Q22: 220.32
A23: 9 | E23: 284.16 | I23: 925.2 | M23: 74.88 | Q23: 401.04
A24: 10 | E24: 285.36 | I24: 923.04 | M24: 67.92 | Q24: 415.44
A25: 11 | E25: 284.4 | I25: 897.12 | M25: 77.28 | Q25: 381.6
A26: 12 | E26: 271.2 | I26: 871.2 | M26: 76.08 | Q26: 401.76
... A38: 24 | E38: 203.28 | I38: 493.92 | M38: 61.68 | Q38: 181.44
A39: Итого | E39: =SUM(E15:E38) -> 5978.16 | I39: =SUM(I15:I38) -> 16120.8 | M39: =SUM(M15:M38) -> 1653.84 | Q39: =SUM(Q15:Q38) -> 6282
A40: 1. При наличии на предприятии отклонений от нормальных режимов электропотребления (временное изменение схем питания, остановка на ремонт, резкое снижение
A41: эл.потребления и т.д.) последние необходимо перечислить.
A42: 2. При наличии нескольких источников питания и большого количества вводов таблица
A43: составляется самим предприятием с соблюдением всех пунктов настоящей таблицы. | K43: Главный инженер ___________________ А.А. Михалин

Sheet 57
B1: АО "Вологдаоблэнерго" | J1: код 900151 | M1: ОАО "Сокольский" ЦБК" ГПП 35/6 кВ
B2: наименование предприятия | M2: наименование источника питания
B3: уч -к г. Сокол | N3: _________________________________
B4: ул. Горького, 99 | I4: Таблица № 1
B5: адрес
A6: почасовых записей показаний электрических счетчиков
A7: в режимный день18 ДЕКАБРЯ 2019 г..
A8: 398 | B8: 399
A9: часы суток | B9: Активная энергия | J9: Реактивная энергия
B10: яч.2 - РТП 2 яч. 15 | F10: яч. 3 - РТП 2 яч. 2 | J10: яч.2 - РТП 2 яч. 15 | N10: яч. 3 - РТП 2 яч. 2
B11: Расчет. Коэф. | E11: 7200 | F11: Расчет. Коэф. | I11: =Q11 -> 7200 | J11: Расчет. Коэф. | M11: =E11 -> 7200 | N11: Расчет. Коэф. | Q11: 7200
B12: показания счетчика | C12: разность | E12: расход эл.энергии за час | F12: показания счетчика | G12: разность | I12: расход эл.энергии за час | J12: показания счетчика | K12: разность | M12: расход эл.энергии за час | N12: показания счетчика | O12: разность | Q12: расход эл.энергии за час
B13: 2 | C13: 3 | E13: 4 | F13: 5 | G13: 6 | I13: 7 | J13: 8 | K13: 9 | M13: 10 | N13: 11 | O13: 12 | Q13: 13
A14: 0
A15: 1 | E15: 868.32 | I15: 623.52 | M15: 309.6 | Q15: 202.32
A16: 2 | E16: 845.28 | I16: 594 | M16: 307.44 | Q16: 199.44
A17: 3 | E17: 828.72 | I17: 581.04 | M17: 307.44 | Q17: 200.88
A18: 4 | E18: 829.44 | I18: 576 | M18: 300.96 | Q18: 198.72
A19: 5 | E19: 840.96 | I19: 570.96 | M19: 296.64 | Q19: 195.84
A20: 6 | E20: 898.56 | I20: 578.16 | M20: 293.76 | Q20: 189.36
A21: 7 | E21: 986.4 | I21: 652.32 | M21: 299.52 | Q21: 188.64
A22: 8 | E22: 1079.28 | I22: 754.56 | M22: 318.24 | Q22: 213.12
A23: 9 | E23: 1198.8 | I23: 943.92 | M23: 349.2 | Q23: 256.32
A24: 10 | E24: 1239.84 | I24: 1028.16 | M24: 347.76 | Q24: 267.84
A25: 11 | E25: 1236.24 | I25: 1037.52 | M25: 346.32 | Q25: 275.76
A26: 12 | E26: 1229.76 | I26: 1049.76 | M26: 345.6 | Q26: 268.56
... A38: 24 | E38: 941.76 | I38: 729.36 | M38: 290.88 | Q38: 188.64
A39: Итого | E39: =SUM(E15:E38) -> 26405.28 | I39: =SUM(I15:I38) -> 20622.96 | M39: =SUM(M15:M38) -> 7786.8 | Q39: =SUM(Q15:Q38) -> 5476.32
A40: 1. При наличии на предприятии отклонений от нормальных режимов электропотребления (временное изменение схем питания, остановка на ремонт, резкое снижение
A41: эл.потребления и т.д.) последние необходимо перечислить.
A42: 2. При наличии нескольких источников питания и большого количества вводов таблица
A43: составляется самим предприятием с соблюдением всех пунктов настоящей таблицы. | K43: Главный инженер ___________________ А.А. Михалин

Sheet 58
B1: АО "Вологдаоблэнерго" | J1: код 900151 | M1: ПС "Сокол" 220/110/35/10 кВ
B2: наименование предприятия | M2: наименование источника питания
B3: уч -к г. Сокол | O3: КТП-90, КТП-91
B4: ул. Горького, 99 | I4: Таблица № 1
B5: адрес
A6: почасовых записей показаний электрических счетчиков
A7: в режимный день18 ДЕКАБРЯ 2019 г..
A8: 396 | B8: 395
A9: часы суток | B9: Активная энергия | J9: Реактивная энергия
B10: ф. 4 (Обросово) - КТП-90 (дачн. общ.) | F10: ф. 4 (Обросово) - КТП-91 (д. Бережок) | J10: =B10 -> ф. 4 (Обросово) - КТП-90 (дачн. общ.) | N10: =F10 -> ф. 4 (Обросово) - КТП-91 (д. Бережок)
B11: Расчет. Коэф. | E11: 1800 | F11: Расчет. Коэф. | I11: =Q11 -> 900 | J11: Расчет. Коэф. | M11: =E11 -> 1800 | N11: Расчет. Коэф. | Q11: 900
B12: показания счетчика | C12: разность | E12: расход эл.энергии за час | F12: показания счетчика | G12: разность | I12: расход эл.энергии за час | J12: показания счетчика | K12: разность | M12: расход эл.энергии за час | N12: показания счетчика | O12: разность | Q12: расход эл.энергии за час
A13: 1 | B13: 2 | C13: 3 | E13: 4 | F13: 5 | G13: 6 | I13: 7 | J13: 8 | K13: 9 | M13: 10 | N13: 11 | O13: 12 | Q13: 13
A14: 0
A15: 1 | E15: 1.38 | I15: 5.81 | M15: 0.14 | Q15: 1.03
A16: 2 | E16: 1.32 | I16: 5.07 | M16: 0.06 | Q16: 0.84
A17: 3 | E17: 1.3 | I17: 4.78 | M17: 0.08 | Q17: 0.62
A18: 4 | E18: 1.3 | I18: 4.53 | M18: 0.08 | Q18: 0.22
A19: 5 | E19: 1.3 | I19: 4.35 | M19: 0.04 | Q19: 0.19
A20: 6 | E20: 1.3 | I20: 4.91 | M20: 0.06 | Q20: 0.45
A21: 7 | E21: 1.28 | I21: 5.79 | M21: 0.06 | Q21: 0.92
A22: 8 | E22: 1.28 | I22: 5.57 | M22: 0.06 | Q22: 0.82
A23: 9 | E23: 1.4 | I23: 5.2 | M23: 0.02 | Q23: 0.77
A24: 10 | E24: 1.56 | I24: 4.89 | M24: 0 | Q24: 0.47
A25: 11 | E25: 1.54 | I25: 5.2 | M25: 0 | Q25: 0.19
A26: 12 | E26: 1.6 | I26: 5.56 | M26: 0 | Q26: 0.24
... A38: 24 | E38: 1.34 | I38: 5.26 | M38: 0.06 | Q38: 1.02
A39: Итого | E39: =SUM(E15:E38) -> 33.04 | I39: =SUM(I15:I38) -> 132.28 | M39: =SUM(M15:M38) -> 1.18 | Q39: =SUM(Q15:Q38) -> 15.84
A40: 1. При наличии на предприятии отклонений от нормальных режимов электропотребления (временное изменение схем питания, остановка на ремонт, резкое снижение
A41: эл.потребления и т.д.) последние необходимо перечислить.
A42: 2. При наличии нескольких источников питания и большого количества вводов таблица
A43: составляется самим предприятием с соблюдением всех пунктов настоящей таблицы. | K43: Главный инженер ___________________ А.А. Михалин

Sheet 59
B1: АО "Вологдаоблэнерго" | J1: код 900151 | K1: ООО "Сокольский ЦБК" ГПП 110/6 кВ
B2: наименование предприятия | N2: наименование источника питания
B3: уч -к г. Сокол | N3: _________________________________
B4: ул. Горького, 99 | I4: Таблица № 1 | N4: ТП 77
B5: адрес
A6: почасовых записей показаний электрических счетчиков
A7: в режимный день18 ДЕКАБРЯ 2019 г..
A8: 487
A9: часы суток | B9: Активная энергия | J9: Реактивная энергия
B10: яч. 14 - ТП-77 (Михайлево) | J10: яч. 14 - ТП-77 (Михайлево)
B11: Расчет. Коэф. | E11: 2400 | F11: Расчет. Коэф. | I11: 0 | J11: Расчет. Коэф. | M11: 2400 | N11: Расчет. Коэф. | Q11: 0
B12: показания счетчика | C12: разность | E12: расход эл.энергии за час | F12: показания счетчика | G12: разность | I12: расход эл.энергии за час | J12: показания счетчика | K12: разность | M12: расход эл.энергии за час | N12: показания счетчика | O12: разность | Q12: расход эл.энергии за час
A13: 1 | B13: 2 | C13: 3 | E13: 4 | F13: 5 | G13: 6 | I13: 7 | J13: 8 | K13: 9 | M13: 10 | N13: 11 | O13: 12 | Q13: 13
A14: 0
A15: 1 | E15: 1.14 | M15: 4.32
A16: 2 | E16: 1.08 | M16: 4.44
A17: 3 | E17: 1.08 | M17: 4.44
A18: 4 | E18: 1.08 | M18: 4.26
A19: 5 | E19: 1.08 | M19: 4.14
A20: 6 | E20: 1.2 | M20: 4.02
A21: 7 | E21: 1.56 | M21: 4.08
A22: 8 | E22: 1.26 | M22: 3.9
A23: 9 | E23: 1.62 | M23: 3.6
A24: 10 | E24: 2.1 | M24: 3.72
A25: 11 | E25: 1.68 | M25: 3.9
A26: 12 | E26: 1.14 | M26: 3.9
... A38: 24 | E38: 1.14 | M38: 3.6
A39: Итого | E39: =SUM(E15:E38) -> 33.06 | M39: =SUM(M15:M38) -> 96.66
A40: 1. При наличии на предприятии отклонений от нормальных режимов электропотребления (временное изменение схем питания, остановка на ремонт, резкое снижение
A41: эл.потребления и т.д.) последние необходимо перечислить.
A42: 2. При наличии нескольких источников питания и большого количества вводов таблица
A43: составляется самим предприятием с соблюдением всех пунктов настоящей таблицы. | K43: Главный инженер ___________________ А.А. Михалин

Sheet 60
B1: АО "Вологдаоблэнерго" | J1: код 900151 | K1: ООО "Сухонский ЦБК" ГПП 110/6 кВ
B2: наименование предприятия | N2: наименование источника питания
B3: уч -к г. Сокол | N3: _________________________________
B4: ул. Горького, 99 | I4: Таблица № 1
B5: адрес
A6: почасовых записей показаний электрических счетчиков
A7: в режимный день18 ДЕКАБРЯ 2019 г..
A8: 1198 | B8: 1199
A9: часы суток | B9: Активная энергия | J9: Реактивная энергия
B10: РУ-1 яч 1 - ТП 3 | F10: РУ-1 яч 14 - ЛЭП 3 | J10: РУ-1 яч 1 - ТП 3 | N10: РУ-1 яч 14 - ЛЭП 3
B11: Расчет. Коэф. | E11: 4800 | F11: Расчет. Коэф. | I11: 2400 | J11: Расчет. Коэф. | M11: 4800 | N11: Расчет. Коэф. | Q11: 2400
B12: показания счетчика | C12: разность | E12: расход эл.энергии за час | F12: показания счетчика | G12: разность | I12: расход эл.энергии за час | J12: показания счетчика | K12: разность | M12: расход эл.энергии за час | N12: показания счетчика | O12: разность | Q12: расход эл.энергии за час
A13: 1 | B13: 2 | C13: 3 | E13: 4 | F13: 5 | G13: 6 | I13: 7 | J13: 8 | K13: 9 | M13: 10 | N13: 11 | O13: 12 | Q13: 13
A14: 0
A15: 1 | E15: 406.56 | I15: 627.36 | M15: 168 | Q15: 408
A16: 2 | E16: 372.96 | I16: 547.44 | M16: 164.16 | Q16: 345.84
A17: 3 | E17: 356.16 | I17: 519.12 | M17: 165.6 | Q17: 317.76
A18: 4 | E18: 346.08 | I18: 480.96 | M18: 170.4 | Q18: 280.56
A19: 5 | E19: 369.12 | I19: 476.64 | M19: 148.32 | Q19: 255.12
A20: 6 | E20: 444.48 | I20: 505.2 | M20: 138.72 | Q20: 244.08
A21: 7 | E21: 526.08 | I21: 560.16 | M21: 144 | Q21: 244.56
A22: 8 | E22: 627.84 | I22: 631.2 | M22: 178.08 | Q22: 277.44
A23: 9 | E23: 746.4 | I23: 1240.8 | M23: 230.4 | Q23: 805.68
A24: 10 | E24: 756.96 | I24: 1219.92 | M24: 268.32 | Q24: 816.72
A25: 11 | E25: 767.52 | I25: 1112.64 | M25: 266.88 | Q25: 723.6
A26: 12 | E26: 706.08 | I26: 1248 | M26: 231.84 | Q26: 840.24
... A38: 24 | E38: 501.12 | I38: 630.72 | M38: 192 | Q38: 405.12
A39: Итого | E39: =SUM(E15:E38) -> 15078.24 | I39: =SUM(I15:I38) -> 20043.84 | M39: =SUM(M15:M38) -> 5134.08 | Q39: =SUM(Q15:Q38) -> 12522.96
A40: 1. При наличии на предприятии отклонений от нормальных режимов электропотребления (временное изменение схем питания, остановка на ремонт, резкое снижение
A41: эл.потребления и т.д.) последние необходимо перечислить.
A42: 2. При наличии нескольких источников питания и большого количества вводов таблица
A43: составляется самим предприятием с соблюдением всех пунктов настоящей таблицы. | K43: Главный инженер ___________________ А.А. Михалин

Sheet 61
B1: АО "Вологдаоблэнерго" | J1: код 900151 | K1: ООО "Сухонский ЦБК" ГПП 110/6 кВ
B2: наименование предприятия | N2: наименование источника питания
B3: уч -к г. Сокол | N3: _________________________________
B4: ул. Горького, 99 | I4: Таблица № 1
B5: адрес
A6: почасовых записей показаний электрических счетчиков
A7: в режимный день18 ДЕКАБРЯ 2019 г..
A8: 1200 | B8: 1197
A9: часы суток | B9: Активная энергия | J9: Реактивная энергия
B10: РУ-3 яч 4 - ТП 7 | F10: ЗРУ яч. 59 - КТП 35 | J10: РУ-3 яч 4 - ТП 7 | N10: ЗРУ яч. 59 - КТП 35
B11: Расчет. Коэф. | E11: 2400 | F11: Расчет. Коэф. | I11: 1200 | J11: Расчет. Коэф. | M11: 2400 | N11: Расчет. Коэф. | Q11: 1200
B12: показания счетчика | C12: разность | E12: расход эл.энергии за час | F12: показания счетчика | G12: разность | I12: расход эл.энергии за час | J12: показания счетчика | K12: разность | M12: расход эл.энергии за час | N12: показания счетчика | O12: разность | Q12: расход эл.энергии за час
A13: 1 | B13: 2 | C13: 3 | E13: 4 | F13: 5 | G13: 6 | I13: 7 | J13: 8 | K13: 9 | M13: 10 | N13: 11 | O13: 12 | Q13: 13
A14: 0
A15: 1 | E15: 334.32 | I15: 405.36 | M15: 187.68 | Q15: 199.8
A16: 2 | E16: 302.16 | I16: 370.08 | M16: 168.48 | Q16: 183.96
A17: 3 | E17: 286.56 | I17: 353.88 | M17: 144.96 | Q17: 177.84
A18: 4 | E18: 270.96 | I18: 347.04 | M18: 138.96 | Q18: 176.04
A19: 5 | E19: 272.64 | I19: 339.84 | M19: 138.48 | Q19: 170.28
A20: 6 | E20: 285.36 | I20: 355.68 | M20: 117.84 | Q20: 174.24
A21: 7 | E21: 361.92 | I21: 427.68 | M21: 130.32 | Q21: 172.44
A22: 8 | E22: 428.88 | I22: 455.04 | M22: 148.32 | Q22: 182.52
A23: 9 | E23: 544.8 | I23: 793.44 | M23: 256.32 | Q23: 508.32
A24: 10 | E24: 564.24 | I24: 829.08 | M24: 260.4 | Q24: 536.04
A25: 11 | E25: 537.36 | I25: 745.56 | M25: 242.88 | Q25: 486.72
A26: 12 | E26: 512.4 | I26: 837.72 | M26: 245.52 | Q26: 547.92
... A38: 24 | E38: 396.72 | I38: 450 | M38: 227.52 | Q38: 210.24
A39: Итого | E39: =SUM(E15:E38) -> 10699.2 | I39: =SUM(I15:I38) -> 13776.48 | M39: =SUM(M15:M38) -> 5232.48 | Q39: =SUM(Q15:Q38) -> 7603.2
A40: 1. При наличии на предприятии отклонений от нормальных режимов электропотребления (временное изменение схем питания, остановка на ремонт, резкое снижение
A41: эл.потребления и т.д.) последние необходимо перечислить.
A42: 2. При наличии нескольких источников питания и большого количества вводов таблица
A43: составляется самим предприятием с соблюдением всех пунктов настоящей таблицы. | K43: Главный инженер ___________________ А.А. Михалин

Sheet 62
B1: АО "Вологдаоблэнерго" | J1: код 900151 | K1: ООО "Сухонский ЦБК" ГПП 110/6 кВ
B2: наименование предприятия | N2: наименование источника питания
B3: уч -к г. Сокол | N3: _________________________________
B4: ул. Горького, 99 | I4: Таблица № 1
B5: адрес
A6: почасовых записей показаний электрических счетчиков
A7: в режимный день18 ДЕКАБРЯ 2019 г..
A8: 1196
A9: часы суток | B9: Активная энергия | J9: Реактивная энергия
B10: ЗРУ яч. 2- КТП 34 | J10: ЗРУ яч. 2- КТП 34
B11: Расчет. Коэф. | E11: 2400 | F11: Расчет. Коэф. | I11: 0 | J11: Расчет. Коэф. | M11: 2400 | N11: Расчет. Коэф. | Q11: 0
B12: показания счетчика | C12: разность | E12: расход эл.энергии за час | F12: показания счетчика | G12: разность | I12: расход эл.энергии за час | J12: показания счетчика | K12: разность | M12: расход эл.энергии за час | N12: показания счетчика | O12: разность | Q12: расход эл.энергии за час
A13: 1 | B13: 2 | C13: 3 | E13: 4 | F13: 5 | G13: 6 | I13: 7 | J13: 8 | K13: 9 | M13: 10 | N13: 11 | O13: 12 | Q13: 13
A14: 0
A15: 1 | E15: 386.64 | M15: 148.08
A16: 2 | E16: 362.64 | M16: 144
A17: 3 | E17: 368.16 | M17: 145.92
A18: 4 | E18: 359.76 | M18: 144
A19: 5 | E19: 363.36 | M19: 139.44
A20: 6 | E20: 371.04 | M20: 132.96
A21: 7 | E21: 438.96 | M21: 137.28
A22: 8 | E22: 444.72 | M22: 140.4
A23: 9 | E23: 786.72 | M23: 397.44
A24: 10 | E24: 777.6 | M24: 404.4
A25: 11 | E25: 576.24 | M25: 236.64
A26: 12 | E26: 466.32 | M26: 222.96
... A38: 24 | E38: 385.44 | M38: 126.24
A39: Итого | E39: =SUM(E15:E38) -> 11454.96 | I39: =SUM(I15:I38) -> 0 | M39: =SUM(M15:M38) -> 4609.68 | Q39: =SUM(Q15:Q38) -> 0
A40: 1. При наличии на предприятии отклонений от нормальных режимов электропотребления (временное изменение схем питания, остановка на ремонт, резкое снижение
A41: эл.потребления и т.д.) последние необходимо перечислить.
A42: 2. При наличии нескольких источников питания и большого количества вводов таблица
A43: составляется самим предприятием с соблюдением всех пунктов настоящей таблицы. | K43: Главный инженер ___________________ А.А. Михалин

Sheet 63
B1: АО "Вологдаоблэнерго" | J1: код 900151 | K1: ООО "Сухонский ЦБК" ГПП 110/6 кВ
B2: наименование предприятия | N2: наименование источника питания
B3: уч -к г. Сокол | N3: РУ - 6 кВ "Механического завода"
B4: ул. Горького, 99 | I4: Таблица № 1
B5: адрес
A6: почасовых записей показаний электрических счетчиков
A7: в режимный день18 ДЕКАБРЯ 2019 г..
A8: 1201 | B8: 1202
A9: часы суток | B9: Активная энергия | J9: Реактивная энергия
B10: яч 7 - ТП 1 | F10: яч. 4 - ТП 2 | J10: яч 7 - ТП 1 | N10: яч. 4 - ТП 2
B11: Расчет. Коэф. | E11: 600 | F11: Расчет. Коэф. | I11: 600 | J11: Расчет. Коэф. | M11: 600 | N11: Расчет. Коэф. | Q11: 600
B12: показания счетчика | C12: разность | E12: расход эл.энергии за час | F12: показания счетчика | G12: разность | I12: расход эл.энергии за час | J12: показания счетчика | K12: разность | M12: расход эл.энергии за час | N12: показания счетчика | O12: разность | Q12: расход эл.энергии за час
A13: 1 | B13: 2 | C13: 3 | E13: 4 | F13: 5 | G13: 6 | I13: 7 | J13: 8 | K13: 9 | M13: 10 | N13: 11 | O13: 12 | Q13: 13
A14: 0
A15: 1 | E15: 32.4 | I15: 25.14 | M15: 2.4 | Q15: 5.46
A16: 2 | E16: 27.18 | I16: 31.98 | M16: 2.46 | Q16: 5.4
A17: 3 | E17: 23.88 | I17: 42.12 | M17: 2.16 | Q17: 5.82
A18: 4 | E18: 24.48 | I18: 20.28 | M18: 2.52 | Q18: 5.64
A19: 5 | E19: 25.2 | I19: 30.66 | M19: 1.98 | Q19: 5.1
A20: 6 | E20: 27.6 | I20: 17.7 | M20: 1.56 | Q20: 5.1
A21: 7 | E21: 38.1 | I21: 21.12 | M21: 1.92 | Q21: 4.98
A22: 8 | E22: 34.32 | I22: 36 | M22: 1.92 | Q22: 7.02
A23: 9 | E23: 39.78 | I23: 40.2 | M23: 1.44 | Q23: 9.9
A24: 10 | E24: 37.56 | I24: 39 | M24: 3 | Q24: 9.3
A25: 11 | E25: 35.64 | I25: 50.88 | M25: 3.6 | Q25: 13.74
A26: 12 | E26: 33.84 | I26: 47.88 | M26: 3.12 | Q26: 15
... A38: 24 | E38: 39.06 | I38: 33.06 | M38: 2.82 | Q38: 7.86
A39: Итого | E39: =SUM(E15:E38) -> 911.1 | I39: =SUM(I15:I38) -> 783.12 | M39: =SUM(M15:M38) -> 73.98 | Q39: =SUM(Q15:Q38) -> 199.92
A40: 1. При наличии на предприятии отклонений от нормальных режимов электропотребления (временное изменение схем питания, остановка на ремонт, резкое снижение
A41: эл.потребления и т.д.) последние необходимо перечислить.
A42: 2. При наличии нескольких источников питания и большого количества вводов таблица
A43: составляется самим предприятием с соблюдением всех пунктов настоящей таблицы. | K43: Главный инженер ___________________ А.А. Михалин

Sheet 64
B1: АО "Вологдаоблэнерго" | J1: код 900151 | K1: ПС "Белозерск" 110/10 кВ
B2: наименование предприятия | N2: наименование источника питания
B3: уч -к г. Белозерск | M3: РП 1
B4: ул. Горького, 99 | I4: Таблица № 1
B5: адрес
A6: почасовых записей показаний электрических счетчиков
A7: в режимный день18 ДЕКАБРЯ 2019 г..
A8: 737 | B8: 738
A9: часы суток | B9: Активная энергия | J9: Реактивная энергия
B10: ВЛ-10кВ.фид. Горсеть1 | F10: ВЛ-10кВ.фид. Горсеть2 | J10: =B10 -> ВЛ-10кВ.фид. Горсеть1 | N10: =F10 -> ВЛ-10кВ.фид. Горсеть2
B11: Расчет. Коэф. | E11: 4000 | F11: Расчет. Коэф. | I11: 2000 | J11: Расчет. Коэф. | M11: =E11 -> 4000 | N11: Расчет. Коэф. | Q11: =I11 -> 2000
B12: показания счетчика | C12: разность | E12: расход эл.энергии за час | F12: показания счетчика | G12: разность | I12: расход эл.энергии за час | J12: показания счетчика | K12: разность | M12: расход эл.энергии за час | N12: показания счетчика | O12: разность | Q12: расход эл.энергии за час
A13: 1 | B13: 2 | C13: 3 | E13: 4 | F13: 5 | G13: 6 | I13: 7 | J13: 8 | K13: 9 | M13: 10 | N13: 11 | O13: 12 | Q13: 13
A14: 0
A15: 1 | E15: 1281 | I15: 989 | M15: 299 | Q15: 312
A16: 2 | E16: 1239 | I16: 951 | M16: 299 | Q16: 315
A17: 3 | E17: 1185 | I17: 929 | M17: 288 | Q17: 304
A18: 4 | E18: 1178 | I18: 921 | M18: 278 | Q18: 297
A19: 5 | E19: 1176 | I19: 919 | M19: 274 | Q19: 286
A20: 6 | E20: 1240 | I20: 994 | M20: 272 | Q20: 298
A21: 7 | E21: 1455 | I21: 1214 | M21: 277 | Q21: 293
A22: 8 | E22: 1752 | I22: 1360 | M22: 299 | Q22: 313
A23: 9 | E23: 1803 | I23: 1504 | M23: 295 | Q23: 366
A24: 10 | E24: 1798 | I24: 1538 | M24: 282 | Q24: 394
A25: 11 | E25: 1795 | I25: 1506 | M25: 282 | Q25: 408
A26: 12 | E26: 1722 | I26: 1454 | M26: 278 | Q26: 367
... A38: 24 | E38: 1397 | I38: 1200 | M38: 322 | Q38: 358
A39: Итого | E39: =SUM(E15:E38) -> 36189 | I39: =SUM(I15:I38) -> 33295 | M39: =SUM(M15:M38) -> 6882 | Q39: =SUM(Q15:Q38) -> 8740
A40: 1. При наличии на предприятии отклонений от нормальных режимов электропотребления (временное изменение схем питания, остановка на ремонт, резкое снижение
A41: эл.потребления и т.д.) последние необходимо перечислить.
A42: 2. При наличии нескольких источников питания и большого количества вводов таблица
A43: составляется самим предприятием с соблюдением всех пунктов настоящей таблицы. | K43: Главный инженер ___________________ А.А. Михалин

Sheet 65
B1: АО "Вологдаоблэнерго" | J1: код 900151 | K1: ПС "Белозерск" 110/10 кВ
B2: наименование предприятия | N2: наименование источника питания
B3: уч -к г. Белозерск
B4: ул. Горького, 99 | I4: Таблица № 1
B5: адрес
A6: почасовых записей показаний электрических счетчиков
A7: в режимный день18 ДЕКАБРЯ 2019 г..
A8: 739 | B8: 736
A9: часы суток | B9: Активная энергия | J9: Реактивная энергия
B10: ВЛ-10кВ.фид.Оптика | F10: ф. Горсеть-3 | J10: =B10 -> ВЛ-10кВ.фид.Оптика | N10: ф. Горсеть-3
B11: Расчет. Коэф. | E11: 4000 | F11: Расчет. Коэф. | J11: Расчет. Коэф. | M11: =E11 -> 4000 | N11: Расчет. Коэф.
B12: показания счетчика | C12: разность | E12: расход эл.энергии за час | F12: показания счетчика | G12: разность | I12: расход эл.энергии за час | J12: показания счетчика | K12: разность | M12: расход эл.энергии за час | N12: показания счетчика | O12: разность | Q12: расход эл.энергии за час
A13: 1 | B13: 2 | C13: 3 | E13: 4 | F13: 5 | G13: 6 | I13: 7 | J13: 8 | K13: 9 | M13: 10 | N13: 11 | O13: 12 | Q13: 13
A14: 0
A15: 1 | E15: 255 | I15: 225 | M15: 167 | Q15: 122
A16: 2 | E16: 241 | I16: 216 | M16: 166 | Q16: 124
A17: 3 | E17: 238 | I17: 215 | M17: 163 | Q17: 121
A18: 4 | E18: 232 | I18: 208 | M18: 163 | Q18: 119
A19: 5 | E19: 235 | I19: 206 | M19: 158 | Q19: 116
A20: 6 | E20: 280 | I20: 216 | M20: 162 | Q20: 117
A21: 7 | E21: 304 | I21: 241 | M21: 159 | Q21: 116
A22: 8 | E22: 356 | I22: 263 | M22: 166 | Q22: 117
A23: 9 | E23: 400 | I23: 253 | M23: 181 | Q23: 114
A24: 10 | E24: 401 | I24: 239 | M24: 171 | Q24: 115
A25: 11 | E25: 349 | I25: 220 | M25: 140 | Q25: 114
A26: 12 | E26: 312 | I26: 210 | M26: 133 | Q26: 111
... A38: 24 | E38: 245 | I38: 232 | M38: 135 | Q38: 125
A39: Итого | E39: =SUM(E15:E38) -> 7245 | I39: =SUM(I15:I38) -> 5827 | M39: =SUM(M15:M38) -> 3577 | Q39: =SUM(Q15:Q38) -> 2835
A40: 1. При наличии на предприятии отклонений от нормальных режимов электропотребления (временное изменение схем питания, остановка на ремонт, резкое снижение
A41: эл.потребления и т.д.) последние необходимо перечислить.
A42: 2. При наличии нескольких источников питания и большого количества вводов таблица
A43: составляется самим предприятием с соблюдением всех пунктов настоящей таблицы. | K43: Главный инженер ___________________ А.А. Михалин

Sheet 66
B1: АО "Вологдаоблэнерго" | J1: код 900151 | K1: ПС "Белозерск" 110/10 кВ
B2: наименование предприятия | N2: наименование источника питания
B3: уч -к г. Белозерск
B4: ул. Горького, 99 | I4: Таблица № 1
B5: адрес
A6: почасовых записей показаний электрических счетчиков
A7: в режимный день18 ДЕКАБРЯ 2019 г..
A8: 1192 | B8: 1193
A9: часы суток | B9: Активная энергия | J9: Реактивная энергия
B10: ВЛ-10кВ.фид. Аэропорт КТП-46 | F10: ВЛ-10кВ.фид. Аэропорт КТП-47 | J10: =B10 -> ВЛ-10кВ.фид. Аэропорт КТП-46 | N10: =F10 -> ВЛ-10кВ.фид. Аэропорт КТП-47
B11: Расчет. Коэф. | E11: 60 | F11: Расчет. Коэф. | I11: 60 | J11: Расчет. Коэф. | M11: =E11 -> 60 | N11: Расчет. Коэф. | Q11: =I11 -> 60
B12: показания счетчика | C12: разность | E12: расход эл.энергии за час | F12: показания счетчика | G12: разность | I12: расход эл.энергии за час | J12: показания счетчика | K12: разность | M12: расход эл.энергии за час | N12: показания счетчика | O12: разность | Q12: расход эл.энергии за час
A13: 1 | B13: 2 | C13: 3 | E13: 4 | F13: 5 | G13: 6 | I13: 7 | J13: 8 | K13: 9 | M13: 10 | N13: 11 | O13: 12 | Q13: 13
A14: 0
A15: 1 | E15: 31.8 | I15: 51.21 | M15: 2.22 | Q15: 2.64
A16: 2 | E16: 28.68 | I16: 48.36 | M16: 2.31 | Q16: 2.07
A17: 3 | E17: 29.34 | I17: 48.84 | M17: 2.4 | Q17: 2.37
A18: 4 | E18: 25.98 | I18: 47.91 | M18: 1.47 | Q18: 2.16
A19: 5 | E19: 25.53 | I19: 47.04 | M19: 1.74 | Q19: 1.62
A20: 6 | E20: 29.46 | I20: 49.71 | M20: 1.59 | Q20: 1.59
A21: 7 | E21: 37.53 | I21: 52.89 | M21: 1.95 | Q21: 1.8
A22: 8 | E22: 45.18 | I22: 57.06 | M22: 2.37 | Q22: 1.62
A23: 9 | E23: 41.52 | I23: 49.29 | M23: 2.04 | Q23: 1.59
A24: 10 | E24: 41.1 | I24: 39.63 | M24: 2.31 | Q24: 2.55
A25: 11 | E25: 38.94 | I25: 33.24 | M25: 2.79 | Q25: 2.85
A26: 12 | E26: 32.82 | I26: 30.66 | M26: 2.31 | Q26: 2.19
... A38: 24 | E38: 26.91 | I38: 51.45 | M38: 1.41 | Q38: 2.04
A39: Итого | E39: =SUM(E15:E38) -> 848.16 | I39: =SUM(I15:I38) -> 1197.87 | M39: =SUM(M15:M38) -> 58.8 | Q39: =SUM(Q15:Q38) -> 46.41
A40: 1. При наличии на предприятии отклонений от нормальных режимов электропотребления (временное изменение схем питания, остановка на ремонт, резкое снижение
A41: эл.потребления и т.д.) последние необходимо перечислить.
A42: 2. При наличии нескольких источников питания и большого количества вводов таблица
A43: составляется самим предприятием с соблюдением всех пунктов настоящей таблицы. | K43: Главный инженер ___________________ А.А. Михалин

Sheet 66_1
B1: АО "Вологдаоблэнерго" | J1: код 900151 | K1: ПС "Вашки" 110/10 кВ
B2: наименование предприятия | N2: наименование источника питания
B3: уч -к г. Белозерск | N3: с. Липин Бор
B4: ул. Горького, 99 | I4: Таблица № 1
B5: адрес
A6: почасовых записей показаний электрических счетчиков
A7: в режимный день18 ДЕКАБРЯ 2019 г..
A8: 1704 | B8: 1705
A9: часы суток | B9: Активная энергия | J9: Реактивная энергия
B10: ВЛ-10кВ.фид. Липин Бор | F10: ВЛ-10кВ.фид. Коммунальный | J10: =B10 -> ВЛ-10кВ.фид. Липин Бор | N10: =F10 -> ВЛ-10кВ.фид. Коммунальный
B11: Расчет. Коэф. | E11: 60 | F11: Расчет. Коэф. | I11: 60 | J11: Расчет. Коэф. | M11: =E11 -> 60 | N11: Расчет. Коэф. | Q11: =I11 -> 60
B12: показания счетчика | C12: разность | E12: расход эл.энергии за час | F12: показания счетчика | G12: разность | I12: расход эл.энергии за час | J12: показания счетчика | K12: разность | M12: расход эл.энергии за час | N12: показания счетчика | O12: разность | Q12: расход эл.энергии за час
A13: 1 | B13: 2 | C13: 3 | E13: 4 | F13: 5 | G13: 6 | I13: 7 | J13: 8 | K13: 9 | M13: 10 | N13: 11 | O13: 12 | Q13: 13
A14: 0
A15: 1 | E15: 722 | I15: 442 | M15: 260 | Q15: 212
A16: 2 | E16: 688 | I16: 404 | M16: 254 | Q16: 215
A17: 3 | E17: 662 | I17: 398 | M17: 249 | Q17: 211
A18: 4 | E18: 634 | I18: 388 | M18: 242 | Q18: 196
A19: 5 | E19: 648 | I19: 407 | M19: 238 | Q19: 204
A20: 6 | E20: 682 | I20: 473 | M20: 235 | Q20: 207
A21: 7 | E21: 809 | I21: 566 | M21: 242 | Q21: 199
A22: 8 | E22: 1011 | I22: 741 | M22: 274 | Q22: 206
A23: 9 | E23: 1024 | I23: 848 | M23: 409 | Q23: 243
A24: 10 | E24: 940 | I24: 860 | M24: 401 | Q24: 238
A25: 11 | E25: 887 | I25: 841 | M25: 337 | Q25: 247
A26: 12 | E26: 865 | I26: 790 | M26: 337 | Q26: 233
... A38: 24 | E38: 803 | I38: 461 | M38: 268 | Q38: 208
A39: Итого | E39: =SUM(E15:E38) -> 20963 | I39: =SUM(I15:I38) -> 15422 | M39: =SUM(M15:M38) -> 7049 | Q39: =SUM(Q15:Q38) -> 5378
A40: 1. При наличии на предприятии отклонений от нормальных режимов электропотребления (временное изменение схем питания, остановка на ремонт, резкое снижение
A41: эл.потребления и т.д.) последние необходимо перечислить.
A42: 2. При наличии нескольких источников питания и большого количества вводов таблица
A43: составляется самим предприятием с соблюдением всех пунктов настоящей таблицы. | K43: Главный инженер ___________________ А.А. Михалин

Sheet 67
B1: АО "Вологдаоблэнерго" | J1: код 900151 | K1: ПС "Белоусово"
B2: наименование предприятия | N2: наименование источника питания
B3: уч -к г. Вытегра
B4: ул. Горького, 99 | I4: Таблица № 1
B5: адрес
A6: почасовых записей показаний электрических счетчиков
A7: в режимный день18 ДЕКАБРЯ 2019 г..
A8: 852 | B8: 851
A9: часы суток | B9: Активная энергия | J9: Реактивная энергия
B10: ВЛ-6кВ Ф-9 Погрузка | F10: ВЛ-6 кВ Ф-7 ЛПХ | J10: =B10 -> ВЛ-6кВ Ф-9 Погрузка | N10: =F10 -> ВЛ-6 кВ Ф-7 ЛПХ
B11: Расчет. Коэф. | E11: 1800 | F11: Расчет. Коэф. | I11: 2400 | J11: Расчет. Коэф. | M11: =E11 -> 1800 | N11: Расчет. Коэф. | Q11: =I11 -> 2400
B12: показания счетчика | C12: разность | E12: расход эл.энергии за час | F12: показания счетчика | G12: разность | I12: расход эл.энергии за час | J12: показания счетчика | K12: разность | M12: расход эл.энергии за час | N12: показания счетчика | O12: разность | Q12: расход эл.энергии за час
A13: 1 | B13: 2 | C13: 3 | E13: 4 | F13: 5 | G13: 6 | I13: 7 | J13: 8 | K13: 9 | M13: 10 | N13: 11 | O13: 12 | Q13: 13
A14: 0
A15: 1 | E15: 0 | I15: 7 | M15: 0 | Q15: 33
A16: 2 | E16: 0 | I16: 8 | M16: 0 | Q16: 35
A17: 3 | E17: 0 | I17: 8 | M17: 0 | Q17: 35
A18: 4 | E18: 0 | I18: 8 | M18: 0 | Q18: 34
A19: 5 | E19: 0 | I19: 7 | M19: 0 | Q19: 35
A20: 6 | E20: 0 | I20: 8 | M20: 0 | Q20: 34
A21: 7 | E21: 0 | I21: 9 | M21: 0 | Q21: 35
A22: 8 | E22: 0 | I22: 8 | M22: 0 | Q22: 35
A23: 9 | E23: 0 | I23: 8 | M23: 0 | Q23: 33
A24: 10 | E24: 0 | I24: 7 | M24: 0 | Q24: 33
A25: 11 | E25: 0 | I25: 7 | M25: 0 | Q25: 34
A26: 12 | E26: 0 | I26: 7 | M26: 0 | Q26: 33
... A38: 24 | E38: 0 | I38: 9 | M38: 0 | Q38: 32
A39: Итого | E39: =SUM(E15:E38) -> 0 | I39: =SUM(I15:I38) -> 186 | M39: =SUM(M15:M38) -> 0 | Q39: =SUM(Q15:Q38) -> 803
A40: 1. При наличии на предприятии отклонений от нормальных режимов электропотребления (временное изменение схем питания, остановка на ремонт, резкое снижение
A41: эл.потребления и т.д.) последние необходимо перечислить.
A42: 2. При наличии нескольких источников питания и большого количества вводов таблица
A43: составляется самим предприятием с соблюдением всех пунктов настоящей таблицы. | K43: Главный инженер ___________________ А.А. Михалин

Sheet 68
B1: АО "Вологдаоблэнерго" | J1: код 900151 | K1: ПС "Ольховская"
B2: наименование предприятия | N2: наименование источника питания
B3: уч -к г. Вытегра
B4: ул. Горького, 99 | I4: Таблица № 1
B5: адрес
A6: почасовых записей показаний электрических счетчиков
A7: в режимный день18 ДЕКАБРЯ 2019 г..
A8: 2138 | B8: 2139
A9: часы суток | B9: Активная энергия | J9: Реактивная энергия
B10: ВЛ-10 кВ Ф-2 ЛПХ | F10: ВЛ-10 кВ Ф-3 Мирный | J10: ВЛ-10 кВ Ф-2 ЛПХ | N10: =F10 -> ВЛ-10 кВ Ф-3 Мирный
B11: Расчет. Коэф. | E11: 1000 | F11: Расчет. Коэф. | I11: 1000 | J11: Расчет. Коэф. | M11: =E11 -> 1000 | N11: Расчет. Коэф. | Q11: =I11 -> 1000
B12: показания счетчика | C12: разность | E12: расход эл.энергии за час | F12: показания счетчика | G12: разность | I12: расход эл.энергии за час | J12: показания счетчика | K12: разность | M12: расход эл.энергии за час | N12: показания счетчика | O12: разность | Q12: расход эл.энергии за час
A13: 1 | B13: 2 | C13: 3 | E13: 4 | F13: 5 | G13: 6 | I13: 7 | J13: 8 | K13: 9 | M13: 10 | N13: 11 | O13: 12 | Q13: 13
A14: 0
A15: 1 | E15: 55 | I15: 82 | M15: 25 | Q15: 12
A16: 2 | E16: 55 | I16: 82 | M16: 26 | Q16: 12
A17: 3 | E17: 53 | I17: 81 | M17: 25 | Q17: 12
A18: 4 | E18: 50 | I18: 82 | M18: 25 | Q18: 12
A19: 5 | E19: 51 | I19: 82 | M19: 23 | Q19: 11
A20: 6 | E20: 51 | I20: 84 | M20: 24 | Q20: 12
A21: 7 | E21: 56 | I21: 86 | M21: 23 | Q21: 12
A22: 8 | E22: 68 | I22: 91 | M22: 23 | Q22: 11
A23: 9 | E23: 73 | I23: 88 | M23: 24 | Q23: 15
A24: 10 | E24: 71 | I24: 89 | M24: 26 | Q24: 19
A25: 11 | E25: 60 | I25: 87 | M25: 25 | Q25: 18
A26: 12 | E26: 62 | I26: 87 | M26: 24 | Q26: 20
... A38: 24 | E38: 59 | I38: 85 | M38: 25 | Q38: 12
A39: Итого | E39: =SUM(E15:E38) -> 1508 | I39: =SUM(I15:I38) -> 2117 | M39: =SUM(M15:M38) -> 590 | Q39: =SUM(Q15:Q38) -> 335
A40: 1. При наличии на предприятии отклонений от нормальных режимов электропотребления (временное изменение схем питания, остановка на ремонт, резкое снижение
A41: эл.потребления и т.д.) последние необходимо перечислить.
A42: 2. При наличии нескольких источников питания и большого количества вводов таблица
A43: составляется самим предприятием с соблюдением всех пунктов настоящей таблицы. | K43: Главный инженер ___________________ А.А. Михалин

Sheet 69
B1: АО "Вологдаоблэнерго" | J1: код 900151 | K1: ПС "Восточная"
B2: наименование предприятия | N2: наименование источника питания
B3: уч -к г. Вытегра
B4: ул. Горького, 99 | I4: Таблица № 1
B5: адрес
A6: почасовых записей показаний электрических счетчиков
A7: в режимный день18 ДЕКАБРЯ 2019 г..
A8: 855 | B8: 854
A9: часы суток | B9: Активная энергия | J9: Реактивная энергия
B10: ВЛ-10 кВ Центр | F10: ВЛ-10 кВ Воинская часть | J10: =B10 -> ВЛ-10 кВ Центр | N10: =F10 -> ВЛ-10 кВ Воинская часть
B11: Расчет. Коэф. | E11: 6000 | F11: Расчет. Коэф. | I11: 4000 | J11: Расчет. Коэф. | M11: =E11 -> 6000 | N11: Расчет. Коэф. | Q11: =I11 -> 4000
B12: показания счетчика | C12: разность | E12: расход эл.энергии за час | F12: показания счетчика | G12: разность | I12: расход эл.энергии за час | J12: показания счетчика | K12: разность | M12: расход эл.энергии за час | N12: показания счетчика | O12: разность | Q12: расход эл.энергии за час
A13: 1 | B13: 2 | C13: 3 | E13: 4 | F13: 5 | G13: 6 | I13: 7 | J13: 8 | K13: 9 | M13: 10 | N13: 11 | O13: 12 | Q13: 13
A14: 0
A15: 1 | E15: 609 | I15: 936 | M15: 105 | Q15: 160
A16: 2 | E16: 567 | I16: 886 | M16: 108 | Q16: 168
A17: 3 | E17: 559 | I17: 869 | M17: 103 | Q17: 160
A18: 4 | E18: 561 | I18: 871 | M18: 104 | Q18: 160
A19: 5 | E19: 584 | I19: 871 | M19: 104 | Q19: 160
A20: 6 | E20: 621 | I20: 896 | M20: 110 | Q20: 156
A21: 7 | E21: 739 | I21: 1089 | M21: 112 | Q21: 163
A22: 8 | E22: 879 | I22: 1174 | M22: 128 | Q22: 169
A23: 9 | E23: 960 | I23: 1114 | M23: 155 | Q23: 180
A24: 10 | E24: 966 | I24: 1147 | M24: 164 | Q24: 208
A25: 11 | E25: 962 | I25: 1169 | M25: 166 | Q25: 215
A26: 12 | E26: 954 | I26: 1122 | M26: 162 | Q26: 203
... A38: 24 | E38: 668 | I38: 1032 | M38: 92 | Q38: 170
A39: Итого | E39: =SUM(E15:E38) -> 19554 | I39: =SUM(I15:I38) -> 26618 | M39: =SUM(M15:M38) -> 3146 | Q39: =SUM(Q15:Q38) -> 4392
A40: 1. При наличии на предприятии отклонений от нормальных режимов электропотребления (временное изменение схем питания, остановка на ремонт, резкое снижение
A41: эл.потребления и т.д.) последние необходимо перечислить.
A42: 2. При наличии нескольких источников питания и большого количества вводов таблица
A43: составляется самим предприятием с соблюдением всех пунктов настоящей таблицы. | K43: Главный инженер ___________________ А.А. Михалин

Sheet 70
B1: АО "Вологдаоблэнерго" | J1: код 900151 | K1: ПС "Восточная"
B2: наименование предприятия | N2: наименование источника питания
B3: уч -к г. Вытегра
B4: ул. Горького, 99 | I4: Таблица № 1
B5: адрес
A6: почасовых записей показаний электрических счетчиков
A7: в режимный день18 ДЕКАБРЯ 2019 г..
A8: 856 | B8: 951
A9: часы суток | B9: Активная энергия | J9: Реактивная энергия
B10: ВЛ-10 кВ Шестово | F10: ф.1 Город | J10: =B10 -> ВЛ-10 кВ Шестово | N10: =F10 -> ф.1 Город
B11: Расчет. Коэф. | E11: 4000 | F11: Расчет. Коэф. | J11: Расчет. Коэф. | M11: =E11 -> 4000 | N11: Расчет. Коэф.
B12: показания счетчика | C12: разность | E12: расход эл.энергии за час | F12: показания счетчика | G12: разность | I12: расход эл.энергии за час | J12: показания счетчика | K12: разность | M12: расход эл.энергии за час | N12: показания счетчика | O12: разность | Q12: расход эл.энергии за час
A13: 1 | B13: 2 | C13: 3 | E13: 4 | F13: 5 | G13: 6 | I13: 7 | J13: 8 | K13: 9 | M13: 10 | N13: 11 | O13: 12 | Q13: 13
A14: 0
A15: 1 | E15: 380 | I15: 741 | M15: 122 | Q15: 231
A16: 2 | E16: 349 | I16: 700 | M16: 123 | Q16: 242
A17: 3 | E17: 351 | I17: 696 | M17: 122 | Q17: 229
A18: 4 | E18: 324 | I18: 682 | M18: 119 | Q18: 230
A19: 5 | E19: 325 | I19: 696 | M19: 118 | Q19: 232
A20: 6 | E20: 342 | I20: 736 | M20: 120 | Q20: 234
A21: 7 | E21: 410 | I21: 924 | M21: 116 | Q21: 233
A22: 8 | E22: 467 | I22: 1036 | M22: 122 | Q22: 238
A23: 9 | E23: 484 | I23: 1155 | M23: 117 | Q23: 249
A24: 10 | E24: 488 | I24: 1218 | M24: 114 | Q24: 255
A25: 11 | E25: 501 | I25: 1236 | M25: 119 | Q25: 255
A26: 12 | E26: 505 | I26: 1193 | M26: 120 | Q26: 257
... A38: 24 | E38: 433 | I38: 839 | M38: 108 | Q38: 210
A39: Итого | E39: =SUM(E15:E38) -> 11078 | I39: =SUM(I15:I38) -> 24520 | M39: =SUM(M15:M38) -> 2872 | Q39: =SUM(Q15:Q38) -> 5798
A40: 1. При наличии на предприятии отклонений от нормальных режимов электропотребления (временное изменение схем питания, остановка на ремонт, резкое снижение
A41: эл.потребления и т.д.) последние необходимо перечислить.
A42: 2. При наличии нескольких источников питания и большого количества вводов таблица
A43: составляется самим предприятием с соблюдением всех пунктов настоящей таблицы. | K43: Главный инженер ___________________ А.А. Михалин

Sheet 70_1
B1: АО "Вологдаоблэнерго" | J1: код 900151 | K1: ПС "Восточная"
B2: наименование предприятия | N2: наименование источника питания
B3: уч -к г. Вытегра | N3: яч.25
B4: ул. Горького, 99 | I4: Таблица № 1
B5: адрес
A6: почасовых записей показаний электрических счетчиков
A7: в режимный день18 ДЕКАБРЯ 2019 г..
A8: 856 | B8: 951
A9: часы суток | B9: Активная энергия | J9: Реактивная энергия
B10: ВЛ-10 кВ ф Стадион | J10: =B10 -> ВЛ-10 кВ ф Стадион | N10: =F10 -> 0
B11: Расчет. Коэф. | E11: 4000 | F11: Расчет. Коэф. | J11: Расчет. Коэф. | M11: =E11 -> 4000 | N11: Расчет. Коэф.
B12: показания счетчика | C12: разность | E12: расход эл.энергии за час | F12: показания счетчика | G12: разность | I12: расход эл.энергии за час | J12: показания счетчика | K12: разность | M12: расход эл.энергии за час | N12: показания счетчика | O12: разность | Q12: расход эл.энергии за час
A13: 1 | B13: 2 | C13: 3 | E13: 4 | F13: 5 | G13: 6 | I13: 7 | J13: 8 | K13: 9 | M13: 10 | N13: 11 | O13: 12 | Q13: 13
A14: 0
A15: 1 | E15: 30 | M15: 5
A16: 2 | E16: 31 | M16: 6
A17: 3 | E17: 30 | M17: 6
A18: 4 | E18: 30 | M18: 5
A19: 5 | E19: 28 | M19: 6
A20: 6 | E20: 29 | M20: 5
A21: 7 | E21: 38 | M21: 5
A22: 8 | E22: 45 | M22: 6
A23: 9 | E23: 42 | M23: 9
A24: 10 | E24: 42 | M24: 8
A25: 11 | E25: 39 | M25: 7
A26: 12 | E26: 40 | M26: 7
... A38: 24 | E38: 41 | M38: 4
A39: Итого | E39: =SUM(E15:E38) -> 937 | I39: =SUM(I15:I38) -> 0 | M39: =SUM(M15:M38) -> 141 | Q39: =SUM(Q15:Q38) -> 0
A40: 1. При наличии на предприятии отклонений от нормальных режимов электропотребления (временное изменение схем питания, остановка на ремонт, резкое снижение
A41: эл.потребления и т.д.) последние необходимо перечислить.
A42: 2. При наличии нескольких источников питания и большого количества вводов таблица
A43: составляется самим предприятием с соблюдением всех пунктов настоящей таблицы. | K43: Главный инженер ___________________ А.А. Михалин

Sheet 71
B1: АО "Вологдаоблэнерго" | J1: код 900151 | K1: ПС "Мегра"
B2: наименование предприятия | N2: наименование источника питания
B3: уч -к г. Вытегра
B4: ул. Горького, 99 | I4: Таблица № 1
B5: адрес
A6: почасовых записей показаний электрических счетчиков
A7: в режимный день18 ДЕКАБРЯ 2019 г..
A8: 853
A9: часы суток | B9: Активная энергия | J9: Реактивная энергия
B10: ВЛ-10 кВ Н. Склад | J10: =B10 -> ВЛ-10 кВ Н. Склад
B11: Расчет. Коэф. | E11: 3000 | F11: Расчет. Коэф. | J11: Расчет. Коэф. | M11: =E11 -> 3000 | N11: Расчет. Коэф.
B12: показания счетчика | C12: разность | E12: расход эл.энергии за час | F12: показания счетчика | G12: разность | I12: расход эл.энергии за час | J12: показания счетчика | K12: разность | M12: расход эл.энергии за час | N12: показания счетчика | O12: разность | Q12: расход эл.энергии за час
A13: 1 | B13: 2 | C13: 3 | E13: 4 | F13: 5 | G13: 6 | I13: 7 | J13: 8 | K13: 9 | M13: 10 | N13: 11 | O13: 12 | Q13: 13
A14: 0
A15: 1 | E15: 44 | M15: 21
A16: 2 | E16: 48 | M16: 21
A17: 3 | E17: 42 | M17: 22
A18: 4 | E18: 28 | M18: 21
A19: 5 | E19: 28 | M19: 22
A20: 6 | E20: 28 | M20: 20
A21: 7 | E21: 32 | M21: 19
A22: 8 | E22: 44 | M22: 22
A23: 9 | E23: 41 | M23: 22
A24: 10 | E24: 37 | M24: 22
A25: 11 | E25: 28 | M25: 23
A26: 12 | E26: 26 | M26: 19
... A38: 24 | E38: 57 | M38: 22
A39: Итого | E39: =SUM(E15:E38) -> 1114 | M39: =SUM(M15:M38) -> 532
A40: 1. При наличии на предприятии отклонений от нормальных режимов электропотребления (временное изменение схем питания, остановка на ремонт, резкое снижение
A41: эл.потребления и т.д.) последние необходимо перечислить.
A42: 2. При наличии нескольких источников питания и большого количества вводов таблица
A43: составляется самим предприятием с соблюдением всех пунктов настоящей таблицы. | K43: Главный инженер ___________________ А.А. Михалин

Sheet 72
B1: АО "Вологдаоблэнерго" | J1: код 900151 | K1: ПС "Вытегра"
B2: наименование предприятия | N2: наименование источника питания
B3: уч -к г. Вытегра
B4: ул. Горького, 99 | I4: Таблица № 1
B5: адрес
A6: почасовых записей показаний электрических счетчиков
A7: в режимный день18 ДЕКАБРЯ 2019 г..
A8: 849 | B8: 846
A9: часы суток | B9: Активная энергия | J9: Реактивная энергия
B10: ВЛ-6 кВ Ф-8 пр. Победы | F10: ВЛ-6 кВ Ф-1 Военкомат | J10: =B10 -> ВЛ-6 кВ Ф-8 пр. Победы | N10: =F10 -> ВЛ-6 кВ Ф-1 Военкомат
B11: Расчет. Коэф. | E11: 1800 | F11: Расчет. Коэф. | I11: 900 | J11: Расчет. Коэф. | M11: =E11 -> 1800 | N11: Расчет. Коэф. | Q11: 900
B12: показания счетчика | C12: разность | E12: расход эл.энергии за час | F12: показания счетчика | G12: разность | I12: расход эл.энергии за час | J12: показания счетчика | K12: разность | M12: расход эл.энергии за час | N12: показания счетчика | O12: разность | Q12: расход эл.энергии за час
A13: 1 | B13: 2 | C13: 3 | E13: 4 | F13: 5 | G13: 6 | I13: 7 | J13: 8 | K13: 9 | M13: 10 | N13: 11 | O13: 12 | Q13: 13
A14: 0
A15: 1 | E15: 181 | I15: 81 | M15: 31 | Q15: 18
A16: 2 | E16: 182 | I16: 69 | M16: 33 | Q16: 18
A17: 3 | E17: 180 | I17: 65 | M17: 31 | Q17: 17
A18: 4 | E18: 185 | I18: 64 | M18: 33 | Q18: 18
A19: 5 | E19: 185 | I19: 63 | M19: 31 | Q19: 18
A20: 6 | E20: 199 | I20: 68 | M20: 32 | Q20: 18
A21: 7 | E21: 231 | I21: 109 | M21: 32 | Q21: 19
A22: 8 | E22: 278 | I22: 147 | M22: 33 | Q22: 19
A23: 9 | E23: 275 | I23: 144 | M23: 35 | Q23: 23
A24: 10 | E24: 278 | I24: 163 | M24: 34 | Q24: 28
A25: 11 | E25: 274 | I25: 155 | M25: 35 | Q25: 27
A26: 12 | E26: 257 | I26: 145 | M26: 33 | Q26: 28
... A38: 24 | E38: 220 | I38: 96 | M38: 32 | Q38: 18
A39: Итого | E39: =SUM(E15:E38) -> 5992 | I39: =SUM(I15:I38) -> 3008 | M39: =SUM(M15:M38) -> 814 | Q39: =SUM(Q15:Q38) -> 544
A40: 1. При наличии на предприятии отклонений от нормальных режимов электропотребления (временное изменение схем питания, остановка на ремонт, резкое снижение
A41: эл.потребления и т.д.) последние необходимо перечислить.
A42: 2. При наличии нескольких источников питания и большого количества вводов таблица
A43: составляется самим предприятием с соблюдением всех пунктов настоящей таблицы. | K43: Главный инженер ___________________ А.А. Михалин

Sheet 73
B1: АО "Вологдаоблэнерго" | J1: код 900151 | K1: ПС "Вытегра"
B2: наименование предприятия | N2: наименование источника питания
B3: уч -к г. Вытегра
B4: ул. Горького, 99 | I4: Таблица № 1
B5: адрес
A6: почасовых записей показаний электрических счетчиков
A7: в режимный день18 ДЕКАБРЯ 2019 г..
A8: 847 | B8: 848
A9: часы суток | B9: Активная энергия | J9: Реактивная энергия
B10: ВЛ-6 кВ Ф-2 пр. Больница | F10: ВЛ-6 кВ Город | J10: =B10 -> ВЛ-6 кВ Ф-2 пр. Больница | N10: =F10 -> ВЛ-6 кВ Город
B11: Расчет. Коэф. | E11: 1800 | F11: Расчет. Коэф. | I11: 2400 | J11: Расчет. Коэф. | M11: =E11 -> 1800 | N11: Расчет. Коэф. | Q11: 2400
B12: показания счетчика | C12: разность | E12: расход эл.энергии за час | F12: показания счетчика | G12: разность | I12: расход эл.энергии за час | J12: показания счетчика | K12: разность | M12: расход эл.энергии за час | N12: показания счетчика | O12: разность | Q12: расход эл.энергии за час
A13: 1 | B13: 2 | C13: 3 | E13: 4 | F13: 5 | G13: 6 | I13: 7 | J13: 8 | K13: 9 | M13: 10 | N13: 11 | O13: 12 | Q13: 13
A14: 0
A15: 1 | E15: 211 | I15: 0 | M15: 105 | Q15: 0
A16: 2 | E16: 205 | I16: 0 | M16: 115 | Q16: 0
A17: 3 | E17: 200 | I17: 0 | M17: 115 | Q17: 0
A18: 4 | E18: 185 | I18: 0 | M18: 106 | Q18: 0
A19: 5 | E19: 199 | I19: 0 | M19: 108 | Q19: 0
A20: 6 | E20: 243 | I20: 0 | M20: 112 | Q20: 0
A21: 7 | E21: 311 | I21: 0 | M21: 125 | Q21: 0
A22: 8 | E22: 376 | I22: 0 | M22: 142 | Q22: 0
A23: 9 | E23: 401 | I23: 0 | M23: 157 | Q23: 0
A24: 10 | E24: 393 | I24: 0 | M24: 150 | Q24: 0
A25: 11 | E25: 369 | I25: 0 | M25: 151 | Q25: 0
A26: 12 | E26: 313 | I26: 0 | M26: 139 | Q26: 0
... A38: 24 | E38: 218 | I38: 0 | M38: 102 | Q38: 0
