Workbook

Sheet Содержание книги
A1: Содержание
A4: № листа | B4: Электросетевой участок | C4: Центр питания
A5: 1 а | B5: г. Вологда | C5: ОАО "БМЗ"
A6: 1, 2 | B6: г. Вологда | C6: ПС "АНАНЬИНО"
A7: 3 | B7: г. Вологда | C7: ПС "ИСКРА"
A8: 4 | B8: г. Вологда | C8: ПС "МАЕГА"
A9: 5,6, 7, 8, 9 | B9: г. Вологда | C9: ПС "ЗАПАДНАЯ
A10: 10 | B10: г. Вологда | C10: ПС "СЕВЕРНАЯ 35/6 кВ
A11: 11 | B11: г. Вологда | C11: РТП "ТЕПЛИЧНОГО ХОЗ - ВА"
A12: 12,13, 14 | B12: г. Вологда | C12: ГПП 110/10 кВ "ВОМЗ"
A13: 15,16,17,18,19,20, 21 | B13: г. Вологда | C13: ПС ВОЛОГДА-ЮЖНАЯ РУ - 6 -10 кВ
A14: 22 | B14: г. Вологда | C14: ГПП ВОЛОГДА - ТЯГОВАЯ 110/27,5/6 кВ
A15: 23 | B15: г. Вологда | C15: ТП 10 СЖД ОАО РЖД
A16: 24 | B16: г. Вологда | C16: ТП 34 СЖД ОАО РЖД
A17: 25,26,27,28,29 | B17: г. Вологда | C17: ТГК- 2 ВТЭЦ РП 6 кВ
A18: 30,31,32,33,34 | B18: г. Вологда | C18: ПС "ЦЕНТРАЛЬНАЯ" 110/6 кВ
A19: 35, 36 | B19: г. Вологда | C19: ПС "ГОРОДСКАЯ" 35/6 кВ
A20: 37, 38, 39 | B20: г. Вологда | C20: ПС "ВОСТОЧНАЯ" 110/35/10 кВ
A21: 40, 41 | B21: г. Вологда | C21: ПС "ЛУГОВАЯ"
A22: 42 | B22: г. Вологда | C22: РП "ГОРКА"
A23: 43, 44 | B23: г. Вологда | C23: ГПП 2 ЗАО ВПЗ
A24: 45 | B24: г. Вологда | C24: ГПП 1 ЗАО ВПЗ
A25: 46 | B25: ЭСУ "Кубенское" | C25: ПС "Кубенское"
A26: 47, 48 | B26: ЭСУ п. Молочное | C26: ПС "Молочное" 35/10 кВ
A27: 49, 50, 50-1, 50-2, 50-3 | B27: ЭСУ "Устье-Кубенское" | C27: РТП "КОРНИЛОВО" 35/10 кВ
A28: 51, 52, 53 | B28: ЭСУ "Шуйское" | C28: ПС "ШУЙСКОЕ" 35/ 10 кВ
A29: 54.55 | B29: ЭСУ г. Сокол | C29: ПС "ГДЗ" 110/6 кВ
B30: ЭСУ г. Сокол
A31: 56, 57, 58, | B31: ЭСУ г. Сокол | C31: ОАО "Сокольский" ЦБК" ГПП 35/6 кВ
A32: 59 | B32: ЭСУ г. Сокол | C32: ОАО "Сокольский" ЦБК" ГПП 110/6 кВ
A33: 60, 61, 62, 63 | B33: ЭСУ г. Сокол | C33: ООО "Сухонский ЦБК" ГПП 110/6 кВ
A34: 64-66 | B34: ЭСУ "Белозерск"
A35: 67-75 | B35: ЭСУ "Вытегра"
A36: 76-81_1 | B36: ЭСУ "Харовск"
A37: 82-86 | B37: ЭТУ "Вожега"
A38: 87-91 | B38: ЭТУ "Тотьма"
A39: 92-95 | B39: ЭСУ "Сямжа"
A40: 96-97 | B40: ЭСУ "Грязовец"
A42: Содержание
A45: № листа | B45: Электросетевой участок | C45: Центр питания
...

Sheet 1а
B1: АО "Вологдаоблэнерго" | J1: код 900151 | K1: ПС "Вологда-Южная"РУ 6кВ - транзит через "БМЗ"
A2: наименование предприятия | N2: наименование источника питания
N3: _________________________________
B4: ул. Горького, 99 | I4: Таблица № 1 | O4: РТП 25 Т1, Т2
A5: адрес
A6: почасовых записей показаний электрических счетчиков
A7: в режимный день18 ДЕКАБРЯ 2019 г..
A8: 143 | B8: 144
A9: часы суток | B9: Активная энергия | J9: Реактивная энергия
B10: яч. Т1 | F10: яч. Т2 | J10: яч. Т1 | N10: яч. Т2
B11: Расчет. Коэф. | E11: 600 | F11: расчетный коэф. | I11: 600 | J11: расчетный коэф. | M11: =E11 -> 600 | N11: расчетный коэф. | Q11: =I11 -> 600
B12: показания счетчика | C12: разность | E12: расход эл.энергии за час | F12: показания счетчика | G12: разность | I12: расход эл.энергии за час | J12: показания счетчика | K12: разность | M12: расход эл.энергии за час | N12: показания счетчика | O12: разность | Q12: расход эл.энергии за час
A13: 1 | B13: 2 | C13: 3 | E13: 4 | F13: 5 | G13: 6 | I13: 7 | J13: 8 | K13: 9 | M13: 10 | N13: 11 | O13: 12 | Q13: 13
A14: 0
A15: 1 | E15: 192.12 | I15: 61.86 | M15: 30 | Q15: 36.6
A16: 2 | E16: 182.76 | I16: 54 | M16: 29.16 | Q16: 35.04
A17: 3 | E17: 178.68 | I17: 49.02 | M17: 28.56 | Q17: 33.78
A18: 4 | E18: 177 | I18: 47.28 | M18: 27.96 | Q18: 34.14
A19: 5 | E19: 177.36 | I19: 46.26 | M19: 28.32 | Q19: 32.94
A20: 6 | E20: 189.6 | I20: 53.04 | M20: 29.4 | Q20: 32.58
A21: 7 | E21: 201.6 | I21: 88.5 | M21: 28.92 | Q21: 32.76
A22: 8 | E22: 224.04 | I22: 113.88 | M22: 35.16 | Q22: 34.56
A23: 9 | E23: 249.6 | I23: 114 | M23: 49.32 | Q23: 38.58
A24: 10 | E24: 263.4 | I24: 113.46 | M24: 54.24 | Q24: 40.32
A25: 11 | E25: 266.52 | I25: 112.32 | M25: 53.88 | Q25: 42.24
A26: 12 | E26: 260.16 | I26: 105.42 | M26: 52.44 | Q26: 42.54
... A38: 24 | E38: 212.52 | I38: 82.26 | M38: 33.96 | Q38: 37.92
A39: Итого | E39: =SUM(E15:E38) -> 5658.36 | I39: =SUM(I15:I38) -> 2246.82 | M39: =SUM(M15:M38) -> 961.56 | Q39: =SUM(Q15:Q38) -> 923.1
A40: 1. При наличии на предприятии отклонений от нормальных режимов электропотребления (временное изменение схем питания, остановка на ремонт, резкое снижение
A41: эл.потребления и т.д.) последние необходимо перечислить.
A42: 2. При наличии нескольких источников питания и большого количества вводов таблица
A43: составляется самим предприятием с соблюдением всех пунктов настоящей таблицы. | K43: Главный инженер _____________________________ | Q43: А.А. Михалин
A48: 1 | B48: 2 | C48: 3 | D48: 4 | E48: 5 | F48: 6 | G48: 7 | H48: 8 | I48: 9 | J48: 10 | K48: 11 | L48: 12 | M48: 13 | N48: 14 | O48: 15 | P48: 16 | Q48: 17

Sheet 1
B1: АО "Вологдаоблэнерго" | J1: код 900151 | N1: ПС "АНАНЬИНО"
B2: наименование предприятия | N2: наименование источника питания
N3: _________________________________
B4: ул. Горького, 99 | I4: Таблица № 1 | O4: ВЛ № 31
B5: адрес
A6: почасовых записей показаний электрических счетчиков
A7: в режимный день18 ДЕКАБРЯ 2019 г..
A8: 1629
A9: часы суток | B9: Активная энергия | J9: Реактивная энергия
B10: ЯЧ. № 7 - Ф."Город 7" | J10: ЯЧ. № 7 - Ф."Город 7"
B11: Расчет. Коэф. | E11: 3600 | F11: Расчет. Коэф. | J11: Расчет. Коэф. | M11: =E11 -> 3600 | N11: Расчет. Коэф.
B12: показания счетчика | C12: разность | E12: расход эл.энергии за час | F12: показания счетчика | G12: разность | I12: расход эл.энергии за час | J12: показания счетчика | K12: разность | M12: расход эл.энергии за час | N12: показания счетчика | O12: разность | Q12: расход эл.энергии за час
A13: 1 | B13: 2 | C13: 3 | E13: 4 | F13: 5 | G13: 6 | I13: 7 | J13: 8 | K13: 9 | M13: 10 | N13: 11 | O13: 12 | Q13: 13
A14: 0
A15: 1 | E15: 636 | M15: 178
A16: 2 | E16: 610 | M16: 179
A17: 3 | E17: 589 | M17: 178
A18: 4 | E18: 584 | M18: 174
A19: 5 | E19: 601 | M19: 172
A20: 6 | E20: 611 | M20: 168
A21: 7 | E21: 659 | M21: 172
A22: 8 | E22: 732 | M22: 192
A23: 9 | E23: 824 | M23: 237
A24: 10 | E24: 892 | M24: 269
A25: 11 | E25: 877 | M25: 277
A26: 12 | E26: 855 | M26: 269
... A38: 24 | E38: 649 | M38: 197
A39: Итого | E39: =SUM(E15:E38) -> 17642 | I39: =SUM(I15:I38) -> 0 | M39: =SUM(M15:M38) -> 5240 | Q39: =SUM(Q15:Q38) -> 0
A40: 1. При наличии на предприятии отклонений от нормальных режимов электропотребления (временное изменение схем питания, остановка на ремонт, резкое снижение
A41: эл.потребления и т.д.) последние необходимо перечислить.
A42: 2. При наличии нескольких источников питания и большого количества вводов таблица
A43: составляется самим предприятием с соблюдением всех пунктов настоящей таблицы. | K43: Главный инженер ___________________ А.А. Михалин

Sheet 2
B1: АО "Вологдаоблэнерго" | J1: код 900151 | N1: ПС "АНАНЬИНО"
B2: наименование предприятия | N2: наименование источника питания
N3: _________________________________
B4: ул. Горького, 99 | I4: Таблица № 1 | O4: РП 36 ф 16; ТП 360
B5: адрес
A6: почасовых записей показаний электрических счетчиков
A7: в режимный день18 ДЕКАБРЯ 2019 г..
A8: 1630 | B8: 1628
A9: часы суток | B9: Активная энергия | J9: Реактивная энергия
B10: ЯЧ. № 2 - Ф."Овощехранилище" | F10: ЯЧ. № 8 - Ф."Городской" | J10: ЯЧ. № 2 - Ф."Овощехранилище" | N10: ЯЧ. № 8 - Ф."Городской"
B11: Расчет. Коэф. | E11: 3600 | F11: Расчет. Коэф. | I11: 2400 | J11: Расчет. Коэф. | M11: =E11 -> 3600 | N11: Расчет. Коэф. | Q11: =I11 -> 2400
B12: показания счетчика | C12: разность | E12: расход эл.энергии за час | F12: показания счетчика | G12: разность | I12: расход эл.энергии за час | J12: показания счетчика | K12: разность | M12: расход эл.энергии за час | N12: показания счетчика | O12: разность | Q12: расход эл.энергии за час
A13: 1 | B13: 2 | C13: 3 | E13: 4 | F13: 5 | G13: 6 | I13: 7 | J13: 8 | K13: 9 | M13: 10 | N13: 11 | O13: 12 | Q13: 13
A14: 0
A15: 1 | E15: 279 | I15: 263 | M15: 132 | Q15: 77
A16: 2 | E16: 284 | I16: 247 | M16: 134 | Q16: 78
A17: 3 | E17: 258 | I17: 243 | M17: 126 | Q17: 77
A18: 4 | E18: 271 | I18: 238 | M18: 131 | Q18: 75
A19: 5 | E19: 276 | I19: 255 | M19: 127 | Q19: 74
A20: 6 | E20: 255 | I20: 272 | M20: 121 | Q20: 75
A21: 7 | E21: 211 | I21: 297 | M21: 75 | Q21: 81
A22: 8 | E22: 221 | I22: 327 | M22: 59 | Q22: 93
A23: 9 | E23: 369 | I23: 318 | M23: 157 | Q23: 89
A24: 10 | E24: 471 | I24: 301 | M24: 238 | Q24: 84
A25: 11 | E25: 437 | I25: 295 | M25: 208 | Q25: 81
A26: 12 | E26: 433 | I26: 303 | M26: 229 | Q26: 80
... A38: 24 | E38: 284 | I38: 294 | M38: 143 | Q38: 81
A39: Итого | E39: =SUM(E15:E38) -> 8027 | I39: =SUM(I15:I38) -> 7163 | M39: =SUM(M15:M38) -> 3868 | Q39: =SUM(Q15:Q38) -> 2006
A40: 1. При наличии на предприятии отклонений от нормальных режимов электропотребления (временное изменение схем питания, остановка на ремонт, резкое снижение
A41: эл.потребления и т.д.) последние необходимо перечислить.
A42: 2. При наличии нескольких источников питания и большого количества вводов таблица
A43: составляется самим предприятием с соблюдением всех пунктов настоящей таблицы. | K43: Главный инженер ___________________ А.А. Михалин

Sheet 3
B1: АО "Вологдаоблэнерго" | J1: код 900151 | N1: ПС "ИСКРА"
B2: наименование предприятия | N2: наименование источника питания
N3: яч. 18 ф."РУБЦОВО"
B4: ул. Горького, 99 | I4: Таблица № 1 | O4: ВЛ-10кВ № 2
B5: адрес
A6: почасовых записей показаний электрических счетчиков
A7: в режимный день18 ДЕКАБРЯ 2019 г..
A8: 374
A9: часы суток | B9: Активная энергия | J9: Реактивная энергия
B10: яч. 18 ф."РУБЦОВО"- СВ - ВЛ№2 | J10: яч. 18 ф."РУБЦОВО"- СВ - ВЛ№2
B11: Расчет. Коэф. | E11: 1000 | F11: Расчет. Коэф. | I11: 0 | J11: Расчет. Коэф. | M11: =E11 -> 1000 | N11: Расчет. Коэф. | Q11: =I11 -> 0
B12: показания счетчика | C12: разность | E12: расход эл.энергии за час | F12: показания счетчика | G12: разность | I12: расход эл.энергии за час | J12: показания счетчика | K12: разность | M12: расход эл.энергии за час | N12: показания счетчика | O12: разность | Q12: расход эл.энергии за час
A13: 1 | B13: 2 | C13: 3 | E13: 4 | F13: 5 | G13: 6 | I13: 7 | J13: 8 | K13: 9 | M13: 10 | N13: 11 | O13: 12 | Q13: 13
A14: 0
A15: 1 | E15: 494.8 | M15: 46.8
A16: 2 | E16: 500.2 | M16: 44.8
A17: 3 | E17: 483 | M17: 45.6
A18: 4 | E18: 481.8 | M18: 44.4
A19: 5 | E19: 457.4 | M19: 42.2
A20: 6 | E20: 491.8 | M20: 43
A21: 7 | E21: 526.4 | M21: 43.4
A22: 8 | E22: 513.8 | M22: 43.2
A23: 9 | E23: 518.8 | M23: 44.4
A24: 10 | E24: 474.4 | M24: 51.8
A25: 11 | E25: 471.8 | M25: 54.4
A26: 12 | E26: 458.6 | M26: 53
... A38: 24 | E38: 522.4 | M38: 54.8
A39: Итого | E39: =SUM(E15:E38) -> 12141.2 | I39: =SUM(I15:I38) -> 0 | M39: =SUM(M15:M38) -> 1226.2 | Q39: =SUM(Q15:Q38) -> 0
A40: 1. При наличии на предприятии отклонений от нормальных режимов электропотребления (временное изменение схем питания, остановка на ремонт, резкое снижение
A41: эл.потребления и т.д.) последние необходимо перечислить.
A42: 2. При наличии нескольких источников питания и большого количества вводов таблица
A43: составляется самим предприятием с соблюдением всех пунктов настоящей таблицы. | K43: Главный инженер ___________________ А.А. Михалин

Sheet 4
B1: АО "Вологдаоблэнерго" | J1: код 900151 | N1: ПС "МАЕГА"
B2: наименование предприятия | N2: наименование источника питания
N3: яч. 13 - Ф НИКИТИНО
B4: ул. Горького, 99 | I4: Таблица № 1 | O4: ВЛ №27
B5: адрес
A6: почасовых записей показаний электрических счетчиков
A7: в режимный день18 ДЕКАБРЯ 2019 г..
A8: 363
A9: часы суток | B9: Активная энергия | J9: Реактивная энергия
B10: яч. 13 - Ф НИКИТИНО-СВ - ВЛ№27 | J10: яч. 13 - Ф НИКИТИНО-СВ - ВЛ№27
B11: Расчет. Коэф. | E11: 1500 | F11: Расчет. Коэф. | I11: 0 | J11: Расчет. Коэф. | M11: =E11 -> 1500 | N11: Расчет. Коэф. | Q11: =I11 -> 0
B12: показания счетчика | C12: разность | E12: расход эл.энергии за час | F12: показания счетчика | G12: разность | I12: расход эл.энергии за час | J12: показания счетчика | K12: разность | M12: расход эл.энергии за час | N12: показания счетчика | O12: разность | Q12: расход эл.энергии за час
A13: 1 | B13: 2 | C13: 3 | E13: 4 | F13: 5 | G13: 6 | I13: 7 | J13: 8 | K13: 9 | M13: 10 | N13: 11 | O13: 12 | Q13: 13
A14: 0
A15: 1 | E15: 585.3 | M15: 50.25
A16: 2 | E16: 539.4 | M16: 46.65
A17: 3 | E17: 525.15 | M17: 44.55
A18: 4 | E18: 521.7 | M18: 45
A19: 5 | E19: 535.8 | M19: 41.4
A20: 6 | E20: 585.75 | M20: 46.65
A21: 7 | E21: 651 | M21: 52.35
A22: 8 | E22: 679.95 | M22: 69.15
A23: 9 | E23: 688.95 | M23: 88.2
A24: 10 | E24: 671.55 | M24: 91.2
A25: 11 | E25: 647.4 | M25: 80.1
A26: 12 | E26: 699.15 | M26: 98.1
... A38: 24 | E38: 628.8 | M38: 54
A39: Итого | E39: =SUM(E15:E38) -> 15986.7 | I39: =SUM(I15:I38) -> 0 | M39: =SUM(M15:M38) -> 1645.65 | Q39: =SUM(Q15:Q38) -> 0
A40: 1. При наличии на предприятии отклонений от нормальных режимов электропотребления (временное изменение схем питания, остановка на ремонт, резкое снижение
A41: эл.потребления и т.д.) последние необходимо перечислить.
A42: 2. При наличии нескольких источников питания и большого количества вводов таблица
A43: составляется самим предприятием с соблюдением всех пунктов настоящей таблицы. | K43: Главный инженер ___________________ А.А. Михалин

Sheet 5
B1: АО "Вологдаоблэнерго" | J1: код 900151 | N1: ПС "ЗАПАДНАЯ"
B2: наименование предприятия | N2: наименование источника питания
N3: _________________________________
B4: ул. Горького, 99 | I4: Таблица № 1 | O4: РП 16
B5: адрес
A6: почасовых записей показаний электрических счетчиков
A7: в режимный день18 ДЕКАБРЯ 2019 г..
A8: 372 | B8: 368
A9: часы суток | B9: Активная энергия | J9: Реактивная энергия
B10: Яч. 21 - "РМЗ-1" | F10: Яч. 28 - "РМЗ-2" | J10: Яч. 21 - "РМЗ-1" | N10: Яч. 28 - "РМЗ-2"
B11: Расчет. Коэф. | E11: 7200 | F11: Расчет. Коэф. | I11: 7200 | J11: Расчет. Коэф. | M11: =E11 -> 7200 | N11: Расчет. Коэф. | Q11: =I11 -> 7200
B12: показания счетчика | C12: разность | E12: расход эл.энергии за час | F12: показания счетчика | G12: разность | I12: расход эл.энергии за час | J12: показания счетчика | K12: разность | M12: расход эл.энергии за час | N12: показания счетчика | O12: разность | Q12: расход эл.энергии за час
A13: 1 | B13: 2 | C13: 3 | E13: 4 | F13: 5 | G13: 6 | I13: 7 | J13: 8 | K13: 9 | M13: 10 | N13: 11 | O13: 12 | Q13: 13
A14: 0
A15: 1 | E15: 353 | I15: 1075 | M15: 84 | Q15: 212
A16: 2 | E16: 329 | I16: 1002 | M16: 85 | Q16: 209
A17: 3 | E17: 318 | I17: 966 | M17: 84 | Q17: 210
A18: 4 | E18: 338 | I18: 965 | M18: 86 | Q18: 206
A19: 5 | E19: 361 | I19: 945 | M19: 86 | Q19: 201
A20: 6 | E20: 374 | I20: 1016 | M20: 87 | Q20: 203
A21: 7 | E21: 422 | I21: 1257 | M21: 102 | Q21: 222
A22: 8 | E22: 597 | I22: 1475 | M22: 207 | Q22: 327
A23: 9 | E23: 740 | I23: 1662 | M23: 301 | Q23: 402
A24: 10 | E24: 805 | I24: 1829 | M24: 318 | Q24: 475
A25: 11 | E25: 812 | I25: 1984 | M25: 306 | Q25: 532
A26: 12 | E26: 781 | I26: 2042 | M26: 315 | Q26: 572
... A38: 24 | E38: 406 | I38: 1239 | M38: 84 | Q38: 221
A39: Итого | E39: =SUM(E15:E38) -> 14168 | I39: =SUM(I15:I38) -> 37143 | M39: =SUM(M15:M38) -> 4540 | Q39: =SUM(Q15:Q38) -> 8252
A40: 1. При наличии на предприятии отклонений от нормальных режимов электропотребления (временное изменение схем питания, остановка на ремонт, резкое снижение
A41: эл.потребления и т.д.) последние необходимо перечислить.
A42: 2. При наличии нескольких источников питания и большого количества вводов таблица
A43: составляется самим предприятием с соблюдением всех пунктов настоящей таблицы. | K43: Главный инженер ___________________ А.А. Михалин

Sheet 6
B1: АО "Вологдаоблэнерго" | J1: код 900151 | N1: ПС "ЗАПАДНАЯ"
B2: наименование предприятия | N2: наименование источника питания
N3: _________________________________
B4: ул. Горького, 99 | I4: Таблица № 1 | N4: РП 10 ф7 | Q4: РП 36 ф17
B5: адрес
A6: почасовых записей показаний электрических счетчиков
A7: в режимный день18 ДЕКАБРЯ 2019 г..
A8: 370 | B8: 365
A9: часы суток | B9: Активная энергия | J9: Реактивная энергия
B10: яч. 16 - ф."ОЧИСТНЫЕ-1" | F10: яч. 24 - "ГОРОД-1" | J10: яч. 16 - ф."ОЧИСТНЫЕ-1" | N10: яч. 24 - "ГОРОД-1"
B11: Расчет. Коэф. | E11: 4800 | F11: Расчет. Коэф. | I11: 7200 | J11: Расчет. Коэф. | M11: =E11 -> 4800 | N11: Расчет. Коэф. | Q11: =I11 -> 7200
B12: показания счетчика | C12: разность | E12: расход эл.энергии за час | F12: показания счетчика | G12: разность | I12: расход эл.энергии за час | J12: показания счетчика | K12: разность | M12: расход эл.энергии за час | N12: показания счетчика | O12: разность | Q12: расход эл.энергии за час
A13: 1 | B13: 2 | C13: 3 | E13: 4 | F13: 5 | G13: 6 | I13: 7 | J13: 8 | K13: 9 | M13: 10 | N13: 11 | O13: 12 | Q13: 13
A14: 0
A15: 1 | E15: 298 | I15: 1114 | M15: 57 | Q15: 583
A16: 2 | E16: 267 | I16: 1026 | M16: 52 | Q16: 523
A17: 3 | E17: 257 | I17: 1026 | M17: 51 | Q17: 475
A18: 4 | E18: 256 | I18: 1103 | M18: 48 | Q18: 562
A19: 5 | E19: 256 | I19: 1014 | M19: 49 | Q19: 545
A20: 6 | E20: 258 | I20: 1051 | M20: 50 | Q20: 543
A21: 7 | E21: 273 | I21: 980 | M21: 52 | Q21: 517
A22: 8 | E22: 353 | I22: 1046 | M22: 65 | Q22: 500
A23: 9 | E23: 363 | I23: 1085 | M23: 65 | Q23: 512
A24: 10 | E24: 538 | I24: 1143 | M24: 97 | Q24: 517
A25: 11 | E25: 661 | I25: 1260 | M25: 122 | Q25: 595
A26: 12 | E26: 573 | I26: 1158 | M26: 100 | Q26: 528
... A38: 24 | E38: 347 | I38: 1026 | M38: 63 | Q38: 510
A39: Итого | E39: =SUM(E15:E38) -> 9840 | I39: =SUM(I15:I38) -> 26703 | M39: =SUM(M15:M38) -> 1784 | Q39: =SUM(Q15:Q38) -> 13009
A40: 1. При наличии на предприятии отклонений от нормальных режимов электропотребления (временное изменение схем питания, остановка на ремонт, резкое снижение
A41: эл.потребления и т.д.) последние необходимо перечислить.
A42: 2. При наличии нескольких источников питания и большого количества вводов таблица
A43: составляется самим предприятием с соблюдением всех пунктов настоящей таблицы. | K43: Главный инженер ___________________ А.А. Михалин

Sheet 7
B1: АО "Вологдаоблэнерго" | J1: код 900151 | N1: ПС "ЗАПАДНАЯ"
B2: наименование предприятия | N2: наименование источника питания
N3: _________________________________
B4: ул. Горького, 99 | I4: Таблица № 1 | O4: РП 7
B5: адрес
A6: почасовых записей показаний электрических счетчиков
A7: в режимный день18 ДЕКАБРЯ 2019 г..
A8: 371 | B8: 367
A9: часы суток | B9: Активная энергия | J9: Реактивная энергия
B10: яч. 3 "П/Я-1" | F10: яч. 10 "П/Я-2" | J10: яч. 3 "П/Я-1" | N10: яч. 10 "П/Я-2"
B11: Расчет. Коэф. | E11: 12000 | F11: Расчет. Коэф. | I11: 7200 | J11: Расчет. Коэф. | M11: =E11 -> 12000 | N11: Расчет. Коэф. | Q11: =I11 -> 7200
B12: показания счетчика | C12: разность | E12: расход эл.энергии за час | F12: показания счетчика | G12: разность | I12: расход эл.энергии за час | J12: показания счетчика | K12: разность | M12: расход эл.энергии за час | N12: показания счетчика | O12: разность | Q12: расход эл.энергии за час
A13: 1 | B13: 2 | C13: 3 | E13: 4 | F13: 5 | G13: 6 | I13: 7 | J13: 8 | K13: 9 | M13: 10 | N13: 11 | O13: 12 | Q13: 13
A14: 0
A15: 1 | E15: 1116 | I15: 1989 | M15: 361 | Q15: 651
A16: 2 | E16: 1098 | I16: 1906 | M16: 371 | Q16: 635
A17: 3 | E17: 1077 | I17: 1813 | M17: 366 | Q17: 613
A18: 4 | E18: 1093 | I18: 1803 | M18: 365 | Q18: 619
A19: 5 | E19: 1102 | I19: 1822 | M19: 360 | Q19: 616
A20: 6 | E20: 1143 | I20: 1911 | M20: 321 | Q20: 623
A21: 7 | E21: 1122 | I21: 2206 | M21: 304 | Q21: 646
A22: 8 | E22: 1253 | I22: 2393 | M22: 316 | Q22: 659
A23: 9 | E23: 1448 | I23: 2584 | M23: 492 | Q23: 743
A24: 10 | E24: 1532 | I24: 2541 | M24: 488 | Q24: 774
A25: 11 | E25: 1533 | I25: 2494 | M25: 515 | Q25: 737
A26: 12 | E26: 1445 | I26: 2468 | M26: 514 | Q26: 737
... A38: 24 | E38: 1131 | I38: 2155 | M38: 354 | Q38: 646
A39: Итого | E39: =SUM(E15:E38) -> 30810 | I39: =SUM(I15:I38) -> 56835 | M39: =SUM(M15:M38) -> 9447 | Q39: =SUM(Q15:Q38) -> 16540
A40: 1. При наличии на предприятии отклонений от нормальных режимов электропотребления (временное изменение схем питания, остановка на ремонт, резкое снижение
A41: эл.потребления и т.д.) последние необходимо перечислить.
A42: 2. При наличии нескольких источников питания и большого количества вводов таблица
A43: составляется самим предприятием с соблюдением всех пунктов настоящей таблицы. | K43: Главный инженер ___________________ А.А. Михалин

Sheet 8
B1: АО "Вологдаоблэнерго" | J1: код 900151 | N1: ПС "ЗАПАДНАЯ"
B2: наименование предприятия | I2: _ | N2: наименование источника питания
N3: _________________________________
B4: ул. Горького, 99 | I4: Таблица № 1 | O4: РП 35; РП 37
B5: адрес
A6: почасовых записей показаний электрических счетчиков
A7: в режимный день18 ДЕКАБРЯ 2019 г..
A8: 129 | B8: 130
A9: часы суток | B9: Активная энергия | J9: Реактивная энергия
B10: яч. 15 "РП -35" | F10: яч. 35 "РП-37" | J10: яч. 15 "РП -35" | N10: яч. 35 "РП-37"
B11: Расчет. Коэф. | E11: 3600 | F11: Расчет. Коэф. | I11: 4800 | J11: Расчет. Коэф. | M11: =E11 -> 3600 | N11: Расчет. Коэф. | Q11: =I11 -> 4800
B12: показания счетчика | C12: разность | E12: расход эл.энергии за час | F12: показания счетчика | G12: разность | I12: расход эл.энергии за час | J12: показания счетчика | K12: разность | M12: расход эл.энергии за час | N12: показания счетчика | O12: разность | Q12: расход эл.энергии за час
A13: 1 | B13: 2 | C13: 3 | E13: 4 | F13: 5 | G13: 6 | I13: 7 | J13: 8 | K13: 9 | M13: 10 | N13: 11 | O13: 12 | Q13: 13
A14: 0
A15: 1 | E15: 0 | I15: 667 | M15: 0 | Q15: 237
A16: 2 | E16: 0 | I16: 664 | M16: 0 | Q16: 238
A17: 3 | E17: 0 | I17: 705 | M17: 0 | Q17: 259
A18: 4 | E18: 0 | I18: 631 | M18: 0 | Q18: 225
A19: 5 | E19: 0 | I19: 617 | M19: 0 | Q19: 219
A20: 6 | E20: 0 | I20: 690 | M20: 0 | Q20: 196
A21: 7 | E21: 0 | I21: 724 | M21: 0 | Q21: 196
A22: 8 | E22: 0 | I22: 757 | M22: 0 | Q22: 200
A23: 9 | E23: 0 | I23: 830 | M23: 0 | Q23: 241
A24: 10 | E24: 0 | I24: 828 | M24: 0 | Q24: 264
A25: 11 | E25: 0 | I25: 901 | M25: 0 | Q25: 300
A26: 12 | E26: 0 | I26: 816 | M26: 0 | Q26: 256
... A38: 24 | E38: 0 | I38: 702 | M38: 0 | Q38: 231
A39: Итого | E39: =SUM(E15:E38) -> 0 | I39: =SUM(I15:I38) -> 18518 | M39: =SUM(M15:M38) -> 0 | Q39: =SUM(Q15:Q38) -> 5919
A40: 1. При наличии на предприятии отклонений от нормальных режимов электропотребления (временное изменение схем питания, остановка на ремонт, резкое снижение
A41: эл.потребления и т.д.) последние необходимо перечислить.
A42: 2. При наличии нескольких источников питания и большого количества вводов таблица
A43: составляется самим предприятием с соблюдением всех пунктов настоящей таблицы. | K43: Главный инженер ___________________ А.А. Михалин

Sheet 9
B1: АО "Вологдаоблэнерго" | J1: код 900151 | N1: ПС "ЗАПАДНАЯ"
B2: наименование предприятия | N2: наименование источника питания
N3: _________________________________
B4: ул. Горького, 99 | I4: Таблица № 1 | O4: РП 28
B5: адрес
A6: почасовых записей показаний электрических счетчиков
A7: в режимный день18 ДЕКАБРЯ 2019 г..
A8: 366 | B8: 369
A9: часы суток | B9: Активная энергия | J9: Реактивная энергия
B10: яч. 17 "ГОРОД-2" | F10: яч. 22 - "ОЧИСТНЫЕ-2" | J10: ЯЧ. №11 - "ГОРОД-2" | N10: ЯЧ. №18 - "ОЧИСТНЫЕ-2"
B11: Расчет. Коэф. | E11: 7200 | F11: Расчет. Коэф. | I11: 7200 | J11: Расчет. Коэф. | M11: =E11 -> 7200 | N11: Расчет. Коэф. | Q11: =I11 -> 7200
B12: показания счетчика | C12: разность | E12: расход эл.энергии за час | F12: показания счетчика | G12: разность | I12: расход эл.энергии за час | J12: показания счетчика | K12: разность | M12: расход эл.энергии за час | N12: показания счетчика | O12: разность | Q12: расход эл.энергии за час
A13: 1 | B13: 2 | C13: 3 | E13: 4 | F13: 5 | G13: 6 | I13: 7 | J13: 8 | K13: 9 | M13: 10 | N13: 11 | O13: 12 | Q13: 13
A14: 0
A15: 1 | E15: 685 | I15: 1069 | M15: 211 | Q15: 632
A16: 2 | E16: 662 | I16: 1111 | M16: 216 | Q16: 664
A17: 3 | E17: 649 | I17: 1140 | M17: 210 | Q17: 674
A18: 4 | E18: 638 | I18: 1075 | M18: 204 | Q18: 631
A19: 5 | E19: 639 | I19: 1079 | M19: 204 | Q19: 635
A20: 6 | E20: 657 | I20: 1060 | M20: 203 | Q20: 570
A21: 7 | E21: 744 | I21: 1389 | M21: 207 | Q21: 568
A22: 8 | E22: 868 | I22: 1505 | M22: 249 | Q22: 625
A23: 9 | E23: 1071 | I23: 1523 | M23: 379 | Q23: 700
A24: 10 | E24: 1142 | I24: 1429 | M24: 456 | Q24: 726
A25: 11 | E25: 1164 | I25: 1430 | M25: 444 | Q25: 767
A26: 12 | E26: 1132 | I26: 1298 | M26: 451 | Q26: 669
... A38: 24 | E38: 756 | I38: 1117 | M38: 208 | Q38: 626
A39: Итого | E39: =SUM(E15:E38) -> 22168 | I39: =SUM(I15:I38) -> 30992 | M39: =SUM(M15:M38) -> 7478 | Q39: =SUM(Q15:Q38) -> 15363
A40: 1. При наличии на предприятии отклонений от нормальных режимов электропотребления (временное изменение схем питания, остановка на ремонт, резкое снижение
A41: эл.потребления и т.д.) последние необходимо перечислить.
A42: 2. При наличии нескольких источников питания и большого количества вводов таблица
A43: составляется самим предприятием с соблюдением всех пунктов настоящей таблицы. | K43: Главный инженер ___________________ А.А. Михалин

Sheet 10
B1: АО "Вологдаоблэнерго" | J1: код 900151 | N1: ПС "СЕВЕРНАЯ 35/6 кВ
B2: наименование предприятия | N2: наименование источника питания
N3: _________________________________
B4: ул. Горького, 99 | I4: Таблица № 1 | N4: Т1, Т2 | O4: РП 5
B5: адрес
A6: почасовых записей показаний электрических счетчиков
A7: в режимный день18 ДЕКАБРЯ 2019 г..
A8: 325 | B8: 328
A9: часы суток | B9: Активная энергия | J9: Реактивная энергия
B10: Т 1 -РП 5 Ф 3 ввод № 1 | F10: Т 2 - РП 5 Ф 17 ввод № 2 | J10: Т 1 -РП 5 Ф 3 ввод № 1 | N10: Т 2 - РП 5 Ф 17 ввод № 2
B11: Расчет. Коэф. | E11: 18000 | F11: Расчет. Коэф. | I11: 18000 | J11: Расчет. Коэф. | M11: =E11 -> 18000 | N11: Расчет. Коэф. | Q11: =I11 -> 18000
B12: показания счетчика | C12: разность | E12: расход эл.энергии за час | F12: показания счетчика | G12: разность | I12: расход эл.энергии за час | J12: показания счетчика | K12: разность | M12: расход эл.энергии за час | N12: показания счетчика | O12: разность | Q12: расход эл.энергии за час
A13: 1 | B13: 2 | C13: 3 | E13: 4 | F13: 5 | G13: 6 | I13: 7 | J13: 8 | K13: 9 | M13: 10 | N13: 11 | O13: 12 | Q13: 13
A14: 0
A15: 1 | E15: 1314 | I15: 2046.6 | M15: 318.6 | Q15: 570.6
A16: 2 | E16: 1292.4 | I16: 1953 | M16: 340.2 | Q16: 572.4
A17: 3 | E17: 1274.4 | I17: 1895.4 | M17: 325.8 | Q17: 572.4
A18: 4 | E18: 1261.8 | I18: 1881 | M18: 343.8 | Q18: 558
A19: 5 | E19: 1260 | I19: 1879.2 | M19: 329.4 | Q19: 556.2
A20: 6 | E20: 1301.4 | I20: 2023.2 | M20: 324 | Q20: 554.4
A21: 7 | E21: 1441.8 | I21: 2419.2 | M21: 374.4 | Q21: 547.2
A22: 8 | E22: 1611 | I22: 2827.8 | M22: 412.2 | Q22: 658.8
A23: 9 | E23: 1699.2 | I23: 3178.8 | M23: 473.4 | Q23: 829.8
A24: 10 | E24: 1632.6 | I24: 3277.8 | M24: 469.8 | Q24: 846
A25: 11 | E25: 1636.2 | I25: 3270.6 | M25: 415.8 | Q25: 811.8
A26: 12 | E26: 1672.2 | I26: 3231 | M26: 482.4 | Q26: 806.4
... A38: 24 | E38: 1422 | I38: 2296.8 | M38: 342 | Q38: 556.2
A39: Итого | E39: =SUM(E15:E38) -> 37231.2 | I39: =SUM(I15:I38) -> 67131 | M39: =SUM(M15:M38) -> 9221.4 | Q39: =SUM(Q15:Q38) -> 16372.8
A40: 1. При наличии на предприятии отклонений от нормальных режимов электропотребления (временное изменение схем питания, остановка на ремонт, резкое снижение
A41: эл.потребления и т.д.) последние необходимо перечислить.
A42: 2. При наличии нескольких источников питания и большого количества вводов таблица
A43: составляется самим предприятием с соблюдением всех пунктов настоящей таблицы. | K43: Главный инженер ___________________ А.А. Михалин

Sheet 11
B1: АО "Вологдаоблэнерго" | G1: код 900151 | I1: ПС "ВОЛОГДА-ЮЖНАЯ" 110/6 транзит через РТП "ТЕПЛИЧНОГО ХОЗ - ВА"
B2: наименование предприятия | N2: наименование источника питания
N3: _________________________________
B4: ул. Горького, 99 | I4: Таблица № 1 | O4: ТП 438
B5: адрес
A6: почасовых записей показаний электрических счетчиков
A7: в режимный день18 ДЕКАБРЯ 2019 г..
A8: 635 | B8: 634
A9: часы суток | B9: Активная энергия | J9: Реактивная энергия
B10: ЯЧ. 3 - ф. "Микрорайон-1" ввод № 1 | F10: яч. 13 - ф. "Микрорайон-2" ввод № 2 | J10: ЯЧ. 3 - ф. "Микрорайон-1" ввод № 1 | N10: яч. 13 - ф. "Микрорайон-2" ввод № 2
B11: Расчет. Коэф. | E11: 3600 | F11: Расчет. Коэф. | I11: 3600 | J11: Расчет. Коэф. | M11: =E11 -> 3600 | N11: Расчет. Коэф. | Q11: =I11 -> 3600
B12: показания счетчика | C12: разность | E12: расход эл.энергии за час | F12: показания счетчика | G12: разность | I12: расход эл.энергии за час | J12: показания счетчика | K12: разность | M12: расход эл.энергии за час | N12: показания счетчика | O12: разность | Q12: расход эл.энергии за час
A13: 1 | B13: 2 | C13: 3 | E13: 4 | F13: 5 | G13: 6 | I13: 7 | J13: 8 | K13: 9 | M13: 10 | N13: 11 | O13: 12 | Q13: 13
A14: 0
A15: 1 | E15: 118.8 | I15: 126 | M15: 40.32 | Q15: 44.64
A16: 2 | E16: 105.84 | I16: 110.52 | M16: 38.16 | Q16: 43.56
A17: 3 | E17: 104.04 | I17: 105.84 | M17: 37.44 | Q17: 44.64
A18: 4 | E18: 101.88 | I18: 99 | M18: 37.44 | Q18: 43.2
A19: 5 | E19: 100.44 | I19: 99 | M19: 37.08 | Q19: 43.2
A20: 6 | E20: 111.96 | I20: 120.6 | M20: 37.8 | Q20: 45.72
A21: 7 | E21: 158.4 | I21: 169.92 | M21: 40.32 | Q21: 47.16
A22: 8 | E22: 181.8 | I22: 191.88 | M22: 45 | Q22: 50.4
A23: 9 | E23: 200.16 | I23: 245.52 | M23: 54 | Q23: 57.6
A24: 10 | E24: 200.52 | I24: 218.16 | M24: 55.8 | Q24: 51.12
A25: 11 | E25: 205.56 | I25: 223.2 | M25: 55.08 | Q25: 54
A26: 12 | E26: 204.84 | I26: 213.84 | M26: 54.72 | Q26: 53.64
... A38: 24 | E38: 143.64 | I38: 166.68 | M38: 45.36 | Q38: 53.28
A39: Итого | E39: =SUM(E15:E38) -> 4164.48 | I39: =SUM(I15:I38) -> 4752.72 | M39: =SUM(M15:M38) -> 1166.76 | Q39: =SUM(Q15:Q38) -> 1240.56
A40: 1. При наличии на предприятии отклонений от нормальных режимов электропотребления (временное изменение схем питания, остановка на ремонт, резкое снижение
A41: эл.потребления и т.д.) последние необходимо перечислить.
A42: 2. При наличии нескольких источников питания и большого количества вводов таблица
A43: составляется самим предприятием с соблюдением всех пунктов настоящей таблицы. | K43: Главный инженер _____________________________ | Q43: А.А. Михалин

Sheet 12
B1: АО "Вологдаоблэнерго" | J1: код 900151 | N1: ГПП 110/10 кВ "ВОМЗ"
B2: наименование предприятия | N2: наименование источника питания
N3: _________________________________
B4: ул. Горького, 99 | I4: Таблица № 1 | O4: РП 29
B5: адрес
A6: почасовых записей показаний электрических счетчиков
A7: в режимный день18 ДЕКАБРЯ 2019 г..
A8: 613 | B8: 610
A9: часы суток | B9: Активная энергия | J9: Реактивная энергия
B10: ЯЧ.47 - РП 29 ввод № 1 | F10: ЯЧ.31 - РП 29 ввод № 2 | J10: ЯЧ.47 - РП 29 ввод № 1 | N10: ЯЧ.31 - РП 29 ввод № 2
B11: Расчет. Коэф. | E11: 12000 | F11: Расчет. Коэф. | I11: 20000 | J11: Расчет. Коэф. | M11: =E11 -> 12000 | N11: Расчет. Коэф. | Q11: =I11 -> 20000
B12: показания счетчика | C12: разность | E12: расход эл.энергии за час | F12: показания счетчика | G12: разность | I12: расход эл.энергии за час | J12: показания счетчика | K12: разность | M12: расход эл.энергии за час | N12: показания счетчика | O12: разность | Q12: расход эл.энергии за час
A13: 1 | B13: 2 | C13: 3 | E13: 4 | F13: 5 | G13: 6 | I13: 7 | J13: 8 | K13: 9 | M13: 10 | N13: 11 | O13: 12 | Q13: 13
A14: 0
A15: 1 | E15: 1323 | I15: 422 | M15: 397 | Q15: 68
A16: 2 | E16: 1176 | I16: 392 | M16: 388 | Q16: 68
A17: 3 | E17: 1101 | I17: 386 | M17: 377 | Q17: 64
A18: 4 | E18: 1073 | I18: 380 | M18: 366 | Q18: 66
A19: 5 | E19: 1093 | I19: 384 | M19: 369 | Q19: 60
A20: 6 | E20: 1256 | I20: 400 | M20: 365 | Q20: 62
A21: 7 | E21: 1648 | I21: 528 | M21: 376 | Q21: 66
A22: 8 | E22: 2099 | I22: 738 | M22: 458 | Q22: 90
A23: 9 | E23: 2444 | I23: 988 | M23: 551 | Q23: 126
A24: 10 | E24: 2624 | I24: 1084 | M24: 547 | Q24: 138
A25: 11 | E25: 2724 | I25: 1128 | M25: 551 | Q25: 142
A26: 12 | E26: 2684 | I26: 1114 | M26: 549 | Q26: 138
... A38: 24 | E38: 1621 | I38: 510 | M38: 440 | Q38: 92
A39: Итого | E39: =SUM(E15:E38) -> 51337 | I39: =SUM(I15:I38) -> 18332 | M39: =SUM(M15:M38) -> 11508 | Q39: =SUM(Q15:Q38) -> 2536
A40: 1. При наличии на предприятии отклонений от нормальных режимов электропотребления (временное изменение схем питания, остановка на ремонт, резкое снижение
A41: эл.потребления и т.д.) последние необходимо перечислить.
A42: 2. При наличии нескольких источников питания и большого количества вводов таблица
A43: составляется самим предприятием с соблюдением всех пунктов настоящей таблицы. | K43: Главный инженер ___________________ А.А. Михалин

Sheet 13
B1: АО "Вологдаоблэнерго" | J1: код 900151 | N1: ГПП 110/10 кВ "ВОМЗ"
B2: наименование предприятия | N2: наименование источника питания
N3: _________________________________
B4: ул. Горького, 99 | I4: Таблица № 1 | O4: РП 14
B5: адрес
A6: почасовых записей показаний электрических счетчиков
A7: в режимный день18 ДЕКАБРЯ 2019 г..
A8: 614 | B8: 615
A9: часы суток | B9: Активная энергия | J9: Реактивная энергия
B10: ЯЧ.5 - РП 14 ввод № 1 | F10: ЯЧ.22 - РП 14 ввод № 2 | J10: ЯЧ.5 - РП 14 ввод № 1 | N10: ЯЧ.22 - РП 14 ввод № 2
B11: Расчет. Коэф. | E11: 12000 | F11: Расчет. Коэф. | I11: 12000 | J11: Расчет. Коэф. | M11: =E11 -> 12000 | N11: Расчет. Коэф. | Q11: =I11 -> 12000
B12: показания счетчика | C12: разность | E12: расход эл.энергии за час | F12: показания счетчика | G12: разность | I12: расход эл.энергии за час | J12: показания счетчика | K12: разность | M12: расход эл.энергии за час | N12: показания счетчика | O12: разность | Q12: расход эл.энергии за час
A13: 1 | B13: 2 | C13: 3 | E13: 4 | F13: 5 | G13: 6 | I13: 7 | J13: 8 | K13: 9 | M13: 10 | N13: 11 | O13: 12 | Q13: 13
A14: 0
A15: 1 | E15: 2814 | I15: 2570 | M15: 292 | Q15: 318
A16: 2 | E16: 2592 | I16: 2356 | M16: 267 | Q16: 300
A17: 3 | E17: 2459 | I17: 2264 | M17: 267 | Q17: 300
A18: 4 | E18: 2402 | I18: 2241 | M18: 245 | Q18: 289
A19: 5 | E19: 2440 | I19: 2255 | M19: 239 | Q19: 286
A20: 6 | E20: 2555 | I20: 2365 | M20: 240 | Q20: 279
A21: 7 | E21: 3050 | I21: 3084 | M21: 253 | Q21: 319
A22: 8 | E22: 3571 | I22: 3602 | M22: 343 | Q22: 406
A23: 9 | E23: 4031 | I23: 4019 | M23: 436 | Q23: 506
A24: 10 | E24: 4368 | I24: 4348 | M24: 478 | Q24: 554
A25: 11 | E25: 4591 | I25: 4442 | M25: 493 | Q25: 592
A26: 12 | E26: 4476 | I26: 4409 | M26: 459 | Q26: 590
... A38: 24 | E38: 3291 | I38: 3065 | M38: 349 | Q38: 385
A39: Итого | E39: =SUM(E15:E38) -> 93572 | I39: =SUM(I15:I38) -> 89094 | M39: =SUM(M15:M38) -> 9535 | Q39: =SUM(Q15:Q38) -> 11269
A40: 1. При наличии на предприятии отклонений от нормальных режимов электропотребления (временное изменение схем питания, остановка на ремонт, резкое снижение
A41: эл.потребления и т.д.) последние необходимо перечислить.
A42: 2. При наличии нескольких источников питания и большого количества вводов таблица
A43: составляется самим предприятием с соблюдением всех пунктов настоящей таблицы. | K43: Главный инженер ___________________ А.А. Михалин

Sheet 14
B1: АО "Вологдаоблэнерго" | J1: код 900151 | N1: ГПП 110/10 кВ "ВОМЗ"
B2: наименование предприятия | N2: наименование источника питания
N3: _________________________________
B4: ул. Горького, 99 | I4: Таблица № 1 | O4: РП 2
B5: адрес
A6: почасовых записей показаний электрических счетчиков
A7: в режимный день18 ДЕКАБРЯ 2019 г..
A8: 612 | B8: 611
A9: часы суток | B9: Активная энергия | J9: Реактивная энергия
B10: ЯЧ.44 - РП 2 ввод № 1 | F10: ЯЧ.26в - РП 2 ввод № 2 | J10: ЯЧ.44 - РП 2 ввод № 1 | N10: ЯЧ.26в - РП 2 ввод № 2
B11: Расчет. Коэф. | E11: 12000 | F11: Расчет. Коэф. | I11: 12000 | J11: Расчет. Коэф. | M11: =E11 -> 12000 | N11: Расчет. Коэф. | Q11: =I11 -> 12000
B12: показания счетчика | C12: разность | E12: расход эл.энергии за час | F12: показания счетчика | G12: разность | I12: расход эл.энергии за час | J12: показания счетчика | K12: разность | M12: расход эл.энергии за час | N12: показания счетчика | O12: разность | Q12: расход эл.энергии за час
A13: 1 | B13: 2 | C13: 3 | E13: 4 | F13: 5 | G13: 6 | I13: 7 | J13: 8 | K13: 9 | M13: 10 | N13: 11 | O13: 12 | Q13: 13
A14: 0
A15: 1 | E15: 484 | I15: 535 | M15: 29 | Q15: 31
A16: 2 | E16: 444 | I16: 491 | M16: 29 | Q16: 30
A17: 3 | E17: 418 | I17: 482 | M17: 26 | Q17: 44
A18: 4 | E18: 410 | I18: 472 | M18: 25 | Q18: 45
A19: 5 | E19: 419 | I19: 492 | M19: 20 | Q19: 38
A20: 6 | E20: 471 | I20: 517 | M20: 15 | Q20: 18
A21: 7 | E21: 555 | I21: 647 | M21: 15 | Q21: 31
A22: 8 | E22: 669 | I22: 773 | M22: 42 | Q22: 49
A23: 9 | E23: 794 | I23: 897 | M23: 93 | Q23: 90
A24: 10 | E24: 844 | I24: 1006 | M24: 102 | Q24: 90
A25: 11 | E25: 837 | I25: 1067 | M25: 105 | Q25: 106
A26: 12 | E26: 825 | I26: 1042 | M26: 90 | Q26: 104
... A38: 24 | E38: 572 | I38: 614 | M38: 48 | Q38: 59
A39: Итого | E39: =SUM(E15:E38) -> 16860 | I39: =SUM(I15:I38) -> 19627 | M39: =SUM(M15:M38) -> 1606 | Q39: =SUM(Q15:Q38) -> 1695
A40: 1. При наличии на предприятии отклонений от нормальных режимов электропотребления (временное изменение схем питания, остановка на ремонт, резкое снижение
A41: эл.потребления и т.д.) последние необходимо перечислить.
A42: 2. При наличии нескольких источников питания и большого количества вводов таблица
A43: составляется самим предприятием с соблюдением всех пунктов настоящей таблицы. | K43: Главный инженер ___________________ А.А. Михалин

Sheet 15
B1: АО "Вологдаоблэнерго" | J1: код 900151 | N1: ПС ВОЛОГДА-ЮЖНАЯ РУ - 6 кВ
B2: наименование предприятия | N2: наименование источника питания
N3: _________________________________
B4: ул. Горького, 99 | I4: Таблица № 1 | N4: ТП 450 | Q4: ТП 630
B5: адрес
A6: почасовых записей показаний электрических счетчиков
A7: в режимный день 18 ДЕКАБРЯ 2019 г..
A8: 591 | B8: 595
A9: часы суток | B9: Активная энергия | J9: Реактивная энергия
B10: ЯЧ.№ 206 - "ГОРОД-15" | F10: ЯЧ.№103 - "ТУБДИСПАНСЕР" | J10: =B10 -> ЯЧ.№ 206 - "ГОРОД-15" | N10: =F10 -> ЯЧ.№103 - "ТУБДИСПАНСЕР"
B11: Расчет. Коэф. | E11: 4800 | F11: Расчет. Коэф. | I11: 2400 | J11: Расчет. Коэф. | M11: =E11 -> 4800 | N11: Расчет. Коэф. | Q11: =I11 -> 2400
B12: показания счетчика | C12: разность | E12: расход эл.энергии за час | F12: показания счетчика | G12: разность | I12: расход эл.энергии за час | J12: показания счетчика | K12: разность | M12: расход эл.энергии за час | N12: показания счетчика | O12: разность | Q12: расход эл.энергии за час
A13: 1 | B13: 2 | C13: 3 | E13: 4 | F13: 5 | G13: 6 | I13: 7 | J13: 8 | K13: 9 | M13: 10 | N13: 11 | O13: 12 | Q13: 13
A14: 0
A15: 1 | E15: 171 | I15: 335 | M15: 52 | Q15: 70
A16: 2 | E16: 166 | I16: 318 | M16: 46 | Q16: 73
A17: 3 | E17: 124 | I17: 314 | M17: 24 | Q17: 71
A18: 4 | E18: 122 | I18: 301 | M18: 23 | Q18: 68
A19: 5 | E19: 121 | I19: 299 | M19: 22 | Q19: 64
A20: 6 | E20: 165 | I20: 345 | M20: 29 | Q20: 73
A21: 7 | E21: 176 | I21: 374 | M21: 33 | Q21: 67
A22: 8 | E22: 248 | I22: 416 | M22: 76 | Q22: 79
A23: 9 | E23: 365 | I23: 498 | M23: 214 | Q23: 99
A24: 10 | E24: 408 | I24: 488 | M24: 238 | Q24: 109
A25: 11 | E25: 419 | I25: 481 | M25: 218 | Q25: 102
A26: 12 | E26: 426 | I26: 505 | M26: 248 | Q26: 106
... A38: 24 | E38: 179 | I38: 422 | M38: 60 | Q38: 83
A39: Итого | E39: =SUM(E15:E38) -> 6383 | I39: =SUM(I15:I38) -> 10653 | M39: =SUM(M15:M38) -> 2819 | Q39: =SUM(Q15:Q38) -> 2100
A40: 1. При наличии на предприятии отклонений от нормальных режимов электропотребления (временное изменение схем питания, остановка на ремонт, резкое снижение
A41: эл.потребления и т.д.) последние необходимо перечислить.
A42: 2. При наличии нескольких источников питания и большого количества вводов таблица
A43: составляется самим предприятием с соблюдением всех пунктов настоящей таблицы. | K43: Главный инженер ___________________ А.А. Михалин

Sheet 16
B1: АО "Вологдаоблэнерго" | J1: код 900151 | N1: ПС ВОЛОГДА-ЮЖНАЯ РУ-10 кВ
B2: наименование предприятия | I2: _ | N2: наименование источника питания
N3: _________________________________
B4: ул. Горького, 99 | I4: Таблица № 1 | O4: РП 32
B5: адрес
A6: почасовых записей показаний электрических счетчиков
A7: в режимный день18 ДЕКАБРЯ 2019 г..
A8: 590 | B8: 593
A9: часы суток | B9: Активная энергия | J9: Реактивная энергия
B10: ЯЧ.№206 - "ГОРОД-10" | F10: ЯЧ.№404- "ГОРОД-14" | J10: =B10 -> ЯЧ.№206 - "ГОРОД-10" | N10: =F10 -> ЯЧ.№404- "ГОРОД-14"
B11: Расчет. Коэф. | E11: 6000 | F11: Расчет. Коэф. | I11: 3000 | J11: Расчет. Коэф. | M11: =E11 -> 6000 | N11: Расчет. Коэф. | Q11: =I11 -> 3000
B12: показания счетчика | C12: разность | E12: расход эл.энергии за час | F12: показания счетчика | G12: разность | I12: расход эл.энергии за час | J12: показания счетчика | K12: разность | M12: расход эл.энергии за час | N12: показания счетчика | O12: разность | Q12: расход эл.энергии за час
A13: 1 | B13: 2 | C13: 3 | E13: 4 | F13: 5 | G13: 6 | I13: 7 | J13: 8 | K13: 9 | M13: 10 | N13: 11 | O13: 12 | Q13: 13
A14: 0
A15: 1 | E15: 369 | I15: 293 | M15: 81 | Q15: 24
A16: 2 | E16: 365 | I16: 290 | M16: 80 | Q16: 24
A17: 3 | E17: 361 | I17: 288 | M17: 82 | Q17: 24
A18: 4 | E18: 355 | I18: 283 | M18: 79 | Q18: 20
A19: 5 | E19: 354 | I19: 383 | M19: 79 | Q19: 26
A20: 6 | E20: 365 | I20: 401 | M20: 82 | Q20: 26
A21: 7 | E21: 413 | I21: 355 | M21: 82 | Q21: 33
A22: 8 | E22: 630 | I22: 447 | M22: 101 | Q22: 51
A23: 9 | E23: 918 | I23: 641 | M23: 161 | Q23: 132
A24: 10 | E24: 1015 | I24: 696 | M24: 184 | Q24: 152
A25: 11 | E25: 985 | I25: 699 | M25: 179 | Q25: 162
A26: 12 | E26: 951 | I26: 660 | M26: 171 | Q26: 163
... A38: 24 | E38: 395 | I38: 297 | M38: 95 | Q38: 41
A39: Итого | E39: =SUM(E15:E38) -> 14580 | I39: =SUM(I15:I38) -> 10702 | M39: =SUM(M15:M38) -> 2945 | Q39: =SUM(Q15:Q38) -> 2015
A40: 1. При наличии на предприятии отклонений от нормальных режимов электропотребления (временное изменение схем питания, остановка на ремонт, резкое снижение
A41: эл.потребления и т.д.) последние необходимо перечислить.
A42: 2. При наличии нескольких источников питания и большого количества вводов таблица
A43: составляется самим предприятием с соблюдением всех пунктов настоящей таблицы. | K43: Главный инженер ___________________ А.А. Михалин

Sheet 17
B1: АО "Вологдаоблэнерго" | J1: код 900151 | N1: ПС ВОЛОГДА-ЮЖНАЯ РУ- 6 кВ
B2: наименование предприятия | N2: наименование источника питания
N3: _________________________________
B4: ул. Горького, 99 | I4: Таблица № 1 | O4: ТП 461
B5: адрес
A6: почасовых записей показаний электрических счетчиков
A7: в режимный день18 ДЕКАБРЯ 2019 г..
A8: 594
A9: часы суток | B9: Активная энергия | J9: Реактивная энергия
B10: ЯЧ.№203 - "ГОРОД 20" | J10: ЯЧ.№203 - "ГОРОД 20"
B11: Расчет. Коэф. | E11: 7200 | F11: Расчет. Коэф. | I11: 0 | J11: Расчет. Коэф. | M11: =E11 -> 7200 | N11: Расчет. Коэф. | Q11: =I11 -> 0
B12: показания счетчика | C12: разность | E12: расход эл.энергии за час | F12: показания счетчика | G12: разность | I12: расход эл.энергии за час | J12: показания счетчика | K12: разность | M12: расход эл.энергии за час | N12: показания счетчика | O12: разность | Q12: расход эл.энергии за час
A13: 1 | B13: 2 | C13: 3 | E13: 4 | F13: 5 | G13: 6 | I13: 7 | J13: 8 | K13: 9 | M13: 10 | N13: 11 | O13: 12 | Q13: 13
A14: 0
A15: 1 | E15: 140 | M15: 30
A16: 2 | E16: 124 | M16: 31
A17: 3 | E17: 110 | M17: 28
A18: 4 | E18: 107 | M18: 29
A19: 5 | E19: 121 | M19: 30
A20: 6 | E20: 208 | M20: 35
A21: 7 | E21: 235 | M21: 40
A22: 8 | E22: 268 | M22: 52
A23: 9 | E23: 338 | M23: 61
A24: 10 | E24: 355 | M24: 63
A25: 11 | E25: 317 | M25: 65
A26: 12 | E26: 296 | M26: 61
... A38: 24 | E38: 172 | M38: 40
A39: Итого | E39: =SUM(E15:E38) -> 5514 | I39: =SUM(I15:I38) -> 0 | M39: =SUM(M15:M38) -> 1134 | Q39: =SUM(Q15:Q38) -> 0
A40: 1. При наличии на предприятии отклонений от нормальных режимов электропотребления (временное изменение схем питания, остановка на ремонт, резкое снижение
A41: эл.потребления и т.д.) последние необходимо перечислить.
A42: 2. При наличии нескольких источников питания и большого количества вводов таблица
A43: составляется самим предприятием с соблюдением всех пунктов настоящей таблицы. | K43: Главный инженер ___________________ А.А. Михалин

Sheet 18
B1: АО "Вологдаоблэнерго" | J1: код 900151 | N1: ПС ВОЛОГДА-ЮЖНАЯ РУ-10 кВ
B2: наименование предприятия | N2: наименование источника питания
N3: _________________________________
B4: ул. Горького, 99 | I4: Таблица № 1 | O4: РП 26
B5: адрес
A6: почасовых записей показаний электрических счетчиков
A7: в режимный день 16 ДЕКАБРЯ 2015 __ г.
A8: 589 | B8: 592
A9: часы суток | B9: Активная энергия | J9: Реактивная энергия
B10: ЯЧ. № 107- ф."ГОРОД 7" | F10: ЯЧ. № 204 - ф."ГОРОД 17" | J10: ЯЧ. № 107- ф."ГОРОД 7" | N10: ЯЧ. № 204 - ф."ГОРОД 17"
B11: Расчет. Коэф. | E11: 8000 | F11: Расчет. Коэф. | I11: 8000 | J11: Расчет. Коэф. | M11: =E11 -> 8000 | N11: Расчет. Коэф. | Q11: =I11 -> 8000
B12: показания счетчика | C12: разность | E12: расход эл.энергии за час | F12: показания счетчика | G12: разность | I12: расход эл.энергии за час | J12: показания счетчика | K12: разность | M12: расход эл.энергии за час | N12: показания счетчика | O12: разность | Q12: расход эл.энергии за час
A13: 1 | B13: 2 | C13: 3 | E13: 4 | F13: 5 | G13: 6 | I13: 7 | J13: 8 | K13: 9 | M13: 10 | N13: 11 | O13: 12 | Q13: 13
A14: 0
A15: 1 | E15: 835 | I15: 1310 | M15: 95 | Q15: 136
A16: 2 | E16: 731 | I16: 1192 | M16: 91 | Q16: 125
A17: 3 | E17: 691 | I17: 1143 | M17: 89 | Q17: 128
A18: 4 | E18: 678 | I18: 1130 | M18: 86 | Q18: 118
A19: 5 | E19: 676 | I19: 1156 | M19: 81 | Q19: 123
A20: 6 | E20: 736 | I20: 1354 | M20: 90 | Q20: 131
A21: 7 | E21: 998 | I21: 1632 | M21: 117 | Q21: 154
A22: 8 | E22: 1203 | I22: 1953 | M22: 196 | Q22: 248
A23: 9 | E23: 1298 | I23: 2154 | M23: 202 | Q23: 376
A24: 10 | E24: 1292 | I24: 2188 | M24: 190 | Q24: 370
A25: 11 | E25: 1280 | I25: 2135 | M25: 190 | Q25: 353
A26: 12 | E26: 1314 | I26: 2087 | M26: 192 | Q26: 336
... A38: 24 | E38: 1021 | I38: 1581 | M38: 116 | Q38: 166
A39: Итого | E39: =SUM(E15:E38) -> 28468 | I39: =SUM(I15:I38) -> 44937 | M39: =SUM(M15:M38) -> 3921 | Q39: =SUM(Q15:Q38) -> 5879
A40: 1. При наличии на предприятии отклонений от нормальных режимов электропотребления (временное изменение схем питания, остановка на ремонт, резкое снижение
A41: эл.потребления и т.д.) последние необходимо перечислить.
A42: 2. При наличии нескольких источников питания и большого количества вводов таблица
A43: составляется самим предприятием с соблюдением всех пунктов настоящей таблицы. | K43: Главный инженер ___________________ А.А. Михалин

Sheet 19
B1: АО "Вологдаоблэнерго" | J1: код 900151 | N1: ПС ВОЛОГДА-ЮЖНАЯ РУ - 10 кВ
B2: наименование предприятия | N2: наименование источника питания
N3: _________________________________
B4: ул. Горького, 99 | I4: Таблица № 1 | O4: ТП 682
B5: адрес
A6: почасовых записей показаний электрических счетчиков
A7: в режимный день18 ДЕКАБРЯ 2019 г..
A8: 597 | B8: 596
A9: часы суток | B9: Активная энергия | J9: Реактивная энергия
B10: ЯЧ.№ 407 - "ГОРОД-3" | F10: ЯЧ.№ 305 - "ГОРОД-5" | J10: ЯЧ.№ 407- "ГОРОД-3" | N10: ЯЧ.№ 305- "ГОРОД-5"
B11: Расчет. Коэф. | E11: 6000 | F11: Расчет. Коэф. | I11: 4000 | J11: Расчет. Коэф. | M11: =E11 -> 6000 | N11: Расчет. Коэф. | Q11: =I11 -> 4000
B12: показания счетчика | C12: разность | E12: расход эл.энергии за час | F12: показания счетчика | G12: разность | I12: расход эл.энергии за час | J12: показания счетчика | K12: разность | M12: расход эл.энергии за час | N12: показания счетчика | O12: разность | Q12: расход эл.энергии за час
A13: 1 | B13: 2 | C13: 3 | E13: 4 | F13: 5 | G13: 6 | I13: 7 | J13: 8 | K13: 9 | M13: 10 | N13: 11 | O13: 12 | Q13: 13
A14: 0
A15: 1 | E15: 862 | I15: 998 | M15: 59 | Q15: 161
A16: 2 | E16: 819 | I16: 921 | M16: 64 | Q16: 164
A17: 3 | E17: 793 | I17: 909 | M17: 60 | Q17: 162
A18: 4 | E18: 780 | I18: 881 | M18: 60 | Q18: 157
A19: 5 | E19: 795 | I19: 916 | M19: 58 | Q19: 163
A20: 6 | E20: 865 | I20: 1008 | M20: 67 | Q20: 161
A21: 7 | E21: 1011 | I21: 1219 | M21: 76 | Q21: 177
A22: 8 | E22: 1279 | I22: 1326 | M22: 108 | Q22: 218
A23: 9 | E23: 1525 | I23: 1369 | M23: 139 | Q23: 253
A24: 10 | E24: 1742 | I24: 1452 | M24: 170 | Q24: 261
A25: 11 | E25: 1729 | I25: 1508 | M25: 164 | Q25: 268
A26: 12 | E26: 1677 | I26: 1504 | M26: 158 | Q26: 276
... A38: 24 | E38: 1022 | I38: 1139 | M38: 83 | Q38: 182
A39: Итого | E39: =SUM(E15:E38) -> 32923 | I39: =SUM(I15:I38) -> 32530 | M39: =SUM(M15:M38) -> 2950 | Q39: =SUM(Q15:Q38) -> 5435
A40: 1. При наличии на предприятии отклонений от нормальных режимов электропотребления (временное изменение схем питания, остановка на ремонт, резкое снижение
A41: эл.потребления и т.д.) последние необходимо перечислить.
A42: 2. При наличии нескольких источников питания и большого количества вводов таблица
A43: составляется самим предприятием с соблюдением всех пунктов настоящей таблицы. | K43: Главный инженер ___________________ А.А. Михалин

Sheet 20
B1: АО "Вологдаоблэнерго" | J1: код 900151 | N1: ПС ВОЛОГДА-ЮЖНАЯ РУ-10 кВ
B2: наименование предприятия | N2: наименование источника питания
N3: _________________________________
B4: ул. Горького, 99 | I4: Таблица № 1 | O4: РП 27
B5: адрес
A6: почасовых записей показаний электрических счетчиков
A7: в режимный день 16 ДЕКАБРЯ 2015 __ г.
A8: 30 | B8: 49
A9: часы суток | B9: Активная энергия | J9: Реактивная энергия
B10: ЯЧ. № 408 - "ГОРОД -1" | F10: ЯЧ.№ 105 - "РП 27" | J10: ЯЧ. № 408 - "ГОРОД -1" | N10: ЯЧ.№ 105 - "РП 27"
B11: Расчет. Коэф. | E11: 12000 | F11: Расчет. Коэф. | I11: 12000 | J11: Расчет. Коэф. | M11: =E11 -> 12000 | N11: Расчет. Коэф. | Q11: =I11 -> 12000
B12: показания счетчика | C12: разность | E12: расход эл.энергии за час | F12: показания счетчика | G12: разность | I12: расход эл.энергии за час | J12: показания счетчика | K12: разность | M12: расход эл.энергии за час | N12: показания счетчика | O12: разность | Q12: расход эл.энергии за час
A13: 1 | B13: 2 | C13: 3 | E13: 4 | F13: 5 | G13: 6 | I13: 7 | J13: 8 | K13: 9 | M13: 10 | N13: 11 | O13: 12 | Q13: 13
A14: 0
A15: 1 | I15: 1560 | Q15: 290.4
A16: 2 | I16: 1400.4 | Q16: 289.2
A17: 3 | I17: 1334.4 | Q17: 294
A18: 4 | I18: 1304.4 | Q18: 282
A19: 5 | I19: 1318.8 | Q19: 276
A20: 6 | I20: 1485.6 | Q20: 279.6
A21: 7 | I21: 1819.2 | Q21: 309.6
A22: 8 | I22: 2212.8 | Q22: 398.4
A23: 9 | I23: 2414.4 | Q23: 494.4
A24: 10 | I24: 2581.2 | Q24: 507.6
A25: 11 | I25: 2727.6 | Q25: 488.4
A26: 12 | I26: 2691.6 | Q26: 502.8
... A38: 24 | I38: 1864.8 | Q38: 328.8
A39: Итого | E39: =SUM(E15:E38) -> 0 | I39: =SUM(I15:I38) -> 55786.8 | M39: =SUM(M15:M38) -> 0 | Q39: =SUM(Q15:Q38) -> 9939.6
A40: 1. При наличии на предприятии отклонений от нормальных режимов электропотребления (временное изменение схем питания, остановка на ремонт, резкое снижение
A41: эл.потребления и т.д.) последние необходимо перечислить.
A42: 2. При наличии нескольких источников питания и большого количества вводов таблица
A43: составляется самим предприятием с соблюдением всех пунктов настоящей таблицы. | K43: Главный инженер ___________________ А.А. Михалин

Sheet 21
B1: АО "Вологдаоблэнерго" | J1: код 900151 | N1: ПС ВОЛОГДА-ЮЖНАЯ РУ-10 кВ
B2: наименование предприятия | N2: наименование источника питания
N3: яч. 406 ф "РОДИОНЦЕВО", КТП-906
B4: ул. Горького, 99 | I4: Таблица № 1
B5: адрес
A6: почасовых записей показаний электрических счетчиков
A7: в режимный день18 ДЕКАБРЯ 2019 г..
A8: 362 | B8: 985
A9: часы суток | B9: Активная энергия | J9: Реактивная энергия
B10: яч. 406 ф "РОДИОНЦЕВО" - ПКУ | F10: КТП-906 | J10: яч. 406 ф "РОДИОНЦЕВО" - ПКУ | N10: КТП-906
B11: Расчет. Коэф. | E11: 2000 | F11: Расчет. Коэф. | I11: 80 | J11: Расчет. Коэф. | M11: =E11 -> 2000 | N11: Расчет. Коэф. | Q11: =I11 -> 80
B12: показания счетчика | C12: разность | E12: расход эл.энергии за час | F12: показания счетчика | G12: разность | I12: расход эл.энергии за час | J12: показания счетчика | K12: разность | M12: расход эл.энергии за час | N12: показания счетчика | O12: разность | Q12: расход эл.энергии за час
A13: 1 | B13: 2 | C13: 3 | E13: 4 | F13: 5 | G13: 6 | I13: 7 | J13: 8 | K13: 9 | M13: 10 | N13: 11 | O13: 12 | Q13: 13
A14: 0
A15: 1 | E15: 13.6 | I15: 35.84 | M15: 0 | Q15: 3.92
A16: 2 | E16: 13.2 | I16: 35.12 | M16: 0 | Q16: 3.68
A17: 3 | E17: 13.4 | I17: 34.4 | M17: 0 | Q17: 3.52
A18: 4 | E18: 14.6 | I18: 33.04 | M18: 0 | Q18: 3.76
A19: 5 | E19: 15 | I19: 32.44 | M19: 0 | Q19: 3.8
A20: 6 | E20: 14.8 | I20: 35.12 | M20: 0 | Q20: 3.48
A21: 7 | E21: 15 | I21: 37.08 | M21: 0 | Q21: 3.48
A22: 8 | E22: 16 | I22: 41.12 | M22: 0 | Q22: 3.8
A23: 9 | E23: 19.2 | I23: 43.68 | M23: 0 | Q23: 4.08
A24: 10 | E24: 14.2 | I24: 43.96 | M24: 0 | Q24: 3.64
A25: 11 | E25: 15 | I25: 42.8 | M25: 0 | Q25: 3.76
A26: 12 | E26: 15.8 | I26: 42.92 | M26: 0 | Q26: 3.64
... A38: 24 | E38: 14.6 | I38: 36.4 | M38: 0 | Q38: 4.04
A39: Итого | E39: =SUM(E15:E38) -> 378.6 | I39: =SUM(I15:I38) -> 983.2 | M39: =SUM(M15:M38) -> 0.2 | Q39: =SUM(Q15:Q38) -> 97.6
A40: 1. При наличии на предприятии отклонений от нормальных режимов электропотребления (временное изменение схем питания, остановка на ремонт, резкое снижение
A41: эл.потребления и т.д.) последние необходимо перечислить.
A42: 2. При наличии нескольких источников питания и большого количества вводов таблица
A43: составляется самим предприятием с соблюдением всех пунктов настоящей таблицы. | K43: Главный инженер ___________________ А.А. Михалин

Sheet 21_1
B1: АО "Вологдаоблэнерго" | J1: код 900151 | N1: ПС ВОЛОГДА-ЮЖНАЯ РУ-10 кВ
B2: наименование предприятия | N2: наименование источника питания
N3: РП-44
B4: ул. Горького, 99 | I4: Таблица № 1
B5: адрес
A6: почасовых записей показаний электрических счетчиков
A7: в режимный день18 ДЕКАБРЯ 2019 г..
A9: часы суток | B9: Активная энергия | J9: Реактивная энергия
B10: яч. 307 ф "Охмыльцево-1" | F10: яч. 409 ф "Охмыльцево-2" | J10: яч. 307 ф "Охмыльцево-1" | N10: яч. 409 ф "Охмыльцево-2"
B11: Расчет. Коэф. | F11: Расчет. Коэф. | J11: Расчет. Коэф. | N11: Расчет. Коэф.
B12: показания счетчика | C12: разность | E12: расход эл.энергии за час | F12: показания счетчика | G12: разность | I12: расход эл.энергии за час | J12: показания счетчика | K12: разность | M12: расход эл.энергии за час | N12: показания счетчика | O12: разность | Q12: расход эл.энергии за час
A13: 1 | B13: 2 | C13: 3 | E13: 4 | F13: 5 | G13: 6 | I13: 7 | J13: 8 | K13: 9 | M13: 10 | N13: 11 | O13: 12 | Q13: 13
A14: 0
A15: 1 | E15: 477 | I15: 515 | M15: 0 | Q15: 0
A16: 2 | E16: 430 | I16: 473 | M16: 0 | Q16: 0
A17: 3 | E17: 403 | I17: 452 | M17: 0 | Q17: 0
A18: 4 | E18: 389 | I18: 440 | M18: 0 | Q18: 0
A19: 5 | E19: 394 | I19: 442 | M19: 0 | Q19: 0
A20: 6 | E20: 440 | I20: 471 | M20: 0 | Q20: 0
A21: 7 | E21: 579 | I21: 605 | M21: 0 | Q21: 0
A22: 8 | E22: 639 | I22: 687 | M22: 0 | Q22: 0
A23: 9 | E23: 649 | I23: 724 | M23: 0 | Q23: 60
A24: 10 | E24: 696 | I24: 763 | M24: 0 | Q24: 62
A25: 11 | E25: 720 | I25: 747 | M25: 1 | Q25: 50
A26: 12 | E26: 730 | I26: 735 | M26: 0 | Q26: 51
... A38: 24 | E38: 617 | I38: 579 | M38: 0 | Q38: 0
A39: Итого | E39: =SUM(E15:E38) -> 16561 | H39: =SUM(H15:H38) -> 0 | I39: =SUM(I15:I38) -> 16109 | L39: =SUM(L15:L38) -> 0 | M39: =SUM(M15:M38) -> 9 | P39: =SUM(P15:P38) -> 0 | Q39: =SUM(Q15:Q38) -> 423
A40: 1. При наличии на предприятии отклонений от нормальных режимов электропотребления (временное изменение схем питания, остановка на ремонт, резкое снижение
A41: эл.потребления и т.д.) последние необходимо перечислить.
A42: 2. При наличии нескольких источников питания и большого количества вводов таблица
A43: составляется самим предприятием с соблюдением всех пунктов настоящей таблицы. | K43: Главный инженер ___________________ А.А. Михалин

Sheet 22
B1: АО "Вологдаоблэнерго" | J1: код 900151 | M1: ПС ВОЛОГДА - ТЯГОВАЯ 110/27,5/6 кВ
B2: наименование предприятия | N2: наименование источника питания
N3: _________________________________
B4: ул. Горького, 99 | I4: Таблица № 1 | O4: ТП 450
A6: почасовых записей показаний электрических счетчиков
A7: в режимный день18 ДЕКАБРЯ 2019 г..
A8: 636
A9: часы суток | B9: Активная энергия | J9: Реактивная энергия
B10: ЯЧ. 1 - ТП 450 | J10: ЯЧ. 1 - ТП 450
B11: Расчет. Коэф. | E11: 7200 | F11: Расчет. Коэф. | I11: =Q11 -> 0 | J11: Расчет. Коэф. | M11: =E11 -> 7200 | N11: Расчет. Коэф. | Q11: 0
B12: показания счетчика | C12: разность | E12: расход эл.энергии за час | F12: показания счетчика | G12: разность | I12: расход эл.энергии за час | J12: показания счетчика | K12: разность | M12: расход эл.энергии за час | N12: показания счетчика | O12: разность | Q12: расход эл.энергии за час
A13: 1 | B13: 2 | C13: 3 | E13: 4 | F13: 5 | G13: 6 | I13: 7 | J13: 8 | K13: 9 | M13: 10 | N13: 11 | O13: 12 | Q13: 13
A14: 0
A15: 1 | E15: 0 | M15: 0
A16: 2 | E16: 0 | M16: 0
A17: 3 | E17: 0 | M17: 0
A18: 4 | E18: 0 | M18: 0
A19: 5 | E19: 0 | M19: 0
A20: 6 | E20: 0 | M20: 0
A21: 7 | E21: 0 | M21: 0
A22: 8 | E22: 0 | M22: 0
A23: 9 | E23: 0 | M23: 0
A24: 10 | E24: 0 | M24: 0
A25: 11 | E25: 0 | M25: 0
A26: 12 | E26: 0 | M26: 0
... A38: 24 | E38: 0 | M38: 0
A39: Итого | E39: =SUM(E15:E38) -> 0 | I39: =SUM(I15:I38) -> 0 | M39: =SUM(M15:M38) -> 0
A40: 1. При наличии на предприятии отклонений от нормальных режимов электропотребления (временное изменение схем питания, остановка на ремонт, резкое снижение
A41: эл.потребления и т.д.) последние необходимо перечислить.
A42: 2. При наличии нескольких источников питания и большого количества вводов таблица
A43: составляется самим предприятием с соблюдением всех пунктов настоящей таблицы. | K43: Главный инженер ___________________ А.А. Михалин

Sheet 23
B1: АО "Вологдаоблэнерго" | I1: код 900151 | K1: ТГК -2 "ВТЭЦ" РП 6 кВ танзит через ТП 10 СЖД ОАО РЖД
B2: наименование предприятия | N2: наименование источника питания
N3: _________________________________
B4: ул. Горького, 99 | I4: Таблица № 1 | O4: ТП 238; ТП 651
A6: почасовых записей показаний электрических счетчиков
A7: в режимный день18 ДЕКАБРЯ 2019 г..
A8: 640 | B8: 641
A9: часы суток | B9: Активная энергия | J9: Реактивная энергия
B10: ЯЧ.5 - ТП 238 | F10: ЯЧ.7 - ТП 651 | J10: ЯЧ.5 - ТП 238 | N10: ЯЧ.7 - ТП 651
B11: Расчет. Коэф. | E11: 1800 | F11: Расчет. Коэф. | I11: 1800 | J11: Расчет. Коэф. | M11: =E11 -> 1800 | N11: Расчет. Коэф. | Q11: =I11 -> 1800
B12: показания счетчика | C12: разность | E12: расход эл.энергии за час | F12: показания счетчика | G12: разность | I12: расход эл.энергии за час | J12: показания счетчика | K12: разность | M12: расход эл.энергии за час | N12: показания счетчика | O12: разность | Q12: расход эл.энергии за час
A13: 1 | B13: 2 | C13: 3 | E13: 4 | F13: 5 | G13: 6 | I13: 7 | J13: 8 | K13: 9 | M13: 10 | N13: 11 | O13: 12 | Q13: 13
A14: 0
A15: 1 | E15: 183.78 | I15: 271.98 | M15: 68.04 | Q15: 94.14
A16: 2 | E16: 165.24 | I16: 247.32 | M16: 66.42 | Q16: 94.32
A17: 3 | E17: 158.58 | I17: 231.66 | M17: 66.06 | Q17: 91.26
A18: 4 | E18: 179.46 | I18: 224.28 | M18: 66.78 | Q18: 89.82
A19: 5 | E19: 192.06 | I19: 233.28 | M19: 67.68 | Q19: 91.62
A20: 6 | E20: 218.16 | I20: 271.26 | M20: 68.58 | Q20: 91.98
A21: 7 | E21: 255.6 | I21: 330.3 | M21: 73.44 | Q21: 92.7
A22: 8 | E22: 318.96 | I22: 378 | M22: 94.32 | Q22: 104.58
A23: 9 | E23: 338.04 | I23: 409.32 | M23: 121.32 | Q23: 119.88
A24: 10 | E24: 328.68 | I24: 388.8 | M24: 121.68 | Q24: 122.4
A25: 11 | E25: 323.1 | I25: 392.04 | M25: 116.46 | Q25: 116.64
A26: 12 | E26: 317.7 | I26: 373.32 | M26: 116.64 | Q26: 106.74
... A38: 24 | E38: 204.3 | I38: 334.8 | M38: 71.1 | Q38: 97.38
A39: Итого | E39: =SUM(E15:E38) -> 6235.02 | I39: =SUM(I15:I38) -> 9196.2 | M39: =SUM(M15:M38) -> 2123.1 | Q39: =SUM(Q15:Q38) -> 2575.26
A40: 1. При наличии на предприятии отклонений от нормальных режимов электропотребления (временное изменение схем питания, остановка на ремонт, резкое снижение
A41: эл.потребления и т.д.) последние необходимо перечислить.
A42: 2. При наличии нескольких источников питания и большого количества вводов таблица
A43: составляется самим предприятием с соблюдением всех пунктов настоящей таблицы. | K43: Главный инженер ___________________ А.А. Михалин

Sheet 24
B1: АО "Вологдаоблэнерго" | G1: код 900151 | I1: ГПП ВОЛОГДА -ТЯГОВАЯ СЖД 110 /27,5/6 кВ транзит через ТП 34 СЖД ОАО РЖД
B2: наименование предприятия | N2: наименование источника питания
N3: _________________________________
B4: ул. Горького, 99 | I4: Таблица № 1 | O4: ТП 660; ТП 662
A6: почасовых записей показаний электрических счетчиков
A7: в режимный день18 ДЕКАБРЯ 2019 г..
A8: 637 | B8: 639
A9: часы суток | B9: Активная энергия | J9: Реактивная энергия
B10: ЯЧ.2 - ТП 660 | F10: ЯЧ.6 - ТП 662 | J10: ЯЧ.2 - ТП 660 | N10: ЯЧ.6 - ТП 662
