Workbook

Sheet Таблица №1 (прием)
A2: Таблица №1
B3: почасовых записей показаний электрических счетчиков
B4: в режимный день 15 декабря 2021 г.
B5: ЭСУ Шексна | C5: ЭСУ Шексна | D5: ЭСУ Шексна | E5: ЭСУ Шексна | F5: ЭСУ Шексна | G5: ЭСУ Шексна | H5: ЭСУ Шексна | I5: ЭСУ Шексна | J5: ЭСУ Шексна | K5: ЭСУ Шексна | L5: ЭСУ Шексна | M5: ЭСУ Шексна | N5: ЭСУ Шексна | O5: ЭСУ Шексна | P5: ЭСУ Шексна | Q5: ЭСУ Шексна | R5: ЭСУ Шексна | S5: ЭСУ Шексна | T5: ЭСУ Шексна | U5: ЭСУ Шексна | V5: ЭСУ Шексна | W5: ЭСУ Шексна | X5: ЭСУ Шексна | Y5: ЭСУ Шексна | Z5: ЭСУ Шексна | AA5: ЭСУ Шексна | AB5: ЭСУ Шексна | AC5: ЭСУ Шексна | AD5: ЭСУ Шексна | AE5: ЭСУ Шексна | AF5: ЭСУ Шексна | AG5: ЭСУ Шексна | AH5: ЭСУ Шексна | AI5: ЭСУ Шексна | AJ5: ЭСУ Шексна | AK5: ЭСУ Шексна | AL5: ЭСУ Шексна | AM5: ЭСУ Шексна | AN5: ЭСУ Шексна | AO5: ЭСУ Шексна | AP5: ЭСУ Шексна | AQ5: ЭСУ Шексна | AR5: ЭСУ Шексна | AS5: ЭСУ Шексна | AT5: ЭСУ Шексна | AU5: ЭСУ Шексна | AV5: ЭСУ Шексна | AW5: ЭСУ Шексна | AX5: ЭСУ Шексна | AY5: ЭСУ Шексна | AZ5: ЭСУ Шексна | BA5: ЭСУ Шексна | BB5: ЭСУ Шексна | BC5: ЭСУ Шексна | BD5: ЭСУ Шексна | BE5: ЭСУ Череповец | BF5: ЭСУ Череповец | BG5: ЭСУ Череповец | BH5: ЭСУ Череповец | BI5: ЭСУ Череповец | BJ5: ЭСУ Череповец | BK5: ЭСУ Череповец | BL5: ЭСУ Череповец | BM5: ЭСУ Череповец | BN5: ЭСУ Череповец | BO5: ЭСУ Череповец | BP5: ЭСУ Череповец | BQ5: ЭСУ Череповец | BR5: ЭСУ Череповец | BS5: ЭСУ Череповец | BT5: ЭСУ Череповец | BU5: ЭСУ Череповец | BV5: ЭСУ Череповец | BW5: ЭСУ Череповец | BX5: ЭСУ Череповец | BY5: ЭСУ Череповец | BZ5: ЭСУ Череповец | CA5: ЭСУ Череповец | CB5: ЭСУ Череповец | CC5: ЭСУ Череповец | CD5: ЭСУ Череповец | CE5: ЭСУ Череповец | CF5: ЭСУ Череповец | CG5: ЭСУ Череповец | CH5: ЭСУ Череповец | CI5: ЭСУ Череповец | CJ5: ЭСУ Череповец | CK5: ЭСУ Череповец | CL5: ЭСУ Череповец | CM5: ЭСУ Череповец | CN5: ЭСУ Череповец | CO5: ЭСУ Череповец | CP5: ЭСУ Череповец | CQ5: ЭСУ Череповец | CR5: ЭСУ Череповец | CS5: ЭСУ Череповец | CT5: ЭСУ Череповец | CU5: ЭСУ Череповец | CV5: ЭСУ Череповец | CW5: ЭСУ Череповец | CX5: ЭСУ Череповец | CY5: ЭСУ Череповец | CZ5: ЭСУ Череповец | DA5: ЭСУ Череповец | DB5: ЭСУ Череповец | DC5: ЭСУ Череповец | DD5: ЭСУ Череповец | DE5: ЭСУ Череповец | DF5: ЭСУ Череповец | DG5: ЭСУ Череповец | DH5: ЭСУ Череповец | DI5: ЭСУ Череповец | DJ5: ЭСУ Череповец | DK5: ЭСУ Череповец | DL5: ЭСУ Череповец | DM5: ЭСУ Череповец | DN5: ЭСУ Череповец | DO5: ЭСУ Череповец | DP5: ЭСУ Череповец | DQ5: ЭСУ Череповец | DR5: ЭСУ Череповец | DS5: ЭСУ Череповец | DT5: ЭСУ Череповец | DU5: ЭСУ Череповец | DV5: ЭСУ Череповец | DW5: ЭСУ Череповец | DX5: ЭСУ Череповец | DY5: ЭСУ Череповец | DZ5: ЭСУ Череповец | EA5: ЭСУ Череповец | EB5: ЭСУ Череповец | EC5: ЭСУ Череповец | ED5: ЭСУ Череповец | EE5: ЭСУ Череповец | EF5: ЭСУ Череповец | EG5: ЭСУ Череповец | EH5: ЭСУ Череповец | EI5: ЭСУ Череповец | EJ5: ЭСУ Череповец | EK5: ЭСУ Череповец | EL5: ЭСУ Череповец | EM5: ЭСУ Череповец | EN5: ЭСУ Череповец | EO5: ЭСУ Череповец | EP5: ЭСУ Череповец | EQ5: ЭСУ Череповец | ER5: ЭСУ Череповец | ES5: ЭСУ Череповец | ET5: ЭСУ Череповец | EU5: ЭСУ Череповец | EV5: ЭСУ Череповец | EW5: ЭСУ Череповец | EX5: ЭСУ Череповец | EY5: ЭСУ Череповец | EZ5: ЭСУ Череповец | FA5: ЭСУ Череповец | FB5: ЭСУ Череповец | FC5: ЭСУ Череповец | FD5: ЭСУ Череповец | FE5: ЭСУ Череповец | FF5: ЭСУ Череповец | FG5: ЭСУ Череповец | FH5: ЭСУ Череповец | FI5: ЭСУ Череповец | FJ5: ЭСУ Череповец | FK5: ЭСУ Череповец | FL5: ЭСУ Череповец | FM5: ЭСУ Череповец | FN5: ЭСУ Череповец | FO5: ЭСУ Череповец | FP5: ЭСУ Череповец | FQ5: ЭСУ Череповец | FR5: ЭСУ Череповец | FS5: ЭСУ Череповец | FT5: ЭСУ Череповец | FU5: ЭСУ Череповец | FV5: ЭСУ Череповец | FW5: ЭСУ Череповец | FX5: ЭСУ Череповец | FY5: ЭСУ Череповец | FZ5: ЭСУ Череповец | GA5: ЭСУ Череповец | GB5: ЭСУ Череповец | GC5: ЭСУ Череповец | GD5: ЭСУ Череповец | GE5: ЭСУ Череповец | GF5: ЭСУ Череповец | GG5: ЭСУ Череповец | GH5: ЭСУ Череповец | GI5: ЭСУ Череповец | GJ5: ЭСУ Череповец | GK5: ЭСУ Череповец | GL5: ЭСУ Череповец | GM5: ЭСУ Череповец | GN5: ЭСУ Череповец | GO5: ЭСУ Череповец | GP5: ЭСУ Череповец | GQ5: ЭСУ Череповец | GR5: ЭСУ Череповец | GS5: ЭСУ Череповец | GT5: ЭСУ Череповец | GU5: ЭСУ Череповец | GV5: ЭСУ Череповец | GW5: ЭСУ Череповец | GX5: ЭСУ Череповец | GY5: ЭСУ Череповец | GZ5: ЭСУ Череповец | HA5: ЭСУ Череповец | HB5: ЭСУ Череповец | HC5: ЭСУ Череповец | HD5: ЭСУ Череповец | HE5: ЭСУ Череповец | HF5: ЭСУ Череповец | HG5: ЭСУ Череповец | HH5: ЭСУ Череповец | HI5: ЭСУ Череповец | HJ5: ЭСУ Череповец | HK5: ЭСУ Кадуй | HL5: ЭСУ Кадуй | HM5: ЭСУ Кадуй | HN5: ЭСУ Кадуй | HO5: ЭСУ Кадуй | HP5: ЭСУ Кадуй | HQ5: ЭСУ Кадуй | HR5: ЭСУ Кадуй | HS5: ЭСУ Кадуй | HT5: ЭСУ Кадуй | HU5: ЭСУ Кадуй | HV5: ЭСУ Кадуй | HW5: ЭСУ Кадуй | HX5: ЭСУ Кадуй | HY5: ЭСУ Кадуй | HZ5: ЭСУ Кадуй | IA5: ЭСУ Кадуй | IB5: ЭСУ Кадуй | IC5: ЭСУ Кадуй | ID5: ЭСУ Кадуй | IE5: ЭСУ Кадуй | IF5: ЭСУ Кадуй | IG5: ЭСУ Кадуй | IH5: ЭСУ Кадуй | II5: ЭСУ Кадуй | IJ5: ЭСУ Кадуй | IK5: ЭСУ Кадуй | IL5: ЭСУ Кадуй | IM5: ЭСУ Кадуй | IN5: ЭСУ Кадуй | IO5: ЭСУ Чагода | IP5: ЭСУ Чагода | IQ5: ЭСУ Чагода | IR5: ЭСУ Чагода | IS5: ЭСУ Чагода | IT5: ЭСУ Чагода | IU5: ЭСУ Бабаево | IV5: ЭСУ Бабаево | IW5: ЭСУ Бабаево | IX5: ЭСУ Бабаево | IY5: ЭСУ Бабаево | IZ5: ЭСУ Бабаево | JA5: ПАО Россети | JB5: Оборон Энерго | JD5: Электросеть | JO5: ФосАгро ГПП-5 | JQ5: ШРГСиС | JT5: СЖД | JV5: РЖД | JX5: Сумма
A6: Интервал суток [ч-ч] за 15.12.2021г. | B6: ЧЕБСАРА ТП-65 "Школа" (А) | C6: ЧЕБСАРА ТП-68 "Торговый центр" (А) замена | D6: ЧЕБСАРА ТП-64 "Дом культуры" | E6: ЧЕБСАРА ТП-69 "Ул.Комсомольская" | F6: ЧЕБСАРА ТП-70 "Леспромхоз" (А) | G6: ЧЕБСАРА ТП-74 "Зеркальный цех" | H6: ЧЕБСАРА ТП-75 "Ул.Батулиных" | I6: ЧЕБСАРА ТП-67 "Баня" | J6: ЧЕБСАРА ТП-76 "Жил.фонд" | K6: ЧЕБСАРА ТП-63 "Первомайская" | L6: ТП-102 "Котельная ввод 1" | M6: ЧЕБСАРА ТП-61 "Больница". | N6: ЧЕБСАРА ТП-62 "Школа на ул.Мира". | O6: ЧЕБСАРА ТП-66 "Ретранслятор. Телевышка" | P6: ТП-103 "Котельная ввод 2" | Q6: КТП-133 "Полянка" | R6: КТП-123 "Водозабор" д.Дурасово (А) | S6: КТП-107-ввод1 "Комплекс "Пача" (А) | T6: КТП-107-ввод2 "Комплекс "Пача" (А) | U6: КТП-124 "д.Дурасово" (А) | V6: КТП-117 ПСК"Пилорама ПСК"Демидово" (А) | W6: КТП-118 "КЗС "Демидово" (А) | X6: КТП-119 "СТ"Веснянка" (А) | Y6: КТП-106 "Летний лагерь" | Z6: КТП-129 ввод1, "Котельная д."Прогресс"(А) | AA6: КТП-129 ввод2, "Котельная д."Прогресс"(А) | AB6: КТП-101 "Льносемстанция (ДРСУ)" (А) нов | AC6: ТП-120 "АЗС ЧП Шерстакова" (А) | AD6: ТП-95 "Шекснинское АТП" (А) | AE6: КТП-113 "Бекон" с.Чаромское | AF6: ТП-112 ввод2 "Комплекс"Чаромское"(А) | AG6: КТП-125 "Дом престарелых д.Княже" новый | AH6: ТП-112 ввод1 "Комплекс"Чаромское"(А) | AI6: КТП-126 "Котельная д.Чернеево" (А) | AJ6: КТП-54 | AK6: КТП-53 (Центральная) | AL6: КТП-111 "ДОЦ"Кедр" (А) | AM6: КТП-131 "Природа" | AN6: ТП-108 ввод1 | AO6: ТП-108 ввод2 | AP6: КТП-122 "Покровское-Низы" (А) замена | AQ6: КТП-130 "СТ-Легенда | AR6: КТП-105 "Сельхозхимия" (А) с 26.08.08 | AS6: ТП-115 "Склад сена" с.Чуровское (А) | AT6: КТП-132 Дробилка | AU6: КТП-136 "Карьер-4" | AV6: ТП-116 "Зернокомплекс" с.Чуровское (А) | AW6: КТП-128 ввод 1"Котельная Чуровское"(А) | AX6: КТП-128 ввод2"Котельная Чуровское" | AY6: КТП-127 "Котельная п.Подгорный" замена | AZ6: КТП-134 "Карьер-2" | BA6: КТП-135 "Карьер-1" | BB6: КТП-137 "Экскаватор" | BC6: ТП-110 СПК"Любомирово"-зерносуш.(А) | BD6: ТП-109 "Ферма"Лёво" (А) | BE6: ТП-1 250кВА Автопарк | BF6: ТП-15 Кормоцех В-1 Малечкино | BG6: ТП-15 Кормоцех В-2 Малечкино | BH6: ЦРП Парфеново 1 | BI6: КТП 250кВА Ферма Курилово | BJ6: ТП-7 160 кВА Малечкино | BK6: ТП-12 400 кВА Малечкино | BL6: ТП-3 400 кВА Малечкино | BM6: ТП-10 400 кВА Котельная В-1 Малечкино | BN6: ТП-10 400 кВА Котельная В-2 Малечкино | BO6: ТП-9 400 кВА В-1 Малечкино | BP6: КТП-63 кВА д.Афонино | BQ6: ТП-23 Площадка компостирования В-1 | BR6: ТП-9 400 кВА В-2 Малечкино | BS6: ТП-8 250 кВА В-1 Малечкино | BT6: ТП-8 250 кВА В-2 Малечкино | BU6: ТП-14 250 кВА Малечкино | BV6: ТП-5 АВМ 2*400кВА В-1 | BW6: ТП-5 АВМ 2*400кВА В-2 | BX6: КТП-4 КЗС 320кВА | BY6: КТП-100кВА Дачи | BZ6: ЦРП Парфеново В-2 | CA6: ЦРП Прафеново ф. Киселево | CB6: ТП-2 Поселок 630кВА | CC6: ТП-4 Очистные 2*400кВА В-1 | CD6: ТП-4 Очистные 2*400кВА В-2 | CE6: ТП-250 кВА пилорама "Карат-плюс" | CF6: ТП-3 Школа 2*400кВА В-1 | CG6: ТП-3 Школа 2*400кВА В-2 | CH6: ТП 250 кВА Аникор+ В-1 | CI6: ТП 250 кВА Аникор+ В-2 | CJ6: ТП-5 ПМК 1 В-2 | CK6: ТП-5 ПМК 1 В-1 | CL6: КТП 100 кВА Сад "Кальнинское" | CM6: ТП-6 Детский сад 2*400кВА В-2 | CN6: ТП 400 кВА Северо-Западный ТД | CO6: ТП Мелиоводстрой 630кВА | CP6: ТП-6 Детский сад 2*400кВА В-1 | CQ6: КТНП 250 кВА Свиноферма Сосновка | CR6: КТП 250 кВА "Лесничество-1" | CS6: РП 2*630кВА Жилая зона В-1 | CT6: РП 2*630кВА Жилая зона В-2 | CU6: КТНП 630 кВА № 2 "Свинокомплекс" | CV6: ТП-2*400 кВА ЦРП "Сосновка" В-1 | CW6: КТП 250 кВА Котельная Коротово | CX6: КТП Сушильный завод | CY6: КТП Молкомбинат | CZ6: КТП Ферма Соловьева | DA6: КТП-160кВА "Лесничество 2" | DB6: ТП-2*400кВА ЦРП Сосновка В-2 | DC6: ТП Поселок Шулма | DD6: КТП-Модуль 2 Шулма | DE6: КТП-Модуль 1 Шулма | DF6: КТП-1 160 кВА Сад ЧМК-3 | DG6: ТП-15 400 кВА В-1 Шулма | DH6: ТП-15 400 кВА В-2 Шулма | DI6: ТП-14 400 кВА В-1 Шулма | DJ6: КТП-160 "Сад Черкесиха" | DK6: ТП Школа Шулма | DL6: ТП 400 кВА РММ "Нелазское" | DM6: ТП-14 400 кВА В-2 Шулма | DN6: КТП-2 160 кВА Сад ЧМК-3 | DO6: КТП-63кВА "Ива" | DP6: КТП-160кВА "Сад Заря" | DQ6: КТП-160кВА "Сад Заря-2" | DR6: Шулма ул. Олимпийская | DS6: ТП 100 Детский дом п.Кривец | DT6: КТП-63кВА Дачи Аммофос | DU6: КТП 400кВА Н-Васильевское | DV6: ТП 2*400кВА Школа Домозерово В-2 | DW6: КТП 250 кВА Детский сад д.Домозерово | DX6: ТП 100 Детский сад п.Батран | DY6: ТП 2*400кВА Школа Домозерово В-1 | DZ6: Водозабор д.Шалимово | EA6: ТП-63 Очистные п.Шалимово | EB6: КТП 250 кВА "Зашекснинское" | EC6: ТП 400 Котельная В-1 Шалимово | ED6: ТП 400 Котельная В-2 Шалимово | EE6: ТП 400 "РММ" Домозерово | EF6: ТП 400 Льнозавод п.Батран | EG6: КТПН 10/0,4 кВ "СЗМК" Н-Домозерово | EH6: КТП 100 кВА Водозабор В-1 Домозерово | EI6: КТП 100 кВА Водозабор В-2 Домозерово | EJ6: КТП 160 кВА Очистные Домозерово | EK6: КТП-160 "Сад Пенек" | EL6: КТП-250 кВА "Ивушка" | EM6: ТП 250 кВА "Березка" | EN6: КТП-63кВА Кацитадзе | EO6: КТП-250кВА СЗСК | EP6: МТП-40кВА Сады Гоша-2 | EQ6: КТП-63кВА Сад Гоша | ER6: КТП-100кВА Сады Петраково | ES6: КТПН-210 160 кВА Ирдоматка | ET6: ТП-209 250 кВА Тепловая Ирдоматка | EU6: КТП-63 кВА КНС п.Ирдоматка | EV6: КТП 400 кВА "Дачи" д.Пулово-Борисово | EW6: КТП 250кВА Сад №4 д.Нова | EX6: КТП-160кВА Шексна | EY6: ТП-63 кВА "Лесопильный цех" д.Заручевье | EZ6: ТП-3 Общежитие В-2 Шухободь | FA6: ТП-3 Общежитие В-1 Шухободь | FB6: КТП 160 кВА "Мастерские" Абаканово | FC6: ТП 250 кВА Детский сад п.Абаканово | FD6: ТП-63кВА Хлебаево | FE6: Абаканово 4-этажные дома | FF6: Абаканово 3-этажные дома | FG6: КТП 160 кВА Шухободский водовод-2 | FH6: КТП 100 кВА АВМ "Алексино" | FI6: ТП-1 Котельная Шухободь 400 кВА В-1 | FJ6: ТП-1 Котельная Шухободь 400 кВА В-2 | FK6: ТП-4 Жилая зона Шухободь 2*250кВА В-1 | FL6: ТП-4 Жилая зона Шухободь 2*250кВА В-2 | FM6: ТП ЗАО "Шухободское" комплекс В-1 | FN6: КТП 250 кВА ДОРА | FO6: КТП-63 кВА Сад №6 "Северсталь" | FP6: ТП-2х250 кВА Училище ПУ-41 В-1 | FQ6: ТП-2х250 кВА Училище ПУ-41 В-2 | FR6: ТП 63 кВА Шухтовское лесничество | FS6: ТП 63 кВА Погорелка | FT6: ТП ЦРП"Маслово-2" 2*250 кВА | FU6: ТП ЗАО "Шухободское" Комплекс В-2 | FV6: ТП 160 кВА Очистные Шухободь | FW6: КТП-25кВА Паршин | FX6: КТП-250кВА РСП Дачник | FY6: КТП 160кВА Сад №9"Череповецагрострой" | FZ6: КТП 400 кВА Сад №1 "Аммофос" | GA6: КТП-63 кВА ГП ВО "Череповецкая ЭТС" | GB6: КТП-160кВА "Сад №2 ЧСПЗ" | GC6: КТП-25 кВА "Освещение дороги" | GD6: ООО "Ботово" КТПБ-Фенево Ввод-2 | GE6: ООО "Ботово" КТПБ-Фенево Ввод-1 | GF6: ТП-63 Население д.Ботово | GG6: ЗАО "Ботово" КТП-Котельная Ввод-1 | GH6: ЗАО "Ботово" КТП-Котельная Ввод-2 | GI6: КТП-100кВА Новое Ботово | GJ6: КТП 160 кВА Сад"Синтез" | GK6: КТП 100 кВА Сад "Водник" | GL6: Сад. тов. "Броды" | GM6: КТП 400 Поселок Поповка | GN6: ТП 250 кВА Козлово | GO6: КТП 100 "ЭСПА" | GP6: КТП д. Курьяково | GQ6: КТП-63кВА Сад №13 ЧМХС | GR6: КТП-63кВА Ново-Дубровка | GS6: КТП 250 кВА КЗС-2 п.Яганово | GT6: КТП 250кВА Деревня Яганово | GU6: КТП 100кВА Очистные Яганово | GV6: КТП 400 кВА Комплекс д.Яганово ООО Ботово | GW6: КТП 63 кВА Арт.скважина | GX6: ТП 400 кВА Машинный двор п.Яганово (Русаков) | GY6: КТП 100 кВА Борок-2 | GZ6: КТП 160 кВА Дарвинский заповедник | HA6: КТП 20 кВА Вауч (общий) | HB6: КТП-63кВА д. Новая Ягница | HC6: КТП-160кВА "Сад "Вера" | HD6: КТП-630кВА СЗМК 2 | HE6: КТП-160кВА Коттеджи | HF6: КТП-63 кВА АЗС №43 | HG6: КТП-250кВА "БОМК" | HH6: КТП-160кВА ДНТ "Ульяновский" | HI6: ТП 250кВА Горизонт | HJ6: ТП 250кВА Горизонт | HK6: КТП 250кВА "Хуторок" | HL6: КТП 250кВА "Хуторок" | HM6: КТП-63 кВА д.Красное Плоское | HN6: КТП 63 кВА Столовая с.Никольское | HO6: КТП 63 кВА Столовая с.Никольское | HP6: ТП 400 кВА Комплекс"Андога" В-1 | HQ6: ТП 400 кВА К-с "Андога" В-2 | HR6: КТП-60кВА д. Марыгино | HS6: Красная Заря | HT6: КТП 160 кВА Сад "Кит-1" | HU6: ТП 400 кВА п.Нижние В-2 | HV6: ТП 400 кВА п.Нижние В-1 | HW6: КТП 250кВА Малая Рукавицкая | HX6: КТП-400кВА "Строитель" | HY6: КТП-400кВА "Строитель" | HZ6: КТП 160 кВА "Кадуйремдорстрой" | IA6: КТП-100 кВА "Грищи" | IB6: КТП-250 Агрофирма "Северагрогаз" В-1 | IC6: КТП-250 Агрофирма "Северагрогаз" В-2 | ID6: ТП 250 кВА ООО"Курс-лес" | IE6: КТП-100 кВА Сад "Диана" | IF6: ТП 400 кВА Комплекс"Чуприно" В-1 | IG6: К-с Чуприно В-2 п. Кадуй | IH6: КТП-250кВА "Сад Энергетик 3" | II6: КТП-160кВА "Сад Энергетик 3" №2 | IJ6: КТП-63кВА д. Якимово | IK6: КТП-250кВА БО "Заозерье" Т1 | IL6: КТП-250кВА БО "Заозерье" Т2 | IM6: ТП-400кВА "Мечта" | IN6: ТП-400кВА "Мечта" | IO6: ТП-43, Станция Огарево | IP6: ТП-66,ул.Зеленая | IQ6: ТП-62, ул.Октября | IR6: КТП-63 кВА "Водозабор" (Мегрино) | IS6: ТП-23, д.Бараново | IT6: КТП-57 "Смердомский" | IU6: КТП-63 кВА Скважина №62 (ф. Володино) | IV6: КТП-250 кВА Боровая №49 (ф. Тимошкино) | IW6: КТП-250 кВА КНС №56 (ф. Тимошкино) | IX6: ПКУ "Володино оп. №82 (ф. Володино) | IY6: КТП-160 кВА Поселок №18 (ф. Порошино) | IZ6: КТП-250 кВА Школа №17 (ф. Порошино) | JA6: Головной учет | JB6: КТП Шайма ВВ | JC6: КТП Оношево ВВ | JD6: Офис | JE6: ТП-107 > Пр. база (ул. Механизаторов, 3а) | JF6: ТП-1081 | JG6: ТП-17 п. Кадуй > яч. 2 отдача (ф. ТП-18 яч.1) | JH6: ТП-19 п. Кадуй > яч. 6 отдача (ф. ТП-18 яч.1) | JI6: ТП-451 | JJ6: ТП-59 | JK6: ТП Жилзона (ПЛ Жемчужина Мологи) | JL6: ТП-Кадуйагропромэнерго | JM6: ТП-Кадуймежхозлес | JN6: ТП-Кадуйское ДЭУ | JO6: Я Ч.31.1 | JP6: Я Ч.24.3 | JQ6: Яч.12-Водозабор-1 | JR6: Яч.19-Водозабор-2 | JS6: Яч.23-Производственный | JT6: КНС | JU6: Пищекомбинат | JV6: ТП-66 "Устюженский тракт" | JW6: ТП-31 "Устюженский тракт
B7: 19470552 | C7: 26049121 | D7: 19470545 | E7: 11113885 | F7: 11086238 | G7: 16949905 | H7: 19481600 | I7: 19488470 | J7: 19488462 | K7: 19470559 | L7: 19103596 | M7: 16949968 | N7: 16949803 | O7: 17661498 | P7: 11086265 | Q7: 07999681 | R7: 13098213 | S7: 11086392 | T7: 11086444 | U7: 13097949 | V7: 11086358 | W7: 11086361 | X7: 26049097 | Y7: 11086482 | Z7: 05837572 | AA7: 06660973 | AB7: 13098097 | AC7: 15662727 | AD7: 11086266 | AE7: 13126280 | AF7: 11086254 | AG7: 19103608 | AH7: 11086264 | AI7: 13097956 | AJ7: 21147742 | AK7: 11143107 | AL7: 11086390 | AM7: 06044944 | AN7: 11086452 | AO7: 11086106 | AP7: 15619222 | AQ7: 15666442 | AR7: 11086432 | AS7: 11086263 | AT7: 06045257 | AU7: 15650415 | AV7: 11086448 | AW7: 11086414 | AX7: 11086239 | AY7: 11086442 | AZ7: 11086314 | BA7: 13125994 | BB7: 13098217 | BC7: 11086320 | BD7: 11086326 | BE7: 13139243 | BF7: 13097932 | BG7: 13125890 | BH7: 20143734 | BI7: 17493808 | BJ7: 06539417 | BK7: 06539416 | BL7: 06539590 | BM7: 06045897 | BN7: 06045896 | BO7: 06539435 | BP7: 15749411 | BQ7: 19099845 | BR7: 06539593 | BS7: 06539533 | BT7: 06539584 | BU7: 19470606 | BV7: 06539591 | BW7: 210550 | BX7: 19103962 | BY7: 13153670 | BZ7: 18427883 | CA7: 15620552 | CB7: 06539428 | CC7: 06045021 | CD7: 06045015 | CE7: 06539592 | CF7: 06539570 | CG7: 06539426 | CH7: 06539600 | CI7: 06539579 | CJ7: 06045043 | CK7: 06045033 | CL7: 13098182 | CM7: 06045010 | CN7: 18430665 | CO7: 06045012 | CP7: 6539581 | CQ7: 19103638 | CR7: 15745835 | CS7: 06044957 | CT7: 06045037 | CU7: 27375913 | CV7: 10176388 | CW7: 19103702 | CX7: 15744386 | CY7: 06539422 | CZ7: 19103631 | DA7: 16949987 | DB7: 11086240 | DC7: 06742125 | DD7: 15650755 | DE7: 33721806 | DF7: 18430343 | DG7: 06742123 | DH7: 06742116 | DI7: 06742093 | DJ7: 15744339 | DK7: 06742098 | DL7: 19465107 | DM7: 06742129 | DN7: 15650825 | DO7: 16949003 | DP7: 06046731 | DQ7: 05849317 | DR7: 16927658 | DS7: 06045018 | DT7: 19093106 | DU7: 13155095 | DV7: 06045573 | DW7: 06742101 | DX7: 15741191 | DY7: 06046734 | DZ7: 15650829 | EA7: 15650745 | EB7: 11143150 | EC7: 06742105 | ED7: 06742106 | EE7: 06045034 | EF7: 11086311 | EG7: 13093574 | EH7: 11086242 | EI7: 11086103 | EJ7: 06539554 | EK7: 15745844 | EL7: 16944596 | EM7: 19470560 | EN7: 19099768 | EO7: 26039780 | EP7: 21748971 | EQ7: 28773147 | ER7: 11131131 | ES7: 25418334 | ET7: 06742086 | EU7: 15628405 | EV7: 11131007 | EW7: 16927688 | EX7: 21733685 | EY7: 19103454 | EZ7: 06742128 | FA7: 06742108 | FB7: 15650528 | FC7: 15741183 | FD7: 26614137 | FE7: 06742118 | FF7: 06742100 | FG7: 19094522 | FH7: 19103428 | FI7: 06742095 | FJ7: 06742096 | FK7: 06742099 | FL7: 06742104 | FM7: 05849354 | FN7: 16944944 | FO7: 18430372 | FP7: 06044973 | FQ7: 06044898 | FR7: 06045538 | FS7: 15744283 | FT7: 19103991 | FU7: 05849326 | FV7: 9254347 | FW7: 06033439 | FX7: 05849813 | FY7: 11086402 | FZ7: 11086376 | GA7: 10176561 | GB7: 26049122 | GC7: 15659478 | GD7: 21733293 | GE7: 15628224 | GF7: 06045523 | GG7: 13534023 | GH7: 13522131 | GI7: 16937093 | GJ7: 13097903 | GK7: 07942401 | GL7: 13125918 | GM7: 15650744 | GN7: 16944802 | GO7: 13098209 | GP7: 10176352 | GQ7: 07937270 | GR7: 18430596 | GS7: 15741185 | GT7: 06045030 | GU7: 15745902 | GV7: 15628210 | GW7: 19465112 | GX7: 15650590 | GY7: 06044971 | GZ7: 06045024 | HA7: 19103443 | HB7: 19103690 | HC7: 2626942 | HD7: 35307398 | HE7: 06044983 | HF7: 06786152 | HG7: 06045016 | HH7: 39073299 | HI7: 06863216 | HJ7: 40419089 | HK7: 11139032 | HL7: 06786161 | HM7: 06786090 | HN7: 11130958 | HO7: 06786376 | HP7: 19090796 | HQ7: 19090578 | HR7: 19093082 | HS7: 06786109 | HT7: 06786145 | HU7: 06044910 | HV7: 06044909 | HW7: 06786153 | HX7: 11131001 | HY7: 06786141 | HZ7: 06786111 | IA7: 11130994 | IB7: 06786448 | IC7: 06786077 | ID7: 06786381 | IE7: 06786108 | IF7: 06786087 | IG7: 06786154 | IH7: 06786079 | II7: 06786147 | IJ7: 06786088 | IK7: 06046532 | IL7: 06046535 | IM7: 06786146 | IN7: 40313303 | IO7: 19094520 | IP7: 16944667 | IQ7: 16944811 | IR7: 10176353 | IS7: 15650771 | IT7: 06045637 | IU7: 05786024 | IV7: 05787642 | IW7: 05786058 | IX7: 0807125628 | IY7: 05785792 | IZ7: 05786070
B8: Меркурий 230 ART-03 PQCSIDN | C8: Меркурий 234 ART-03 P | D8: Меркурий 230 ART-03 PQCSIDN | E8: Меркурий 230 ART-03 PQCSIDN | F8: Меркурий 230 ART-03 PQCSIGDN | G8: Меркурий 230 ART-03 PQCSIDN | H8: Меркурий 230 ART-03 PQCSIDN | I8: Меркурий 230 ART-03 PQCSIDN | J8: Меркурий 230 ART-03 PQCSIDN | K8: Меркурий 230 ART-03 PQCSIDN | L8: Меркурий 230 ART-03 PQRSIGDN | M8: Меркурий 230 ART-03 PQCSIDN | N8: Меркурий 230 ART-03 PQCSIDN | O8: Меркурий 230 ART-02 PQCSIN | P8: Меркурий 230 ART-03 PQRSIGDN | Q8: Меркурий 230 ART-01 PQCSIDN | R8: Меркурий 230 ART-03 PQCSIDN | S8: Меркурий 230 ART-03 PQCSIGDN | T8: Меркурий 230 ART-03 PQCSIGDN | U8: Меркурий 230 ART-03 PQCSIGDN | V8: Меркурий 230 ART-03 PQRSIDN | W8: Меркурий 230 ART-03 PQRSIGDN | X8: Меркурий 234 ART-03 P | Y8: Меркурий 230 ART-03 PQCSIGDN | Z8: AS3500-134-RLM-PB2K-B-PL | AA8: AS3500-134-RLM-PB2K-B-PL | AB8: Меркурий 230 ART-03 PQCSIGDN | AC8: Меркурий 230 ART-02 PQCSIGDN | AD8: Меркурий 230 ART-03 PQRSIDN | AE8: Меркурий 230 ART-02 PQRSIGDN | AF8: Меркурий 230 ART-03 PQRSIDN | AG8: Меркурий 230 ART-03 PQRSIGDN | AH8: Меркурий 230 ART-03 PQRSIGDN | AI8: Меркурий 230 ART-03 PQCSIGDN | AJ8: Меркурий 230 ART-03 PQCSIDN | AK8: Меркурий 230 ART-03 PQCSIDN | AL8: Меркурий 230 ART-03 PQRSIGDN | AM8: AS3500-533-RLM-PB2-B-PL | AN8: Меркурий 230 ART-03 PQRSIDN | AO8: Меркурий 230 ART-03 PQRSIDN | AP8: Меркурий 230 ART-03 PQRSIGDN | AQ8: Меркурий 230 ART-02 PQCSIGDN | AR8: Меркурий 230 ART-03 PQCSIGDN | AS8: Меркурий 230 ART-03 PQCSIGDN | AT8: AS3500-533-RLM-PB2-B-GS | AU8: Меркурий 230 ART-03 PQCSIGDN | AV8: Меркурий 230 ART-03 PQRSIDN | AW8: Меркурий 230 ART-03 PQRSIDN | AX8: Меркурий 230 ART-03 PQRSIDN | AY8: Меркурий 230 ART-03 PQCSIGDN | AZ8: Меркурий 230 ART-03 PQCSIDN | BA8: Меркурий 230 ART-03 PQCSIGDN | BB8: Меркурий 230 ART-03 PQCSIGDN | BC8: Меркурий 230 ART-03 PQCSIGDN | BD8: Меркурий 230 ART-03 PQRSIDN | BE8: Меркурий 230 ART-03 PQCSIGDN | BF8: Меркурий 230 ART-03 PQCSIGDN | BG8: Меркурий 230 ART-03 PQCSIGDN | BH8: Меркурий 230 ART-00 PQRSIGDN | BI8: Меркурий 230 ART-03 PQCSIDN | BJ8: AS3500-533-RLM-PB2-B-PL | BK8: AS3500-533-RLM-PB2-B-PL | BL8: AS3500-533-RLM-PB2-B-PL | BM8: AS3500-533-RLM-PB2-B-PL | BN8: AS3500-533-RLM-PB2-B-PL | BO8: AS3500-533-RLM-PB2-B-PL | BP8: Меркурий 230 ART-03 PQCSIDN | BQ8: Меркурий 230 ART-03 PQCSIGDN | BR8: AS3500-533-RLM-PB2-B-PL | BS8: AS3500-533-RLM-PB2-B-PL | BT8: AS3500-533-RLM-PB2-B-PL | BU8: Меркурий 230 ART-03 PQCSIDN | BV8: AS3500-533-RLM-PB2-B-PL | BW8: ЦЭ6803В | BX8: Меркурий 230 ART-03 PQCSIGDN | BY8: Меркурий 230 AR-03 MCL | BZ8: Меркурий 230 ART-00 PQRSIGDN | CA8: Меркурий 230 ART-00 PQRSIGDN | CB8: AS3500-533-RLM-PB2-B-PL | CC8: AS3500-533-RLM-PB2-B-PL | CD8: AS3500-533-RLM-PB2-B-PL | CE8: AS3500-533-RLM-PB2-B-PL | CF8: AS3500-533-RLM-PB2-B-PL | CG8: AS3500-533-RLM-PB2-B-PL | CH8: AS3500-533-RLM-PB2-B-PL | CI8: AS3500-533-RLM-PB2-B-PL | CJ8: AS3500-533-RLM-PB2-B-PL | CK8: AS3500-533-RLM-PB2-B-PL | CL8: Меркурий 230 ART-03 PQCSIGDN | CM8: AS3500-533-RLM-PB2-B-PL | CN8: Меркурий 230 ART-03 PQCSIGDN | CO8: AS3500-533-RLM-PB2-B-PL | CP8: AS3500-533-RLM-PB2-B-PL | CQ8: Меркурий 230 ART-03 PQRSIGDN | CR8: Меркурий 230 ART-03 PQCSIDN | CS8: AS3500-533-RLM-PB2-B-PL | CT8: AS3500-533-RLM-PB2-B-PL | CU8: Меркурий 234 ART-02 P | CV8: Меркурий 230 ART-03 PQCSIGDN | CW8: Меркурий 230 ART-03 PQRSIGDN | CX8: Меркурий 230 ART-03 PQCSIDN | CY8: AS3500-533-RLM-PB2-B-PL | CZ8: Меркурий 230 ART-03 PQRSIGDN | DA8: Меркурий 230 ART-03 PQCSIDN | DB8: Меркурий 230 ART-03 PQCSIGDN | DC8: AS3500-533-RLM-PB2-B-PL | DD8: Меркурий 230 ART-03 PQCSIGDN | DE8: Меркурий 234 ARTМ-03 PB.G | DF8: Меркурий 230 ART-03 PQCSIGDN | DG8: AS3500-533-RLM-PB2-B-PL | DH8: AS3500-533-RLM-PB2-B-PL | DI8: AS3500-533-RLM-PB2-B-PL | DJ8: Меркурий 230 ART-03 PQCSIDN | DK8: AS3500-533-RLM-PB2-B-PL | DL8: Меркурий 230 ART-03 PQCSIDN | DM8: AS3500-533-RLM-PB2-B-PL | DN8: Меркурий 230 ART-03 PQCSIGDN | DO8: Меркурий 230 ART-03 PQCSIDN | DP8: AS3500-533-RLM-PB2-B-PL | DQ8: AS3500-533-RLM-PB2-B-PL | DR8: Меркурий 230 ART-03 PQCSIDN | DS8: AS3500-533-RLM-PB2-B-PL | DT8: Меркурий 230 ART-03 PQCSIGDN | DU8: Меркурий 230 ART-03 PQCSIGDN | DV8: AS3500-533-RLM-PB2-B-PL | DW8: AS3500-533-RLM-PB2-B-PL | DX8: Меркурий 230 ART-03 PQRSIDN | DY8: AS3500-533-RLM-PB3-B-PL | DZ8: Меркурий 230 ART-03 PQCSIGDN | EA8: Меркурий 230 ART-03 PQCSIGDN | EB8: Меркурий 230 ART-03 PQCSIDN | EC8: AS3500-533-RLM-PB2-B | ED8: AS3500-533-RLM-PB2-B | EE8: AS3500-533-RLM-PB2-B-PL | EF8: Меркурий 230 ART-03 PQCSIGDN | EG8: Меркурий 230 ART-03 PQRSIDN | EH8: Меркурий 230 ART-03 PQCSIGDN | EI8: Меркурий 230 ART-03 PQCSIGDN | EJ8: AS3500-533-RLM-PB2-B-PL | EK8: Меркурий 230 ART-03 PQCSIDN | EL8: Меркурий 230 ART-03 PQCSIDN | EM8: Меркурий 230 ART-03 PQCSIGDN | EN8: Меркурий 230 ART-03 PQCSIGDN | EO8: Меркурий 234 ART-03 P | EP8: Меркурий 230 ART-03 PQRSIDN | EQ8: Меркурий 230 ART-03 PQRSIGDN | ER8: Меркурий 230 ART-03 PQRSIDN | ES8: Меркурий 234 ART-03 P | ET8: AS3500-533-RLM-PB2-B-PL | EU8: Меркурий 230 ART-03 PQCSIGDN | EV8: Меркурий 230 ART-03 PQCSIDN | EW8: Меркурий 230 ART-03 PQCSIDN | EX8: Меркурий 234 ART-03 P | EY8: Меркурий 230 ART-03 PQRSIGDN | EZ8: AS3500-533-RLM-PB2-B-PL | FA8: AS3500-533-RLM-PB2-B-PL | FB8: Меркурий 230 ART-03 PQCSIGDN | FC8: Меркурий 230 ART-03 PQCSIDN | FD8: Меркурий 234 ARTМ-03 PB.G | FE8: AS3500-533-RLM-PB2-B-PL | FF8: AS3500-533-RLM-PB2-B-PL | FG8: Меркурий 230 ART-02 PQCSIGDN | FH8: Меркурий 230 ART-03 PQRSIGDN | FI8: AS3500-533-RLM-PB2-B-PL | FJ8: AS3500-533-RLM-PB2-B-PL | FK8: AS3500-533-RLM-PB2-B-PL | FL8: AS3500-533-RLM-PB2-B-PL | FM8: AS3500-533-RLM-PB2-B-PL | FN8: Меркурий 230 ART-03 PQCSIDN | FO8: Меркурий 230 ART-03 PQCSIGDN | FP8: AS3500-533-RLM-PB2-B-PL | FQ8: AS3500-533-RLM-PB2-B-PL | FR8: AS3500-533-RLM-PB2-B-PL | FS8: Меркурий 230 ART-03 PQCSIDN | FT8: Меркурий 230 ART-03 PQCSIGDN | FU8: AS3500-533-RLM-PB2-B-PL | FV8: Меркурий 230 AR-03 MCL | FW8: AS3500-134-RLM-PB2K-B-PL | FX8: AS3500-533-RLM-PB2-B-PL | FY8: Меркурий 230 ART-03 PQRSIDN | FZ8: Меркурий 230 ART-03 PQRSIDN | GA8: Меркурий 230 ART-03 PQCSIGDN | GB8: Меркурий 234 ART-03 P | GC8: Меркурий 230 ART-02 PQCSIGDN | GD8: Меркурий 234 ART-03 P | GE8: Меркурий 230 ART-03 PQCSIGDN | GF8: AS3500-533-RLM-PB2-B-PL | GG8: Меркурий 230 ART-03 PQRSIDN | GH8: Меркурий 230 ART-03 PQRSIDN | GI8: Меркурий 230 ART-03 PQCSIDN | GJ8: Меркурий 230 ART-03 PQCSIGDN | GK8: Меркурий 230 ART-03 PQCSIDN | GL8: Меркурий 230 ART-03 PQCSIGDN | GM8: Меркурий 230 ART-03 PQCSIGDN | GN8: Меркурий 230 ART-03 PQCSIDN | GO8: Меркурий 230 ART-03 PQCSIGDN | GP8: Меркурий 230 ART-03 PQCSIGDN | GQ8: Меркурий 230 ART-03 PQRSIDN | GR8: Меркурий 230 ART-03 PQCSIGDN | GS8: Меркурий 230 ART-03 PQCSIGDN | GT8: AS3500-533-RLM-PB2-B-PL | GU8: Меркурий 230 ART-03 PQCSIDN | GV8: Меркурий 230 ART-03 PQCSIGDN | GW8: Меркурий 230 ART-03 PQCSIDN | GX8: Меркурий 230 ART-03 PQCSIGDN | GY8: AS3500-533-RLM-PB2-B-PL | GZ8: AS3500-533-RLM-PB2-B-PL | HA8: Меркурий 230 ART-03 PQCSIGDN | HB8: Меркурий 230 ART-03 PQCSIGDN | HC8: Меркурий 230 АМ-03 | HD8: Меркурий 234 ARTМ-00 PB.G | HE8: AS3500-533-RLM-PB2-B-PL | HF8: AS3500-533-RLM-PB2-B-PL | HG8: AS3500-533-RLM-PB2-B-PL | HH8: Меркурий 234 ARTМ-03 PB.G | HI8: AS3500-533-RLM-PB2-B-PL | HJ8: Меркурий 230 АМ-03 | HK8: Меркурий 230 ART-03 PQRSIDN | HL8: AS3500-533-RLM-PB2-B | HM8: AS3500-533-RLM-PB2-B | HN8: Меркурий 230 ART-03 PQRSIDN | HO8: AS3500-533-RLM-PB2-B | HP8: Меркурий 230 ART-03 PQCSIGDN | HQ8: Меркурий 230 ART-03 PQRSIDN | HR8: Меркурий 230 ART-03 PQCSIGDN | HS8: AS3500-533-RLM-PB2-B | HT8: AS3500-533-RLM-PB2-B | HU8: AS3500-533-RLM-PB2-B-PL | HV8: AS3500-533-RLM-PB2-B-PL | HW8: AS3500-533-RLM-PB2-B | HX8: Меркурий 230 ART-03 PQRSIDN | HY8: AS3500-533-RLM-PB2-B | HZ8: AS3500-533-RLM-PB2-B | IA8: Меркурий 230 ART-03 PQRSIDN | IB8: AS3500-533-RLM-PB2-B | IC8: AS3500-533-RLM-PB2-B | ID8: AS3500-533-RLM-PB2-B | IE8: AS3500-533-RLM-PB2-B | IF8: AS3500-533-RLM-PB2-B | IG8: AS3500-533-RLM-PB2-B | IH8: AS3500-533-RLM-PB2-B | II8: AS3500-533-RLM-PB2-B | IJ8: AS3500-533-RLM-PB2-B | IK8: AS3500-533-RLM-PB2-B-PL | IL8: AS3500-533-RLM-PB2-B-PL | IM8: AS3500-533-RLM-PB2-B | IN8: Меркурий 230 ART-03 CN | IO8: Меркурий 230 ART-03 PQCSIGDN | IP8: Меркурий 230 ART-03 PQCSIDN | IQ8: Меркурий 230 ART-03 PQCSIDN | IR8: Меркурий 230 ART-03 PQRSIDN | IS8: Меркурий 230 ART-03 PQCSIGDN | IT8: AS3500-533-RLM-PB2-B-PL | IU8: AS3500-533-RLM-PB2-B-PL | IV8: AS3500-533-RLM-PB2-B-PL | IW8: AS3500-533-RLM-PB2-B-PL | IX8: СЭТ-4ТМ.03.01 | IY8: AS3500-533-RLM-PB2-B-PL | IZ8: AS3500-533-RLM-PB2-B-PL
B9: 60 | C9: 60 | D9: 60 | E9: 30 | F9: 120 | G9: 60 | H9: 30 | I9: 30 | J9: 30 | K9: 80 | L9: 20 | M9: 80 | N9: 80 | O9: 1 | P9: 40 | Q9: 1 | R9: 60 | S9: 120 | T9: 120 | U9: 30 | V9: 80 | W9: 120 | X9: 30 | Y9: 20 | Z9: 1 | AA9: 1 | AB9: 60 | AC9: 1 | AD9: 60 | AE9: 1 | AF9: 120 | AG9: 40 | AH9: 120 | AI9: 60 | AJ9: 60 | AK9: 40 | AL9: 80 | AM9: 80 | AN9: 200 | AO9: 120 | AP9: 60 | AQ9: 1 | AR9: 80 | AS9: 80 | AT9: 80 | AU9: 200 | AV9: 200 | AW9: 60 | AX9: 60 | AY9: 120 | AZ9: 80 | BA9: 80 | BB9: 60 | BC9: 120 | BD9: 200 | BE9: 30 | BF9: 60 | BG9: 60 | BH9: 4000 | BI9: 30 | BJ9: 60 | BK9: 120 | BL9: 120 | BM9: 120 | BN9: 120 | BO9: 40 | BP9: 20 | BQ9: 20 | BR9: 40 | BS9: 80 | BT9: 80 | BU9: 80 | BV9: 120 | BW9: 120 | BX9: 120 | BY9: 60 | BZ9: 3000 | CA9: 6000 | CB9: 200 | CC9: 120 | CD9: 120 | CE9: 120 | CF9: 120 | CG9: 120 | CH9: 80 | CI9: 80 | CJ9: 120 | CK9: 120 | CL9: 30 | CM9: 120 | CN9: 120 | CO9: 200 | CP9: 120 | CQ9: 80 | CR9: 80 | CS9: 200 | CT9: 200 | CU9: 1 | CV9: 120 | CW9: 40 | CX9: 120 | CY9: 40 | CZ9: 20 | DA9: 80 | DB9: 120 | DC9: 120 | DD9: 60 | DE9: 60 | DF9: 60 | DG9: 200 | DH9: 120 | DI9: 120 | DJ9: 60 | DK9: 120 | DL9: 60 | DM9: 120 | DN9: 60 | DO9: 30 | DP9: 60 | DQ9: 40 | DR9: 60 | DS9: 20 | DT9: 20 | DU9: 120 | DV9: 120 | DW9: 80 | DX9: 40 | DY9: 120 | DZ9: 40 | EA9: 20 | EB9: 60 | EC9: 120 | ED9: 120 | EE9: 120 | EF9: 120 | EG9: 200 | EH9: 20 | EI9: 20 | EJ9: 60 | EK9: 80 | EL9: 80 | EM9: 80 | EN9: 30 | EO9: 40 | EP9: 20 | EQ9: 50 | ER9: 30 | ES9: 80 | ET9: 80 | EU9: 20 | EV9: 60 | EW9: 80 | EX9: 40 | EY9: 30 | EZ9: 60 | FA9: 60 | FB9: 40 | FC9: 80 | FD9: 30 | FE9: 50 | FF9: 50 | FG9: 1 | FH9: 30 | FI9: 120 | FJ9: 120 | FK9: 80 | FL9: 80 | FM9: 120 | FN9: 30 | FO9: 20 | FP9: 80 | FQ9: 80 | FR9: 30 | FS9: 30 | FT9: 80 | FU9: 120 | FV9: 60 | FW9: 1 | FX9: 50 | FY9: 60 | FZ9: 120 | GA9: 20 | GB9: 80 | GC9: 1 | GD9: 200 | GE9: 200 | GF9: 40 | GG9: 200 | GH9: 200 | GI9: 40 | GJ9: 60 | GK9: 40 | GL9: 30 | GM9: 40 | GN9: 60 | GO9: 20 | GP9: 30 | GQ9: 20 | GR9: 20 | GS9: 80 | GT9: 80 | GU9: 30 | GV9: 120 | GW9: 20 | GX9: 120 | GY9: 50 | GZ9: 80 | HA9: 1 | HB9: 20 | HC9: 20 | HD9: 2000 | HE9: 60 | HF9: 30 | HG9: 80 | HH9: 60 | HI9: 80 | HJ9: 80 | HK9: 80 | HL9: 80 | HM9: 15 | HN9: 20 | HO9: 20 | HP9: 120 | HQ9: 120 | HR9: 30 | HS9: 15 | HT9: 25 | HU9: 80 | HV9: 80 | HW9: 80 | HX9: 60 | HY9: 60 | HZ9: 60 | IA9: 20 | IB9: 60 | IC9: 60 | ID9: 40 | IE9: 20 | IF9: 120 | IG9: 120 | IH9: 60 | II9: 60 | IJ9: 20 | IK9: 80 | IL9: 80 | IM9: 80 | IN9: 80 | IU9: 20 | IV9: 40 | IW9: 60 | IX9: 2000 | IY9: 40 | IZ9: 80
A10: 0-1 | B10: 14.76 | C10: 17.25 | D10: 23.7 | E10: 14.565 | F10: 6.6 | G10: 14.85 | H10: 17.91 | I10: 15.015 | J10: 8.76 | K10: 15.64 | L10: 3.72 | M10: 40.24 | N10: 61.96 | O10: 29.43 | P10: 0 | Q10: 0.4475 | R10: 10.68 | S10: 106.44 | T10: 0 | U10: 16.83 | V10: 9.08 | W10: 2.44 | X10: 1.92 | Y10: 0 | Z10: 10.254 | AA10: 444.8 | AB10: 7.08 | AC10: 5.555 | AD10: 7.11 | AE10: 0 | AF10: 0 | AG10: 34.1 | AH10: 49.56 | AI10: 2.4 | AJ10: 128.82 | AK10: 72.1 | AL10: 15.04 | AM10: 4.816 | AN10: 165.7 | AO10: 0 | AP10: 9.87 | AQ10: 0.39 | AR10: 12.08 | AS10: 2.08 | AT10: 7.392 | AU10: 0 | AV10: 5.5 | AW10: 0.99 | AX10: 0 | AY10: 0 | AZ10: 0 | BA10: 24.28 | BB10: 0.08 | BC10: 0 | BD10: 15.1 | BE10: 40.6 | BF10: 3.15 | BG10: 0 | BH10: 0 | BI10: 3.16 | BJ10: 28.68 | BK10: 68.976 | BL10: 51.072 | BM10: 55.32 | BN10: 0 | BO10: 0 | BP10: 2.17 | BQ10: 0 | BR10: 4.8 | BS10: 24.24 | BT10: 19.984 | BU10: 49.76 | BV10: 8.928 | BW10: 31.44 | BX10: 23.28 | BY10: 1.56 | BZ10: 204.6 | CA10: 0 | CB10: 117.16 | CC10: 136.416 | CD10: 33.912 | CE10: 63.72 | CF10: 16.584 | CG10: 27.504 | CH10: 13.056 | CI10: 1.024 | CJ10: 50.328 | CK10: 17.472 | CL10: 1.1 | CM10: 38.592 | CN10: 2.64 | CO10: 143.4 | CP10: 43.74 | CQ10: 1.16 | CR10: 2.4 | CS10: 54.4 | CT10: 79.6 | CU10: 0.29 | CV10: 0 | CW10: 0 | CX10: 16.56 | CY10: 14.408 | CZ10: 0.59 | DA10: 1.08 | DB10: 0 | DC10: 119.52 | DD10: 33.48 | DE10: 0 | DF10: 24.51 | DG10: 4.8 | DH10: 44.88 | DI10: 0 | DJ10: 11.88 | DK10: 5.232 | DL10: 8.82 | DM10: 103.44 | DN10: 3.18 | DO10: 6.375 | DP10: 10.89 | DQ10: 21.312 | DR10: 40.71 | DS10: 2.904 | DT10: 0.02 | DU10: 30.42 | DV10: 19.8 | DW10: 25.04 | DX10: 19.26 | DY10: 11.448 | DZ10: 2.7 | EA10: 0 | EB10: 16.54 | EC10: 31.44 | ED10: 0 | EE10: 28.296 | EF10: 0 | EG10: 0 | EH10: 0 | EI10: 2.79 | EJ10: 4.524 | EK10: 212.28 | EL10: 103.72 | EM10: 78.88 | EN10: 24.885 | EO10: 28.6 | EP10: 5.1 | EQ10: 5.05 | ER10: 3.3 | ES10: 96.6 | ET10: 59.04 | EU10: 5.54 | EV10: 33.54 | EW10: 41.72 | EX10: 121.76 | EY10: 0.03 | EZ10: 34.812 | FA10: 0 | FB10: 0 | FC10: 6.48 | FD10: 4.47 | FE10: 34.65 | FF10: 27.3 | FG10: 1.476 | FH10: 2.625 | FI10: 7.32 | FJ10: 35.16 | FK10: 31.2 | FL10: 43.12 | FM10: 0 | FN10: 1.185 | FO10: 0.66 | FP10: 4.704 | FQ10: 5.424 | FR10: 8.92 | FS10: 0.24 | FT10: 4.24 | FU10: 0 | FV10: 3.54 | FW10: 0.028 | FX10: 43.63 | FY10: 23.28 | FZ10: 2.39085 | GA10: 5.1 | GB10: 35.55915 | GC10: 17.079 | GD10: 44.1 | GE10: 34.4 | GF10: 8.415 | GG10: 0 | GH10: 4.7 | GI10: 15.5 | GJ10: 0.06 | GK10: 0.225 | GL10: 0.51 | GM10: 30.84 | GN10: 13.4 | GO10: 1.09 | GP10: 48.6 | GQ10: 14.95 | GR10: 0.49 | GS10: 7.12 | GT10: 64.992 | GU10: 14.685 | GV10: 73.68 | GW10: 7.38 | GX10: 2.88 | GY10: 11.12 | GZ10: 25.552 | HA10: 0.043 | HB10: 2.95 | HC10: 96.875532 | HD10: 61.7 | HE10: 29.556 | HF10: 16.686 | HG10: 92.144 | HH10: 0 | HL10: 9.6 | HM10: 3.5775 | HN10: 0.88 | HO10: 0 | HP10: 244.8 | HQ10: 0 | HR10: 1.575 | HS10: 0.95 | HT10: 0.705 | HU10: 56.416 | HV10: 25.392 | HW10: 0 | HX10: 19.17 | HY10: 0 | HZ10: 0 | IA10: 7.31 | IB10: 0.96 | IC10: 0 | ID10: 4.78 | IE10: 7.65 | IF10: 0 | IG10: 16.87 | IH10: 3.06 | II10: 9.792 | IJ10: 5.18 | IK10: 25.10715 | IL10: 30.223486 | IM10: 39.056 | IN10: 0 | IO10: 4.474 | IP10: 29.43 | IQ10: 12.45 | IR10: 9.92 | IS10: 16.02 | IT10: 68.384 | IU10: 12.4 | IV10: 47.88 | IW10: 11.4 | IX10: 0 | IY10: 57.16 | IZ10: 36.32 | JA10: 16677.172 | JB10: 18 | JC10: 1.0832 | JD10: 0 | JE10: 9 | JF10: 103 | JG10: 60 | JH10: 0 | JI10: 226 | JJ10: 40 | JK10: 14 | JL10: 5 | JM10: 4 | JN10: 9 | JO10: 0 | JP10: 7.2 | JQ10: 552 | JR10: 11.4 | JS10: 640 | JT10: 3.38 | JU10: 27.84 | JV10: 14.76 | JW10: 20.84 | JX10: =SUM(B10:JW10) -> 24782.251
A11: 1-2 | B11: 11.07 | C11: 16.77 | D11: 22.71 | E11: 13.89 | F11: 7.62 | G11: 14.49 | H11: 17.79 | I11: 14.925 | J11: 8.025 | K11: 11.2 | L11: 3.78 | M11: 38.72 | N11: 56.08 | O11: 28.47 | P11: 0 | Q11: 0.3815 | R11: 10.14 | S11: 110.16 | T11: 0 | U11: 18.255 | V11: 13.12 | W11: 2.6 | X11: 1.92 | Y11: 0 | Z11: 10.25 | AA11: 447.36 | AB11: 7.02 | AC11: 5.055 | AD11: 6.63 | AE11: 0 | AF11: 0 | AG11: 33.5 | AH11: 40.98 | AI11: 4.44 | AJ11: 123.6 | AK11: 59.62 | AL11: 14.76 | AM11: 3.248 | AN11: 145.7 | AO11: 0 | AP11: 7.86 | AQ11: 0.642 | AR11: 11.32 | AS11: 0 | AT11: 7.312 | AU11: 0 | AV11: 5.5 | AW11: 1.08 | AX11: 0 | AY11: 0 | AZ11: 0 | BA11: 24.52 | BB11: 0.04 | BC11: 0 | BD11: 23.6 | BE11: 40.92 | BF11: 3.09 | BG11: 0 | BH11: 0 | BI11: 3 | BJ11: 27.036 | BK11: 66 | BL11: 49.488 | BM11: 55.032 | BN11: 0 | BO11: 0 | BP11: 1.77 | BQ11: 0 | BR11: 4.76 | BS11: 23.248 | BT11: 19.488 | BU11: 49.36 | BV11: 8.376 | BW11: 30.96 | BX11: 23.58 | BY11: 1.52 | BZ11: 194.4 | CA11: 0 | CB11: 105.64 | CC11: 135.456 | CD11: 32.736 | CE11: 58.2 | CF11: 15.888 | CG11: 26.52 | CH11: 12.496 | CI11: 1.024 | CJ11: 45.432 | CK11: 16.44 | CL11: 1.2 | CM11: 35.808 | CN11: 2.7 | CO11: 144.8 | CP11: 35.28 | CQ11: 1.16 | CR11: 2.16 | CS11: 52.68 | CT11: 76.76 | CU11: 0.7 | CV11: 0 | CW11: 0 | CX11: 11.16 | CY11: 13.776 | CZ11: 0.57 | DA11: 1.2 | DB11: 0 | DC11: 111.36 | DD11: 33.33 | DE11: 0 | DF11: 17.67 | DG11: 4.8 | DH11: 46.2 | DI11: 0 | DJ11: 8.43 | DK11: 5.16 | DL11: 8.88 | DM11: 94.32 | DN11: 2.7 | DO11: 6.225 | DP11: 9.09 | DQ11: 20.82 | DR11: 29.4 | DS11: 1.104 | DT11: 0.03 | DU11: 31.08 | DV11: 17.976 | DW11: 23.6 | DX11: 17.24 | DY11: 10.272 | DZ11: 2.66 | EA11: 0 | EB11: 15.24 | EC11: 30.96 | ED11: 0 | EE11: 27.696 | EF11: 0 | EG11: 0 | EH11: 0 | EI11: 2.76 | EJ11: 4.62 | EK11: 201.32 | EL11: 104 | EM11: 80.88 | EN11: 27.09 | EO11: 29.28 | EP11: 5.07 | EQ11: 4.4 | ER11: 3.33 | ES11: 89.8 | ET11: 62.64 | EU11: 3.95 | EV11: 28.74 | EW11: 34.72 | EX11: 112.94 | EY11: 0.045 | EZ11: 33.048 | FA11: 0 | FB11: 0 | FC11: 6.04 | FD11: 3.645 | FE11: 34.15 | FF11: 27.35 | FG11: 1.485 | FH11: 2.88 | FI11: 6.24 | FJ11: 33.6 | FK11: 30.32 | FL11: 43.36 | FM11: 0 | FN11: 1.68 | FO11: 0.66 | FP11: 4.8 | FQ11: 6.912 | FR11: 8.24 | FS11: 0.84 | FT11: 4.56 | FU11: 0 | FV11: 3.33 | FW11: 0.026 | FX11: 41.5344 | FY11: 21.63 | FZ11: 2.5137 | GA11: 3.96 | GB11: 37.3863 | GC11: 17.143 | GD11: 48.3 | GE11: 37.1 | GF11: 7.425 | GG11: 0 | GH11: 4.1 | GI11: 13.9 | GJ11: 0 | GK11: 0.21 | GL11: 0.39 | GM11: 29.94 | GN11: 13.32 | GO11: 1.05 | GP11: 46.56 | GQ11: 15.34 | GR11: 0.47 | GS11: 7.08 | GT11: 64.768 | GU11: 14.565 | GV11: 78.72 | GW11: 7.28 | GX11: 2.64 | GY11: 11.52 | GZ11: 25.2 | HA11: 0.043 | HB11: 3.41 | HC11: 87.253583 | HD11: 93.7 | HE11: 27.924 | HF11: 17.298 | HG11: 82.992 | HH11: 0.03 | HL11: 7.32 | HM11: 3.3675 | HN11: 0.86 | HO11: 0 | HP11: 241 | HQ11: 0 | HR11: 1.245 | HS11: 0.94 | HT11: 0.705 | HU11: 36.176 | HV11: 25.392 | HW11: 0 | HX11: 15.63 | HY11: 0 | HZ11: 0 | IA11: 7.68 | IB11: 1.14 | IC11: 0 | ID11: 4.8 | IE11: 9.34 | IF11: 0 | IG11: 21.3 | IH11: 3.024 | II11: 9.684 | IJ11: 4.88 | IK11: 24.634012 | IL11: 29.653932 | IM11: 38.32 | IN11: 0 | IO11: 4.594 | IP11: 28.47 | IQ11: 12.275 | IR11: 9.92 | IS11: 5.82 | IT11: 11.136 | IU11: 12.2 | IV11: 44.12 | IW11: 10.74 | IX11: 0 | IY11: 58.04 | IZ11: 35.04 | JA11: 16008.246 | JB11: 18 | JC11: 1.0664 | JD11: 0 | JE11: 9 | JF11: 89 | JG11: 59 | JH11: 0 | JI11: 223 | JJ11: 39 | JK11: 15 | JL11: 5 | JM11: 6 | JN11: 9 | JO11: 0 | JP11: 9 | JQ11: 518.5 | JR11: 11.04 | JS11: 615 | JT11: 3.3 | JU11: 28.32 | JV11: 11.84 | JW11: 19.52 | JX11: =SUM(B11:JW11) -> 23680.936
A12: 2-3 | B12: 9.27 | C12: 16.14 | D12: 23.16 | E12: 12.855 | F12: 3.6 | G12: 14.82 | H12: 15.345 | I12: 14.76 | J12: 7.98 | K12: 9.6 | L12: 3.75 | M12: 38.88 | N12: 60.6 | O12: 26.82 | P12: 0 | Q12: 0.3975 | R12: 10.29 | S12: 95.46 | T12: 0 | U12: 18.15 | V12: 16.08 | W12: 2.64 | X12: 0.96 | Y12: 0.03 | Z12: 10.27 | AA12: 447.04 | AB12: 7.14 | AC12: 5.093 | AD12: 6.27 | AE12: 0 | AF12: 0 | AG12: 34.5 | AH12: 31.38 | AI12: 7.2 | AJ12: 122.7 | AK12: 55.44 | AL12: 14.56 | AM12: 2.8 | AN12: 176.1 | AO12: 0 | AP12: 6.75 | AQ12: 0.078 | AR12: 11.24 | AS12: 0 | AT12: 7.28 | AU12: 0 | AV12: 5.5 | AW12: 1.08 | AX12: 0 | AY12: 0 | AZ12: 0 | BA12: 25.28 | BB12: 0.08 | BC12: 0 | BD12: 15.2 | BE12: 40.8 | BF12: 3.15 | BG12: 0 | BH12: 0 | BI12: 3.28 | BJ12: 27.084 | BK12: 61.32 | BL12: 46.32 | BM12: 54.936 | BN12: 0 | BO12: 0 | BP12: 1.9 | BQ12: 0 | BR12: 4.776 | BS12: 25.68 | BT12: 19.632 | BU12: 47.96 | BV12: 8.184 | BW12: 31.2 | BX12: 21.72 | BY12: 1.56 | BZ12: 201 | CA12: 0 | CB12: 100.64 | CC12: 134.376 | CD12: 30.504 | CE12: 57.984 | CF12: 15.096 | CG12: 27.12 | CH12: 12.512 | CI12: 0.736 | CJ12: 42.36 | CK12: 16.368 | CL12: 1.14 | CM12: 33.312 | CN12: 2.76 | CO12: 131.72 | CP12: 30.84 | CQ12: 0.8 | CR12: 2.2 | CS12: 53.08 | CT12: 76.92 | CU12: 0.395 | CV12: 0 | CW12: 0 | CX12: 8.4 | CY12: 12.96 | CZ12: 0.3 | DA12: 1 | DB12: 0 | DC12: 111.24 | DD12: 33.42 | DE12: 0 | DF12: 14.79 | DG12: 4.8 | DH12: 44.88 | DI12: 0 | DJ12: 7.02 | DK12: 5.352 | DL12: 8.94 | DM12: 92.16 | DN12: 2.4 | DO12: 6.225 | DP12: 8.4 | DQ12: 17.172 | DR12: 29.4 | DS12: 1.128 | DT12: 0.02 | DU12: 30.36 | DV12: 20.088 | DW12: 22.16 | DX12: 18.5 | DY12: 10.824 | DZ12: 2.68 | EA12: 0 | EB12: 14.48 | EC12: 31.2 | ED12: 0 | EE12: 26.784 | EF12: 0 | EG12: 0 | EH12: 0 | EI12: 2.76 | EJ12: 4.524 | EK12: 202.28 | EL12: 99 | EM12: 79.36 | EN12: 23.625 | EO12: 31.14 | EP12: 5.13 | EQ12: 3.7 | ER12: 3.285 | ES12: 87.12 | ET12: 64.96 | EU12: 5.32 | EV12: 27 | EW12: 31.72 | EX12: 111.62 | EY12: 0.045 | EZ12: 34.62 | FA12: 0 | FB12: 0 | FC12: 6.08 | FD12: 3.255 | FE12: 33.2 | FF12: 25.6 | FG12: 1.487 | FH12: 2.565 | FI12: 5.88 | FJ12: 34.56 | FK12: 30.4 | FL12: 41.84 | FM12: 0 | FN12: 0.99 | FO12: 0.92 | FP12: 4.768 | FQ12: 6.272 | FR12: 9.48 | FS12: 0.84 | FT12: 4.48 | FU12: 0 | FV12: 3.24 | FW12: 0.026 | FX12: 42.0784 | FY12: 20.46 | FZ12: 2.50425 | GA12: 3.9 | GB12: 37.24575 | GC12: 17.116 | GD12: 75.9 | GE12: 35.1 | GF12: 4.275 | GG12: 0 | GH12: 4.9 | GI12: 17.62 | GJ12: 0.03 | GK12: 0.285 | GL12: 0.375 | GM12: 31.08 | GN12: 13.04 | GO12: 1.08 | GP12: 46.32 | GQ12: 13.56 | GR12: 0.51 | GS12: 7.12 | GT12: 63.6 | GU12: 14.64 | GV12: 80.76 | GW12: 7.23 | GX12: 2.76 | GY12: 11.24 | GZ12: 24.912 | HA12: 0.0425 | HB12: 3.81 | HC12: 73.897241 | HD12: 60.1 | HE12: 28.008 | HF12: 17.262 | HG12: 70.288 | HH12: 0.03 | HL12: 5.76 | HM12: 2.9775 | HN12: 0.83 | HO12: 0 | HP12: 240.4 | HQ12: 0 | HR12: 1.2 | HS12: 0.91 | HT12: 0.705 | HU12: 36.176 | HV12: 25.392 | HW12: 0 | HX12: 14.97 | HY12: 0 | HZ12: 0 | IA12: 7.2 | IB12: 0.66 | IC12: 0 | ID12: 4.84 | IE12: 9.91 | IF12: 0 | IG12: 25.64 | IH12: 3.396 | II12: 10.404 | IJ12: 3.02 | IK12: 25.62143 | IL12: 30.842566 | IM12: 39.856 | IN12: 0 | IO12: 4.537 | IP12: 26.82 | IQ12: 11.15 | IR12: 9.92 | IS12: 5.46 | IT12: 13.952 | IU12: 12.4 | IV12: 42.52 | IW12: 10.2 | IX12: 0 | IY12: 57.4 | IZ12: 35.36 | JA12: 16534.529 | JB12: 20 | JC12: 1.0752 | JD12: 0 | JE12: 8 | JF12: 78 | JG12: 54 | JH12: 0 | JI12: 221 | JJ12: 44 | JK12: 14 | JL12: 5 | JM12: 6 | JN12: 9 | JO12: 0 | JP12: 7.2 | JQ12: 510 | JR12: 11.26 | JS12: 606 | JT12: 3.6 | JU12: 27.36 | JV12: 10.68 | JW12: 19.12 | JX12: =SUM(B12:JW12) -> 24129.441
A13: 3-4 | B13: 7.71 | C13: 16.5 | D13: 23.19 | E13: 12 | F13: 3.6 | G13: 14.37 | H13: 16.095 | I13: 14.79 | J13: 7.785 | K13: 11.8 | L13: 3.78 | M13: 39.88 | N13: 58.76 | O13: 27.48 | P13: 0 | Q13: 0.338 | R13: 10.32 | S13: 101.4 | T13: 0 | U13: 16.785 | V13: 14.28 | W13: 2.48 | X13: 0.96 | Y13: 0 | Z13: 10.228 | AA13: 447.52 | AB13: 9.6 | AC13: 5.085 | AD13: 6.3 | AE13: 0 | AF13: 0 | AG13: 34.46 | AH13: 42.6 | AI13: 7.89 | AJ13: 121.89 | AK13: 53.68 | AL13: 14.44 | AM13: 5.504 | AN13: 172.4 | AO13: 0 | AP13: 5.4 | AQ13: 0.901 | AR13: 13.88 | AS13: 0 | AT13: 7.328 | AU13: 0 | AV13: 5.4 | AW13: 1.05 | AX13: 0 | AY13: 0 | AZ13: 0 | BA13: 25.12 | BB13: 0.04 | BC13: 0 | BD13: 15.2 | BE13: 40.32 | BF13: 3.15 | BG13: 0 | BH13: 0 | BI13: 3.08 | BJ13: 25.176 | BK13: 61.224 | BL13: 46.2 | BM13: 54.84 | BN13: 0 | BO13: 0 | BP13: 1.81 | BQ13: 0 | BR13: 4.768 | BS13: 33.504 | BT13: 19.312 | BU13: 47.44 | BV13: 8.112 | BW13: 31.08 | BX13: 25.08 | BY13: 1.52 | BZ13: 198.3 | CA13: 0 | CB13: 97.2 | CC13: 135.48 | CD13: 31.848 | CE13: 60.36 | CF13: 14.784 | CG13: 26.592 | CH13: 12.528 | CI13: 0.688 | CJ13: 42.12 | CK13: 16.416 | CL13: 1.22 | CM13: 33.072 | CN13: 2.7 | CO13: 143.2 | CP13: 28.44 | CQ13: 0.04 | CR13: 0.88 | CS13: 53.08 | CT13: 76.92 | CU13: 0.425 | CV13: 0 | CW13: 0 | CX13: 7.38 | CY13: 13.192 | CZ13: 0.12 | DA13: 0.92 | DB13: 0 | DC13: 108.6 | DD13: 33.33 | DE13: 0 | DF13: 14.25 | DG13: 5 | DH13: 52.44 | DI13: 0 | DJ13: 6.06 | DK13: 5.304 | DL13: 8.91 | DM13: 67.8 | DN13: 2.22 | DO13: 6.225 | DP13: 7.77 | DQ13: 17.664 | DR13: 38.28 | DS13: 0.036 | DT13: 0.02 | DU13: 30 | DV13: 24.84 | DW13: 22.16 | DX13: 17.3 | DY13: 11.544 | DZ13: 2.68 | EA13: 0 | EB13: 14.26 | EC13: 31.08 | ED13: 0 | EE13: 27.24 | EF13: 0 | EG13: 0 | EH13: 0 | EI13: 2.76 | EJ13: 4.5 | EK13: 203.04 | EL13: 100.96 | EM13: 79.44 | EN13: 24.45 | EO13: 28.64 | EP13: 5.1 | EQ13: 2.625 | ER13: 3.225 | ES13: 84.32 | ET13: 60 | EU13: 3.75 | EV13: 26.88 | EW13: 31.56 | EX13: 109.6 | EY13: 0.03 | EZ13: 33.3 | FA13: 0 | FB13: 0 | FC13: 5.52 | FD13: 3.21 | FE13: 34.1 | FF13: 24.4 | FG13: 1.486 | FH13: 2.565 | FI13: 5.64 | FJ13: 34.32 | FK13: 29.84 | FL13: 42 | FM13: 0 | FN13: 2.655 | FO13: 0.9 | FP13: 4.736 | FQ13: 5.68 | FR13: 8.88 | FS13: 0.9 | FT13: 4.52 | FU13: 0 | FV13: 3.315 | FW13: 0.028 | FX13: 43.0042 | FY13: 17.64 | FZ13: 2.5515 | GA13: 3.61 | GB13: 37.9485 | GC13: 17.151 | GD13: 109.7 | GE13: 39.2 | GF13: 4.305 | GG13: 0 | GH13: 4.8 | GI13: 17.02 | GJ13: 0 | GK13: 0.24 | GL13: 0.345 | GM13: 30.78 | GN13: 13.16 | GO13: 1.03 | GP13: 53.1 | GQ13: 13.91 | GR13: 0.48 | GS13: 6.92 | GT13: 62.56 | GU13: 16.32 | GV13: 88.38 | GW13: 5.73 | GX13: 2.64 | GY13: 11.66 | GZ13: 24.576 | HA13: 0.043 | HB13: 3.58 | HC13: 89.01985 | HD13: 94.4 | HE13: 27.504 | HF13: 16.674 | HG13: 84.672 | HH13: 0.03 | HL13: 5.24 | HM13: 2.7825 | HN13: 0.84 | HO13: 0 | HP13: 225.2 | HQ13: 0 | HR13: 1.275 | HS13: 0.87 | HT13: 0.7 | HU13: 36.176 | HV13: 25.392 | HW13: 0 | HX13: 13.65 | HY13: 0 | HZ13: 0 | IA13: 7.47 | IB13: 0.57 | IC13: 0 | ID13: 4.82 | IE13: 5.42 | IF13: 0 | IG13: 19.23 | IH13: 3.432 | II13: 9.84 | IJ13: 3.18 | IK13: 26.505991 | IL13: 31.907383 | IM13: 41.232 | IN13: 0 | IO13: 4.537 | IP13: 27.48 | IQ13: 10.8 | IR13: 2.38 | IS13: 5.34 | IT13: 75.104 | IU13: 12.2 | IV13: 42.28 | IW13: 10.2 | IX13: 0 | IY13: 57.72 | IZ13: 35.04 | JA13: 16436.32 | JB13: 16 | JC13: 1.0816 | JD13: 0 | JE13: 7 | JF13: 72 | JG13: 54 | JH13: 0 | JI13: 207 | JJ13: 47 | JK13: 13 | JL13: 5 | JM13: 4 | JN13: 10 | JO13: 0 | JP13: 9 | JQ13: 497.5 | JR13: 11.14 | JS13: 604 | JT13: 3.38 | JU13: 26.88 | JV13: 10.56 | JW13: 19.76 | JX13: =SUM(B13:JW13) -> 24029.748
A14: 4-5 | B14: 9 | C14: 16.29 | D14: 22.53 | E14: 10.02 | F14: 3.6 | G14: 14.22 | H14: 15.3 | I14: 14.64 | J14: 7.485 | K14: 11.2 | L14: 3.75 | M14: 38.36 | N14: 73.04 | O14: 28.2 | P14: 0 | Q14: 0.3845 | R14: 10.62 | S14: 129.96 | T14: 0 | U14: 18.18 | V14: 13.48 | W14: 2.68 | X14: 0.96 | Y14: 0 | Z14: 10.206 | AA14: 447.84 | AB14: 9.45 | AC14: 5.221 | AD14: 6.6 | AE14: 0 | AF14: 0 | AG14: 34.1 | AH14: 53.16 | AI14: 7.77 | AJ14: 122.46 | AK14: 54.14 | AL14: 14.6 | AM14: 3.824 | AN14: 194.1 | AO14: 0 | AP14: 5.25 | AQ14: 0.774 | AR14: 13.24 | AS14: 0.72 | AT14: 7.376 | AU14: 0 | AV14: 5.5 | AW14: 0.99 | AX14: 0 | AY14: 0 | AZ14: 0 | BA14: 24.96 | BB14: 0.08 | BC14: 0 | BD14: 25.4 | BE14: 40.12 | BF14: 3.15 | BG14: 0 | BH14: 0 | BI14: 3 | BJ14: 24.216 | BK14: 59.784 | BL14: 55.08 | BM14: 54.768 | BN14: 0 | BO14: 0 | BP14: 1.73 | BQ14: 0 | BR14: 5.704 | BS14: 33.2 | BT14: 18.944 | BU14: 46.24 | BV14: 8.184 | BW14: 31.08 | BX14: 21.72 | BY14: 1.56 | BZ14: 200.4 | CA14: 0 | CB14: 105.48 | CC14: 133.296 | CD14: 33.048 | CE14: 55.56 | CF14: 14.592 | CG14: 25.92 | CH14: 12.496 | CI14: 0.816 | CJ14: 54.72 | CK14: 16.608 | CL14: 1.46 | CM14: 33.864 | CN14: 5.46 | CO14: 135.2 | CP14: 27.6 | CQ14: 0.04 | CR14: 0.88 | CS14: 52.72 | CT14: 76.92 | CU14: 0.375 | CV14: 0 | CW14: 0 | CX14: 7.8 | CY14: 14.392 | CZ14: 0.13 | DA14: 0.6 | DB14: 0 | DC14: 113.16 | DD14: 33.33 | DE14: 0 | DF14: 14.46 | DG14: 4.8 | DH14: 51.12 | DI14: 0 | DJ14: 6.09 | DK14: 8.544 | DL14: 8.85 | DM14: 64.56 | DN14: 2.4 | DO14: 6.225 | DP14: 8.4 | DQ14: 21.708 | DR14: 38.28 | DS14: 0.104 | DT14: 0.02 | DU14: 30.3 | DV14: 24.84 | DW14: 22.56 | DX14: 18.82 | DY14: 13.296 | DZ14: 2.6 | EA14: 0 | EB14: 14.46 | EC14: 31.08 | ED14: 0 | EE14: 27.96 | EF14: 0 | EG14: 0 | EH14: 0 | EI14: 2.79 | EJ14: 4.596 | EK14: 211.52 | EL14: 102.08 | EM14: 80 | EN14: 24.39 | EO14: 30.7 | EP14: 5.13 | EQ14: 2.4 | ER14: 3.33 | ES14: 77.2 | ET14: 62.48 | EU14: 3.48 | EV14: 26.76 | EW14: 32.76 | EX14: 111.78 | EY14: 0.03 | EZ14: 33.516 | FA14: 0 | FB14: 0 | FC14: 5.88 | FD14: 3.27 | FE14: 33.7 | FF14: 24.25 | FG14: 1.476 | FH14: 2.55 | FI14: 6.12 | FJ14: 35.04 | FK14: 30 | FL14: 38.08 | FM14: 0 | FN14: 3 | FO14: 1.29 | FP14: 4.704 | FQ14: 5.936 | FR14: 8.36 | FS14: 0.84 | FT14: 4.32 | FU14: 0 | FV14: 3.315 | FW14: 0.026 | FX14: 39.258 | FY14: 23.88 | FZ14: 2.59875 | GA14: 3.69 | GB14: 38.65125 | GC14: 17.025 | GD14: 121.4 | GE14: 64.7 | GF14: 4.14 | GG14: 0 | GH14: 4.5 | GI14: 15.32 | GJ14: 0 | GK14: 0.66 | GL14: 0.375 | GM14: 30.66 | GN14: 14 | GO14: 0.97 | GP14: 66.66 | GQ14: 13.68 | GR14: 0.5 | GS14: 6.96 | GT14: 66.4 | GU14: 16.35 | GV14: 116.88 | GW14: 0.33 | GX14: 2.76 | GY14: 12.91 | GZ14: 24.384 | HA14: 0.043 | HB14: 3.24 | HC14: 76.201799 | HD14: 71.9 | HE14: 27.216 | HF14: 16.254 | HG14: 72.48 | HH14: 0.06 | HL14: 5.84 | HM14: 2.895 | HN14: 0.78 | HO14: 0 | HP14: 251.5 | HQ14: 0 | HR14: 1.02 | HS14: 0.93 | HT14: 0.705 | HU14: 36.176 | HV14: 27.984 | HW14: 0 | HX14: 11.61 | HY14: 0 | HZ14: 0 | IA14: 7.29 | IB14: 0.48 | IC14: 0 | ID14: 4.82 | IE14: 4.26 | IF14: 0 | IG14: 29.78 | IH14: 3.24 | II14: 11.364 | IJ14: 2.72 | IK14: 27.380267 | IL14: 32.959819 | IM14: 42.592 | IN14: 0 | IO14: 4.537 | IP14: 28.2 | IQ14: 10.75 | IR14: 20.4 | IS14: 5.22 | IT14: 64.16 | IU14: 12.4 | IV14: 44.76 | IW14: 10.86 | IX14: 0 | IY14: 59.24 | IZ14: 35.12 | JA14: 16430.968 | JB14: 18 | JC14: 1.064 | JD14: 0 | JE14: 7 | JF14: 71 | JG14: 53 | JH14: 0 | JI14: 214 | JJ14: 44 | JK14: 14 | JL14: 5 | JM14: 6 | JN14: 11 | JO14: 0 | JP14: 9 | JQ14: 492 | JR14: 10.9 | JS14: 608 | JT14: 3.3 | JU14: 27.84 | JV14: 10.12 | JW14: 19.2 | JX14: =SUM(B14:JW14) -> 24309.985
A15: 5-6 | B15: 11.52 | C15: 11.52 | D15: 23.85 | E15: 14.73 | F15: 3.48 | G15: 14.61 | H15: 15.84 | I15: 14.43 | J15: 7.665 | K15: 10.56 | L15: 3.72 | M15: 36.96 | N15: 89.84 | O15: 33.18 | P15: 0 | Q15: 0.607 | R15: 10.56 | S15: 202.68 | T15: 0 | U15: 19.695 | V15: 11.68 | W15: 2.16 | X15: 0.96 | Y15: 0 | Z15: 10.222 | AA15: 445.92 | AB15: 7.44 | AC15: 5.051 | AD15: 8.4 | AE15: 0 | AF15: 0 | AG15: 36.98 | AH15: 48.12 | AI15: 24.33 | AJ15: 126.63 | AK15: 56.12 | AL15: 16.16 | AM15: 3.84 | AN15: 196.9 | AO15: 0 | AP15: 6.9 | AQ15: 1.08 | AR15: 9.6 | AS15: 1.48 | AT15: 9.84 | AU15: 0 | AV15: 5.4 | AW15: 1.14 | AX15: 0 | AY15: 0 | AZ15: 0 | BA15: 24.64 | BB15: 0 | BC15: 0 | BD15: 14.7 | BE15: 40.12 | BF15: 3.12 | BG15: 0 | BH15: 0 | BI15: 3.2 | BJ15: 27.312 | BK15: 64.56 | BL15: 63.744 | BM15: 54.744 | BN15: 0 | BO15: 0 | BP15: 1.7 | BQ15: 0 | BR15: 8.088 | BS15: 32.448 | BT15: 31.472 | BU15: 48.04 | BV15: 8.088 | BW15: 30.6 | BX15: 24.72 | BY15: 1.52 | BZ15: 186.3 | CA15: 0 | CB15: 129.24 | CC15: 131.856 | CD15: 32.16 | CE15: 60.168 | CF15: 16.248 | CG15: 49.56 | CH15: 12.496 | CI15: 1.504 | CJ15: 70.92 | CK15: 16.848 | CL15: 1.24 | CM15: 35.256 | CN15: 3 | CO15: 133.56 | CP15: 25.98 | CQ15: 0.04 | CR15: 0.88 | CS15: 52.72 | CT15: 76.92 | CU15: 0.4 | CV15: 0 | CW15: 0 | CX15: 8.4 | CY15: 15.216 | CZ15: 0.12 | DA15: 0.68 | DB15: 0 | DC15: 118.08 | DD15: 33.3 | DE15: 0 | DF15: 15.12 | DG15: 4.8 | DH15: 46.92 | DI15: 0 | DJ15: 6.06 | DK15: 6.384 | DL15: 8.91 | DM15: 73.56 | DN15: 2.07 | DO15: 6.225 | DP15: 10.26 | DQ15: 30.372 | DR15: 82.44 | DS15: 0.65 | DT15: 0.02 | DU15: 32.46 | DV15: 18.96 | DW15: 24.4 | DX15: 19.32 | DY15: 14.508 | DZ15: 2.62 | EA15: 0 | EB15: 15.42 | EC15: 30.6 | ED15: 0 | EE15: 27.912 | EF15: 0 | EG15: 0 | EH15: 0 | EI15: 2.775 | EJ15: 4.524 | EK15: 208.32 | EL15: 100.92 | EM15: 84.6 | EN15: 23.82 | EO15: 27.94 | EP15: 5.13 | EQ15: 2.525 | ER15: 3.315 | ES15: 104.08 | ET15: 59.44 | EU15: 3.47 | EV15: 26.4 | EW15: 36.96 | EX15: 126.3 | EY15: 0.03 | EZ15: 33.66 | FA15: 0 | FB15: 0 | FC15: 18.68 | FD15: 3.12 | FE15: 35.35 | FF15: 26.85 | FG15: 1.474 | FH15: 2.55 | FI15: 18.72 | FJ15: 37.8 | FK15: 33.28 | FL15: 45.6 | FM15: 0 | FN15: 2.67 | FO15: 1.76 | FP15: 15.536 | FQ15: 6.24 | FR15: 8.44 | FS15: 0.84 | FT15: 4.56 | FU15: 0 | FV15: 3.315 | FW15: 0.026 | FX15: 42.152 | FY15: 22.5 | FZ15: 2.44755 | GA15: 5.93 | GB15: 36.40245 | GC15: 17.055 | GD15: 93.1 | GE15: 64.8 | GF15: 3.375 | GG15: 0 | GH15: 4.3 | GI15: 17.54 | GJ15: 0 | GK15: 0.285 | GL15: 0.405 | GM15: 32.7 | GN15: 14.28 | GO15: 1.01 | GP15: 67.92 | GQ15: 13.93 | GR15: 0.53 | GS15: 9.2 | GT15: 67.6 | GU15: 20.595 | GV15: 119.58 | GW15: 0.27 | GX15: 2.64 | GY15: 12.91 | GZ15: 24.384 | HA15: 0.043 | HB15: 4.04 | HC15: 81.736102 | HD15: 106.5 | HE15: 24.408 | HF15: 16.482 | HG15: 77.744 | HH15: 0.06 | HL15: 6.24 | HM15: 2.73 | HN15: 0.78 | HO15: 0 | HP15: 376.1 | HQ15: 0 | HR15: 1.125 | HS15: 0.86 | HT15: 0.69 | HU15: 31.184 | HV15: 27.984 | HW15: 0 | HX15: 12.45 | HY15: 0 | HZ15: 0 | IA15: 8.91 | IB15: 0.39 | IC15: 0 | ID15: 4.84 | IE15: 4.79 | IF15: 0 | IG15: 34.26 | IH15: 3.264 | II15: 12.156 | IJ15: 2.96 | IK15: 28.44997 | IL15: 34.247506 | IM15: 44.256 | IN15: 0 | IO15: 4.537 | IP15: 33.18 | IQ15: 13.075 | IR15: 16.24 | IS15: 5.4 | IT15: 69.12 | IU15: 12.2 | IV15: 42.88 | IW15: 10.2 | IX15: 0 | IY15: 59.24 | IZ15: 35.76 | JA15: 17450.615 | JB15: 26 | JC15: 1.064 | JD15: 0 | JE15: 8 | JF15: 71 | JG15: 53 | JH15: 0 | JI15: 213 | JJ15: 48 | JK15: 15 | JL15: 5 | JM15: 8 | JN15: 14 | JO15: 0 | JP15: 12.6 | JQ15: 512 | JR15: 10.9 | JS15: 617 | JT15: 3.52 | JU15: 26.88 | JV15: 10.72 | JW15: 19.2 | JX15: =SUM(B15:JW15) -> 25933.571
A16: 6-7 | B16: 10.62 | C16: 0 | D16: 26.34 | E16: 17.625 | F16: 5.4 | G16: 19.2 | H16: 21.435 | I16: 14.85 | J16: 10.005 | K16: 10.8 | L16: 3.78 | M16: 42.04 | N16: 87.24 | O16: 39.69 | P16: 0 | Q16: 0.4835 | R16: 10.5 | S16: 226.26 | T16: 0 | U16: 16.845 | V16: 6.68 | W16: 2.48 | X16: 7.68 | Y16: 0 | Z16: 10.216 | AA16: 447.2 | AB16: 7.59 | AC16: 4.975 | AD16: 14.43 | AE16: 0 | AF16: 0 | AG16: 52.3 | AH16: 73.98 | AI16: 36.33 | AJ16: 134.28 | AK16: 63.9 | AL16: 15.16 | AM16: 2.8 | AN16: 202.1 | AO16: 0 | AP16: 8.1 | AQ16: 0.262 | AR16: 8.24 | AS16: 0 | AT16: 8.896 | AU16: 0 | AV16: 5.5 | AW16: 0.81 | AX16: 0 | AY16: 0 | AZ16: 0 | BA16: 25.16 | BB16: 0 | BC16: 0 | BD16: 14.9 | BE16: 42.96 | BF16: 11.25 | BG16: 0 | BH16: 0 | BI16: 3.12 | BJ16: 29.184 | BK16: 74.424 | BL16: 70.08 | BM16: 55.176 | BN16: 0 | BO16: 0 | BP16: 1.65 | BQ16: 0 | BR16: 6.832 | BS16: 31.616 | BT16: 59.12 | BU16: 50.04 | BV16: 8.688 | BW16: 30.84 | BX16: 24.06 | BY16: 1.52 | BZ16: 202.8 | CA16: 0 | CB16: 143.48 | CC16: 135.648 | CD16: 36.144 | CE16: 68.376 | CF16: 16.296 | CG16: 71.352 | CH16: 12.624 | CI16: 8.384 | CJ16: 79.008 | CK16: 17.328 | CL16: 2.48 | CM16: 42.696 | CN16: 3 | CO16: 140.16 | CP16: 29.1 | CQ16: 0.04 | CR16: 0.88 | CS16: 68.08 | CT16: 112.6 | CU16: 0.365 | CV16: 0 | CW16: 0 | CX16: 12.96 | CY16: 15.264 | CZ16: 0.1 | DA16: 0.8 | DB16: 0 | DC16: 137.4 | DD16: 33.48 | DE16: 0 | DF16: 15 | DG16: 4.8 | DH16: 51.36 | DI16: 0 | DJ16: 6.45 | DK16: 16.08 | DL16: 8.82 | DM16: 59.64 | DN16: 2.43 | DO16: 9.915 | DP16: 12.6 | DQ16: 35.868 | DR16: 84.3 | DS16: 1.07 | DT16: 0.02 | DU16: 29.4 | DV16: 24.024 | DW16: 38.8 | DX16: 25.36 | DY16: 30.96 | DZ16: 2.62 | EA16: 0 | EB16: 18.12 | EC16: 30.84 | ED16: 0 | EE16: 28.944 | EF16: 0 | EG16: 0 | EH16: 0 | EI16: 2.76 | EJ16: 5.844 | EK16: 218.04 | EL16: 105.52 | EM16: 88.36 | EN16: 23.25 | EO16: 28.74 | EP16: 5.85 | EQ16: 2.775 | ER16: 3.24 | ES16: 125 | ET16: 59.12 | EU16: 3.43 | EV16: 28.62 | EW16: 39.92 | EX16: 127.66 | EY16: 0.21 | EZ16: 37.776 | FA16: 0 | FB16: 0 | FC16: 36.12 | FD16: 5.1 | FE16: 37.95 | FF16: 33.7 | FG16: 1.469 | FH16: 2.46 | FI16: 17.64 | FJ16: 40.08 | FK16: 44.56 | FL16: 55.28 | FM16: 0 | FN16: 1.935 | FO16: 1.26 | FP16: 17.216 | FQ16: 6.432 | FR16: 9.24 | FS16: 0.84 | FT16: 4.92 | FU16: 0 | FV16: 3.075 | FW16: 0.028 | FX16: 42.504 | FY16: 25.74 | FZ16: 2.50425 | GA16: 5.61 | GB16: 37.24575 | GC16: 17.019 | GD16: 77.1 | GE16: 72.5 | GF16: 4.545 | GG16: 0 | GH16: 4.3 | GI16: 16.38 | GJ16: 0 | GK16: 0.495 | GL16: 0.51 | GM16: 36.78 | GN16: 14.32 | GO16: 1.36 | GP16: 67.62 | GQ16: 17.38 | GR16: 0.5 | GS16: 8.88 | GT16: 69.392 | GU16: 21.165 | GV16: 122.16 | GW16: 0.28 | GX16: 3.3 | GY16: 12.91 | GZ16: 30.208 | HA16: 0.043 | HB16: 5.95 | HC16: 86.261109 | HD16: 95.8 | HE16: 25.296 | HF16: 16.632 | HG16: 82.048 | HH16: 0 | HL16: 6.24 | HM16: 2.4975 | HN16: 0.81 | HO16: 0 | HP16: 382.8 | HQ16: 0 | HR16: 1.155 | HS16: 0.86 | HT16: 0.71 | HU16: 63.28 | HV16: 27.984 | HW16: 0 | HX16: 14.61 | HY16: 0 | HZ16: 0 | IA16: 9 | IB16: 0.45 | IC16: 0 | ID16: 4.82 | IE16: 6.78 | IF16: 0 | IG16: 24.26 | IH16: 3.024 | II16: 12.132 | IJ16: 3.35 | IK16: 34.724186 | IL16: 41.800282 | IM16: 54.016 | IN16: 0 | IO16: 4.537 | IP16: 39.69 | IQ16: 16.75 | IR16: 14.21 | IS16: 5.61 | IT16: 88.576 | IU16: 12 | IV16: 50.08 | IW16: 16.2 | IX16: 0 | IY16: 61.76 | IZ16: 54 | JA16: 19569.669 | JB16: 48 | JC16: 1.096 | JD16: 0 | JE16: 10 | JF16: 79 | JG16: 59 | JH16: 0 | JI16: 218 | JJ16: 47 | JK16: 15 | JL16: 5 | JM16: 3 | JN16: 14 | JO16: 0 | JP16: 16.2 | JQ16: 582 | JR16: 11.24 | JS16: 724 | JT16: 3.23 | JU16: 30.24 | JV16: 13.36 | JW16: 22.24 | JX16: =SUM(B16:JW16) -> 28860.058
A17: 7-8 | B17: 12.87 | C17: 27.12 | D17: 23.07 | E17: 17.37 | F17: 8.34 | G17: 19.05 | H17: 22.395 | I17: 25.035 | J17: 13.05 | K17: 11.52 | L17: 3.75 | M17: 46 | N17: 84.96 | O17: 39.12 | P17: 0 | Q17: 0.693 | R17: 10.56 | S17: 222.96 | T17: 0 | U17: 15.825 | V17: 8.12 | W17: 2.16 | X17: 12.96 | Y17: 0 | Z17: 10.22 | AA17: 448.64 | AB17: 9.15 | AC17: 5.064 | AD17: 20.58 | AE17: 0 | AF17: 0 | AG17: 52.22 | AH17: 92.34 | AI17: 35.67 | AJ17: 138.42 | AK17: 84.94 | AL17: 14.68 | AM17: 4.88 | AN17: 212.3 | AO17: 0 | AP17: 7.8 | AQ17: 1.041 | AR17: 8.2 | AS17: 0 | AT17: 23.184 | AU17: 0 | AV17: 5.5 | AW17: 5.22 | AX17: 0 | AY17: 0 | AZ17: 0 | BA17: 25.16 | BB17: 0 | BC17: 0 | BD17: 28.6 | BE17: 63.68 | BF17: 27.69 | BG17: 0 | BH17: 0 | BI17: 2.92 | BJ17: 38.472 | BK17: 86.568 | BL17: 71.448 | BM17: 55.512 | BN17: 0 | BO17: 0 | BP17: 1.7 | BQ17: 0 | BR17: 8.128 | BS17: 36.128 | BT17: 43.36 | BU17: 54.16 | BV17: 11.208 | BW17: 31.08 | BX17: 25.86 | BY17: 1.48 | BZ17: 206.4 | CA17: 0 | CB17: 151.4 | CC17: 139.296 | CD17: 38.376 | CE17: 71.448 | CF17: 22.248 | CG17: 78.912 | CH17: 12.496 | CI17: 8.656 | CJ17: 92.568 | CK17: 19.248 | CL17: 1.48 | CM17: 52.2 | CN17: 2.94 | CO17: 144.8 | CP17: 33.18 | CQ17: 0.04 | CR17: 0.88 | CS17: 68.08 | CT17: 112.6 | CU17: 0.38 | CV17: 0 | CW17: 0 | CX17: 15.24 | CY17: 15.904 | CZ17: 0.33 | DA17: 0.88 | DB17: 0 | DC17: 148.44 | DD17: 33.48 | DE17: 0 | DF17: 21.66 | DG17: 4.8 | DH17: 63.96 | DI17: 0 | DJ17: 7.68 | DK17: 23.784 | DL17: 10.5 | DM17: 103.68 | DN17: 3.12 | DO17: 8.325 | DP17: 13.71 | DQ17: 34.26 | DR17: 85.68 | DS17: 0.68 | DT17: 0.02 | DU17: 30.18 | DV17: 32.928 | DW17: 40.16 | DX17: 26.08 | DY17: 28.2 | DZ17: 2.88 | EA17: 0 | EB17: 21.4 | EC17: 31.08 | ED17: 0 | EE17: 29.688 | EF17: 0 | EG17: 0 | EH17: 0 | EI17: 4.005 | EJ17: 4.788 | EK17: 198.28 | EL17: 108.72 | EM17: 87.44 | EN17: 20.19 | EO17: 30.06 | EP17: 6.27 | EQ17: 2.95 | ER17: 3.33 | ES17: 134.16 | ET17: 65.2 | EU17: 5.48 | EV17: 29.1 | EW17: 54.84 | EX17: 116.34 | EY17: 0.3 | EZ17: 35.256 | FA17: 0 | FB17: 0 | FC17: 43.84 | FD17: 5.445 | FE17: 39.15 | FF17: 34.55 | FG17: 1.472 | FH17: 2.685 | FI17: 18.72 | FJ17: 43.32 | FK17: 44.56 | FL17: 58 | FM17: 0 | FN17: 1.665 | FO17: 1.28 | FP17: 17.616 | FQ17: 8.4 | FR17: 14.92 | FS17: 1.74 | FT17: 5.36 | FU17: 0 | FV17: 1.665 | FW17: 0.026 | FX17: 41.9748 | FY17: 23.07 | FZ17: 2.5137 | GA17: 8.7 | GB17: 37.3863 | GC17: 17.028 | GD17: 107.7 | GE17: 47.8 | GF17: 6.33 | GG17: 0 | GH17: 4.6 | GI17: 14.62 | GJ17: 0 | GK17: 0.36 | GL17: 0.48 | GM17: 41.4 | GN17: 16.08 | GO17: 1.82 | GP17: 66.9 | GQ17: 16.28 | GR17: 0.51 | GS17: 8.92 | GT17: 71.2 | GU17: 16.56 | GV17: 106.32 | GW17: 0.33 | GX17: 3.12 | GY17: 12.91 | GZ17: 28.912 | HA17: 0.043 | HB17: 8.3 | HC17: 76.975592 | HD17: 49.8 | HE17: 25.092 | HF17: 16.836 | HG17: 73.216 | HH17: 0.03 | HL17: 11.08 | HM17: 3.0675 | HN17: 0.83 | HO17: 0 | HP17: 402.8 | HQ17: 0 | HR17: 1.065 | HS17: 0.85 | HT17: 0.68 | HU17: 59.328 | HV17: 28.624 | HW17: 0 | HX17: 19.17 | HY17: 0 | HZ17: 0 | IA17: 8.5 | IB17: 1.62 | IC17: 0 | ID17: 4.86 | IE17: 9.55 | IF17: 0 | IG17: 30.58 | IH17: 3.72 | II17: 11.892 | IJ17: 5.01 | IK17: 39.301278 | IL17: 47.310094 | IM17: 61.136 | IN17: 0 | IO17: 4.537 | IP17: 39.12 | IQ17: 21.125 | IR17: 12.42 | IS17: 5.34 | IT17: 101.536 | IU17: 12.8 | IV17: 53.72 | IW17: 32.34 | IX17: 0 | IY17: 61.96 | IZ17: 65.84 | JA17: 21578.092 | JB17: 18 | JC17: 1.1184 | JD17: 0 | JE17: 15 | JF17: 91 | JG17: 69 | JH17: 0 | JI17: 231 | JJ17: 48 | JK17: 15 | JL17: 5 | JM17: 2 | JN17: 18 | JO17: 0 | JP17: 14.4 | JQ17: 659.5 | JR17: 11.4 | JS17: 822 | JT17: 3.52 | JU17: 35.04 | JV17: 15.84 | JW17: 24.16 | JX17: =SUM(B17:JW17) -> 31502.511
