Workbook

Sheet Таблица №1 (прием)
A2: Таблица №1
B3: почасовых записей показаний электрических счетчиков
B4: в режимный день 15 декабря 2021 г.
B5: ЭСУ Шексна | C5: ЭСУ Шексна | D5: ЭСУ Шексна | E5: ЭСУ Шексна | F5: ЭСУ Шексна | G5: ЭСУ Шексна | H5: ЭСУ Шексна | I5: ЭСУ Шексна | J5: ЭСУ Шексна | K5: ЭСУ Шексна | L5: ЭСУ Шексна | M5: ЭСУ Шексна | N5: ЭСУ Шексна | O5: ЭСУ Шексна | P5: ЭСУ Шексна | Q5: ЭСУ Шексна | R5: ЭСУ Шексна | S5: ЭСУ Шексна | T5: ЭСУ Шексна | U5: ЭСУ Шексна | V5: ЭСУ Шексна | W5: ЭСУ Шексна | X5: ЭСУ Шексна | Y5: ЭСУ Шексна | Z5: ЭСУ Шексна | AA5: ЭСУ Шексна | AB5: ЭСУ Шексна | AC5: ЭСУ Шексна | AD5: ЭСУ Шексна | AE5: ЭСУ Шексна | AF5: ЭСУ Шексна | AG5: ЭСУ Шексна | AH5: ЭСУ Шексна | AI5: ЭСУ Шексна | AJ5: ЭСУ Шексна | AK5: ЭСУ Шексна | AL5: ЭСУ Шексна | AM5: ЭСУ Шексна | AN5: ЭСУ Шексна | AO5: ЭСУ Шексна | AP5: ЭСУ Шексна | AQ5: ЭСУ Шексна | AR5: ЭСУ Шексна | AS5: ЭСУ Шексна | AT5: ЭСУ Шексна | AU5: ЭСУ Шексна | AV5: ЭСУ Шексна | AW5: ЭСУ Шексна | AX5: ЭСУ Шексна | AY5: ЭСУ Шексна | AZ5: ЭСУ Шексна | BA5: ЭСУ Шексна | BB5: ЭСУ Шексна | BC5: ЭСУ Шексна | BD5: ЭСУ Шексна | BE5: ЭСУ Череповец | BF5: ЭСУ Череповец | BG5: ЭСУ Череповец | BH5: ЭСУ Череповец | BI5: ЭСУ Череповец | BJ5: ЭСУ Череповец | BK5: ЭСУ Череповец | BL5: ЭСУ Череповец | BM5: ЭСУ Череповец | BN5: ЭСУ Череповец | BO5: ЭСУ Череповец | BP5: ЭСУ Череповец | BQ5: ЭСУ Череповец | BR5: ЭСУ Череповец | BS5: ЭСУ Череповец | BT5: ЭСУ Череповец | BU5: ЭСУ Череповец | BV5: ЭСУ Череповец | BW5: ЭСУ Череповец | BX5: ЭСУ Череповец | BY5: ЭСУ Череповец | BZ5: ЭСУ Череповец | CA5: ЭСУ Череповец | CB5: ЭСУ Череповец | CC5: ЭСУ Череповец | CD5: ЭСУ Череповец | CE5: ЭСУ Череповец | CF5: ЭСУ Череповец | CG5: ЭСУ Череповец | CH5: ЭСУ Череповец | CI5: ЭСУ Череповец | CJ5: ЭСУ Череповец | CK5: ЭСУ Череповец | CL5: ЭСУ Череповец | CM5: ЭСУ Череповец | CN5: ЭСУ Череповец | CO5: ЭСУ Череповец | CP5: ЭСУ Череповец | CQ5: ЭСУ Череповец | CR5: ЭСУ Череповец | CS5: ЭСУ Череповец | CT5: ЭСУ Череповец | CU5: ЭСУ Череповец | CV5: ЭСУ Череповец | CW5: ЭСУ Череповец | CX5: ЭСУ Череповец | CY5: ЭСУ Череповец | CZ5: ЭСУ Череповец | DA5: ЭСУ Череповец | DB5: ЭСУ Череповец | DC5: ЭСУ Череповец | DD5: ЭСУ Череповец | DE5: ЭСУ Череповец | DF5: ЭСУ Череповец | DG5: ЭСУ Череповец | DH5: ЭСУ Череповец | DI5: ЭСУ Череповец | DJ5: ЭСУ Череповец | DK5: ЭСУ Череповец | DL5: ЭСУ Череповец | DM5: ЭСУ Череповец | DN5: ЭСУ Череповец | DO5: ЭСУ Череповец | DP5: ЭСУ Череповец | DQ5: ЭСУ Череповец | DR5: ЭСУ Череповец | DS5: ЭСУ Череповец | DT5: ЭСУ Череповец | DU5: ЭСУ Череповец | DV5: ЭСУ Череповец | DW5: ЭСУ Череповец | DX5: ЭСУ Череповец | DY5: ЭСУ Череповец | DZ5: ЭСУ Череповец | EA5: ЭСУ Череповец | EB5: ЭСУ Череповец | EC5: ЭСУ Череповец | ED5: ЭСУ Череповец | EE5: ЭСУ Череповец | EF5: ЭСУ Череповец | EG5: ЭСУ Череповец | EH5: ЭСУ Череповец | EI5: ЭСУ Череповец | EJ5: ЭСУ Череповец | EK5: ЭСУ Череповец | EL5: ЭСУ Череповец | EM5: ЭСУ Череповец | EN5: ЭСУ Череповец | EO5: ЭСУ Череповец | EP5: ЭСУ Череповец | EQ5: ЭСУ Череповец | ER5: ЭСУ Череповец | ES5: ЭСУ Череповец | ET5: ЭСУ Череповец | EU5: ЭСУ Череповец | EV5: ЭСУ Череповец | EW5: ЭСУ Череповец | EX5: ЭСУ Череповец | EY5: ЭСУ Череповец | EZ5: ЭСУ Череповец | FA5: ЭСУ Череповец | FB5: ЭСУ Череповец | FC5: ЭСУ Череповец | FD5: ЭСУ Череповец | FE5: ЭСУ Череповец | FF5: ЭСУ Череповец | FG5: ЭСУ Череповец | FH5: ЭСУ Череповец | FI5: ЭСУ Череповец | FJ5: ЭСУ Череповец | FK5: ЭСУ Череповец | FL5: ЭСУ Череповец | FM5: ЭСУ Череповец | FN5: ЭСУ Череповец | FO5: ЭСУ Череповец | FP5: ЭСУ Череповец | FQ5: ЭСУ Череповец | FR5: ЭСУ Череповец | FS5: ЭСУ Череповец | FT5: ЭСУ Череповец | FU5: ЭСУ Череповец | FV5: ЭСУ Череповец | FW5: ЭСУ Череповец | FX5: ЭСУ Череповец | FY5: ЭСУ Череповец | FZ5: ЭСУ Череповец | GA5: ЭСУ Череповец | GB5: ЭСУ Череповец | GC5: ЭСУ Череповец | GD5: ЭСУ Череповец | GE5: ЭСУ Череповец | GF5: ЭСУ Череповец | GG5: ЭСУ Череповец | GH5: ЭСУ Череповец | GI5: ЭСУ Череповец | GJ5: ЭСУ Череповец | GK5: ЭСУ Череповец | GL5: ЭСУ Череповец | GM5: ЭСУ Череповец | GN5: ЭСУ Череповец | GO5: ЭСУ Череповец | GP5: ЭСУ Череповец | GQ5: ЭСУ Череповец | GR5: ЭСУ Череповец | GS5: ЭСУ Череповец | GT5: ЭСУ Череповец | GU5: ЭСУ Череповец | GV5: ЭСУ Череповец | GW5: ЭСУ Череповец | GX5: ЭСУ Череповец | GY5: ЭСУ Череповец | GZ5: ЭСУ Череповец | HA5: ЭСУ Череповец | HB5: ЭСУ Череповец | HC5: ЭСУ Череповец | HD5: ЭСУ Череповец | HE5: ЭСУ Череповец | HF5: ЭСУ Череповец | HG5: ЭСУ Череповец | HH5: ЭСУ Череповец | HI5: ЭСУ Череповец | HJ5: ЭСУ Череповец | HK5: ЭСУ Кадуй | HL5: ЭСУ Кадуй | HM5: ЭСУ Кадуй | HN5: ЭСУ Кадуй | HO5: ЭСУ Кадуй | HP5: ЭСУ Кадуй | HQ5: ЭСУ Кадуй | HR5: ЭСУ Кадуй | HS5: ЭСУ Кадуй | HT5: ЭСУ Кадуй | HU5: ЭСУ Кадуй | HV5: ЭСУ Кадуй | HW5: ЭСУ Кадуй | HX5: ЭСУ Кадуй | HY5: ЭСУ Кадуй | HZ5: ЭСУ Кадуй | IA5: ЭСУ Кадуй | IB5: ЭСУ Кадуй | IC5: ЭСУ Кадуй | ID5: ЭСУ Кадуй | IE5: ЭСУ Кадуй | IF5: ЭСУ Кадуй | IG5: ЭСУ Кадуй | IH5: ЭСУ Кадуй | II5: ЭСУ Кадуй | IJ5: ЭСУ Кадуй | IK5: ЭСУ Кадуй | IL5: ЭСУ Кадуй | IM5: ЭСУ Кадуй | IN5: ЭСУ Кадуй | IO5: ЭСУ Чагода | IP5: ЭСУ Чагода | IQ5: ЭСУ Чагода | IR5: ЭСУ Чагода | IS5: ЭСУ Чагода | IT5: ЭСУ Чагода | IU5: ЭСУ Бабаево | IV5: ЭСУ Бабаево | IW5: ЭСУ Бабаево | IX5: ЭСУ Бабаево | IY5: ЭСУ Бабаево | IZ5: ЭСУ Бабаево | JA5: ПАО Россети | JB5: Оборон Энерго | JD5: Электросеть | JO5: ФосАгро ГПП-5 | JQ5: ШРГСиС | JT5: СЖД | JV5: РЖД | JX5: Сумма
A6: Интервал суток [ч-ч] за 15.12.2021г. | B6: ЧЕБСАРА ТП-65 "Школа" (А) | C6: ЧЕБСАРА ТП-68 "Торговый центр" (А) замена | D6: ЧЕБСАРА ТП-64 "Дом культуры" | E6: ЧЕБСАРА ТП-69 "Ул.Комсомольская" | F6: ЧЕБСАРА ТП-70 "Леспромхоз" (А) | G6: ЧЕБСАРА ТП-74 "Зеркальный цех" | H6: ЧЕБСАРА ТП-75 "Ул.Батулиных" | I6: ЧЕБСАРА ТП-67 "Баня" | J6: ЧЕБСАРА ТП-76 "Жил.фонд" | K6: ЧЕБСАРА ТП-63 "Первомайская" | L6: ТП-102 "Котельная ввод 1" | M6: ЧЕБСАРА ТП-61 "Больница". | N6: ЧЕБСАРА ТП-62 "Школа на ул.Мира". | O6: ЧЕБСАРА ТП-66 "Ретранслятор. Телевышка" | P6: ТП-103 "Котельная ввод 2" | Q6: КТП-133 "Полянка" | R6: КТП-123 "Водозабор" д.Дурасово (А) | S6: КТП-107-ввод1 "Комплекс "Пача" (А) | T6: КТП-107-ввод2 "Комплекс "Пача" (А) | U6: КТП-124 "д.Дурасово" (А) | V6: КТП-117 ПСК"Пилорама ПСК"Демидово" (А) | W6: КТП-118 "КЗС "Демидово" (А) | X6: КТП-119 "СТ"Веснянка" (А) | Y6: КТП-106 "Летний лагерь" | Z6: КТП-129 ввод1, "Котельная д."Прогресс"(А) | AA6: КТП-129 ввод2, "Котельная д."Прогресс"(А) | AB6: КТП-101 "Льносемстанция (ДРСУ)" (А) нов | AC6: ТП-120 "АЗС ЧП Шерстакова" (А) | AD6: ТП-95 "Шекснинское АТП" (А) | AE6: КТП-113 "Бекон" с.Чаромское | AF6: ТП-112 ввод2 "Комплекс"Чаромское"(А) | AG6: КТП-125 "Дом престарелых д.Княже" новый | AH6: ТП-112 ввод1 "Комплекс"Чаромское"(А) | AI6: КТП-126 "Котельная д.Чернеево" (А) | AJ6: КТП-54 | AK6: КТП-53 (Центральная) | AL6: КТП-111 "ДОЦ"Кедр" (А) | AM6: КТП-131 "Природа" | AN6: ТП-108 ввод1 | AO6: ТП-108 ввод2 | AP6: КТП-122 "Покровское-Низы" (А) замена | AQ6: КТП-130 "СТ-Легенда | AR6: КТП-105 "Сельхозхимия" (А) с 26.08.08 | AS6: ТП-115 "Склад сена" с.Чуровское (А) | AT6: КТП-132 Дробилка | AU6: КТП-136 "Карьер-4" | AV6: ТП-116 "Зернокомплекс" с.Чуровское (А) | AW6: КТП-128 ввод 1"Котельная Чуровское"(А) | AX6: КТП-128 ввод2"Котельная Чуровское" | AY6: КТП-127 "Котельная п.Подгорный" замена | AZ6: КТП-134 "Карьер-2" | BA6: КТП-135 "Карьер-1" | BB6: КТП-137 "Экскаватор" | BC6: ТП-110 СПК"Любомирово"-зерносуш.(А) | BD6: ТП-109 "Ферма"Лёво" (А) | BE6: ТП-1 250кВА Автопарк | BF6: ТП-15 Кормоцех В-1 Малечкино | BG6: ТП-15 Кормоцех В-2 Малечкино | BH6: ЦРП Парфеново 1 | BI6: КТП 250кВА Ферма Курилово | BJ6: ТП-7 160 кВА Малечкино | BK6: ТП-12 400 кВА Малечкино | BL6: ТП-3 400 кВА Малечкино | BM6: ТП-10 400 кВА Котельная В-1 Малечкино | BN6: ТП-10 400 кВА Котельная В-2 Малечкино | BO6: ТП-9 400 кВА В-1 Малечкино | BP6: КТП-63 кВА д.Афонино | BQ6: ТП-23 Площадка компостирования В-1 | BR6: ТП-9 400 кВА В-2 Малечкино | BS6: ТП-8 250 кВА В-1 Малечкино | BT6: ТП-8 250 кВА В-2 Малечкино | BU6: ТП-14 250 кВА Малечкино | BV6: ТП-5 АВМ 2*400кВА В-1 | BW6: ТП-5 АВМ 2*400кВА В-2 | BX6: КТП-4 КЗС 320кВА | BY6: КТП-100кВА Дачи | BZ6: ЦРП Парфеново В-2 | CA6: ЦРП Прафеново ф. Киселево | CB6: ТП-2 Поселок 630кВА | CC6: ТП-4 Очистные 2*400кВА В-1 | CD6: ТП-4 Очистные 2*400кВА В-2 | CE6: ТП-250 кВА пилорама "Карат-плюс" | CF6: ТП-3 Школа 2*400кВА В-1 | CG6: ТП-3 Школа 2*400кВА В-2 | CH6: ТП 250 кВА Аникор+ В-1 | CI6: ТП 250 кВА Аникор+ В-2 | CJ6: ТП-5 ПМК 1 В-2 | CK6: ТП-5 ПМК 1 В-1 | CL6: КТП 100 кВА Сад "Кальнинское" | CM6: ТП-6 Детский сад 2*400кВА В-2 | CN6: ТП 400 кВА Северо-Западный ТД | CO6: ТП Мелиоводстрой 630кВА | CP6: ТП-6 Детский сад 2*400кВА В-1 | CQ6: КТНП 250 кВА Свиноферма Сосновка | CR6: КТП 250 кВА "Лесничество-1" | CS6: РП 2*630кВА Жилая зона В-1 | CT6: РП 2*630кВА Жилая зона В-2 | CU6: КТНП 630 кВА № 2 "Свинокомплекс" | CV6: ТП-2*400 кВА ЦРП "Сосновка" В-1 | CW6: КТП 250 кВА Котельная Коротово | CX6: КТП Сушильный завод | CY6: КТП Молкомбинат | CZ6: КТП Ферма Соловьева | DA6: КТП-160кВА "Лесничество 2" | DB6: ТП-2*400кВА ЦРП Сосновка В-2 | DC6: ТП Поселок Шулма | DD6: КТП-Модуль 2 Шулма | DE6: КТП-Модуль 1 Шулма | DF6: КТП-1 160 кВА Сад ЧМК-3 | DG6: ТП-15 400 кВА В-1 Шулма | DH6: ТП-15 400 кВА В-2 Шулма | DI6: ТП-14 400 кВА В-1 Шулма | DJ6: КТП-160 "Сад Черкесиха" | DK6: ТП Школа Шулма | DL6: ТП 400 кВА РММ "Нелазское" | DM6: ТП-14 400 кВА В-2 Шулма | DN6: КТП-2 160 кВА Сад ЧМК-3 | DO6: КТП-63кВА "Ива" | DP6: КТП-160кВА "Сад Заря" | DQ6: КТП-160кВА "Сад Заря-2" | DR6: Шулма ул. Олимпийская | DS6: ТП 100 Детский дом п.Кривец | DT6: КТП-63кВА Дачи Аммофос | DU6: КТП 400кВА Н-Васильевское | DV6: ТП 2*400кВА Школа Домозерово В-2 | DW6: КТП 250 кВА Детский сад д.Домозерово | DX6: ТП 100 Детский сад п.Батран | DY6: ТП 2*400кВА Школа Домозерово В-1 | DZ6: Водозабор д.Шалимово | EA6: ТП-63 Очистные п.Шалимово | EB6: КТП 250 кВА "Зашекснинское" | EC6: ТП 400 Котельная В-1 Шалимово | ED6: ТП 400 Котельная В-2 Шалимово | EE6: ТП 400 "РММ" Домозерово | EF6: ТП 400 Льнозавод п.Батран | EG6: КТПН 10/0,4 кВ "СЗМК" Н-Домозерово | EH6: КТП 100 кВА Водозабор В-1 Домозерово | EI6: КТП 100 кВА Водозабор В-2 Домозерово | EJ6: КТП 160 кВА Очистные Домозерово | EK6: КТП-160 "Сад Пенек" | EL6: КТП-250 кВА "Ивушка" | EM6: ТП 250 кВА "Березка" | EN6: КТП-63кВА Кацитадзе | EO6: КТП-250кВА СЗСК | EP6: МТП-40кВА Сады Гоша-2 | EQ6: КТП-63кВА Сад Гоша | ER6: КТП-100кВА Сады Петраково | ES6: КТПН-210 160 кВА Ирдоматка | ET6: ТП-209 250 кВА Тепловая Ирдоматка | EU6: КТП-63 кВА КНС п.Ирдоматка | EV6: КТП 400 кВА "Дачи" д.Пулово-Борисово | EW6: КТП 250кВА Сад №4 д.Нова | EX6: КТП-160кВА Шексна | EY6: ТП-63 кВА "Лесопильный цех" д.Заручевье | EZ6: ТП-3 Общежитие В-2 Шухободь | FA6: ТП-3 Общежитие В-1 Шухободь | FB6: КТП 160 кВА "Мастерские" Абаканово | FC6: ТП 250 кВА Детский сад п.Абаканово | FD6: ТП-63кВА Хлебаево | FE6: Абаканово 4-этажные дома | FF6: Абаканово 3-этажные дома | FG6: КТП 160 кВА Шухободский водовод-2 | FH6: КТП 100 кВА АВМ "Алексино" | FI6: ТП-1 Котельная Шухободь 400 кВА В-1 | FJ6: ТП-1 Котельная Шухободь 400 кВА В-2 | FK6: ТП-4 Жилая зона Шухободь 2*250кВА В-1 | FL6: ТП-4 Жилая зона Шухободь 2*250кВА В-2 | FM6: ТП ЗАО "Шухободское" комплекс В-1 | FN6: КТП 250 кВА ДОРА | FO6: КТП-63 кВА Сад №6 "Северсталь" | FP6: ТП-2х250 кВА Училище ПУ-41 В-1 | FQ6: ТП-2х250 кВА Училище ПУ-41 В-2 | FR6: ТП 63 кВА Шухтовское лесничество | FS6: ТП 63 кВА Погорелка | FT6: ТП ЦРП"Маслово-2" 2*250 кВА | FU6: ТП ЗАО "Шухободское" Комплекс В-2 | FV6: ТП 160 кВА Очистные Шухободь | FW6: КТП-25кВА Паршин | FX6: КТП-250кВА РСП Дачник | FY6: КТП 160кВА Сад №9"Череповецагрострой" | FZ6: КТП 400 кВА Сад №1 "Аммофос" | GA6: КТП-63 кВА ГП ВО "Череповецкая ЭТС" | GB6: КТП-160кВА "Сад №2 ЧСПЗ" | GC6: КТП-25 кВА "Освещение дороги" | GD6: ООО "Ботово" КТПБ-Фенево Ввод-2 | GE6: ООО "Ботово" КТПБ-Фенево Ввод-1 | GF6: ТП-63 Население д.Ботово | GG6: ЗАО "Ботово" КТП-Котельная Ввод-1 | GH6: ЗАО "Ботово" КТП-Котельная Ввод-2 | GI6: КТП-100кВА Новое Ботово | GJ6: КТП 160 кВА Сад"Синтез" | GK6: КТП 100 кВА Сад "Водник" | GL6: Сад. тов. "Броды" | GM6: КТП 400 Поселок Поповка | GN6: ТП 250 кВА Козлово | GO6: КТП 100 "ЭСПА" | GP6: КТП д. Курьяково | GQ6: КТП-63кВА Сад №13 ЧМХС | GR6: КТП-63кВА Ново-Дубровка | GS6: КТП 250 кВА КЗС-2 п.Яганово | GT6: КТП 250кВА Деревня Яганово | GU6: КТП 100кВА Очистные Яганово | GV6: КТП 400 кВА Комплекс д.Яганово ООО Ботово | GW6: КТП 63 кВА Арт.скважина | GX6: ТП 400 кВА Машинный двор п.Яганово (Русаков) | GY6: КТП 100 кВА Борок-2 | GZ6: КТП 160 кВА Дарвинский заповедник | HA6: КТП 20 кВА Вауч (общий) | HB6: КТП-63кВА д. Новая Ягница | HC6: КТП-160кВА "Сад "Вера" | HD6: КТП-630кВА СЗМК 2 | HE6: КТП-160кВА Коттеджи | HF6: КТП-63 кВА АЗС №43 | HG6: КТП-250кВА "БОМК" | HH6: КТП-160кВА ДНТ "Ульяновский" | HI6: ТП 250кВА Горизонт | HJ6: ТП 250кВА Горизонт | HK6: КТП 250кВА "Хуторок" | HL6: КТП 250кВА "Хуторок" | HM6: КТП-63 кВА д.Красное Плоское | HN6: КТП 63 кВА Столовая с.Никольское | HO6: КТП 63 кВА Столовая с.Никольское | HP6: ТП 400 кВА Комплекс"Андога" В-1 | HQ6: ТП 400 кВА К-с "Андога" В-2 | HR6: КТП-60кВА д. Марыгино | HS6: Красная Заря | HT6: КТП 160 кВА Сад "Кит-1" | HU6: ТП 400 кВА п.Нижние В-2 | HV6: ТП 400 кВА п.Нижние В-1 | HW6: КТП 250кВА Малая Рукавицкая | HX6: КТП-400кВА "Строитель" | HY6: КТП-400кВА "Строитель" | HZ6: КТП 160 кВА "Кадуйремдорстрой" | IA6: КТП-100 кВА "Грищи" | IB6: КТП-250 Агрофирма "Северагрогаз" В-1 | IC6: КТП-250 Агрофирма "Северагрогаз" В-2 | ID6: ТП 250 кВА ООО"Курс-лес" | IE6: КТП-100 кВА Сад "Диана" | IF6: ТП 400 кВА Комплекс"Чуприно" В-1 | IG6: К-с Чуприно В-2 п. Кадуй | IH6: КТП-250кВА "Сад Энергетик 3" | II6: КТП-160кВА "Сад Энергетик 3" №2 | IJ6: КТП-63кВА д. Якимово | IK6: КТП-250кВА БО "Заозерье" Т1 | IL6: КТП-250кВА БО "Заозерье" Т2 | IM6: ТП-400кВА "Мечта" | IN6: ТП-400кВА "Мечта" | IO6: ТП-43, Станция Огарево | IP6: ТП-66,ул.Зеленая | IQ6: ТП-62, ул.Октября | IR6: КТП-63 кВА "Водозабор" (Мегрино) | IS6: ТП-23, д.Бараново | IT6: КТП-57 "Смердомский" | IU6: КТП-63 кВА Скважина №62 (ф. Володино) | IV6: КТП-250 кВА Боровая №49 (ф. Тимошкино) | IW6: КТП-250 кВА КНС №56 (ф. Тимошкино) | IX6: ПКУ "Володино оп. №82 (ф. Володино) | IY6: КТП-160 кВА Поселок №18 (ф. Порошино) | IZ6: КТП-250 кВА Школа №17 (ф. Порошино) | JA6: Головной учет | JB6: КТП Шайма ВВ | JC6: КТП Оношево ВВ | JD6: Офис | JE6: ТП-107 > Пр. база (ул. Механизаторов, 3а) | JF6: ТП-1081 | JG6: ТП-17 п. Кадуй > яч. 2 отдача (ф. ТП-18 яч.1) | JH6: ТП-19 п. Кадуй > яч. 6 отдача (ф. ТП-18 яч.1) | JI6: ТП-451 | JJ6: ТП-59 | JK6: ТП Жилзона (ПЛ Жемчужина Мологи) | JL6: ТП-Кадуйагропромэнерго | JM6: ТП-Кадуймежхозлес | JN6: ТП-Кадуйское ДЭУ | JO6: Я Ч.31.1 | JP6: Я Ч.24.3 | JQ6: Яч.12-Водозабор-1 | JR6: Яч.19-Водозабор-2 | JS6: Яч.23-Производственный | JT6: КНС | JU6: Пищекомбинат | JV6: ТП-66 "Устюженский тракт" | JW6: ТП-31 "Устюженский тракт
B7: 19470552 | C7: 26049121 | D7: 19470545 | E7: 11113885 | F7: 11086238 | G7: 16949905 | H7: 19481600 | I7: 19488470 | J7: 19488462 | K7: 19470559 | L7: 19103596 | M7: 16949968 | N7: 16949803 | O7: 17661498 | P7: 11086265 | Q7: 07999681 | R7: 13098213 | S7: 11086392 | T7: 11086444 | U7: 13097949 | V7: 11086358 | W7: 11086361 | X7: 26049097 | Y7: 11086482 | Z7: 05837572 | AA7: 06660973 | AB7: 13098097 | AC7: 15662727 | AD7: 11086266 | AE7: 13126280 | AF7: 11086254 | AG7: 19103608 | AH7: 11086264 | AI7: 13097956 | AJ7: 21147742 | AK7: 11143107 | AL7: 11086390 | AM7: 06044944 | AN7: 11086452 | AO7: 11086106 | AP7: 15619222 | AQ7: 15666442 | AR7: 11086432 | AS7: 11086263 | AT7: 06045257 | AU7: 15650415 | AV7: 11086448 | AW7: 11086414 | AX7: 11086239 | AY7: 11086442 | AZ7: 11086314 | BA7: 13125994 | BB7: 13098217 | BC7: 11086320 | BD7: 11086326 | BE7: 13139243 | BF7: 13097932 | BG7: 13125890 | BH7: 20143734 | BI7: 17493808 | BJ7: 06539417 | BK7: 06539416 | BL7: 06539590 | BM7: 06045897 | BN7: 06045896 | BO7: 06539435 | BP7: 15749411 | BQ7: 19099845 | BR7: 06539593 | BS7: 06539533 | BT7: 06539584 | BU7: 19470606 | BV7: 06539591 | BW7: 210550 | BX7: 19103962 | BY7: 13153670 | BZ7: 18427883 | CA7: 15620552 | CB7: 06539428 | CC7: 06045021 | CD7: 06045015 | CE7: 06539592 | CF7: 06539570 | CG7: 06539426 | CH7: 06539600 | CI7: 06539579 | CJ7: 06045043 | CK7: 06045033 | CL7: 13098182 | CM7: 06045010 | CN7: 18430665 | CO7: 06045012 | CP7: 6539581 | CQ7: 19103638 | CR7: 15745835 | CS7: 06044957 | CT7: 06045037 | CU7: 27375913 | CV7: 10176388 | CW7: 19103702 | CX7: 15744386 | CY7: 06539422 | CZ7: 19103631 | DA7: 16949987 | DB7: 11086240 | DC7: 06742125 | DD7: 15650755 | DE7: 33721806 | DF7: 18430343 | DG7: 06742123 | DH7: 06742116 | DI7: 06742093 | DJ7: 15744339 | DK7: 06742098 | DL7: 19465107 | DM7: 06742129 | DN7: 15650825 | DO7: 16949003 | DP7: 06046731 | DQ7: 05849317 | DR7: 16927658 | DS7: 06045018 | DT7: 19093106 | DU7: 13155095 | DV7: 06045573 | DW7: 06742101 | DX7: 15741191 | DY7: 06046734 | DZ7: 15650829 | EA7: 15650745 | EB7: 11143150 | EC7: 06742105 | ED7: 06742106 | EE7: 06045034 | EF7: 11086311 | EG7: 13093574 | EH7: 11086242 | EI7: 11086103 | EJ7: 06539554 | EK7: 15745844 | EL7: 16944596 | EM7: 19470560 | EN7: 19099768 | EO7: 26039780 | EP7: 21748971 | EQ7: 28773147 | ER7: 11131131 | ES7: 25418334 | ET7: 06742086 | EU7: 15628405 | EV7: 11131007 | EW7: 16927688 | EX7: 21733685 | EY7: 19103454 | EZ7: 06742128 | FA7: 06742108 | FB7: 15650528 | FC7: 15741183 | FD7: 26614137 | FE7: 06742118 | FF7: 06742100 | FG7: 19094522 | FH7: 19103428 | FI7: 06742095 | FJ7: 06742096 | FK7: 06742099 | FL7: 06742104 | FM7: 05849354 | FN7: 16944944 | FO7: 18430372 | FP7: 06044973 | FQ7: 06044898 | FR7: 06045538 | FS7: 15744283 | FT7: 19103991 | FU7: 05849326 | FV7: 9254347 | FW7: 06033439 | FX7: 05849813 | FY7: 11086402 | FZ7: 11086376 | GA7: 10176561 | GB7: 26049122 | GC7: 15659478 | GD7: 21733293 | GE7: 15628224 | GF7: 06045523 | GG7: 13534023 | GH7: 13522131 | GI7: 16937093 | GJ7: 13097903 | GK7: 07942401 | GL7: 13125918 | GM7: 15650744 | GN7: 16944802 | GO7: 13098209 | GP7: 10176352 | GQ7: 07937270 | GR7: 18430596 | GS7: 15741185 | GT7: 06045030 | GU7: 15745902 | GV7: 15628210 | GW7: 19465112 | GX7: 15650590 | GY7: 06044971 | GZ7: 06045024 | HA7: 19103443 | HB7: 19103690 | HC7: 2626942 | HD7: 35307398 | HE7: 06044983 | HF7: 06786152 | HG7: 06045016 | HH7: 39073299 | HI7: 06863216 | HJ7: 40419089 | HK7: 11139032 | HL7: 06786161 | HM7: 06786090 | HN7: 11130958 | HO7: 06786376 | HP7: 19090796 | HQ7: 19090578 | HR7: 19093082 | HS7: 06786109 | HT7: 06786145 | HU7: 06044910 | HV7: 06044909 | HW7: 06786153 | HX7: 11131001 | HY7: 06786141 | HZ7: 06786111 | IA7: 11130994 | IB7: 06786448 | IC7: 06786077 | ID7: 06786381 | IE7: 06786108 | IF7: 06786087 | IG7: 06786154 | IH7: 06786079 | II7: 06786147 | IJ7: 06786088 | IK7: 06046532 | IL7: 06046535 | IM7: 06786146 | IN7: 40313303 | IO7: 19094520 | IP7: 16944667 | IQ7: 16944811 | IR7: 10176353 | IS7: 15650771 | IT7: 06045637 | IU7: 05786024 | IV7: 05787642 | IW7: 05786058 | IX7: 0807125628 | IY7: 05785792 | IZ7: 05786070
B8: Меркурий 230 ART-03 PQCSIDN | C8: Меркурий 234 ART-03 P | D8: Меркурий 230 ART-03 PQCSIDN | E8: Меркурий 230 ART-03 PQCSIDN | F8: Меркурий 230 ART-03 PQCSIGDN | G8: Меркурий 230 ART-03 PQCSIDN | H8: Меркурий 230 ART-03 PQCSIDN | I8: Меркурий 230 ART-03 PQCSIDN | J8: Меркурий 230 ART-03 PQCSIDN | K8: Меркурий 230 ART-03 PQCSIDN | L8: Меркурий 230 ART-03 PQRSIGDN | M8: Меркурий 230 ART-03 PQCSIDN | N8: Меркурий 230 ART-03 PQCSIDN | O8: Меркурий 230 ART-02 PQCSIN | P8: Меркурий 230 ART-03 PQRSIGDN | Q8: Меркурий 230 ART-01 PQCSIDN | R8: Меркурий 230 ART-03 PQCSIDN | S8: Меркурий 230 ART-03 PQCSIGDN | T8: Меркурий 230 ART-03 PQCSIGDN | U8: Меркурий 230 ART-03 PQCSIGDN | V8: Меркурий 230 ART-03 PQRSIDN | W8: Меркурий 230 ART-03 PQRSIGDN | X8: Меркурий 234 ART-03 P | Y8: Меркурий 230 ART-03 PQCSIGDN | Z8: AS3500-134-RLM-PB2K-B-PL | AA8: AS3500-134-RLM-PB2K-B-PL | AB8: Меркурий 230 ART-03 PQCSIGDN | AC8: Меркурий 230 ART-02 PQCSIGDN | AD8: Меркурий 230 ART-03 PQRSIDN | AE8: Меркурий 230 ART-02 PQRSIGDN | AF8: Меркурий 230 ART-03 PQRSIDN | AG8: Меркурий 230 ART-03 PQRSIGDN | AH8: Меркурий 230 ART-03 PQRSIGDN | AI8: Меркурий 230 ART-03 PQCSIGDN | AJ8: Меркурий 230 ART-03 PQCSIDN | AK8: Меркурий 230 ART-03 PQCSIDN | AL8: Меркурий 230 ART-03 PQRSIGDN | AM8: AS3500-533-RLM-PB2-B-PL | AN8: Меркурий 230 ART-03 PQRSIDN | AO8: Меркурий 230 ART-03 PQRSIDN | AP8: Меркурий 230 ART-03 PQRSIGDN | AQ8: Меркурий 230 ART-02 PQCSIGDN | AR8: Меркурий 230 ART-03 PQCSIGDN | AS8: Меркурий 230 ART-03 PQCSIGDN | AT8: AS3500-533-RLM-PB2-B-GS | AU8: Меркурий 230 ART-03 PQCSIGDN | AV8: Меркурий 230 ART-03 PQRSIDN | AW8: Меркурий 230 ART-03 PQRSIDN | AX8: Меркурий 230 ART-03 PQRSIDN | AY8: Меркурий 230 ART-03 PQCSIGDN | AZ8: Меркурий 230 ART-03 PQCSIDN | BA8: Меркурий 230 ART-03 PQCSIGDN | BB8: Меркурий 230 ART-03 PQCSIGDN | BC8: Меркурий 230 ART-03 PQCSIGDN | BD8: Меркурий 230 ART-03 PQRSIDN | BE8: Меркурий 230 ART-03 PQCSIGDN | BF8: Меркурий 230 ART-03 PQCSIGDN | BG8: Меркурий 230 ART-03 PQCSIGDN | BH8: Меркурий 230 ART-00 PQRSIGDN | BI8: Меркурий 230 ART-03 PQCSIDN | BJ8: AS3500-533-RLM-PB2-B-PL | BK8: AS3500-533-RLM-PB2-B-PL | BL8: AS3500-533-RLM-PB2-B-PL | BM8: AS3500-533-RLM-PB2-B-PL | BN8: AS3500-533-RLM-PB2-B-PL | BO8: AS3500-533-RLM-PB2-B-PL | BP8: Меркурий 230 ART-03 PQCSIDN | BQ8: Меркурий 230 ART-03 PQCSIGDN | BR8: AS3500-533-RLM-PB2-B-PL | BS8: AS3500-533-RLM-PB2-B-PL | BT8: AS3500-533-RLM-PB2-B-PL | BU8: Меркурий 230 ART-03 PQCSIDN | BV8: AS3500-533-RLM-PB2-B-PL | BW8: ЦЭ6803В | BX8: Меркурий 230 ART-03 PQCSIGDN | BY8: Меркурий 230 AR-03 MCL | BZ8: Меркурий 230 ART-00 PQRSIGDN | CA8: Меркурий 230 ART-00 PQRSIGDN | CB8: AS3500-533-RLM-PB2-B-PL | CC8: AS3500-533-RLM-PB2-B-PL | CD8: AS3500-533-RLM-PB2-B-PL | CE8: AS3500-533-RLM-PB2-B-PL | CF8: AS3500-533-RLM-PB2-B-PL | CG8: AS3500-533-RLM-PB2-B-PL | CH8: AS3500-533-RLM-PB2-B-PL | CI8: AS3500-533-RLM-PB2-B-PL | CJ8: AS3500-533-RLM-PB2-B-PL | CK8: AS3500-533-RLM-PB2-B-PL | CL8: Меркурий 230 ART-03 PQCSIGDN | CM8: AS3500-533-RLM-PB2-B-PL | CN8: Меркурий 230 ART-03 PQCSIGDN | CO8: AS3500-533-RLM-PB2-B-PL | CP8: AS3500-533-RLM-PB2-B-PL | CQ8: Меркурий 230 ART-03 PQRSIGDN | CR8: Меркурий 230 ART-03 PQCSIDN | CS8: AS3500-533-RLM-PB2-B-PL | CT8: AS3500-533-RLM-PB2-B-PL | CU8: Меркурий 234 ART-02 P | CV8: Меркурий 230 ART-03 PQCSIGDN | CW8: Меркурий 230 ART-03 PQRSIGDN | CX8: Меркурий 230 ART-03 PQCSIDN | CY8: AS3500-533-RLM-PB2-B-PL | CZ8: Меркурий 230 ART-03 PQRSIGDN | DA8: Меркурий 230 ART-03 PQCSIDN | DB8: Меркурий 230 ART-03 PQCSIGDN | DC8: AS3500-533-RLM-PB2-B-PL | DD8: Меркурий 230 ART-03 PQCSIGDN | DE8: Меркурий 234 ARTМ-03 PB.G | DF8: Меркурий 230 ART-03 PQCSIGDN | DG8: AS3500-533-RLM-PB2-B-PL | DH8: AS3500-533-RLM-PB2-B-PL | DI8: AS3500-533-RLM-PB2-B-PL | DJ8: Меркурий 230 ART-03 PQCSIDN | DK8: AS3500-533-RLM-PB2-B-PL | DL8: Меркурий 230 ART-03 PQCSIDN | DM8: AS3500-533-RLM-PB2-B-PL | DN8: Меркурий 230 ART-03 PQCSIGDN | DO8: Меркурий 230 ART-03 PQCSIDN | DP8: AS3500-533-RLM-PB2-B-PL | DQ8: AS3500-533-RLM-PB2-B-PL | DR8: Меркурий 230 ART-03 PQCSIDN | DS8: AS3500-533-RLM-PB2-B-PL | DT8: Меркурий 230 ART-03 PQCSIGDN | DU8: Меркурий 230 ART-03 PQCSIGDN | DV8: AS3500-533-RLM-PB2-B-PL | DW8: AS3500-533-RLM-PB2-B-PL | DX8: Меркурий 230 ART-03 PQRSIDN | DY8: AS3500-533-RLM-PB3-B-PL | DZ8: Меркурий 230 ART-03 PQCSIGDN | EA8: Меркурий 230 ART-03 PQCSIGDN | EB8: Меркурий 230 ART-03 PQCSIDN | EC8: AS3500-533-RLM-PB2-B | ED8: AS3500-533-RLM-PB2-B | EE8: AS3500-533-RLM-PB2-B-PL | EF8: Меркурий 230 ART-03 PQCSIGDN | EG8: Меркурий 230 ART-03 PQRSIDN | EH8: Меркурий 230 ART-03 PQCSIGDN | EI8: Меркурий 230 ART-03 PQCSIGDN | EJ8: AS3500-533-RLM-PB2-B-PL | EK8: Меркурий 230 ART-03 PQCSIDN | EL8: Меркурий 230 ART-03 PQCSIDN | EM8: Меркурий 230 ART-03 PQCSIGDN | EN8: Меркурий 230 ART-03 PQCSIGDN | EO8: Меркурий 234 ART-03 P | EP8: Меркурий 230 ART-03 PQRSIDN | EQ8: Меркурий 230 ART-03 PQRSIGDN | ER8: Меркурий 230 ART-03 PQRSIDN | ES8: Меркурий 234 ART-03 P | ET8: AS3500-533-RLM-PB2-B-PL | EU8: Меркурий 230 ART-03 PQCSIGDN | EV8: Меркурий 230 ART-03 PQCSIDN | EW8: Меркурий 230 ART-03 PQCSIDN | EX8: Меркурий 234 ART-03 P | EY8: Меркурий 230 ART-03 PQRSIGDN | EZ8: AS3500-533-RLM-PB2-B-PL | FA8: AS3500-533-RLM-PB2-B-PL | FB8: Меркурий 230 ART-03 PQCSIGDN | FC8: Меркурий 230 ART-03 PQCSIDN | FD8: Меркурий 234 ARTМ-03 PB.G | FE8: AS3500-533-RLM-PB2-B-PL | FF8: AS3500-533-RLM-PB2-B-PL | FG8: Меркурий 230 ART-02 PQCSIGDN | FH8: Меркурий 230 ART-03 PQRSIGDN | FI8: AS3500-533-RLM-PB2-B-PL | FJ8: AS3500-533-RLM-PB2-B-PL | FK8: AS3500-533-RLM-PB2-B-PL | FL8: AS3500-533-RLM-PB2-B-PL | FM8: AS3500-533-RLM-PB2-B-PL | FN8: Меркурий 230 ART-03 PQCSIDN | FO8: Меркурий 230 ART-03 PQCSIGDN | FP8: AS3500-533-RLM-PB2-B-PL | FQ8: AS3500-533-RLM-PB2-B-PL | FR8: AS3500-533-RLM-PB2-B-PL | FS8: Меркурий 230 ART-03 PQCSIDN | FT8: Меркурий 230 ART-03 PQCSIGDN | FU8: AS3500-533-RLM-PB2-B-PL | FV8: Меркурий 230 AR-03 MCL | FW8: AS3500-134-RLM-PB2K-B-PL | FX8: AS3500-533-RLM-PB2-B-PL | FY8: Меркурий 230 ART-03 PQRSIDN | FZ8: Меркурий 230 ART-03 PQRSIDN | GA8: Меркурий 230 ART-03 PQCSIGDN | GB8: Меркурий 234 ART-03 P | GC8: Меркурий 230 ART-02 PQCSIGDN | GD8: Меркурий 234 ART-03 P | GE8: Меркурий 230 ART-03 PQCSIGDN | GF8: AS3500-533-RLM-PB2-B-PL | GG8: Меркурий 230 ART-03 PQRSIDN | GH8: Меркурий 230 ART-03 PQRSIDN | GI8: Меркурий 230 ART-03 PQCSIDN | GJ8: Меркурий 230 ART-03 PQCSIGDN | GK8: Меркурий 230 ART-03 PQCSIDN | GL8: Меркурий 230 ART-03 PQCSIGDN | GM8: Меркурий 230 ART-03 PQCSIGDN | GN8: Меркурий 230 ART-03 PQCSIDN | GO8: Меркурий 230 ART-03 PQCSIGDN | GP8: Меркурий 230 ART-03 PQCSIGDN | GQ8: Меркурий 230 ART-03 PQRSIDN | GR8: Меркурий 230 ART-03 PQCSIGDN | GS8: Меркурий 230 ART-03 PQCSIGDN | GT8: AS3500-533-RLM-PB2-B-PL | GU8: Меркурий 230 ART-03 PQCSIDN | GV8: Меркурий 230 ART-03 PQCSIGDN | GW8: Меркурий 230 ART-03 PQCSIDN | GX8: Меркурий 230 ART-03 PQCSIGDN | GY8: AS3500-533-RLM-PB2-B-PL | GZ8: AS3500-533-RLM-PB2-B-PL | HA8: Меркурий 230 ART-03 PQCSIGDN | HB8: Меркурий 230 ART-03 PQCSIGDN | HC8: Меркурий 230 АМ-03 | HD8: Меркурий 234 ARTМ-00 PB.G | HE8: AS3500-533-RLM-PB2-B-PL | HF8: AS3500-533-RLM-PB2-B-PL | HG8: AS3500-533-RLM-PB2-B-PL | HH8: Меркурий 234 ARTМ-03 PB.G | HI8: AS3500-533-RLM-PB2-B-PL | HJ8: Меркурий 230 АМ-03 | HK8: Меркурий 230 ART-03 PQRSIDN | HL8: AS3500-533-RLM-PB2-B | HM8: AS3500-533-RLM-PB2-B | HN8: Меркурий 230 ART-03 PQRSIDN | HO8: AS3500-533-RLM-PB2-B | HP8: Меркурий 230 ART-03 PQCSIGDN | HQ8: Меркурий 230 ART-03 PQRSIDN | HR8: Меркурий 230 ART-03 PQCSIGDN | HS8: AS3500-533-RLM-PB2-B | HT8: AS3500-533-RLM-PB2-B | HU8: AS3500-533-RLM-PB2-B-PL | HV8: AS3500-533-RLM-PB2-B-PL | HW8: AS3500-533-RLM-PB2-B | HX8: Меркурий 230 ART-03 PQRSIDN | HY8: AS3500-533-RLM-PB2-B | HZ8: AS3500-533-RLM-PB2-B | IA8: Меркурий 230 ART-03 PQRSIDN | IB8: AS3500-533-RLM-PB2-B | IC8: AS3500-533-RLM-PB2-B | ID8: AS3500-533-RLM-PB2-B | IE8: AS3500-533-RLM-PB2-B | IF8: AS3500-533-RLM-PB2-B | IG8: AS3500-533-RLM-PB2-B | IH8: AS3500-533-RLM-PB2-B | II8: AS3500-533-RLM-PB2-B | IJ8: AS3500-533-RLM-PB2-B | IK8: AS3500-533-RLM-PB2-B-PL | IL8: AS3500-533-RLM-PB2-B-PL | IM8: AS3500-533-RLM-PB2-B | IN8: Меркурий 230 ART-03 CN | IO8: Меркурий 230 ART-03 PQCSIGDN | IP8: Меркурий 230 ART-03 PQCSIDN | IQ8: Меркурий 230 ART-03 PQCSIDN | IR8: Меркурий 230 ART-03 PQRSIDN | IS8: Меркурий 230 ART-03 PQCSIGDN | IT8: AS3500-533-RLM-PB2-B-PL | IU8: AS3500-533-RLM-PB2-B-PL | IV8: AS3500-533-RLM-PB2-B-PL | IW8: AS3500-533-RLM-PB2-B-PL | IX8: СЭТ-4ТМ.03.01 | IY8: AS3500-533-RLM-PB2-B-PL | IZ8: AS3500-533-RLM-PB2-B-PL
B9: 60 | C9: 60 | D9: 60 | E9: 30 | F9: 120 | G9: 60 | H9: 30 | I9: 30 | J9: 30 | K9: 80 | L9: 20 | M9: 80 | N9: 80 | O9: 1 | P9: 40 | Q9: 1 | R9: 60 | S9: 120 | T9: 120 | U9: 30 | V9: 80 | W9: 120 | X9: 30 | Y9: 20 | Z9: 1 | AA9: 1 | AB9: 60 | AC9: 1 | AD9: 60 | AE9: 1 | AF9: 120 | AG9: 40 | AH9: 120 | AI9: 60 | AJ9: 60 | AK9: 40 | AL9: 80 | AM9: 80 | AN9: 200 | AO9: 120 | AP9: 60 | AQ9: 1 | AR9: 80 | AS9: 80 | AT9: 80 | AU9: 200 | AV9: 200 | AW9: 60 | AX9: 60 | AY9: 120 | AZ9: 80 | BA9: 80 | BB9: 60 | BC9: 120 | BD9: 200 | BE9: 30 | BF9: 60 | BG9: 60 | BH9: 4000 | BI9: 30 | BJ9: 60 | BK9: 120 | BL9: 120 | BM9: 120 | BN9: 120 | BO9: 40 | BP9: 20 | BQ9: 20 | BR9: 40 | BS9: 80 | BT9: 80 | BU9: 80 | BV9: 120 | BW9: 120 | BX9: 120 | BY9: 60 | BZ9: 3000 | CA9: 6000 | CB9: 200 | CC9: 120 | CD9: 120 | CE9: 120 | CF9: 120 | CG9: 120 | CH9: 80 | CI9: 80 | CJ9: 120 | CK9: 120 | CL9: 30 | CM9: 120 | CN9: 120 | CO9: 200 | CP9: 120 | CQ9: 80 | CR9: 80 | CS9: 200 | CT9: 200 | CU9: 1 | CV9: 120 | CW9: 40 | CX9: 120 | CY9: 40 | CZ9: 20 | DA9: 80 | DB9: 120 | DC9: 120 | DD9: 60 | DE9: 60 | DF9: 60 | DG9: 200 | DH9: 120 | DI9: 120 | DJ9: 60 | DK9: 120 | DL9: 60 | DM9: 120 | DN9: 60 | DO9: 30 | DP9: 60 | DQ9: 40 | DR9: 60 | DS9: 20 | DT9: 20 | DU9: 120 | DV9: 120 | DW9: 80 | DX9: 40 | DY9: 120 | DZ9: 40 | EA9: 20 | EB9: 60 | EC9: 120 | ED9: 120 | EE9: 120 | EF9: 120 | EG9: 200 | EH9: 20 | EI9: 20 | EJ9: 60 | EK9: 80 | EL9: 80 | EM9: 80 | EN9: 30 | EO9: 40 | EP9: 20 | EQ9: 50 | ER9: 30 | ES9: 80 | ET9: 80 | EU9: 20 | EV9: 60 | EW9: 80 | EX9: 40 | EY9: 30 | EZ9: 60 | FA9: 60 | FB9: 40 | FC9: 80 | FD9: 30 | FE9: 50 | FF9: 50 | FG9: 1 | FH9: 30 | FI9: 120 | FJ9: 120 | FK9: 80 | FL9: 80 | FM9: 120 | FN9: 30 | FO9: 20 | FP9: 80 | FQ9: 80 | FR9: 30 | FS9: 30 | FT9: 80 | FU9: 120 | FV9: 60 | FW9: 1 | FX9: 50 | FY9: 60 | FZ9: 120 | GA9: 20 | GB9: 80 | GC9: 1 | GD9: 200 | GE9: 200 | GF9: 40 | GG9: 200 | GH9: 200 | GI9: 40 | GJ9: 60 | GK9: 40 | GL9: 30 | GM9: 40 | GN9: 60 | GO9: 20 | GP9: 30 | GQ9: 20 | GR9: 20 | GS9: 80 | GT9: 80 | GU9: 30 | GV9: 120 | GW9: 20 | GX9: 120 | GY9: 50 | GZ9: 80 | HA9: 1 | HB9: 20 | HC9: 20 | HD9: 2000 | HE9: 60 | HF9: 30 | HG9: 80 | HH9: 60 | HI9: 80 | HJ9: 80 | HK9: 80 | HL9: 80 | HM9: 15 | HN9: 20 | HO9: 20 | HP9: 120 | HQ9: 120 | HR9: 30 | HS9: 15 | HT9: 25 | HU9: 80 | HV9: 80 | HW9: 80 | HX9: 60 | HY9: 60 | HZ9: 60 | IA9: 20 | IB9: 60 | IC9: 60 | ID9: 40 | IE9: 20 | IF9: 120 | IG9: 120 | IH9: 60 | II9: 60 | IJ9: 20 | IK9: 80 | IL9: 80 | IM9: 80 | IN9: 80 | IU9: 20 | IV9: 40 | IW9: 60 | IX9: 2000 | IY9: 40 | IZ9: 80
A10: 0-1 | B10: 14.76 | C10: 17.25 | D10: 23.7 | E10: 14.565 | F10: 6.6 | G10: 14.85 | H10: 17.91 | I10: 15.015 | J10: 8.76 | K10: 15.64 | L10: 3.72 | M10: 40.24 | N10: 61.96 | O10: 29.43 | P10: 0 | Q10: 0.4475 | R10: 10.68 | S10: 106.44 | T10: 0 | U10: 16.83 | V10: 9.08 | W10: 2.44 | X10: 1.92 | Y10: 0 | Z10: 10.254 | AA10: 444.8 | AB10: 7.08 | AC10: 5.555 | AD10: 7.11 | AE10: 0 | AF10: 0 | AG10: 34.1 | AH10: 49.56 | AI10: 2.4 | AJ10: 128.82 | AK10: 72.1 | AL10: 15.04 | AM10: 4.816 | AN10: 165.7 | AO10: 0 | AP10: 9.87 | AQ10: 0.39 | AR10: 12.08 | AS10: 2.08 | AT10: 7.392 | AU10: 0 | AV10: 5.5 | AW10: 0.99 | AX10: 0 | AY10: 0 | AZ10: 0 | BA10: 24.28 | BB10: 0.08 | BC10: 0 | BD10: 15.1 | BE10: 40.6 | BF10: 3.15 | BG10: 0 | BH10: 0 | BI10: 3.16 | BJ10: 28.68 | BK10: 68.976 | BL10: 51.072 | BM10: 55.32 | BN10: 0 | BO10: 0 | BP10: 2.17 | BQ10: 0 | BR10: 4.8 | BS10: 24.24 | BT10: 19.984 | BU10: 49.76 | BV10: 8.928 | BW10: 31.44 | BX10: 23.28 | BY10: 1.56 | BZ10: 204.6 | CA10: 0 | CB10: 117.16 | CC10: 136.416 | CD10: 33.912 | CE10: 63.72 | CF10: 16.584 | CG10: 27.504 | CH10: 13.056 | CI10: 1.024 | CJ10: 50.328 | CK10: 17.472 | CL10: 1.1 | CM10: 38.592 | CN10: 2.64 | CO10: 143.4 | CP10: 43.74 | CQ10: 1.16 | CR10: 2.4 | CS10: 54.4 | CT10: 79.6 | CU10: 0.29 | CV10: 0 | CW10: 0 | CX10: 16.56 | CY10: 14.408 | CZ10: 0.59 | DA10: 1.08 | DB10: 0 | DC10: 119.52 | DD10: 33.48 | DE10: 0 | DF10: 24.51 | DG10: 4.8 | DH10: 44.88 | DI10: 0 | DJ10: 11.88 | DK10: 5.232 | DL10: 8.82 | DM10: 103.44 | DN10: 3.18 | DO10: 6.375 | DP10: 10.89 | DQ10: 21.312 | DR10: 40.71 | DS10: 2.904 | DT10: 0.02 | DU10: 30.42 | DV10: 19.8 | DW10: 25.04 | DX10: 19.26 | DY10: 11.448 | DZ10: 2.7 | EA10: 0 | EB10: 16.54 | EC10: 31.44 | ED10: 0 | EE10: 28.296 | EF10: 0 | EG10: 0 | EH10: 0 | EI10: 2.79 | EJ10: 4.524 | EK10: 212.28 | EL10: 103.72 | EM10: 78.88 | EN10: 24.885 | EO10: 28.6 | EP10: 5.1 | EQ10: 5.05 | ER10: 3.3 | ES10: 96.6 | ET10: 59.04 | EU10: 5.54 | EV10: 33.54 | EW10: 41.72 | EX10: 121.76 | EY10: 0.03 | EZ10: 34.812 | FA10: 0 | FB10: 0 | FC10: 6.48 | FD10: 4.47 | FE10: 34.65 | FF10: 27.3 | FG10: 1.476 | FH10: 2.625 | FI10: 7.32 | FJ10: 35.16 | FK10: 31.2 | FL10: 43.12 | FM10: 0 | FN10: 1.185 | FO10: 0.66 | FP10: 4.704 | FQ10: 5.424 | FR10: 8.92 | FS10: 0.24 | FT10: 4.24 | FU10: 0 | FV10: 3.54 | FW10: 0.028 | FX10: 43.63 | FY10: 23.28 | FZ10: 2.39085 | GA10: 5.1 | GB10: 35.55915 | GC10: 17.079 | GD10: 44.1 | GE10: 34.4 | GF10: 8.415 | GG10: 0 | GH10: 4.7 | GI10: 15.5 | GJ10: 0.06 | GK10: 0.225 | GL10: 0.51 | GM10: 30.84 | GN10: 13.4 | GO10: 1.09 | GP10: 48.6 | GQ10: 14.95 | GR10: 0.49 | GS10: 7.12 | GT10: 64.992 | GU10: 14.685 | GV10: 73.68 | GW10: 7.38 | GX10: 2.88 | GY10: 11.12 | GZ10: 25.552 | HA10: 0.043 | HB10: 2.95 | HC10: 96.875532 | HD10: 61.7 | HE10: 29.556 | HF10: 16.686 | HG10: 92.144 | HH10: 0 | HL10: 9.6 | HM10: 3.5775 | HN10: 0.88 | HO10: 0 | HP10: 244.8 | HQ10: 0 | HR10: 1.575 | HS10: 0.95 | HT10: 0.705 | HU10: 56.416 | HV10: 25.392 | HW10: 0 | HX10: 19.17 | HY10: 0 | HZ10: 0 | IA10: 7.31 | IB10: 0.96 | IC10: 0 | ID10: 4.78 | IE10: 7.65 | IF10: 0 | IG10: 16.87 | IH10: 3.06 | II10: 9.792 | IJ10: 5.18 | IK10: 25.10715 | IL10: 30.223486 | IM10: 39.056 | IN10: 0 | IO10: 4.474 | IP10: 29.43 | IQ10: 12.45 | IR10: 9.92 | IS10: 16.02 | IT10: 68.384 | IU10: 12.4 | IV10: 47.88 | IW10: 11.4 | IX10: 0 | IY10: 57.16 | IZ10: 36.32 | JA10: 16677.172 | JB10: 18 | JC10: 1.0832 | JD10: 0 | JE10: 9 | JF10: 103 | JG10: 60 | JH10: 0 | JI10: 226 | JJ10: 40 | JK10: 14 | JL10: 5 | JM10: 4 | JN10: 9 | JO10: 0 | JP10: 7.2 | JQ10: 552 | JR10: 11.4 | JS10: 640 | JT10: 3.38 | JU10: 27.84 | JV10: 14.76 | JW10: 20.84 | JX10: =SUM(B10:JW10) -> 24782.251
A11: 1-2 | B11: 11.07 | C11: 16.77 | D11: 22.71 | E11: 13.89 | F11: 7.62 | G11: 14.49 | H11: 17.79 | I11: 14.925 | J11: 8.025 | K11: 11.2 | L11: 3.78 | M11: 38.72 | N11: 56.08 | O11: 28.47 | P11: 0 | Q11: 0.3815 | R11: 10.14 | S11: 110.16 | T11: 0 | U11: 18.255 | V11: 13.12 | W11: 2.6 | X11: 1.92 | Y11: 0 | Z11: 10.25 | AA11: 447.36 | AB11: 7.02 | AC11: 5.055 | AD11: 6.63 | AE11: 0 | AF11: 0 | AG11: 33.5 | AH11: 40.98 | AI11: 4.44 | AJ11: 123.6 | AK11: 59.62 | AL11: 14.76 | AM11: 3.248 | AN11: 145.7 | AO11: 0 | AP11: 7.86 | AQ11: 0.642 | AR11: 11.32 | AS11: 0 | AT11: 7.312 | AU11: 0 | AV11: 5.5 | AW11: 1.08 | AX11: 0 | AY11: 0 | AZ11: 0 | BA11: 24.52 | BB11: 0.04 | BC11: 0 | BD11: 23.6 | BE11: 40.92 | BF11: 3.09 | BG11: 0 | BH11: 0 | BI11: 3 | BJ11: 27.036 | BK11: 66 | BL11: 49.488 | BM11: 55.032 | BN11: 0 | BO11: 0 | BP11: 1.77 | BQ11: 0 | BR11: 4.76 | BS11: 23.248 | BT11: 19.488 | BU11: 49.36 | BV11: 8.376 | BW11: 30.96 | BX11: 23.58 | BY11: 1.52 | BZ11: 194.4 | CA11: 0 | CB11: 105.64 | CC11: 135.456 | CD11: 32.736 | CE11: 58.2 | CF11: 15.888 | CG11: 26.52 | CH11: 12.496 | CI11: 1.024 | CJ11: 45.432 | CK11: 16.44 | CL11: 1.2 | CM11: 35.808 | CN11: 2.7 | CO11: 144.8 | CP11: 35.28 | CQ11: 1.16 | CR11: 2.16 | CS11: 52.68 | CT11: 76.76 | CU11: 0.7 | CV11: 0 | CW11: 0 | CX11: 11.16 | CY11: 13.776 | CZ11: 0.57 | DA11: 1.2 | DB11: 0 | DC11: 111.36 | DD11: 33.33 | DE11: 0 | DF11: 17.67 | DG11: 4.8 | DH11: 46.2 | DI11: 0 | DJ11: 8.43 | DK11: 5.16 | DL11: 8.88 | DM11: 94.32 | DN11: 2.7 | DO11: 6.225 | DP11: 9.09 | DQ11: 20.82 | DR11: 29.4 | DS11: 1.104 | DT11: 0.03 | DU11: 31.08 | DV11: 17.976 | DW11: 23.6 | DX11: 17.24 | DY11: 10.272 | DZ11: 2.66 | EA11: 0 | EB11: 15.24 | EC11: 30.96 | ED11: 0 | EE11: 27.696 | EF11: 0 | EG11: 0 | EH11: 0 | EI11: 2.76 | EJ11: 4.62 | EK11: 201.32 | EL11: 104 | EM11: 80.88 | EN11: 27.09 | EO11: 29.28 | EP11: 5.07 | EQ11: 4.4 | ER11: 3.33 | ES11: 89.8 | ET11: 62.64 | EU11: 3.95 | EV11: 28.74 | EW11: 34.72 | EX11: 112.94 | EY11: 0.045 | EZ11: 33.048 | FA11: 0 | FB11: 0 | FC11: 6.04 | FD11: 3.645 | FE11: 34.15 | FF11: 27.35 | FG11: 1.485 | FH11: 2.88 | FI11: 6.24 | FJ11: 33.6 | FK11: 30.32 | FL11: 43.36 | FM11: 0 | FN11: 1.68 | FO11: 0.66 | FP11: 4.8 | FQ11: 6.912 | FR11: 8.24 | FS11: 0.84 | FT11: 4.56 | FU11: 0 | FV11: 3.33 | FW11: 0.026 | FX11: 41.5344 | FY11: 21.63 | FZ11: 2.5137 | GA11: 3.96 | GB11: 37.3863 | GC11: 17.143 | GD11: 48.3 | GE11: 37.1 | GF11: 7.425 | GG11: 0 | GH11: 4.1 | GI11: 13.9 | GJ11: 0 | GK11: 0.21 | GL11: 0.39 | GM11: 29.94 | GN11: 13.32 | GO11: 1.05 | GP11: 46.56 | GQ11: 15.34 | GR11: 0.47 | GS11: 7.08 | GT11: 64.768 | GU11: 14.565 | GV11: 78.72 | GW11: 7.28 | GX11: 2.64 | GY11: 11.52 | GZ11: 25.2 | HA11: 0.043 | HB11: 3.41 | HC11: 87.253583 | HD11: 93.7 | HE11: 27.924 | HF11: 17.298 | HG11: 82.992 | HH11: 0.03 | HL11: 7.32 | HM11: 3.3675 | HN11: 0.86 | HO11: 0 | HP11: 241 | HQ11: 0 | HR11: 1.245 | HS11: 0.94 | HT11: 0.705 | HU11: 36.176 | HV11: 25.392 | HW11: 0 | HX11: 15.63 | HY11: 0 | HZ11: 0 | IA11: 7.68 | IB11: 1.14 | IC11: 0 | ID11: 4.8 | IE11: 9.34 | IF11: 0 | IG11: 21.3 | IH11: 3.024 | II11: 9.684 | IJ11: 4.88 | IK11: 24.634012 | IL11: 29.653932 | IM11: 38.32 | IN11: 0 | IO11: 4.594 | IP11: 28.47 | IQ11: 12.275 | IR11: 9.92 | IS11: 5.82 | IT11: 11.136 | IU11: 12.2 | IV11: 44.12 | IW11: 10.74 | IX11: 0 | IY11: 58.04 | IZ11: 35.04 | JA11: 16008.246 | JB11: 18 | JC11: 1.0664 | JD11: 0 | JE11: 9 | JF11: 89 | JG11: 59 | JH11: 0 | JI11: 223 | JJ11: 39 | JK11: 15 | JL11: 5 | JM11: 6 | JN11: 9 | JO11: 0 | JP11: 9 | JQ11: 518.5 | JR11: 11.04 | JS11: 615 | JT11: 3.3 | JU11: 28.32 | JV11: 11.84 | JW11: 19.52 | JX11: =SUM(B11:JW11) -> 23680.936
A12: 2-3 | B12: 9.27 | C12: 16.14 | D12: 23.16 | E12: 12.855 | F12: 3.6 | G12: 14.82 | H12: 15.345 | I12: 14.76 | J12: 7.98 | K12: 9.6 | L12: 3.75 | M12: 38.88 | N12: 60.6 | O12: 26.82 | P12: 0 | Q12: 0.3975 | R12: 10.29 | S12: 95.46 | T12: 0 | U12: 18.15 | V12: 16.08 | W12: 2.64 | X12: 0.96 | Y12: 0.03 | Z12: 10.27 | AA12: 447.04 | AB12: 7.14 | AC12: 5.093 | AD12: 6.27 | AE12: 0 | AF12: 0 | AG12: 34.5 | AH12: 31.38 | AI12: 7.2 | AJ12: 122.7 | AK12: 55.44 | AL12: 14.56 | AM12: 2.8 | AN12: 176.1 | AO12: 0 | AP12: 6.75 | AQ12: 0.078 | AR12: 11.24 | AS12: 0 | AT12: 7.28 | AU12: 0 | AV12: 5.5 | AW12: 1.08 | AX12: 0 | AY12: 0 | AZ12: 0 | BA12: 25.28 | BB12: 0.08 | BC12: 0 | BD12: 15.2 | BE12: 40.8 | BF12: 3.15 | BG12: 0 | BH12: 0 | BI12: 3.28 | BJ12: 27.084 | BK12: 61.32 | BL12: 46.32 | BM12: 54.936 | BN12: 0 | BO12: 0 | BP12: 1.9 | BQ12: 0 | BR12: 4.776 | BS12: 25.68 | BT12: 19.632 | BU12: 47.96 | BV12: 8.184 | BW12: 31.2 | BX12: 21.72 | BY12: 1.56 | BZ12: 201 | CA12: 0 | CB12: 100.64 | CC12: 134.376 | CD12: 30.504 | CE12: 57.984 | CF12: 15.096 | CG12: 27.12 | CH12: 12.512 | CI12: 0.736 | CJ12: 42.36 | CK12: 16.368 | CL12: 1.14 | CM12: 33.312 | CN12: 2.76 | CO12: 131.72 | CP12: 30.84 | CQ12: 0.8 | CR12: 2.2 | CS12: 53.08 | CT12: 76.92 | CU12: 0.395 | CV12: 0 | CW12: 0 | CX12: 8.4 | CY12: 12.96 | CZ12: 0.3 | DA12: 1 | DB12: 0 | DC12: 111.24 | DD12: 33.42 | DE12: 0 | DF12: 14.79 | DG12: 4.8 | DH12: 44.88 | DI12: 0 | DJ12: 7.02 | DK12: 5.352 | DL12: 8.94 | DM12: 92.16 | DN12: 2.4 | DO12: 6.225 | DP12: 8.4 | DQ12: 17.172 | DR12: 29.4 | DS12: 1.128 | DT12: 0.02 | DU12: 30.36 | DV12: 20.088 | DW12: 22.16 | DX12: 18.5 | DY12: 10.824 | DZ12: 2.68 | EA12: 0 | EB12: 14.48 | EC12: 31.2 | ED12: 0 | EE12: 26.784 | EF12: 0 | EG12: 0 | EH12: 0 | EI12: 2.76 | EJ12: 4.524 | EK12: 202.28 | EL12: 99 | EM12: 79.36 | EN12: 23.625 | EO12: 31.14 | EP12: 5.13 | EQ12: 3.7 | ER12: 3.285 | ES12: 87.12 | ET12: 64.96 | EU12: 5.32 | EV12: 27 | EW12: 31.72 | EX12: 111.62 | EY12: 0.045 | EZ12: 34.62 | FA12: 0 | FB12: 0 | FC12: 6.08 | FD12: 3.255 | FE12: 33.2 | FF12: 25.6 | FG12: 1.487 | FH12: 2.565 | FI12: 5.88 | FJ12: 34.56 | FK12: 30.4 | FL12: 41.84 | FM12: 0 | FN12: 0.99 | FO12: 0.92 | FP12: 4.768 | FQ12: 6.272 | FR12: 9.48 | FS12: 0.84 | FT12: 4.48 | FU12: 0 | FV12: 3.24 | FW12: 0.026 | FX12: 42.0784 | FY12: 20.46 | FZ12: 2.50425 | GA12: 3.9 | GB12: 37.24575 | GC12: 17.116 | GD12: 75.9 | GE12: 35.1 | GF12: 4.275 | GG12: 0 | GH12: 4.9 | GI12: 17.62 | GJ12: 0.03 | GK12: 0.285 | GL12: 0.375 | GM12: 31.08 | GN12: 13.04 | GO12: 1.08 | GP12: 46.32 | GQ12: 13.56 | GR12: 0.51 | GS12: 7.12 | GT12: 63.6 | GU12: 14.64 | GV12: 80.76 | GW12: 7.23 | GX12: 2.76 | GY12: 11.24 | GZ12: 24.912 | HA12: 0.0425 | HB12: 3.81 | HC12: 73.897241 | HD12: 60.1 | HE12: 28.008 | HF12: 17.262 | HG12: 70.288 | HH12: 0.03 | HL12: 5.76 | HM12: 2.9775 | HN12: 0.83 | HO12: 0 | HP12: 240.4 | HQ12: 0 | HR12: 1.2 | HS12: 0.91 | HT12: 0.705 | HU12: 36.176 | HV12: 25.392 | HW12: 0 | HX12: 14.97 | HY12: 0 | HZ12: 0 | IA12: 7.2 | IB12: 0.66 | IC12: 0 | ID12: 4.84 | IE12: 9.91 | IF12: 0 | IG12: 25.64 | IH12: 3.396 | II12: 10.404 | IJ12: 3.02 | IK12: 25.62143 | IL12: 30.842566 | IM12: 39.856 | IN12: 0 | IO12: 4.537 | IP12: 26.82 | IQ12: 11.15 | IR12: 9.92 | IS12: 5.46 | IT12: 13.952 | IU12: 12.4 | IV12: 42.52 | IW12: 10.2 | IX12: 0 | IY12: 57.4 | IZ12: 35.36 | JA12: 16534.529 | JB12: 20 | JC12: 1.0752 | JD12: 0 | JE12: 8 | JF12: 78 | JG12: 54 | JH12: 0 | JI12: 221 | JJ12: 44 | JK12: 14 | JL12: 5 | JM12: 6 | JN12: 9 | JO12: 0 | JP12: 7.2 | JQ12: 510 | JR12: 11.26 | JS12: 606 | JT12: 3.6 | JU12: 27.36 | JV12: 10.68 | JW12: 19.12 | JX12: =SUM(B12:JW12) -> 24129.441
A13: 3-4 | B13: 7.71 | C13: 16.5 | D13: 23.19 | E13: 12 | F13: 3.6 | G13: 14.37 | H13: 16.095 | I13: 14.79 | J13: 7.785 | K13: 11.8 | L13: 3.78 | M13: 39.88 | N13: 58.76 | O13: 27.48 | P13: 0 | Q13: 0.338 | R13: 10.32 | S13: 101.4 | T13: 0 | U13: 16.785 | V13: 14.28 | W13: 2.48 | X13: 0.96 | Y13: 0 | Z13: 10.228 | AA13: 447.52 | AB13: 9.6 | AC13: 5.085 | AD13: 6.3 | AE13: 0 | AF13: 0 | AG13: 34.46 | AH13: 42.6 | AI13: 7.89 | AJ13: 121.89 | AK13: 53.68 | AL13: 14.44 | AM13: 5.504 | AN13: 172.4 | AO13: 0 | AP13: 5.4 | AQ13: 0.901 | AR13: 13.88 | AS13: 0 | AT13: 7.328 | AU13: 0 | AV13: 5.4 | AW13: 1.05 | AX13: 0 | AY13: 0 | AZ13: 0 | BA13: 25.12 | BB13: 0.04 | BC13: 0 | BD13: 15.2 | BE13: 40.32 | BF13: 3.15 | BG13: 0 | BH13: 0 | BI13: 3.08 | BJ13: 25.176 | BK13: 61.224 | BL13: 46.2 | BM13: 54.84 | BN13: 0 | BO13: 0 | BP13: 1.81 | BQ13: 0 | BR13: 4.768 | BS13: 33.504 | BT13: 19.312 | BU13: 47.44 | BV13: 8.112 | BW13: 31.08 | BX13: 25.08 | BY13: 1.52 | BZ13: 198.3 | CA13: 0 | CB13: 97.2 | CC13: 135.48 | CD13: 31.848 | CE13: 60.36 | CF13: 14.784 | CG13: 26.592 | CH13: 12.528 | CI13: 0.688 | CJ13: 42.12 | CK13: 16.416 | CL13: 1.22 | CM13: 33.072 | CN13: 2.7 | CO13: 143.2 | CP13: 28.44 | CQ13: 0.04 | CR13: 0.88 | CS13: 53.08 | CT13: 76.92 | CU13: 0.425 | CV13: 0 | CW13: 0 | CX13: 7.38 | CY13: 13.192 | CZ13: 0.12 | DA13: 0.92 | DB13: 0 | DC13: 108.6 | DD13: 33.33 | DE13: 0 | DF13: 14.25 | DG13: 5 | DH13: 52.44 | DI13: 0 | DJ13: 6.06 | DK13: 5.304 | DL13: 8.91 | DM13: 67.8 | DN13: 2.22 | DO13: 6.225 | DP13: 7.77 | DQ13: 17.664 | DR13: 38.28 | DS13: 0.036 | DT13: 0.02 | DU13: 30 | DV13: 24.84 | DW13: 22.16 | DX13: 17.3 | DY13: 11.544 | DZ13: 2.68 | EA13: 0 | EB13: 14.26 | EC13: 31.08 | ED13: 0 | EE13: 27.24 | EF13: 0 | EG13: 0 | EH13: 0 | EI13: 2.76 | EJ13: 4.5 | EK13: 203.04 | EL13: 100.96 | EM13: 79.44 | EN13: 24.45 | EO13: 28.64 | EP13: 5.1 | EQ13: 2.625 | ER13: 3.225 | ES13: 84.32 | ET13: 60 | EU13: 3.75 | EV13: 26.88 | EW13: 31.56 | EX13: 109.6 | EY13: 0.03 | EZ13: 33.3 | FA13: 0 | FB13: 0 | FC13: 5.52 | FD13: 3.21 | FE13: 34.1 | FF13: 24.4 | FG13: 1.486 | FH13: 2.565 | FI13: 5.64 | FJ13: 34.32 | FK13: 29.84 | FL13: 42 | FM13: 0 | FN13: 2.655 | FO13: 0.9 | FP13: 4.736 | FQ13: 5.68 | FR13: 8.88 | FS13: 0.9 | FT13: 4.52 | FU13: 0 | FV13: 3.315 | FW13: 0.028 | FX13: 43.0042 | FY13: 17.64 | FZ13: 2.5515 | GA13: 3.61 | GB13: 37.9485 | GC13: 17.151 | GD13: 109.7 | GE13: 39.2 | GF13: 4.305 | GG13: 0 | GH13: 4.8 | GI13: 17.02 | GJ13: 0 | GK13: 0.24 | GL13: 0.345 | GM13: 30.78 | GN13: 13.16 | GO13: 1.03 | GP13: 53.1 | GQ13: 13.91 | GR13: 0.48 | GS13: 6.92 | GT13: 62.56 | GU13: 16.32 | GV13: 88.38 | GW13: 5.73 | GX13: 2.64 | GY13: 11.66 | GZ13: 24.576 | HA13: 0.043 | HB13: 3.58 | HC13: 89.01985 | HD13: 94.4 | HE13: 27.504 | HF13: 16.674 | HG13: 84.672 | HH13: 0.03 | HL13: 5.24 | HM13: 2.7825 | HN13: 0.84 | HO13: 0 | HP13: 225.2 | HQ13: 0 | HR13: 1.275 | HS13: 0.87 | HT13: 0.7 | HU13: 36.176 | HV13: 25.392 | HW13: 0 | HX13: 13.65 | HY13: 0 | HZ13: 0 | IA13: 7.47 | IB13: 0.57 | IC13: 0 | ID13: 4.82 | IE13: 5.42 | IF13: 0 | IG13: 19.23 | IH13: 3.432 | II13: 9.84 | IJ13: 3.18 | IK13: 26.505991 | IL13: 31.907383 | IM13: 41.232 | IN13: 0 | IO13: 4.537 | IP13: 27.48 | IQ13: 10.8 | IR13: 2.38 | IS13: 5.34 | IT13: 75.104 | IU13: 12.2 | IV13: 42.28 | IW13: 10.2 | IX13: 0 | IY13: 57.72 | IZ13: 35.04 | JA13: 16436.32 | JB13: 16 | JC13: 1.0816 | JD13: 0 | JE13: 7 | JF13: 72 | JG13: 54 | JH13: 0 | JI13: 207 | JJ13: 47 | JK13: 13 | JL13: 5 | JM13: 4 | JN13: 10 | JO13: 0 | JP13: 9 | JQ13: 497.5 | JR13: 11.14 | JS13: 604 | JT13: 3.38 | JU13: 26.88 | JV13: 10.56 | JW13: 19.76 | JX13: =SUM(B13:JW13) -> 24029.748
A14: 4-5 | B14: 9 | C14: 16.29 | D14: 22.53 | E14: 10.02 | F14: 3.6 | G14: 14.22 | H14: 15.3 | I14: 14.64 | J14: 7.485 | K14: 11.2 | L14: 3.75 | M14: 38.36 | N14: 73.04 | O14: 28.2 | P14: 0 | Q14: 0.3845 | R14: 10.62 | S14: 129.96 | T14: 0 | U14: 18.18 | V14: 13.48 | W14: 2.68 | X14: 0.96 | Y14: 0 | Z14: 10.206 | AA14: 447.84 | AB14: 9.45 | AC14: 5.221 | AD14: 6.6 | AE14: 0 | AF14: 0 | AG14: 34.1 | AH14: 53.16 | AI14: 7.77 | AJ14: 122.46 | AK14: 54.14 | AL14: 14.6 | AM14: 3.824 | AN14: 194.1 | AO14: 0 | AP14: 5.25 | AQ14: 0.774 | AR14: 13.24 | AS14: 0.72 | AT14: 7.376 | AU14: 0 | AV14: 5.5 | AW14: 0.99 | AX14: 0 | AY14: 0 | AZ14: 0 | BA14: 24.96 | BB14: 0.08 | BC14: 0 | BD14: 25.4 | BE14: 40.12 | BF14: 3.15 | BG14: 0 | BH14: 0 | BI14: 3 | BJ14: 24.216 | BK14: 59.784 | BL14: 55.08 | BM14: 54.768 | BN14: 0 | BO14: 0 | BP14: 1.73 | BQ14: 0 | BR14: 5.704 | BS14: 33.2 | BT14: 18.944 | BU14: 46.24 | BV14: 8.184 | BW14: 31.08 | BX14: 21.72 | BY14: 1.56 | BZ14: 200.4 | CA14: 0 | CB14: 105.48 | CC14: 133.296 | CD14: 33.048 | CE14: 55.56 | CF14: 14.592 | CG14: 25.92 | CH14: 12.496 | CI14: 0.816 | CJ14: 54.72 | CK14: 16.608 | CL14: 1.46 | CM14: 33.864 | CN14: 5.46 | CO14: 135.2 | CP14: 27.6 | CQ14: 0.04 | CR14: 0.88 | CS14: 52.72 | CT14: 76.92 | CU14: 0.375 | CV14: 0 | CW14: 0 | CX14: 7.8 | CY14: 14.392 | CZ14: 0.13 | DA14: 0.6 | DB14: 0 | DC14: 113.16 | DD14: 33.33 | DE14: 0 | DF14: 14.46 | DG14: 4.8 | DH14: 51.12 | DI14: 0 | DJ14: 6.09 | DK14: 8.544 | DL14: 8.85 | DM14: 64.56 | DN14: 2.4 | DO14: 6.225 | DP14: 8.4 | DQ14: 21.708 | DR14: 38.28 | DS14: 0.104 | DT14: 0.02 | DU14: 30.3 | DV14: 24.84 | DW14: 22.56 | DX14: 18.82 | DY14: 13.296 | DZ14: 2.6 | EA14: 0 | EB14: 14.46 | EC14: 31.08 | ED14: 0 | EE14: 27.96 | EF14: 0 | EG14: 0 | EH14: 0 | EI14: 2.79 | EJ14: 4.596 | EK14: 211.52 | EL14: 102.08 | EM14: 80 | EN14: 24.39 | EO14: 30.7 | EP14: 5.13 | EQ14: 2.4 | ER14: 3.33 | ES14: 77.2 | ET14: 62.48 | EU14: 3.48 | EV14: 26.76 | EW14: 32.76 | EX14: 111.78 | EY14: 0.03 | EZ14: 33.516 | FA14: 0 | FB14: 0 | FC14: 5.88 | FD14: 3.27 | FE14: 33.7 | FF14: 24.25 | FG14: 1.476 | FH14: 2.55 | FI14: 6.12 | FJ14: 35.04 | FK14: 30 | FL14: 38.08 | FM14: 0 | FN14: 3 | FO14: 1.29 | FP14: 4.704 | FQ14: 5.936 | FR14: 8.36 | FS14: 0.84 | FT14: 4.32 | FU14: 0 | FV14: 3.315 | FW14: 0.026 | FX14: 39.258 | FY14: 23.88 | FZ14: 2.59875 | GA14: 3.69 | GB14: 38.65125 | GC14: 17.025 | GD14: 121.4 | GE14: 64.7 | GF14: 4.14 | GG14: 0 | GH14: 4.5 | GI14: 15.32 | GJ14: 0 | GK14: 0.66 | GL14: 0.375 | GM14: 30.66 | GN14: 14 | GO14: 0.97 | GP14: 66.66 | GQ14: 13.68 | GR14: 0.5 | GS14: 6.96 | GT14: 66.4 | GU14: 16.35 | GV14: 116.88 | GW14: 0.33 | GX14: 2.76 | GY14: 12.91 | GZ14: 24.384 | HA14: 0.043 | HB14: 3.24 | HC14: 76.201799 | HD14: 71.9 | HE14: 27.216 | HF14: 16.254 | HG14: 72.48 | HH14: 0.06 | HL14: 5.84 | HM14: 2.895 | HN14: 0.78 | HO14: 0 | HP14: 251.5 | HQ14: 0 | HR14: 1.02 | HS14: 0.93 | HT14: 0.705 | HU14: 36.176 | HV14: 27.984 | HW14: 0 | HX14: 11.61 | HY14: 0 | HZ14: 0 | IA14: 7.29 | IB14: 0.48 | IC14: 0 | ID14: 4.82 | IE14: 4.26 | IF14: 0 | IG14: 29.78 | IH14: 3.24 | II14: 11.364 | IJ14: 2.72 | IK14: 27.380267 | IL14: 32.959819 | IM14: 42.592 | IN14: 0 | IO14: 4.537 | IP14: 28.2 | IQ14: 10.75 | IR14: 20.4 | IS14: 5.22 | IT14: 64.16 | IU14: 12.4 | IV14: 44.76 | IW14: 10.86 | IX14: 0 | IY14: 59.24 | IZ14: 35.12 | JA14: 16430.968 | JB14: 18 | JC14: 1.064 | JD14: 0 | JE14: 7 | JF14: 71 | JG14: 53 | JH14: 0 | JI14: 214 | JJ14: 44 | JK14: 14 | JL14: 5 | JM14: 6 | JN14: 11 | JO14: 0 | JP14: 9 | JQ14: 492 | JR14: 10.9 | JS14: 608 | JT14: 3.3 | JU14: 27.84 | JV14: 10.12 | JW14: 19.2 | JX14: =SUM(B14:JW14) -> 24309.985
A15: 5-6 | B15: 11.52 | C15: 11.52 | D15: 23.85 | E15: 14.73 | F15: 3.48 | G15: 14.61 | H15: 15.84 | I15: 14.43 | J15: 7.665 | K15: 10.56 | L15: 3.72 | M15: 36.96 | N15: 89.84 | O15: 33.18 | P15: 0 | Q15: 0.607 | R15: 10.56 | S15: 202.68 | T15: 0 | U15: 19.695 | V15: 11.68 | W15: 2.16 | X15: 0.96 | Y15: 0 | Z15: 10.222 | AA15: 445.92 | AB15: 7.44 | AC15: 5.051 | AD15: 8.4 | AE15: 0 | AF15: 0 | AG15: 36.98 | AH15: 48.12 | AI15: 24.33 | AJ15: 126.63 | AK15: 56.12 | AL15: 16.16 | AM15: 3.84 | AN15: 196.9 | AO15: 0 | AP15: 6.9 | AQ15: 1.08 | AR15: 9.6 | AS15: 1.48 | AT15: 9.84 | AU15: 0 | AV15: 5.4 | AW15: 1.14 | AX15: 0 | AY15: 0 | AZ15: 0 | BA15: 24.64 | BB15: 0 | BC15: 0 | BD15: 14.7 | BE15: 40.12 | BF15: 3.12 | BG15: 0 | BH15: 0 | BI15: 3.2 | BJ15: 27.312 | BK15: 64.56 | BL15: 63.744 | BM15: 54.744 | BN15: 0 | BO15: 0 | BP15: 1.7 | BQ15: 0 | BR15: 8.088 | BS15: 32.448 | BT15: 31.472 | BU15: 48.04 | BV15: 8.088 | BW15: 30.6 | BX15: 24.72 | BY15: 1.52 | BZ15: 186.3 | CA15: 0 | CB15: 129.24 | CC15: 131.856 | CD15: 32.16 | CE15: 60.168 | CF15: 16.248 | CG15: 49.56 | CH15: 12.496 | CI15: 1.504 | CJ15: 70.92 | CK15: 16.848 | CL15: 1.24 | CM15: 35.256 | CN15: 3 | CO15: 133.56 | CP15: 25.98 | CQ15: 0.04 | CR15: 0.88 | CS15: 52.72 | CT15: 76.92 | CU15: 0.4 | CV15: 0 | CW15: 0 | CX15: 8.4 | CY15: 15.216 | CZ15: 0.12 | DA15: 0.68 | DB15: 0 | DC15: 118.08 | DD15: 33.3 | DE15: 0 | DF15: 15.12 | DG15: 4.8 | DH15: 46.92 | DI15: 0 | DJ15: 6.06 | DK15: 6.384 | DL15: 8.91 | DM15: 73.56 | DN15: 2.07 | DO15: 6.225 | DP15: 10.26 | DQ15: 30.372 | DR15: 82.44 | DS15: 0.65 | DT15: 0.02 | DU15: 32.46 | DV15: 18.96 | DW15: 24.4 | DX15: 19.32 | DY15: 14.508 | DZ15: 2.62 | EA15: 0 | EB15: 15.42 | EC15: 30.6 | ED15: 0 | EE15: 27.912 | EF15: 0 | EG15: 0 | EH15: 0 | EI15: 2.775 | EJ15: 4.524 | EK15: 208.32 | EL15: 100.92 | EM15: 84.6 | EN15: 23.82 | EO15: 27.94 | EP15: 5.13 | EQ15: 2.525 | ER15: 3.315 | ES15: 104.08 | ET15: 59.44 | EU15: 3.47 | EV15: 26.4 | EW15: 36.96 | EX15: 126.3 | EY15: 0.03 | EZ15: 33.66 | FA15: 0 | FB15: 0 | FC15: 18.68 | FD15: 3.12 | FE15: 35.35 | FF15: 26.85 | FG15: 1.474 | FH15: 2.55 | FI15: 18.72 | FJ15: 37.8 | FK15: 33.28 | FL15: 45.6 | FM15: 0 | FN15: 2.67 | FO15: 1.76 | FP15: 15.536 | FQ15: 6.24 | FR15: 8.44 | FS15: 0.84 | FT15: 4.56 | FU15: 0 | FV15: 3.315 | FW15: 0.026 | FX15: 42.152 | FY15: 22.5 | FZ15: 2.44755 | GA15: 5.93 | GB15: 36.40245 | GC15: 17.055 | GD15: 93.1 | GE15: 64.8 | GF15: 3.375 | GG15: 0 | GH15: 4.3 | GI15: 17.54 | GJ15: 0 | GK15: 0.285 | GL15: 0.405 | GM15: 32.7 | GN15: 14.28 | GO15: 1.01 | GP15: 67.92 | GQ15: 13.93 | GR15: 0.53 | GS15: 9.2 | GT15: 67.6 | GU15: 20.595 | GV15: 119.58 | GW15: 0.27 | GX15: 2.64 | GY15: 12.91 | GZ15: 24.384 | HA15: 0.043 | HB15: 4.04 | HC15: 81.736102 | HD15: 106.5 | HE15: 24.408 | HF15: 16.482 | HG15: 77.744 | HH15: 0.06 | HL15: 6.24 | HM15: 2.73 | HN15: 0.78 | HO15: 0 | HP15: 376.1 | HQ15: 0 | HR15: 1.125 | HS15: 0.86 | HT15: 0.69 | HU15: 31.184 | HV15: 27.984 | HW15: 0 | HX15: 12.45 | HY15: 0 | HZ15: 0 | IA15: 8.91 | IB15: 0.39 | IC15: 0 | ID15: 4.84 | IE15: 4.79 | IF15: 0 | IG15: 34.26 | IH15: 3.264 | II15: 12.156 | IJ15: 2.96 | IK15: 28.44997 | IL15: 34.247506 | IM15: 44.256 | IN15: 0 | IO15: 4.537 | IP15: 33.18 | IQ15: 13.075 | IR15: 16.24 | IS15: 5.4 | IT15: 69.12 | IU15: 12.2 | IV15: 42.88 | IW15: 10.2 | IX15: 0 | IY15: 59.24 | IZ15: 35.76 | JA15: 17450.615 | JB15: 26 | JC15: 1.064 | JD15: 0 | JE15: 8 | JF15: 71 | JG15: 53 | JH15: 0 | JI15: 213 | JJ15: 48 | JK15: 15 | JL15: 5 | JM15: 8 | JN15: 14 | JO15: 0 | JP15: 12.6 | JQ15: 512 | JR15: 10.9 | JS15: 617 | JT15: 3.52 | JU15: 26.88 | JV15: 10.72 | JW15: 19.2 | JX15: =SUM(B15:JW15) -> 25933.571
A16: 6-7 | B16: 10.62 | C16: 0 | D16: 26.34 | E16: 17.625 | F16: 5.4 | G16: 19.2 | H16: 21.435 | I16: 14.85 | J16: 10.005 | K16: 10.8 | L16: 3.78 | M16: 42.04 | N16: 87.24 | O16: 39.69 | P16: 0 | Q16: 0.4835 | R16: 10.5 | S16: 226.26 | T16: 0 | U16: 16.845 | V16: 6.68 | W16: 2.48 | X16: 7.68 | Y16: 0 | Z16: 10.216 | AA16: 447.2 | AB16: 7.59 | AC16: 4.975 | AD16: 14.43 | AE16: 0 | AF16: 0 | AG16: 52.3 | AH16: 73.98 | AI16: 36.33 | AJ16: 134.28 | AK16: 63.9 | AL16: 15.16 | AM16: 2.8 | AN16: 202.1 | AO16: 0 | AP16: 8.1 | AQ16: 0.262 | AR16: 8.24 | AS16: 0 | AT16: 8.896 | AU16: 0 | AV16: 5.5 | AW16: 0.81 | AX16: 0 | AY16: 0 | AZ16: 0 | BA16: 25.16 | BB16: 0 | BC16: 0 | BD16: 14.9 | BE16: 42.96 | BF16: 11.25 | BG16: 0 | BH16: 0 | BI16: 3.12 | BJ16: 29.184 | BK16: 74.424 | BL16: 70.08 | BM16: 55.176 | BN16: 0 | BO16: 0 | BP16: 1.65 | BQ16: 0 | BR16: 6.832 | BS16: 31.616 | BT16: 59.12 | BU16: 50.04 | BV16: 8.688 | BW16: 30.84 | BX16: 24.06 | BY16: 1.52 | BZ16: 202.8 | CA16: 0 | CB16: 143.48 | CC16: 135.648 | CD16: 36.144 | CE16: 68.376 | CF16: 16.296 | CG16: 71.352 | CH16: 12.624 | CI16: 8.384 | CJ16: 79.008 | CK16: 17.328 | CL16: 2.48 | CM16: 42.696 | CN16: 3 | CO16: 140.16 | CP16: 29.1 | CQ16: 0.04 | CR16: 0.88 | CS16: 68.08 | CT16: 112.6 | CU16: 0.365 | CV16: 0 | CW16: 0 | CX16: 12.96 | CY16: 15.264 | CZ16: 0.1 | DA16: 0.8 | DB16: 0 | DC16: 137.4 | DD16: 33.48 | DE16: 0 | DF16: 15 | DG16: 4.8 | DH16: 51.36 | DI16: 0 | DJ16: 6.45 | DK16: 16.08 | DL16: 8.82 | DM16: 59.64 | DN16: 2.43 | DO16: 9.915 | DP16: 12.6 | DQ16: 35.868 | DR16: 84.3 | DS16: 1.07 | DT16: 0.02 | DU16: 29.4 | DV16: 24.024 | DW16: 38.8 | DX16: 25.36 | DY16: 30.96 | DZ16: 2.62 | EA16: 0 | EB16: 18.12 | EC16: 30.84 | ED16: 0 | EE16: 28.944 | EF16: 0 | EG16: 0 | EH16: 0 | EI16: 2.76 | EJ16: 5.844 | EK16: 218.04 | EL16: 105.52 | EM16: 88.36 | EN16: 23.25 | EO16: 28.74 | EP16: 5.85 | EQ16: 2.775 | ER16: 3.24 | ES16: 125 | ET16: 59.12 | EU16: 3.43 | EV16: 28.62 | EW16: 39.92 | EX16: 127.66 | EY16: 0.21 | EZ16: 37.776 | FA16: 0 | FB16: 0 | FC16: 36.12 | FD16: 5.1 | FE16: 37.95 | FF16: 33.7 | FG16: 1.469 | FH16: 2.46 | FI16: 17.64 | FJ16: 40.08 | FK16: 44.56 | FL16: 55.28 | FM16: 0 | FN16: 1.935 | FO16: 1.26 | FP16: 17.216 | FQ16: 6.432 | FR16: 9.24 | FS16: 0.84 | FT16: 4.92 | FU16: 0 | FV16: 3.075 | FW16: 0.028 | FX16: 42.504 | FY16: 25.74 | FZ16: 2.50425 | GA16: 5.61 | GB16: 37.24575 | GC16: 17.019 | GD16: 77.1 | GE16: 72.5 | GF16: 4.545 | GG16: 0 | GH16: 4.3 | GI16: 16.38 | GJ16: 0 | GK16: 0.495 | GL16: 0.51 | GM16: 36.78 | GN16: 14.32 | GO16: 1.36 | GP16: 67.62 | GQ16: 17.38 | GR16: 0.5 | GS16: 8.88 | GT16: 69.392 | GU16: 21.165 | GV16: 122.16 | GW16: 0.28 | GX16: 3.3 | GY16: 12.91 | GZ16: 30.208 | HA16: 0.043 | HB16: 5.95 | HC16: 86.261109 | HD16: 95.8 | HE16: 25.296 | HF16: 16.632 | HG16: 82.048 | HH16: 0 | HL16: 6.24 | HM16: 2.4975 | HN16: 0.81 | HO16: 0 | HP16: 382.8 | HQ16: 0 | HR16: 1.155 | HS16: 0.86 | HT16: 0.71 | HU16: 63.28 | HV16: 27.984 | HW16: 0 | HX16: 14.61 | HY16: 0 | HZ16: 0 | IA16: 9 | IB16: 0.45 | IC16: 0 | ID16: 4.82 | IE16: 6.78 | IF16: 0 | IG16: 24.26 | IH16: 3.024 | II16: 12.132 | IJ16: 3.35 | IK16: 34.724186 | IL16: 41.800282 | IM16: 54.016 | IN16: 0 | IO16: 4.537 | IP16: 39.69 | IQ16: 16.75 | IR16: 14.21 | IS16: 5.61 | IT16: 88.576 | IU16: 12 | IV16: 50.08 | IW16: 16.2 | IX16: 0 | IY16: 61.76 | IZ16: 54 | JA16: 19569.669 | JB16: 48 | JC16: 1.096 | JD16: 0 | JE16: 10 | JF16: 79 | JG16: 59 | JH16: 0 | JI16: 218 | JJ16: 47 | JK16: 15 | JL16: 5 | JM16: 3 | JN16: 14 | JO16: 0 | JP16: 16.2 | JQ16: 582 | JR16: 11.24 | JS16: 724 | JT16: 3.23 | JU16: 30.24 | JV16: 13.36 | JW16: 22.24 | JX16: =SUM(B16:JW16) -> 28860.058
A17: 7-8 | B17: 12.87 | C17: 27.12 | D17: 23.07 | E17: 17.37 | F17: 8.34 | G17: 19.05 | H17: 22.395 | I17: 25.035 | J17: 13.05 | K17: 11.52 | L17: 3.75 | M17: 46 | N17: 84.96 | O17: 39.12 | P17: 0 | Q17: 0.693 | R17: 10.56 | S17: 222.96 | T17: 0 | U17: 15.825 | V17: 8.12 | W17: 2.16 | X17: 12.96 | Y17: 0 | Z17: 10.22 | AA17: 448.64 | AB17: 9.15 | AC17: 5.064 | AD17: 20.58 | AE17: 0 | AF17: 0 | AG17: 52.22 | AH17: 92.34 | AI17: 35.67 | AJ17: 138.42 | AK17: 84.94 | AL17: 14.68 | AM17: 4.88 | AN17: 212.3 | AO17: 0 | AP17: 7.8 | AQ17: 1.041 | AR17: 8.2 | AS17: 0 | AT17: 23.184 | AU17: 0 | AV17: 5.5 | AW17: 5.22 | AX17: 0 | AY17: 0 | AZ17: 0 | BA17: 25.16 | BB17: 0 | BC17: 0 | BD17: 28.6 | BE17: 63.68 | BF17: 27.69 | BG17: 0 | BH17: 0 | BI17: 2.92 | BJ17: 38.472 | BK17: 86.568 | BL17: 71.448 | BM17: 55.512 | BN17: 0 | BO17: 0 | BP17: 1.7 | BQ17: 0 | BR17: 8.128 | BS17: 36.128 | BT17: 43.36 | BU17: 54.16 | BV17: 11.208 | BW17: 31.08 | BX17: 25.86 | BY17: 1.48 | BZ17: 206.4 | CA17: 0 | CB17: 151.4 | CC17: 139.296 | CD17: 38.376 | CE17: 71.448 | CF17: 22.248 | CG17: 78.912 | CH17: 12.496 | CI17: 8.656 | CJ17: 92.568 | CK17: 19.248 | CL17: 1.48 | CM17: 52.2 | CN17: 2.94 | CO17: 144.8 | CP17: 33.18 | CQ17: 0.04 | CR17: 0.88 | CS17: 68.08 | CT17: 112.6 | CU17: 0.38 | CV17: 0 | CW17: 0 | CX17: 15.24 | CY17: 15.904 | CZ17: 0.33 | DA17: 0.88 | DB17: 0 | DC17: 148.44 | DD17: 33.48 | DE17: 0 | DF17: 21.66 | DG17: 4.8 | DH17: 63.96 | DI17: 0 | DJ17: 7.68 | DK17: 23.784 | DL17: 10.5 | DM17: 103.68 | DN17: 3.12 | DO17: 8.325 | DP17: 13.71 | DQ17: 34.26 | DR17: 85.68 | DS17: 0.68 | DT17: 0.02 | DU17: 30.18 | DV17: 32.928 | DW17: 40.16 | DX17: 26.08 | DY17: 28.2 | DZ17: 2.88 | EA17: 0 | EB17: 21.4 | EC17: 31.08 | ED17: 0 | EE17: 29.688 | EF17: 0 | EG17: 0 | EH17: 0 | EI17: 4.005 | EJ17: 4.788 | EK17: 198.28 | EL17: 108.72 | EM17: 87.44 | EN17: 20.19 | EO17: 30.06 | EP17: 6.27 | EQ17: 2.95 | ER17: 3.33 | ES17: 134.16 | ET17: 65.2 | EU17: 5.48 | EV17: 29.1 | EW17: 54.84 | EX17: 116.34 | EY17: 0.3 | EZ17: 35.256 | FA17: 0 | FB17: 0 | FC17: 43.84 | FD17: 5.445 | FE17: 39.15 | FF17: 34.55 | FG17: 1.472 | FH17: 2.685 | FI17: 18.72 | FJ17: 43.32 | FK17: 44.56 | FL17: 58 | FM17: 0 | FN17: 1.665 | FO17: 1.28 | FP17: 17.616 | FQ17: 8.4 | FR17: 14.92 | FS17: 1.74 | FT17: 5.36 | FU17: 0 | FV17: 1.665 | FW17: 0.026 | FX17: 41.9748 | FY17: 23.07 | FZ17: 2.5137 | GA17: 8.7 | GB17: 37.3863 | GC17: 17.028 | GD17: 107.7 | GE17: 47.8 | GF17: 6.33 | GG17: 0 | GH17: 4.6 | GI17: 14.62 | GJ17: 0 | GK17: 0.36 | GL17: 0.48 | GM17: 41.4 | GN17: 16.08 | GO17: 1.82 | GP17: 66.9 | GQ17: 16.28 | GR17: 0.51 | GS17: 8.92 | GT17: 71.2 | GU17: 16.56 | GV17: 106.32 | GW17: 0.33 | GX17: 3.12 | GY17: 12.91 | GZ17: 28.912 | HA17: 0.043 | HB17: 8.3 | HC17: 76.975592 | HD17: 49.8 | HE17: 25.092 | HF17: 16.836 | HG17: 73.216 | HH17: 0.03 | HL17: 11.08 | HM17: 3.0675 | HN17: 0.83 | HO17: 0 | HP17: 402.8 | HQ17: 0 | HR17: 1.065 | HS17: 0.85 | HT17: 0.68 | HU17: 59.328 | HV17: 28.624 | HW17: 0 | HX17: 19.17 | HY17: 0 | HZ17: 0 | IA17: 8.5 | IB17: 1.62 | IC17: 0 | ID17: 4.86 | IE17: 9.55 | IF17: 0 | IG17: 30.58 | IH17: 3.72 | II17: 11.892 | IJ17: 5.01 | IK17: 39.301278 | IL17: 47.310094 | IM17: 61.136 | IN17: 0 | IO17: 4.537 | IP17: 39.12 | IQ17: 21.125 | IR17: 12.42 | IS17: 5.34 | IT17: 101.536 | IU17: 12.8 | IV17: 53.72 | IW17: 32.34 | IX17: 0 | IY17: 61.96 | IZ17: 65.84 | JA17: 21578.092 | JB17: 18 | JC17: 1.1184 | JD17: 0 | JE17: 15 | JF17: 91 | JG17: 69 | JH17: 0 | JI17: 231 | JJ17: 48 | JK17: 15 | JL17: 5 | JM17: 2 | JN17: 18 | JO17: 0 | JP17: 14.4 | JQ17: 659.5 | JR17: 11.4 | JS17: 822 | JT17: 3.52 | JU17: 35.04 | JV17: 15.84 | JW17: 24.16 | JX17: =SUM(B17:JW17) -> 31502.511
A18: 8-9 | B18: 16.59 | C18: 31.74 | D18: 24.24 | E18: 17.13 | F18: 3.66 | G18: 14.46 | H18: 23.4 | I18: 31.68 | J18: 13.725 | K18: 14.88 | L18: 3.75 | M18: 37.4 | N18: 92.8 | O18: 33.84 | P18: 0 | Q18: 0.44 | R18: 10.47 | S18: 252 | T18: 0 | U18: 15.93 | V18: 13.4 | W18: 2.56 | X18: 11.52 | Y18: 0.03 | Z18: 10.208 | AA18: 447.2 | AB18: 10.92 | AC18: 4.045 | AD18: 23.79 | AE18: 0 | AF18: 0 | AG18: 52.8 | AH18: 140.4 | AI18: 29.55 | AJ18: 128.04 | AK18: 87.14 | AL18: 14.4 | AM18: 4.048 | AN18: 235.7 | AO18: 0 | AP18: 10.44 | AQ18: 0.498 | AR18: 8.04 | AS18: 0 | AT18: 42.992 | AU18: 0 | AV18: 5.4 | AW18: 7.71 | AX18: 0 | AY18: 0 | AZ18: 0 | BA18: 25.08 | BB18: 0 | BC18: 0 | BD18: 17.7 | BE18: 54.6 | BF18: 3.99 | BG18: 0 | BH18: 0 | BI18: 3.32 | BJ18: 37.428 | BK18: 83.4 | BL18: 77.304 | BM18: 66.288 | BN18: 0 | BO18: 0 | BP18: 1.42 | BQ18: 0 | BR18: 9.272 | BS18: 40.256 | BT18: 48.416 | BU18: 58.16 | BV18: 12.696 | BW18: 30.6 | BX18: 25.38 | BY18: 1.56 | BZ18: 369 | CA18: 0 | CB18: 161.12 | CC18: 138.072 | CD18: 40.536 | CE18: 104.304 | CF18: 39.504 | CG18: 80.352 | CH18: 12.736 | CI18: 46.208 | CJ18: 93.528 | CK18: 18.36 | CL18: 1.22 | CM18: 52.8 | CN18: 5.16 | CO18: 161.24 | CP18: 36.12 | CQ18: 0.52 | CR18: 1 | CS18: 73.52 | CT18: 112.6 | CU18: 0.37 | CV18: 0 | CW18: 0 | CX18: 20.64 | CY18: 15.952 | CZ18: 0.13 | DA18: 1.2 | DB18: 0 | DC18: 155.64 | DD18: 33.78 | DE18: 0 | DF18: 29.4 | DG18: 4.8 | DH18: 60.96 | DI18: 0 | DJ18: 12.39 | DK18: 30.696 | DL18: 17.16 | DM18: 107.04 | DN18: 5.16 | DO18: 8.565 | DP18: 17.67 | DQ18: 34.332 | DR18: 75.57 | DS18: 0.65 | DT18: 0.02 | DU18: 25.8 | DV18: 41.544 | DW18: 38.16 | DX18: 27.58 | DY18: 40.368 | DZ18: 31.48 | EA18: 0 | EB18: 19.04 | EC18: 30.6 | ED18: 0 | EE18: 40.608 | EF18: 5.88 | EG18: 0.1 | EH18: 0 | EI18: 8.7 | EJ18: 5.052 | EK18: 183.36 | EL18: 106.36 | EM18: 88.24 | EN18: 20.505 | EO18: 29.68 | EP18: 5.55 | EQ18: 4.225 | ER18: 3.825 | ES18: 101.08 | ET18: 66.8 | EU18: 6.98 | EV18: 27.06 | EW18: 67.84 | EX18: 105.62 | EY18: 13.635 | EZ18: 35.064 | FA18: 0 | FB18: 0 | FC18: 48.08 | FD18: 5.055 | FE18: 43.1 | FF18: 31.7 | FG18: 1.464 | FH18: 2.79 | FI18: 19.32 | FJ18: 40.8 | FK18: 49.52 | FL18: 57.84 | FM18: 0 | FN18: 2.73 | FO18: 1.75 | FP18: 19.184 | FQ18: 15.424 | FR18: 19.48 | FS18: 3.9 | FT18: 5.44 | FU18: 0 | FV18: 1.23 | FW18: 0.026 | FX18: 41.064 | FY18: 18.18 | FZ18: 2.61765 | GA18: 8.95 | GB18: 38.93235 | GC18: 16.915 | GD18: 101.1 | GE18: 44 | GF18: 10.035 | GG18: 0 | GH18: 4 | GI18: 16.4 | GJ18: 0 | GK18: 0.465 | GL18: 0.345 | GM18: 46.32 | GN18: 11.2 | GO18: 1.25 | GP18: 74.76 | GQ18: 13.72 | GR18: 0.37 | GS18: 8.92 | GT18: 71.2 | GU18: 13.035 | GV18: 119.04 | GW18: 0.35 | GX18: 3.06 | GY18: 12.91 | GZ18: 28.16 | HA18: 0.043 | HB18: 5.2 | HC18: 76.050405 | HD18: 15.2 | HE18: 24.636 | HF18: 17.604 | HG18: 72.336 | HH18: 0.03 | HL18: 13.16 | HM18: 5.625 | HN18: 0.81 | HO18: 0 | HP18: 404.7 | HQ18: 0 | HR18: 1.125 | HS18: 0.85 | HT18: 0.72 | HU18: 58.448 | HV18: 32.672 | HW18: 0 | HX18: 22.71 | HY18: 0 | HZ18: 0 | IA18: 8.07 | IB18: 1.59 | IC18: 0 | ID18: 6.96 | IE18: 14.98 | IF18: 0 | IG18: 38.21 | IH18: 3.312 | II18: 12.156 | IJ18: 5.07 | IK18: 34.724186 | IL18: 41.800282 | IM18: 54.016 | IN18: 0 | IO18: 4.537 | IP18: 33.84 | IQ18: 19.375 | IR18: 15.13 | IS18: 8.52 | IT18: 93.472 | IU18: 12.6 | IV18: 57.32 | IW18: 27.06 | IX18: 0 | IY18: 60.6 | IZ18: 92.56 | JA18: 23927.687 | JB18: 16 | JC18: 1.1136 | JD18: 0 | JE18: 45 | JF18: 106 | JG18: 77 | JH18: 0 | JI18: 217 | JJ18: 44 | JK18: 16 | JL18: 6 | JM18: 4 | JN18: 15 | JO18: 0 | JP18: 14.4 | JQ18: 822.5 | JR18: 11.3 | JS18: 954 | JT18: 3.15 | JU18: 40.8 | JV18: 20.96 | JW18: 20.72 | JX18: =SUM(B18:JW18) -> 34723.182
A19: 9-10 | B19: 16.83 | C19: 27.69 | D19: 24.36 | E19: 18.195 | F19: 2.94 | G19: 9.93 | H19: 29.85 | I19: 33.255 | J19: 15.48 | K19: 16.8 | L19: 3.72 | M19: 33.2 | N19: 73.96 | O19: 40.53 | P19: 0 | Q19: 0.641 | R19: 10.53 | S19: 230.82 | T19: 0 | U19: 16.98 | V19: 14.72 | W19: 3.52 | X19: 6.72 | Y19: 0 | Z19: 10.218 | AA19: 446.56 | AB19: 14.49 | AC19: 5.034 | AD19: 29.85 | AE19: 0 | AF19: 0 | AG19: 52.84 | AH19: 92.58 | AI19: 27.81 | AJ19: 123.66 | AK19: 77.66 | AL19: 13.12 | AM19: 2.832 | AN19: 244.9 | AO19: 0 | AP19: 12.15 | AQ19: 0.224 | AR19: 8 | AS19: 1.44 | AT19: 41.808 | AU19: 0 | AV19: 5.5 | AW19: 8.25 | AX19: 0.63 | AY19: 0 | AZ19: 31.28 | BA19: 24.12 | BB19: 0.04 | BC19: 0 | BD19: 14.4 | BE19: 74.4 | BF19: 3.45 | BG19: 0 | BH19: 0 | BI19: 2.92 | BJ19: 39.072 | BK19: 86.256 | BL19: 73.248 | BM19: 68.64 | BN19: 0 | BO19: 0 | BP19: 1.35 | BQ19: 0 | BR19: 9.44 | BS19: 38.192 | BT19: 38.816 | BU19: 61.08 | BV19: 15.408 | BW19: 31.2 | BX19: 25.86 | BY19: 1.52 | BZ19: 362.7 | CA19: 0 | CB19: 157.16 | CC19: 140.712 | CD19: 52.296 | CE19: 146.208 | CF19: 43.68 | CG19: 84.816 | CH19: 13.568 | CI19: 52.704 | CJ19: 91.872 | CK19: 19.944 | CL19: 1.22 | CM19: 49.464 | CN19: 3.84 | CO19: 159.48 | CP19: 40.02 | CQ19: 0.68 | CR19: 0.88 | CS19: 73.52 | CT19: 112.6 | CU19: 0.355 | CV19: 0 | CW19: 0 | CX19: 26.1 | CY19: 16.92 | CZ19: 0.21 | DA19: 1.28 | DB19: 0 | DC19: 152.4 | DD19: 33.63 | DE19: 0 | DF19: 35.94 | DG19: 4.8 | DH19: 83.28 | DI19: 0 | DJ19: 18.99 | DK19: 22.224 | DL19: 19.59 | DM19: 107.88 | DN19: 5.37 | DO19: 8.49 | DP19: 16.02 | DQ19: 37.776 | DR19: 65.94 | DS19: 1.08 | DT19: 0.02 | DU19: 27.48 | DV19: 43.344 | DW19: 41.44 | DX19: 26.5 | DY19: 38.76 | DZ19: 44.44 | EA19: 0 | EB19: 16.5 | EC19: 31.2 | ED19: 0 | EE19: 37.8 | EF19: 7.8 | EG19: 0 | EH19: 0 | EI19: 8.34 | EJ19: 5.052 | EK19: 202.88 | EL19: 104.76 | EM19: 78.72 | EN19: 22.455 | EO19: 30.6 | EP19: 5.13 | EQ19: 4.55 | ER19: 3.63 | ES19: 89.08 | ET19: 72 | EU19: 7.04 | EV19: 23.22 | EW19: 67.72 | EX19: 109.52 | EY19: 11.94 | EZ19: 35.628 | FA19: 0 | FB19: 0 | FC19: 53.48 | FD19: 6.39 | FE19: 45.65 | FF19: 30.4 | FG19: 1.467 | FH19: 1.695 | FI19: 21.96 | FJ19: 40.32 | FK19: 52.08 | FL19: 53.6 | FM19: 0 | FN19: 2.16 | FO19: 1.43 | FP19: 19.664 | FQ19: 18.848 | FR19: 20.4 | FS19: 6.6 | FT19: 4.6 | FU19: 0 | FV19: 3.87 | FW19: 0.024 | FX19: 44.2736 | FY19: 20.67 | FZ19: 2.3436 | GA19: 9.2 | GB19: 34.8564 | GC19: 1.642 | GD19: 80.1 | GE19: 50.4 | GF19: 12.12 | GG19: 0 | GH19: 3.7 | GI19: 14.9 | GJ19: 0 | GK19: 0.63 | GL19: 0.225 | GM19: 21.06 | GN19: 12.64 | GO19: 0.27 | GP19: 58.14 | GQ19: 16.65 | GR19: 0.03 | GS19: 9.2 | GT19: 63.072 | GU19: 12.3 | GV19: 118.74 | GW19: 1.77 | GX19: 3.06 | GY19: 12.91 | GZ19: 30.608 | HA19: 0.043 | HB19: 5.85 | HC19: 78.54 | HD19: 93.6 | HE19: 25.14 | HF19: 12.69 | HG19: 74.704 | HH19: 0.06 | HL19: 14.08 | HM19: 7.5225 | HN19: 0.82 | HO19: 0 | HP19: 343.3 | HQ19: 0 | HR19: 1.5 | HS19: 0.92 | HT19: 0.69 | HU19: 50.048 | HV19: 37.584 | HW19: 0 | HX19: 31.53 | HY19: 0 | HZ19: 0 | IA19: 7.28 | IB19: 1.32 | IC19: 0 | ID19: 19.36 | IE19: 16.05 | IF19: 0 | IG19: 45.12 | IH19: 2.748 | II19: 12.192 | IJ19: 6.62 | IK19: 29.766526 | IL19: 35.83235 | IM19: 46.304 | IN19: 0 | IO19: 4.537 | IP19: 40.53 | IQ19: 16.65 | IR19: 19.02 | IS19: 14.61 | IT19: 93.248 | IU19: 12 | IV19: 53.76 | IW19: 28.14 | IX19: 0 | IY19: 59.24 | IZ19: 107.76 | JA19: 24421.441 | JB19: 16 | JC19: 1.0704 | JD19: 0 | JE19: 52 | JF19: 132 | JG19: 87 | JH19: 0 | JI19: 208 | JJ19: 44 | JK19: 15 | JL19: 6 | JM19: 4 | JN19: 11 | JO19: 0 | JP19: 9 | JQ19: 898 | JR19: 11.52 | JS19: 906 | JT19: 3.15 | JU19: 38.4 | JV19: 24.2 | JW19: 24.8 | JX19: =SUM(B19:JW19) -> 35253.547
A20: 10-11 | B20: 15.99 | C20: 28.41 | D20: 28.95 | E20: 13.545 | F20: 3.06 | G20: 10.92 | H20: 28.845 | I20: 32.625 | J20: 14.19 | K20: 19.2 | L20: 3.72 | M20: 34.88 | N20: 72.8 | O20: 31.71 | P20: 0 | Q20: 1.0365 | R20: 10.56 | S20: 194.94 | T20: 0 | U20: 16.425 | V20: 15.04 | W20: 2.88 | X20: 4.8 | Y20: 0 | Z20: 10.218 | AA20: 445.44 | AB20: 12.51 | AC20: 3.997 | AD20: 25.62 | AE20: 0 | AF20: 0 | AG20: 55.06 | AH20: 70.98 | AI20: 26.52 | AJ20: 123.27 | AK20: 76.72 | AL20: 11.2 | AM20: 3.12 | AN20: 233.1 | AO20: 0 | AP20: 13.59 | AQ20: 0.748 | AR20: 8.08 | AS20: 1.36 | AT20: 45.504 | AU20: 0 | AV20: 6 | AW20: 8.61 | AX20: 0.84 | AY20: 0 | AZ20: 47.64 | BA20: 20.48 | BB20: 7.92 | BC20: 0 | BD20: 25.3 | BE20: 93.36 | BF20: 10.65 | BG20: 0 | BH20: 0 | BI20: 3.16 | BJ20: 34.812 | BK20: 83.4 | BL20: 74.352 | BM20: 68.424 | BN20: 0 | BO20: 0 | BP20: 1.95 | BQ20: 0 | BR20: 8.368 | BS20: 39.568 | BT20: 40.352 | BU20: 51.56 | BV20: 21.192 | BW20: 27.24 | BX20: 33 | BY20: 1.52 | BZ20: 356.1 | CA20: 0 | CB20: 158.28 | CC20: 140.64 | CD20: 50.76 | CE20: 130.248 | CF20: 45.648 | CG20: 81.6 | CH20: 12.736 | CI20: 41.456 | CJ20: 81.528 | CK20: 18.864 | CL20: 0.56 | CM20: 48.816 | CN20: 3.78 | CO20: 150.76 | CP20: 38.22 | CQ20: 0.52 | CR20: 1 | CS20: 73.52 | CT20: 112.6 | CU20: 0.385 | CV20: 0 | CW20: 0 | CX20: 27.24 | CY20: 16.792 | CZ20: 0.62 | DA20: 1.72 | DB20: 0 | DC20: 142.2 | DD20: 33.63 | DE20: 0 | DF20: 34.62 | DG20: 4.8 | DH20: 102.96 | DI20: 0 | DJ20: 14.04 | DK20: 23.208 | DL20: 17.61 | DM20: 119.4 | DN20: 4.26 | DO20: 9.045 | DP20: 16.53 | DQ20: 34.356 | DR20: 58.38 | DS20: 0.77 | DT20: 0.02 | DU20: 26.58 | DV20: 39.864 | DW20: 35.6 | DX20: 17.72 | DY20: 31.968 | DZ20: 32.54 | EA20: 0 | EB20: 14.3 | EC20: 27.24 | ED20: 0 | EE20: 84.264 | EF20: 8.4 | EG20: 0 | EH20: 0 | EI20: 8.04 | EJ20: 4.44 | EK20: 180.88 | EL20: 101.8 | EM20: 79.2 | EN20: 19.845 | EO20: 31.12 | EP20: 5.13 | EQ20: 5.275 | ER20: 4.035 | ES20: 95.36 | ET20: 80.88 | EU20: 5.56 | EV20: 27 | EW20: 63.52 | EX20: 108.98 | EY20: 13.65 | EZ20: 41.208 | FA20: 0 | FB20: 0 | FC20: 43.32 | FD20: 5.925 | FE20: 38.25 | FF20: 29.65 | FG20: 1.477 | FH20: 1.11 | FI20: 15.72 | FJ20: 41.64 | FK20: 45.28 | FL20: 55.76 | FM20: 0 | FN20: 2.085 | FO20: 1.43 | FP20: 10.112 | FQ20: 17.408 | FR20: 21.04 | FS20: 6.9 | FT20: 6.88 | FU20: 0 | FV20: 3.75 | FW20: 0.018 | FX20: 43.092 | FY20: 20.16 | FZ20: 2.3436 | GA20: 10 | GB20: 34.8564 | GC20: 0.03 | GD20: 53.3 | GE20: 45.8 | GF20: 12.81 | GG20: 0 | GH20: 3.9 | GI20: 17.9 | GJ20: 0.03 | GK20: 0.69 | GL20: 0.285 | GM20: 21.06 | GN20: 12.28 | GO20: 0.57 | GP20: 58.92 | GQ20: 14.04 | GR20: 0.05 | GS20: 15.2 | GT20: 69.344 | GU20: 16.605 | GV20: 110.34 | GW20: 7.82 | GX20: 3.9 | GY20: 12.91 | GZ20: 27.76 | HA20: 0.0425 | HB20: 3.99 | HC20: 67.521859 | HD20: 83.7 | HE20: 24.24 | HF20: 11.79 | HG20: 64.224 | HH20: 0 | HL20: 15.32 | HM20: 6.8475 | HN20: 1.07 | HO20: 0 | HP20: 296.7 | HQ20: 0 | HR20: 2.79 | HS20: 1.53 | HT20: 0.725 | HU20: 50.048 | HV20: 37.584 | HW20: 0 | HX20: 37.71 | HY20: 0 | HZ20: 0 | IA20: 8.29 | IB20: 0.87 | IC20: 0 | ID20: 16.5 | IE20: 9.37 | IF20: 0 | IG20: 48.62 | IH20: 3.264 | II20: 12.408 | IJ20: 7.03 | IK20: 27.843119 | IL20: 33.516991 | IM20: 43.312 | IN20: 0 | IO20: 4.537 | IP20: 31.71 | IQ20: 15.2 | IR20: 18.43 | IS20: 6.21 | IT20: 86.784 | IU20: 12.2 | IV20: 47.84 | IW20: 25.86 | IX20: 0 | IY20: 58.16 | IZ20: 99.2 | JA20: 23756.84 | JB20: 16 | JC20: 1.0696 | JD20: 0 | JE20: 51 | JF20: 134 | JG20: 90 | JH20: 0 | JI20: 222 | JJ20: 43 | JK20: 17 | JL20: 6 | JM20: 4 | JN20: 12 | JO20: 0 | JP20: 7.2 | JQ20: 899.5 | JR20: 10.32 | JS20: 905 | JT20: 3.52 | JU20: 36.48 | JV20: 25.52 | JW20: 29.04 | JX20: =SUM(B20:JW20) -> 34422.111
A21: 11-12 | B21: 15.03 | C21: 31.68 | D21: 27.39 | E21: 16.305 | F21: 5.52 | G21: 16.08 | H21: 27.105 | I21: 33.405 | J21: 11.775 | K21: 20.24 | L21: 3.72 | M21: 34.44 | N21: 78.84 | O21: 30.96 | P21: 0 | Q21: 1.258 | R21: 10.62 | S21: 123.6 | T21: 0 | U21: 16.995 | V21: 14.76 | W21: 4.32 | X21: 10.08 | Y21: 0 | Z21: 10.222 | AA21: 444.64 | AB21: 13.02 | AC21: 4.19 | AD21: 23.97 | AE21: 0 | AF21: 0 | AG21: 54.2 | AH21: 61.86 | AI21: 24.81 | AJ21: 121.17 | AK21: 76.56 | AL21: 10.32 | AM21: 5.232 | AN21: 232 | AO21: 0 | AP21: 14.19 | AQ21: 0.477 | AR21: 7.96 | AS21: 0.72 | AT21: 30.768 | AU21: 0 | AV21: 3 | AW21: 5.07 | AX21: 0.51 | AY21: 0 | AZ21: 54.32 | BA21: 24.16 | BB21: 18.72 | BC21: 0 | BD21: 14.6 | BE21: 71.4 | BF21: 32.01 | BG21: 0 | BH21: 0 | BI21: 3.2 | BJ21: 36.564 | BK21: 81.456 | BL21: 72.432 | BM21: 68.568 | BN21: 0 | BO21: 0 | BP21: 2.16 | BQ21: 0 | BR21: 6.64 | BS21: 26.848 | BT21: 38.992 | BU21: 50.88 | BV21: 19.44 | BW21: 29.76 | BX21: 31.56 | BY21: 1.52 | BZ21: 329.7 | CA21: 0 | CB21: 149.16 | CC21: 138.72 | CD21: 52.032 | CE21: 118.32 | CF21: 44.136 | CG21: 69.816 | CH21: 12.672 | CI21: 43.84 | CJ21: 73.56 | CK21: 20.424 | CL21: 2.36 | CM21: 48.624 | CN21: 4.14 | CO21: 154.6 | CP21: 39.96 | CQ21: 0.52 | CR21: 0.88 | CS21: 80.16 | CT21: 112.6 | CU21: 0.35 | CV21: 0 | CW21: 0 | CX21: 22.38 | CY21: 19.112 | CZ21: 0.45 | DA21: 1.44 | DB21: 0 | DC21: 135.96 | DD21: 33.66 | DE21: 0 | DF21: 32.67 | DG21: 4.8 | DH21: 108.48 | DI21: 0 | DJ21: 12.27 | DK21: 24.936 | DL21: 18.78 | DM21: 107.88 | DN21: 6.33 | DO21: 8.58 | DP21: 16.08 | DQ21: 35.34 | DR21: 58.8 | DS21: 0.68 | DT21: 0.02 | DU21: 22.2 | DV21: 34.92 | DW21: 38.08 | DX21: 20.8 | DY21: 30.024 | DZ21: 28.7 | EA21: 0 | EB21: 14.86 | EC21: 29.76 | ED21: 0 | EE21: 79.896 | EF21: 7.86 | EG21: 0.2 | EH21: 0 | EI21: 8.01 | EJ21: 4.524 | EK21: 197.76 | EL21: 103.32 | EM21: 92.24 | EN21: 23.1 | EO21: 29.82 | EP21: 5.1 | EQ21: 6.325 | ER21: 3.645 | ES21: 101.28 | ET21: 87.76 | EU21: 5.52 | EV21: 21.66 | EW21: 61.44 | EX21: 105.98 | EY21: 12.525 | EZ21: 34.668 | FA21: 0 | FB21: 0 | FC21: 33.04 | FD21: 5.82 | FE21: 38.45 | FF21: 30.55 | FG21: 1.488 | FH21: 0.96 | FI21: 12.24 | FJ21: 42.72 | FK21: 39.12 | FL21: 58.88 | FM21: 0 | FN21: 1.215 | FO21: 0.85 | FP21: 9.392 | FQ21: 14.864 | FR21: 17.84 | FS21: 6.9 | FT21: 8.08 | FU21: 0 | FV21: 3.195 | FW21: 0.016 | FX21: 44.8594 | FY21: 23.13 | FZ21: 2.4192 | GA21: 10.24 | GB21: 35.9808 | GC21: 0.03 | GD21: 44.5 | GE21: 44.2 | GF21: 9.96 | GG21: 0 | GH21: 4.1 | GI21: 14.76 | GJ21: 0.03 | GK21: 0.765 | GL21: 0.375 | GM21: 21.06 | GN21: 13.32 | GO21: 0.64 | GP21: 46.2 | GQ21: 12.21 | GR21: 0.03 | GS21: 13.28 | GT21: 58.08 | GU21: 13.665 | GV21: 80.7 | GW21: 7.51 | GX21: 4.32 | GY21: 11.35 | GZ21: 27.76 | HA21: 0.0425 | HB21: 3.98 | HC21: 69.893703 | HD21: 86 | HE21: 26.316 | HF21: 11.208 | HG21: 66.48 | HH21: 0.03 | HL21: 13 | HM21: 7.1925 | HN21: 1.39 | HO21: 0 | HP21: 278.8 | HQ21: 0 | HR21: 1.215 | HS21: 1.47 | HT21: 0.685 | HU21: 50.048 | HV21: 37.584 | HW21: 0 | HX21: 37.41 | HY21: 0 | HZ21: 0 | IA21: 8.84 | IB21: 1.68 | IC21: 0 | ID21: 15.2 | IE21: 14.01 | IF21: 0 | IG21: 50.83 | IH21: 3.312 | II21: 11.748 | IJ21: 5.9 | IK21: 17.773517 | IL21: 21.395405 | IM21: 27.648 | IN21: 0 | IO21: 4.537 | IP21: 30.96 | IQ21: 18.125 | IR21: 11.93 | IS21: 5.7 | IT21: 89.472 | IU21: 19.8 | IV21: 49.72 | IW21: 21 | IX21: 0 | IY21: 62.08 | IZ21: 92.96 | JA21: 22936.214 | JB21: 14 | JC21: 1.0648 | JD21: 0 | JE21: 52 | JF21: 149 | JG21: 85 | JH21: 0 | JI21: 218 | JJ21: 43 | JK21: 16 | JL21: 6 | JM21: 5 | JN21: 10 | JO21: 0 | JP21: 14.4 | JQ21: 901.5 | JR21: 10.94 | JS21: 886 | JT21: 3.15 | JU21: 36 | JV21: 24.16 | JW21: 33.84 | JX21: =SUM(B21:JW21) -> 33294.17
A22: 12-13 | B22: 15 | C22: 29.58 | D22: 26.46 | E22: 14.925 | F22: 8.28 | G22: 14.79 | H22: 22.455 | I22: 32.835 | J22: 12.27 | K22: 20.4 | L22: 3.72 | M22: 33.76 | N22: 78.72 | O22: 30.09 | P22: 0 | Q22: 0.837 | R22: 10.59 | S22: 169.56 | T22: 0 | U22: 15.18 | V22: 6.48 | W22: 4.44 | X22: 10.08 | Y22: 0 | Z22: 10.206 | AA22: 443.84 | AB22: 15.48 | AC22: 4.094 | AD22: 25.68 | AE22: 0 | AF22: 0 | AG22: 52.06 | AH22: 46.74 | AI22: 20.58 | AJ22: 127.92 | AK22: 79.18 | AL22: 10.84 | AM22: 4.192 | AN22: 219.5 | AO22: 0 | AP22: 12.84 | AQ22: 0.564 | AR22: 8.32 | AS22: 2.16 | AT22: 55.712 | AU22: 0 | AV22: 0.1 | AW22: 4.8 | AX22: 0.33 | AY22: 0 | AZ22: 27.08 | BA22: 23.88 | BB22: 12.44 | BC22: 0 | BD22: 14.2 | BE22: 61.24 | BF22: 6.51 | BG22: 0 | BH22: 0 | BI22: 3.92 | BJ22: 35.112 | BK22: 80.304 | BL22: 68.424 | BM22: 68.832 | BN22: 0 | BO22: 0 | BP22: 1.33 | BQ22: 0 | BR22: 12.976 | BS22: 26.736 | BT22: 36.896 | BU22: 59.76 | BV22: 17.448 | BW22: 28.56 | BX22: 25.74 | BY22: 1.56 | BZ22: 269.1 | CA22: 0 | CB22: 144.6 | CC22: 139.248 | CD22: 58.176 | CE22: 155.16 | CF22: 44.616 | CG22: 74.136 | CH22: 13.824 | CI22: 40.208 | CJ22: 82.392 | CK22: 20.544 | CL22: 1.98 | CM22: 47.736 | CN22: 7.86 | CO22: 139.8 | CP22: 41.22 | CQ22: 0.52 | CR22: 1 | CS22: 77.32 | CT22: 112.6 | CU22: 0.616 | CV22: 0 | CW22: 0 | CX22: 21.66 | CY22: 17.304 | CZ22: 0.74 | DA22: 1.32 | DB22: 0 | DC22: 139.32 | DD22: 33.57 | DE22: 0 | DF22: 33.39 | DG22: 8.2 | DH22: 82.68 | DI22: 0 | DJ22: 16.11 | DK22: 20.064 | DL22: 12.57 | DM22: 116.76 | DN22: 5.28 | DO22: 9.435 | DP22: 17.28 | DQ22: 30.456 | DR22: 52.92 | DS22: 0.83 | DT22: 0.02 | DU22: 32.04 | DV22: 34.656 | DW22: 35.2 | DX22: 20.72 | DY22: 29.04 | DZ22: 2.7 | EA22: 0 | EB22: 13.68 | EC22: 28.56 | ED22: 0 | EE22: 66.36 | EF22: 7.92 | EG22: 0 | EH22: 0 | EI22: 8.235 | EJ22: 4.536 | EK22: 189.2 | EL22: 100.96 | EM22: 91.12 | EN22: 22.05 | EO22: 29.94 | EP22: 5.13 | EQ22: 6.3 | ER22: 3.21 | ES22: 105.88 | ET22: 84.72 | EU22: 5.7 | EV22: 22.68 | EW22: 66.2 | EX22: 100.7 | EY22: 8.055 | EZ22: 33.396 | FA22: 0 | FB22: 0 | FC22: 29.2 | FD22: 6.165 | FE22: 38.1 | FF22: 32.4 | FG22: 1.486 | FH22: 0.75 | FI22: 12.48 | FJ22: 42 | FK22: 40.96 | FL22: 58.56 | FM22: 0 | FN22: 1.83 | FO22: 1 | FP22: 8.608 | FQ22: 14.272 | FR22: 17.08 | FS22: 3.24 | FT22: 7.76 | FU22: 0 | FV22: 3.21 | FW22: 0.018 | FX22: 47.2688 | FY22: 24.36 | FZ22: 2.5515 | GA22: 10.08 | GB22: 37.9485 | GC22: 0.031 | GD22: 85.9 | GE22: 43.8 | GF22: 10.725 | GG22: 0 | GH22: 4.6 | GI22: 15.04 | GJ22: 0.06 | GK22: 0.51 | GL22: 0.375 | GM22: 21.06 | GN22: 11.2 | GO22: 0.71 | GP22: 54.6 | GQ22: 10.25 | GR22: 0.04 | GS22: 12.52 | GT22: 64.48 | GU22: 14.295 | GV22: 74.58 | GW22: 7.62 | GX22: 4.44 | GY22: 14.59 | GZ22: 28.672 | HA22: 0.043 | HB22: 3.58 | HC22: 76.555052 | HD22: 83.3 | HE22: 28.128 | HF22: 10.386 | HG22: 72.816 | HH22: 0 | HL22: 13.48 | HM22: 5.9325 | HN22: 1.53 | HO22: 0 | HP22: 272.3 | HQ22: 0 | HR22: 0.27 | HS22: 1.61 | HT22: 0.705 | HU22: 50.048 | HV22: 37.584 | HW22: 0 | HX22: 37.5 | HY22: 0 | HZ22: 0 | IA22: 7.41 | IB22: 1.59 | IC22: 0 | ID22: 26.08 | IE22: 13.39 | IF22: 0 | IG22: 46.99 | IH22: 2.1 | II22: 11.7 | IJ22: 4.6 | IK22: 14.677551 | IL22: 17.668543 | IM22: 22.832 | IN22: 0 | IO22: 4.336 | IP22: 30.09 | IQ22: 18.15 | IR22: 7.18 | IS22: 4.89 | IT22: 87.36 | IU22: 23.6 | IV22: 54.52 | IW22: 21.6 | IX22: 0 | IY22: 62.48 | IZ22: 84.32 | JA22: 22700.145 | JB22: 14 | JC22: 1.0664 | JD22: 0 | JE22: 46 | JF22: 140 | JG22: 88 | JH22: 0 | JI22: 203 | JJ22: 41 | JK22: 15 | JL22: 5 | JM22: 3 | JN22: 12 | JO22: 0 | JP22: 25.2 | JQ22: 878.5 | JR22: 10.86 | JS22: 885 | JT22: 3.23 | JU22: 38.4 | JV22: 25.48 | JW22: 21.92 | JX22: =SUM(B22:JW22) -> 32869.55
A23: 13-14 | B23: 15.75 | C23: 30.21 | D23: 17.58 | E23: 17.085 | F23: 3.96 | G23: 12.12 | H23: 23.115 | I23: 33.93 | J23: 13.32 | K23: 23.64 | L23: 3.72 | M23: 34.28 | N23: 85.16 | O23: 30 | P23: 0 | Q23: 1.1685 | R23: 10.41 | S23: 250.08 | T23: 0 | U23: 16.065 | V23: 13.88 | W23: 3.04 | X23: 9.12 | Y23: 0.03 | Z23: 10.22 | AA23: 444.48 | AB23: 14.67 | AC23: 4.651 | AD23: 24.96 | AE23: 0 | AF23: 0 | AG23: 56.06 | AH23: 44.94 | AI23: 11.31 | AJ23: 122.64 | AK23: 79.68 | AL23: 9.68 | AM23: 2.544 | AN23: 213.5 | AO23: 0 | AP23: 9.27 | AQ23: 0.294 | AR23: 8.08 | AS23: 2.16 | AT23: 33.744 | AU23: 0 | AV23: 2 | AW23: 4.11 | AX23: 0.42 | AY23: 0 | AZ23: 3.24 | BA23: 110.16 | BB23: 13.12 | BC23: 0 | BD23: 25.4 | BE23: 87.28 | BF23: 5.04 | BG23: 0 | BH23: 0 | BI23: 3.08 | BJ23: 35.664 | BK23: 84.816 | BL23: 63.216 | BM23: 65.952 | BN23: 0 | BO23: 0 | BP23: 1.33 | BQ23: 0 | BR23: 14.76 | BS23: 27.808 | BT23: 32.368 | BU23: 62.76 | BV23: 20.136 | BW23: 25.8 | BX23: 24.48 | BY23: 3.08 | BZ23: 335.1 | CA23: 0 | CB23: 147.88 | CC23: 138.072 | CD23: 55.296 | CE23: 117.288 | CF23: 44.856 | CG23: 64.968 | CH23: 13.68 | CI23: 20.4 | CJ23: 74.784 | CK23: 19.296 | CL23: 1.44 | CM23: 51.432 | CN23: 3.96 | CO23: 134.4 | CP23: 42.3 | CQ23: 0.2 | CR23: 0.88 | CS23: 77.32 | CT23: 112.6 | CU23: 7.075 | CV23: 0 | CW23: 0 | CX23: 27 | CY23: 17.368 | CZ23: 2.11 | DA23: 1.48 | DB23: 0 | DC23: 150.6 | DD23: 33.51 | DE23: 0 | DF23: 42.66 | DG23: 6.4 | DH23: 57 | DI23: 0 | DJ23: 17.16 | DK23: 20.136 | DL23: 19.95 | DM23: 102.84 | DN23: 6.48 | DO23: 9.885 | DP23: 15.51 | DQ23: 33.672 | DR23: 49.23 | DS23: 0.84 | DT23: 0.02 | DU23: 31.86 | DV23: 29.64 | DW23: 31.92 | DX23: 20.64 | DY23: 26.256 | DZ23: 37.9 | EA23: 0 | EB23: 14.82 | EC23: 25.8 | ED23: 0 | EE23: 57.552 | EF23: 8.1 | EG23: 0 | EH23: 0 | EI23: 8.22 | EJ23: 4.728 | EK23: 190.12 | EL23: 99.2 | EM23: 91.4 | EN23: 21.45 | EO23: 33.08 | EP23: 5.43 | EQ23: 7.425 | ER23: 3.81 | ES23: 116.6 | ET23: 80.72 | EU23: 5.85 | EV23: 25.92 | EW23: 64.32 | EX23: 96.06 | EY23: 0.48 | EZ23: 36.48 | FA23: 0 | FB23: 0 | FC23: 30.36 | FD23: 3.84 | FE23: 37.5 | FF23: 31.55 | FG23: 1.48 | FH23: 0.36 | FI23: 11.16 | FJ23: 41.88 | FK23: 42 | FL23: 49.92 | FM23: 0 | FN23: 2.91 | FO23: 1.47 | FP23: 8.976 | FQ23: 9.424 | FR23: 13.16 | FS23: 4.56 | FT23: 5.92 | FU23: 0 | FV23: 3.045 | FW23: 0.018 | FX23: 48.7998 | FY23: 21.45 | FZ23: 2.65545 | GA23: 11.46 | GB23: 39.49455 | GC23: 0.03 | GD23: 107.1 | GE23: 39.7 | GF23: 12.54 | GG23: 0 | GH23: 4.8 | GI23: 12.92 | GJ23: 0 | GK23: 0.36 | GL23: 0.24 | GM23: 27.42 | GN23: 9.76 | GO23: 0.75 | GP23: 50.76 | GQ23: 10.23 | GR23: 0.03 | GS23: 12.8 | GT23: 64.16 | GU23: 19.32 | GV23: 79.5 | GW23: 7.98 | GX23: 4.5 | GY23: 15.07 | GZ23: 30.208 | HA23: 0.042 | HB23: 8.38 | HC23: 75.074753 | HD23: 130.2 | HE23: 24.744 | HF23: 8.466 | HG23: 71.408 | HH23: 0.03 | HL23: 13.88 | HM23: 7.38 | HN23: 1.05 | HO23: 0 | HP23: 247.4 | HQ23: 0 | HR23: 1.665 | HS23: 1.39 | HT23: 0.7 | HU23: 41.76 | HV23: 42.128 | HW23: 0 | HX23: 32.49 | HY23: 0 | HZ23: 0 | IA23: 8.66 | IB23: 1.5 | IC23: 0 | ID23: 7.06 | IE23: 15.35 | IF23: 0 | IG23: 54.33 | IH23: 2.508 | II23: 12.048 | IJ23: 7.26 | IK23: 27.596265 | IL23: 33.219833 | IM23: 42.928 | IN23: 0 | IO23: 3.284 | IP23: 30 | IQ23: 17.45 | IR23: 9.64 | IS23: 4.98 | IT23: 93.12 | IU23: 23.2 | IV23: 54.24 | IW23: 21.54 | IX23: 0 | IY23: 59.6 | IZ23: 74.32 | JA23: 23529.449 | JB23: 18 | JC23: 1.0528 | JD23: 0 | JE23: 45 | JF23: 119 | JG23: 84 | JH23: 0 | JI23: 197 | JJ23: 46 | JK23: 15 | JL23: 5 | JM23: 5 | JN23: 10 | JO23: 0 | JP23: 21.6 | JQ23: 912.5 | JR23: 12.8 | JS23: 885 | JT23: 3.45 | JU23: 36 | JV23: 30.28 | JW23: 26.74 | JX23: =SUM(B23:JW23) -> 33858.89
A24: 14-15 | B24: 15 | C24: 26.43 | D24: 19.56 | E24: 21.495 | F24: 3.42 | G24: 16.56 | H24: 23.715 | I24: 34.17 | J24: 11.145 | K24: 20.2 | L24: 3.78 | M24: 35.24 | N24: 77.52 | O24: 28.53 | P24: 0 | Q24: 1.042 | R24: 10.56 | S24: 209.34 | T24: 0 | U24: 17.79 | V24: 13.44 | W24: 4.28 | X24: 7.2 | Y24: 0 | Z24: 10.206 | AA24: 443.84 | AB24: 16.23 | AC24: 3.896 | AD24: 25.14 | AE24: 0 | AF24: 0 | AG24: 49.02 | AH24: 88.14 | AI24: 5.85 | AJ24: 127.35 | AK24: 77.46 | AL24: 10.04 | AM24: 2.8 | AN24: 231 | AO24: 0 | AP24: 10.71 | AQ24: 1.274 | AR24: 8.04 | AS24: 1.72 | AT24: 30.016 | AU24: 0 | AV24: 2.1 | AW24: 2.97 | AX24: 0.39 | AY24: 0 | AZ24: 34.92 | BA24: 104.84 | BB24: 1.76 | BC24: 0 | BD24: 13.9 | BE24: 81.88 | BF24: 10.2 | BG24: 0 | BH24: 0 | BI24: 3.08 | BJ24: 37.704 | BK24: 87.216 | BL24: 59.496 | BM24: 67.848 | BN24: 0 | BO24: 0 | BP24: 1.48 | BQ24: 0 | BR24: 11.728 | BS24: 27.088 | BT24: 26.496 | BU24: 61.12 | BV24: 26.592 | BW24: 25.56 | BX24: 23.64 | BY24: 3 | BZ24: 331.8 | CA24: 0 | CB24: 152.08 | CC24: 140.568 | CD24: 63.552 | CE24: 126.696 | CF24: 43.08 | CG24: 58.728 | CH24: 14.272 | CI24: 17.168 | CJ24: 73.776 | CK24: 20.112 | CL24: 1.7 | CM24: 50.28 | CN24: 6.54 | CO24: 146.12 | CP24: 40.8 | CQ24: 0.04 | CR24: 1 | CS24: 77.32 | CT24: 112.6 | CU24: 2.155 | CV24: 0 | CW24: 0 | CX24: 24.24 | CY24: 16.208 | CZ24: 0.29 | DA24: 1.4 | DB24: 0 | DC24: 150.48 | DD24: 33.57 | DE24: 0 | DF24: 42.33 | DG24: 6.2 | DH24: 62.28 | DI24: 0 | DJ24: 17.94 | DK24: 14.4 | DL24: 18.9 | DM24: 107.76 | DN24: 5.67 | DO24: 10.035 | DP24: 16.02 | DQ24: 34.32 | DR24: 53.46 | DS24: 0.6 | DT24: 0.02 | DU24: 28.86 | DV24: 29.592 | DW24: 32.48 | DX24: 23.96 | DY24: 22.272 | DZ24: 44.58 | EA24: 0 | EB24: 15.18 | EC24: 25.56 | ED24: 0 | EE24: 73.272 | EF24: 3.84 | EG24: 0 | EH24: 0 | EI24: 8.25 | EJ24: 4.8 | EK24: 207.04 | EL24: 100.64 | EM24: 86.28 | EN24: 21.57 | EO24: 31.24 | EP24: 5.46 | EQ24: 9.6 | ER24: 3.27 | ES24: 111.48 | ET24: 84 | EU24: 5.63 | EV24: 21.84 | EW24: 63 | EX24: 110.2 | EY24: 13.755 | EZ24: 36.384 | FA24: 0 | FB24: 0 | FC24: 32.44 | FD24: 5.58 | FE24: 41.85 | FF24: 32.1 | FG24: 1.475 | FH24: 1.38 | FI24: 14.04 | FJ24: 40.2 | FK24: 42.64 | FL24: 56 | FM24: 0 | FN24: 1.785 | FO24: 1.21 | FP24: 8.88 | FQ24: 7.632 | FR24: 11.2 | FS24: 6.54 | FT24: 7.04 | FU24: 0 | FV24: 3 | FW24: 0.016 | FX24: 47.6928 | FY24: 22.2 | FZ24: 2.8161 | GA24: 10.77 | GB24: 41.8839 | GC24: 0.032 | GD24: 99.1 | GE24: 37.2 | GF24: 9.99 | GG24: 0 | GH24: 5.1 | GI24: 14.04 | GJ24: 0.03 | GK24: 1.17 | GL24: 0.255 | GM24: 30.78 | GN24: 12.44 | GO24: 0.75 | GP24: 50.7 | GQ24: 10.03 | GR24: 0.04 | GS24: 13 | GT24: 68.256 | GU24: 19.905 | GV24: 71.94 | GW24: 8.25 | GX24: 3.36 | GY24: 15.85 | GZ24: 29.536 | HA24: 0.0425 | HB24: 7.68 | HC24: 86.328396 | HD24: 93.7 | HE24: 23.172 | HF24: 9.072 | HG24: 82.112 | HH24: 0.06 | HL24: 16.04 | HM24: 8.0775 | HN24: 1.03 | HO24: 0 | HP24: 231.8 | HQ24: 0 | HR24: 2.085 | HS24: 1.25 | HT24: 0.725 | HU24: 41.76 | HV24: 42.128 | HW24: 0 | HX24: 30.03 | HY24: 0 | HZ24: 0 | IA24: 7.74 | IB24: 0.96 | IC24: 0 | ID24: 14.6 | IE24: 13.21 | IF24: 0 | IG24: 41.2 | IH24: 2.592 | II24: 12.42 | IJ24: 7.49 | IK24: 27.647693 | IL24: 33.281741 | IM24: 43.008 | IN24: 0 | IO24: 4.962 | IP24: 28.53 | IQ24: 20.35 | IR24: 11.08 | IS24: 3.45 | IT24: 98.88 | IU24: 23.6 | IV24: 57.4 | IW24: 24.06 | IX24: 0 | IY24: 57.92 | IZ24: 62.32 | JA24: 23077.056 | JB24: 20 | JC24: 1.0616 | JD24: 0 | JE24: 46 | JF24: 140 | JG24: 86 | JH24: 0 | JI24: 220 | JJ24: 49 | JK24: 16 | JL24: 5 | JM24: 6 | JN24: 11 | JO24: 0 | JP24: 12.6 | JQ24: 893.5 | JR24: 10.7 | JS24: 959 | JT24: 3.08 | JU24: 36 | JV24: 32.32 | JW24: 28.56 | JX24: =SUM(B24:JW24) -> 33507.498
A25: 15-16 | B25: 17.13 | C25: 29.67 | D25: 21.99 | E25: 18.48 | F25: 3.3 | G25: 14.97 | H25: 28.89 | I25: 35.67 | J25: 12.66 | K25: 19.92 | L25: 3.75 | M25: 34.72 | N25: 78.36 | O25: 34.53 | P25: 0 | Q25: 0.845 | R25: 10.53 | S25: 200.76 | T25: 0 | U25: 14.88 | V25: 13.48 | W25: 3 | X25: 10.08 | Y25: 0 | Z25: 10.214 | AA25: 443.2 | AB25: 18.75 | AC25: 4.291 | AD25: 21.87 | AE25: 0 | AF25: 0 | AG25: 49.04 | AH25: 118.8 | AI25: 8.25 | AJ25: 125.43 | AK25: 74.84 | AL25: 9.64 | AM25: 4.752 | AN25: 227.6 | AO25: 0 | AP25: 10.59 | AQ25: 1.787 | AR25: 8.36 | AS25: 0 | AT25: 38.112 | AU25: 0 | AV25: 1.4 | AW25: 4.02 | AX25: 0.15 | AY25: 0 | AZ25: 57.92 | BA25: 78.6 | BB25: 14.6 | BC25: 0 | BD25: 14.5 | BE25: 58.68 | BF25: 28.98 | BG25: 0 | BH25: 0 | BI25: 2.88 | BJ25: 43.8 | BK25: 91.368 | BL25: 58.896 | BM25: 67.656 | BN25: 0 | BO25: 0 | BP25: 1.47 | BQ25: 0 | BR25: 10.784 | BS25: 23.584 | BT25: 26.704 | BU25: 61.88 | BV25: 26.472 | BW25: 24.84 | BX25: 28.56 | BY25: 3.4 | BZ25: 337.8 | CA25: 0 | CB25: 163.12 | CC25: 134.472 | CD25: 59.808 | CE25: 131.4 | CF25: 41.712 | CG25: 55.872 | CH25: 13.808 | CI25: 19.136 | CJ25: 74.088 | CK25: 20.904 | CL25: 1.42 | CM25: 54.12 | CN25: 5.82 | CO25: 162.4 | CP25: 42.54 | CQ25: 0.04 | CR25: 4 | CS25: 73.52 | CT25: 112.6 | CU25: 15.115 | CV25: 0 | CW25: 0 | CX25: 18.6 | CY25: 15.72 | CZ25: 0.36 | DA25: 1.68 | DB25: 0 | DC25: 160.08 | DD25: 33.48 | DE25: 0 | DF25: 35.19 | DG25: 6.4 | DH25: 51.84 | DI25: 0 | DJ25: 16.29 | DK25: 12.312 | DL25: 20.22 | DM25: 106.2 | DN25: 5.07 | DO25: 8.055 | DP25: 18.36 | DQ25: 34.296 | DR25: 46.17 | DS25: 1.11 | DT25: 0.02 | DU25: 36.06 | DV25: 29.064 | DW25: 38.48 | DX25: 30.6 | DY25: 22.056 | DZ25: 32.46 | EA25: 0 | EB25: 15.66 | EC25: 24.84 | ED25: 0 | EE25: 58.704 | EF25: 0 | EG25: 0 | EH25: 0 | EI25: 8.31 | EJ25: 5.34 | EK25: 195.88 | EL25: 103.28 | EM25: 76.28 | EN25: 21.27 | EO25: 32.98 | EP25: 5.79 | EQ25: 10.075 | ER25: 3.285 | ES25: 125.48 | ET25: 83.2 | EU25: 3.57 | EV25: 21.96 | EW25: 62.24 | EX25: 112.44 | EY25: 11.565 | EZ25: 35.64 | FA25: 0 | FB25: 0 | FC25: 16.68 | FD25: 5.52 | FE25: 40.5 | FF25: 34.35 | FG25: 1.466 | FH25: 1.485 | FI25: 18.36 | FJ25: 45.96 | FK25: 43.76 | FL25: 56.4 | FM25: 0 | FN25: 1.485 | FO25: 1.62 | FP25: 8.928 | FQ25: 8.96 | FR25: 10.96 | FS25: 5.22 | FT25: 5.56 | FU25: 0 | FV25: 3.06 | FW25: 0.018 | FX25: 48.464 | FY25: 24.27 | FZ25: 2.5704 | GA25: 11.43 | GB25: 38.2296 | GC25: 7.906 | GD25: 128.2 | GE25: 35.7 | GF25: 9.195 | GG25: 0 | GH25: 5.8 | GI25: 15.98 | GJ25: 0.06 | GK25: 1.62 | GL25: 7.41 | GM25: 30.3 | GN25: 16.84 | GO25: 0.72 | GP25: 65.82 | GQ25: 12.14 | GR25: 0.05 | GS25: 12.72 | GT25: 71.008 | GU25: 18.525 | GV25: 68.16 | GW25: 7.94 | GX25: 3.9 | GY25: 10.29 | GZ25: 22.288 | HA25: 0.043 | HB25: 6.69 | HC25: 76.908306 | HD25: 76.4 | HE25: 21.072 | HF25: 14.124 | HG25: 73.152 | HH25: 0 | HL25: 16.6 | HM25: 8.025 | HN25: 1.13 | HO25: 0 | HP25: 262.1 | HQ25: 0 | HR25: 1.56 | HS25: 1.29 | HT25: 0.73 | HU25: 41.76 | HV25: 42.128 | HW25: 0 | HX25: 32.1 | HY25: 0 | HZ25: 0 | IA25: 7.07 | IB25: 0.69 | IC25: 0 | ID25: 7 | IE25: 13.89 | IF25: 0 | IG25: 30.58 | IH25: 3.912 | II25: 12.372 | IJ25: 7.43 | IK25: 27.030557 | IL25: 32.538845 | IM25: 42.048 | IN25: 0 | IO25: 6.046 | IP25: 34.53 | IQ25: 15.875 | IR25: 7.79 | IS25: 4.05 | IT25: 91.264 | IU25: 23.4 | IV25: 58.28 | IW25: 21.6 | IX25: 0 | IY25: 62.8 | IZ25: 53.28 | JA25: 23348.381 | JB25: 22 | JC25: 1.0728 | JD25: 0 | JE25: 45 | JF25: 128 | JG25: 86 | JH25: 0 | JI25: 240 | JJ25: 52 | JK25: 17 | JL25: 6 | JM25: 11 | JN25: 12 | JO25: 0 | JP25: 14.4 | JQ25: 849 | JR25: 10.96 | JS25: 897 | JT25: 3.45 | JU25: 34.08 | JV25: 30.72 | JW25: 30.4 | JX25: =SUM(B25:JW25) -> 33901.522
A26: 16-17 | B26: 14.88 | C26: 31.26 | D26: 20.25 | E26: 22.905 | F26: 7.68 | G26: 17.19 | H26: 25.11 | I26: 30.495 | J26: 13.95 | K26: 25.4 | L26: 3.72 | M26: 45.56 | N26: 80.24 | O26: 46.62 | P26: 0 | Q26: 2.3465 | R26: 10.53 | S26: 184.98 | T26: 0 | U26: 17.01 | V26: 14.64 | W26: 3.2 | X26: 11.52 | Y26: 0 | Z26: 10.208 | AA26: 445.12 | AB26: 14.73 | AC26: 5.037 | AD26: 19.77 | AE26: 0 | AF26: 0 | AG26: 45.84 | AH26: 41.16 | AI26: 7.98 | AJ26: 135.06 | AK26: 79.2 | AL26: 11.44 | AM26: 4.944 | AN26: 191.7 | AO26: 0 | AP26: 14.01 | AQ26: 2.275 | AR26: 7.92 | AS26: 1.2 | AT26: 49.056 | AU26: 0 | AV26: 1.2 | AW26: 3.72 | AX26: 0.06 | AY26: 0 | AZ26: 49.32 | BA26: 23.56 | BB26: 13.6 | BC26: 0 | BD26: 27.7 | BE26: 40.96 | BF26: 1.2 | BG26: 0 | BH26: 0 | BI26: 3.2 | BJ26: 45.816 | BK26: 99 | BL26: 57.48 | BM26: 67.728 | BN26: 0 | BO26: 0 | BP26: 1.5 | BQ26: 0 | BR26: 10.928 | BS26: 25.072 | BT26: 30.08 | BU26: 60.52 | BV26: 25.872 | BW26: 35.4 | BX26: 27.06 | BY26: 3.12 | BZ26: 276.9 | CA26: 0 | CB26: 172.48 | CC26: 142.776 | CD26: 62.808 | CE26: 114.192 | CF26: 42.336 | CG26: 56.016 | CH26: 14.544 | CI26: 18.224 | CJ26: 80.016 | CK26: 23.16 | CL26: 0.98 | CM26: 65.424 | CN26: 8.52 | CO26: 181.28 | CP26: 43.08 | CQ26: 0.12 | CR26: 2.8 | CS26: 73.56 | CT26: 112.6 | CU26: 6.17 | CV26: 0 | CW26: 0 | CX26: 26.46 | CY26: 15.52 | CZ26: 0.14 | DA26: 2.88 | DB26: 0 | DC26: 167.76 | DD26: 34.02 | DE26: 0 | DF26: 36.72 | DG26: 4.8 | DH26: 49.32 | DI26: 0 | DJ26: 15.81 | DK26: 13.872 | DL26: 19.74 | DM26: 94.08 | DN26: 3.9 | DO26: 8.79 | DP26: 15.81 | DQ26: 31.656 | DR26: 61.59 | DS26: 0.91 | DT26: 0.02 | DU26: 35.88 | DV26: 28.032 | DW26: 41.84 | DX26: 38.12 | DY26: 24.888 | DZ26: 27.96 | EA26: 0 | EB26: 18.12 | EC26: 35.4 | ED26: 0 | EE26: 52.992 | EF26: 0 | EG26: 0.1 | EH26: 0 | EI26: 8.28 | EJ26: 5.196 | EK26: 202.84 | EL26: 104.24 | EM26: 82.84 | EN26: 22.515 | EO26: 35.2 | EP26: 5.97 | EQ26: 7.675 | ER26: 3.42 | ES26: 130.68 | ET26: 79.52 | EU26: 6.26 | EV26: 22.62 | EW26: 60.72 | EX26: 120.58 | EY26: 11.91 | EZ26: 37.068 | FA26: 0 | FB26: 0 | FC26: 12.64 | FD26: 5.25 | FE26: 43 | FF26: 37.1 | FG26: 1.465 | FH26: 0.9 | FI26: 17.76 | FJ26: 45 | FK26: 47.2 | FL26: 64.8 | FM26: 0 | FN26: 3.6 | FO26: 1.3 | FP26: 11.968 | FQ26: 9.376 | FR26: 10.8 | FS26: 5.52 | FT26: 5.48 | FU26: 0 | FV26: 4.05 | FW26: 0.018 | FX26: 50.5164 | FY26: 25.02 | FZ26: 2.90115 | GA26: 10.91 | GB26: 43.14885 | GC26: 17.198 | GD26: 129.5 | GE26: 64.4 | GF26: 10.935 | GG26: 0 | GH26: 5.1 | GI26: 15.14 | GJ26: 0.06 | GK26: 0.54 | GL26: 7.05 | GM26: 35.4 | GN26: 17 | GO26: 1.87 | GP26: 84.78 | GQ26: 11.02 | GR26: 0.5 | GS26: 13.44 | GT26: 82.992 | GU26: 17.535 | GV26: 95.94 | GW26: 8.11 | GX26: 3.06 | GY26: 17.86 | GZ26: 31.44 | HA26: 0.042 | HB26: 8.26 | HC26: 87.169475 | HD26: 88.2 | HE26: 34.86 | HF26: 16.122 | HG26: 82.912 | HH26: 0.03 | HL26: 14.2 | HM26: 5.6925 | HN26: 1.08 | HO26: 0 | HP26: 232.9 | HQ26: 0 | HR26: 2.085 | HS26: 1.23 | HT26: 0.695 | HU26: 66.08 | HV26: 45.424 | HW26: 0 | HX26: 31.38 | HY26: 0 | HZ26: 0 | IA26: 8.81 | IB26: 1.17 | IC26: 0 | ID26: 4.06 | IE26: 12.73 | IF26: 0 | IG26: 20.63 | IH26: 2.976 | II26: 12.084 | IJ26: 6.94 | IK26: 26.300279 | IL26: 31.659751 | IM26: 40.912 | IN26: 0 | IO26: 5.45 | IP26: 46.62 | IQ26: 20.45 | IR26: 10.27 | IS26: 6.36 | IT26: 106.336 | IU26: 23 | IV26: 56.84 | IW26: 18.6 | IX26: 0 | IY26: 67.68 | IZ26: 52.4 | JA26: 24162.983 | JB26: 20 | JC26: 1.084 | JD26: 0 | JE26: 47 | JF26: 142 | JG26: 94 | JH26: 0 | JI26: 228 | JJ26: 51 | JK26: 18 | JL26: 6 | JM26: 5 | JN26: 15 | JO26: 0 | JP26: 16.2 | JQ26: 868.5 | JR26: 12.72 | JS26: 996 | JT26: 3.23 | JU26: 37.92 | JV26: 29.12 | JW26: 28.96 | JX26: =SUM(B26:JW26) -> 34726.833
A27: 17-18 | B27: 16.62 | C27: 37.2 | D27: 19.71 | E27: 24.15 | F27: 8.94 | G27: 17.01 | H27: 25.245 | I27: 29.64 | J27: 14.04 | K27: 23.24 | L27: 3.78 | M27: 47.2 | N27: 71.64 | O27: 53.85 | P27: 0 | Q27: 1.2595 | R27: 10.53 | S27: 188.22 | T27: 0 | U27: 15.6 | V27: 16.2 | W27: 2.64 | X27: 13.92 | Y27: 0.06 | Z27: 8.968 | AA27: 554.08 | AB27: 14.61 | AC27: 5.325 | AD27: 15 | AE27: 0 | AF27: 0 | AG27: 39.54 | AH27: 84.6 | AI27: 3.39 | AJ27: 141.63 | AK27: 91.8 | AL27: 11.24 | AM27: 5.552 | AN27: 192.1 | AO27: 0 | AP27: 11.88 | AQ27: 2.752 | AR27: 7.92 | AS27: 2.2 | AT27: 32.192 | AU27: 0 | AV27: 0.1 | AW27: 2.16 | AX27: 0 | AY27: 0 | AZ27: 0 | BA27: 23.04 | BB27: 15.8 | BC27: 0 | BD27: 15.1 | BE27: 38.4 | BF27: 1.2 | BG27: 0 | BH27: 0 | BI27: 5.44 | BJ27: 48.216 | BK27: 107.88 | BL27: 56.4 | BM27: 67.608 | BN27: 0 | BO27: 0 | BP27: 1.53 | BQ27: 0 | BR27: 11.072 | BS27: 25.408 | BT27: 27.696 | BU27: 64.72 | BV27: 21.552 | BW27: 36.12 | BX27: 31.5 | BY27: 2.84 | BZ27: 242.4 | CA27: 0 | CB27: 175.48 | CC27: 143.592 | CD27: 56.328 | CE27: 109.416 | CF27: 35.016 | CG27: 56.184 | CH27: 12.96 | CI27: 18.496 | CJ27: 88.464 | CK27: 21.408 | CL27: 0.86 | CM27: 69.528 | CN27: 7.44 | CO27: 181.4 | CP27: 47.1 | CQ27: 0.04 | CR27: 3.92 | CS27: 94.52 | CT27: 126.88 | CU27: 1.43 | CV27: 0 | CW27: 0 | CX27: 18.3 | CY27: 18.52 | CZ27: 1.35 | DA27: 1.64 | DB27: 0 | DC27: 178.32 | DD27: 34.02 | DE27: 0 | DF27: 32.73 | DG27: 4.8 | DH27: 53.04 | DI27: 0 | DJ27: 16.14 | DK27: 12.6 | DL27: 9.75 | DM27: 90.24 | DN27: 5.25 | DO27: 8.805 | DP27: 14.49 | DQ27: 35.448 | DR27: 98.37 | DS27: 0.68 | DT27: 0.02 | DU27: 33.72 | DV27: 26.376 | DW27: 46.16 | DX27: 32.82 | DY27: 24.048 | DZ27: 1.08 | EA27: 0 | EB27: 18.74 | EC27: 36.12 | ED27: 0 | EE27: 62.928 | EF27: 0 | EG27: 0 | EH27: 0 | EI27: 8.235 | EJ27: 5.244 | EK27: 213.84 | EL27: 107.84 | EM27: 80.76 | EN27: 25.185 | EO27: 33.62 | EP27: 5.82 | EQ27: 5.425 | ER27: 3.315 | ES27: 104.88 | ET27: 74.16 | EU27: 4.96 | EV27: 24.66 | EW27: 73.6 | EX27: 132.56 | EY27: 1.155 | EZ27: 41.412 | FA27: 0 | FB27: 0 | FC27: 8.24 | FD27: 6.375 | FE27: 42.4 | FF27: 41.95 | FG27: 1.455 | FH27: 1.035 | FI27: 15.36 | FJ27: 48 | FK27: 49.2 | FL27: 68.72 | FM27: 0 | FN27: 3.3 | FO27: 1.75 | FP27: 11.536 | FQ27: 8.288 | FR27: 9.92 | FS27: 2.1 | FT27: 5.48 | FU27: 0 | FV27: 4.26 | FW27: 0.022 | FX27: 48.3874 | FY27: 17.43 | FZ27: 3.0429 | GA27: 10.42 | GB27: 45.2571 | GC27: 16.974 | GD27: 128.8 | GE27: 72.6 | GF27: 14.97 | GG27: 0 | GH27: 4.4 | GI27: 18.5 | GJ27: 0 | GK27: 1.185 | GL27: 7.47 | GM27: 38.46 | GN27: 18.12 | GO27: 2 | GP27: 71.28 | GQ27: 11.47 | GR27: 0.5 | GS27: 13.84 | GT27: 85.168 | GU27: 21.45 | GV27: 102.66 | GW27: 7.64 | GX27: 2.58 | GY27: 19.23 | GZ27: 30.528 | HA27: 0.0425 | HB27: 9.57 | HC27: 85.033133 | HD27: 83.9 | HE27: 43.032 | HF27: 15.216 | HG27: 80.88 | HH27: 0.06 | HL27: 11.28 | HM27: 6.0975 | HN27: 1.11 | HO27: 0 | HP27: 332.2 | HQ27: 0 | HR27: 2.085 | HS27: 1.24 | HT27: 0.71 | HU27: 64.848 | HV27: 46.08 | HW27: 0 | HX27: 28.32 | HY27: 0 | HZ27: 0 | IA27: 10.98 | IB27: 1.17 | IC27: 0 | ID27: 4.38 | IE27: 15.06 | IF27: 0 | IG27: 21.54 | IH27: 3.192 | II27: 11.976 | IJ27: 8.48 | IK27: 24.644298 | IL27: 29.666314 | IM27: 38.336 | IN27: 0 | IO27: 5.067 | IP27: 53.85 | IQ27: 22.725 | IR27: 15.82 | IS27: 12.81 | IT27: 124.128 | IU27: 23.2 | IV27: 62.76 | IW27: 16.8 | IX27: 0 | IY27: 69.68 | IZ27: 44.8 | JA27: 23865.283 | JB27: 16 | JC27: 1.1016 | JD27: 0 | JE27: 16 | JF27: 138 | JG27: 93 | JH27: 0 | JI27: 228 | JJ27: 53 | JK27: 20 | JL27: 6 | JM27: 4 | JN27: 13 | JO27: 0 | JP27: 16.2 | JQ27: 907 | JR27: 12 | JS27: 891 | JT27: 3.3 | JU27: 31.68 | JV27: 30.48 | JW27: 33.12 | JX27: =SUM(B27:JW27) -> 34731.98
A28: 18-19 | B28: 16.23 | C28: 42.63 | D28: 24.24 | E28: 20.625 | F28: 3.42 | G28: 18.99 | H28: 24.96 | I28: 27.495 | J28: 11.79 | K28: 26.56 | L28: 3.75 | M28: 46.56 | N28: 74.76 | O28: 48.69 | P28: 0 | Q28: 0.6935 | R28: 10.56 | S28: 227.34 | T28: 0 | U28: 16.26 | V28: 10.16 | W28: 1.64 | X28: 12.96 | Y28: 0 | Z28: 7.536 | AA28: 657.28 | AB28: 15.03 | AC28: 5.099 | AD28: 13.83 | AE28: 0 | AF28: 0 | AG28: 37.3 | AH28: 43.92 | AI28: 3.21 | AJ28: 152.94 | AK28: 100.66 | AL28: 11.04 | AM28: 3.184 | AN28: 214.9 | AO28: 0 | AP28: 12 | AQ28: 2.037 | AR28: 8.4 | AS28: 2.2 | AT28: 43.184 | AU28: 0 | AV28: 0.1 | AW28: 2.28 | AX28: 0 | AY28: 0 | AZ28: 0 | BA28: 23.08 | BB28: 7.8 | BC28: 0 | BD28: 14.6 | BE28: 38.68 | BF28: 1.2 | BG28: 0 | BH28: 0 | BI28: 4.92 | BJ28: 49.752 | BK28: 114.648 | BL28: 58.2 | BM28: 68.256 | BN28: 0 | BO28: 0 | BP28: 1.58 | BQ28: 0 | BR28: 11.432 | BS28: 25.104 | BT28: 27.584 | BU28: 73.76 | BV28: 18.792 | BW28: 37.8 | BX28: 30 | BY28: 2.84 | BZ28: 184.2 | CA28: 0 | CB28: 197.36 | CC28: 144 | CD28: 50.208 | CE28: 84.96 | CF28: 34.848 | CG28: 56.376 | CH28: 12.736 | CI28: 7.024 | CJ28: 95.76 | CK28: 22.848 | CL28: 0.46 | CM28: 71.832 | CN28: 6.48 | CO28: 181.08 | CP28: 46.68 | CQ28: 0.04 | CR28: 5.64 | CS28: 80.16 | CT28: 126.16 | CU28: 2.17 | CV28: 0 | CW28: 0 | CX28: 22.5 | CY28: 18.28 | CZ28: 1.15 | DA28: 1.36 | DB28: 0 | DC28: 174.48 | DD28: 33.99 | DE28: 0 | DF28: 36.27 | DG28: 4.6 | DH28: 49.08 | DI28: 0 | DJ28: 17.34 | DK28: 14.544 | DL28: 8.73 | DM28: 81.72 | DN28: 4.59 | DO28: 7.095 | DP28: 16.17 | DQ28: 43.008 | DR28: 75.81 | DS28: 0.58 | DT28: 0.02 | DU28: 35.7 | DV28: 29.856 | DW28: 45.28 | DX28: 35.28 | DY28: 21.504 | DZ28: 1.04 | EA28: 0 | EB28: 22.98 | EC28: 37.8 | ED28: 0 | EE28: 42.84 | EF28: 0 | EG28: 0.2 | EH28: 0 | EI28: 8.25 | EJ28: 6.6 | EK28: 213.28 | EL28: 107.64 | EM28: 82 | EN28: 19.065 | EO28: 31.56 | EP28: 6.09 | EQ28: 7.875 | ER28: 3.39 | ES28: 104.4 | ET28: 71.6 | EU28: 5.85 | EV28: 23.46 | EW28: 82.32 | EX28: 157.66 | EY28: 2.925 | EZ28: 45.78 | FA28: 0 | FB28: 0 | FC28: 9.56 | FD28: 7.425 | FE28: 43.55 | FF28: 40.6 | FG28: 1.466 | FH28: 1.02 | FI28: 12.6 | FJ28: 54.6 | FK28: 51.76 | FL28: 75.2 | FM28: 0 | FN28: 2.655 | FO28: 1.28 | FP28: 10.016 | FQ28: 8.096 | FR28: 10.36 | FS28: 5.34 | FT28: 5.44 | FU28: 0 | FV28: 9.84 | FW28: 0.026 | FX28: 47.8448 | FY28: 25.41 | FZ28: 2.76885 | GA28: 8.35 | GB28: 41.18115 | GC28: 17.022 | GD28: 84.7 | GE28: 76.1 | GF28: 12.825 | GG28: 0 | GH28: 4.3 | GI28: 19.32 | GJ28: 0.03 | GK28: 0.63 | GL28: 6.72 | GM28: 46.44 | GN28: 16.52 | GO28: 1.67 | GP28: 70.62 | GQ28: 11.37 | GR28: 0.5 | GS28: 11.84 | GT28: 86.88 | GU28: 23.67 | GV28: 109.38 | GW28: 7.69 | GX28: 2.46 | GY28: 12.82 | GZ28: 30.608 | HA28: 0.043 | HB28: 9.07 | HC28: 83.536012 | HD28: 71.8 | HE28: 46.416 | HF28: 15.354 | HG28: 79.456 | HH28: 0.06 | HL28: 11.44 | HM28: 5.055 | HN28: 1.07 | HO28: 0 | HP28: 361.4 | HQ28: 0 | HR28: 5.01 | HS28: 1.32 | HT28: 0.695 | HU28: 66.448 | HV28: 42.384 | HW28: 0 | HX28: 31.95 | HY28: 0 | HZ28: 0 | IA28: 10.86 | IB28: 0.96 | IC28: 0 | ID28: 0.96 | IE28: 15.12 | IF28: 0 | IG28: 24.22 | IH28: 2.796 | II28: 11.988 | IJ28: 11.07 | IK28: 29.025963 | IL28: 34.940875 | IM28: 45.152 | IN28: 0 | IO28: 4.413 | IP28: 48.69 | IQ28: 29.325 | IR28: 12.95 | IS28: 7.59 | IT28: 118.016 | IU28: 22.8 | IV28: 68.12 | IW28: 16.8 | IX28: 0 | IY28: 66 | IZ28: 43.76 | JA28: 23611.629 | JB28: 14 | JC28: 1.1032 | JD28: 0 | JE28: 13 | JF28: 129 | JG28: 95 | JH28: 0 | JI28: 224 | JJ28: 48 | JK28: 19 | JL28: 5 | JM28: 3 | JN28: 13 | JO28: 0 | JP28: 16.2 | JQ28: 869 | JR28: 12 | JS28: 852 | JT28: 3.6 | JU28: 28.8 | JV28: 32.44 | JW28: 37.92 | JX28: =SUM(B28:JW28) -> 34297.295
A29: 19-20 | B29: 15.87 | C29: 37.77 | D29: 23.67 | E29: 23.07 | F29: 3.54 | G29: 16.95 | H29: 25.635 | I29: 29.175 | J29: 13.335 | K29: 24.64 | L29: 3.75 | M29: 46.36 | N29: 76.2 | O29: 43.47 | P29: 0 | Q29: 0.9905 | R29: 10.53 | S29: 241.62 | T29: 0 | U29: 15.96 | V29: 13.44 | W29: 2.68 | X29: 12.96 | Y29: 0 | Z29: 7.524 | AA29: 656.16 | AB29: 14.07 | AC29: 5.025 | AD29: 9.18 | AE29: 0 | AF29: 0 | AG29: 36.06 | AH29: 37.86 | AI29: 4.11 | AJ29: 152.61 | AK29: 106.08 | AL29: 10.76 | AM29: 5.36 | AN29: 196.5 | AO29: 0 | AP29: 13.71 | AQ29: 1.238 | AR29: 8.04 | AS29: 0.92 | AT29: 42.224 | AU29: 0 | AV29: 0 | AW29: 3.27 | AX29: 0 | AY29: 0 | AZ29: 0 | BA29: 22.6 | BB29: 10.36 | BC29: 0 | BD29: 26 | BE29: 38.48 | BF29: 1.2 | BG29: 0 | BH29: 0 | BI29: 4.52 | BJ29: 54.396 | BK29: 119.352 | BL29: 59.208 | BM29: 68.16 | BN29: 0 | BO29: 0 | BP29: 1.58 | BQ29: 0 | BR29: 11.744 | BS29: 24.64 | BT29: 29.456 | BU29: 73.56 | BV29: 19.944 | BW29: 39.12 | BX29: 27.84 | BY29: 3.08 | BZ29: 186.3 | CA29: 0 | CB29: 197.76 | CC29: 143.448 | CD29: 45.552 | CE29: 78.768 | CF29: 33.336 | CG29: 50.376 | CH29: 13.072 | CI29: 0.528 | CJ29: 91.584 | CK29: 21.432 | CL29: 0.5 | CM29: 71.808 | CN29: 5.22 | CO29: 175.4 | CP29: 52.02 | CQ29: 0.08 | CR29: 3.4 | CS29: 84.4 | CT29: 124.6 | CU29: 2.245 | CV29: 0 | CW29: 0 | CX29: 28.5 | CY29: 17.168 | CZ29: 0.55 | DA29: 1.6 | DB29: 0 | DC29: 166.92 | DD29: 33.9 | DE29: 0 | DF29: 35.52 | DG29: 4.8 | DH29: 45.36 | DI29: 0 | DJ29: 18.63 | DK29: 5.784 | DL29: 8.67 | DM29: 77.64 | DN29: 6.66 | DO29: 7.2 | DP29: 20.13 | DQ29: 38.436 | DR29: 67.17 | DS29: 0.64 | DT29: 0.02 | DU29: 30.3 | DV29: 27.696 | DW29: 42.32 | DX29: 32.86 | DY29: 21.672 | DZ29: 1.44 | EA29: 0 | EB29: 23.8 | EC29: 39.12 | ED29: 0 | EE29: 29.088 | EF29: 0 | EG29: 0 | EH29: 0 | EI29: 7.71 | EJ29: 6.084 | EK29: 205.92 | EL29: 104.84 | EM29: 71.72 | EN29: 21.15 | EO29: 34.58 | EP29: 6.06 | EQ29: 7.675 | ER29: 3.42 | ES29: 108.76 | ET29: 72.08 | EU29: 5.55 | EV29: 29.82 | EW29: 78.36 | EX29: 150.44 | EY29: 1.545 | EZ29: 52.704 | FA29: 0 | FB29: 0 | FC29: 10.16 | FD29: 6.375 | FE29: 43.6 | FF29: 43.3 | FG29: 1.474 | FH29: 1.425 | FI29: 12.12 | FJ29: 56.52 | FK29: 58 | FL29: 65.44 | FM29: 0 | FN29: 4.11 | FO29: 1.13 | FP29: 7.12 | FQ29: 6.288 | FR29: 8.2 | FS29: 7.08 | FT29: 6.92 | FU29: 0 | FV29: 5.22 | FW29: 0.026 | FX29: 53.8614 | FY29: 26.1 | FZ29: 2.61765 | GA29: 5.2 | GB29: 38.93235 | GC29: 17.06 | GD29: 53.5 | GE29: 45.9 | GF29: 9.66 | GG29: 0 | GH29: 4.3 | GI29: 19.28 | GJ29: 0.06 | GK29: 0.465 | GL29: 8.91 | GM29: 46.26 | GN29: 15.52 | GO29: 2.13 | GP29: 57.9 | GQ29: 11.34 | GR29: 0.5 | GS29: 9.96 | GT29: 86.896 | GU29: 22.05 | GV29: 92.64 | GW29: 7.39 | GX29: 2.82 | GY29: 11 | GZ29: 29.152 | HA29: 0.0425 | HB29: 7.06 | HC29: 94.184078 | HD29: 84.7 | HE29: 37.476 | HF29: 16.2 | HG29: 89.584 | HH29: 0.06 | HL29: 12.24 | HM29: 5.5425 | HN29: 0.83 | HO29: 0 | HP29: 372.1 | HQ29: 0 | HR29: 3.84 | HS29: 1.18 | HT29: 0.71 | HU29: 64.848 | HV29: 36.256 | HW29: 0 | HX29: 37.83 | HY29: 0 | HZ29: 0 | IA29: 8.73 | IB29: 1.5 | IC29: 0 | ID29: 0.86 | IE29: 17.18 | IF29: 0 | IG29: 25.46 | IH29: 3.432 | II29: 13.44 | IJ29: 12.1 | IK29: 28.44997 | IL29: 34.247506 | IM29: 44.256 | IN29: 0 | IO29: 5.078 | IP29: 43.47 | IQ29: 30.6 | IR29: 11.49 | IS29: 7.65 | IT29: 115.296 | IU29: 23.2 | IV29: 70.24 | IW29: 15 | IX29: 0 | IY29: 64.92 | IZ29: 44.24 | JA29: 23094.823 | JB29: 16 | JC29: 1.1088 | JD29: 0 | JE29: 11 | JF29: 140 | JG29: 101 | JH29: 0 | JI29: 248 | JJ29: 51 | JK29: 17 | JL29: 5 | JM29: 3 | JN29: 12 | JO29: 0 | JP29: 32.4 | JQ29: 803.5 | JR29: 11.28 | JS29: 807 | JT29: 3.45 | JU29: 29.28 | JV29: 32.16 | JW29: 41.68 | JX29: =SUM(B29:JW29) -> 33699.515
A30: 20-21 | B30: 19.05 | C30: 36.09 | D30: 21.9 | E30: 19.725 | F30: 3.48 | G30: 16.41 | H30: 27.99 | I30: 20.28 | J30: 14.82 | K30: 24.32 | L30: 3.75 | M30: 45.44 | N30: 73.8 | O30: 50.31 | P30: 0 | Q30: 0.8395 | R30: 10.53 | S30: 218.52 | T30: 0 | U30: 15.72 | V30: 12.88 | W30: 4.8 | X30: 11.52 | Y30: 0 | Z30: 7.524 | AA30: 656.48 | AB30: 13.65 | AC30: 4.995 | AD30: 8.34 | AE30: 0 | AF30: 0 | AG30: 32.64 | AH30: 96.12 | AI30: 2.88 | AJ30: 152.91 | AK30: 114.12 | AL30: 10 | AM30: 2.928 | AN30: 203.4 | AO30: 0 | AP30: 11.85 | AQ30: 1.212 | AR30: 10.4 | AS30: 0.6 | AT30: 41.152 | AU30: 0 | AV30: 0.1 | AW30: 1.26 | AX30: 0 | AY30: 0 | AZ30: 0 | BA30: 20.72 | BB30: 0 | BC30: 0 | BD30: 16.8 | BE30: 38.6 | BF30: 1.2 | BG30: 0 | BH30: 0 | BI30: 3.08 | BJ30: 52.392 | BK30: 112.872 | BL30: 57.768 | BM30: 68.112 | BN30: 0 | BO30: 0 | BP30: 1.69 | BQ30: 0 | BR30: 11.52 | BS30: 25.296 | BT30: 31.376 | BU30: 75.6 | BV30: 15.816 | BW30: 35.16 | BX30: 24.48 | BY30: 2.84 | BZ30: 172.2 | CA30: 0 | CB30: 197.68 | CC30: 146.04 | CD30: 41.784 | CE30: 77.064 | CF30: 29.592 | CG30: 45.936 | CH30: 12.624 | CI30: 0.56 | CJ30: 85.368 | CK30: 21.984 | CL30: 5.9 | CM30: 77.856 | CN30: 3.78 | CO30: 175.16 | CP30: 53.82 | CQ30: 0.04 | CR30: 3.36 | CS30: 77.32 | CT30: 114.28 | CU30: 1.105 | CV30: 0 | CW30: 0 | CX30: 24.06 | CY30: 16.496 | CZ30: 0.53 | DA30: 1.88 | DB30: 0 | DC30: 167.28 | DD30: 33.78 | DE30: 0 | DF30: 38.88 | DG30: 4.8 | DH30: 46.56 | DI30: 0 | DJ30: 19.47 | DK30: 8.352 | DL30: 8.79 | DM30: 87.84 | DN30: 5.13 | DO30: 8.355 | DP30: 20.28 | DQ30: 34.788 | DR30: 57.57 | DS30: 0.98 | DT30: 0.02 | DU30: 30.54 | DV30: 25.584 | DW30: 44.56 | DX30: 33.7 | DY30: 20.448 | DZ30: 1.7 | EA30: 0 | EB30: 25.58 | EC30: 35.16 | ED30: 0 | EE30: 33.384 | EF30: 0 | EG30: 0 | EH30: 0 | EI30: 2.745 | EJ30: 5.748 | EK30: 203.56 | EL30: 104.24 | EM30: 82.28 | EN30: 20.505 | EO30: 36.16 | EP30: 5.31 | EQ30: 5.975 | ER30: 3.27 | ES30: 122.68 | ET30: 64.64 | EU30: 4.93 | EV30: 27.36 | EW30: 73 | EX30: 152.84 | EY30: 0.75 | EZ30: 53.676 | FA30: 0 | FB30: 0 | FC30: 8.72 | FD30: 5.325 | FE30: 46.8 | FF30: 43.5 | FG30: 1.485 | FH30: 3.18 | FI30: 12.24 | FJ30: 54.12 | FK30: 61.52 | FL30: 63.36 | FM30: 0 | FN30: 4.38 | FO30: 0.9 | FP30: 6.832 | FQ30: 7.664 | FR30: 9.4 | FS30: 3.66 | FT30: 12.04 | FU30: 0 | FV30: 5.115 | FW30: 0.028 | FX30: 47.194 | FY30: 21.9 | FZ30: 2.7972 | GA30: 6.08 | GB30: 41.6028 | GC30: 17.106 | GD30: 49.6 | GE30: 45 | GF30: 13.545 | GG30: 0 | GH30: 4.4 | GI30: 17.68 | GJ30: 0.06 | GK30: 0.285 | GL30: 11.4 | GM30: 44.16 | GN30: 15.48 | GO30: 1.53 | GP30: 53.58 | GQ30: 10.61 | GR30: 0.49 | GS30: 11.56 | GT30: 83.056 | GU30: 21.435 | GV30: 89.52 | GW30: 7.48 | GX30: 2.88 | GY30: 14.09 | GZ30: 28.912 | HA30: 0.043 | HB30: 6.66 | HC30: 81.517421 | HD30: 21.6 | HE30: 39.264 | HF30: 15.558 | HG30: 77.536 | HH30: 0 | HL30: 13.48 | HM30: 6.975 | HN30: 0.2 | HO30: 0 | HP30: 335.4 | HQ30: 0 | HR30: 3.99 | HS30: 1.4 | HT30: 0.705 | HU30: 64.032 | HV30: 38.448 | HW30: 0 | HX30: 41.22 | HY30: 0 | HZ30: 0 | IA30: 8.19 | IB30: 1.53 | IC30: 0 | ID30: 0.88 | IE30: 20.54 | IF30: 0 | IG30: 25.88 | IH30: 3.084 | II30: 16.344 | IJ30: 10.51 | IK30: 27.380267 | IL30: 32.959819 | IM30: 42.592 | IN30: 0 | IO30: 5.75 | IP30: 50.31 | IQ30: 28.125 | IR30: 4.82 | IS30: 6.87 | IT30: 108.32 | IU30: 23.6 | IV30: 67.76 | IW30: 13.2 | IX30: 0 | IY30: 64.84 | IZ30: 45.44 | JA30: 22740.175 | JB30: 36 | JC30: 1.1128 | JD30: 0 | JE30: 11 | JF30: 156 | JG30: 100 | JH30: 0 | JI30: 266 | JJ30: 46 | JK30: 15 | JL30: 5 | JM30: 6 | JN30: 11 | JO30: 0 | JP30: 32.4 | JQ30: 772.5 | JR30: 11.28 | JS30: 793 | JT30: 3.38 | JU30: 27.84 | JV30: 28.32 | JW30: 38.24 | JX30: =SUM(B30:JW30) -> 33240.58
A31: 21-22 | B31: 22.17 | C31: 34.05 | D31: 22.14 | E31: 17.28 | F31: 6.3 | G31: 15.42 | H31: 18.915 | I31: 15.855 | J31: 13.65 | K31: 26.56 | L31: 3.69 | M31: 45.04 | N31: 76.32 | O31: 43.29 | P31: 0 | Q31: 1.043 | R31: 10.62 | S31: 203.58 | T31: 0 | U31: 16.38 | V31: 14.56 | W31: 4.44 | X31: 10.08 | Y31: 0 | Z31: 7.53 | AA31: 655.68 | AB31: 12.36 | AC31: 4.169 | AD31: 8.07 | AE31: 0 | AF31: 0 | AG31: 33.12 | AH31: 63.72 | AI31: 3.03 | AJ31: 138.3 | AK31: 108.54 | AL31: 10 | AM31: 3.136 | AN31: 159.3 | AO31: 0 | AP31: 13.5 | AQ31: 0.987 | AR31: 12.84 | AS31: 2.2 | AT31: 23.024 | AU31: 0 | AV31: 0.1 | AW31: 0.84 | AX31: 0 | AY31: 0 | AZ31: 0 | BA31: 19.8 | BB31: 0 | BC31: 0 | BD31: 15 | BE31: 38.36 | BF31: 1.26 | BG31: 0 | BH31: 0 | BI31: 3.16 | BJ31: 50.364 | BK31: 104.928 | BL31: 55.44 | BM31: 67.944 | BN31: 0 | BO31: 0 | BP31: 2.32 | BQ31: 0 | BR31: 11.632 | BS31: 24.896 | BT31: 26.048 | BU31: 69.24 | BV31: 12.144 | BW31: 33.36 | BX31: 26.58 | BY31: 2.88 | BZ31: 171.6 | CA31: 0 | CB31: 185.48 | CC31: 144.552 | CD31: 37.872 | CE31: 74.4 | CF31: 21.984 | CG31: 42.312 | CH31: 12.528 | CI31: 0.688 | CJ31: 85.464 | CK31: 21.336 | CL31: 6.04 | CM31: 73.392 | CN31: 2.28 | CO31: 167.28 | CP31: 56.4 | CQ31: 0.24 | CR31: 3.56 | CS31: 68.08 | CT31: 104.64 | CU31: 0.65 | CV31: 0 | CW31: 0 | CX31: 24.42 | CY31: 16.752 | CZ31: 0.62 | DA31: 1.96 | DB31: 0 | DC31: 156.84 | DD31: 33.51 | DE31: 0 | DF31: 44.19 | DG31: 4.8 | DH31: 46.2 | DI31: 0 | DJ31: 20.79 | DK31: 3.912 | DL31: 9.21 | DM31: 72.6 | DN31: 5.4 | DO31: 8.475 | DP31: 17.46 | DQ31: 40.104 | DR31: 58.17 | DS31: 1.47 | DT31: 0.02 | DU31: 28.2 | DV31: 23.592 | DW31: 40.08 | DX31: 24.94 | DY31: 19.032 | DZ31: 1.06 | EA31: 0 | EB31: 18.82 | EC31: 33.36 | ED31: 0 | EE31: 28.896 | EF31: 0 | EG31: 0.1 | EH31: 0 | EI31: 2.76 | EJ31: 5.328 | EK31: 204.08 | EL31: 104.28 | EM31: 80.88 | EN31: 21.21 | EO31: 37.34 | EP31: 6.27 | EQ31: 6.375 | ER31: 3.465 | ES31: 136.88 | ET31: 60.16 | EU31: 7.76 | EV31: 32.46 | EW31: 70.36 | EX31: 142.54 | EY31: 0.69 | EZ31: 50.34 | FA31: 0 | FB31: 0 | FC31: 5.36 | FD31: 5.595 | FE31: 43.3 | FF31: 39.1 | FG31: 1.478 | FH31: 3.9 | FI31: 10.92 | FJ31: 49.44 | FK31: 60 | FL31: 54.64 | FM31: 0 | FN31: 6.9 | FO31: 0.71 | FP31: 6.912 | FQ31: 8.784 | FR31: 9.84 | FS31: 2.52 | FT31: 7 | FU31: 0 | FV31: 6.6 | FW31: 0.026 | FX31: 51.191 | FY31: 20.76 | FZ31: 2.54205 | GA31: 5.66 | GB31: 37.80795 | GC31: 16.976 | GD31: 40.1 | GE31: 44.9 | GF31: 11.505 | GG31: 0 | GH31: 4 | GI31: 19.26 | GJ31: 0 | GK31: 0.54 | GL31: 11.235 | GM31: 41.22 | GN31: 15.2 | GO31: 1.24 | GP31: 47.82 | GQ31: 10.7 | GR31: 0.49 | GS31: 7.72 | GT31: 79.2 | GU31: 23.775 | GV31: 94.08 | GW31: 7.84 | GX31: 2.82 | GY31: 13.78 | GZ31: 28.16 | HA31: 0.0425 | HB31: 6.61 | HC31: 80.76045 | HD31: 85.7 | HE31: 39.288 | HF31: 15.96 | HG31: 76.816 | HH31: 0.03 | HL31: 15.64 | HM31: 6.18 | HN31: 0.2 | HO31: 0 | HP31: 308.2 | HQ31: 0 | HR31: 3.375 | HS31: 1.18 | HT31: 0.71 | HU31: 62.512 | HV31: 30.432 | HW31: 0 | HX31: 39.63 | HY31: 0 | HZ31: 0 | IA31: 8.41 | IB31: 1.74 | IC31: 0 | ID31: 0.88 | IE31: 18.98 | IF31: 0 | IG31: 30.02 | IH31: 3.216 | II31: 16.128 | IJ31: 8.24 | IK31: 26.505991 | IL31: 31.907383 | IM31: 41.232 | IN31: 0 | IO31: 6.281 | IP31: 43.29 | IQ31: 27.75 | IR31: 4.68 | IS31: 5.49 | IT31: 104.928 | IU31: 23.4 | IV31: 63.08 | IW31: 13.2 | IX31: 0 | IY31: 70.28 | IZ31: 40.8 | JA31: 21905.728 | JB31: 32 | JC31: 1.084 | JD31: 0 | JE31: 11 | JF31: 153 | JG31: 98 | JH31: 0 | JI31: 256 | JJ31: 40 | JK31: 14 | JL31: 5 | JM31: 8 | JN31: 10 | JO31: 0 | JP31: 34.2 | JQ31: 726.5 | JR31: 11.52 | JS31: 732 | JT31: 3.75 | JU31: 29.76 | JV31: 31.56 | JW31: 33.8 | JX31: =SUM(B31:JW31) -> 31890.277
A32: 22-23 | B32: 19.05 | C32: 27.3 | D32: 20.76 | E32: 16.56 | F32: 8.34 | G32: 13.74 | H32: 17.82 | I32: 15.72 | J32: 12.96 | K32: 24.64 | L32: 3.72 | M32: 42.4 | N32: 65.36 | O32: 40.23 | P32: 0 | Q32: 0.854 | R32: 10.53 | S32: 174.66 | T32: 0 | U32: 15.915 | V32: 14.36 | W32: 4.8 | X32: 6.72 | Y32: 0.03 | Z32: 7.536 | AA32: 653.44 | AB32: 12.78 | AC32: 4.069 | AD32: 8.79 | AE32: 0 | AF32: 0 | AG32: 33.1 | AH32: 71.7 | AI32: 2.88 | AJ32: 130.59 | AK32: 98.84 | AL32: 9.28 | AM32: 2.88 | AN32: 135.6 | AO32: 0 | AP32: 13.35 | AQ32: 0.3 | AR32: 12.48 | AS32: 1.84 | AT32: 8.24 | AU32: 0 | AV32: 0.1 | AW32: 0.9 | AX32: 0 | AY32: 0 | AZ32: 0 | BA32: 19.88 | BB32: 0 | BC32: 0 | BD32: 17.3 | BE32: 36.8 | BF32: 1.23 | BG32: 0 | BH32: 0 | BI32: 3.2 | BJ32: 41.388 | BK32: 94.032 | BL32: 52.32 | BM32: 68.136 | BN32: 0 | BO32: 0 | BP32: 2.22 | BQ32: 0 | BR32: 11.24 | BS32: 21.76 | BT32: 26.4 | BU32: 62.84 | BV32: 9.504 | BW32: 30.72 | BX32: 24.12 | BY32: 2.84 | BZ32: 173.7 | CA32: 0 | CB32: 164.76 | CC32: 141.168 | CD32: 38.472 | CE32: 67.368 | CF32: 19.44 | CG32: 33.336 | CH32: 12.608 | CI32: 0.528 | CJ32: 69.12 | CK32: 20.184 | CL32: 1.58 | CM32: 62.64 | CN32: 2.28 | CO32: 166.6 | CP32: 54.66 | CQ32: 0.08 | CR32: 3.28 | CS32: 65.36 | CT32: 99.2 | CU32: 0.395 | CV32: 0 | CW32: 0 | CX32: 27 | CY32: 15.192 | CZ32: 0.37 | DA32: 1.56 | DB32: 0 | DC32: 135 | DD32: 33.51 | DE32: 0 | DF32: 41.31 | DG32: 5 | DH32: 47.04 | DI32: 0 | DJ32: 16.65 | DK32: 7.656 | DL32: 9.42 | DM32: 89.52 | DN32: 5.28 | DO32: 6.825 | DP32: 15.66 | DQ32: 37.536 | DR32: 72.66 | DS32: 1.1 | DT32: 0.02 | DU32: 26.76 | DV32: 21.936 | DW32: 36.4 | DX32: 20.36 | DY32: 15.36 | DZ32: 1.08 | EA32: 0 | EB32: 16.32 | EC32: 30.72 | ED32: 0 | EE32: 28.896 | EF32: 0 | EG32: 0.2 | EH32: 0 | EI32: 2.79 | EJ32: 4.56 | EK32: 205.08 | EL32: 102.6 | EM32: 72.88 | EN32: 22.65 | EO32: 32.54 | EP32: 5.52 | EQ32: 6.175 | ER32: 3.375 | ES32: 122.2 | ET32: 64.96 | EU32: 5.77 | EV32: 36 | EW32: 67.56 | EX32: 139.76 | EY32: 0.075 | EZ32: 39.936 | FA32: 0 | FB32: 0 | FC32: 5.12 | FD32: 5.82 | FE32: 37.25 | FF32: 36.9 | FG32: 1.489 | FH32: 1.665 | FI32: 9.12 | FJ32: 42.24 | FK32: 46.8 | FL32: 48.8 | FM32: 0 | FN32: 5.73 | FO32: 0.61 | FP32: 6.912 | FQ32: 7.776 | FR32: 9.88 | FS32: 0.84 | FT32: 5.16 | FU32: 0 | FV32: 7.32 | FW32: 0.026 | FX32: 52.3296 | FY32: 18.54 | FZ32: 2.65545 | GA32: 5.24 | GB32: 39.49455 | GC32: 17.092 | GD32: 39.2 | GE32: 47.1 | GF32: 8.1 | GG32: 0 | GH32: 5 | GI32: 18.02 | GJ32: 0.03 | GK32: 0.27 | GL32: 10.395 | GM32: 38.16 | GN32: 14.2 | GO32: 1.14 | GP32: 49.38 | GQ32: 11.36 | GR32: 0.51 | GS32: 7.6 | GT32: 73.52 | GU32: 17.16 | GV32: 79.56 | GW32: 8.04 | GX32: 2.46 | GY32: 10.62 | GZ32: 28.064 | HA32: 0.043 | HB32: 6.14 | HC32: 101.82108 | HD32: 92.1 | HE32: 38.628 | HF32: 14.466 | HG32: 96.848 | HH32: 0.03 | HL32: 13.56 | HM32: 5.715 | HN32: 0.18 | HO32: 0 | HP32: 272.8 | HQ32: 0 | HR32: 2.865 | HS32: 1.11 | HT32: 0.715 | HU32: 62.048 | HV32: 27.888 | HW32: 0 | HX32: 35.13 | HY32: 0 | HZ32: 0 | IA32: 8.24 | IB32: 1.95 | IC32: 0 | ID32: 0.86 | IE32: 14.4 | IF32: 0 | IG32: 20.04 | IH32: 2.964 | II32: 16.164 | IJ32: 6.7 | IK32: 25.62143 | IL32: 30.842566 | IM32: 39.856 | IN32: 0 | IO32: 5.843 | IP32: 40.23 | IQ32: 23.575 | IR32: 4.33 | IS32: 5.34 | IT32: 93.856 | IU32: 23.2 | IV32: 55.92 | IW32: 12 | IX32: 0 | IY32: 65.36 | IZ32: 38.56 | JA32: 20452.36 | JB32: 28 | JC32: 1.0488 | JD32: 0 | JE32: 10 | JF32: 145 | JG32: 89 | JH32: 0 | JI32: 257 | JJ32: 38 | JK32: 13 | JL32: 5 | JM32: 5 | JN32: 12 | JO32: 0 | JP32: 16.2 | JQ32: 659.5 | JR32: 11.04 | JS32: 684 | JT32: 3.45 | JU32: 27.36 | JV32: 26.6 | JW32: 27.22 | JX32: =SUM(B32:JW32) -> 29740.042
A33: 23-24 | B33: 20.4 | C33: 17.13 | D33: 18.06 | E33: 12.75 | F33: 3.3 | G33: 13.5 | H33: 16.32 | I33: 14.4 | J33: 10.83 | K33: 20.56 | L33: 3.72 | M33: 41.04 | N33: 57.76 | O33: 37.02 | P33: 0 | Q33: 1.4145 | R33: 10.62 | S33: 157.02 | T33: 0 | U33: 16.47 | V33: 12.28 | W33: 3.12 | X33: 1.44 | Y33: 0 | Z33: 7.526 | AA33: 651.52 | AB33: 11.37 | AC33: 4.074 | AD33: 9.69 | AE33: 0 | AF33: 0 | AG33: 31.56 | AH33: 52.26 | AI33: 2.58 | AJ33: 119.16 | AK33: 85.7 | AL33: 9.64 | AM33: 4.384 | AN33: 155 | AO33: 0 | AP33: 11.22 | AQ33: 0.58 | AR33: 10.88 | AS33: 0 | AT33: 8.784 | AU33: 0 | AV33: 0.1 | AW33: 1.05 | AX33: 0 | AY33: 0 | AZ33: 0 | BA33: 19.96 | BB33: 0 | BC33: 0 | BD33: 20 | BE33: 36.6 | BF33: 1.23 | BG33: 0 | BH33: 0 | BI33: 2.96 | BJ33: 29.952 | BK33: 75.456 | BL33: 47.544 | BM33: 67.536 | BN33: 0 | BO33: 0 | BP33: 1.51 | BQ33: 0 | BR33: 10.6 | BS33: 16.832 | BT33: 21.696 | BU33: 53.92 | BV33: 9.024 | BW33: 28.08 | BX33: 25.26 | BY33: 2.88 | BZ33: 174 | CA33: 0 | CB33: 135.68 | CC33: 139.008 | CD33: 33.888 | CE33: 60.528 | CF33: 16.848 | CG33: 27.744 | CH33: 12.672 | CI33: 0.528 | CJ33: 57.168 | CK33: 18.888 | CL33: 0.66 | CM33: 50.64 | CN33: 2.46 | CO33: 137.56 | CP33: 50.4 | CQ33: 0.12 | CR33: 3.04 | CS33: 60.4 | CT33: 92.68 | CU33: 0.37 | CV33: 0 | CW33: 0 | CX33: 22.44 | CY33: 14.04 | CZ33: 0.38 | DA33: 2.32 | DB33: 0 | DC33: 120.72 | DD33: 33.39 | DE33: 0 | DF33: 9.42 | DG33: 4.8 | DH33: 45 | DI33: 0 | DJ33: 0.69 | DK33: 3.696 | DL33: 9.42 | DM33: 108.84 | DN33: 1.23 | DO33: 7.56 | DP33: 12.15 | DQ33: 25.164 | DR33: 68.97 | DS33: 2.072 | DT33: 0.01 | DU33: 22.14 | DV33: 20.544 | DW33: 30.16 | DX33: 21.96 | DY33: 13.776 | DZ33: 1.04 | EA33: 0 | EB33: 13.96 | EC33: 28.08 | ED33: 0 | EE33: 28.752 | EF33: 0 | EG33: 0 | EH33: 0 | EI33: 2.775 | EJ33: 4.524 | EK33: 219.6 | EL33: 100.2 | EM33: 67.96 | EN33: 24.84 | EO33: 32.22 | EP33: 5.43 | EQ33: 4.75 | ER33: 3.165 | ES33: 117.92 | ET33: 66.96 | EU33: 5.59 | EV33: 32.64 | EW33: 54.8 | EX33: 116.58 | EY33: 0.045 | EZ33: 32.112 | FA33: 0 | FB33: 0 | FC33: 5.36 | FD33: 5.505 | FE33: 35.1 | FF33: 28.15 | FG33: 1.487 | FH33: 2.76 | FI33: 8.64 | FJ33: 39.12 | FK33: 32.72 | FL33: 41.68 | FM33: 0 | FN33: 4.245 | FO33: 0.79 | FP33: 6.8 | FQ33: 6.304 | FR33: 8.6 | FS33: 2.04 | FT33: 4.72 | FU33: 0 | FV33: 4.815 | FW33: 0.028 | FX33: 46.939 | FY33: 25.14 | FZ33: 2.37195 | GA33: 5.04 | GB33: 35.27805 | GC33: 17.072 | GD33: 39.7 | GE33: 45.9 | GF33: 10.845 | GG33: 0 | GH33: 6 | GI33: 13.76 | GJ33: 0.06 | GK33: 0.18 | GL33: 9.675 | GM33: 34.08 | GN33: 13.52 | GO33: 1.09 | GP33: 59.34 | GQ33: 11.48 | GR33: 0.51 | GS33: 7.68 | GT33: 64.896 | GU33: 15.315 | GV33: 65.82 | GW33: 8.06 | GX33: 2.52 | GY33: 10.62 | GZ33: 27.616 | HA33: 0.0425 | HB33: 6.25 | HC33: 87.590015 | HD33: 92.4 | HE33: 36.648 | HF33: 14.856 | HG33: 83.312 | HH33: 0.06 | HL33: 11.76 | HM33: 4.515 | HN33: 0.2 | HO33: 0 | HP33: 233.9 | HQ33: 0 | HR33: 2.655 | HS33: 0.95 | HT33: 0.69 | HU33: 62.096 | HV33: 23.616 | HW33: 0 | HX33: 28.35 | HY33: 0 | HZ33: 0 | IA33: 8.48 | IB33: 1.77 | IC33: 0 | ID33: 0.9 | IE33: 11.79 | IF33: 0 | IG33: 19.81 | IH33: 4.824 | II33: 15.972 | IJ33: 8.41 | IK33: 24.634012 | IL33: 29.653932 | IM33: 38.32 | IN33: 0 | IO33: 5.84 | IP33: 37.02 | IQ33: 17.775 | IR33: 4.34 | IS33: 5.34 | IT33: 80.256 | IU33: 22.8 | IV33: 46.72 | IW33: 10.8 | IX33: 0 | IY33: 58.76 | IZ33: 35.2 | JA33: 18877.42 | JB33: 16 | JC33: 1.0528 | JD33: 0 | JE33: 8 | JF33: 130 | JG33: 68 | JH33: 0 | JI33: 239 | JJ33: 41 | JK33: 13 | JL33: 5 | JM33: 7 | JN33: 11 | JO33: 0.36 | JP33: 16.2 | JQ33: 595.5 | JR33: 11.36 | JS33: 631 | JT33: 3.38 | JU33: 27.84 | JV33: 20.88 | JW33: 21.32 | JX33: =SUM(B33:JW33) -> 27475.38

Sheet Таблица №2 (отдача)
A1: ПО "Череповецкое" АО "Вологдаоблэнерго"
A2: наименование предприятия | G2: наименование источника питания
A4: Череповецкий р-н, п. Ясная Поляна
A5: ул. Механизаторов, д.5
A6: адрес
A7: Таблица № 2
A9: почасовых записей показаний электрических счетчиков по сторонним потребителям
A10: в режимный день 15 декабря 2021 г.
A12: часы суток | B12: Активная энергия
B13: Оборонэнерго | E13: Электросеть
B14: расчетный коэф. | E14: расчетный коэф. | H14: расчетный коэф.
B15: показания счетчика | C15: разность | D15: расход эл.энергии за час | E15: показания счетчика | F15: разность | G15: расход эл.энергии за час | H15: показания счетчика | I15: разность | J15: расход эл.энергии за час | L15: Сумма
A16: 1 | B16: 11 | C16: 12 | D16: 13 | E16: 11 | F16: 12 | G16: 13 | H16: 11 | I16: 12 | J16: 13
A17: 0 | B17: ТП-400 кВА Питино-2 | E17: ТП-17 п. Кадуй | H17: ТП-19 п. Кадуй
A18: 1 | D18: 18 | G18: 60 | J18: 0 | L18: =SUM(B18:J18) -> 78
A19: 2 | D19: 18 | G19: 59 | J19: 0 | L19: =SUM(B19:J19) -> 77
A20: 3 | D20: 20 | G20: 54 | J20: 0 | L20: =SUM(B20:J20) -> 74
A21: 4 | D21: 16 | G21: 54 | J21: 0 | L21: =SUM(B21:J21) -> 70
A22: 5 | D22: 18 | G22: 53 | J22: 0 | L22: =SUM(B22:J22) -> 71
A23: 6 | D23: 26 | G23: 53 | J23: 0 | L23: =SUM(B23:J23) -> 79
A24: 7 | D24: 48 | G24: 59 | J24: 0 | L24: =SUM(B24:J24) -> 107
A25: 8 | D25: 18 | G25: 69 | J25: 0 | L25: =SUM(B25:J25) -> 87
A26: 9 | D26: 16 | G26: 77 | J26: 0 | L26: =SUM(B26:J26) -> 93
A27: 10 | D27: 16 | G27: 87 | J27: 0 | L27: =SUM(B27:J27) -> 103
A28: 11 | D28: 16 | G28: 90 | J28: 0 | L28: =SUM(B28:J28) -> 106
A29: 12 | D29: 14 | G29: 85 | J29: 0 | L29: =SUM(B29:J29) -> 99
... A41: 24 | D41: 16 | G41: 68 | J41: 0 | L41: =SUM(B41:J41) -> 84
A42: Итого | D42: =SUM(D18:D41) -> 496 | G42: =SUM(G18:G41) -> 1882 | J42: =SUM(J18:J41) -> 0 | L42: =SUM(B42:J42) -> 2378
A43: 1. При наличии на предприятии отклонений от нормальных режимов электропотребления (временное
A44: изменение схем питания, остановка на ремонт, резкое снижениеэл.потребления и т.д.)
A45: последние необходимо перечислить.
A46: 2. При наличии нескольких источников питания и большого количества вводов таблица
A47: составляется самим предприятием с соблюдением всех пунктов настоящей таблицы.
A49: Главный инженер АО "Вологдаоблэнерго" А.В. Чурляев

Sheet Таблица №3 (Свод)
E2: Таблица № 3
B4: сводных данных режимного дня 15 декабря 2021 г.
B6: о потреблении электрической энергии по ПО "Череповецкое"
B8: АО "Вологдаоблэнерго"
B11: часы суток | C11: Активная энергия | F11: Реактивная энергия
C12: Суммарный расход эл.энергии по всем вводам | D12: Суммарный расход эл.энергии всеми сторонними потребителями | E12: Расход эл.энергии предприятием (2-3) | F12: Суммарный расход эл.энергии по всем вводам | G12: Суммарный расход эл.энергии всеми сторонними потребителями | H12: Расход эл.энергии предприятием (5-6) | K12: прием | L12: отдача | M12: разность
B13: 1 | C13: 2 | D13: 3 | E13: 4 | F13: 5 | G13: 6 | H13: 7
B14: 1 | E14: =M14 -> 24704.251 | K14: 24782.251 | L14: ='Таблица №2 (отдача)'!L18 -> 78 | M14: =K14-L14 -> 24704.251
B15: 2 | E15: =M15 -> 23603.936 | K15: 23680.936 | L15: ='Таблица №2 (отдача)'!L19 -> 77 | M15: =K15-L15 -> 23603.936
B16: 3 | E16: =M16 -> 24055.441 | K16: 24129.441 | L16: ='Таблица №2 (отдача)'!L20 -> 74 | M16: =K16-L16 -> 24055.441
B17: 4 | E17: =M17 -> 23959.748 | K17: 24029.748 | L17: ='Таблица №2 (отдача)'!L21 -> 70 | M17: =K17-L17 -> 23959.748
B18: 5 | E18: =M18 -> 24238.985 | K18: 24309.985 | L18: ='Таблица №2 (отдача)'!L22 -> 71 | M18: =K18-L18 -> 24238.985
B19: 6 | E19: =M19 -> 25854.571 | K19: 25933.571 | L19: ='Таблица №2 (отдача)'!L23 -> 79 | M19: =K19-L19 -> 25854.571
B20: 7 | E20: =M20 -> 28753.058 | K20: 28860.058 | L20: ='Таблица №2 (отдача)'!L24 -> 107 | M20: =K20-L20 -> 28753.058
B21: 8 | E21: =M21 -> 31415.511 | K21: 31502.511 | L21: ='Таблица №2 (отдача)'!L25 -> 87 | M21: =K21-L21 -> 31415.511
B22: 9 | E22: =M22 -> 34630.182 | K22: 34723.182 | L22: ='Таблица №2 (отдача)'!L26 -> 93 | M22: =K22-L22 -> 34630.182
B23: 10 | E23: =M23 -> 35150.547 | K23: 35253.547 | L23: ='Таблица №2 (отдача)'!L27 -> 103 | M23: =K23-L23 -> 35150.547
B24: 11 | E24: =M24 -> 34316.111 | K24: 34422.111 | L24: ='Таблица №2 (отдача)'!L28 -> 106 | M24: =K24-L24 -> 34316.111
B25: 12 | E25: =M25 -> 33195.17 | K25: 33294.17 | L25: ='Таблица №2 (отдача)'!L29 -> 99 | M25: =K25-L25 -> 33195.17
... B37: 24 | E37: =M37 -> 27391.38 | K37: 27475.38 | L37: ='Таблица №2 (отдача)'!L41 -> 84 | M37: =K37-L37 -> 27391.38
B38: Итого | E38: =SUM(E14:E37) -> 736482.87
B41: Главный инженер АО "Вологдаоблэнерго" А.В. Чурляев

Sheet Прием от ВЭ
A6: Время | B6: 10 Борисово-Суда-Льнозавод 1 ао RS | C6: 10 Борисово-Суда-Льнозавод 2 ао RS | D6: 10 Борисово-Суда-Поселок ао RS | E6: 10 Пяжелка Пяжелка ао RS | F6: 10 Пяжелка-Колошма ао RS | G6: 10 Бабаево р.-Горсеть 1 ао | H6: 10 Бабаево р.-Горсеть 3 ао | I6: 10 Бабаево р.-Горсеть 4 ао | J6: 10 Бабаево р.-Горсеть 6 ао | K6: 10 Енюково-КУФ 3 ао | L6: 10 Ирдоматка-Промкомбинат ао | M6: 10 Ирдоматка-Романда | N6: 10 Вешняки - Парус 1 ао RS | O6: 10 Вешняки - Парус 2 ао RS | P6: 10 Искра-Садовая ао RS | Q6: 10 Искра-Газовая 1 ао RS | R6: 10 Климовская-КУФ 1 ао RS | S6: 10 Климовская-КУФ 2 ао RS | T6: 10 Климовская-Поселок ао RS | U6: 10 Климовская-ПТФ 2 ао RS | V6: 10 Климовская-ПТФ 3 ао RS | W6: 10 Климовская-ПТФ 4 ао RS | X6: 10 Новые Углы-Подсобное хоз. 1 ао | Y6: 10 Новые Углы-Подсобное хоз. 2 ао | Z6: 10 Нелазское-Нелазское 2 ао | AA6: ПУС 10 кВ оп.25 К-с Нелазское-ПС 110 кВ Нелазское ап | AB6: 10 Суда-Котельная ао | AC6: 10 Суда-Межное | AD6: 10 Суда-ЛПБ | AE6: 10 Шексна-АБЗ ао | AF6: 10 Шексна-ПМК 22 ао | AG6: 6 Шексна-Битумная ао | AH6: 6 Шексна-Горсеть 1 ао | AI6: 6 Шексна-Горсеть 2 ао | AJ6: 6 Шексна-Горсеть 3 ао | AK6: 6 Шексна-Горсеть 4 ао | AL6: 10 Нифантово-Парк 1 ао | AM6: 10 Нифантово-Парк 2 ао | AN6: 10 Нифантово-Поселок ао | AO6: 10 Нифантово-Льнозавод | AP6: 10 Поселковая- "База ГРЭС" (А) | AQ6: 10 Поселковая-Поселок-6 (А) | AR6: 10 Поселковая-Поселок-1(А) | AS6: 10 Андога-Поселок ао | AT6: 10 Кадуй-Доз 1 ао RS | AU6: 10 Кадуй-Доз 2 ао RS | AV6: 10 Поселковая-Микрорайон 1-1 ао | AW6: 10 Поселковая-МКР 2-1 ао | AX6: 10 Хохлово-Котельная 1 ао | AY6: 10 Хохлово-Котельная 2 ао | AZ6: 10 Хохлово-Поселок 1 ао | BA6: 10 Хохлово-Поселок 3 ао | BB6: 10 Хохлово-Поселок 5 ао | BC6: 10 Хохлово-Торф 1 ао | BD6: 10 Хохлово-Фабрика ао | BE6: 10 Хохлово-Газовая ао | BF6: 10 Сазоново-Агрострой ао | BG6: 10 Сазоново-Завод 1 ао | BH6: 10 Сазоново-Центральная ао | BI6: 10 Стеклозавод ЭСУ-2 | BJ6: 10 Стеклозавод ЭСУ-1 | BK6: 10 Чагода -Дедово поле ао | BL6: 10 Чагода-Котельная ао | BM6: 10 Чагода-Леспромхоз ао | BN6: 10 Чагода-Сазоново ао | BO6: 10 Чагода-ЭТС 1 ао | BP6: 10 Чагода-ЭТС 2 ао | BQ6: 10 Чагода-ЭТС 3 ао | BR6: 10 Чагода-ЭТС 4 ао | BS6: ПКУ "Ретранслятор 6" | BT6: ПУС 22 Городище | BU6: ПКУ Берег | BV6: ПУС 75 Городище
A7: 00 - 01 | B7: 50.25 | C7: 256.95 | D7: 399.45 | E7: 141.8 | F7: 20.8 | G7: 1318.4 | H7: 996 | I7: 828.8 | J7: 25.2 | K7: 0 | L7: 148.8 | M7: 254.4 | N7: 50.8 | O7: 37.8 | P7: 480.52612 | Q7: 615.61218 | R7: 27 | S7: 180.3 | T7: 179.6 | U7: 14.4 | V7: 219.2 | W7: 39 | X7: 273.2 | Y7: 258.8 | Z7: 161.2 | AA7: 0 | AB7: 116.4 | AC7: 507.6 | AD7: 327.6 | AE7: 59.4 | AF7: 7.2 | AG7: 682.56 | AH7: 519.84 | AI7: 825.12 | AJ7: 934.56 | AK7: 0 | AL7: 789.6 | AM7: 324 | AN7: 305 | AO7: 30.8 | AP7: 74 | AQ7: 147.2 | AR7: 194.4 | AS7: 62.7 | AT7: 0 | AU7: 65.6 | AV7: 92.4 | AW7: 106.4 | AX7: 11.2 | AY7: 0.4 | AZ7: 67.6 | BA7: 76.8 | BB7: 225.2 | BC7: 61.2 | BD7: 134.4 | BE7: 124.8 | BF7: 98.2 | BG7: 160 | BH7: 47.4 | BI7: 704.4 | BJ7: 129 | BK7: 172.2 | BL7: 14.4 | BM7: 172.8 | BN7: 178.2 | BO7: 395.4 | BP7: 132.6 | BQ7: 0 | BR7: 252.8 | BS7: 84.104 | BT7: 147.4 | BU7: 136 | BV7: 0 | BW7: =SUM(B7:BV7) -> 16677.172
A8: 01 - 02 | B8: 54 | C8: 266.7 | D8: 365.85 | E8: 146.1 | F8: 19.2 | G8: 1277.6 | H8: 935.2 | I8: 792 | J8: 24 | K8: 0 | L8: 151.8 | M8: 245.4 | N8: 50.8 | O8: 38 | P8: 450.60323 | Q8: 558.24664 | R8: 25.2 | S8: 181.5 | T8: 171.6 | U8: 14.8 | V8: 205.6 | W8: 39 | X8: 268.4 | Y8: 246.4 | Z8: 140.2 | AA8: 0 | AB8: 116.4 | AC8: 492 | AD8: 323.2 | AE8: 56.4 | AF8: 7.2 | AG8: 673.92 | AH8: 485.28 | AI8: 790.56 | AJ8: 902.88 | AK8: 0 | AL8: 798 | AM8: 352 | AN8: 292.2 | AO8: 30 | AP8: 70.8 | AQ8: 133.2 | AR8: 182.4 | AS8: 60.45 | AT8: 0 | AU8: 62.2 | AV8: 85.2 | AW8: 102.4 | AX8: 11.2 | AY8: 0.4 | AZ8: 62.8 | BA8: 75.2 | BB8: 212 | BC8: 60 | BD8: 135.6 | BE8: 124.8 | BF8: 92.6 | BG8: 165 | BH8: 44.4 | BI8: 662.4 | BJ8: 121.5 | BK8: 155.4 | BL8: 14.4 | BM8: 161.4 | BN8: 174 | BO8: 373.8 | BP8: 134.4 | BQ8: 0 | BR8: 221.6 | BS8: 79.256 | BT8: 125.6 | BU8: 115.6 | BV8: 0 | BW8: =SUM(B8:BV8) -> 16008.246
A9: 02 - 03 | B9: 54 | C9: 265.8 | D9: 364.05 | E9: 139.7 | F9: 19.3 | G9: 1273.6 | H9: 927.2 | I9: 777.6 | J9: 24 | K9: 0 | L9: 153 | M9: 242.2 | N9: 50.6 | O9: 38.4 | P9: 444.96365 | Q9: 488.71526 | R9: 24.6 | S9: 179.7 | T9: 171.2 | U9: 14.8 | V9: 211.2 | W9: 42.6 | X9: 270.8 | Y9: 248 | Z9: 153.2 | AA9: 0 | AB9: 116.4 | AC9: 492 | AD9: 324.4 | AE9: 57 | AF9: 7.2 | AG9: 656.64 | AH9: 473.76 | AI9: 740.16 | AJ9: 885.6 | AK9: 0 | AL9: 1489.2 | AM9: 490.4 | AN9: 288.6 | AO9: 30 | AP9: 65.6 | AQ9: 128.4 | AR9: 175.2 | AS9: 61.8 | AT9: 0 | AU9: 61.8 | AV9: 80.4 | AW9: 94.4 | AX9: 11.2 | AY9: 0.4 | AZ9: 61.2 | BA9: 76 | BB9: 209.6 | BC9: 64.2 | BD9: 133.2 | BE9: 124.8 | BF9: 89.2 | BG9: 166.7 | BH9: 46.2 | BI9: 643.2 | BJ9: 123 | BK9: 157.2 | BL9: 14.4 | BM9: 156 | BN9: 171 | BO9: 350.4 | BP9: 126.6 | BQ9: 0 | BR9: 212 | BS9: 78.64 | BT9: 114.4 | BU9: 106.8 | BV9: 0 | BW9: =SUM(B9:BV9) -> 16534.529
A10: 03 - 04 | B10: 51.9 | C10: 261 | D10: 357.15 | E10: 142.9 | F10: 19.6 | G10: 1257.6 | H10: 903.2 | I10: 780.8 | J10: 23.4 | K10: 0 | L10: 150.6 | M10: 248.8 | N10: 50.2 | O10: 38.4 | P10: 454.91948 | Q10: 442.06075 | R10: 24.3 | S10: 175.5 | T10: 171.2 | U10: 14.8 | V10: 210.4 | W10: 38.4 | X10: 276 | Y10: 242.8 | Z10: 159.4 | AA10: 0 | AB10: 116.8 | AC10: 490.8 | AD10: 326 | AE10: 53.4 | AF10: 7.2 | AG10: 662.4 | AH10: 475.2 | AI10: 725.76 | AJ10: 861.12 | AK10: 0 | AL10: 1546.8 | AM10: 512.8 | AN10: 285 | AO10: 31.2 | AP10: 61.6 | AQ10: 124.4 | AR10: 172 | AS10: 62.55 | AT10: 0 | AU10: 60 | AV10: 81.6 | AW10: 94.4 | AX10: 11.2 | AY10: 0.4 | AZ10: 60.8 | BA10: 76.4 | BB10: 210 | BC10: 64.2 | BD10: 132 | BE10: 123.6 | BF10: 86 | BG10: 150.5 | BH10: 42.3 | BI10: 644.4 | BJ10: 121.2 | BK10: 151.2 | BL10: 13.8 | BM10: 158.4 | BN10: 167.4 | BO10: 342 | BP10: 126.6 | BQ10: 0 | BR10: 216 | BS10: 77.56 | BT10: 111.2 | BU10: 102.8 | BV10: 0 | BW10: =SUM(B10:BV10) -> 16436.32
A11: 04 - 05 | B11: 54.45 | C11: 265.05 | D11: 388.2 | E11: 144.9 | F11: 19.2 | G11: 1296.8 | H11: 918.4 | I11: 819.2 | J11: 23.4 | K11: 0 | L11: 160 | M11: 256.2 | N11: 50.2 | O11: 37.8 | P11: 464.43192 | Q11: 401.34372 | R11: 24.9 | S11: 180 | T11: 176.6 | U11: 14.8 | V11: 211.2 | W11: 39 | X11: 276.4 | Y11: 251.6 | Z11: 141.8 | AA11: 0 | AB11: 116.4 | AC11: 488.4 | AD11: 327.6 | AE11: 54.6 | AF11: 7.6 | AG11: 649.44 | AH11: 479.52 | AI11: 763.2 | AJ11: 885.6 | AK11: 0 | AL11: 1340.4 | AM11: 457.6 | AN11: 294.2 | AO11: 30.4 | AP11: 61.6 | AQ11: 140 | AR11: 176 | AS11: 64.2 | AT11: 0 | AU11: 63.2 | AV11: 80.4 | AW11: 93.2 | AX11: 10.8 | AY11: 0.4 | AZ11: 64.4 | BA11: 74.8 | BB11: 228.4 | BC11: 58.8 | BD11: 133.2 | BE11: 123.6 | BF11: 91.2 | BG11: 162.1 | BH11: 45.9 | BI11: 646.2 | BJ11: 120.9 | BK11: 150 | BL11: 14.4 | BM11: 157.8 | BN11: 164.4 | BO11: 350.4 | BP11: 126.6 | BQ11: 0 | BR11: 216.8 | BS11: 77.232 | BT11: 121.6 | BU11: 101.6 | BV11: 0 | BW11: =SUM(B11:BV11) -> 16430.968
A12: 05 - 06 | B12: 55.05 | C12: 263.1 | D12: 405 | E12: 146.9 | F12: 20.5 | G12: 1380.8 | H12: 946.4 | I12: 872.8 | J12: 23.4 | K12: 0 | L12: 153.2 | M12: 242.2 | N12: 49.6 | O12: 37.8 | P12: 475.55858 | Q12: 459.27042 | R12: 29.4 | S12: 177 | T12: 182.6 | U12: 13.6 | V12: 226.4 | W12: 37.8 | X12: 272 | Y12: 274.8 | Z12: 136.6 | AA12: 0 | AB12: 116.4 | AC12: 516 | AD12: 338.4 | AE12: 55.2 | AF12: 8 | AG12: 669.6 | AH12: 577.44 | AI12: 794.88 | AJ12: 964.8 | AK12: 0 | AL12: 1576.8 | AM12: 499.2 | AN12: 326.2 | AO12: 29.6 | AP12: 59.2 | AQ12: 143.6 | AR12: 208 | AS12: 68.4 | AT12: 0 | AU12: 62.4 | AV12: 85.2 | AW12: 96.8 | AX12: 10.8 | AY12: 0.4 | AZ12: 70 | BA12: 74.4 | BB12: 240.4 | BC12: 62.4 | BD12: 134.4 | BE12: 122.4 | BF12: 103.6 | BG12: 153.9 | BH12: 52.5 | BI12: 681 | BJ12: 123.3 | BK12: 156.6 | BL12: 13.8 | BM12: 160.8 | BN12: 173.4 | BO12: 355.2 | BP12: 126 | BQ12: 0 | BR12: 212.8 | BS12: 85.216 | BT12: 133.8 | BU12: 125.6 | BV12: 0 | BW12: =SUM(B12:BV12) -> 17450.615
A13: 06 - 07 | B13: 58.65 | C13: 286.65 | D13: 438.15 | E13: 172.1 | F13: 21.5 | G13: 1547.2 | H13: 1072.8 | I13: 940 | J13: 27.6 | K13: 0 | L13: 157.4 | M13: 229.4 | N13: 50.8 | O13: 37.6 | P13: 493.9599 | Q13: 518.24323 | R13: 30.6 | S13: 177 | T13: 183.8 | U13: 15.2 | V13: 277.6 | W13: 39.6 | X13: 336.4 | Y13: 312.8 | Z13: 131.6 | AA13: 0 | AB13: 116 | AC13: 634.8 | AD13: 370 | AE13: 68.4 | AF13: 7.6 | AG13: 740.16 | AH13: 732.96 | AI13: 868.32 | AJ13: 1186.56 | AK13: 0 | AL13: 1591.2 | AM13: 494.4 | AN13: 383.2 | AO13: 32.4 | AP13: 78.8 | AQ13: 167.2 | AR13: 270.4 | AS13: 69.6 | AT13: 0 | AU13: 70.2 | AV13: 99.6 | AW13: 108 | AX13: 10.8 | AY13: 0.4 | AZ13: 75.2 | BA13: 76.8 | BB13: 282 | BC13: 77.4 | BD13: 176.4 | BE13: 123.6 | BF13: 113.2 | BG13: 128.3 | BH13: 48.9 | BI13: 797.4 | BJ13: 139.8 | BK13: 191.4 | BL13: 14.4 | BM13: 187.2 | BN13: 211.2 | BO13: 493.2 | BP13: 123.6 | BQ13: 0 | BR13: 276.8 | BS13: 106.816 | BT13: 136.4 | BU13: 132 | BV13: 0 | BW13: =SUM(B13:BV13) -> 19569.669
A14: 07 - 08 | B14: 58.2 | C14: 296.1 | D14: 487.35 | E14: 182.6 | F14: 22.3 | G14: 1658.4 | H14: 1192.8 | I14: 1016 | J14: 28.2 | K14: 0 | L14: 155 | M14: 238.2 | N14: 51.8 | O14: 37.6 | P14: 501.40077 | Q14: 614.33737 | R14: 31.8 | S14: 179.7 | T14: 203 | U14: 17.2 | V14: 289.6 | W14: 40.8 | X14: 358.4 | Y14: 371.2 | Z14: 166.2 | AA14: 0 | AB14: 116.4 | AC14: 693.6 | AD14: 376 | AE14: 77.4 | AF14: 26.8 | AG14: 781.92 | AH14: 830.88 | AI14: 1051.2 | AJ14: 1344.96 | AK14: 0 | AL14: 1682.4 | AM14: 480.8 | AN14: 417.4 | AO14: 36.8 | AP14: 84.8 | AQ14: 208 | AR14: 310.4 | AS14: 73.8 | AT14: 0 | AU14: 77 | AV14: 117.6 | AW14: 121.2 | AX14: 14.8 | AY14: 0.4 | AZ14: 81.2 | BA14: 76.8 | BB14: 313.2 | BC14: 81 | BD14: 202.8 | BE14: 134.4 | BF14: 139 | BG14: 122.3 | BH14: 58.8 | BI14: 922.8 | BJ14: 147.9 | BK14: 237.6 | BL14: 14.4 | BM14: 217.8 | BN14: 237.6 | BO14: 582 | BP14: 126 | BQ14: 0 | BR14: 340 | BS14: 112.744 | BT14: 157 | BU14: 150 | BV14: 0 | BW14: =SUM(B14:BV14) -> 21578.092
A15: 08 - 09 | B15: 58.95 | C15: 328.5 | D15: 507.75 | E15: 193.1 | F15: 22.3 | G15: 1676 | H15: 1279.2 | I15: 1048.8 | J15: 25.8 | K15: 0 | L15: 164.4 | M15: 229 | N15: 52.2 | O15: 35.8 | P15: 506.87407 | Q15: 1001.797 | R15: 35.7 | S15: 179.7 | T15: 234.6 | U15: 24.4 | V15: 331.2 | W15: 42 | X15: 360.4 | Y15: 417.6 | Z15: 182 | AA15: 0 | AB15: 116.4 | AC15: 700.8 | AD15: 456.4 | AE15: 82.2 | AF15: 66.8 | AG15: 954.72 | AH15: 931.68 | AI15: 1327.68 | AJ15: 1419.84 | AK15: 0 | AL15: 1556.4 | AM15: 484 | AN15: 442.8 | AO15: 101.2 | AP15: 86.8 | AQ15: 223.6 | AR15: 336.8 | AS15: 78.3 | AT15: 0 | AU15: 73 | AV15: 152.4 | AW15: 138 | AX15: 118.4 | AY15: 0.4 | AZ15: 118.8 | BA15: 88.4 | BB15: 332.8 | BC15: 84.6 | BD15: 388.8 | BE15: 301.2 | BF15: 162.6 | BG15: 123.3 | BH15: 90.9 | BI15: 1001.4 | BJ15: 147.3 | BK15: 241.8 | BL15: 15 | BM15: 213 | BN15: 228 | BO15: 618.6 | BP15: 126.6 | BQ15: 0 | BR15: 395.2 | BS15: 123.096 | BT15: 161.2 | BU15: 178.4 | BV15: 0 | BW15: =SUM(B15:BV15) -> 23927.687
A16: 09 - 10 | B16: 58.05 | C16: 318.75 | D16: 515.4 | E16: 230.2 | F16: 23.4 | G16: 1640 | H16: 1376 | I16: 1056 | J16: 25.2 | K16: 0 | L16: 217.4 | M16: 229.8 | N16: 51 | O16: 0 | P16: 514.46042 | Q16: 1136.7791 | R16: 34.8 | S16: 183.9 | T16: 244.8 | U16: 28.8 | V16: 289.6 | W16: 39.6 | X16: 348 | Y16: 421.2 | Z16: 235 | AA16: 0 | AB16: 115.6 | AC16: 679.2 | AD16: 435.6 | AE16: 71.4 | AF16: 69.2 | AG16: 948.96 | AH16: 951.84 | AI16: 1260 | AJ16: 1373.76 | AK16: 0 | AL16: 1634.4 | AM16: 480.8 | AN16: 419.6 | AO16: 122.4 | AP16: 86.8 | AQ16: 226 | AR16: 340.8 | AS16: 76.95 | AT16: 0 | AU16: 75 | AV16: 159.6 | AW16: 160.4 | AX16: 236 | AY16: 0.4 | AZ16: 128.4 | BA16: 90.8 | BB16: 330.4 | BC16: 85.2 | BD16: 352.8 | BE16: 340.8 | BF16: 143.4 | BG16: 202 | BH16: 111.6 | BI16: 1000.8 | BJ16: 132.6 | BK16: 222 | BL16: 15.6 | BM16: 208.2 | BN16: 210 | BO16: 669 | BP16: 126.6 | BQ16: 0 | BR16: 418.4 | BS16: 149.192 | BT16: 169.2 | BU16: 171.6 | BV16: 0 | BW16: =SUM(B16:BV16) -> 24421.441
A17: 10 - 11 | B17: 57.45 | C17: 359.85 | D17: 494.85 | E17: 193 | F17: 16.8 | G17: 1636 | H17: 1433.6 | I17: 1055.2 | J17: 26.4 | K17: 0 | L17: 231 | M17: 242.2 | N17: 50.6 | O17: 0 | P17: 499.76573 | Q17: 1123.9065 | R17: 33.3 | S17: 181.5 | T17: 241.2 | U17: 30.4 | V17: 276.8 | W17: 40.2 | X17: 328.4 | Y17: 408.4 | Z17: 252 | AA17: 0 | AB17: 115.6 | AC17: 649.2 | AD17: 415.6 | AE17: 66 | AF17: 73.6 | AG17: 943.2 | AH17: 944.64 | AI17: 1332 | AJ17: 1291.68 | AK17: 0 | AL17: 1664.4 | AM17: 516.8 | AN17: 393.8 | AO17: 115.2 | AP17: 103.6 | AQ17: 219.2 | AR17: 337.6 | AS17: 80.55 | AT17: 0 | AU17: 91.4 | AV17: 166.8 | AW17: 166.4 | AX17: 241.6 | AY17: 0.4 | AZ17: 112.4 | BA17: 92 | BB17: 316 | BC17: 102 | BD17: 61.2 | BE17: 49.2 | BF17: 147.2 | BG17: 213.7 | BH17: 104.4 | BI17: 990.6 | BJ17: 126.6 | BK17: 235.2 | BL17: 15 | BM17: 189.6 | BN17: 205.2 | BO17: 646.2 | BP17: 121.8 | BQ17: 0 | BR17: 416 | BS17: 129.048 | BT17: 183.8 | BU17: 157.6 | BV17: 0 | BW17: =SUM(B17:BV17) -> 23756.84
A18: 11 - 12 | B18: 49.65 | C18: 316.2 | D18: 483.75 | E18: 211 | F18: 15.5 | G18: 1628 | H18: 1458.4 | I18: 1025.6 | J18: 25.8 | K18: 0 | L18: 236 | M18: 235.4 | N18: 50.4 | O18: 0 | P18: 487.93929 | Q18: 905.34259 | R18: 31.2 | S18: 184.8 | T18: 235 | U18: 25.2 | V18: 277.6 | W18: 38.4 | X18: 307.6 | Y18: 366.4 | Z18: 229.2 | AA18: 0 | AB18: 115.2 | AC18: 621.6 | AD18: 414.4 | AE18: 61.2 | AF18: 70.4 | AG18: 943.2 | AH18: 937.44 | AI18: 1303.2 | AJ18: 1257.12 | AK18: 0 | AL18: 1566 | AM18: 508.8 | AN18: 381.6 | AO18: 114.8 | AP18: 91.6 | AQ18: 205.2 | AR18: 332 | AS18: 78.9 | AT18: 0 | AU18: 90.6 | AV18: 163.2 | AW18: 161.6 | AX18: 236.4 | AY18: 0.4 | AZ18: 99.2 | BA18: 98.4 | BB18: 300 | BC18: 95.4 | BD18: 0 | BE18: 0 | BF18: 154 | BG18: 202.2 | BH18: 80.1 | BI18: 987 | BJ18: 128.4 | BK18: 232.2 | BL18: 15 | BM18: 193.8 | BN18: 202.8 | BO18: 625.2 | BP18: 121.8 | BQ18: 0 | BR18: 426.4 | BS18: 145.272 | BT18: 199.4 | BU18: 150.4 | BV18: 0 | BW18: =SUM(B18:BV18) -> 22936.214
... A30: 23 - 00 | B30: 58.2 | C30: 290.1 | D30: 392.1 | E30: 165.6 | F30: 19.6 | G30: 1423.2 | H30: 1072.8 | I30: 873.6 | J30: 28.2 | K30: 0 | L30: 157.8 | M30: 247.6 | N30: 104 | O30: 0 | P30: 504.13742 | Q30: 699.31866 | R30: 25.8 | S30: 171.3 | T30: 192.8 | U30: 15.2 | V30: 244.8 | W30: 36 | X30: 286.4 | Y30: 264 | Z30: 147.2 | AA30: 0 | AB30: 116.4 | AC30: 511.2 | AD30: 332.4 | AE30: 60 | AF30: 6 | AG30: 761.76 | AH30: 597.6 | AI30: 835.2 | AJ30: 1013.76 | AK30: 0 | AL30: 1719.6 | AM30: 535.2 | AN30: 337 | AO30: 27.6 | AP30: 80.4 | AQ30: 168.8 | AR30: 216 | AS30: 65.7 | AT30: 0 | AU30: 68.4 | AV30: 116.4 | AW30: 114.8 | AX30: 12.4 | AY30: 0.4 | AZ30: 71.6 | BA30: 72.8 | BB30: 240.8 | BC30: 64.8 | BD30: 128.4 | BE30: 156 | BF30: 109.6 | BG30: 158 | BH30: 43.5 | BI30: 748.8 | BJ30: 135.6 | BK30: 192 | BL30: 14.4 | BM30: 179.4 | BN30: 195 | BO30: 452.4 | BP30: 124.2 | BQ30: 0 | BR30: 266.4 | BS30: 93.544 | BT30: 155.8 | BU30: 157.6 | BV30: 0 | BW30: =SUM(B30:BV30) -> 18877.42
A31: Сумма | B31: =SUM(B7:B30) -> 1402.95 | C31: =SUM(C7:C30) -> 7223.7 | D31: =SUM(D7:D30) -> 10838.7 | E31: =SUM(E7:E30) -> 4343 | F31: =SUM(F7:F30) -> 510.1 | G31: =SUM(G7:G30) -> 37660 | H31: =SUM(H7:H30) -> 30057.6 | I31: =SUM(I7:I30) -> 23887.2 | ... BV31: =SUM(BV7:BV30) -> 0
A32: Общая сумма | C32: =SUM(B31:BV31) -> 507093.23 | BK32: 1574032.9
