Workbook

Sheet Содержание книги
A1: Содержание
A4: № листа | B4: Электросетевой участок | C4: Центр питания
A5: 1 а | B5: г. Вологда | C5: ОАО "БМЗ"
A6: 1, 2 | B6: г. Вологда | C6: ПС "АНАНЬИНО"
A7: 3 | B7: г. Вологда | C7: ПС ЕРМАКОВО
A8: 4 | B8: г. Вологда | C8: ПС "МАЕГА"
A9: 5,6, 7, 8, 9 | B9: г. Вологда | C9: ПС "ЗАПАДНАЯ
A10: 10 | B10: г. Вологда | C10: ПС "СЕВЕРНАЯ 35/6 кВ
A11: 11 | B11: г. Вологда | C11: РТП "ТЕПЛИЧНОГО ХОЗ - ВА"
A12: 12,13, 14 | B12: г. Вологда | C12: ГПП 110/10 кВ "ВОМЗ"
A13: 15,16,17,18,19,20, 21, 21-1, 21-2, 21-3 | B13: г. Вологда | C13: ПС ВОЛОГДА-ЮЖНАЯ РУ - 6 -10 кВ
A14: 22 | B14: г. Вологда | C14: ГПП ВОЛОГДА - ТЯГОВАЯ 110/27,5/6 кВ
A15: 23 | B15: г. Вологда | C15: ТП 10 РЖД
A16: 24 | B16: г. Вологда | C16: ТП 34 РЖД
A17: 25,26,27,28,29 | B17: г. Вологда | C17: ТГК- 2 ВТЭЦ РП 6 кВ
A18: 30,31,32,33,34,34-1 | B18: г. Вологда | C18: ПС "ЦЕНТРАЛЬНАЯ" 110/6 кВ
A19: 35, 36 | B19: г. Вологда | C19: ПС "ГОРОДСКАЯ" 35/6 кВ
A20: 37, 38, 39, 39-1 | B20: г. Вологда | C20: ПС "ВОСТОЧНАЯ" 110/35/10 кВ
A21: 40, 41,41-1 | B21: г. Вологда | C21: ПС "ЛУГОВАЯ"
A22: 42 | B22: г. Вологда | C22: РП "ГОРКА"
A23: 43, 44 | B23: г. Вологда | C23: ГПП 2 ЗАО ВПЗ
A24: 45 | B24: г. Вологда | C24: ГПП 1 ЗАО ВПЗ
A25: 46 | B25: ЭСУ "Кубенское" | C25: ПС "Кубенское"
A26: 47, 48, 48-1,48-2 | B26: ЭСУ п. Молочное | C26: ПС "Молочное" 35/10 кВ
A27: 49, 50, 50-1, 50-2, 50-3 | B27: ЭСУ "Устье-Кубенское" | C27: РТП "КОРНИЛОВО" 35/10 кВ
A28: 51, 52, 53 | B28: ЭСУ "Шуйское" | C28: ПС "ШУЙСКОЕ" 35/ 10 кВ
A29: 54.55 | B29: ЭСУ г. Сокол | C29: ПС "ГДЗ" 110/6 кВ
B30: ЭСУ г. Сокол
A31: 56, 57, 58, | B31: ЭСУ г. Сокол | C31: ОАО "Сокольский" ЦБК" ГПП 35/6 кВ
A32: 59 | B32: ЭСУ г. Сокол | C32: ОАО "Сокольский" ЦБК" ГПП 110/6 кВ
A33: 60, 61, 62, 63 | B33: ЭСУ г. Сокол | C33: ООО "Сухонский ЦБК" ГПП 110/6 кВ
A34: 64-66 | B34: ЭСУ "Белозерск"
A35: 67-75 | B35: ЭСУ "Вытегра"
A36: 76-81_1 | B36: ЭСУ "Харовск"
A37: 82-86 | B37: ЭТУ "Вожега"
A38: 87-91 | B38: ЭТУ "Тотьма"
A39: 92-95 | B39: ЭСУ "Сямжа"
A40: 96-97 | B40: ЭСУ "Грязовец"
A42: Содержание
A45: № листа | B45: Электросетевой участок | C45: Центр питания
...

Sheet 1а
B1: АО "Вологдаоблэнерго" | J1: код 900151 | K1: ПС "Вологда-Южная"РУ 6кВ - транзит через "БМЗ"
A2: наименование предприятия | N2: наименование источника питания
N3: _________________________________
B4: ул. Горького, 99 | I4: Таблица № 1 | O4: РТП 25 Т1, Т2
A5: адрес
A6: почасовых записей показаний электрических счетчиков
A7: в режимный день 15 ДЕКАБРЯ 2021 г.
A8: 143 | B8: 144
A9: часы суток | B9: Активная энергия | J9: Реактивная энергия
B10: яч. Т1 | F10: яч. Т2 | J10: яч. Т1 | N10: яч. Т2
B11: Расчет. Коэф. | E11: 600 | F11: расчетный коэф. | I11: 600 | J11: расчетный коэф. | M11: =E11 -> 600 | N11: расчетный коэф. | Q11: =I11 -> 600
B12: показания счетчика | C12: разность | E12: расход эл.энергии за час | F12: показания счетчика | G12: разность | I12: расход эл.энергии за час | J12: показания счетчика | K12: разность | M12: расход эл.энергии за час | N12: показания счетчика | O12: разность | Q12: расход эл.энергии за час
A13: 1 | B13: 2 | C13: 3 | E13: 4 | F13: 5 | G13: 6 | I13: 7 | J13: 8 | K13: 9 | M13: 10 | N13: 11 | O13: 12 | Q13: 13
A14: 0
A15: 1 | E15: 82.2 | I15: 109.5 | M15: 24 | Q15: 40.2
A16: 2 | E16: 75.96 | I16: 97.38 | M16: 23.64 | Q16: 38.64
A17: 3 | E17: 71.04 | I17: 91.86 | M17: 22.68 | Q17: 38.7
A18: 4 | E18: 71.16 | I18: 93.18 | M18: 22.68 | Q18: 36.6
A19: 5 | E19: 73.2 | I19: 94.86 | M19: 25.68 | Q19: 37.32
A20: 6 | E20: 77.28 | I20: 108.24 | M20: 23.28 | Q20: 38.28
A21: 7 | E21: 90.12 | I21: 162.78 | M21: 22.92 | Q21: 40.68
A22: 8 | E22: 108 | I22: 161.1 | M22: 26.76 | Q22: 39.78
A23: 9 | E23: 126.12 | I23: 171.24 | M23: 35.16 | Q23: 44.52
A24: 10 | E24: 137.64 | I24: 169.86 | M24: 36.48 | Q24: 43.74
A25: 11 | E25: 145.44 | I25: 179.04 | M25: 35.04 | Q25: 43.44
A26: 12 | E26: 140.52 | I26: 177.12 | M26: 37.32 | Q26: 45.12
... A38: 24 | E38: 94.08 | I38: 127.98 | M38: 24.6 | Q38: 38.16
A39: Итого | E39: =SUM(E15:E38) -> 2815.08 | I39: =SUM(I15:I38) -> 3537.18 | M39: =SUM(M15:M38) -> 717.24 | Q39: =SUM(Q15:Q38) -> 983.28
A40: 1. При наличии на предприятии отклонений от нормальных режимов электропотребления (временное изменение схем питания, остановка на ремонт, резкое снижение
A41: эл.потребления и т.д.) последние необходимо перечислить.
A42: Главный инженер АО "Вологдаоблэнерго" А.В. Чурляев
A43: составляется самим предприятием с соблюдением всех пунктов настоящей таблицы.
A48: 1 | B48: 2 | C48: 3 | D48: 4 | E48: 5 | F48: 6 | G48: 7 | H48: 8 | I48: 9 | J48: 10 | K48: 11 | L48: 12 | M48: 13 | N48: 14 | O48: 15 | P48: 16 | Q48: 17

Sheet 1
B1: АО "Вологдаоблэнерго" | J1: код 900151 | N1: ПС "АНАНЬИНО"
B2: наименование предприятия | N2: наименование источника питания
N3: _________________________________
B4: ул. Горького, 99 | I4: Таблица № 1 | O4: ВЛ № 31
B5: адрес
A6: почасовых записей показаний электрических счетчиков
A7: в режимный день 15 ДЕКАБРЯ 2021 г.
A8: 1629
A9: часы суток | B9: Активная энергия | J9: Реактивная энергия
B10: ЯЧ. № 7 - Ф."Город 7" | J10: ЯЧ. № 7 - Ф."Город 7"
B11: Расчет. Коэф. | E11: 3600 | F11: Расчет. Коэф. | J11: Расчет. Коэф. | M11: =E11 -> 3600 | N11: Расчет. Коэф.
B12: показания счетчика | C12: разность | E12: расход эл.энергии за час | F12: показания счетчика | G12: разность | I12: расход эл.энергии за час | J12: показания счетчика | K12: разность | M12: расход эл.энергии за час | N12: показания счетчика | O12: разность | Q12: расход эл.энергии за час
A13: 1 | B13: 2 | C13: 3 | E13: 4 | F13: 5 | G13: 6 | I13: 7 | J13: 8 | K13: 9 | M13: 10 | N13: 11 | O13: 12 | Q13: 13
A14: 0
A15: 1 | E15: 742 | M15: 199
A16: 2 | E16: 707 | M16: 200
A17: 3 | E17: 721 | M17: 201
A18: 4 | E18: 703 | M18: 196
A19: 5 | E19: 696 | M19: 192
A20: 6 | E20: 731 | M20: 192
A21: 7 | E21: 796 | M21: 192
A22: 8 | E22: 823 | M22: 191
A23: 9 | E23: 911 | M23: 251
A24: 10 | E24: 960 | M24: 308
A25: 11 | E25: 881 | M25: 288
A26: 12 | E26: 878 | M26: 265
... A38: 24 | E38: 730 | M38: 191
A39: Итого | E39: =SUM(E15:E38) -> 19616 | M39: =SUM(M15:M38) -> 5379
A40: 1. При наличии на предприятии отклонений от нормальных режимов электропотребления (временное изменение схем питания, остановка на ремонт, резкое снижение
A41: эл.потребления и т.д.) последние необходимо перечислить.
A42: Главный инженер АО "Вологдаоблэнерго" А.В. Чурляев
A43: составляется самим предприятием с соблюдением всех пунктов настоящей таблицы.

Sheet 2
B1: АО "Вологдаоблэнерго" | J1: код 900151 | N1: ПС "АНАНЬИНО"
B2: наименование предприятия | N2: наименование источника питания
N3: _________________________________
B4: ул. Горького, 99 | I4: Таблица № 1 | O4: РП 36 ф 16; ТП 360
B5: адрес
A6: почасовых записей показаний электрических счетчиков
A7: в режимный день 15 ДЕКАБРЯ 2021 г.
A8: 1630 | B8: 1628
A9: часы суток | B9: Активная энергия | J9: Реактивная энергия
B10: ЯЧ. № 2 - Ф."Овощехранилище" | F10: ЯЧ. № 8 - Ф."Городской" | J10: ЯЧ. № 2 - Ф."Овощехранилище" | N10: ЯЧ. № 8 - Ф."Городской"
B11: Расчет. Коэф. | E11: 3600 | F11: Расчет. Коэф. | I11: 2400 | J11: Расчет. Коэф. | M11: =E11 -> 3600 | N11: Расчет. Коэф. | Q11: =I11 -> 2400
B12: показания счетчика | C12: разность | E12: расход эл.энергии за час | F12: показания счетчика | G12: разность | I12: расход эл.энергии за час | J12: показания счетчика | K12: разность | M12: расход эл.энергии за час | N12: показания счетчика | O12: разность | Q12: расход эл.энергии за час
A13: 1 | B13: 2 | C13: 3 | E13: 4 | F13: 5 | G13: 6 | I13: 7 | J13: 8 | K13: 9 | M13: 10 | N13: 11 | O13: 12 | Q13: 13
A14: 0
A15: 1 | E15: 136 | I15: 336 | M15: 53 | Q15: 92
A16: 2 | E16: 130 | I16: 320 | M16: 51 | Q16: 89
A17: 3 | E17: 130 | I17: 316 | M17: 52 | Q17: 90
A18: 4 | E18: 130 | I18: 321 | M18: 51 | Q18: 90
A19: 5 | E19: 130 | I19: 322 | M19: 50 | Q19: 90
A20: 6 | E20: 128 | I20: 336 | M20: 51 | Q20: 89
A21: 7 | E21: 136 | I21: 352 | M21: 50 | Q21: 93
A22: 8 | E22: 139 | I22: 377 | M22: 46 | Q22: 103
A23: 9 | E23: 177 | I23: 382 | M23: 61 | Q23: 104
A24: 10 | E24: 201 | I24: 373 | M24: 91 | Q24: 96
A25: 11 | E25: 206 | I25: 362 | M25: 83 | Q25: 102
A26: 12 | E26: 243 | I26: 355 | M26: 117 | Q26: 117
... A38: 24 | E38: 133 | I38: 328 | M38: 47 | Q38: 91
A39: Итого | E39: =SUM(E16:E38) -> 3809 | I39: =SUM(I15:I38) -> 8421 | M39: =SUM(M15:M38) -> 1533 | Q39: =SUM(Q15:Q38) -> 2312
A40: 1. При наличии на предприятии отклонений от нормальных режимов электропотребления (временное изменение схем питания, остановка на ремонт, резкое снижение
A41: эл.потребления и т.д.) последние необходимо перечислить.
A42: Главный инженер АО "Вологдаоблэнерго" А.В. Чурляев
A43: составляется самим предприятием с соблюдением всех пунктов настоящей таблицы.

Sheet 3
B1: АО "Вологдаоблэнерго" | J1: код 900151 | N1: ПС 110 кВ ЕРМАКОВО
B2: наименование предприятия | N2: наименование источника питания
N3: яч. 18 ф."РУБЦОВО"
B4: ул. Горького, 99 | I4: Таблица № 1 | O4: ВЛ-10кВ № 2
B5: адрес
A6: почасовых записей показаний электрических счетчиков
A7: в режимный день 15 ДЕКАБРЯ 2021 г.
A8: 374
A9: часы суток | B9: Активная энергия | J9: Реактивная энергия
B10: яч. 18 ф."РУБЦОВО"- СВ - ВЛ№2 | J10: яч. 18 ф."РУБЦОВО"- СВ - ВЛ№2
B11: Расчет. Коэф. | E11: 1000 | F11: Расчет. Коэф. | I11: 0 | J11: Расчет. Коэф. | M11: =E11 -> 1000 | N11: Расчет. Коэф. | Q11: =I11 -> 0
B12: показания счетчика | C12: разность | E12: расход эл.энергии за час | F12: показания счетчика | G12: разность | I12: расход эл.энергии за час | J12: показания счетчика | K12: разность | M12: расход эл.энергии за час | N12: показания счетчика | O12: разность | Q12: расход эл.энергии за час
A13: 1 | B13: 2 | C13: 3 | E13: 4 | F13: 5 | G13: 6 | I13: 7 | J13: 8 | K13: 9 | M13: 10 | N13: 11 | O13: 12 | Q13: 13
A14: 0
A15: 1 | E15: 644.2 | M15: 28
A16: 2 | E16: 612.6 | M16: 22.6
A17: 3 | E17: 596.4 | M17: 25.4
A18: 4 | E18: 594 | M18: 23.2
A19: 5 | E19: 591 | M19: 23.4
A20: 6 | E20: 584.4 | M20: 21.8
A21: 7 | E21: 631.2 | M21: 25.4
A22: 8 | E22: 654.4 | M22: 26
A23: 9 | E23: 621.6 | M23: 23.6
A24: 10 | E24: 560.2 | M24: 20.8
A25: 11 | E25: 539.2 | M25: 22.2
A26: 12 | E26: 559.6 | M26: 26
... A38: 24 | E38: 658.4 | M38: 34.2
A39: Итого | E39: =SUM(E15:E38) -> 14688 | M39: =SUM(M16:M38) -> 610.4
A40: 1. При наличии на предприятии отклонений от нормальных режимов электропотребления (временное изменение схем питания, остановка на ремонт, резкое снижение
A41: эл.потребления и т.д.) последние необходимо перечислить.
A42: Главный инженер АО "Вологдаоблэнерго" А.В. Чурляев
A43: составляется самим предприятием с соблюдением всех пунктов настоящей таблицы.

Sheet 4
B1: АО "Вологдаоблэнерго" | J1: код 900151 | N1: ПС "МАЕГА"
B2: наименование предприятия | N2: наименование источника питания
N3: яч. 13 - Ф НИКИТИНО
B4: ул. Горького, 99 | I4: Таблица № 1 | O4: ВЛ №27
B5: адрес
A6: почасовых записей показаний электрических счетчиков
A7: в режимный день 15 ДЕКАБРЯ 2021 г.
A8: 363
A9: часы суток | B9: Активная энергия | J9: Реактивная энергия
B10: яч. 13 - Ф НИКИТИНО-СВ - ВЛ№27 | J10: яч. 13 - Ф НИКИТИНО-СВ - ВЛ№27
B11: Расчет. Коэф. | E11: 1500 | F11: Расчет. Коэф. | I11: 0 | J11: Расчет. Коэф. | M11: =E11 -> 1500 | N11: Расчет. Коэф. | Q11: =I11 -> 0
B12: показания счетчика | C12: разность | E12: расход эл.энергии за час | F12: показания счетчика | G12: разность | I12: расход эл.энергии за час | J12: показания счетчика | K12: разность | M12: расход эл.энергии за час | N12: показания счетчика | O12: разность | Q12: расход эл.энергии за час
A13: 1 | B13: 2 | C13: 3 | E13: 4 | F13: 5 | G13: 6 | I13: 7 | J13: 8 | K13: 9 | M13: 10 | N13: 11 | O13: 12 | Q13: 13
A14: 0
A15: 1 | E15: 698.85 | M15: 63.3
A16: 2 | E16: 664.5 | M16: 59.7
A17: 3 | E17: 657.45 | M17: 58.95
A18: 4 | E18: 660.3 | M18: 59.1
A19: 5 | E19: 669.9 | M19: 56.4
A20: 6 | E20: 714.6 | M20: 54.15
A21: 7 | E21: 764.1 | M21: 54.75
A22: 8 | E22: 778.65 | M22: 53.55
A23: 9 | E23: 762.45 | M23: 53.85
A24: 10 | E24: 728.4 | M24: 52.95
A25: 11 | E25: 719.55 | M25: 56.4
A26: 12 | E26: 702.45 | M26: 52.8
... A38: 24 | E38: 705.6 | M38: 60.9
A39: Итого | E39: =SUM(E15:E38) -> 17715.45 | M39: =SUM(M15:M38) -> 1397.25
A40: 1. При наличии на предприятии отклонений от нормальных режимов электропотребления (временное изменение схем питания, остановка на ремонт, резкое снижение
A41: эл.потребления и т.д.) последние необходимо перечислить.
A42: Главный инженер АО "Вологдаоблэнерго" А.В. Чурляев
A43: составляется самим предприятием с соблюдением всех пунктов настоящей таблицы.

Sheet 5
B1: АО "Вологдаоблэнерго" | J1: код 900151 | N1: ПС "ЗАПАДНАЯ"
B2: наименование предприятия | N2: наименование источника питания
N3: _________________________________
B4: ул. Горького, 99 | I4: Таблица № 1 | O4: РП 16
B5: адрес
A6: почасовых записей показаний электрических счетчиков
A7: в режимный день 15 ДЕКАБРЯ 2021 г.
A8: 372 | B8: 368
A9: часы суток | B9: Активная энергия | J9: Реактивная энергия
B10: Яч. 21 - "РМЗ-1" | F10: Яч. 28 - "РМЗ-2" | J10: Яч. 21 - "РМЗ-1" | N10: Яч. 28 - "РМЗ-2"
B11: Расчет. Коэф. | E11: 7200 | F11: Расчет. Коэф. | I11: 7200 | J11: Расчет. Коэф. | M11: =E11 -> 7200 | N11: Расчет. Коэф. | Q11: =I11 -> 7200
B12: показания счетчика | C12: разность | E12: расход эл.энергии за час | F12: показания счетчика | G12: разность | I12: расход эл.энергии за час | J12: показания счетчика | K12: разность | M12: расход эл.энергии за час | N12: показания счетчика | O12: разность | Q12: расход эл.энергии за час
A13: 1 | B13: 2 | C13: 3 | E13: 4 | F13: 5 | G13: 6 | I13: 7 | J13: 8 | K13: 9 | M13: 10 | N13: 11 | O13: 12 | Q13: 13
A14: 0
A15: 1 | E15: 399 | I15: 1275 | M15: 80 | Q15: 203
A16: 2 | E16: 381 | I16: 1184 | M16: 80 | Q16: 185
A17: 3 | E17: 374 | I17: 1130 | M17: 84 | Q17: 168
A18: 4 | E18: 373 | I18: 1104 | M18: 84 | Q18: 162
A19: 5 | E19: 376 | I19: 1112 | M19: 83 | Q19: 157
A20: 6 | E20: 433 | I20: 1236 | M20: 87 | Q20: 166
A21: 7 | E21: 480 | I21: 1460 | M21: 91 | Q21: 192
A22: 8 | E22: 621 | I22: 1791 | M22: 159 | Q22: 333
A23: 9 | E23: 816 | I23: 1990 | M23: 273 | Q23: 379
A24: 10 | E24: 886 | I24: 2079 | M24: 313 | Q24: 400
A25: 11 | E25: 823 | I25: 2091 | M25: 248 | Q25: 364
A26: 12 | E26: 834 | I26: 2117 | M26: 285 | Q26: 386
... A38: 24 | E38: 427 | I38: 1369 | M38: 75 | Q38: 220
A39: Итого | E39: =SUM(E15:E38) -> 14933 | I39: =SUM(I15:I38) -> 41083 | M39: =SUM(M15:M38) -> 4023 | Q39: =SUM(Q15:Q38) -> 6559
A40: 1. При наличии на предприятии отклонений от нормальных режимов электропотребления (временное изменение схем питания, остановка на ремонт, резкое снижение
A41: эл.потребления и т.д.) последние необходимо перечислить.
A42: Главный инженер АО "Вологдаоблэнерго" А.В. Чурляев
A43: составляется самим предприятием с соблюдением всех пунктов настоящей таблицы.

Sheet 6
B1: АО "Вологдаоблэнерго" | J1: код 900151 | N1: ПС "ЗАПАДНАЯ"
B2: наименование предприятия | N2: наименование источника питания
N3: _________________________________
B4: ул. Горького, 99 | I4: Таблица № 1 | N4: РП 10 ф7 | Q4: РП 36 ф17
B5: адрес
A6: почасовых записей показаний электрических счетчиков
A7: в режимный день 15 ДЕКАБРЯ 2021 г.
A8: 370 | B8: 365
A9: часы суток | B9: Активная энергия | J9: Реактивная энергия
B10: яч. 16 - ф."ОЧИСТНЫЕ-1" | F10: яч. 24 - "ГОРОД-1" | J10: яч. 16 - ф."ОЧИСТНЫЕ-1" | N10: яч. 24 - "ГОРОД-1"
B11: Расчет. Коэф. | E11: 4800 | F11: Расчет. Коэф. | I11: 7200 | J11: Расчет. Коэф. | M11: =E11 -> 4800 | N11: Расчет. Коэф. | Q11: =I11 -> 7200
B12: показания счетчика | C12: разность | E12: расход эл.энергии за час | F12: показания счетчика | G12: разность | I12: расход эл.энергии за час | J12: показания счетчика | K12: разность | M12: расход эл.энергии за час | N12: показания счетчика | O12: разность | Q12: расход эл.энергии за час
A13: 1 | B13: 2 | C13: 3 | E13: 4 | F13: 5 | G13: 6 | I13: 7 | J13: 8 | K13: 9 | M13: 10 | N13: 11 | O13: 12 | Q13: 13
A14: 0
A15: 1 | E15: 284 | I15: 1292 | M15: 52 | Q15: 606
A16: 2 | E16: 253 | I16: 1344 | M16: 48 | Q16: 538
A17: 3 | E17: 247 | I17: 1350 | M17: 48 | Q17: 635
A18: 4 | E18: 245 | I18: 1302 | M18: 44 | Q18: 615
A19: 5 | E19: 245 | I19: 1302 | M19: 43 | Q19: 599
A20: 6 | E20: 249 | I20: 1320 | M20: 45 | Q20: 604
A21: 7 | E21: 284 | I21: 1276 | M21: 53 | Q21: 594
A22: 8 | E22: 285 | I22: 1380 | M22: 52 | Q22: 552
A23: 9 | E23: 284 | I23: 1491 | M23: 50 | Q23: 657
A24: 10 | E24: 277 | I24: 1570 | M24: 43 | Q24: 701
A25: 11 | E25: 349 | I25: 1606 | M25: 57 | Q25: 685
A26: 12 | E26: 548 | I26: 1591 | M26: 95 | Q26: 716
... A38: 24 | E38: 443 | I38: 1321 | M38: 79 | Q38: 666
A39: Итого | E39: =SUM(E15:E38) -> 8864 | I39: =SUM(I15:I38) -> 34357 | M39: =SUM(M15:M38) -> 1560 | Q39: =SUM(Q15:Q38) -> 15677
A40: 1. При наличии на предприятии отклонений от нормальных режимов электропотребления (временное изменение схем питания, остановка на ремонт, резкое снижение
A41: эл.потребления и т.д.) последние необходимо перечислить.
A42: Главный инженер АО "Вологдаоблэнерго" А.В. Чурляев
A43: составляется самим предприятием с соблюдением всех пунктов настоящей таблицы.

Sheet 7
B1: АО "Вологдаоблэнерго" | J1: код 900151 | N1: ПС "ЗАПАДНАЯ"
B2: наименование предприятия | N2: наименование источника питания
N3: _________________________________
B4: ул. Горького, 99 | I4: Таблица № 1 | O4: РП 7
B5: адрес
A6: почасовых записей показаний электрических счетчиков
A7: в режимный день 15 ДЕКАБРЯ 2021 г.
A8: 371 | B8: 367
A9: часы суток | B9: Активная энергия | J9: Реактивная энергия
B10: яч. 3 "П/Я-1" | F10: яч. 10 "П/Я-2" | J10: яч. 3 "П/Я-1" | N10: яч. 10 "П/Я-2"
B11: Расчет. Коэф. | E11: 12000 | F11: Расчет. Коэф. | I11: 7200 | J11: Расчет. Коэф. | M11: =E11 -> 12000 | N11: Расчет. Коэф. | Q11: =I11 -> 7200
B12: показания счетчика | C12: разность | E12: расход эл.энергии за час | F12: показания счетчика | G12: разность | I12: расход эл.энергии за час | J12: показания счетчика | K12: разность | M12: расход эл.энергии за час | N12: показания счетчика | O12: разность | Q12: расход эл.энергии за час
A13: 1 | B13: 2 | C13: 3 | E13: 4 | F13: 5 | G13: 6 | I13: 7 | J13: 8 | K13: 9 | M13: 10 | N13: 11 | O13: 12 | Q13: 13
A14: 0
A15: 1 | E15: 1200 | I15: 1275 | M15: 252 | Q15: 203
A16: 2 | E16: 1141 | I16: 1184 | M16: 233 | Q16: 185
A17: 3 | E17: 1142 | I17: 1130 | M17: 239 | Q17: 168
A18: 4 | E18: 1144 | I18: 1104 | M18: 247 | Q18: 162
A19: 5 | E19: 1177 | I19: 1112 | M19: 240 | Q19: 157
A20: 6 | E20: 1270 | I20: 1236 | M20: 266 | Q20: 166
A21: 7 | E21: 1381 | I21: 1460 | M21: 285 | Q21: 192
A22: 8 | E22: 1439 | I22: 1791 | M22: 314 | Q22: 333
A23: 9 | E23: 1600 | I23: 1990 | M23: 389 | Q23: 379
A24: 10 | E24: 1735 | I24: 2079 | M24: 411 | Q24: 400
A25: 11 | E25: 1875 | I25: 2091 | M25: 468 | Q25: 364
A26: 12 | E26: 1812 | I26: 2117 | M26: 473 | Q26: 386
... A38: 24 | E38: 1437 | I38: 1369 | M38: 311 | Q38: 220
A39: Итого | E39: =SUM(E15:E38) -> 36629 | I39: =SUM(I15:I38) -> 41083 | M39: =SUM(M15:M38) -> 8340 | Q39: =SUM(Q15:Q38) -> 6559
A40: 1. При наличии на предприятии отклонений от нормальных режимов электропотребления (временное изменение схем питания, остановка на ремонт, резкое снижение
A41: эл.потребления и т.д.) последние необходимо перечислить.
A42: Главный инженер АО "Вологдаоблэнерго" А.В. Чурляев
A43: составляется самим предприятием с соблюдением всех пунктов настоящей таблицы.

Sheet 8
B1: АО "Вологдаоблэнерго" | J1: код 900151 | N1: ПС "ЗАПАДНАЯ"
B2: наименование предприятия | I2: _ | N2: наименование источника питания
N3: _________________________________
B4: ул. Горького, 99 | I4: Таблица № 1 | O4: РП 35; РП 37
B5: адрес
A6: почасовых записей показаний электрических счетчиков
A7: в режимный день 15 ДЕКАБРЯ 2021 г.
A8: 129 | B8: 130
A9: часы суток | B9: Активная энергия | J9: Реактивная энергия
B10: яч. 15 "РП -35" | F10: яч. 35 "РП-37" | J10: яч. 15 "РП -35" | N10: яч. 35 "РП-37"
B11: Расчет. Коэф. | E11: 3600 | F11: Расчет. Коэф. | I11: 4800 | J11: Расчет. Коэф. | M11: =E11 -> 3600 | N11: Расчет. Коэф. | Q11: =I11 -> 4800
B12: показания счетчика | C12: разность | E12: расход эл.энергии за час | F12: показания счетчика | G12: разность | I12: расход эл.энергии за час | J12: показания счетчика | K12: разность | M12: расход эл.энергии за час | N12: показания счетчика | O12: разность | Q12: расход эл.энергии за час
A13: 1 | B13: 2 | C13: 3 | E13: 4 | F13: 5 | G13: 6 | I13: 7 | J13: 8 | K13: 9 | M13: 10 | N13: 11 | O13: 12 | Q13: 13
A14: 0
A15: 1 | E15: 300 | I15: 458 | M15: 252 | Q15: 106
A16: 2 | E16: 298 | I16: 443 | M16: 252 | Q16: 113
A17: 3 | E17: 300 | I17: 514 | M17: 257 | Q17: 168
A18: 4 | E18: 298 | I18: 412 | M18: 253 | Q18: 99
A19: 5 | E19: 298 | I19: 407 | M19: 249 | Q19: 91
A20: 6 | E20: 300 | I20: 473 | M20: 242 | Q20: 88
A21: 7 | E21: 297 | I21: 524 | M21: 204 | Q21: 84
A22: 8 | E22: 298 | I22: 620 | M22: 202 | Q22: 84
A23: 9 | E23: 302 | I23: 681 | M23: 199 | Q23: 134
A24: 10 | E24: 301 | I24: 671 | M24: 196 | Q24: 147
A25: 11 | E25: 301 | I25: 695 | M25: 194 | Q25: 186
A26: 12 | E26: 302 | I26: 699 | M26: 193 | Q26: 169
... A38: 24 | E38: 300 | I38: 509 | M38: 189 | Q38: 117
A39: Итого | E39: =SUM(E15:E38) -> 7221 | I39: =SUM(I15:I38) -> 14077 | M39: =SUM(M15:M38) -> 5002 | Q39: =SUM(Q15:Q38) -> 3051
A40: 1. При наличии на предприятии отклонений от нормальных режимов электропотребления (временное изменение схем питания, остановка на ремонт, резкое снижение
A41: эл.потребления и т.д.) последние необходимо перечислить.
A42: Главный инженер АО "Вологдаоблэнерго" А.В. Чурляев
A43: составляется самим предприятием с соблюдением всех пунктов настоящей таблицы.

Sheet 9
B1: АО "Вологдаоблэнерго" | J1: код 900151 | N1: ПС "ЗАПАДНАЯ"
B2: наименование предприятия | N2: наименование источника питания
N3: _________________________________
B4: ул. Горького, 99 | I4: Таблица № 1 | O4: РП 28
B5: адрес
A6: почасовых записей показаний электрических счетчиков
A7: в режимный день 15 ДЕКАБРЯ 2021 г.
A8: 366 | B8: 369
A9: часы суток | B9: Активная энергия | J9: Реактивная энергия
B10: яч. 17 "ГОРОД-2" | F10: яч. 22 - "ОЧИСТНЫЕ-2" | J10: ЯЧ. №17 - "ГОРОД-2" | N10: ЯЧ. №22 - "ОЧИСТНЫЕ-2"
B11: Расчет. Коэф. | E11: 7200 | F11: Расчет. Коэф. | I11: 7200 | J11: Расчет. Коэф. | M11: =E11 -> 7200 | N11: Расчет. Коэф. | Q11: =I11 -> 7200
B12: показания счетчика | C12: разность | E12: расход эл.энергии за час | F12: показания счетчика | G12: разность | I12: расход эл.энергии за час | J12: показания счетчика | K12: разность | M12: расход эл.энергии за час | N12: показания счетчика | O12: разность | Q12: расход эл.энергии за час
A13: 1 | B13: 2 | C13: 3 | E13: 4 | F13: 5 | G13: 6 | I13: 7 | J13: 8 | K13: 9 | M13: 10 | N13: 11 | O13: 12 | Q13: 13
A14: 0
A15: 1 | E15: 787 | I15: 748 | M15: 192 | Q15: 309
A16: 2 | E16: 771 | I16: 776 | M16: 182 | Q16: 317
A17: 3 | E17: 749 | I17: 860 | M17: 186 | Q17: 360
A18: 4 | E18: 755 | I18: 742 | M18: 183 | Q18: 293
A19: 5 | E19: 768 | I19: 732 | M19: 181 | Q19: 284
A20: 6 | E20: 790 | I20: 788 | M20: 187 | Q20: 290
A21: 7 | E21: 906 | I21: 994 | M21: 215 | Q21: 299
A22: 8 | E22: 1138 | I22: 1068 | M22: 306 | Q22: 305
A23: 9 | E23: 1366 | I23: 1194 | M23: 395 | Q23: 373
A24: 10 | E24: 1510 | I24: 1265 | M24: 481 | Q24: 379
A25: 11 | E25: 1479 | I25: 1308 | M25: 449 | Q25: 407
A26: 12 | E26: 1477 | I26: 1092 | M26: 535 | Q26: 396
... A38: 24 | E38: 925 | I38: 751 | M38: 257 | Q38: 322
A39: Итого | E39: =SUM(E15:E38) -> 27330 | I39: =SUM(I15:I38) -> 23783 | M39: =SUM(M15:M38) -> 8105 | Q39: =SUM(Q15:Q38) -> 8197
A40: 1. При наличии на предприятии отклонений от нормальных режимов электропотребления (временное изменение схем питания, остановка на ремонт, резкое снижение
A41: эл.потребления и т.д.) последние необходимо перечислить.
A42: Главный инженер АО "Вологдаоблэнерго" А.В. Чурляев
A43: составляется самим предприятием с соблюдением всех пунктов настоящей таблицы.

Sheet 10
B1: АО "Вологдаоблэнерго" | J1: код 900151 | N1: ПС "СЕВЕРНАЯ 35/6 кВ
B2: наименование предприятия | N2: наименование источника питания
N3: _________________________________
B4: ул. Горького, 99 | I4: Таблица № 1 | N4: Т1, Т2 | O4: РП 5
B5: адрес
A6: почасовых записей показаний электрических счетчиков
A7: в режимный день 15 ДЕКАБРЯ 2021 г.
A8: 325 | B8: 328
A9: часы суток | B9: Активная энергия | J9: Реактивная энергия
B10: Т 1 -РП 5 Ф 3 ввод № 1 | F10: Т 2 - РП 5 Ф 17 ввод № 2 | J10: Т 1 -РП 5 Ф 3 ввод № 1 | N10: Т 2 - РП 5 Ф 17 ввод № 2
B11: Расчет. Коэф. | E11: 18000 | F11: Расчет. Коэф. | I11: 18000 | J11: Расчет. Коэф. | M11: =E11 -> 18000 | N11: Расчет. Коэф. | Q11: =I11 -> 18000
B12: показания счетчика | C12: разность | E12: расход эл.энергии за час | F12: показания счетчика | G12: разность | I12: расход эл.энергии за час | J12: показания счетчика | K12: разность | M12: расход эл.энергии за час | N12: показания счетчика | O12: разность | Q12: расход эл.энергии за час
A13: 1 | B13: 2 | C13: 3 | E13: 4 | F13: 5 | G13: 6 | I13: 7 | J13: 8 | K13: 9 | M13: 10 | N13: 11 | O13: 12 | Q13: 13
A14: 0
A15: 1 | E15: 1603.8 | I15: 2520
A16: 2 | E16: 1515.6 | I16: 2358
A17: 3 | E17: 1537.2 | I17: 2286
A18: 4 | E18: 1510.2 | I18: 2307.6
A19: 5 | E19: 1499.4 | I19: 2295
A20: 6 | E20: 1537.2 | I20: 2453.4
A21: 7 | E21: 1731.6 | I21: 2887.2
A22: 8 | E22: 1864.8 | I22: 3202.2
A23: 9 | E23: 1915.2 | I23: 3706.2
A24: 10 | E24: 1778.4 | I24: 4042.8
A25: 11 | E25: 1884.6 | I25: 4127.4
A26: 12 | E26: 2088 | I26: 3871.8
... A38: 24 | E38: 1630.8 | I38: 2689.2
A39: Итого | E39: =SUM(E15:E38) -> 43828.2 | I39: =SUM(I15:I38) -> 79317 | M39: =SUM(M15:M38) -> 0 | Q39: =SUM(Q15:Q38) -> 0
A40: 1. При наличии на предприятии отклонений от нормальных режимов электропотребления (временное изменение схем питания, остановка на ремонт, резкое снижение
A41: эл.потребления и т.д.) последние необходимо перечислить.
A42: Главный инженер АО "Вологдаоблэнерго" А.В. Чурляев
A43: составляется самим предприятием с соблюдением всех пунктов настоящей таблицы.

Sheet 11
B1: АО "Вологдаоблэнерго" | G1: код 900151 | I1: ПС "ВОЛОГДА-ЮЖНАЯ" 110/6 транзит через РТП "ТЕПЛИЧНОГО ХОЗ - ВА"
B2: наименование предприятия | N2: наименование источника питания
N3: _________________________________
B4: ул. Горького, 99 | I4: Таблица № 1 | O4: ТП 438
B5: адрес
A6: почасовых записей показаний электрических счетчиков
A7: в режимный день 15 ДЕКАБРЯ 2021 г.
A8: 635 | B8: 634
A9: часы суток | B9: Активная энергия | J9: Реактивная энергия
B10: ЯЧ. 3 - ф. "Микрорайон-1" ввод № 1 | F10: яч. 13 - ф. "Микрорайон-2" ввод № 2 | J10: ЯЧ. 3 - ф. "Микрорайон-1" ввод № 1 | N10: яч. 13 - ф. "Микрорайон-2" ввод № 2
B11: Расчет. Коэф. | E11: 3600 | F11: Расчет. Коэф. | I11: 3600 | J11: Расчет. Коэф. | M11: =E11 -> 3600 | N11: Расчет. Коэф. | Q11: =I11 -> 3600
B12: показания счетчика | C12: разность | E12: расход эл.энергии за час | F12: показания счетчика | G12: разность | I12: расход эл.энергии за час | J12: показания счетчика | K12: разность | M12: расход эл.энергии за час | N12: показания счетчика | O12: разность | Q12: расход эл.энергии за час
A13: 1 | B13: 2 | C13: 3 | E13: 4 | F13: 5 | G13: 6 | I13: 7 | J13: 8 | K13: 9 | M13: 10 | N13: 11 | O13: 12 | Q13: 13
A14: 0
A15: 1 | E15: 130.32 | I15: 149.4 | M15: 45.36 | Q15: 50.04
A16: 2 | E16: 118.8 | I16: 136.44 | M16: 41.04 | Q16: 48.96
A17: 3 | E17: 114.48 | I17: 129.6 | M17: 42.48 | Q17: 49.32
A18: 4 | E18: 117 | I18: 123.84 | M18: 43.56 | Q18: 48.24
A19: 5 | E19: 114.84 | I19: 130.68 | M19: 41.4 | Q19: 47.52
A20: 6 | E20: 142.92 | I20: 164.16 | M20: 42.48 | Q20: 47.88
A21: 7 | E21: 170.28 | I21: 186.84 | M21: 43.2 | Q21: 49.68
A22: 8 | E22: 189.36 | I22: 217.44 | M22: 42.12 | Q22: 53.64
A23: 9 | E23: 215.64 | I23: 259.92 | M23: 49.68 | Q23: 55.44
A24: 10 | E24: 207 | I24: 268.92 | M24: 51.48 | Q24: 58.32
A25: 11 | E25: 221.04 | I25: 258.12 | M25: 52.92 | Q25: 54.36
A26: 12 | E26: 245.88 | I26: 246.96 | M26: 52.92 | Q26: 52.2
... A38: 24 | E38: 154.08 | I38: 180 | M38: 50.04 | Q38: 52.56
A39: Итого | E39: =SUM(E15:E38) -> 4568.76 | I39: =SUM(I15:I38) -> 5252.04 | M39: =SUM(M15:M38) -> 1221.12 | Q39: =SUM(Q15:Q38) -> 1274.04
A40: 1. При наличии на предприятии отклонений от нормальных режимов электропотребления (временное изменение схем питания, остановка на ремонт, резкое снижение
A41: эл.потребления и т.д.) последние необходимо перечислить.
A42: Главный инженер АО "Вологдаоблэнерго" А.В. Чурляев
A43: составляется самим предприятием с соблюдением всех пунктов настоящей таблицы.

Sheet 12
B1: АО "Вологдаоблэнерго" | J1: код 900151 | N1: ГПП 110/10 кВ "ВОМЗ"
B2: наименование предприятия | N2: наименование источника питания
N3: _________________________________
B4: ул. Горького, 99 | I4: Таблица № 1 | O4: РП 29
B5: адрес
A6: почасовых записей показаний электрических счетчиков
A7: в режимный день 15 ДЕКАБРЯ 2021 г.
A8: 613 | B8: 610
A9: часы суток | B9: Активная энергия | J9: Реактивная энергия
B10: ЯЧ.47 - РП 29 ввод № 1 | F10: ЯЧ.31 - РП 29 ввод № 2 | J10: ЯЧ.47 - РП 29 ввод № 1 | N10: ЯЧ.31 - РП 29 ввод № 2
B11: Расчет. Коэф. | E11: 12000 | F11: Расчет. Коэф. | I11: 20000 | J11: Расчет. Коэф. | M11: =E11 -> 12000 | N11: Расчет. Коэф. | Q11: =I11 -> 20000
B12: показания счетчика | C12: разность | E12: расход эл.энергии за час | F12: показания счетчика | G12: разность | I12: расход эл.энергии за час | J12: показания счетчика | K12: разность | M12: расход эл.энергии за час | N12: показания счетчика | O12: разность | Q12: расход эл.энергии за час
A13: 1 | B13: 2 | C13: 3 | E13: 4 | F13: 5 | G13: 6 | I13: 7 | J13: 8 | K13: 9 | M13: 10 | N13: 11 | O13: 12 | Q13: 13
A14: 0
A15: 1 | E15: 1062 | I15: 780 | M15: 288 | Q15: 130
A16: 2 | E16: 969 | I16: 722 | M16: 271 | Q16: 124
A17: 3 | E17: 926 | I17: 702 | M17: 270 | Q17: 124
A18: 4 | E18: 907 | I18: 688 | M18: 259 | Q18: 120
A19: 5 | E19: 903 | I19: 724 | M19: 264 | Q19: 116
A20: 6 | E20: 1038 | I20: 760 | M20: 262 | Q20: 118
A21: 7 | E21: 1298 | I21: 1080 | M21: 270 | Q21: 140
A22: 8 | E22: 1666 | I22: 1292 | M22: 319 | Q22: 174
A23: 9 | E23: 1934 | I23: 1570 | M23: 358 | Q23: 244
A24: 10 | E24: 2191 | I24: 1660 | M24: 358 | Q24: 244
A25: 11 | E25: 2249 | I25: 1750 | M25: 347 | Q25: 242
A26: 12 | E26: 2213 | I26: 1736 | M26: 343 | Q26: 240
... A38: 24 | E38: 1198 | I38: 870 | M38: 281 | Q38: 132
A39: Итого | E39: =SUM(E15:E38) -> 41169 | I39: =SUM(I15:I38) -> 31146 | M39: =SUM(M15:M38) -> 7703 | Q39: =SUM(Q15:Q38) -> 4428
A40: 1. При наличии на предприятии отклонений от нормальных режимов электропотребления (временное изменение схем питания, остановка на ремонт, резкое снижение
A41: эл.потребления и т.д.) последние необходимо перечислить.
A42: Главный инженер АО "Вологдаоблэнерго" А.В. Чурляев
A43: составляется самим предприятием с соблюдением всех пунктов настоящей таблицы.

Sheet 13
B1: АО "Вологдаоблэнерго" | J1: код 900151 | N1: ГПП 110/10 кВ "ВОМЗ"
B2: наименование предприятия | N2: наименование источника питания
N3: _________________________________
B4: ул. Горького, 99 | I4: Таблица № 1 | O4: РП 14
B5: адрес
A6: почасовых записей показаний электрических счетчиков
A7: в режимный день 15 ДЕКАБРЯ 2021 г.
A8: 614 | B8: 615
A9: часы суток | B9: Активная энергия | J9: Реактивная энергия
B10: ЯЧ.5 - РП 14 ввод № 1 | F10: ЯЧ.22 - РП 14 ввод № 2 | J10: ЯЧ.5 - РП 14 ввод № 1 | N10: ЯЧ.22 - РП 14 ввод № 2
B11: Расчет. Коэф. | E11: 12000 | F11: Расчет. Коэф. | I11: 12000 | J11: Расчет. Коэф. | M11: =E11 -> 12000 | N11: Расчет. Коэф. | Q11: =I11 -> 12000
B12: показания счетчика | C12: разность | E12: расход эл.энергии за час | F12: показания счетчика | G12: разность | I12: расход эл.энергии за час | J12: показания счетчика | K12: разность | M12: расход эл.энергии за час | N12: показания счетчика | O12: разность | Q12: расход эл.энергии за час
A13: 1 | B13: 2 | C13: 3 | E13: 4 | F13: 5 | G13: 6 | I13: 7 | J13: 8 | K13: 9 | M13: 10 | N13: 11 | O13: 12 | Q13: 13
A14: 0
A15: 1 | E15: 2291 | I15: 2145 | M15: 44 | Q15: 114
A16: 2 | E16: 2188 | I16: 1936 | M16: 35 | Q16: 76
A17: 3 | E17: 2118 | I17: 1860 | M17: 22 | Q17: 82
A18: 4 | E18: 2074 | I18: 1828 | M18: 33 | Q18: 77
A19: 5 | E19: 2075 | I19: 1835 | M19: 21 | Q19: 71
A20: 6 | E20: 2175 | I20: 1982 | M20: 8 | Q20: 79
A21: 7 | E21: 2597 | I21: 2518 | M21: 18 | Q21: 81
A22: 8 | E22: 3039 | I22: 3073 | M22: 94 | Q22: 162
A23: 9 | E23: 3337 | I23: 3538 | M23: 148 | Q23: 391
A24: 10 | E24: 3678 | I24: 3729 | M24: 200 | Q24: 431
A25: 11 | E25: 3852 | I25: 3798 | M25: 174 | Q25: 429
A26: 12 | E26: 3843 | I26: 3748 | M26: 175 | Q26: 439
... A38: 24 | E38: 2621 | I38: 2409 | M38: 50 | Q38: 128
A39: Итого | E39: =SUM(E15:E38) -> 76571 | I39: =SUM(I15:I38) -> 73573 | M39: =SUM(M15:M38) -> 2390 | Q39: =SUM(Q15:Q38) -> 5988
A40: 1. При наличии на предприятии отклонений от нормальных режимов электропотребления (временное изменение схем питания, остановка на ремонт, резкое снижение
A41: эл.потребления и т.д.) последние необходимо перечислить.
A42: Главный инженер АО "Вологдаоблэнерго" А.В. Чурляев
A43: составляется самим предприятием с соблюдением всех пунктов настоящей таблицы.

Sheet 14
B1: АО "Вологдаоблэнерго" | J1: код 900151 | N1: ГПП 110/10 кВ "ВОМЗ"
B2: наименование предприятия | N2: наименование источника питания
N3: _________________________________
B4: ул. Горького, 99 | I4: Таблица № 1 | O4: РП 2
B5: адрес
A6: почасовых записей показаний электрических счетчиков
A7: в режимный день 15 ДЕКАБРЯ 2021 г.
A8: 612 | B8: 611
A9: часы суток | B9: Активная энергия | J9: Реактивная энергия
B10: ЯЧ.44 - РП 2 ввод № 1 | F10: ЯЧ.26в - РП 2 ввод № 2 | J10: ЯЧ.44 - РП 2 ввод № 1 | N10: ЯЧ.26в - РП 2 ввод № 2
B11: Расчет. Коэф. | E11: 12000 | F11: Расчет. Коэф. | I11: 12000 | J11: Расчет. Коэф. | M11: =E11 -> 12000 | N11: Расчет. Коэф. | Q11: =I11 -> 12000
B12: показания счетчика | C12: разность | E12: расход эл.энергии за час | F12: показания счетчика | G12: разность | I12: расход эл.энергии за час | J12: показания счетчика | K12: разность | M12: расход эл.энергии за час | N12: показания счетчика | O12: разность | Q12: расход эл.энергии за час
A13: 1 | B13: 2 | C13: 3 | E13: 4 | F13: 5 | G13: 6 | I13: 7 | J13: 8 | K13: 9 | M13: 10 | N13: 11 | O13: 12 | Q13: 13
A14: 0
A15: 1 | E15: 560 | I15: 521 | M15: 9 | Q15: 1
A16: 2 | E16: 520 | I16: 495 | M16: 8 | Q16: 0
A17: 3 | E17: 494 | I17: 472 | M17: 5 | Q17: 0
A18: 4 | E18: 485 | I18: 471 | M18: 2 | Q18: 0
A19: 5 | E19: 485 | I19: 480 | M19: 0 | Q19: 0
A20: 6 | E20: 546 | I20: 515 | M20: 1 | Q20: 0
A21: 7 | E21: 653 | I21: 577 | M21: 3 | Q21: 0
A22: 8 | E22: 783 | I22: 692 | M22: 8 | Q22: 6
A23: 9 | E23: 888 | I23: 848 | M23: 61 | Q23: 12
A24: 10 | E24: 951 | I24: 932 | M24: 62 | Q24: 34
A25: 11 | E25: 1000 | I25: 984 | M25: 57 | Q25: 43
A26: 12 | E26: 959 | I26: 974 | M26: 60 | Q26: 37
... A38: 24 | E38: 599 | I38: 603 | M38: 4 | Q38: 47
A39: Итого | E39: =SUM(I15:I38) -> 18503 | I39: =SUM(I15:I38) -> 18503 | M39: =SUM(M15:M38) -> 779 | Q39: =SUM(Q15:Q38) -> 775
A40: 1. При наличии на предприятии отклонений от нормальных режимов электропотребления (временное изменение схем питания, остановка на ремонт, резкое снижение
A41: эл.потребления и т.д.) последние необходимо перечислить.
A42: Главный инженер АО "Вологдаоблэнерго" А.В. Чурляев
A43: составляется самим предприятием с соблюдением всех пунктов настоящей таблицы.

Sheet 15
B1: АО "Вологдаоблэнерго" | J1: код 900151 | N1: ПС ВОЛОГДА-ЮЖНАЯ РУ - 6 кВ
B2: наименование предприятия | N2: наименование источника питания
N3: _________________________________
B4: ул. Горького, 99 | I4: Таблица № 1 | N4: ТП 450 | Q4: ТП 630
B5: адрес
A6: почасовых записей показаний электрических счетчиков
A7: в режимный день 18 ДЕКАБРЯ 2019 г..
A8: 591 | B8: 595
A9: часы суток | B9: Активная энергия | J9: Реактивная энергия
B10: ЯЧ.№ 206 - "ГОРОД-15" | F10: ЯЧ.№103 - "ТУБДИСПАНСЕР" | J10: =B10 -> ЯЧ.№ 206 - "ГОРОД-15" | N10: =F10 -> ЯЧ.№103 - "ТУБДИСПАНСЕР"
B11: Расчет. Коэф. | E11: 4800 | F11: Расчет. Коэф. | I11: 2400 | J11: Расчет. Коэф. | M11: =E11 -> 4800 | N11: Расчет. Коэф. | Q11: =I11 -> 2400
B12: показания счетчика | C12: разность | E12: расход эл.энергии за час | F12: показания счетчика | G12: разность | I12: расход эл.энергии за час | J12: показания счетчика | K12: разность | M12: расход эл.энергии за час | N12: показания счетчика | O12: разность | Q12: расход эл.энергии за час
A13: 1 | B13: 2 | C13: 3 | E13: 4 | F13: 5 | G13: 6 | I13: 7 | J13: 8 | K13: 9 | M13: 10 | N13: 11 | O13: 12 | Q13: 13
A14: 0
A15: 1 | E15: 174 | I15: 443 | M15: 31 | Q15: 82
A16: 2 | E16: 197 | I16: 395 | M16: 46 | Q16: 74
A17: 3 | E17: 190 | I17: 392 | M17: 48 | Q17: 76
A18: 4 | E18: 174 | I18: 403 | M18: 43 | Q18: 76
A19: 5 | E19: 172 | I19: 382 | M19: 40 | Q19: 72
A20: 6 | E20: 179 | I20: 408 | M20: 34 | Q20: 71
A21: 7 | E21: 238 | I21: 461 | M21: 39 | Q21: 76
A22: 8 | E22: 295 | I22: 524 | M22: 80 | Q22: 91
A23: 9 | E23: 355 | I23: 606 | M23: 175 | Q23: 118
A24: 10 | E24: 375 | I24: 567 | M24: 192 | Q24: 108
A25: 11 | E25: 405 | I25: 537 | M25: 177 | Q25: 92
A26: 12 | E26: 469 | I26: 561 | M26: 193 | Q26: 100
... A38: 24 | E38: 230 | I38: 455 | M38: 64 | Q38: 76
A39: Итого | E39: =SUM(E15:E38) -> 7309 | I39: =SUM(I15:I38) -> 12384 | M39: =SUM(M15:M38) -> 2440 | Q39: =SUM(Q15:Q38) -> 2129
A40: 1. При наличии на предприятии отклонений от нормальных режимов электропотребления (временное изменение схем питания, остановка на ремонт, резкое снижение
A41: эл.потребления и т.д.) последние необходимо перечислить.
A42: Главный инженер АО "Вологдаоблэнерго" А.В. Чурляев
A43: составляется самим предприятием с соблюдением всех пунктов настоящей таблицы.

Sheet 16
B1: АО "Вологдаоблэнерго" | J1: код 900151 | N1: ПС ВОЛОГДА-ЮЖНАЯ РУ-10 кВ
B2: наименование предприятия | I2: _ | N2: наименование источника питания
N3: _________________________________
B4: ул. Горького, 99 | I4: Таблица № 1 | O4: РП 32
B5: адрес
A6: почасовых записей показаний электрических счетчиков
A7: в режимный день 15 ДЕКАБРЯ 2021 г.
A8: 590 | B8: 593
A9: часы суток | B9: Активная энергия | J9: Реактивная энергия
B10: ЯЧ.№206 - "ГОРОД-10" | F10: ЯЧ.№404- "ГОРОД-14" | J10: =B10 -> ЯЧ.№206 - "ГОРОД-10" | N10: =F10 -> ЯЧ.№404- "ГОРОД-14"
B11: Расчет. Коэф. | E11: 6000 | F11: Расчет. Коэф. | I11: 3000 | J11: Расчет. Коэф. | M11: =E11 -> 6000 | N11: Расчет. Коэф. | Q11: =I11 -> 3000
B12: показания счетчика | C12: разность | E12: расход эл.энергии за час | F12: показания счетчика | G12: разность | I12: расход эл.энергии за час | J12: показания счетчика | K12: разность | M12: расход эл.энергии за час | N12: показания счетчика | O12: разность | Q12: расход эл.энергии за час
A13: 1 | B13: 2 | C13: 3 | E13: 4 | F13: 5 | G13: 6 | I13: 7 | J13: 8 | K13: 9 | M13: 10 | N13: 11 | O13: 12 | Q13: 13
A14: 0
A15: 1 | E15: 232 | I15: 582 | M15: 0 | Q15: 105
A16: 2 | E16: 229 | I16: 577 | M16: 0 | Q16: 103
A17: 3 | E17: 227 | I17: 574 | M17: 0 | Q17: 102
A18: 4 | E18: 225 | I18: 570 | M18: 0 | Q18: 96
A19: 5 | E19: 221 | I19: 680 | M19: 0 | Q19: 97
A20: 6 | E20: 233 | I20: 735 | M20: 0 | Q20: 101
A21: 7 | E21: 248 | I21: 720 | M21: 0 | Q21: 100
A22: 8 | E22: 320 | I22: 974 | M22: 0 | Q22: 128
A23: 9 | E23: 410 | I23: 1295 | M23: 0 | Q23: 148
A24: 10 | E24: 422 | I24: 1419 | M24: 0 | Q24: 169
A25: 11 | E25: 421 | I25: 1460 | M25: 2 | Q25: 171
A26: 12 | E26: 405 | I26: 1400 | M26: 0 | Q26: 162
... A38: 24 | E38: 236 | I38: 593 | M38: 0 | Q38: 91
A39: Итого | E39: =SUM(E15:E38) -> 7441 | I39: =SUM(I15:I38) -> 22244 | M39: =SUM(M15:M38) -> 3 | Q39: =SUM(Q15:Q38) -> 2926
A40: 1. При наличии на предприятии отклонений от нормальных режимов электропотребления (временное изменение схем питания, остановка на ремонт, резкое снижение
A41: эл.потребления и т.д.) последние необходимо перечислить.
A42: Главный инженер АО "Вологдаоблэнерго" А.В. Чурляев
A43: составляется самим предприятием с соблюдением всех пунктов настоящей таблицы.

Sheet 17
B1: АО "Вологдаоблэнерго" | J1: код 900151 | N1: ПС ВОЛОГДА-ЮЖНАЯ РУ- 6 кВ
B2: наименование предприятия | N2: наименование источника питания
N3: _________________________________
B4: ул. Горького, 99 | I4: Таблица № 1 | O4: ТП 461
B5: адрес
A6: почасовых записей показаний электрических счетчиков
A7: в режимный день 15 ДЕКАБРЯ 2021 г.
A8: 594
A9: часы суток | B9: Активная энергия | J9: Реактивная энергия
B10: ЯЧ.№203 - "ГОРОД 20" | J10: ЯЧ.№203 - "ГОРОД 20"
B11: Расчет. Коэф. | E11: 7200 | F11: Расчет. Коэф. | I11: 0 | J11: Расчет. Коэф. | M11: =E11 -> 7200 | N11: Расчет. Коэф. | Q11: =I11 -> 0
B12: показания счетчика | C12: разность | E12: расход эл.энергии за час | F12: показания счетчика | G12: разность | I12: расход эл.энергии за час | J12: показания счетчика | K12: разность | M12: расход эл.энергии за час | N12: показания счетчика | O12: разность | Q12: расход эл.энергии за час
A13: 1 | B13: 2 | C13: 3 | E13: 4 | F13: 5 | G13: 6 | I13: 7 | J13: 8 | K13: 9 | M13: 10 | N13: 11 | O13: 12 | Q13: 13
A14: 0
A15: 1 | E15: 146 | M15: 24
A16: 2 | E16: 129 | M16: 24
A17: 3 | E17: 120 | M17: 24
A18: 4 | E18: 114 | M18: 22
A19: 5 | E19: 136 | M19: 21
A20: 6 | E20: 213 | M20: 26
A21: 7 | E21: 253 | M21: 31
A22: 8 | E22: 296 | M22: 39
A23: 9 | E23: 319 | M23: 40
A24: 10 | E24: 328 | M24: 44
A25: 11 | E25: 317 | M25: 44
A26: 12 | E26: 287 | M26: 38
... A38: 24 | E38: 187 | M38: 26
A39: Итого | E39: =SUM(E15:E38) -> 5765 | M39: =SUM(M15:M38) -> 775
A40: 1. При наличии на предприятии отклонений от нормальных режимов электропотребления (временное изменение схем питания, остановка на ремонт, резкое снижение
A41: эл.потребления и т.д.) последние необходимо перечислить.
A42: Главный инженер АО "Вологдаоблэнерго" А.В. Чурляев
A43: составляется самим предприятием с соблюдением всех пунктов настоящей таблицы.

Sheet 18
B1: АО "Вологдаоблэнерго" | J1: код 900151 | N1: ПС ВОЛОГДА-ЮЖНАЯ РУ-10 кВ
B2: наименование предприятия | N2: наименование источника питания
N3: _________________________________
B4: ул. Горького, 99 | I4: Таблица № 1 | O4: РП 26
B5: адрес
A6: почасовых записей показаний электрических счетчиков
A7: в режимный день 16 ДЕКАБРЯ 2015 __ г.
A8: 589 | B8: 592
A9: часы суток | B9: Активная энергия | J9: Реактивная энергия
B10: ЯЧ. № 107- ф."ГОРОД 7" | F10: ЯЧ. № 204 - ф."ГОРОД 17" | J10: ЯЧ. № 107- ф."ГОРОД 7" | N10: ЯЧ. № 204 - ф."ГОРОД 17"
B11: Расчет. Коэф. | E11: 8000 | F11: Расчет. Коэф. | I11: 8000 | J11: Расчет. Коэф. | M11: =E11 -> 8000 | N11: Расчет. Коэф. | Q11: =I11 -> 8000
B12: показания счетчика | C12: разность | E12: расход эл.энергии за час | F12: показания счетчика | G12: разность | I12: расход эл.энергии за час | J12: показания счетчика | K12: разность | M12: расход эл.энергии за час | N12: показания счетчика | O12: разность | Q12: расход эл.энергии за час
A13: 1 | B13: 2 | C13: 3 | E13: 4 | F13: 5 | G13: 6 | I13: 7 | J13: 8 | K13: 9 | M13: 10 | N13: 11 | O13: 12 | Q13: 13
A14: 0
A15: 1 | E15: 1527 | I15: 1377 | M15: 262 | Q15: 137
A16: 2 | E16: 1385 | I16: 1255 | M16: 250 | Q16: 126
A17: 3 | E17: 1320 | I17: 1203 | M17: 250 | Q17: 127
A18: 4 | E18: 1284 | I18: 1180 | M18: 244 | Q18: 119
A19: 5 | E19: 1291 | I19: 1236 | M19: 235 | Q19: 109
A20: 6 | E20: 1361 | I20: 1431 | M20: 237 | Q20: 121
A21: 7 | E21: 1768 | I21: 1764 | M21: 260 | Q21: 145
A22: 8 | E22: 2058 | I22: 2059 | M22: 384 | Q22: 216
A23: 9 | E23: 2153 | I23: 2285 | M23: 349 | Q23: 251
A24: 10 | E24: 2212 | I24: 2309 | M24: 327 | Q24: 232
A25: 11 | E25: 2270 | I25: 2309 | M25: 313 | Q25: 221
A26: 12 | E26: 2235 | I26: 2269 | M26: 318 | Q26: 212
... A38: 24 | E38: 1786 | I38: 1620 | M38: 256 | Q38: 141
A39: Итого | E39: =SUM(E15:E38) -> 49807 | I39: =SUM(I15:I38) -> 46923 | M39: =SUM(M15:M38) -> 7557 | Q39: =SUM(Q15:Q38) -> 4413
A40: 1. При наличии на предприятии отклонений от нормальных режимов электропотребления (временное изменение схем питания, остановка на ремонт, резкое снижение
A41: эл.потребления и т.д.) последние необходимо перечислить.
A42: Главный инженер АО "Вологдаоблэнерго" А.В. Чурляев
A43: составляется самим предприятием с соблюдением всех пунктов настоящей таблицы.

Sheet 19
B1: АО "Вологдаоблэнерго" | J1: код 900151 | N1: ПС ВОЛОГДА-ЮЖНАЯ РУ - 10 кВ
B2: наименование предприятия | N2: наименование источника питания
N3: _________________________________
B4: ул. Горького, 99 | I4: Таблица № 1 | O4: РП 43
B5: адрес
A6: почасовых записей показаний электрических счетчиков
A7: в режимный день 15 ДЕКАБРЯ 2021 г.
A8: 597 | B8: 596
A9: часы суток | B9: Активная энергия | J9: Реактивная энергия
B10: ЯЧ.№ 407 - "ГОРОД-3" | F10: ЯЧ.№ 305 - "ГОРОД-5" | J10: ЯЧ.№ 407- "ГОРОД-3" | N10: ЯЧ.№ 305- "ГОРОД-5"
B11: Расчет. Коэф. | E11: 6000 | F11: Расчет. Коэф. | I11: 4000 | J11: Расчет. Коэф. | M11: =E11 -> 6000 | N11: Расчет. Коэф. | Q11: =I11 -> 4000
B12: показания счетчика | C12: разность | E12: расход эл.энергии за час | F12: показания счетчика | G12: разность | I12: расход эл.энергии за час | J12: показания счетчика | K12: разность | M12: расход эл.энергии за час | N12: показания счетчика | O12: разность | Q12: расход эл.энергии за час
A13: 1 | B13: 2 | C13: 3 | E13: 4 | F13: 5 | G13: 6 | I13: 7 | J13: 8 | K13: 9 | M13: 10 | N13: 11 | O13: 12 | Q13: 13
A14: 0
A15: 1 | E15: 1746 | I15: 2537 | M15: 150 | Q15: 447
A16: 2 | E16: 1633 | I16: 2320 | M16: 152 | Q16: 445
A17: 3 | E17: 1583 | I17: 2191 | M17: 152 | Q17: 441
A18: 4 | E18: 1570 | I18: 2150 | M18: 138 | Q18: 426
A19: 5 | E19: 1597 | I19: 2258 | M19: 127 | Q19: 426
A20: 6 | E20: 1745 | I20: 2469 | M20: 135 | Q20: 425
A21: 7 | E21: 2076 | I21: 2988 | M21: 156 | Q21: 461
A22: 8 | E22: 2410 | I22: 3281 | M22: 202 | Q22: 537
A23: 9 | E23: 2820 | I23: 3789 | M23: 253 | Q23: 621
A24: 10 | E24: 3039 | I24: 4019 | M24: 281 | Q24: 621
A25: 11 | E25: 3115 | I25: 4214 | M25: 267 | Q25: 620
A26: 12 | E26: 3083 | I26: 4151 | M26: 280 | Q26: 612
... A38: 24 | E38: 1986 | I38: 2937 | M38: 153 | Q38: 462
A39: Итого | E39: =SUM(E15:E38) -> 61170 | I39: =SUM(I15:I38) -> 86464 | M39: =SUM(M15:M38) -> 5313 | Q39: =SUM(Q15:Q38) -> 13157
A40: 1. При наличии на предприятии отклонений от нормальных режимов электропотребления (временное изменение схем питания, остановка на ремонт, резкое снижение
A41: эл.потребления и т.д.) последние необходимо перечислить.
A42: Главный инженер АО "Вологдаоблэнерго" А.В. Чурляев
A43: составляется самим предприятием с соблюдением всех пунктов настоящей таблицы.

Sheet 20
B1: АО "Вологдаоблэнерго" | J1: код 900151 | N1: ПС ВОЛОГДА-ЮЖНАЯ РУ-10 кВ
B2: наименование предприятия | N2: наименование источника питания
N3: _________________________________
B4: ул. Горького, 99 | I4: Таблица № 1 | O4: РП 27
B5: адрес
A6: почасовых записей показаний электрических счетчиков
A7: в режимный день 16 ДЕКАБРЯ 2015 __ г.
A8: 30 | B8: 49
A9: часы суток | B9: Активная энергия | J9: Реактивная энергия
B10: ЯЧ. № 408 - "ГОРОД -1" | F10: ЯЧ.№ 105 - "РП 27" | J10: ЯЧ. № 408 - "ГОРОД -1" | N10: ЯЧ.№ 105 - "РП 27"
B11: Расчет. Коэф. | E11: 12000 | F11: Расчет. Коэф. | I11: 12000 | J11: Расчет. Коэф. | M11: =E11 -> 12000 | N11: Расчет. Коэф. | Q11: =I11 -> 12000
B12: показания счетчика | C12: разность | E12: расход эл.энергии за час | F12: показания счетчика | G12: разность | I12: расход эл.энергии за час | J12: показания счетчика | K12: разность | M12: расход эл.энергии за час | N12: показания счетчика | O12: разность | Q12: расход эл.энергии за час
A13: 1 | B13: 2 | C13: 3 | E13: 4 | F13: 5 | G13: 6 | I13: 7 | J13: 8 | K13: 9 | M13: 10 | N13: 11 | O13: 12 | Q13: 13
A14: 0
A15: 1 | E15: 0 | I15: 0 | M15: 0 | Q15: 0
A16: 2 | E16: 0 | I16: 0 | M16: 0 | Q16: 0
A17: 3 | E17: 0 | I17: 0 | M17: 0 | Q17: 0
A18: 4 | E18: 0 | I18: 0 | M18: 0 | Q18: 0
A19: 5 | E19: 0 | I19: 0 | M19: 0 | Q19: 0
A20: 6 | E20: 0 | I20: 0 | M20: 0 | Q20: 0
A21: 7 | E21: 0 | I21: 0 | M21: 0 | Q21: 0
A22: 8 | E22: 0 | I22: 0 | M22: 0 | Q22: 0
A23: 9 | E23: 0 | I23: 0 | M23: 0 | Q23: 0
A24: 10 | E24: 0 | I24: 0 | M24: 0 | Q24: 0
A25: 11 | E25: 0 | I25: 0 | M25: 0 | Q25: 0
A26: 12 | E26: 0 | I26: 0 | M26: 0 | Q26: 0
... A38: 24 | E38: 0 | I38: 0 | M38: 0 | Q38: 0
A39: Итого | E39: =SUM(E15:E38) -> 0 | I39: =SUM(I15:I38) -> 0 | M39: =SUM(M15:M38) -> 0 | Q39: =SUM(Q15:Q38) -> 0
A40: 1. При наличии на предприятии отклонений от нормальных режимов электропотребления (временное изменение схем питания, остановка на ремонт, резкое снижение
A41: эл.потребления и т.д.) последние необходимо перечислить.
A42: Главный инженер АО "Вологдаоблэнерго" А.В. Чурляев
A43: составляется самим предприятием с соблюдением всех пунктов настоящей таблицы.

Sheet 21
B1: АО "Вологдаоблэнерго" | J1: код 900151 | N1: ПС ВОЛОГДА-ЮЖНАЯ РУ-10 кВ
B2: наименование предприятия | N2: наименование источника питания
N3: яч. 406 ф "РОДИОНЦЕВО",
B4: ул. Горького, 99 | I4: Таблица № 1 | N4: КТП-906, ПКУ- ЛЭП-43
B5: адрес
A6: почасовых записей показаний электрических счетчиков
A7: в режимный день 15 ДЕКАБРЯ 2021 г.
A8: 362 | B8: 985
A9: часы суток | B9: Активная энергия | J9: Реактивная энергия
B10: яч. 406 ф "РОДИОНЦЕВО" - ПКУ | F10: КТП-906 | J10: яч. 406 ф "РОДИОНЦЕВО" - ПКУ | N10: КТП-906
B11: Расчет. Коэф. | E11: 2000 | F11: Расчет. Коэф. | I11: 80 | J11: Расчет. Коэф. | M11: =E11 -> 2000 | N11: Расчет. Коэф. | Q11: =I11 -> 80
B12: показания счетчика | C12: разность | E12: расход эл.энергии за час | F12: показания счетчика | G12: разность | I12: расход эл.энергии за час | J12: показания счетчика | K12: разность | M12: расход эл.энергии за час | N12: показания счетчика | O12: разность | Q12: расход эл.энергии за час
A13: 1 | B13: 2 | C13: 3 | E13: 4 | F13: 5 | G13: 6 | I13: 7 | J13: 8 | K13: 9 | M13: 10 | N13: 11 | O13: 12 | Q13: 13
A14: 0
A15: 1 | E15: 20 | I15: 40.8 | M15: 0 | Q15: 4
A16: 2 | E16: 20 | I16: 37.88 | M16: 0 | Q16: 3.72
A17: 3 | E17: 19.8 | I17: 37.48 | M17: 0 | Q17: 3.28
A18: 4 | E18: 19.8 | I18: 39.52 | M18: 0 | Q18: 4.2
A19: 5 | E19: 19.8 | I19: 39.48 | M19: 0 | Q19: 4.04
A20: 6 | E20: 20.8 | I20: 37.56 | M20: 0 | Q20: 3.48
A21: 7 | E21: 21.6 | I21: 41 | M21: 0 | Q21: 3.4
A22: 8 | E22: 23.4 | I22: 43.08 | M22: 0 | Q22: 4.2
A23: 9 | E23: 23 | I23: 41.24 | M23: 0 | Q23: 3.68
A24: 10 | E24: 19.4 | I24: 39.84 | M24: 0 | Q24: 3.6
A25: 11 | E25: 19.2 | I25: 40.32 | M25: 0 | Q25: 3.16
A26: 12 | E26: 20.2 | I26: 42.24 | M26: 0 | Q26: 3.24
... A38: 24 | E38: 19.2 | I38: 42.08 | M38: 0 | Q38: 3.72
A39: Итого | E39: =SUM(E15:E38) -> 486.8 | I39: =SUM(I15:I38) -> 989.12 | M39: =SUM(M15:M38) -> 0.4 | Q39: =SUM(Q15:Q38) -> 94.2
A40: 1. При наличии на предприятии отклонений от нормальных режимов электропотребления (временное изменение схем питания, остановка на ремонт, резкое снижение
A41: эл.потребления и т.д.) последние необходимо перечислить.
A42: Главный инженер АО "Вологдаоблэнерго" А.В. Чурляев
A43: составляется самим предприятием с соблюдением всех пунктов настоящей таблицы.

Sheet 21_1
B1: АО "Вологдаоблэнерго" | J1: код 900151 | N1: ПС ВОЛОГДА-ЮЖНАЯ РУ-10 кВ
B2: наименование предприятия | N2: наименование источника питания
N3: РП-44
B4: ул. Горького, 99 | I4: Таблица № 1
B5: адрес
A6: почасовых записей показаний электрических счетчиков
A7: в режимный день 15 ДЕКАБРЯ 2021 г.
A9: часы суток | B9: Активная энергия | J9: Реактивная энергия
B10: яч. 307 ф "Охмыльцево-1" | F10: яч. 409 ф "Охмыльцево-2" | J10: яч. 307 ф "Охмыльцево-1" | N10: яч. 409 ф "Охмыльцево-2"
B11: Расчет. Коэф. | F11: Расчет. Коэф. | J11: Расчет. Коэф. | N11: Расчет. Коэф.
B12: показания счетчика | C12: разность | E12: расход эл.энергии за час | F12: показания счетчика | G12: разность | I12: расход эл.энергии за час | J12: показания счетчика | K12: разность | M12: расход эл.энергии за час | N12: показания счетчика | O12: разность | Q12: расход эл.энергии за час
A13: 1 | B13: 2 | C13: 3 | E13: 4 | F13: 5 | G13: 6 | I13: 7 | J13: 8 | K13: 9 | M13: 10 | N13: 11 | O13: 12 | Q13: 13
A14: 0
A15: 1 | E15: 935 | I15: 404 | M15: 0 | Q15: 0
A16: 2 | E16: 864 | I16: 364 | M16: 0 | Q16: 0
A17: 3 | E17: 829 | I17: 342 | M17: 0 | Q17: 0
A18: 4 | E18: 803 | I18: 336 | M18: 0 | Q18: 0
A19: 5 | E19: 806 | I19: 336 | M19: 0 | Q19: 0
A20: 6 | E20: 893 | I20: 380 | M20: 0 | Q20: 0
A21: 7 | E21: 1134 | I21: 511 | M21: 0 | Q21: 0
A22: 8 | E22: 1188 | I22: 574 | M22: 0 | Q22: 0
A23: 9 | E23: 1201 | I23: 556 | M23: 10 | Q23: 0
A24: 10 | E24: 1236 | I24: 596 | M24: 4 | Q24: 0
A25: 11 | E25: 1303 | I25: 617 | M25: 3 | Q25: 0
A26: 12 | E26: 1339 | I26: 623 | M26: 4 | Q26: 0
... A38: 24 | E38: 1016 | I38: 471 | M38: 0 | Q38: 0
A39: Итого | E39: =SUM(E15:E38) -> 29299 | I39: =SUM(I15:I38) -> 13522 | M39: =SUM(M15:M38) -> 93 | Q39: =SUM(Q15:Q38) -> 0
A40: 1. При наличии на предприятии отклонений от нормальных режимов электропотребления (временное изменение схем питания, остановка на ремонт, резкое снижение
A41: эл.потребления и т.д.) последние необходимо перечислить.
A42: Главный инженер АО "Вологдаоблэнерго" А.В. Чурляев
A43: составляется самим предприятием с соблюдением всех пунктов настоящей таблицы.

Sheet 21_2
B1: АО "Вологдаоблэнерго" | J1: код 900151 | N1: ПС ВОЛОГДА-ЮЖНАЯ РУ-10 кВ
B2: наименование предприятия | N2: наименование источника питания
N3: яч. 104 ф 6 кВ Керамик-1
B4: ул. Горького, 99 | I4: Таблица № 1
B5: адрес
A6: почасовых записей показаний электрических счетчиков
A7: в режимный день 15 ДЕКАБРЯ 2021 г.
A9: часы суток | B9: Активная энергия | J9: Реактивная энергия
B10: яч. 104 ф 6 кВ Керамик-1 ТП-841Т-1 | F10: яч. 104 ф 6 кВ Керамик-1 ТП-417 | J10: яч. 104 ф 6 кВ Керамик-1 ТП-841Т-1 | N10: яч. 104 ф 6 кВ Керамик-1 ТП-417
B11: Расчет. Коэф. | F11: Расчет. Коэф. | J11: Расчет. Коэф. | N11: Расчет. Коэф.
B12: показания счетчика | C12: разность | E12: расход эл.энергии за час | F12: показания счетчика | G12: разность | I12: расход эл.энергии за час | J12: показания счетчика | K12: разность | M12: расход эл.энергии за час | N12: показания счетчика | O12: разность | Q12: расход эл.энергии за час
A13: 1 | B13: 2 | C13: 3 | E13: 4 | F13: 5 | G13: 6 | I13: 7 | J13: 8 | K13: 9 | M13: 10 | N13: 11 | O13: 12 | Q13: 13
A14: 0
A15: 1 | E15: 51.3 | M15: 11.1
A16: 2 | E16: 45.15 | M16: 10.65
A17: 3 | E17: 40.05 | M17: 9.15
A18: 4 | E18: 38.4 | M18: 8.7
A19: 5 | E19: 38.85 | M19: 7.05
A20: 6 | E20: 45.9 | M20: 8.7
A21: 7 | E21: 65.4 | M21: 8.55
A22: 8 | E22: 73.2 | M22: 15.15
A23: 9 | E23: 62.25 | M23: 12.15
A24: 10 | E24: 62.85 | M24: 7.05
A25: 11 | E25: 58.35 | M25: 6.3
A26: 12 | E26: 61.8 | M26: 8.4
... A38: 24 | E38: 67.05 | M38: 15
A39: Итого | E39: =SUM(E15:E38) -> 1636.8 | I39: =SUM(I15:I38) -> 0 | M39: =SUM(M15:M38) -> 275.25 | Q39: =SUM(Q15:Q38) -> 0
A40: 1. При наличии на предприятии отклонений от нормальных режимов электропотребления (временное изменение схем питания, остановка на ремонт, резкое снижение
A41: эл.потребления и т.д.) последние необходимо перечислить.
A42: Главный инженер АО "Вологдаоблэнерго" А.В. Чурляев
A43: составляется самим предприятием с соблюдением всех пунктов настоящей таблицы.

Sheet 21_3
B1: АО "Вологдаоблэнерго" | J1: код 900151 | N1: ПС ВОЛОГДА-ЮЖНАЯ РУ-10 кВ
B2: наименование предприятия | N2: наименование источника питания
N3: яч. 104 ф 6 кВ Керамик-1
B4: ул. Горького, 99 | I4: Таблица № 1
B5: адрес
A6: почасовых записей показаний электрических счетчиков
A7: в режимный день 15 ДЕКАБРЯ 2021 г.
A9: часы суток | B9: Активная энергия | J9: Реактивная энергия
B10: яч. 104 ф 6 кВ Керамик-1 КТП-1004 | J10: яч. 104 ф 6 кВ Керамик-1 КТП-1004
B11: Расчет. Коэф. | F11: Расчет. Коэф. | J11: Расчет. Коэф. | N11: Расчет. Коэф.
B12: показания счетчика | C12: разность | E12: расход эл.энергии за час | F12: показания счетчика | G12: разность | I12: расход эл.энергии за час | J12: показания счетчика | K12: разность | M12: расход эл.энергии за час | N12: показания счетчика | O12: разность | Q12: расход эл.энергии за час
A13: 1 | B13: 2 | C13: 3 | E13: 4 | F13: 5 | G13: 6 | I13: 7 | J13: 8 | K13: 9 | M13: 10 | N13: 11 | O13: 12 | Q13: 13
A14: 0
A15: 1 | E15: 15.074 | M15: 0
A16: 2 | E16: 18.786 | M16: 0
A17: 3 | E17: 14.45 | M17: 0
A18: 4 | E18: 14.556 | M18: 0
A19: 5 | E19: 14.926 | M19: 0
A20: 6 | E20: 14.74 | M20: 0
A21: 7 | E21: 22.392 | M21: 0
A22: 8 | E22: 18.874 | M22: 0
A23: 9 | E23: 14.758 | M23: 0
A24: 10 | E24: 15.858 | M24: 0
A25: 11 | E25: 17.608 | M25: 0
A26: 12 | E26: 15.956 | M26: 0
... A38: 24 | E38: 17.66 | M38: 0
A39: Итого | E39: =SUM(E15:E38) -> 426.508 | I39: =SUM(I15:I38) -> 0 | M39: =SUM(M15:M38) -> 0 | Q39: =SUM(Q15:Q38) -> 0
A40: 1. При наличии на предприятии отклонений от нормальных режимов электропотребления (временное изменение схем питания, остановка на ремонт, резкое снижение
A41: эл.потребления и т.д.) последние необходимо перечислить.
A42: Главный инженер АО "Вологдаоблэнерго" А.В. Чурляев
A43: составляется самим предприятием с соблюдением всех пунктов настоящей таблицы.

Sheet 21_4
B1: АО "Вологдаоблэнерго" | J1: код 900151 | N1: ПС ВОЛОГДА-ЮЖНАЯ РУ-10 кВ
B2: наименование предприятия | N2: наименование источника питания
N3: яч. 207 ф 10 кВ Керамик 2
B4: ул. Горького, 99 | I4: Таблица № 1
B5: адрес
A6: почасовых записей показаний электрических счетчиков
A7: в режимный день 15 ДЕКАБРЯ 2021 г.
A9: часы суток | B9: Активная энергия | J9: Реактивная энергия
B10: яч. 207 ф 10 кВ Керамик 2 ТП841 Т-2 | J10: яч. 207 ф 10 кВ Керамик 2 ТП841 Т-2
B11: Расчет. Коэф. | F11: Расчет. Коэф. | J11: Расчет. Коэф. | N11: Расчет. Коэф.
B12: показания счетчика | C12: разность | E12: расход эл.энергии за час | F12: показания счетчика | G12: разность | I12: расход эл.энергии за час | J12: показания счетчика | K12: разность | M12: расход эл.энергии за час | N12: показания счетчика | O12: разность | Q12: расход эл.энергии за час
A13: 1 | B13: 2 | C13: 3 | E13: 4 | F13: 5 | G13: 6 | I13: 7 | J13: 8 | K13: 9 | M13: 10 | N13: 11 | O13: 12 | Q13: 13
A14: 0
A15: 1 | E15: 0 | M15: 0
A16: 2 | E16: 0 | M16: 0
A17: 3 | E17: 0 | M17: 0
A18: 4 | E18: 0 | M18: 0
A19: 5 | E19: 0 | M19: 0
A20: 6 | E20: 0 | M20: 0
A21: 7 | E21: 0 | M21: 0
A22: 8 | E22: 0 | M22: 0
A23: 9 | E23: 0 | M23: 0
A24: 10 | E24: 0 | M24: 0
A25: 11 | E25: 0 | M25: 0
A26: 12 | E26: 0 | M26: 0
... A38: 24 | E38: 0 | M38: 0
A39: Итого | E39: =SUM(E15:E38) -> 0 | I39: =SUM(I15:I38) -> 0 | M39: =SUM(M15:M38) -> 0 | Q39: =SUM(Q15:Q38) -> 0
A40: 1. При наличии на предприятии отклонений от нормальных режимов электропотребления (временное изменение схем питания, остановка на ремонт, резкое снижение
A41: эл.потребления и т.д.) последние необходимо перечислить.
A42: Главный инженер АО "Вологдаоблэнерго" А.В. Чурляев
A43: составляется самим предприятием с соблюдением всех пунктов настоящей таблицы.

Sheet 22
B1: АО "Вологдаоблэнерго" | J1: код 900151 | M1: ПС ВОЛОГДА - ТЯГОВАЯ 110/27,5/6 кВ
B2: наименование предприятия | N2: наименование источника питания
N3: _________________________________
B4: ул. Горького, 99 | I4: Таблица № 1 | O4: ТП 450
A6: почасовых записей показаний электрических счетчиков
A7: в режимный день 15 ДЕКАБРЯ 2021 г.
A8: 636
A9: часы суток | B9: Активная энергия | J9: Реактивная энергия
B10: ЯЧ. 1 - ТП 450 | J10: ЯЧ. 1 - ТП 450
B11: Расчет. Коэф. | E11: 7200 | F11: Расчет. Коэф. | I11: =Q11 -> 0 | J11: Расчет. Коэф. | M11: =E11 -> 7200 | N11: Расчет. Коэф. | Q11: 0
B12: показания счетчика | C12: разность | E12: расход эл.энергии за час | F12: показания счетчика | G12: разность | I12: расход эл.энергии за час | J12: показания счетчика | K12: разность | M12: расход эл.энергии за час | N12: показания счетчика | O12: разность | Q12: расход эл.энергии за час
A13: 1 | B13: 2 | C13: 3 | E13: 4 | F13: 5 | G13: 6 | I13: 7 | J13: 8 | K13: 9 | M13: 10 | N13: 11 | O13: 12 | Q13: 13
A14: 0
A15: 1 | E15: 0 | M15: 0
A16: 2 | E16: 0 | M16: 0
A17: 3 | E17: 0 | M17: 0
A18: 4 | E18: 0 | M18: 0
A19: 5 | E19: 0 | M19: 0
A20: 6 | E20: 0 | M20: 0
A21: 7 | E21: 0 | M21: 0
A22: 8 | E22: 0 | M22: 0
A23: 9 | E23: 0 | M23: 0
A24: 10 | E24: 0 | M24: 0
A25: 11 | E25: 0 | M25: 0
A26: 12 | E26: 0 | M26: 0
... A38: 24 | E38: 0 | M38: 0
A39: Итого | E39: =SUM(E15:E38) -> 0 | M39: =SUM(M15:M38) -> 0
A40: 1. При наличии на предприятии отклонений от нормальных режимов электропотребления (временное изменение схем питания, остановка на ремонт, резкое снижение
A41: эл.потребления и т.д.) последние необходимо перечислить.
A42: Главный инженер АО "Вологдаоблэнерго" А.В. Чурляев
A43: составляется самим предприятием с соблюдением всех пунктов настоящей таблицы.

Sheet 23
