Workbook

Sheet Содержание книги
A1: Содержание
A4: № листа | B4: Электросетевой участок | C4: Центр питания
A5: 1 а | B5: г. Вологда | C5: ОАО "БМЗ"
A6: 1, 2 | B6: г. Вологда | C6: ПС "АНАНЬИНО"
A7: 3 | B7: г. Вологда | C7: ПС ЕРМАКОВО
A8: 4 | B8: г. Вологда | C8: ПС "МАЕГА"
A9: 5,6, 7, 8, 9 | B9: г. Вологда | C9: ПС "ЗАПАДНАЯ
A10: 10 | B10: г. Вологда | C10: ПС "СЕВЕРНАЯ 35/6 кВ
A11: 11 | B11: г. Вологда | C11: РТП "ТЕПЛИЧНОГО ХОЗ - ВА"
A12: 12,13, 14 | B12: г. Вологда | C12: ГПП 110/10 кВ "ВОМЗ"
A13: 15,16,17,18,19,20, 21, 21-1, 21-2, 21-3 | B13: г. Вологда | C13: ПС ВОЛОГДА-ЮЖНАЯ РУ - 6 -10 кВ
A14: 22 | B14: г. Вологда | C14: ГПП ВОЛОГДА - ТЯГОВАЯ 110/27,5/6 кВ
A15: 23 | B15: г. Вологда | C15: ТП 10 РЖД
A16: 24 | B16: г. Вологда | C16: ТП 34 РЖД
A17: 25,26,27,28,29 | B17: г. Вологда | C17: ТГК- 2 ВТЭЦ РП 6 кВ
A18: 30,31,32,33,34,34-1 | B18: г. Вологда | C18: ПС "ЦЕНТРАЛЬНАЯ" 110/6 кВ
A19: 35, 36 | B19: г. Вологда | C19: ПС "ГОРОДСКАЯ" 35/6 кВ
A20: 37, 38, 39, 39-1 | B20: г. Вологда | C20: ПС "ВОСТОЧНАЯ" 110/35/10 кВ
A21: 40, 41,41-1 | B21: г. Вологда | C21: ПС "ЛУГОВАЯ"
A22: 42 | B22: г. Вологда | C22: РП "ГОРКА"
A23: 43, 44 | B23: г. Вологда | C23: ГПП 2 ЗАО ВПЗ
A24: 45 | B24: г. Вологда | C24: ГПП 1 ЗАО ВПЗ
A25: 46 | B25: ЭСУ "Кубенское" | C25: ПС "Кубенское"
A26: 47, 48, 48-1,48-2 | B26: ЭСУ п. Молочное | C26: ПС "Молочное" 35/10 кВ
A27: 49, 50, 50-1, 50-2, 50-3 | B27: ЭСУ "Устье-Кубенское" | C27: РТП "КОРНИЛОВО" 35/10 кВ
A28: 51, 52, 53 | B28: ЭСУ "Шуйское" | C28: ПС "ШУЙСКОЕ" 35/ 10 кВ
A29: 54.55 | B29: ЭСУ г. Сокол | C29: ПС "ГДЗ" 110/6 кВ
B30: ЭСУ г. Сокол
A31: 56, 57, 58, | B31: ЭСУ г. Сокол | C31: ОАО "Сокольский" ЦБК" ГПП 35/6 кВ
A32: 59 | B32: ЭСУ г. Сокол | C32: ОАО "Сокольский" ЦБК" ГПП 110/6 кВ
A33: 60, 61, 62, 63 | B33: ЭСУ г. Сокол | C33: ООО "Сухонский ЦБК" ГПП 110/6 кВ
A34: 64-66 | B34: ЭСУ "Белозерск"
A35: 67-75 | B35: ЭСУ "Вытегра"
A36: 76-81_1 | B36: ЭСУ "Харовск"
A37: 82-86 | B37: ЭТУ "Вожега"
A38: 87-91 | B38: ЭТУ "Тотьма"
A39: 92-95 | B39: ЭСУ "Сямжа"
A40: 96-97 | B40: ЭСУ "Грязовец"
A42: Содержание
A45: № листа | B45: Электросетевой участок | C45: Центр питания
A46: 1 а | B46: г. Вологда | C46: ОАО "БМЗ"
D47: яч. Т1, яч. Т2
A48: 1, 2 | B48: г. Вологда | C48: ПС "АНАНЬИНО"
D49: яч.7 - ф."Город-7"
D50: яч.8 - ф."Городской", яч.2 - ф."Овощехранилище"
A51: 3 | B51: г. Вологда | C51: ПС "ИСКРА"
D52: яч.18 - ф."РУБЦОВО"- СВ - ВЛ№2
A53: 4 | B53: г. Вологда | C53: ПС "МАЕГА"
D54: яч.13 - ф."НИКИТИНО"-СВ - ВЛ№27
A55: 5,6, 7, 8, 9 | B55: г. Вологда | C55: ПС "ЗАПАДНАЯ
D56: яч.19 - "РМЗ-1", яч.24 - "РМЗ-2"
D57: яч.15 -"ОЧИСТНЫЕ-1", яч.9 -"ГОРОД-1"
D58: яч.21- "П/я-1", яч.20 - "П/я-2"
D59: яч.33 - "РП-35", яч.35 - "РП-37"
D60: яч.11 - "ГОРОД-2", яч.18 - "ОЧИСТНЫЕ-2"
A61: 10 | B61: г. Вологда | C61: ПС "СЕВЕРНАЯ 35/6 кВ
D62: Т1 - РП5ф3 ввод №1, Т2 - РП5ф17 ввод №2
A63: 11 | B63: г. Вологда | C63: РТП "ТЕПЛИЧНОГО ХОЗ - ВА"
D64: яч. 3 - ф."Микрорайон-1" ввод № 1, яч.13 - ф."Микрорайон-2" ввод № 2
A65: 12,13, 14 | B65: г. Вологда | C65: ГПП 110/10 кВ "ВОМЗ"
D66: яч.47 - РП 29 ввод № 1, яч.31 - РП 29 ввод № 2
D67: яч.5 - РП 14 ввод № 1, яч.22 - РП 14 ввод № 2
D68: яч.44 - РП 2 ввод № 1, яч.26в - РП 2 ввод № 2
A69: 15,16,17,18,19,20, 21 | B69: г. Вологда | C69: ПС ВОЛОГДА-ЮЖНАЯ РУ - 6 -10 кВ
D70: яч.15 - "ГОРОД-15", яч.24 - "ТУБДИСПАНСЕР"
D71: яч.10 - "ГОРОД-10", яч.14 - "ГОРОД-14"
D72: яч.20 - "ГОРОД 20"
D73: яч. 7- ф."ГОРОД 7", яч.17 - ф."ГОРОД 17"
D74: яч.3 - "ГОРОД-3", яч.5 - "ГОРОД-5"
D75: яч. 1 - "ГОРОД -1", яч. 20 - "РП 27"
D76: яч. 4 ф."РОДИОНЦЕВО" - ПКУ
D77: яч. 307, 409 ф."Охмыльцево"
A78: 22 | B78: г. Вологда | C78: ГПП ВОЛОГДА - ТЯГОВАЯ 110/27,5/6 кВ
D79: яч. 1 - ТП 450
A80: 23 | B80: г. Вологда | C80: ТП 10 СЖД ОАО РЖД
D81: яч.5 - ТП 238, яч.7 - ТП 651
A82: 24 | B82: г. Вологда | C82: ТП 34 СЖД ОАО РЖД
D83: яч.2 - ТП 660, яч.6 - ТП 662
A84: 25,26,27,28,29 | B84: г. Вологда | C84: ТГК- 2 ВТЭЦ РП 6 кВ
D85: яч.10 - РП 3 ввод № 1, яч. 115 - РП 3 ввод № 2
D86: яч. 114 - РП 23 ввод № 1, яч. 107 - РП 23 ввод № 2
D87: яч. 3 - ТП 217
D88: яч. 5 - РП 1 ввод № 1, яч. 12 - РП 1 ввод № 2
D89: яч. 4 - РП 20 ввод № 1, яч. 7 - РП 20 ввод № 2
A90: 30,31,32,33,34,34-1 | B90: г. Вологда | C90: ПС "ЦЕНТРАЛЬНАЯ" 110/6 кВ
D91: яч.4 - ТП 54 -Ι ввод № 1, яч. 30 - ТП 54 - ΙΙ ввод № 2
D92: яч. 14 - РП 13- Ι , яч. 22 - РП 13- ΙΙ
D93: яч.12 - РП 4 -Ι , яч. 24 - РП 4 -ΙΙ
D94: яч. 2 - РП 8 яч. 11
D95: яч.28 - ТП 11 -ΙΙ
D96: яч.22 - РП 21-I, яч.7 - РП 21-II
A97: 35, 36 | B97: г. Вологда | C97: ПС "ГОРОДСКАЯ" 35/6 кВ
D98: Т-1 - ЗРУ ф.1 ввод № 1, Т-3 - ЗРУ ф.20 ввод № 2 .
D99: Т-2 - РП 9 ф. 11
A100: 37, 38, 39 | B100: г. Вологда | C100: ПС "ВОСТОЧНАЯ" 110/35/10 кВ
D101: яч.2 - "РП 39-1", яч. 21 - "РП 39-2"
D102: яч.15 - "РМЗ-1", яч.32 - "РМЗ-2"
D103: яч. 11- "ГОРОД-1", яч. 28- "ГОРОД-2"
A104: 40, 41 | B104: г. Вологда | C104: ПС "ЛУГОВАЯ"
D105: яч. 23 - ф."ГОРОД-2 , яч. 2 - ф."ГОРОД-3"
...

Sheet 1а
B1: АО "Вологдаоблэнерго" | J1: код 900151 | K1: ПС "Вологда-Южная"РУ 6кВ - транзит через "БМЗ"
A2: наименование предприятия | N2: наименование источника питания
N3: _________________________________
B4: ул. Горького, 99 | I4: Таблица № 1 | O4: РТП 25 Т1, Т2
A5: адрес
A6: почасовых записей показаний электрических счетчиков
A7: в режимный день 15 ДЕКАБРЯ 2021 г.
A8: 143 | B8: 144
A9: часы суток | B9: Активная энергия | J9: Реактивная энергия
B10: яч. Т1 | F10: яч. Т2 | J10: яч. Т1 | N10: яч. Т2
B11: Расчет. Коэф. | E11: 600 | F11: расчетный коэф. | I11: 600 | J11: расчетный коэф. | M11: =E11 -> 600 | N11: расчетный коэф. | Q11: =I11 -> 600
B12: показания счетчика | C12: разность | E12: расход эл.энергии за час | F12: показания счетчика | G12: разность | I12: расход эл.энергии за час | J12: показания счетчика | K12: разность | M12: расход эл.энергии за час | N12: показания счетчика | O12: разность | Q12: расход эл.энергии за час
A13: 1 | B13: 2 | C13: 3 | E13: 4 | F13: 5 | G13: 6 | I13: 7 | J13: 8 | K13: 9 | M13: 10 | N13: 11 | O13: 12 | Q13: 13
A14: 0
A15: 1 | E15: 82.2 | I15: 109.5 | M15: 24 | Q15: 40.2
A16: 2 | E16: 75.96 | I16: 97.38 | M16: 23.64 | Q16: 38.64
A17: 3 | E17: 71.04 | I17: 91.86 | M17: 22.68 | Q17: 38.7
A18: 4 | E18: 71.16 | I18: 93.18 | M18: 22.68 | Q18: 36.6
A19: 5 | E19: 73.2 | I19: 94.86 | M19: 25.68 | Q19: 37.32
A20: 6 | E20: 77.28 | I20: 108.24 | M20: 23.28 | Q20: 38.28
A21: 7 | E21: 90.12 | I21: 162.78 | M21: 22.92 | Q21: 40.68
A22: 8 | E22: 108 | I22: 161.1 | M22: 26.76 | Q22: 39.78
A23: 9 | E23: 126.12 | I23: 171.24 | M23: 35.16 | Q23: 44.52
A24: 10 | E24: 137.64 | I24: 169.86 | M24: 36.48 | Q24: 43.74
A25: 11 | E25: 145.44 | I25: 179.04 | M25: 35.04 | Q25: 43.44
A26: 12 | E26: 140.52 | I26: 177.12 | M26: 37.32 | Q26: 45.12
... A38: 24 | E38: 94.08 | I38: 127.98 | M38: 24.6 | Q38: 38.16
A39: Итого | E39: =SUM(E15:E38) -> 2815.08 | I39: =SUM(I15:I38) -> 3537.18 | M39: =SUM(M15:M38) -> 717.24 | Q39: =SUM(Q15:Q38) -> 983.28
A40: 1. При наличии на предприятии отклонений от нормальных режимов электропотребления (временное изменение схем питания, остановка на ремонт, резкое снижение
A41: эл.потребления и т.д.) последние необходимо перечислить.
A42: Главный инженер АО "Вологдаоблэнерго" А.В. Чурляев
A43: составляется самим предприятием с соблюдением всех пунктов настоящей таблицы.
A48: 1 | B48: 2 | C48: 3 | D48: 4 | E48: 5 | F48: 6 | G48: 7 | H48: 8 | I48: 9 | J48: 10 | K48: 11 | L48: 12 | M48: 13 | N48: 14 | O48: 15 | P48: 16 | Q48: 17

Sheet 1
B1: АО "Вологдаоблэнерго" | J1: код 900151 | N1: ПС "АНАНЬИНО"
B2: наименование предприятия | N2: наименование источника питания
N3: _________________________________
B4: ул. Горького, 99 | I4: Таблица № 1 | O4: ВЛ № 31
B5: адрес
A6: почасовых записей показаний электрических счетчиков
A7: в режимный день 15 ДЕКАБРЯ 2021 г.
A8: 1629
A9: часы суток | B9: Активная энергия | J9: Реактивная энергия
B10: ЯЧ. № 7 - Ф."Город 7" | J10: ЯЧ. № 7 - Ф."Город 7"
B11: Расчет. Коэф. | E11: 3600 | F11: Расчет. Коэф. | J11: Расчет. Коэф. | M11: =E11 -> 3600 | N11: Расчет. Коэф.
B12: показания счетчика | C12: разность | E12: расход эл.энергии за час | F12: показания счетчика | G12: разность | I12: расход эл.энергии за час | J12: показания счетчика | K12: разность | M12: расход эл.энергии за час | N12: показания счетчика | O12: разность | Q12: расход эл.энергии за час
A13: 1 | B13: 2 | C13: 3 | E13: 4 | F13: 5 | G13: 6 | I13: 7 | J13: 8 | K13: 9 | M13: 10 | N13: 11 | O13: 12 | Q13: 13
A14: 0
A15: 1 | E15: 742 | M15: 199
A16: 2 | E16: 707 | M16: 200
A17: 3 | E17: 721 | M17: 201
A18: 4 | E18: 703 | M18: 196
A19: 5 | E19: 696 | M19: 192
A20: 6 | E20: 731 | M20: 192
A21: 7 | E21: 796 | M21: 192
A22: 8 | E22: 823 | M22: 191
A23: 9 | E23: 911 | M23: 251
A24: 10 | E24: 960 | M24: 308
A25: 11 | E25: 881 | M25: 288
A26: 12 | E26: 878 | M26: 265
... A38: 24 | E38: 730 | M38: 191
A39: Итого | E39: =SUM(E15:E38) -> 19616 | M39: =SUM(M15:M38) -> 5379
A40: 1. При наличии на предприятии отклонений от нормальных режимов электропотребления (временное изменение схем питания, остановка на ремонт, резкое снижение
A41: эл.потребления и т.д.) последние необходимо перечислить.
A42: Главный инженер АО "Вологдаоблэнерго" А.В. Чурляев
A43: составляется самим предприятием с соблюдением всех пунктов настоящей таблицы.

Sheet 2
B1: АО "Вологдаоблэнерго" | J1: код 900151 | N1: ПС "АНАНЬИНО"
B2: наименование предприятия | N2: наименование источника питания
N3: _________________________________
B4: ул. Горького, 99 | I4: Таблица № 1 | O4: РП 36 ф 16; ТП 360
B5: адрес
A6: почасовых записей показаний электрических счетчиков
A7: в режимный день 15 ДЕКАБРЯ 2021 г.
A8: 1630 | B8: 1628
A9: часы суток | B9: Активная энергия | J9: Реактивная энергия
B10: ЯЧ. № 2 - Ф."Овощехранилище" | F10: ЯЧ. № 8 - Ф."Городской" | J10: ЯЧ. № 2 - Ф."Овощехранилище" | N10: ЯЧ. № 8 - Ф."Городской"
B11: Расчет. Коэф. | E11: 3600 | F11: Расчет. Коэф. | I11: 2400 | J11: Расчет. Коэф. | M11: =E11 -> 3600 | N11: Расчет. Коэф. | Q11: =I11 -> 2400
B12: показания счетчика | C12: разность | E12: расход эл.энергии за час | F12: показания счетчика | G12: разность | I12: расход эл.энергии за час | J12: показания счетчика | K12: разность | M12: расход эл.энергии за час | N12: показания счетчика | O12: разность | Q12: расход эл.энергии за час
A13: 1 | B13: 2 | C13: 3 | E13: 4 | F13: 5 | G13: 6 | I13: 7 | J13: 8 | K13: 9 | M13: 10 | N13: 11 | O13: 12 | Q13: 13
A14: 0
A15: 1 | E15: 136 | I15: 336 | M15: 53 | Q15: 92
A16: 2 | E16: 130 | I16: 320 | M16: 51 | Q16: 89
A17: 3 | E17: 130 | I17: 316 | M17: 52 | Q17: 90
A18: 4 | E18: 130 | I18: 321 | M18: 51 | Q18: 90
A19: 5 | E19: 130 | I19: 322 | M19: 50 | Q19: 90
A20: 6 | E20: 128 | I20: 336 | M20: 51 | Q20: 89
A21: 7 | E21: 136 | I21: 352 | M21: 50 | Q21: 93
A22: 8 | E22: 139 | I22: 377 | M22: 46 | Q22: 103
A23: 9 | E23: 177 | I23: 382 | M23: 61 | Q23: 104
A24: 10 | E24: 201 | I24: 373 | M24: 91 | Q24: 96
A25: 11 | E25: 206 | I25: 362 | M25: 83 | Q25: 102
A26: 12 | E26: 243 | I26: 355 | M26: 117 | Q26: 117
... A38: 24 | E38: 133 | I38: 328 | M38: 47 | Q38: 91
A39: Итого | E39: =SUM(E16:E38) -> 3809 | I39: =SUM(I15:I38) -> 8421 | M39: =SUM(M15:M38) -> 1533 | Q39: =SUM(Q15:Q38) -> 2312
A40: 1. При наличии на предприятии отклонений от нормальных режимов электропотребления (временное изменение схем питания, остановка на ремонт, резкое снижение
A41: эл.потребления и т.д.) последние необходимо перечислить.
A42: Главный инженер АО "Вологдаоблэнерго" А.В. Чурляев
A43: составляется самим предприятием с соблюдением всех пунктов настоящей таблицы.

Sheet 3
B1: АО "Вологдаоблэнерго" | J1: код 900151 | N1: ПС 110 кВ ЕРМАКОВО
B2: наименование предприятия | N2: наименование источника питания
N3: яч. 18 ф."РУБЦОВО"
B4: ул. Горького, 99 | I4: Таблица № 1 | O4: ВЛ-10кВ № 2
B5: адрес
A6: почасовых записей показаний электрических счетчиков
A7: в режимный день 15 ДЕКАБРЯ 2021 г.
A8: 374
A9: часы суток | B9: Активная энергия | J9: Реактивная энергия
B10: яч. 18 ф."РУБЦОВО"- СВ - ВЛ№2 | J10: яч. 18 ф."РУБЦОВО"- СВ - ВЛ№2
B11: Расчет. Коэф. | E11: 1000 | F11: Расчет. Коэф. | I11: 0 | J11: Расчет. Коэф. | M11: =E11 -> 1000 | N11: Расчет. Коэф. | Q11: =I11 -> 0
B12: показания счетчика | C12: разность | E12: расход эл.энергии за час | F12: показания счетчика | G12: разность | I12: расход эл.энергии за час | J12: показания счетчика | K12: разность | M12: расход эл.энергии за час | N12: показания счетчика | O12: разность | Q12: расход эл.энергии за час
A13: 1 | B13: 2 | C13: 3 | E13: 4 | F13: 5 | G13: 6 | I13: 7 | J13: 8 | K13: 9 | M13: 10 | N13: 11 | O13: 12 | Q13: 13
A14: 0
A15: 1 | E15: 644.2 | M15: 28
A16: 2 | E16: 612.6 | M16: 22.6
A17: 3 | E17: 596.4 | M17: 25.4
A18: 4 | E18: 594 | M18: 23.2
A19: 5 | E19: 591 | M19: 23.4
A20: 6 | E20: 584.4 | M20: 21.8
A21: 7 | E21: 631.2 | M21: 25.4
A22: 8 | E22: 654.4 | M22: 26
A23: 9 | E23: 621.6 | M23: 23.6
A24: 10 | E24: 560.2 | M24: 20.8
A25: 11 | E25: 539.2 | M25: 22.2
A26: 12 | E26: 559.6 | M26: 26
... A38: 24 | E38: 658.4 | M38: 34.2
A39: Итого | E39: =SUM(E15:E38) -> 14688 | M39: =SUM(M16:M38) -> 610.4
A40: 1. При наличии на предприятии отклонений от нормальных режимов электропотребления (временное изменение схем питания, остановка на ремонт, резкое снижение
A41: эл.потребления и т.д.) последние необходимо перечислить.
A42: Главный инженер АО "Вологдаоблэнерго" А.В. Чурляев
A43: составляется самим предприятием с соблюдением всех пунктов настоящей таблицы.

Sheet 4
B1: АО "Вологдаоблэнерго" | J1: код 900151 | N1: ПС "МАЕГА"
B2: наименование предприятия | N2: наименование источника питания
N3: яч. 13 - Ф НИКИТИНО
B4: ул. Горького, 99 | I4: Таблица № 1 | O4: ВЛ №27
B5: адрес
A6: почасовых записей показаний электрических счетчиков
A7: в режимный день 15 ДЕКАБРЯ 2021 г.
A8: 363
A9: часы суток | B9: Активная энергия | J9: Реактивная энергия
B10: яч. 13 - Ф НИКИТИНО-СВ - ВЛ№27 | J10: яч. 13 - Ф НИКИТИНО-СВ - ВЛ№27
B11: Расчет. Коэф. | E11: 1500 | F11: Расчет. Коэф. | I11: 0 | J11: Расчет. Коэф. | M11: =E11 -> 1500 | N11: Расчет. Коэф. | Q11: =I11 -> 0
B12: показания счетчика | C12: разность | E12: расход эл.энергии за час | F12: показания счетчика | G12: разность | I12: расход эл.энергии за час | J12: показания счетчика | K12: разность | M12: расход эл.энергии за час | N12: показания счетчика | O12: разность | Q12: расход эл.энергии за час
A13: 1 | B13: 2 | C13: 3 | E13: 4 | F13: 5 | G13: 6 | I13: 7 | J13: 8 | K13: 9 | M13: 10 | N13: 11 | O13: 12 | Q13: 13
A14: 0
A15: 1 | E15: 698.85 | M15: 63.3
A16: 2 | E16: 664.5 | M16: 59.7
A17: 3 | E17: 657.45 | M17: 58.95
A18: 4 | E18: 660.3 | M18: 59.1
A19: 5 | E19: 669.9 | M19: 56.4
A20: 6 | E20: 714.6 | M20: 54.15
A21: 7 | E21: 764.1 | M21: 54.75
A22: 8 | E22: 778.65 | M22: 53.55
A23: 9 | E23: 762.45 | M23: 53.85
A24: 10 | E24: 728.4 | M24: 52.95
A25: 11 | E25: 719.55 | M25: 56.4
A26: 12 | E26: 702.45 | M26: 52.8
... A38: 24 | E38: 705.6 | M38: 60.9
A39: Итого | E39: =SUM(E15:E38) -> 17715.45 | M39: =SUM(M15:M38) -> 1397.25
A40: 1. При наличии на предприятии отклонений от нормальных режимов электропотребления (временное изменение схем питания, остановка на ремонт, резкое снижение
A41: эл.потребления и т.д.) последние необходимо перечислить.
A42: Главный инженер АО "Вологдаоблэнерго" А.В. Чурляев
A43: составляется самим предприятием с соблюдением всех пунктов настоящей таблицы.

Sheet 5
B1: АО "Вологдаоблэнерго" | J1: код 900151 | N1: ПС "ЗАПАДНАЯ"
B2: наименование предприятия | N2: наименование источника питания
N3: _________________________________
B4: ул. Горького, 99 | I4: Таблица № 1 | O4: РП 16
B5: адрес
A6: почасовых записей показаний электрических счетчиков
A7: в режимный день 15 ДЕКАБРЯ 2021 г.
A8: 372 | B8: 368
A9: часы суток | B9: Активная энергия | J9: Реактивная энергия
B10: Яч. 21 - "РМЗ-1" | F10: Яч. 28 - "РМЗ-2" | J10: Яч. 21 - "РМЗ-1" | N10: Яч. 28 - "РМЗ-2"
B11: Расчет. Коэф. | E11: 7200 | F11: Расчет. Коэф. | I11: 7200 | J11: Расчет. Коэф. | M11: =E11 -> 7200 | N11: Расчет. Коэф. | Q11: =I11 -> 7200
B12: показания счетчика | C12: разность | E12: расход эл.энергии за час | F12: показания счетчика | G12: разность | I12: расход эл.энергии за час | J12: показания счетчика | K12: разность | M12: расход эл.энергии за час | N12: показания счетчика | O12: разность | Q12: расход эл.энергии за час
A13: 1 | B13: 2 | C13: 3 | E13: 4 | F13: 5 | G13: 6 | I13: 7 | J13: 8 | K13: 9 | M13: 10 | N13: 11 | O13: 12 | Q13: 13
A14: 0
A15: 1 | E15: 399 | I15: 1275 | M15: 80 | Q15: 203
A16: 2 | E16: 381 | I16: 1184 | M16: 80 | Q16: 185
A17: 3 | E17: 374 | I17: 1130 | M17: 84 | Q17: 168
A18: 4 | E18: 373 | I18: 1104 | M18: 84 | Q18: 162
A19: 5 | E19: 376 | I19: 1112 | M19: 83 | Q19: 157
A20: 6 | E20: 433 | I20: 1236 | M20: 87 | Q20: 166
A21: 7 | E21: 480 | I21: 1460 | M21: 91 | Q21: 192
A22: 8 | E22: 621 | I22: 1791 | M22: 159 | Q22: 333
A23: 9 | E23: 816 | I23: 1990 | M23: 273 | Q23: 379
A24: 10 | E24: 886 | I24: 2079 | M24: 313 | Q24: 400
A25: 11 | E25: 823 | I25: 2091 | M25: 248 | Q25: 364
A26: 12 | E26: 834 | I26: 2117 | M26: 285 | Q26: 386
... A38: 24 | E38: 427 | I38: 1369 | M38: 75 | Q38: 220
A39: Итого | E39: =SUM(E15:E38) -> 14933 | I39: =SUM(I15:I38) -> 41083 | M39: =SUM(M15:M38) -> 4023 | Q39: =SUM(Q15:Q38) -> 6559
A40: 1. При наличии на предприятии отклонений от нормальных режимов электропотребления (временное изменение схем питания, остановка на ремонт, резкое снижение
A41: эл.потребления и т.д.) последние необходимо перечислить.
A42: Главный инженер АО "Вологдаоблэнерго" А.В. Чурляев
A43: составляется самим предприятием с соблюдением всех пунктов настоящей таблицы.

Sheet 6
B1: АО "Вологдаоблэнерго" | J1: код 900151 | N1: ПС "ЗАПАДНАЯ"
B2: наименование предприятия | N2: наименование источника питания
N3: _________________________________
B4: ул. Горького, 99 | I4: Таблица № 1 | N4: РП 10 ф7 | Q4: РП 36 ф17
B5: адрес
A6: почасовых записей показаний электрических счетчиков
A7: в режимный день 15 ДЕКАБРЯ 2021 г.
A8: 370 | B8: 365
A9: часы суток | B9: Активная энергия | J9: Реактивная энергия
B10: яч. 16 - ф."ОЧИСТНЫЕ-1" | F10: яч. 24 - "ГОРОД-1" | J10: яч. 16 - ф."ОЧИСТНЫЕ-1" | N10: яч. 24 - "ГОРОД-1"
B11: Расчет. Коэф. | E11: 4800 | F11: Расчет. Коэф. | I11: 7200 | J11: Расчет. Коэф. | M11: =E11 -> 4800 | N11: Расчет. Коэф. | Q11: =I11 -> 7200
B12: показания счетчика | C12: разность | E12: расход эл.энергии за час | F12: показания счетчика | G12: разность | I12: расход эл.энергии за час | J12: показания счетчика | K12: разность | M12: расход эл.энергии за час | N12: показания счетчика | O12: разность | Q12: расход эл.энергии за час
A13: 1 | B13: 2 | C13: 3 | E13: 4 | F13: 5 | G13: 6 | I13: 7 | J13: 8 | K13: 9 | M13: 10 | N13: 11 | O13: 12 | Q13: 13
A14: 0
A15: 1 | E15: 284 | I15: 1292 | M15: 52 | Q15: 606
A16: 2 | E16: 253 | I16: 1344 | M16: 48 | Q16: 538
A17: 3 | E17: 247 | I17: 1350 | M17: 48 | Q17: 635
A18: 4 | E18: 245 | I18: 1302 | M18: 44 | Q18: 615
A19: 5 | E19: 245 | I19: 1302 | M19: 43 | Q19: 599
A20: 6 | E20: 249 | I20: 1320 | M20: 45 | Q20: 604
A21: 7 | E21: 284 | I21: 1276 | M21: 53 | Q21: 594
A22: 8 | E22: 285 | I22: 1380 | M22: 52 | Q22: 552
A23: 9 | E23: 284 | I23: 1491 | M23: 50 | Q23: 657
A24: 10 | E24: 277 | I24: 1570 | M24: 43 | Q24: 701
A25: 11 | E25: 349 | I25: 1606 | M25: 57 | Q25: 685
A26: 12 | E26: 548 | I26: 1591 | M26: 95 | Q26: 716
... A38: 24 | E38: 443 | I38: 1321 | M38: 79 | Q38: 666
A39: Итого | E39: =SUM(E15:E38) -> 8864 | I39: =SUM(I15:I38) -> 34357 | M39: =SUM(M15:M38) -> 1560 | Q39: =SUM(Q15:Q38) -> 15677
A40: 1. При наличии на предприятии отклонений от нормальных режимов электропотребления (временное изменение схем питания, остановка на ремонт, резкое снижение
A41: эл.потребления и т.д.) последние необходимо перечислить.
A42: Главный инженер АО "Вологдаоблэнерго" А.В. Чурляев
A43: составляется самим предприятием с соблюдением всех пунктов настоящей таблицы.

Sheet 7
B1: АО "Вологдаоблэнерго" | J1: код 900151 | N1: ПС "ЗАПАДНАЯ"
B2: наименование предприятия | N2: наименование источника питания
N3: _________________________________
B4: ул. Горького, 99 | I4: Таблица № 1 | O4: РП 7
B5: адрес
A6: почасовых записей показаний электрических счетчиков
A7: в режимный день 15 ДЕКАБРЯ 2021 г.
A8: 371 | B8: 367
A9: часы суток | B9: Активная энергия | J9: Реактивная энергия
B10: яч. 3 "П/Я-1" | F10: яч. 10 "П/Я-2" | J10: яч. 3 "П/Я-1" | N10: яч. 10 "П/Я-2"
B11: Расчет. Коэф. | E11: 12000 | F11: Расчет. Коэф. | I11: 7200 | J11: Расчет. Коэф. | M11: =E11 -> 12000 | N11: Расчет. Коэф. | Q11: =I11 -> 7200
B12: показания счетчика | C12: разность | E12: расход эл.энергии за час | F12: показания счетчика | G12: разность | I12: расход эл.энергии за час | J12: показания счетчика | K12: разность | M12: расход эл.энергии за час | N12: показания счетчика | O12: разность | Q12: расход эл.энергии за час
A13: 1 | B13: 2 | C13: 3 | E13: 4 | F13: 5 | G13: 6 | I13: 7 | J13: 8 | K13: 9 | M13: 10 | N13: 11 | O13: 12 | Q13: 13
A14: 0
A15: 1 | E15: 1200 | I15: 1275 | M15: 252 | Q15: 203
A16: 2 | E16: 1141 | I16: 1184 | M16: 233 | Q16: 185
A17: 3 | E17: 1142 | I17: 1130 | M17: 239 | Q17: 168
A18: 4 | E18: 1144 | I18: 1104 | M18: 247 | Q18: 162
A19: 5 | E19: 1177 | I19: 1112 | M19: 240 | Q19: 157
A20: 6 | E20: 1270 | I20: 1236 | M20: 266 | Q20: 166
A21: 7 | E21: 1381 | I21: 1460 | M21: 285 | Q21: 192
A22: 8 | E22: 1439 | I22: 1791 | M22: 314 | Q22: 333
A23: 9 | E23: 1600 | I23: 1990 | M23: 389 | Q23: 379
A24: 10 | E24: 1735 | I24: 2079 | M24: 411 | Q24: 400
A25: 11 | E25: 1875 | I25: 2091 | M25: 468 | Q25: 364
A26: 12 | E26: 1812 | I26: 2117 | M26: 473 | Q26: 386
... A38: 24 | E38: 1437 | I38: 1369 | M38: 311 | Q38: 220
A39: Итого | E39: =SUM(E15:E38) -> 36629 | I39: =SUM(I15:I38) -> 41083 | M39: =SUM(M15:M38) -> 8340 | Q39: =SUM(Q15:Q38) -> 6559
A40: 1. При наличии на предприятии отклонений от нормальных режимов электропотребления (временное изменение схем питания, остановка на ремонт, резкое снижение
A41: эл.потребления и т.д.) последние необходимо перечислить.
A42: Главный инженер АО "Вологдаоблэнерго" А.В. Чурляев
A43: составляется самим предприятием с соблюдением всех пунктов настоящей таблицы.

Sheet 8
B1: АО "Вологдаоблэнерго" | J1: код 900151 | N1: ПС "ЗАПАДНАЯ"
B2: наименование предприятия | I2: _ | N2: наименование источника питания
N3: _________________________________
B4: ул. Горького, 99 | I4: Таблица № 1 | O4: РП 35; РП 37
B5: адрес
A6: почасовых записей показаний электрических счетчиков
A7: в режимный день 15 ДЕКАБРЯ 2021 г.
A8: 129 | B8: 130
A9: часы суток | B9: Активная энергия | J9: Реактивная энергия
B10: яч. 15 "РП -35" | F10: яч. 35 "РП-37" | J10: яч. 15 "РП -35" | N10: яч. 35 "РП-37"
B11: Расчет. Коэф. | E11: 3600 | F11: Расчет. Коэф. | I11: 4800 | J11: Расчет. Коэф. | M11: =E11 -> 3600 | N11: Расчет. Коэф. | Q11: =I11 -> 4800
B12: показания счетчика | C12: разность | E12: расход эл.энергии за час | F12: показания счетчика | G12: разность | I12: расход эл.энергии за час | J12: показания счетчика | K12: разность | M12: расход эл.энергии за час | N12: показания счетчика | O12: разность | Q12: расход эл.энергии за час
A13: 1 | B13: 2 | C13: 3 | E13: 4 | F13: 5 | G13: 6 | I13: 7 | J13: 8 | K13: 9 | M13: 10 | N13: 11 | O13: 12 | Q13: 13
A14: 0
A15: 1 | E15: 300 | I15: 458 | M15: 252 | Q15: 106
A16: 2 | E16: 298 | I16: 443 | M16: 252 | Q16: 113
A17: 3 | E17: 300 | I17: 514 | M17: 257 | Q17: 168
A18: 4 | E18: 298 | I18: 412 | M18: 253 | Q18: 99
A19: 5 | E19: 298 | I19: 407 | M19: 249 | Q19: 91
A20: 6 | E20: 300 | I20: 473 | M20: 242 | Q20: 88
A21: 7 | E21: 297 | I21: 524 | M21: 204 | Q21: 84
A22: 8 | E22: 298 | I22: 620 | M22: 202 | Q22: 84
A23: 9 | E23: 302 | I23: 681 | M23: 199 | Q23: 134
A24: 10 | E24: 301 | I24: 671 | M24: 196 | Q24: 147
A25: 11 | E25: 301 | I25: 695 | M25: 194 | Q25: 186
A26: 12 | E26: 302 | I26: 699 | M26: 193 | Q26: 169
... A38: 24 | E38: 300 | I38: 509 | M38: 189 | Q38: 117
A39: Итого | E39: =SUM(E15:E38) -> 7221 | I39: =SUM(I15:I38) -> 14077 | M39: =SUM(M15:M38) -> 5002 | Q39: =SUM(Q15:Q38) -> 3051
A40: 1. При наличии на предприятии отклонений от нормальных режимов электропотребления (временное изменение схем питания, остановка на ремонт, резкое снижение
A41: эл.потребления и т.д.) последние необходимо перечислить.
A42: Главный инженер АО "Вологдаоблэнерго" А.В. Чурляев
A43: составляется самим предприятием с соблюдением всех пунктов настоящей таблицы.

Sheet 9
B1: АО "Вологдаоблэнерго" | J1: код 900151 | N1: ПС "ЗАПАДНАЯ"
B2: наименование предприятия | N2: наименование источника питания
N3: _________________________________
B4: ул. Горького, 99 | I4: Таблица № 1 | O4: РП 28
B5: адрес
A6: почасовых записей показаний электрических счетчиков
A7: в режимный день 15 ДЕКАБРЯ 2021 г.
A8: 366 | B8: 369
A9: часы суток | B9: Активная энергия | J9: Реактивная энергия
B10: яч. 17 "ГОРОД-2" | F10: яч. 22 - "ОЧИСТНЫЕ-2" | J10: ЯЧ. №17 - "ГОРОД-2" | N10: ЯЧ. №22 - "ОЧИСТНЫЕ-2"
B11: Расчет. Коэф. | E11: 7200 | F11: Расчет. Коэф. | I11: 7200 | J11: Расчет. Коэф. | M11: =E11 -> 7200 | N11: Расчет. Коэф. | Q11: =I11 -> 7200
B12: показания счетчика | C12: разность | E12: расход эл.энергии за час | F12: показания счетчика | G12: разность | I12: расход эл.энергии за час | J12: показания счетчика | K12: разность | M12: расход эл.энергии за час | N12: показания счетчика | O12: разность | Q12: расход эл.энергии за час
A13: 1 | B13: 2 | C13: 3 | E13: 4 | F13: 5 | G13: 6 | I13: 7 | J13: 8 | K13: 9 | M13: 10 | N13: 11 | O13: 12 | Q13: 13
A14: 0
A15: 1 | E15: 787 | I15: 748 | M15: 192 | Q15: 309
A16: 2 | E16: 771 | I16: 776 | M16: 182 | Q16: 317
A17: 3 | E17: 749 | I17: 860 | M17: 186 | Q17: 360
A18: 4 | E18: 755 | I18: 742 | M18: 183 | Q18: 293
A19: 5 | E19: 768 | I19: 732 | M19: 181 | Q19: 284
A20: 6 | E20: 790 | I20: 788 | M20: 187 | Q20: 290
A21: 7 | E21: 906 | I21: 994 | M21: 215 | Q21: 299
A22: 8 | E22: 1138 | I22: 1068 | M22: 306 | Q22: 305
A23: 9 | E23: 1366 | I23: 1194 | M23: 395 | Q23: 373
A24: 10 | E24: 1510 | I24: 1265 | M24: 481 | Q24: 379
A25: 11 | E25: 1479 | I25: 1308 | M25: 449 | Q25: 407
A26: 12 | E26: 1477 | I26: 1092 | M26: 535 | Q26: 396
... A38: 24 | E38: 925 | I38: 751 | M38: 257 | Q38: 322
A39: Итого | E39: =SUM(E15:E38) -> 27330 | I39: =SUM(I15:I38) -> 23783 | M39: =SUM(M15:M38) -> 8105 | Q39: =SUM(Q15:Q38) -> 8197
A40: 1. При наличии на предприятии отклонений от нормальных режимов электропотребления (временное изменение схем питания, остановка на ремонт, резкое снижение
A41: эл.потребления и т.д.) последние необходимо перечислить.
A42: Главный инженер АО "Вологдаоблэнерго" А.В. Чурляев
A43: составляется самим предприятием с соблюдением всех пунктов настоящей таблицы.

Sheet 10
B1: АО "Вологдаоблэнерго" | J1: код 900151 | N1: ПС "СЕВЕРНАЯ 35/6 кВ
B2: наименование предприятия | N2: наименование источника питания
N3: _________________________________
B4: ул. Горького, 99 | I4: Таблица № 1 | N4: Т1, Т2 | O4: РП 5
B5: адрес
A6: почасовых записей показаний электрических счетчиков
A7: в режимный день 15 ДЕКАБРЯ 2021 г.
A8: 325 | B8: 328
A9: часы суток | B9: Активная энергия | J9: Реактивная энергия
B10: Т 1 -РП 5 Ф 3 ввод № 1 | F10: Т 2 - РП 5 Ф 17 ввод № 2 | J10: Т 1 -РП 5 Ф 3 ввод № 1 | N10: Т 2 - РП 5 Ф 17 ввод № 2
B11: Расчет. Коэф. | E11: 18000 | F11: Расчет. Коэф. | I11: 18000 | J11: Расчет. Коэф. | M11: =E11 -> 18000 | N11: Расчет. Коэф. | Q11: =I11 -> 18000
B12: показания счетчика | C12: разность | E12: расход эл.энергии за час | F12: показания счетчика | G12: разность | I12: расход эл.энергии за час | J12: показания счетчика | K12: разность | M12: расход эл.энергии за час | N12: показания счетчика | O12: разность | Q12: расход эл.энергии за час
A13: 1 | B13: 2 | C13: 3 | E13: 4 | F13: 5 | G13: 6 | I13: 7 | J13: 8 | K13: 9 | M13: 10 | N13: 11 | O13: 12 | Q13: 13
A14: 0
A15: 1 | E15: 1603.8 | I15: 2520
A16: 2 | E16: 1515.6 | I16: 2358
A17: 3 | E17: 1537.2 | I17: 2286
A18: 4 | E18: 1510.2 | I18: 2307.6
A19: 5 | E19: 1499.4 | I19: 2295
A20: 6 | E20: 1537.2 | I20: 2453.4
A21: 7 | E21: 1731.6 | I21: 2887.2
A22: 8 | E22: 1864.8 | I22: 3202.2
A23: 9 | E23: 1915.2 | I23: 3706.2
A24: 10 | E24: 1778.4 | I24: 4042.8
A25: 11 | E25: 1884.6 | I25: 4127.4
A26: 12 | E26: 2088 | I26: 3871.8
... A38: 24 | E38: 1630.8 | I38: 2689.2
A39: Итого | E39: =SUM(E15:E38) -> 43828.2 | I39: =SUM(I15:I38) -> 79317 | M39: =SUM(M15:M38) -> 0 | Q39: =SUM(Q15:Q38) -> 0
A40: 1. При наличии на предприятии отклонений от нормальных режимов электропотребления (временное изменение схем питания, остановка на ремонт, резкое снижение
A41: эл.потребления и т.д.) последние необходимо перечислить.
A42: Главный инженер АО "Вологдаоблэнерго" А.В. Чурляев
A43: составляется самим предприятием с соблюдением всех пунктов настоящей таблицы.

Sheet 11
B1: АО "Вологдаоблэнерго" | G1: код 900151 | I1: ПС "ВОЛОГДА-ЮЖНАЯ" 110/6 транзит через РТП "ТЕПЛИЧНОГО ХОЗ - ВА"
B2: наименование предприятия | N2: наименование источника питания
N3: _________________________________
B4: ул. Горького, 99 | I4: Таблица № 1 | O4: ТП 438
B5: адрес
A6: почасовых записей показаний электрических счетчиков
A7: в режимный день 15 ДЕКАБРЯ 2021 г.
A8: 635 | B8: 634
A9: часы суток | B9: Активная энергия | J9: Реактивная энергия
B10: ЯЧ. 3 - ф. "Микрорайон-1" ввод № 1 | F10: яч. 13 - ф. "Микрорайон-2" ввод № 2 | J10: ЯЧ. 3 - ф. "Микрорайон-1" ввод № 1 | N10: яч. 13 - ф. "Микрорайон-2" ввод № 2
B11: Расчет. Коэф. | E11: 3600 | F11: Расчет. Коэф. | I11: 3600 | J11: Расчет. Коэф. | M11: =E11 -> 3600 | N11: Расчет. Коэф. | Q11: =I11 -> 3600
B12: показания счетчика | C12: разность | E12: расход эл.энергии за час | F12: показания счетчика | G12: разность | I12: расход эл.энергии за час | J12: показания счетчика | K12: разность | M12: расход эл.энергии за час | N12: показания счетчика | O12: разность | Q12: расход эл.энергии за час
A13: 1 | B13: 2 | C13: 3 | E13: 4 | F13: 5 | G13: 6 | I13: 7 | J13: 8 | K13: 9 | M13: 10 | N13: 11 | O13: 12 | Q13: 13
A14: 0
A15: 1 | E15: 130.32 | I15: 149.4 | M15: 45.36 | Q15: 50.04
A16: 2 | E16: 118.8 | I16: 136.44 | M16: 41.04 | Q16: 48.96
A17: 3 | E17: 114.48 | I17: 129.6 | M17: 42.48 | Q17: 49.32
A18: 4 | E18: 117 | I18: 123.84 | M18: 43.56 | Q18: 48.24
A19: 5 | E19: 114.84 | I19: 130.68 | M19: 41.4 | Q19: 47.52
A20: 6 | E20: 142.92 | I20: 164.16 | M20: 42.48 | Q20: 47.88
A21: 7 | E21: 170.28 | I21: 186.84 | M21: 43.2 | Q21: 49.68
A22: 8 | E22: 189.36 | I22: 217.44 | M22: 42.12 | Q22: 53.64
A23: 9 | E23: 215.64 | I23: 259.92 | M23: 49.68 | Q23: 55.44
A24: 10 | E24: 207 | I24: 268.92 | M24: 51.48 | Q24: 58.32
A25: 11 | E25: 221.04 | I25: 258.12 | M25: 52.92 | Q25: 54.36
A26: 12 | E26: 245.88 | I26: 246.96 | M26: 52.92 | Q26: 52.2
... A38: 24 | E38: 154.08 | I38: 180 | M38: 50.04 | Q38: 52.56
A39: Итого | E39: =SUM(E15:E38) -> 4568.76 | I39: =SUM(I15:I38) -> 5252.04 | M39: =SUM(M15:M38) -> 1221.12 | Q39: =SUM(Q15:Q38) -> 1274.04
A40: 1. При наличии на предприятии отклонений от нормальных режимов электропотребления (временное изменение схем питания, остановка на ремонт, резкое снижение
A41: эл.потребления и т.д.) последние необходимо перечислить.
A42: Главный инженер АО "Вологдаоблэнерго" А.В. Чурляев
A43: составляется самим предприятием с соблюдением всех пунктов настоящей таблицы.

Sheet 12
B1: АО "Вологдаоблэнерго" | J1: код 900151 | N1: ГПП 110/10 кВ "ВОМЗ"
B2: наименование предприятия | N2: наименование источника питания
N3: _________________________________
B4: ул. Горького, 99 | I4: Таблица № 1 | O4: РП 29
B5: адрес
A6: почасовых записей показаний электрических счетчиков
A7: в режимный день 15 ДЕКАБРЯ 2021 г.
A8: 613 | B8: 610
A9: часы суток | B9: Активная энергия | J9: Реактивная энергия
B10: ЯЧ.47 - РП 29 ввод № 1 | F10: ЯЧ.31 - РП 29 ввод № 2 | J10: ЯЧ.47 - РП 29 ввод № 1 | N10: ЯЧ.31 - РП 29 ввод № 2
B11: Расчет. Коэф. | E11: 12000 | F11: Расчет. Коэф. | I11: 20000 | J11: Расчет. Коэф. | M11: =E11 -> 12000 | N11: Расчет. Коэф. | Q11: =I11 -> 20000
B12: показания счетчика | C12: разность | E12: расход эл.энергии за час | F12: показания счетчика | G12: разность | I12: расход эл.энергии за час | J12: показания счетчика | K12: разность | M12: расход эл.энергии за час | N12: показания счетчика | O12: разность | Q12: расход эл.энергии за час
A13: 1 | B13: 2 | C13: 3 | E13: 4 | F13: 5 | G13: 6 | I13: 7 | J13: 8 | K13: 9 | M13: 10 | N13: 11 | O13: 12 | Q13: 13
A14: 0
A15: 1 | E15: 1062 | I15: 780 | M15: 288 | Q15: 130
A16: 2 | E16: 969 | I16: 722 | M16: 271 | Q16: 124
A17: 3 | E17: 926 | I17: 702 | M17: 270 | Q17: 124
A18: 4 | E18: 907 | I18: 688 | M18: 259 | Q18: 120
A19: 5 | E19: 903 | I19: 724 | M19: 264 | Q19: 116
A20: 6 | E20: 1038 | I20: 760 | M20: 262 | Q20: 118
A21: 7 | E21: 1298 | I21: 1080 | M21: 270 | Q21: 140
A22: 8 | E22: 1666 | I22: 1292 | M22: 319 | Q22: 174
A23: 9 | E23: 1934 | I23: 1570 | M23: 358 | Q23: 244
A24: 10 | E24: 2191 | I24: 1660 | M24: 358 | Q24: 244
A25: 11 | E25: 2249 | I25: 1750 | M25: 347 | Q25: 242
A26: 12 | E26: 2213 | I26: 1736 | M26: 343 | Q26: 240
... A38: 24 | E38: 1198 | I38: 870 | M38: 281 | Q38: 132
A39: Итого | E39: =SUM(E15:E38) -> 41169 | I39: =SUM(I15:I38) -> 31146 | M39: =SUM(M15:M38) -> 7703 | Q39: =SUM(Q15:Q38) -> 4428
A40: 1. При наличии на предприятии отклонений от нормальных режимов электропотребления (временное изменение схем питания, остановка на ремонт, резкое снижение
A41: эл.потребления и т.д.) последние необходимо перечислить.
A42: Главный инженер АО "Вологдаоблэнерго" А.В. Чурляев
A43: составляется самим предприятием с соблюдением всех пунктов настоящей таблицы.

Sheet 13
B1: АО "Вологдаоблэнерго" | J1: код 900151 | N1: ГПП 110/10 кВ "ВОМЗ"
B2: наименование предприятия | N2: наименование источника питания
N3: _________________________________
B4: ул. Горького, 99 | I4: Таблица № 1 | O4: РП 14
B5: адрес
A6: почасовых записей показаний электрических счетчиков
A7: в режимный день 15 ДЕКАБРЯ 2021 г.
A8: 614 | B8: 615
A9: часы суток | B9: Активная энергия | J9: Реактивная энергия
B10: ЯЧ.5 - РП 14 ввод № 1 | F10: ЯЧ.22 - РП 14 ввод № 2 | J10: ЯЧ.5 - РП 14 ввод № 1 | N10: ЯЧ.22 - РП 14 ввод № 2
B11: Расчет. Коэф. | E11: 12000 | F11: Расчет. Коэф. | I11: 12000 | J11: Расчет. Коэф. | M11: =E11 -> 12000 | N11: Расчет. Коэф. | Q11: =I11 -> 12000
B12: показания счетчика | C12: разность | E12: расход эл.энергии за час | F12: показания счетчика | G12: разность | I12: расход эл.энергии за час | J12: показания счетчика | K12: разность | M12: расход эл.энергии за час | N12: показания счетчика | O12: разность | Q12: расход эл.энергии за час
A13: 1 | B13: 2 | C13: 3 | E13: 4 | F13: 5 | G13: 6 | I13: 7 | J13: 8 | K13: 9 | M13: 10 | N13: 11 | O13: 12 | Q13: 13
A14: 0
A15: 1 | E15: 2291 | I15: 2145 | M15: 44 | Q15: 114
A16: 2 | E16: 2188 | I16: 1936 | M16: 35 | Q16: 76
A17: 3 | E17: 2118 | I17: 1860 | M17: 22 | Q17: 82
A18: 4 | E18: 2074 | I18: 1828 | M18: 33 | Q18: 77
A19: 5 | E19: 2075 | I19: 1835 | M19: 21 | Q19: 71
A20: 6 | E20: 2175 | I20: 1982 | M20: 8 | Q20: 79
A21: 7 | E21: 2597 | I21: 2518 | M21: 18 | Q21: 81
A22: 8 | E22: 3039 | I22: 3073 | M22: 94 | Q22: 162
A23: 9 | E23: 3337 | I23: 3538 | M23: 148 | Q23: 391
A24: 10 | E24: 3678 | I24: 3729 | M24: 200 | Q24: 431
A25: 11 | E25: 3852 | I25: 3798 | M25: 174 | Q25: 429
A26: 12 | E26: 3843 | I26: 3748 | M26: 175 | Q26: 439
... A38: 24 | E38: 2621 | I38: 2409 | M38: 50 | Q38: 128
A39: Итого | E39: =SUM(E15:E38) -> 76571 | I39: =SUM(I15:I38) -> 73573 | M39: =SUM(M15:M38) -> 2390 | Q39: =SUM(Q15:Q38) -> 5988
A40: 1. При наличии на предприятии отклонений от нормальных режимов электропотребления (временное изменение схем питания, остановка на ремонт, резкое снижение
A41: эл.потребления и т.д.) последние необходимо перечислить.
A42: Главный инженер АО "Вологдаоблэнерго" А.В. Чурляев
A43: составляется самим предприятием с соблюдением всех пунктов настоящей таблицы.

Sheet 14
B1: АО "Вологдаоблэнерго" | J1: код 900151 | N1: ГПП 110/10 кВ "ВОМЗ"
B2: наименование предприятия | N2: наименование источника питания
N3: _________________________________
B4: ул. Горького, 99 | I4: Таблица № 1 | O4: РП 2
B5: адрес
A6: почасовых записей показаний электрических счетчиков
A7: в режимный день 15 ДЕКАБРЯ 2021 г.
A8: 612 | B8: 611
A9: часы суток | B9: Активная энергия | J9: Реактивная энергия
B10: ЯЧ.44 - РП 2 ввод № 1 | F10: ЯЧ.26в - РП 2 ввод № 2 | J10: ЯЧ.44 - РП 2 ввод № 1 | N10: ЯЧ.26в - РП 2 ввод № 2
B11: Расчет. Коэф. | E11: 12000 | F11: Расчет. Коэф. | I11: 12000 | J11: Расчет. Коэф. | M11: =E11 -> 12000 | N11: Расчет. Коэф. | Q11: =I11 -> 12000
B12: показания счетчика | C12: разность | E12: расход эл.энергии за час | F12: показания счетчика | G12: разность | I12: расход эл.энергии за час | J12: показания счетчика | K12: разность | M12: расход эл.энергии за час | N12: показания счетчика | O12: разность | Q12: расход эл.энергии за час
A13: 1 | B13: 2 | C13: 3 | E13: 4 | F13: 5 | G13: 6 | I13: 7 | J13: 8 | K13: 9 | M13: 10 | N13: 11 | O13: 12 | Q13: 13
A14: 0
A15: 1 | E15: 560 | I15: 521 | M15: 9 | Q15: 1
A16: 2 | E16: 520 | I16: 495 | M16: 8 | Q16: 0
A17: 3 | E17: 494 | I17: 472 | M17: 5 | Q17: 0
A18: 4 | E18: 485 | I18: 471 | M18: 2 | Q18: 0
A19: 5 | E19: 485 | I19: 480 | M19: 0 | Q19: 0
A20: 6 | E20: 546 | I20: 515 | M20: 1 | Q20: 0
A21: 7 | E21: 653 | I21: 577 | M21: 3 | Q21: 0
A22: 8 | E22: 783 | I22: 692 | M22: 8 | Q22: 6
A23: 9 | E23: 888 | I23: 848 | M23: 61 | Q23: 12
A24: 10 | E24: 951 | I24: 932 | M24: 62 | Q24: 34
A25: 11 | E25: 1000 | I25: 984 | M25: 57 | Q25: 43
A26: 12 | E26: 959 | I26: 974 | M26: 60 | Q26: 37
... A38: 24 | E38: 599 | I38: 603 | M38: 4 | Q38: 47
A39: Итого | E39: =SUM(I15:I38) -> 18503 | I39: =SUM(I15:I38) -> 18503 | M39: =SUM(M15:M38) -> 779 | Q39: =SUM(Q15:Q38) -> 775
A40: 1. При наличии на предприятии отклонений от нормальных режимов электропотребления (временное изменение схем питания, остановка на ремонт, резкое снижение
A41: эл.потребления и т.д.) последние необходимо перечислить.
A42: Главный инженер АО "Вологдаоблэнерго" А.В. Чурляев
A43: составляется самим предприятием с соблюдением всех пунктов настоящей таблицы.

Sheet 15
B1: АО "Вологдаоблэнерго" | J1: код 900151 | N1: ПС ВОЛОГДА-ЮЖНАЯ РУ - 6 кВ
B2: наименование предприятия | N2: наименование источника питания
N3: _________________________________
B4: ул. Горького, 99 | I4: Таблица № 1 | N4: ТП 450 | Q4: ТП 630
B5: адрес
A6: почасовых записей показаний электрических счетчиков
A7: в режимный день 18 ДЕКАБРЯ 2019 г..
A8: 591 | B8: 595
A9: часы суток | B9: Активная энергия | J9: Реактивная энергия
B10: ЯЧ.№ 206 - "ГОРОД-15" | F10: ЯЧ.№103 - "ТУБДИСПАНСЕР" | J10: =B10 -> ЯЧ.№ 206 - "ГОРОД-15" | N10: =F10 -> ЯЧ.№103 - "ТУБДИСПАНСЕР"
B11: Расчет. Коэф. | E11: 4800 | F11: Расчет. Коэф. | I11: 2400 | J11: Расчет. Коэф. | M11: =E11 -> 4800 | N11: Расчет. Коэф. | Q11: =I11 -> 2400
B12: показания счетчика | C12: разность | E12: расход эл.энергии за час | F12: показания счетчика | G12: разность | I12: расход эл.энергии за час | J12: показания счетчика | K12: разность | M12: расход эл.энергии за час | N12: показания счетчика | O12: разность | Q12: расход эл.энергии за час
A13: 1 | B13: 2 | C13: 3 | E13: 4 | F13: 5 | G13: 6 | I13: 7 | J13: 8 | K13: 9 | M13: 10 | N13: 11 | O13: 12 | Q13: 13
A14: 0
A15: 1 | E15: 174 | I15: 443 | M15: 31 | Q15: 82
A16: 2 | E16: 197 | I16: 395 | M16: 46 | Q16: 74
A17: 3 | E17: 190 | I17: 392 | M17: 48 | Q17: 76
A18: 4 | E18: 174 | I18: 403 | M18: 43 | Q18: 76
A19: 5 | E19: 172 | I19: 382 | M19: 40 | Q19: 72
A20: 6 | E20: 179 | I20: 408 | M20: 34 | Q20: 71
A21: 7 | E21: 238 | I21: 461 | M21: 39 | Q21: 76
A22: 8 | E22: 295 | I22: 524 | M22: 80 | Q22: 91
A23: 9 | E23: 355 | I23: 606 | M23: 175 | Q23: 118
A24: 10 | E24: 375 | I24: 567 | M24: 192 | Q24: 108
A25: 11 | E25: 405 | I25: 537 | M25: 177 | Q25: 92
A26: 12 | E26: 469 | I26: 561 | M26: 193 | Q26: 100
... A38: 24 | E38: 230 | I38: 455 | M38: 64 | Q38: 76
A39: Итого | E39: =SUM(E15:E38) -> 7309 | I39: =SUM(I15:I38) -> 12384 | M39: =SUM(M15:M38) -> 2440 | Q39: =SUM(Q15:Q38) -> 2129
A40: 1. При наличии на предприятии отклонений от нормальных режимов электропотребления (временное изменение схем питания, остановка на ремонт, резкое снижение
A41: эл.потребления и т.д.) последние необходимо перечислить.
A42: Главный инженер АО "Вологдаоблэнерго" А.В. Чурляев
A43: составляется самим предприятием с соблюдением всех пунктов настоящей таблицы.

Sheet 16
B1: АО "Вологдаоблэнерго" | J1: код 900151 | N1: ПС ВОЛОГДА-ЮЖНАЯ РУ-10 кВ
B2: наименование предприятия | I2: _ | N2: наименование источника питания
N3: _________________________________
B4: ул. Горького, 99 | I4: Таблица № 1 | O4: РП 32
B5: адрес
A6: почасовых записей показаний электрических счетчиков
A7: в режимный день 15 ДЕКАБРЯ 2021 г.
A8: 590 | B8: 593
A9: часы суток | B9: Активная энергия | J9: Реактивная энергия
B10: ЯЧ.№206 - "ГОРОД-10" | F10: ЯЧ.№404- "ГОРОД-14" | J10: =B10 -> ЯЧ.№206 - "ГОРОД-10" | N10: =F10 -> ЯЧ.№404- "ГОРОД-14"
B11: Расчет. Коэф. | E11: 6000 | F11: Расчет. Коэф. | I11: 3000 | J11: Расчет. Коэф. | M11: =E11 -> 6000 | N11: Расчет. Коэф. | Q11: =I11 -> 3000
B12: показания счетчика | C12: разность | E12: расход эл.энергии за час | F12: показания счетчика | G12: разность | I12: расход эл.энергии за час | J12: показания счетчика | K12: разность | M12: расход эл.энергии за час | N12: показания счетчика | O12: разность | Q12: расход эл.энергии за час
A13: 1 | B13: 2 | C13: 3 | E13: 4 | F13: 5 | G13: 6 | I13: 7 | J13: 8 | K13: 9 | M13: 10 | N13: 11 | O13: 12 | Q13: 13
A14: 0
A15: 1 | E15: 232 | I15: 582 | M15: 0 | Q15: 105
A16: 2 | E16: 229 | I16: 577 | M16: 0 | Q16: 103
A17: 3 | E17: 227 | I17: 574 | M17: 0 | Q17: 102
A18: 4 | E18: 225 | I18: 570 | M18: 0 | Q18: 96
A19: 5 | E19: 221 | I19: 680 | M19: 0 | Q19: 97
A20: 6 | E20: 233 | I20: 735 | M20: 0 | Q20: 101
A21: 7 | E21: 248 | I21: 720 | M21: 0 | Q21: 100
A22: 8 | E22: 320 | I22: 974 | M22: 0 | Q22: 128
A23: 9 | E23: 410 | I23: 1295 | M23: 0 | Q23: 148
A24: 10 | E24: 422 | I24: 1419 | M24: 0 | Q24: 169
A25: 11 | E25: 421 | I25: 1460 | M25: 2 | Q25: 171
A26: 12 | E26: 405 | I26: 1400 | M26: 0 | Q26: 162
... A38: 24 | E38: 236 | I38: 593 | M38: 0 | Q38: 91
A39: Итого | E39: =SUM(E15:E38) -> 7441 | I39: =SUM(I15:I38) -> 22244 | M39: =SUM(M15:M38) -> 3 | Q39: =SUM(Q15:Q38) -> 2926
A40: 1. При наличии на предприятии отклонений от нормальных режимов электропотребления (временное изменение схем питания, остановка на ремонт, резкое снижение
A41: эл.потребления и т.д.) последние необходимо перечислить.
A42: Главный инженер АО "Вологдаоблэнерго" А.В. Чурляев
A43: составляется самим предприятием с соблюдением всех пунктов настоящей таблицы.

Sheet 17
B1: АО "Вологдаоблэнерго" | J1: код 900151 | N1: ПС ВОЛОГДА-ЮЖНАЯ РУ- 6 кВ
B2: наименование предприятия | N2: наименование источника питания
N3: _________________________________
B4: ул. Горького, 99 | I4: Таблица № 1 | O4: ТП 461
B5: адрес
A6: почасовых записей показаний электрических счетчиков
A7: в режимный день 15 ДЕКАБРЯ 2021 г.
A8: 594
A9: часы суток | B9: Активная энергия | J9: Реактивная энергия
B10: ЯЧ.№203 - "ГОРОД 20" | J10: ЯЧ.№203 - "ГОРОД 20"
B11: Расчет. Коэф. | E11: 7200 | F11: Расчет. Коэф. | I11: 0 | J11: Расчет. Коэф. | M11: =E11 -> 7200 | N11: Расчет. Коэф. | Q11: =I11 -> 0
B12: показания счетчика | C12: разность | E12: расход эл.энергии за час | F12: показания счетчика | G12: разность | I12: расход эл.энергии за час | J12: показания счетчика | K12: разность | M12: расход эл.энергии за час | N12: показания счетчика | O12: разность | Q12: расход эл.энергии за час
A13: 1 | B13: 2 | C13: 3 | E13: 4 | F13: 5 | G13: 6 | I13: 7 | J13: 8 | K13: 9 | M13: 10 | N13: 11 | O13: 12 | Q13: 13
A14: 0
A15: 1 | E15: 146 | M15: 24
A16: 2 | E16: 129 | M16: 24
A17: 3 | E17: 120 | M17: 24
A18: 4 | E18: 114 | M18: 22
A19: 5 | E19: 136 | M19: 21
A20: 6 | E20: 213 | M20: 26
A21: 7 | E21: 253 | M21: 31
A22: 8 | E22: 296 | M22: 39
A23: 9 | E23: 319 | M23: 40
A24: 10 | E24: 328 | M24: 44
A25: 11 | E25: 317 | M25: 44
A26: 12 | E26: 287 | M26: 38
... A38: 24 | E38: 187 | M38: 26
A39: Итого | E39: =SUM(E15:E38) -> 5765 | M39: =SUM(M15:M38) -> 775
A40: 1. При наличии на предприятии отклонений от нормальных режимов электропотребления (временное изменение схем питания, остановка на ремонт, резкое снижение
A41: эл.потребления и т.д.) последние необходимо перечислить.
A42: Главный инженер АО "Вологдаоблэнерго" А.В. Чурляев
A43: составляется самим предприятием с соблюдением всех пунктов настоящей таблицы.

Sheet 18
B1: АО "Вологдаоблэнерго" | J1: код 900151 | N1: ПС ВОЛОГДА-ЮЖНАЯ РУ-10 кВ
B2: наименование предприятия | N2: наименование источника питания
N3: _________________________________
B4: ул. Горького, 99 | I4: Таблица № 1 | O4: РП 26
B5: адрес
A6: почасовых записей показаний электрических счетчиков
A7: в режимный день 16 ДЕКАБРЯ 2015 __ г.
A8: 589 | B8: 592
A9: часы суток | B9: Активная энергия | J9: Реактивная энергия
B10: ЯЧ. № 107- ф."ГОРОД 7" | F10: ЯЧ. № 204 - ф."ГОРОД 17" | J10: ЯЧ. № 107- ф."ГОРОД 7" | N10: ЯЧ. № 204 - ф."ГОРОД 17"
B11: Расчет. Коэф. | E11: 8000 | F11: Расчет. Коэф. | I11: 8000 | J11: Расчет. Коэф. | M11: =E11 -> 8000 | N11: Расчет. Коэф. | Q11: =I11 -> 8000
B12: показания счетчика | C12: разность | E12: расход эл.энергии за час | F12: показания счетчика | G12: разность | I12: расход эл.энергии за час | J12: показания счетчика | K12: разность | M12: расход эл.энергии за час | N12: показания счетчика | O12: разность | Q12: расход эл.энергии за час
A13: 1 | B13: 2 | C13: 3 | E13: 4 | F13: 5 | G13: 6 | I13: 7 | J13: 8 | K13: 9 | M13: 10 | N13: 11 | O13: 12 | Q13: 13
A14: 0
A15: 1 | E15: 1527 | I15: 1377 | M15: 262 | Q15: 137
A16: 2 | E16: 1385 | I16: 1255 | M16: 250 | Q16: 126
A17: 3 | E17: 1320 | I17: 1203 | M17: 250 | Q17: 127
A18: 4 | E18: 1284 | I18: 1180 | M18: 244 | Q18: 119
A19: 5 | E19: 1291 | I19: 1236 | M19: 235 | Q19: 109
A20: 6 | E20: 1361 | I20: 1431 | M20: 237 | Q20: 121
A21: 7 | E21: 1768 | I21: 1764 | M21: 260 | Q21: 145
A22: 8 | E22: 2058 | I22: 2059 | M22: 384 | Q22: 216
A23: 9 | E23: 2153 | I23: 2285 | M23: 349 | Q23: 251
A24: 10 | E24: 2212 | I24: 2309 | M24: 327 | Q24: 232
A25: 11 | E25: 2270 | I25: 2309 | M25: 313 | Q25: 221
A26: 12 | E26: 2235 | I26: 2269 | M26: 318 | Q26: 212
... A38: 24 | E38: 1786 | I38: 1620 | M38: 256 | Q38: 141
A39: Итого | E39: =SUM(E15:E38) -> 49807 | I39: =SUM(I15:I38) -> 46923 | M39: =SUM(M15:M38) -> 7557 | Q39: =SUM(Q15:Q38) -> 4413
A40: 1. При наличии на предприятии отклонений от нормальных режимов электропотребления (временное изменение схем питания, остановка на ремонт, резкое снижение
A41: эл.потребления и т.д.) последние необходимо перечислить.
A42: Главный инженер АО "Вологдаоблэнерго" А.В. Чурляев
A43: составляется самим предприятием с соблюдением всех пунктов настоящей таблицы.

Sheet 19
B1: АО "Вологдаоблэнерго" | J1: код 900151 | N1: ПС ВОЛОГДА-ЮЖНАЯ РУ - 10 кВ
B2: наименование предприятия | N2: наименование источника питания
N3: _________________________________
B4: ул. Горького, 99 | I4: Таблица № 1 | O4: РП 43
B5: адрес
A6: почасовых записей показаний электрических счетчиков
A7: в режимный день 15 ДЕКАБРЯ 2021 г.
A8: 597 | B8: 596
A9: часы суток | B9: Активная энергия | J9: Реактивная энергия
B10: ЯЧ.№ 407 - "ГОРОД-3" | F10: ЯЧ.№ 305 - "ГОРОД-5" | J10: ЯЧ.№ 407- "ГОРОД-3" | N10: ЯЧ.№ 305- "ГОРОД-5"
B11: Расчет. Коэф. | E11: 6000 | F11: Расчет. Коэф. | I11: 4000 | J11: Расчет. Коэф. | M11: =E11 -> 6000 | N11: Расчет. Коэф. | Q11: =I11 -> 4000
B12: показания счетчика | C12: разность | E12: расход эл.энергии за час | F12: показания счетчика | G12: разность | I12: расход эл.энергии за час | J12: показания счетчика | K12: разность | M12: расход эл.энергии за час | N12: показания счетчика | O12: разность | Q12: расход эл.энергии за час
A13: 1 | B13: 2 | C13: 3 | E13: 4 | F13: 5 | G13: 6 | I13: 7 | J13: 8 | K13: 9 | M13: 10 | N13: 11 | O13: 12 | Q13: 13
A14: 0
A15: 1 | E15: 1746 | I15: 2537 | M15: 150 | Q15: 447
A16: 2 | E16: 1633 | I16: 2320 | M16: 152 | Q16: 445
A17: 3 | E17: 1583 | I17: 2191 | M17: 152 | Q17: 441
A18: 4 | E18: 1570 | I18: 2150 | M18: 138 | Q18: 426
A19: 5 | E19: 1597 | I19: 2258 | M19: 127 | Q19: 426
A20: 6 | E20: 1745 | I20: 2469 | M20: 135 | Q20: 425
A21: 7 | E21: 2076 | I21: 2988 | M21: 156 | Q21: 461
A22: 8 | E22: 2410 | I22: 3281 | M22: 202 | Q22: 537
A23: 9 | E23: 2820 | I23: 3789 | M23: 253 | Q23: 621
A24: 10 | E24: 3039 | I24: 4019 | M24: 281 | Q24: 621
A25: 11 | E25: 3115 | I25: 4214 | M25: 267 | Q25: 620
A26: 12 | E26: 3083 | I26: 4151 | M26: 280 | Q26: 612
... A38: 24 | E38: 1986 | I38: 2937 | M38: 153 | Q38: 462
A39: Итого | E39: =SUM(E15:E38) -> 61170 | I39: =SUM(I15:I38) -> 86464 | M39: =SUM(M15:M38) -> 5313 | Q39: =SUM(Q15:Q38) -> 13157
A40: 1. При наличии на предприятии отклонений от нормальных режимов электропотребления (временное изменение схем питания, остановка на ремонт, резкое снижение
A41: эл.потребления и т.д.) последние необходимо перечислить.
A42: Главный инженер АО "Вологдаоблэнерго" А.В. Чурляев
A43: составляется самим предприятием с соблюдением всех пунктов настоящей таблицы.

Sheet 20
B1: АО "Вологдаоблэнерго" | J1: код 900151 | N1: ПС ВОЛОГДА-ЮЖНАЯ РУ-10 кВ
B2: наименование предприятия | N2: наименование источника питания
N3: _________________________________
B4: ул. Горького, 99 | I4: Таблица № 1 | O4: РП 27
B5: адрес
A6: почасовых записей показаний электрических счетчиков
A7: в режимный день 16 ДЕКАБРЯ 2015 __ г.
A8: 30 | B8: 49
A9: часы суток | B9: Активная энергия | J9: Реактивная энергия
B10: ЯЧ. № 408 - "ГОРОД -1" | F10: ЯЧ.№ 105 - "РП 27" | J10: ЯЧ. № 408 - "ГОРОД -1" | N10: ЯЧ.№ 105 - "РП 27"
B11: Расчет. Коэф. | E11: 12000 | F11: Расчет. Коэф. | I11: 12000 | J11: Расчет. Коэф. | M11: =E11 -> 12000 | N11: Расчет. Коэф. | Q11: =I11 -> 12000
B12: показания счетчика | C12: разность | E12: расход эл.энергии за час | F12: показания счетчика | G12: разность | I12: расход эл.энергии за час | J12: показания счетчика | K12: разность | M12: расход эл.энергии за час | N12: показания счетчика | O12: разность | Q12: расход эл.энергии за час
A13: 1 | B13: 2 | C13: 3 | E13: 4 | F13: 5 | G13: 6 | I13: 7 | J13: 8 | K13: 9 | M13: 10 | N13: 11 | O13: 12 | Q13: 13
A14: 0
A15: 1 | E15: 0 | I15: 0 | M15: 0 | Q15: 0
A16: 2 | E16: 0 | I16: 0 | M16: 0 | Q16: 0
A17: 3 | E17: 0 | I17: 0 | M17: 0 | Q17: 0
A18: 4 | E18: 0 | I18: 0 | M18: 0 | Q18: 0
A19: 5 | E19: 0 | I19: 0 | M19: 0 | Q19: 0
A20: 6 | E20: 0 | I20: 0 | M20: 0 | Q20: 0
A21: 7 | E21: 0 | I21: 0 | M21: 0 | Q21: 0
A22: 8 | E22: 0 | I22: 0 | M22: 0 | Q22: 0
A23: 9 | E23: 0 | I23: 0 | M23: 0 | Q23: 0
A24: 10 | E24: 0 | I24: 0 | M24: 0 | Q24: 0
A25: 11 | E25: 0 | I25: 0 | M25: 0 | Q25: 0
A26: 12 | E26: 0 | I26: 0 | M26: 0 | Q26: 0
... A38: 24 | E38: 0 | I38: 0 | M38: 0 | Q38: 0
A39: Итого | E39: =SUM(E15:E38) -> 0 | I39: =SUM(I15:I38) -> 0 | M39: =SUM(M15:M38) -> 0 | Q39: =SUM(Q15:Q38) -> 0
A40: 1. При наличии на предприятии отклонений от нормальных режимов электропотребления (временное изменение схем питания, остановка на ремонт, резкое снижение
A41: эл.потребления и т.д.) последние необходимо перечислить.
A42: Главный инженер АО "Вологдаоблэнерго" А.В. Чурляев
A43: составляется самим предприятием с соблюдением всех пунктов настоящей таблицы.

Sheet 21
B1: АО "Вологдаоблэнерго" | J1: код 900151 | N1: ПС ВОЛОГДА-ЮЖНАЯ РУ-10 кВ
B2: наименование предприятия | N2: наименование источника питания
N3: яч. 406 ф "РОДИОНЦЕВО",
B4: ул. Горького, 99 | I4: Таблица № 1 | N4: КТП-906, ПКУ- ЛЭП-43
B5: адрес
A6: почасовых записей показаний электрических счетчиков
A7: в режимный день 15 ДЕКАБРЯ 2021 г.
A8: 362 | B8: 985
A9: часы суток | B9: Активная энергия | J9: Реактивная энергия
B10: яч. 406 ф "РОДИОНЦЕВО" - ПКУ | F10: КТП-906 | J10: яч. 406 ф "РОДИОНЦЕВО" - ПКУ | N10: КТП-906
B11: Расчет. Коэф. | E11: 2000 | F11: Расчет. Коэф. | I11: 80 | J11: Расчет. Коэф. | M11: =E11 -> 2000 | N11: Расчет. Коэф. | Q11: =I11 -> 80
B12: показания счетчика | C12: разность | E12: расход эл.энергии за час | F12: показания счетчика | G12: разность | I12: расход эл.энергии за час | J12: показания счетчика | K12: разность | M12: расход эл.энергии за час | N12: показания счетчика | O12: разность | Q12: расход эл.энергии за час
A13: 1 | B13: 2 | C13: 3 | E13: 4 | F13: 5 | G13: 6 | I13: 7 | J13: 8 | K13: 9 | M13: 10 | N13: 11 | O13: 12 | Q13: 13
A14: 0
A15: 1 | E15: 20 | I15: 40.8 | M15: 0 | Q15: 4
A16: 2 | E16: 20 | I16: 37.88 | M16: 0 | Q16: 3.72
A17: 3 | E17: 19.8 | I17: 37.48 | M17: 0 | Q17: 3.28
A18: 4 | E18: 19.8 | I18: 39.52 | M18: 0 | Q18: 4.2
A19: 5 | E19: 19.8 | I19: 39.48 | M19: 0 | Q19: 4.04
A20: 6 | E20: 20.8 | I20: 37.56 | M20: 0 | Q20: 3.48
A21: 7 | E21: 21.6 | I21: 41 | M21: 0 | Q21: 3.4
A22: 8 | E22: 23.4 | I22: 43.08 | M22: 0 | Q22: 4.2
A23: 9 | E23: 23 | I23: 41.24 | M23: 0 | Q23: 3.68
A24: 10 | E24: 19.4 | I24: 39.84 | M24: 0 | Q24: 3.6
A25: 11 | E25: 19.2 | I25: 40.32 | M25: 0 | Q25: 3.16
A26: 12 | E26: 20.2 | I26: 42.24 | M26: 0 | Q26: 3.24
... A38: 24 | E38: 19.2 | I38: 42.08 | M38: 0 | Q38: 3.72
A39: Итого | E39: =SUM(E15:E38) -> 486.8 | I39: =SUM(I15:I38) -> 989.12 | M39: =SUM(M15:M38) -> 0.4 | Q39: =SUM(Q15:Q38) -> 94.2
A40: 1. При наличии на предприятии отклонений от нормальных режимов электропотребления (временное изменение схем питания, остановка на ремонт, резкое снижение
A41: эл.потребления и т.д.) последние необходимо перечислить.
A42: Главный инженер АО "Вологдаоблэнерго" А.В. Чурляев
A43: составляется самим предприятием с соблюдением всех пунктов настоящей таблицы.

Sheet 21_1
B1: АО "Вологдаоблэнерго" | J1: код 900151 | N1: ПС ВОЛОГДА-ЮЖНАЯ РУ-10 кВ
B2: наименование предприятия | N2: наименование источника питания
N3: РП-44
B4: ул. Горького, 99 | I4: Таблица № 1
B5: адрес
A6: почасовых записей показаний электрических счетчиков
A7: в режимный день 15 ДЕКАБРЯ 2021 г.
A9: часы суток | B9: Активная энергия | J9: Реактивная энергия
B10: яч. 307 ф "Охмыльцево-1" | F10: яч. 409 ф "Охмыльцево-2" | J10: яч. 307 ф "Охмыльцево-1" | N10: яч. 409 ф "Охмыльцево-2"
B11: Расчет. Коэф. | F11: Расчет. Коэф. | J11: Расчет. Коэф. | N11: Расчет. Коэф.
B12: показания счетчика | C12: разность | E12: расход эл.энергии за час | F12: показания счетчика | G12: разность | I12: расход эл.энергии за час | J12: показания счетчика | K12: разность | M12: расход эл.энергии за час | N12: показания счетчика | O12: разность | Q12: расход эл.энергии за час
A13: 1 | B13: 2 | C13: 3 | E13: 4 | F13: 5 | G13: 6 | I13: 7 | J13: 8 | K13: 9 | M13: 10 | N13: 11 | O13: 12 | Q13: 13
A14: 0
A15: 1 | E15: 935 | I15: 404 | M15: 0 | Q15: 0
A16: 2 | E16: 864 | I16: 364 | M16: 0 | Q16: 0
A17: 3 | E17: 829 | I17: 342 | M17: 0 | Q17: 0
A18: 4 | E18: 803 | I18: 336 | M18: 0 | Q18: 0
A19: 5 | E19: 806 | I19: 336 | M19: 0 | Q19: 0
A20: 6 | E20: 893 | I20: 380 | M20: 0 | Q20: 0
A21: 7 | E21: 1134 | I21: 511 | M21: 0 | Q21: 0
A22: 8 | E22: 1188 | I22: 574 | M22: 0 | Q22: 0
A23: 9 | E23: 1201 | I23: 556 | M23: 10 | Q23: 0
A24: 10 | E24: 1236 | I24: 596 | M24: 4 | Q24: 0
A25: 11 | E25: 1303 | I25: 617 | M25: 3 | Q25: 0
A26: 12 | E26: 1339 | I26: 623 | M26: 4 | Q26: 0
... A38: 24 | E38: 1016 | I38: 471 | M38: 0 | Q38: 0
A39: Итого | E39: =SUM(E15:E38) -> 29299 | I39: =SUM(I15:I38) -> 13522 | M39: =SUM(M15:M38) -> 93 | Q39: =SUM(Q15:Q38) -> 0
A40: 1. При наличии на предприятии отклонений от нормальных режимов электропотребления (временное изменение схем питания, остановка на ремонт, резкое снижение
A41: эл.потребления и т.д.) последние необходимо перечислить.
A42: Главный инженер АО "Вологдаоблэнерго" А.В. Чурляев
A43: составляется самим предприятием с соблюдением всех пунктов настоящей таблицы.

Sheet 21_2
B1: АО "Вологдаоблэнерго" | J1: код 900151 | N1: ПС ВОЛОГДА-ЮЖНАЯ РУ-10 кВ
B2: наименование предприятия | N2: наименование источника питания
N3: яч. 104 ф 6 кВ Керамик-1
B4: ул. Горького, 99 | I4: Таблица № 1
B5: адрес
A6: почасовых записей показаний электрических счетчиков
A7: в режимный день 15 ДЕКАБРЯ 2021 г.
A9: часы суток | B9: Активная энергия | J9: Реактивная энергия
B10: яч. 104 ф 6 кВ Керамик-1 ТП-841Т-1 | F10: яч. 104 ф 6 кВ Керамик-1 ТП-417 | J10: яч. 104 ф 6 кВ Керамик-1 ТП-841Т-1 | N10: яч. 104 ф 6 кВ Керамик-1 ТП-417
B11: Расчет. Коэф. | F11: Расчет. Коэф. | J11: Расчет. Коэф. | N11: Расчет. Коэф.
B12: показания счетчика | C12: разность | E12: расход эл.энергии за час | F12: показания счетчика | G12: разность | I12: расход эл.энергии за час | J12: показания счетчика | K12: разность | M12: расход эл.энергии за час | N12: показания счетчика | O12: разность | Q12: расход эл.энергии за час
A13: 1 | B13: 2 | C13: 3 | E13: 4 | F13: 5 | G13: 6 | I13: 7 | J13: 8 | K13: 9 | M13: 10 | N13: 11 | O13: 12 | Q13: 13
A14: 0
A15: 1 | E15: 51.3 | M15: 11.1
A16: 2 | E16: 45.15 | M16: 10.65
A17: 3 | E17: 40.05 | M17: 9.15
A18: 4 | E18: 38.4 | M18: 8.7
A19: 5 | E19: 38.85 | M19: 7.05
A20: 6 | E20: 45.9 | M20: 8.7
A21: 7 | E21: 65.4 | M21: 8.55
A22: 8 | E22: 73.2 | M22: 15.15
A23: 9 | E23: 62.25 | M23: 12.15
A24: 10 | E24: 62.85 | M24: 7.05
A25: 11 | E25: 58.35 | M25: 6.3
A26: 12 | E26: 61.8 | M26: 8.4
... A38: 24 | E38: 67.05 | M38: 15
A39: Итого | E39: =SUM(E15:E38) -> 1636.8 | I39: =SUM(I15:I38) -> 0 | M39: =SUM(M15:M38) -> 275.25 | Q39: =SUM(Q15:Q38) -> 0
A40: 1. При наличии на предприятии отклонений от нормальных режимов электропотребления (временное изменение схем питания, остановка на ремонт, резкое снижение
A41: эл.потребления и т.д.) последние необходимо перечислить.
A42: Главный инженер АО "Вологдаоблэнерго" А.В. Чурляев
A43: составляется самим предприятием с соблюдением всех пунктов настоящей таблицы.

Sheet 21_3
B1: АО "Вологдаоблэнерго" | J1: код 900151 | N1: ПС ВОЛОГДА-ЮЖНАЯ РУ-10 кВ
B2: наименование предприятия | N2: наименование источника питания
N3: яч. 104 ф 6 кВ Керамик-1
B4: ул. Горького, 99 | I4: Таблица № 1
B5: адрес
A6: почасовых записей показаний электрических счетчиков
A7: в режимный день 15 ДЕКАБРЯ 2021 г.
A9: часы суток | B9: Активная энергия | J9: Реактивная энергия
B10: яч. 104 ф 6 кВ Керамик-1 КТП-1004 | J10: яч. 104 ф 6 кВ Керамик-1 КТП-1004
B11: Расчет. Коэф. | F11: Расчет. Коэф. | J11: Расчет. Коэф. | N11: Расчет. Коэф.
B12: показания счетчика | C12: разность | E12: расход эл.энергии за час | F12: показания счетчика | G12: разность | I12: расход эл.энергии за час | J12: показания счетчика | K12: разность | M12: расход эл.энергии за час | N12: показания счетчика | O12: разность | Q12: расход эл.энергии за час
A13: 1 | B13: 2 | C13: 3 | E13: 4 | F13: 5 | G13: 6 | I13: 7 | J13: 8 | K13: 9 | M13: 10 | N13: 11 | O13: 12 | Q13: 13
A14: 0
A15: 1 | E15: 15.074 | M15: 0
A16: 2 | E16: 18.786 | M16: 0
A17: 3 | E17: 14.45 | M17: 0
A18: 4 | E18: 14.556 | M18: 0
A19: 5 | E19: 14.926 | M19: 0
A20: 6 | E20: 14.74 | M20: 0
A21: 7 | E21: 22.392 | M21: 0
A22: 8 | E22: 18.874 | M22: 0
A23: 9 | E23: 14.758 | M23: 0
A24: 10 | E24: 15.858 | M24: 0
A25: 11 | E25: 17.608 | M25: 0
A26: 12 | E26: 15.956 | M26: 0
... A38: 24 | E38: 17.66 | M38: 0
A39: Итого | E39: =SUM(E15:E38) -> 426.508 | I39: =SUM(I15:I38) -> 0 | M39: =SUM(M15:M38) -> 0 | Q39: =SUM(Q15:Q38) -> 0
A40: 1. При наличии на предприятии отклонений от нормальных режимов электропотребления (временное изменение схем питания, остановка на ремонт, резкое снижение
A41: эл.потребления и т.д.) последние необходимо перечислить.
A42: Главный инженер АО "Вологдаоблэнерго" А.В. Чурляев
A43: составляется самим предприятием с соблюдением всех пунктов настоящей таблицы.

Sheet 21_4
B1: АО "Вологдаоблэнерго" | J1: код 900151 | N1: ПС ВОЛОГДА-ЮЖНАЯ РУ-10 кВ
B2: наименование предприятия | N2: наименование источника питания
N3: яч. 207 ф 10 кВ Керамик 2
B4: ул. Горького, 99 | I4: Таблица № 1
B5: адрес
A6: почасовых записей показаний электрических счетчиков
A7: в режимный день 15 ДЕКАБРЯ 2021 г.
A9: часы суток | B9: Активная энергия | J9: Реактивная энергия
B10: яч. 207 ф 10 кВ Керамик 2 ТП841 Т-2 | J10: яч. 207 ф 10 кВ Керамик 2 ТП841 Т-2
B11: Расчет. Коэф. | F11: Расчет. Коэф. | J11: Расчет. Коэф. | N11: Расчет. Коэф.
B12: показания счетчика | C12: разность | E12: расход эл.энергии за час | F12: показания счетчика | G12: разность | I12: расход эл.энергии за час | J12: показания счетчика | K12: разность | M12: расход эл.энергии за час | N12: показания счетчика | O12: разность | Q12: расход эл.энергии за час
A13: 1 | B13: 2 | C13: 3 | E13: 4 | F13: 5 | G13: 6 | I13: 7 | J13: 8 | K13: 9 | M13: 10 | N13: 11 | O13: 12 | Q13: 13
A14: 0
A15: 1 | E15: 0 | M15: 0
A16: 2 | E16: 0 | M16: 0
A17: 3 | E17: 0 | M17: 0
A18: 4 | E18: 0 | M18: 0
A19: 5 | E19: 0 | M19: 0
A20: 6 | E20: 0 | M20: 0
A21: 7 | E21: 0 | M21: 0
A22: 8 | E22: 0 | M22: 0
A23: 9 | E23: 0 | M23: 0
A24: 10 | E24: 0 | M24: 0
A25: 11 | E25: 0 | M25: 0
A26: 12 | E26: 0 | M26: 0
... A38: 24 | E38: 0 | M38: 0
A39: Итого | E39: =SUM(E15:E38) -> 0 | I39: =SUM(I15:I38) -> 0 | M39: =SUM(M15:M38) -> 0 | Q39: =SUM(Q15:Q38) -> 0
A40: 1. При наличии на предприятии отклонений от нормальных режимов электропотребления (временное изменение схем питания, остановка на ремонт, резкое снижение
A41: эл.потребления и т.д.) последние необходимо перечислить.
A42: Главный инженер АО "Вологдаоблэнерго" А.В. Чурляев
A43: составляется самим предприятием с соблюдением всех пунктов настоящей таблицы.

Sheet 22
B1: АО "Вологдаоблэнерго" | J1: код 900151 | M1: ПС ВОЛОГДА - ТЯГОВАЯ 110/27,5/6 кВ
B2: наименование предприятия | N2: наименование источника питания
N3: _________________________________
B4: ул. Горького, 99 | I4: Таблица № 1 | O4: ТП 450
A6: почасовых записей показаний электрических счетчиков
A7: в режимный день 15 ДЕКАБРЯ 2021 г.
A8: 636
A9: часы суток | B9: Активная энергия | J9: Реактивная энергия
B10: ЯЧ. 1 - ТП 450 | J10: ЯЧ. 1 - ТП 450
B11: Расчет. Коэф. | E11: 7200 | F11: Расчет. Коэф. | I11: =Q11 -> 0 | J11: Расчет. Коэф. | M11: =E11 -> 7200 | N11: Расчет. Коэф. | Q11: 0
B12: показания счетчика | C12: разность | E12: расход эл.энергии за час | F12: показания счетчика | G12: разность | I12: расход эл.энергии за час | J12: показания счетчика | K12: разность | M12: расход эл.энергии за час | N12: показания счетчика | O12: разность | Q12: расход эл.энергии за час
A13: 1 | B13: 2 | C13: 3 | E13: 4 | F13: 5 | G13: 6 | I13: 7 | J13: 8 | K13: 9 | M13: 10 | N13: 11 | O13: 12 | Q13: 13
A14: 0
A15: 1 | E15: 0 | M15: 0
A16: 2 | E16: 0 | M16: 0
A17: 3 | E17: 0 | M17: 0
A18: 4 | E18: 0 | M18: 0
A19: 5 | E19: 0 | M19: 0
A20: 6 | E20: 0 | M20: 0
A21: 7 | E21: 0 | M21: 0
A22: 8 | E22: 0 | M22: 0
A23: 9 | E23: 0 | M23: 0
A24: 10 | E24: 0 | M24: 0
A25: 11 | E25: 0 | M25: 0
A26: 12 | E26: 0 | M26: 0
... A38: 24 | E38: 0 | M38: 0
A39: Итого | E39: =SUM(E15:E38) -> 0 | M39: =SUM(M15:M38) -> 0
A40: 1. При наличии на предприятии отклонений от нормальных режимов электропотребления (временное изменение схем питания, остановка на ремонт, резкое снижение
A41: эл.потребления и т.д.) последние необходимо перечислить.
A42: Главный инженер АО "Вологдаоблэнерго" А.В. Чурляев
A43: составляется самим предприятием с соблюдением всех пунктов настоящей таблицы.

Sheet 23
B1: АО "Вологдаоблэнерго" | I1: код 900151 | K1: ТГК -2 "ВТЭЦ" РП 6 кВ танзит через ТП 10 СЖД ОАО РЖД
B2: наименование предприятия | N2: наименование источника питания
N3: _________________________________
B4: ул. Горького, 99 | I4: Таблица № 1 | O4: ТП 238; ТП 651
A6: почасовых записей показаний электрических счетчиков
A7: в режимный день 15 ДЕКАБРЯ 2021 г.
A8: 640 | B8: 641
A9: часы суток | B9: Активная энергия | J9: Реактивная энергия
B10: ЯЧ.5 - ТП 238 | F10: ЯЧ.7 - ТП 651 | J10: ЯЧ.5 - ТП 238 | N10: ЯЧ.7 - ТП 651
B11: Расчет. Коэф. | E11: 1800 | F11: Расчет. Коэф. | I11: 1800 | J11: Расчет. Коэф. | M11: =E11 -> 1800 | N11: Расчет. Коэф. | Q11: =I11 -> 1800
B12: показания счетчика | C12: разность | E12: расход эл.энергии за час | F12: показания счетчика | G12: разность | I12: расход эл.энергии за час | J12: показания счетчика | K12: разность | M12: расход эл.энергии за час | N12: показания счетчика | O12: разность | Q12: расход эл.энергии за час
A13: 1 | B13: 2 | C13: 3 | E13: 4 | F13: 5 | G13: 6 | I13: 7 | J13: 8 | K13: 9 | M13: 10 | N13: 11 | O13: 12 | Q13: 13
A14: 0
A15: 1 | E15: 127.26 | I15: 276.66 | M15: 43.92 | Q15: 87.66
A16: 2 | E16: 118.08 | I16: 246.06 | M16: 41.4 | Q16: 86.94
A17: 3 | E17: 145.08 | I17: 234.54 | M17: 42.3 | Q17: 87.48
A18: 4 | E18: 156.42 | I18: 224.46 | M18: 42.48 | Q18: 84.06
A19: 5 | E19: 174.96 | I19: 236.88 | M19: 42.12 | Q19: 83.34
A20: 6 | E20: 172.98 | I20: 261.9 | M20: 45.54 | Q20: 85.86
A21: 7 | E21: 202.68 | I21: 329.4 | M21: 49.68 | Q21: 86.94
A22: 8 | E22: 270.72 | I22: 400.86 | M22: 70.38 | Q22: 104.76
A23: 9 | E23: 309.24 | I23: 412.56 | M23: 91.26 | Q23: 107.28
A24: 10 | E24: 302.94 | I24: 395.64 | M24: 94.68 | Q24: 106.38
A25: 11 | E25: 308.52 | I25: 395.28 | M25: 94.14 | Q25: 100.8
A26: 12 | E26: 304.2 | I26: 366.48 | M26: 93.24 | Q26: 91.98
... A38: 24 | E38: 141.12 | I38: 332.1 | M38: 38.34 | Q38: 92.88
A39: Итого | E39: =SUM(E15:E38) -> 5170.14 | I39: =SUM(I15:I38) -> 9037.26 | M39: =SUM(M15:M38) -> 1437.48 | Q39: =SUM(Q15:Q38) -> 2305.44
A40: 1. При наличии на предприятии отклонений от нормальных режимов электропотребления (временное изменение схем питания, остановка на ремонт, резкое снижение
A41: эл.потребления и т.д.) последние необходимо перечислить.
A42: Главный инженер АО "Вологдаоблэнерго" А.В. Чурляев
A43: составляется самим предприятием с соблюдением всех пунктов настоящей таблицы.

Sheet 24
B1: АО "Вологдаоблэнерго" | G1: код 900151 | I1: ГПП ВОЛОГДА -ТЯГОВАЯ СЖД 110 /27,5/6 кВ транзит через ТП 34 СЖД ОАО РЖД
B2: наименование предприятия | N2: наименование источника питания
N3: _________________________________
B4: ул. Горького, 99 | I4: Таблица № 1 | O4: ТП 660; ТП 662
A6: почасовых записей показаний электрических счетчиков
A7: в режимный день 15 ДЕКАБРЯ 2021 г.
A8: 637 | B8: 639
A9: часы суток | B9: Активная энергия | J9: Реактивная энергия
B10: ЯЧ.2 - ТП 660 | F10: ЯЧ.6 - ТП 662 | J10: ЯЧ.2 - ТП 660 | N10: ЯЧ.6 - ТП 662
B11: Расчет. Коэф. | E11: 2400 | F11: Расчет. Коэф. | I11: 2400 | J11: Расчет. Коэф. | M11: =E11 -> 2400 | N11: Расчет. Коэф. | Q11: =I11 -> 2400
B12: показания счетчика | C12: разность | E12: расход эл.энергии за час | F12: показания счетчика | G12: разность | I12: расход эл.энергии за час | J12: показания счетчика | K12: разность | M12: расход эл.энергии за час | N12: показания счетчика | O12: разность | Q12: расход эл.энергии за час
A13: 1 | B13: 2 | C13: 3 | E13: 4 | F13: 5 | G13: 6 | I13: 7 | J13: 8 | K13: 9 | M13: 10 | N13: 11 | O13: 12 | Q13: 13
A14: 0
A15: 1 | E15: 381.6 | I15: 441.84 | M15: 135.12 | Q15: 83.52
A16: 2 | E16: 357.12 | I16: 408.72 | M16: 136.32 | Q16: 84.48
A17: 3 | E17: 335.52 | I17: 390.96 | M17: 134.16 | Q17: 81.12
A18: 4 | E18: 324.72 | I18: 382.08 | M18: 129.36 | Q18: 78.96
A19: 5 | E19: 328.8 | I19: 379.44 | M19: 130.56 | Q19: 77.28
A20: 6 | E20: 354.24 | I20: 400.08 | M20: 126.72 | Q20: 77.52
A21: 7 | E21: 436.8 | I21: 480.24 | M21: 122.4 | Q21: 77.28
A22: 8 | E22: 480.48 | I22: 578.16 | M22: 123.36 | Q22: 109.44
A23: 9 | E23: 469.2 | I23: 578.4 | M23: 114.48 | Q23: 113.52
A24: 10 | E24: 464.64 | I24: 600.24 | M24: 113.04 | Q24: 117.12
A25: 11 | E25: 473.04 | I25: 604.56 | M25: 110.64 | Q25: 104.64
A26: 12 | E26: 482.16 | I26: 593.52 | M26: 117.6 | Q26: 102.72
... A38: 24 | E38: 435.84 | I38: 744.24 | M38: 134.16 | Q38: 216
A39: Итого | E39: =SUM(E15:E38) -> 11550.96 | I39: =SUM(I15:I38) -> 14123.52 | M39: =SUM(M15:M38) -> 3028.8 | Q39: =SUM(Q15:Q38) -> 2501.28
A40: 1. При наличии на предприятии отклонений от нормальных режимов электропотребления (временное изменение схем питания, остановка на ремонт, резкое снижение
A41: эл.потребления и т.д.) последние необходимо перечислить.
A42: Главный инженер АО "Вологдаоблэнерго" А.В. Чурляев
A43: составляется самим предприятием с соблюдением всех пунктов настоящей таблицы.

Sheet 25
B1: АО "Вологдаоблэнерго" | J1: код 900151 | N1: ТГК-2 ВТЭЦ РП 6 кВ
B2: наименование предприятия | N2: наименование источника питания
N3: _________________________________
B4: ул. Горького, 99 | I4: Таблица № 1 | O4: РП 3
B5: адрес
A6: почасовых записей показаний электрических счетчиков
A7: в режимный день 15 ДЕКАБРЯ 2021 г.
A8: 381 | B8: 384
A9: часы суток | B9: Активная энергия | J9: Реактивная энергия
B10: ЯЧ.10 - РП 3 ввод № 1 | F10: ЯЧ. 115 - РП 3 ввод № 2 | J10: ЯЧ.10 - РП 3 ввод № 1 | N10: ЯЧ. 115 - РП 3 ввод № 2
B11: Расчет. Коэф. | E11: 7200 | F11: Расчет. Коэф. | I11: 3600 | J11: Расчет. Коэф. | M11: =E11 -> 7200 | N11: Расчет. Коэф. | Q11: =I11 -> 3600
B12: показания счетчика | C12: разность | E12: расход эл.энергии за час | F12: показания счетчика | G12: разность | I12: расход эл.энергии за час | J12: показания счетчика | K12: разность | M12: расход эл.энергии за час | N12: показания счетчика | O12: разность | Q12: расход эл.энергии за час
A13: 1 | B13: 2 | C13: 3 | E13: 4 | F13: 5 | G13: 6 | I13: 7 | J13: 8 | K13: 9 | M13: 10 | N13: 11 | O13: 12 | Q13: 13
A14: 0
A15: 1 | E15: 1940 | I15: 556 | M15: 884 | Q15: 127
A16: 2 | E16: 1792 | I16: 546 | M16: 768 | Q16: 121
A17: 3 | E17: 1791 | I17: 543 | M17: 766 | Q17: 121
A18: 4 | E18: 1755 | I18: 545 | M18: 752 | Q18: 116
A19: 5 | E19: 1741 | I19: 542 | M19: 739 | Q19: 117
A20: 6 | E20: 1777 | I20: 577 | M20: 731 | Q20: 141
A21: 7 | E21: 1930 | I21: 569 | M21: 748 | Q21: 119
A22: 8 | E22: 2357 | I22: 685 | M22: 860 | Q22: 140
A23: 9 | E23: 2772 | I23: 778 | M23: 1027 | Q23: 163
A24: 10 | E24: 2784 | I24: 790 | M24: 1019 | Q24: 179
A25: 11 | E25: 2916 | I25: 796 | M25: 1128 | Q25: 188
A26: 12 | E26: 2834 | I26: 812 | M26: 1070 | Q26: 197
... A38: 24 | E38: 2092 | I38: 577 | M38: 965 | Q38: 137
A39: Итого | E39: =SUM(E15:E38) -> 56077 | I39: =SUM(I15:I38) -> 16572 | M39: =SUM(M15:M38) -> 22629 | Q39: =SUM(Q15:Q38) -> 3813
A40: 1. При наличии на предприятии отклонений от нормальных режимов электропотребления (временное изменение схем питания, остановка на ремонт, резкое снижение
A41: эл.потребления и т.д.) последние необходимо перечислить.
A42: Главный инженер АО "Вологдаоблэнерго" А.В. Чурляев
A43: составляется самим предприятием с соблюдением всех пунктов настоящей таблицы.

Sheet 26
B1: АО "Вологдаоблэнерго" | J1: код 900151 | N1: ТГК-2 ВТЭЦ РП 6 кВ
B2: наименование предприятия | N2: наименование источника питания
N3: _________________________________
B4: ул. Горького, 99 | I4: Таблица № 1 | O4: РП 23
B5: адрес
A6: почасовых записей показаний электрических счетчиков
A7: в режимный день 15 ДЕКАБРЯ 2021 г.
A8: 385 | B8: 383
A9: часы суток | B9: Активная энергия | J9: Реактивная энергия
B10: ЯЧ. 114 - РП 23 ввод № 1 | F10: ЯЧ. 107 - РП 23 ввод № 2 | J10: ЯЧ. 114 - РП 23 ввод № 1 | N10: ЯЧ. 107 - РП 23 ввод № 2
B11: Расчет. Коэф. | E11: 3600 | F11: Расчет. Коэф. | I11: 3600 | J11: Расчет. Коэф. | M11: =E11 -> 3600 | N11: Расчет. Коэф. | Q11: =I11 -> 3600
B12: показания счетчика | C12: разность | E12: расход эл.энергии за час | F12: показания счетчика | G12: разность | I12: расход эл.энергии за час | J12: показания счетчика | K12: разность | M12: расход эл.энергии за час | N12: показания счетчика | O12: разность | Q12: расход эл.энергии за час
A13: 1 | B13: 2 | C13: 3 | E13: 4 | F13: 5 | G13: 6 | I13: 7 | J13: 8 | K13: 9 | M13: 10 | N13: 11 | O13: 12 | Q13: 13
A14: 0
A15: 1 | E15: 854 | I15: 152 | M15: 628 | Q15: 0
A16: 2 | E16: 806 | I16: 151 | M16: 598 | Q16: 0
A17: 3 | E17: 823 | I17: 142 | M17: 610 | Q17: 0
A18: 4 | E18: 872 | I18: 150 | M18: 585 | Q18: 0
A19: 5 | E19: 881 | I19: 149 | M19: 558 | Q19: 0
A20: 6 | E20: 887 | I20: 149 | M20: 554 | Q20: 0
A21: 7 | E21: 879 | I21: 152 | M21: 551 | Q21: 0
A22: 8 | E22: 975 | I22: 154 | M22: 644 | Q22: 0
A23: 9 | E23: 1236 | I23: 194 | M23: 766 | Q23: 9
A24: 10 | E24: 1317 | I24: 187 | M24: 804 | Q24: 6
A25: 11 | E25: 1287 | I25: 192 | M25: 786 | Q25: 11
A26: 12 | E26: 1225 | I26: 184 | M26: 782 | Q26: 7
... A38: 24 | E38: 835 | I38: 141 | M38: 636 | Q38: 0
A39: Итого | E39: =SUM(E15:E38) -> 24263 | I39: =SUM(I15:I38) -> 3835 | M39: =SUM(M15:M38) -> 16431 | Q39: =SUM(Q15:Q38) -> 74
A40: 1. При наличии на предприятии отклонений от нормальных режимов электропотребления (временное изменение схем питания, остановка на ремонт, резкое снижение
A41: эл.потребления и т.д.) последние необходимо перечислить.
A42: Главный инженер АО "Вологдаоблэнерго" А.В. Чурляев
A43: составляется самим предприятием с соблюдением всех пунктов настоящей таблицы.

Sheet 27
B1: АО "Вологдаоблэнерго" | J1: код 900151 | N1: ТГК-2 ВТЭЦ РП 6 кВ
B2: наименование предприятия | N2: наименование источника питания
N3: _________________________________
B4: ул. Горького, 99 | I4: Таблица № 1 | O4: ТП 217 ^ ТП 595
B5: адрес
A6: почасовых записей показаний электрических счетчиков
A7: в режимный день 15 ДЕКАБРЯ 2021 г.
A8: 375
A9: часы суток | B9: Активная энергия | J9: Реактивная энергия
B10: ЯЧ. 3 - ТП 217 ^ ТП 595 | J10: ЯЧ. 3 - ТП 217 ^ ТП 595
B11: Расчет. Коэф. | E11: 3600 | F11: Расчет. Коэф. | I11: 0 | J11: Расчет. Коэф. | M11: =E11 -> 3600 | N11: Расчет. Коэф. | Q11: =I11 -> 0
B12: показания счетчика | C12: разность | E12: расход эл.энергии за час | F12: показания счетчика | G12: разность | I12: расход эл.энергии за час | J12: показания счетчика | K12: разность | M12: расход эл.энергии за час | N12: показания счетчика | O12: разность | Q12: расход эл.энергии за час
A13: 1 | B13: 2 | C13: 3 | E13: 4 | F13: 5 | G13: 6 | I13: 7 | J13: 8 | K13: 9 | M13: 10 | N13: 11 | O13: 12 | Q13: 13
A14: 0
A15: 1 | E15: 293 | M15: 67
A16: 2 | E16: 264 | M16: 60
A17: 3 | E17: 251 | M17: 58
A18: 4 | E18: 243 | M18: 52
A19: 5 | E19: 242 | M19: 54
A20: 6 | E20: 264 | M20: 55
A21: 7 | E21: 335 | M21: 59
A22: 8 | E22: 362 | M22: 60
A23: 9 | E23: 387 | M23: 60
A24: 10 | E24: 409 | M24: 63
A25: 11 | E25: 418 | M25: 56
A26: 12 | E26: 422 | M26: 59
... A38: 24 | E38: 348 | M38: 60
A39: Итого | E39: =SUM(E15:E38) -> 9579 | M39: =SUM(M15:M38) -> 1439
A40: 1. При наличии на предприятии отклонений от нормальных режимов электропотребления (временное изменение схем питания, остановка на ремонт, резкое снижение
A41: эл.потребления и т.д.) последние необходимо перечислить.
A42: Главный инженер АО "Вологдаоблэнерго" А.В. Чурляев
A43: составляется самим предприятием с соблюдением всех пунктов настоящей таблицы.

Sheet 28
B1: АО "Вологдаоблэнерго" | J1: код 900151 | N1: ТГК-2 ВТЭЦ РП 6 кВ
B2: наименование предприятия | N2: наименование источника питания
N3: _________________________________
B4: ул. Горького, 99 | I4: Таблица № 1 | O4: РП 8
B5: адрес
A6: почасовых записей показаний электрических счетчиков
A7: в режимный день 15 ДЕКАБРЯ 2021 г.
A8: 378 | B8: 382
A9: часы суток | B9: Активная энергия | J9: Реактивная энергия
B10: ЯЧ. 5 - РП 8 ввод № 1 | F10: ЯЧ. 12 - РП 8 ввод № 2 | J10: ЯЧ. 5 - РП 8 ввод № 1 | N10: ЯЧ. 12 - РП 8 ввод № 2
B11: Расчет. Коэф. | E11: 3600 | F11: Расчет. Коэф. | I11: 3600 | J11: Расчет. Коэф. | M11: =E11 -> 3600 | N11: Расчет. Коэф. | Q11: =I11 -> 3600
B12: показания счетчика | C12: разность | E12: расход эл.энергии за час | F12: показания счетчика | G12: разность | I12: расход эл.энергии за час | J12: показания счетчика | K12: разность | M12: расход эл.энергии за час | N12: показания счетчика | O12: разность | Q12: расход эл.энергии за час
A13: 1 | B13: 2 | C13: 3 | E13: 4 | F13: 5 | G13: 6 | I13: 7 | J13: 8 | K13: 9 | M13: 10 | N13: 11 | O13: 12 | Q13: 13
A14: 0
A15: 1 | E15: 732 | I15: 826 | M15: 170 | Q15: 179
A16: 2 | E16: 674 | I16: 761 | M16: 172 | Q16: 181
A17: 3 | E17: 650 | I17: 720 | M17: 168 | Q17: 176
A18: 4 | E18: 636 | I18: 709 | M18: 164 | Q18: 176
A19: 5 | E19: 672 | I19: 718 | M19: 160 | Q19: 171
A20: 6 | E20: 741 | I20: 758 | M20: 158 | Q20: 170
A21: 7 | E21: 862 | I21: 915 | M21: 166 | Q21: 171
A22: 8 | E22: 1032 | I22: 1183 | M22: 167 | Q22: 194
A23: 9 | E23: 1247 | I23: 1404 | M23: 177 | Q23: 214
A24: 10 | E24: 1293 | I24: 1499 | M24: 174 | Q24: 216
A25: 11 | E25: 1355 | I25: 1498 | M25: 173 | Q25: 213
A26: 12 | E26: 1374 | I26: 1479 | M26: 187 | Q26: 226
... A38: 24 | E38: 855 | I38: 938 | M38: 172 | Q38: 183
A39: Итого | E39: =SUM(E15:E38) -> 26412 | I39: =SUM(I15:I38) -> 28699 | M39: =SUM(M15:M38) -> 4200 | Q39: =SUM(Q15:Q38) -> 4767
A40: 1. При наличии на предприятии отклонений от нормальных режимов электропотребления (временное изменение схем питания, остановка на ремонт, резкое снижение
A41: эл.потребления и т.д.) последние необходимо перечислить.
A42: Главный инженер АО "Вологдаоблэнерго" А.В. Чурляев
A43: составляется самим предприятием с соблюдением всех пунктов настоящей таблицы.

Sheet 29
B1: АО "Вологдаоблэнерго" | J1: код 900151 | N1: ТГК-2 ВТЭЦ РП 6 кВ
B2: наименование предприятия | N2: наименование источника питания
N3: _________________________________
B4: ул. Горького, 99 | I4: Таблица № 1 | O4: РП 20
B5: адрес
A6: почасовых записей показаний электрических счетчиков
A7: в режимный день 15 ДЕКАБРЯ 2021 г.
A8: 380 | B8: 379
A9: часы суток | B9: Активная энергия | J9: Реактивная энергия
B10: ЯЧ. 4- РП 20 ввод № 1 | F10: ЯЧ. 7 - РП 20 яч.7 | J10: ЯЧ. 4- РП 20 ввод № 1 | N10: ЯЧ. 7 - РП 20 яч.7
B11: Расчет. Коэф. | E11: 3600 | F11: Расчет. Коэф. | I11: 3600 | J11: Расчет. Коэф. | M11: =E11 -> 3600 | N11: Расчет. Коэф. | Q11: =I11 -> 3600
B12: показания счетчика | C12: разность | E12: расход эл.энергии за час | F12: показания счетчика | G12: разность | I12: расход эл.энергии за час | J12: показания счетчика | K12: разность | M12: расход эл.энергии за час | N12: показания счетчика | O12: разность | Q12: расход эл.энергии за час
A13: 1 | B13: 2 | C13: 3 | E13: 4 | F13: 5 | G13: 6 | I13: 7 | J13: 8 | K13: 9 | M13: 10 | N13: 11 | O13: 12 | Q13: 13
A14: 0
A15: 1 | E15: 171 | I15: 64 | M15: 16 | Q15: 23
A16: 2 | E16: 155 | I16: 60 | M16: 15 | Q16: 23
A17: 3 | E17: 149 | I17: 59 | M17: 15 | Q17: 22
A18: 4 | E18: 147 | I18: 59 | M18: 17 | Q18: 22
A19: 5 | E19: 164 | I19: 81 | M19: 17 | Q19: 21
A20: 6 | E20: 227 | I20: 135 | M20: 18 | Q20: 25
A21: 7 | E21: 265 | I21: 188 | M21: 22 | Q21: 38
A22: 8 | E22: 287 | I22: 247 | M22: 30 | Q22: 63
A23: 9 | E23: 330 | I23: 281 | M23: 33 | Q23: 75
A24: 10 | E24: 370 | I24: 328 | M24: 29 | Q24: 79
A25: 11 | E25: 357 | I25: 312 | M25: 30 | Q25: 74
A26: 12 | E26: 332 | I26: 321 | M26: 28 | Q26: 76
... A38: 24 | E38: 190 | I38: 63 | M38: 14 | Q38: 22
A39: Итого | E39: =SUM(E15:E38) -> 6454 | I39: =SUM(I15:I38) -> 4322 | M39: =SUM(M15:M38) -> 563 | Q39: =SUM(Q15:Q38) -> 1067
A40: 1. При наличии на предприятии отклонений от нормальных режимов электропотребления (временное изменение схем питания, остановка на ремонт, резкое снижение
A41: эл.потребления и т.д.) последние необходимо перечислить.
A42: Главный инженер АО "Вологдаоблэнерго" А.В. Чурляев
A43: составляется самим предприятием с соблюдением всех пунктов настоящей таблицы.

Sheet 30
B1: АО "Вологдаоблэнерго" | J1: код 900151 | N1: ПС "ЦЕНТРАЛЬНАЯ" 110/6 кВ
B2: наименование предприятия | N2: наименование источника питания
N3: _________________________________ | O3: РУ-6 кВ
B4: ул. Горького, 99 | I4: Таблица № 1 | O4: ТП 54
B5: адрес
A6: почасовых записей показаний электрических счетчиков
A7: в режимный день 15 ДЕКАБРЯ 2021 г.
A8: 1520 | B8: 1526
A9: часы суток | B9: Активная энергия | J9: Реактивная энергия
B10: ЯЧ.4 - ТП 54 -Ι ввод № 1 | F10: ЯЧ. 30 - ТП 54 - ΙΙ ввод № 2 | J10: ЯЧ.4 - ТП 54 -Ι ввод № 1 | N10: ЯЧ. 30 - ТП 54 - ΙΙ ввод № 2
B11: Расчет. Коэф. | E11: 2400 | F11: Расчет. Коэф. | I11: 4800 | J11: Расчет. Коэф. | M11: =E11 -> 2400 | N11: Расчет. Коэф. | Q11: =I11 -> 4800
B12: показания счетчика | C12: разность | E12: расход эл.энергии за час | F12: показания счетчика | G12: разность | I12: расход эл.энергии за час | J12: показания счетчика | K12: разность | M12: расход эл.энергии за час | N12: показания счетчика | O12: разность | Q12: расход эл.энергии за час
A13: 1 | B13: 2 | C13: 3 | E13: 4 | F13: 5 | G13: 6 | I13: 7 | J13: 8 | K13: 9 | M13: 10 | N13: 11 | O13: 12 | Q13: 13
A14: 0
A15: 1 | E15: 216 | I15: 340 | M15: 63 | Q15: 142
A16: 2 | E16: 213 | I16: 325 | M16: 63 | Q16: 139
A17: 3 | E17: 211 | I17: 314 | M17: 62 | Q17: 141
A18: 4 | E18: 206 | I18: 319 | M18: 56 | Q18: 141
A19: 5 | E19: 240 | I19: 322 | M19: 60 | Q19: 137
A20: 6 | E20: 269 | I20: 349 | M20: 59 | Q20: 136
A21: 7 | E21: 310 | I21: 384 | M21: 58 | Q21: 136
A22: 8 | E22: 417 | I22: 426 | M22: 62 | Q22: 143
A23: 9 | E23: 614 | I23: 565 | M23: 67 | Q23: 177
A24: 10 | E24: 674 | I24: 610 | M24: 58 | Q24: 193
A25: 11 | E25: 672 | I25: 630 | M25: 57 | Q25: 205
A26: 12 | E26: 651 | I26: 630 | M26: 66 | Q26: 208
... A38: 24 | E38: 228 | I38: 375 | M38: 60 | Q38: 144
A39: Итого | E39: =SUM(E15:E38) -> 9927 | I39: =SUM(I15:I38) -> 11990 | M39: =SUM(M15:M38) -> 1443 | Q39: =SUM(Q15:Q38) -> 4111
A40: 1. При наличии на предприятии отклонений от нормальных режимов электропотребления (временное изменение схем питания, остановка на ремонт, резкое снижение
A41: эл.потребления и т.д.) последние необходимо перечислить.
A42: Главный инженер АО "Вологдаоблэнерго" А.В. Чурляев
A43: составляется самим предприятием с соблюдением всех пунктов настоящей таблицы.

Sheet 31
B1: АО "Вологдаоблэнерго" | J1: код 900151 | N1: ПС "ЦЕНТРАЛЬНАЯ" 110/6 кВ
B2: наименование предприятия | N2: наименование источника питания
N3: _________________________________ | O3: РУ-6 кВ
B4: ул. Горького, 99 | I4: Таблица № 1 | O4: РП 13
B5: адрес
A6: почасовых записей показаний электрических счетчиков
A7: в режимный день 15 ДЕКАБРЯ 2021 г.
A8: 1522 | B8: 1523
A9: часы суток | B9: Активная энергия | J9: Реактивная энергия
B10: ЯЧ. 14 - РП 13- Ι | F10: ЯЧ. 22 - РП 13- ΙΙ | J10: ЯЧ. 14 - РП 13- Ι | N10: ЯЧ. 22 - РП 13- ΙΙ
B11: Расчет. Коэф. | E11: 7200 | F11: Расчет. Коэф. | I11: 7200 | J11: Расчет. Коэф. | M11: =E11 -> 7200 | N11: Расчет. Коэф. | Q11: =I11 -> 7200
B12: показания счетчика | C12: разность | E12: расход эл.энергии за час | F12: показания счетчика | G12: разность | I12: расход эл.энергии за час | J12: показания счетчика | K12: разность | M12: расход эл.энергии за час | N12: показания счетчика | O12: разность | Q12: расход эл.энергии за час
A13: 1 | B13: 2 | C13: 3 | E13: 4 | F13: 5 | G13: 6 | I13: 7 | J13: 8 | K13: 9 | M13: 10 | N13: 11 | O13: 12 | Q13: 13
A14: 0
A15: 1 | E15: 1033 | I15: 1102 | M15: 205 | Q15: 202
A16: 2 | E16: 972 | I16: 1106 | M16: 200 | Q16: 222
A17: 3 | E17: 955 | I17: 1062 | M17: 200 | Q17: 201
A18: 4 | E18: 948 | I18: 1113 | M18: 201 | Q18: 206
A19: 5 | E19: 952 | I19: 1099 | M19: 192 | Q19: 182
A20: 6 | E20: 1019 | I20: 1204 | M20: 194 | Q20: 210
A21: 7 | E21: 1163 | I21: 1309 | M21: 198 | Q21: 179
A22: 8 | E22: 1503 | I22: 1517 | M22: 226 | Q22: 191
A23: 9 | E23: 1950 | I23: 2008 | M23: 258 | Q23: 210
A24: 10 | E24: 2224 | I24: 2219 | M24: 269 | Q24: 196
A25: 11 | E25: 2194 | I25: 2404 | M25: 256 | Q25: 239
A26: 12 | E26: 2171 | I26: 2417 | M26: 258 | Q26: 226
... A38: 24 | E38: 1107 | I38: 1184 | M38: 211 | Q38: 227
A39: Итого | E39: =SUM(E15:E38) -> 38936 | I39: =SUM(I15:I38) -> 41619 | M39: =SUM(M15:M38) -> 5537 | Q39: =SUM(Q15:Q38) -> 5061
A40: 1. При наличии на предприятии отклонений от нормальных режимов электропотребления (временное изменение схем питания, остановка на ремонт, резкое снижение
A41: эл.потребления и т.д.) последние необходимо перечислить.
A42: Главный инженер АО "Вологдаоблэнерго" А.В. Чурляев
A43: составляется самим предприятием с соблюдением всех пунктов настоящей таблицы.

Sheet 32
B1: АО "Вологдаоблэнерго" | J1: код 900151 | N1: ПС "ЦЕНТРАЛЬНАЯ" 110/6 кВ
B2: наименование предприятия | N2: наименование источника питания
N3: _________________________________ | O3: РУ-6 кВ
B4: ул. Горького, 99 | I4: Таблица № 1 | O4: РП 4
B5: адрес
A6: почасовых записей показаний электрических счетчиков
A7: в режимный день 15 ДЕКАБРЯ 2021 г.
A8: 1521 | B8: 1524
A9: часы суток | B9: Активная энергия | J9: Реактивная энергия
B10: ЯЧ.12 - РП 4 -Ι | F10: ЯЧ. 24 - РП 4 -ΙΙ | J10: ЯЧ.12 - РП 4 -Ι | N10: ЯЧ. 24 - РП 4 -ΙΙ
B11: Расчет. Коэф. | E11: 4800 | F11: Расчет. Коэф. | I11: 4800 | J11: Расчет. Коэф. | M11: =E11 -> 4800 | N11: Расчет. Коэф. | Q11: =I11 -> 4800
B12: показания счетчика | C12: разность | E12: расход эл.энергии за час | F12: показания счетчика | G12: разность | I12: расход эл.энергии за час | J12: показания счетчика | K12: разность | M12: расход эл.энергии за час | N12: показания счетчика | O12: разность | Q12: расход эл.энергии за час
A13: 1 | B13: 2 | C13: 3 | E13: 4 | F13: 5 | G13: 6 | I13: 7 | J13: 8 | K13: 9 | M13: 10 | N13: 11 | O13: 12 | Q13: 13
A14: 0
A15: 1 | E15: 688 | I15: 593 | M15: 137 | Q15: 79
A16: 2 | E16: 662 | I16: 572 | M16: 136 | Q16: 75
A17: 3 | E17: 654 | I17: 570 | M17: 139 | Q17: 75
A18: 4 | E18: 648 | I18: 566 | M18: 133 | Q18: 73
A19: 5 | E19: 644 | I19: 566 | M19: 127 | Q19: 71
A20: 6 | E20: 744 | I20: 609 | M20: 131 | Q20: 73
A21: 7 | E21: 893 | I21: 742 | M21: 142 | Q21: 86
A22: 8 | E22: 1106 | I22: 902 | M22: 180 | Q22: 100
A23: 9 | E23: 1457 | I23: 1157 | M23: 212 | Q23: 106
A24: 10 | E24: 1624 | I24: 1324 | M24: 217 | Q24: 110
A25: 11 | E25: 1723 | I25: 1425 | M25: 225 | Q25: 110
A26: 12 | E26: 1715 | I26: 1448 | M26: 220 | Q26: 113
... A38: 24 | E38: 744 | I38: 606 | M38: 135 | Q38: 69
A39: Итого | E39: =SUM(E15:E38) -> 27429 | I39: =SUM(I15:I38) -> 23609 | M39: =SUM(M15:M38) -> 4063 | Q39: =SUM(Q15:Q38) -> 2227
A40: 1. При наличии на предприятии отклонений от нормальных режимов электропотребления (временное изменение схем питания, остановка на ремонт, резкое снижение
A41: эл.потребления и т.д.) последние необходимо перечислить.
A42: Главный инженер АО "Вологдаоблэнерго" А.В. Чурляев
A43: составляется самим предприятием с соблюдением всех пунктов настоящей таблицы.

Sheet 33
B1: АО "Вологдаоблэнерго" | J1: код 900151 | N1: ПС "ЦЕНТРАЛЬНАЯ" 110/6 кВ
B2: наименование предприятия | N2: наименование источника питания
N3: _________________________________ | O3: РУ-6 кВ
B4: ул. Горького, 99 | I4: Таблица № 1 | O4: РП 33
B5: адрес
A6: почасовых записей показаний электрических счетчиков
A7: в режимный день 15 ДЕКАБРЯ 2021 г.
A8: 1518 | B8: 1519
A9: часы суток | B9: Активная энергия | J9: Реактивная энергия
B10: ЯЧ. 2 - РП 33 ф.10 | F10: ЯЧ. 3 - РП-33 ф.9 | J10: ЯЧ. 2- РП 33 ф.10 | N10: ЯЧ. 3 - РП-33 ф.9
B11: Расчет. Коэф. | E11: 7200 | F11: Расчет. Коэф. | J11: Расчет. Коэф. | M11: =E11 -> 7200 | N11: Расчет. Коэф.
B12: показания счетчика | C12: разность | E12: расход эл.энергии за час | F12: показания счетчика | G12: разность | I12: расход эл.энергии за час | J12: показания счетчика | K12: разность | M12: расход эл.энергии за час | N12: показания счетчика | O12: разность | Q12: расход эл.энергии за час
A13: 1 | B13: 2 | C13: 3 | E13: 4 | F13: 5 | G13: 6 | I13: 7 | J13: 8 | K13: 9 | M13: 10 | N13: 11 | O13: 12 | Q13: 13
A14: 0
A15: 1 | E15: 32 | I15: 274 | M15: 0 | Q15: 40
A16: 2 | E16: 26 | I16: 250 | M16: 0 | Q16: 38
A17: 3 | E17: 24 | I17: 244 | M17: 0 | Q17: 38
A18: 4 | E18: 25 | I18: 244 | M18: 0 | Q18: 37
A19: 5 | E19: 24 | I19: 262 | M19: 0 | Q19: 38
A20: 6 | E20: 23 | I20: 258 | M20: 0 | Q20: 35
A21: 7 | E21: 34 | I21: 277 | M21: 0 | Q21: 35
A22: 8 | E22: 42 | I22: 353 | M22: 0 | Q22: 38
A23: 9 | E23: 40 | I23: 418 | M23: 0 | Q23: 45
A24: 10 | E24: 50 | I24: 471 | M24: 0 | Q24: 46
A25: 11 | E25: 55 | I25: 510 | M25: 0 | Q25: 49
A26: 12 | E26: 55 | I26: 519 | M26: 0 | Q26: 49
... A38: 24 | E38: 44 | I38: 321 | M38: 0 | Q38: 40
A39: Итого | E39: =SUM(E15:E38) -> 1200 | I39: =SUM(I15:I38) -> 9526 | M39: =SUM(M15:M38) -> 0 | Q39: =SUM(Q15:Q38) -> 1010
A40: 1. При наличии на предприятии отклонений от нормальных режимов электропотребления (временное изменение схем питания, остановка на ремонт, резкое снижение
A41: эл.потребления и т.д.) последние необходимо перечислить.
A42: Главный инженер АО "Вологдаоблэнерго" А.В. Чурляев
A43: составляется самим предприятием с соблюдением всех пунктов настоящей таблицы.

Sheet 34
B1: АО "Вологдаоблэнерго" | J1: код 900151 | N1: ПС "ЦЕНТРАЛЬНАЯ" 110/10/6 кВ
B2: наименование предприятия | N2: наименование источника питания
N3: _________________________________ | O3: РУ-6 кВ
B4: ул. Горького, 99 | I4: Таблица № 1 | O4: ТП 11 | Q4: РП-8
B5: адрес
A6: почасовых записей показаний электрических счетчиков
A7: в режимный день 15 ДЕКАБРЯ 2021 г.
A8: 1525
A9: часы суток | B9: Активная энергия | J9: Реактивная энергия
B10: ЯЧ.28 - ТП 11 -ΙΙ | F10: ЯЧ.20 - РП-8 ф11 | J10: ЯЧ.28 - ТП 11 -ΙΙ | N10: ЯЧ.20 - РП-8 ф11
B11: Расчет. Коэф. | E11: 7200 | F11: Расчет. Коэф. | I11: 0 | J11: Расчет. Коэф. | M11: =E11 -> 7200 | N11: Расчет. Коэф. | Q11: =I11 -> 0
B12: показания счетчика | C12: разность | E12: расход эл.энергии за час | F12: показания счетчика | G12: разность | I12: расход эл.энергии за час | J12: показания счетчика | K12: разность | M12: расход эл.энергии за час | N12: показания счетчика | O12: разность | Q12: расход эл.энергии за час
A13: 1 | B13: 2 | C13: 3 | E13: 4 | F13: 5 | G13: 6 | I13: 7 | J13: 8 | K13: 9 | M13: 10 | N13: 11 | O13: 12 | Q13: 13
A14: 0
A15: 1 | E15: 187 | M15: 9
A16: 2 | E16: 191 | M16: 7
A17: 3 | E17: 195 | M17: 8
A18: 4 | E18: 187 | M18: 6
A19: 5 | E19: 186 | M19: 4
A20: 6 | E20: 197 | M20: 5
A21: 7 | E21: 274 | M21: 12
A22: 8 | E22: 413 | M22: 29
A23: 9 | E23: 633 | M23: 51
A24: 10 | E24: 655 | M24: 56
A25: 11 | E25: 671 | M25: 54
A26: 12 | E26: 661 | M26: 54
... A38: 24 | E38: 201 | M38: 10
A39: Итого | E39: =SUM(E15:E38) -> 9424 | M39: =SUM(M15:M38) -> 629
A40: 1. При наличии на предприятии отклонений от нормальных режимов электропотребления (временное изменение схем питания, остановка на ремонт, резкое снижение
A41: эл.потребления и т.д.) последние необходимо перечислить.
A42: Главный инженер АО "Вологдаоблэнерго" А.В. Чурляев
A43: составляется самим предприятием с соблюдением всех пунктов настоящей таблицы.

Sheet 34_1
B1: АО "Вологдаоблэнерго" | J1: код 900151 | N1: ПС "ЦЕНТРАЛЬНАЯ" 110/10 кВ
B2: наименование предприятия | N2: наименование источника питания
N3: _________________________________ | O3: РУ-10 кВ
B4: ул. Горького, 99 | I4: Таблица № 1 | O4: РП-21
B5: адрес
A6: почасовых записей показаний электрических счетчиков
A7: в режимный день 15 ДЕКАБРЯ 2021 г.
A8: 911 | B8: 910
A9: часы суток | B9: Активная энергия | J9: Реактивная энергия
B10: ЯЧ.22 - РП 21- Ι | F10: ЯЧ.7 - РП 21- ΙI | J10: ЯЧ.22 - РП 21- Ι | N10: ЯЧ.7 - РП 21- ΙI
B11: Расчет. Коэф. | E11: 7200 | F11: Расчет. Коэф. | I11: 0 | J11: Расчет. Коэф. | M11: =E11 -> 7200 | N11: Расчет. Коэф. | Q11: =I11 -> 0
B12: показания счетчика | C12: разность | E12: расход эл.энергии за час | F12: показания счетчика | G12: разность | I12: расход эл.энергии за час | J12: показания счетчика | K12: разность | M12: расход эл.энергии за час | N12: показания счетчика | O12: разность | Q12: расход эл.энергии за час
A13: 1 | B13: 2 | C13: 3 | E13: 4 | F13: 5 | G13: 6 | I13: 7 | J13: 8 | K13: 9 | M13: 10 | N13: 11 | O13: 12 | Q13: 13
A14: 0
A15: 1 | E15: 444 | I15: 391 | M15: 3 | Q15: 47
A16: 2 | E16: 428 | I16: 374 | M16: 1 | Q16: 30
A17: 3 | E17: 421 | I17: 372 | M17: 1 | Q17: 31
A18: 4 | E18: 413 | I18: 378 | M18: 1 | Q18: 29
A19: 5 | E19: 417 | I19: 418 | M19: 0 | Q19: 14
A20: 6 | E20: 430 | I20: 418 | M20: 1 | Q20: 7
A21: 7 | E21: 492 | I21: 480 | M21: 1 | Q21: 13
A22: 8 | E22: 677 | I22: 658 | M22: 33 | Q22: 26
A23: 9 | E23: 930 | I23: 952 | M23: 64 | Q23: 71
A24: 10 | E24: 1085 | I24: 1200 | M24: 69 | Q24: 76
A25: 11 | E25: 1161 | I25: 1319 | M25: 82 | Q25: 50
A26: 12 | E26: 1149 | I26: 1333 | M26: 76 | Q26: 48
... A38: 24 | E38: 446 | I38: 415 | M38: 1 | Q38: 33
A39: Итого | E39: =SUM(E15:E38) -> 18405 | I39: =SUM(I15:I38) -> 20239 | M39: =SUM(M15:M38) -> 960 | Q39: =SUM(Q15:Q38) -> 949
A40: 1. При наличии на предприятии отклонений от нормальных режимов электропотребления (временное изменение схем питания, остановка на ремонт, резкое снижение
A41: эл.потребления и т.д.) последние необходимо перечислить.
A42: Главный инженер АО "Вологдаоблэнерго" А.В. Чурляев
A43: составляется самим предприятием с соблюдением всех пунктов настоящей таблицы.

Sheet 35
B1: АО "Вологдаоблэнерго" | J1: код 900151 | N1: ПС "ГОРОДСКАЯ" 35/6 кВ
B2: наименование предприятия | N2: наименование источника питания
N3: _________________________________
B4: ул. Горького, 99 | I4: Таблица № 1 | O4: Т-1, Т-3 (ЗРУ 6 кВ)
B5: адрес
A6: почасовых записей показаний электрических счетчиков
A7: в режимный день 15 ДЕКАБРЯ 2021 г.
A8: 300 | B8: 304
A9: часы суток | B9: Активная энергия | J9: Реактивная энергия
B10: Т-1 - ЗРУ Ф.1 ввод № 1 | F10: Т-3 - ЗРУ Ф.20 ввод № 2 . | J10: Т-1 - ЗРУ Ф.1 ввод № 1 | N10: Т-3 - ЗРУ Ф.20 ввод № 2 .
B11: Расчет. Коэф. | E11: 18000 | F11: Расчет. Коэф. | I11: 18000 | J11: Расчет. Коэф. | M11: =E11 -> 18000 | N11: Расчет. Коэф. | Q11: =I11 -> 18000
B12: показания счетчика | C12: разность | E12: расход эл.энергии за час | F12: показания счетчика | G12: разность | I12: расход эл.энергии за час | J12: показания счетчика | K12: разность | M12: расход эл.энергии за час | N12: показания счетчика | O12: разность | Q12: расход эл.энергии за час
A13: 1 | B13: 2 | C13: 3 | E13: 4 | F13: 5 | G13: 6 | I13: 7 | J13: 8 | K13: 9 | M13: 10 | N13: 11 | O13: 12 | Q13: 13
A14: 0
A15: 1 | E15: 1886.4 | I15: 2966.4 | M15: 475.2 | Q15: 945
A16: 2 | E16: 1816.2 | I16: 2800.8 | M16: 462.6 | Q16: 923.4
A17: 3 | E17: 1782 | I17: 2734.2 | M17: 453.6 | Q17: 923.4
A18: 4 | E18: 1778.4 | I18: 2712.6 | M18: 442.8 | Q18: 907.2
A19: 5 | E19: 1794.6 | I19: 2714.4 | M19: 432 | Q19: 894.6
A20: 6 | E20: 1886.4 | I20: 2921.4 | M20: 428.4 | Q20: 885.6
A21: 7 | E21: 2205 | I21: 3402 | M21: 448.2 | Q21: 878.4
A22: 8 | E22: 2635.2 | I22: 3970.8 | M22: 489.6 | Q22: 912.6
A23: 9 | E23: 3256.2 | I23: 4512.6 | M23: 586.8 | Q23: 973.8
A24: 10 | E24: 3402 | I24: 4608 | M24: 576 | Q24: 934.2
A25: 11 | E25: 3481.2 | I25: 4777.2 | M25: 615.6 | Q25: 921.6
A26: 12 | E26: 3407.4 | I26: 4797 | M26: 655.2 | Q26: 930.6
... A38: 24 | E38: 2048.4 | I38: 3306.6 | M38: 486 | Q38: 919.8
A39: Итого | E39: =SUM(E15:E38) -> 63671.4 | I39: =SUM(I15:I38) -> 96310.8 | M39: =SUM(M15:M38) -> 12931.2 | Q39: =SUM(Q15:Q38) -> 22170.6
A40: 1. При наличии на предприятии отклонений от нормальных режимов электропотребления (временное изменение схем питания, остановка на ремонт, резкое снижение
A41: эл.потребления и т.д.) последние необходимо перечислить.
A42: Главный инженер АО "Вологдаоблэнерго" А.В. Чурляев
A43: составляется самим предприятием с соблюдением всех пунктов настоящей таблицы.

Sheet 36
B1: АО "Вологдаоблэнерго" | J1: код 900151 | N1: ПС "ГОРОДСКАЯ" 35/6 кВ
B2: наименование предприятия | N2: наименование источника питания
N3: _________________________________
B4: ул. Горького, 99 | I4: Таблица № 1 | O4: Т-2 (РП 9)
B5: адрес
A6: почасовых записей показаний электрических счетчиков
A7: в режимный день 15 ДЕКАБРЯ 2021 г.
A8: 297
A9: часы суток | B9: Активная энергия | J9: Реактивная энергия
B10: Т-2 - РП 9 ф. 11 | J10: Т-2 - РП 9 ф. 11
B11: Расчет. Коэф. | E11: 7200 | F11: Расчет. Коэф. | I11: 0 | J11: Расчет. Коэф. | M11: =E11 -> 7200 | N11: Расчет. Коэф. | Q11: 0
B12: показания счетчика | C12: разность | E12: расход эл.энергии за час | F12: показания счетчика | G12: разность | I12: расход эл.энергии за час | J12: показания счетчика | K12: разность | M12: расход эл.энергии за час | N12: показания счетчика | O12: разность | Q12: расход эл.энергии за час
A13: 1 | B13: 2 | C13: 3 | E13: 4 | F13: 5 | G13: 6 | I13: 7 | J13: 8 | K13: 9 | M13: 10 | N13: 11 | O13: 12 | Q13: 13
A14: 0
A15: 1 | E15: 1544.4 | M15: 440.64
A16: 2 | E16: 1476.72 | M16: 447.12
A17: 3 | E17: 1433.52 | M17: 449.28
A18: 4 | E18: 1395.36 | M18: 434.88
A19: 5 | E19: 1400.4 | M19: 421.92
A20: 6 | E20: 1512.72 | M20: 419.04
A21: 7 | E21: 1709.28 | M21: 419.04
A22: 8 | E22: 1960.56 | M22: 435.6
A23: 9 | E23: 2314.8 | M23: 498.24
A24: 10 | E24: 2396.88 | M24: 479.52
A25: 11 | E25: 2528.64 | M25: 510.48
A26: 12 | E26: 2532.24 | M26: 498.96
... A38: 24 | E38: 1737.36 | M38: 452.16
A39: Итого | E39: =SUM(E15:E38) -> 50222.16 | I39: =SUM(I15:I38) -> 0 | M39: =SUM(M15:M38) -> 11325.6 | Q39: =SUM(Q15:Q38) -> 0
A40: 1. При наличии на предприятии отклонений от нормальных режимов электропотребления (временное изменение схем питания, остановка на ремонт, резкое снижение
A41: эл.потребления и т.д.) последние необходимо перечислить.
A42: Главный инженер АО "Вологдаоблэнерго" А.В. Чурляев
A43: составляется самим предприятием с соблюдением всех пунктов настоящей таблицы.

Sheet 37
B1: АО "Вологдаоблэнерго" | J1: код 900151 | N1: ПС "ВОСТОЧНАЯ" 110/35/10 кВ
B2: наименование предприятия | N2: наименование источника питания
N3: _________________________________
B4: ул. Горького, 99 | I4: Таблица № 1 | O4: РП 39
B5: адрес
A6: почасовых записей показаний электрических счетчиков
A7: в режимный день 15 ДЕКАБРЯ 2021 г.
A8: 1633 | B8: 1634
A9: часы суток | B9: Активная энергия | J9: Реактивная энергия
B10: ЯЧ.№2 - "РП 39-1" | F10: ЯЧ.№ 21 - "РП 39-2" | J10: ЯЧ.№2 - "РП 39-1" | N10: ЯЧ.№ 21 - "РП 39-2"
B11: Расчет. Коэф. | E11: 8000 | F11: Расчет. Коэф. | I11: 6000 | J11: Расчет. Коэф. | M11: =E11 -> 8000 | N11: Расчет. Коэф. | Q11: =I11 -> 6000
B12: показания счетчика | C12: разность | E12: расход эл.энергии за час | F12: показания счетчика | G12: разность | I12: расход эл.энергии за час | J12: показания счетчика | K12: разность | M12: расход эл.энергии за час | N12: показания счетчика | O12: разность | Q12: расход эл.энергии за час
A13: 1 | B13: 2 | C13: 3 | E13: 4 | F13: 5 | G13: 6 | I13: 7 | J13: 8 | K13: 9 | M13: 10 | N13: 11 | O13: 12 | Q13: 13
A14: 0
A15: 1 | E15: 0 | I15: 1354 | M15: 0 | Q15: 93
A16: 2 | E16: 0 | I16: 1270 | M16: 0 | Q16: 86
A17: 3 | E17: 0 | I17: 1187 | M17: 0 | Q17: 70
A18: 4 | E18: 0 | I18: 1228 | M18: 0 | Q18: 72
A19: 5 | E19: 0 | I19: 1236 | M19: 0 | Q19: 69
A20: 6 | E20: 0 | I20: 1351 | M20: 0 | Q20: 69
A21: 7 | E21: 0 | I21: 1721 | M21: 0 | Q21: 126
A22: 8 | E22: 0 | I22: 1770 | M22: 0 | Q22: 111
A23: 9 | E23: 0 | I23: 1786 | M23: 0 | Q23: 114
A24: 10 | E24: 0 | I24: 1812 | M24: 0 | Q24: 115
A25: 11 | E25: 0 | I25: 1850 | M25: 0 | Q25: 115
A26: 12 | E26: 0 | I26: 1764 | M26: 0 | Q26: 96
... A38: 24 | E38: 0 | I38: 1678 | M38: 0 | Q38: 204
A39: Итого | E39: =SUM(E15:E38) -> 0 | I39: =SUM(I15:I38) -> 41087 | M39: =SUM(M15:M38) -> 0 | Q39: =SUM(Q15:Q38) -> 2841
A40: 1. При наличии на предприятии отклонений от нормальных режимов электропотребления (временное изменение схем питания, остановка на ремонт, резкое снижение
A41: эл.потребления и т.д.) последние необходимо перечислить.
A42: Главный инженер АО "Вологдаоблэнерго" А.В. Чурляев
A43: составляется самим предприятием с соблюдением всех пунктов настоящей таблицы.

Sheet 38
B1: АО "Вологдаоблэнерго" | J1: код 900151 | N1: ПС "ВОСТОЧНАЯ" 110/35/10 кВ
B2: наименование предприятия | N2: наименование источника питания
N3: _________________________________
B4: ул. Горького, 99 | I4: Таблица № 1 | O4: РП 30
B5: адрес
A6: почасовых записей показаний электрических счетчиков
A7: в режимный день 15 ДЕКАБРЯ 2021 г.
A8: 1637 | B8: 1638
A9: часы суток | B9: Активная энергия | J9: Реактивная энергия
B10: ЯЧ.№15 - "РМЗ-1" | F10: ЯЧ.№32 - "РМЗ-2" | J10: ЯЧ.№15 - "РМЗ-1" | N10: ЯЧ.№32 - "РМЗ-2"
B11: Расчет. Коэф. | E11: 8000 | F11: Расчет. Коэф. | I11: 8000 | J11: Расчет. Коэф. | M11: =E11 -> 8000 | N11: Расчет. Коэф. | Q11: =I11 -> 8000
B12: показания счетчика | C12: разность | E12: расход эл.энергии за час | F12: показания счетчика | G12: разность | I12: расход эл.энергии за час | J12: показания счетчика | K12: разность | M12: расход эл.энергии за час | N12: показания счетчика | O12: разность | Q12: расход эл.энергии за час
A13: 1 | B13: 2 | C13: 3 | E13: 4 | F13: 5 | G13: 6 | I13: 7 | J13: 8 | K13: 9 | M13: 10 | N13: 11 | O13: 12 | Q13: 13
A14: 0
A15: 1 | E15: 85 | I15: 1406 | M15: 0 | Q15: 300
A16: 2 | E16: 87 | I16: 1357 | M16: 0 | Q16: 281
A17: 3 | E17: 83 | I17: 1368 | M17: 0 | Q17: 313
A18: 4 | E18: 80 | I18: 1361 | M18: 0 | Q18: 292
A19: 5 | E19: 78 | I19: 1357 | M19: 0 | Q19: 287
A20: 6 | E20: 86 | I20: 1414 | M20: 0 | Q20: 258
A21: 7 | E21: 99 | I21: 1598 | M21: 0 | Q21: 282
A22: 8 | E22: 138 | I22: 1716 | M22: 0 | Q22: 364
A23: 9 | E23: 172 | I23: 2148 | M23: 8 | Q23: 701
A24: 10 | E24: 188 | I24: 2308 | M24: 15 | Q24: 851
A25: 11 | E25: 180 | I25: 2230 | M25: 28 | Q25: 731
A26: 12 | E26: 175 | I26: 2301 | M26: 11 | Q26: 820
... A38: 24 | E38: 94 | I38: 1438 | M38: 0 | Q38: 252
A39: Итого | E39: =SUM(E15:E38) -> 3015 | I39: =SUM(I15:I38) -> 44923 | M39: =SUM(M15:M38) -> 150 | Q39: =SUM(Q15:Q38) -> 12431
A40: 1. При наличии на предприятии отклонений от нормальных режимов электропотребления (временное изменение схем питания, остановка на ремонт, резкое снижение
A41: эл.потребления и т.д.) последние необходимо перечислить.
A42: Главный инженер АО "Вологдаоблэнерго" А.В. Чурляев
A43: составляется самим предприятием с соблюдением всех пунктов настоящей таблицы.

Sheet 39
B1: АО "Вологдаоблэнерго" | J1: код 900151 | N1: ПС "ВОСТОЧНАЯ" 110/35/10 кВ
B2: наименование предприятия | N2: наименование источника питания
N3: _________________________________
B4: ул. Горького, 99 | I4: Таблица № 1 | O4: РП 31
B5: адрес
A6: почасовых записей показаний электрических счетчиков
A7: в режимный день 15 ДЕКАБРЯ 2021 г.
A8: 1635 | B8: 1636
A9: часы суток | B9: Активная энергия | J9: Реактивная энергия
B10: ЯЧ. № 11- "ГОРОД-1" | F10: ЯЧ. № 28- "ГОРОД-2" | J10: ЯЧ. № 11- "ГОРОД-1" | N10: ЯЧ. № 28- "ГОРОД-2"
B11: Расчет. Коэф. | E11: 12000 | F11: Расчет. Коэф. | I11: 12000 | J11: Расчет. Коэф. | M11: =E11 -> 12000 | N11: Расчет. Коэф. | Q11: =I11 -> 12000
B12: показания счетчика | C12: разность | E12: расход эл.энергии за час | F12: показания счетчика | G12: разность | I12: расход эл.энергии за час | J12: показания счетчика | K12: разность | M12: расход эл.энергии за час | N12: показания счетчика | O12: разность | Q12: расход эл.энергии за час
A13: 1 | B13: 2 | C13: 3 | E13: 4 | F13: 5 | G13: 6 | I13: 7 | J13: 8 | K13: 9 | M13: 10 | N13: 11 | O13: 12 | Q13: 13
A14: 0
A15: 1 | E15: 1942 | I15: 3129 | M15: 423 | Q15: 627
A16: 2 | E16: 1809 | I16: 2945 | M16: 411 | Q16: 604
A17: 3 | E17: 1746 | I17: 2853 | M17: 393 | Q17: 608
A18: 4 | E18: 1713 | I18: 2779 | M18: 395 | Q18: 577
A19: 5 | E19: 1727 | I19: 2849 | M19: 380 | Q19: 577
A20: 6 | E20: 2022 | I20: 3228 | M20: 385 | Q20: 590
A21: 7 | E21: 2352 | I21: 3672 | M21: 408 | Q21: 611
A22: 8 | E22: 2756 | I22: 4173 | M22: 485 | Q22: 797
A23: 9 | E23: 3050 | I23: 4593 | M23: 541 | Q23: 966
A24: 10 | E24: 3191 | I24: 4617 | M24: 534 | Q24: 970
A25: 11 | E25: 3286 | I25: 4776 | M25: 534 | Q25: 960
A26: 12 | E26: 3276 | I26: 4641 | M26: 540 | Q26: 836
... A38: 24 | E38: 2245 | I38: 3384 | M38: 469 | Q38: 600
A39: Итого | E39: =SUM(E15:E38) -> 67098 | I39: =SUM(I15:I38) -> 98759 | M39: =SUM(M15:M38) -> 11508 | Q39: =SUM(Q15:Q38) -> 17670
A40: 1. При наличии на предприятии отклонений от нормальных режимов электропотребления (временное изменение схем питания, остановка на ремонт, резкое снижение
A41: эл.потребления и т.д.) последние необходимо перечислить.
A42: Главный инженер АО "Вологдаоблэнерго" А.В. Чурляев
A43: составляется самим предприятием с соблюдением всех пунктов настоящей таблицы.

Sheet 39_1
B1: АО "Вологдаоблэнерго" | J1: код 900151 | N1: ПС "ВОСТОЧНАЯ" 110/35/10 кВ
B2: наименование предприятия | N2: наименование источника питания
N3: _________________________________
B4: ул. Горького, 99 | I4: Таблица № 1 | O4: ТП-561-2
B5: адрес
A6: почасовых записей показаний электрических счетчиков
A7: в режимный день 15 ДЕКАБРЯ 2021 г.
A8: 1737
A9: часы суток | B9: Активная энергия | J9: Реактивная энергия
B10: ЯЧ. № 5- "ГОРОД-3" | J10: ЯЧ. № 5- "ГОРОД-3"
B11: Расчет. Коэф. | F11: Расчет. Коэф. | J11: Расчет. Коэф. | N11: Расчет. Коэф.
B12: показания счетчика | C12: разность | E12: расход эл.энергии за час | F12: показания счетчика | G12: разность | I12: расход эл.энергии за час | J12: показания счетчика | K12: разность | M12: расход эл.энергии за час | N12: показания счетчика | O12: разность | Q12: расход эл.энергии за час
A13: 1 | B13: 2 | C13: 3 | E13: 4 | F13: 5 | G13: 6 | I13: 7 | J13: 8 | K13: 9 | M13: 10 | N13: 11 | O13: 12 | Q13: 13
A14: 0
A15: 1 | E15: 399.6 | M15: 81
A16: 2 | E16: 358.2 | M16: 81
A17: 3 | E17: 341.4 | M17: 82.2
A18: 4 | E18: 328.8 | M18: 79.2
A19: 5 | E19: 328.2 | M19: 77.4
A20: 6 | E20: 363 | M20: 74.4
A21: 7 | E21: 507 | M21: 76.8
A22: 8 | E22: 535.2 | M22: 90.6
A23: 9 | E23: 530.4 | M23: 82.2
A24: 10 | E24: 532.2 | M24: 75.6
A25: 11 | E25: 533.4 | M25: 72
A26: 12 | E26: 545.4 | M26: 79.8
... A38: 24 | E38: 480.6 | M38: 81.6
A39: Итого | E39: =SUM(E15:E38) -> 13176 | M39: =SUM(M15:M38) -> 2008.8
A40: 1. При наличии на предприятии отклонений от нормальных режимов электропотребления (временное изменение схем питания, остановка на ремонт, резкое снижение
A41: эл.потребления и т.д.) последние необходимо перечислить.
A42: Главный инженер АО "Вологдаоблэнерго" А.В. Чурляев
A43: составляется самим предприятием с соблюдением всех пунктов настоящей таблицы.

Sheet 40
B1: АО "Вологдаоблэнерго" | J1: код 900151 | N1: ПС "ЛУГОВАЯ"
B2: наименование предприятия | N2: наименование источника питания
N3: _________________________________
B4: ул. Горького, 99 | I4: Таблица № 1 | O4: РП 19
B5: адрес
A6: почасовых записей показаний электрических счетчиков
A7: в режимный день 15 ДЕКАБРЯ 2021 г.
A8: 1516 | B8: 1514
A9: часы суток | B9: Активная энергия | J9: Реактивная энергия
B10: ЯЧ. 23 - ф "ГОРОД-2 | F10: ЯЧ. 2 - ф "ГОРОД-3" | J10: ЯЧ. 23 - ф "ГОРОД-2 | N10: ЯЧ. 2 - ф "ГОРОД-3"
B11: Расчет. Коэф. | E11: 12000 | F11: Расчет. Коэф. | I11: 12000 | J11: Расчет. Коэф. | M11: =E11 -> 12000 | N11: Расчет. Коэф. | Q11: =I11 -> 12000
B12: показания счетчика | C12: разность | E12: расход эл.энергии за час | F12: показания счетчика | G12: разность | I12: расход эл.энергии за час | J12: показания счетчика | K12: разность | M12: расход эл.энергии за час | N12: показания счетчика | O12: разность | Q12: расход эл.энергии за час
A13: 1 | B13: 2 | C13: 3 | E13: 4 | F13: 5 | G13: 6 | I13: 7 | J13: 8 | K13: 9 | M13: 10 | N13: 11 | O13: 12 | Q13: 13
A14: 0
A15: 1 | E15: 2707 | I15: 1761 | M15: 0 | Q15: 920
A16: 2 | E16: 2503 | I16: 1634 | M16: 0 | Q16: 892
A17: 3 | E17: 2424 | I17: 1577 | M17: 0 | Q17: 877
A18: 4 | E18: 2386 | I18: 1536 | M18: 0 | Q18: 880
A19: 5 | E19: 2536 | I19: 1492 | M19: 0 | Q19: 878
A20: 6 | E20: 2828 | I20: 1746 | M20: 0 | Q20: 926
A21: 7 | E21: 3263 | I21: 2008 | M21: 0 | Q21: 976
A22: 8 | E22: 3563 | I22: 2139 | M22: 0 | Q22: 1034
A23: 9 | E23: 4036 | I23: 2267 | M23: 0 | Q23: 1131
A24: 10 | E24: 4026 | I24: 2384 | M24: 0 | Q24: 1088
A25: 11 | E25: 4044 | I25: 2416 | M25: 0 | Q25: 1031
A26: 12 | E26: 3953 | I26: 2361 | M26: 0 | Q26: 1018
... A38: 24 | E38: 2993 | I38: 2035 | M38: 0 | Q38: 922
A39: Итого | E39: =SUM(E15:E38) -> 86441 | I39: =SUM(I15:I38) -> 55145 | M39: =SUM(M15:M38) -> 0 | Q39: =SUM(Q15:Q38) -> 23977
A40: 1. При наличии на предприятии отклонений от нормальных режимов электропотребления (временное изменение схем питания, остановка на ремонт, резкое снижение
A41: эл.потребления и т.д.) последние необходимо перечислить.
A42: Главный инженер АО "Вологдаоблэнерго" А.В. Чурляев
A43: составляется самим предприятием с соблюдением всех пунктов настоящей таблицы.

Sheet 41
B1: АО "Вологдаоблэнерго" | J1: код 900151 | N1: ПС "ЛУГОВАЯ"
B2: наименование предприятия | N2: наименование источника питания
N3: _________________________________
B4: ул. Горького, 99 | I4: Таблица № 1 | O4: РП 38
B5: адрес
A6: почасовых записей показаний электрических счетчиков
A7: в режимный день 15 ДЕКАБРЯ 2021 г.
A8: 1515 | B8: 1517
A9: часы суток | B9: Активная энергия | J9: Реактивная энергия
B10: ЯЧ.10 - ф "ГОРОД-1" | F10: ЯЧ.25 - ф "ГОРОД-4" | J10: ЯЧ.10 - ф "ГОРОД-1" | N10: ЯЧ.25 - ф "ГОРОД-4"
B11: Расчет. Коэф. | E11: 12000 | F11: Расчет. Коэф. | I11: 12000 | J11: Расчет. Коэф. | M11: =E11 -> 12000 | N11: Расчет. Коэф. | Q11: =I11 -> 12000
B12: показания счетчика | C12: разность | E12: расход эл.энергии за час | F12: показания счетчика | G12: разность | I12: расход эл.энергии за час | J12: показания счетчика | K12: разность | M12: расход эл.энергии за час | N12: показания счетчика | O12: разность | Q12: расход эл.энергии за час
A13: 1 | B13: 2 | C13: 3 | E13: 4 | F13: 5 | G13: 6 | I13: 7 | J13: 8 | K13: 9 | M13: 10 | N13: 11 | O13: 12 | Q13: 13
A14: 0
A15: 1 | E15: 1074 | I15: 912 | M15: 97 | Q15: 114
A16: 2 | E16: 985 | I16: 861 | M16: 89 | Q16: 110
A17: 3 | E17: 941 | I17: 841 | M17: 84 | Q17: 114
A18: 4 | E18: 923 | I18: 803 | M18: 76 | Q18: 106
A19: 5 | E19: 917 | I19: 819 | M19: 69 | Q19: 108
A20: 6 | E20: 1026 | I20: 879 | M20: 57 | Q20: 101
A21: 7 | E21: 1242 | I21: 1019 | M21: 46 | Q21: 106
A22: 8 | E22: 1400 | I22: 1164 | M22: 87 | Q22: 111
A23: 9 | E23: 1548 | I23: 1213 | M23: 95 | Q23: 105
A24: 10 | E24: 1588 | I24: 1261 | M24: 85 | Q24: 107
A25: 11 | E25: 1573 | I25: 1369 | M25: 51 | Q25: 102
A26: 12 | E26: 1554 | I26: 1386 | M26: 66 | Q26: 109
... A38: 24 | E38: 1202 | I38: 1050 | M38: 97 | Q38: 114
A39: Итого | E39: =SUM(E15:E38) -> 34414 | I39: =SUM(I15:I38) -> 29786 | M39: =SUM(M15:M38) -> 2189 | Q39: =SUM(Q15:Q38) -> 2784
A40: 1. При наличии на предприятии отклонений от нормальных режимов электропотребления (временное изменение схем питания, остановка на ремонт, резкое снижение
A41: эл.потребления и т.д.) последние необходимо перечислить.
A42: Главный инженер АО "Вологдаоблэнерго" А.В. Чурляев
A43: составляется самим предприятием с соблюдением всех пунктов настоящей таблицы.

Sheet 41_1
B1: АО "Вологдаоблэнерго" | J1: код 900151 | N1: ПС "ЛУГОВАЯ"
B2: наименование предприятия | N2: наименование источника питания
N3: _________________________________
B4: ул. Горького, 99 | I4: Таблица № 1 | O4: КТП-663
B5: адрес
A6: почасовых записей показаний электрических счетчиков
A7: в режимный день 15 ДЕКАБРЯ 2021 г.
A8: 336
A9: часы суток | B9: Активная энергия | J9: Реактивная энергия
B10: ф.Родина - КТП-663 | J10: ф.Родина - КТП-663
B11: Расчет. Коэф. | E11: 40 | F11: Расчет. Коэф. | J11: Расчет. Коэф. | M11: 40 | N11: Расчет. Коэф.
B12: показания счетчика | C12: разность | E12: расход эл.энергии за час | F12: показания счетчика | G12: разность | I12: расход эл.энергии за час | J12: показания счетчика | K12: разность | M12: расход эл.энергии за час | N12: показания счетчика | O12: разность | Q12: расход эл.энергии за час
A13: 1 | B13: 2 | C13: 3 | E13: 4 | F13: 5 | G13: 6 | I13: 7 | J13: 8 | K13: 9 | M13: 10 | N13: 11 | O13: 12 | Q13: 13
A14: 0
A15: 1 | E15: 21.74 | M15: 2.78
A16: 2 | E16: 21.54 | M16: 2.82
A17: 3 | E17: 22.28 | M17: 2.16
A18: 4 | E18: 21.3 | M18: 2.8
A19: 5 | E19: 23.42 | M19: 2.64
A20: 6 | E20: 23.92 | M20: 2.4
A21: 7 | E21: 25.3 | M21: 2.96
A22: 8 | E22: 23.34 | M22: 2.54
A23: 9 | E23: 26.64 | M23: 3.06
A24: 10 | E24: 31.62 | M24: 3.6
A25: 11 | E25: 34.8 | M25: 4.46
A26: 12 | E26: 34.28 | M26: 3.84
... A38: 24 | E38: 21.2 | M38: 2.62
A39: Итого | E39: =SUM(E15:E38) -> 669.32 | M39: =SUM(M15:M38) -> 84.9
A40: 1. При наличии на предприятии отклонений от нормальных режимов электропотребления (временное изменение схем питания, остановка на ремонт, резкое снижение
A41: эл.потребления и т.д.) последние необходимо перечислить.
A42: Главный инженер АО "Вологдаоблэнерго" А.В. Чурляев
A43: составляется самим предприятием с соблюдением всех пунктов настоящей таблицы.

Sheet 42
B1: АО "Вологдаоблэнерго" | J1: код 900151 | N1: РП "ГОРКА"
B2: наименование предприятия | N2: наименование источника питания
N3: _________________________________
B4: ул. Горького, 99 | I4: Таблица № 1 | O4: ВЛ - 10кВ № 37
B5: адрес
A6: почасовых записей показаний электрических счетчиков
A7: в режимный день 15 ДЕКАБРЯ 2021 г.
A8: 1528 | B8: 1527
A9: часы суток | B9: Активная энергия | J9: Реактивная энергия
B10: ЯЧ. 4 - ф,"ЛОСТА-1" | F10: ЯЧ. 8 - ф."ЛОСТА-2" | J10: ЯЧ. 4 - ф,"ЛОСТА-1" | N10: ЯЧ. 8 - ф."ЛОСТА-2"
B11: Расчет. Коэф. | E11: 2000 | F11: Расчет. Коэф. | I11: 2000 | J11: Расчет. Коэф. | M11: =E11 -> 2000 | N11: Расчет. Коэф. | Q11: =I11 -> 2000
B12: показания счетчика | C12: разность | E12: расход эл.энергии за час | F12: показания счетчика | G12: разность | I12: расход эл.энергии за час | J12: показания счетчика | K12: разность | M12: расход эл.энергии за час | N12: показания счетчика | O12: разность | Q12: расход эл.энергии за час
A13: 1 | B13: 2 | C13: 3 | E13: 4 | F13: 5 | G13: 6 | I13: 7 | J13: 8 | K13: 9 | M13: 10 | N13: 11 | O13: 12 | Q13: 13
A14: 0
A15: 1 | E15: 72 | I15: 301 | M15: 32 | Q15: 124
A16: 2 | E16: 67 | I16: 274 | M16: 31 | Q16: 123
A17: 3 | E17: 67 | I17: 261 | M17: 32 | Q17: 124
A18: 4 | E18: 67 | I18: 256 | M18: 31 | Q18: 121
A19: 5 | E19: 69 | I19: 254 | M19: 30 | Q19: 114
A20: 6 | E20: 67 | I20: 278 | M20: 28 | Q20: 116
A21: 7 | E21: 73 | I21: 354 | M21: 28 | Q21: 116
A22: 8 | E22: 76 | I22: 450 | M22: 27 | Q22: 123
A23: 9 | E23: 93 | I23: 466 | M23: 35 | Q23: 127
A24: 10 | E24: 94 | I24: 450 | M24: 35 | Q24: 140
A25: 11 | E25: 93 | I25: 442 | M25: 38 | Q25: 140
A26: 12 | E26: 94 | I26: 427 | M26: 34 | Q26: 136
... A38: 24 | E38: 69 | I38: 347 | M38: 30 | Q38: 129
A39: Итого | E39: =SUM(E15:E38) -> 2049 | I39: =SUM(I15:I38) -> 9772 | M39: =SUM(M15:M38) -> 772 | Q39: =SUM(Q15:Q38) -> 3115
A40: 1. При наличии на предприятии отклонений от нормальных режимов электропотребления (временное изменение схем питания, остановка на ремонт, резкое снижение
A41: эл.потребления и т.д.) последние необходимо перечислить.
A42: Главный инженер АО "Вологдаоблэнерго" А.В. Чурляев
A43: составляется самим предприятием с соблюдением всех пунктов настоящей таблицы.

Sheet 43
B1: АО "Вологдаоблэнерго" | J1: код 900151 | N1: ГПП 2 ЗАО ВПЗ
B2: наименование предприятия | N2: наименование источника питания
N3: _________________________________
B4: ул. Горького, 99 | I4: Таблица № 1 | N4: ПКУ | O4: ВЛ 10 кВ № 8
B5: адрес
A6: почасовых записей показаний электрических счетчиков
A7: в режимный день 15 ДЕКАБРЯ 2021 г.
A8: 618
A9: часы суток | B9: Активная энергия | J9: Реактивная энергия
B10: ЯЧ. 53 - ВЛ № 8 | J10: ЯЧ. 53 - ВЛ № 8
B11: Расчет. Коэф. | E11: 3000 | F11: Расчет. Коэф. | I11: 0 | J11: Расчет. Коэф. | M11: =E11 -> 3000 | N11: Расчет. Коэф. | Q11: =I11 -> 0
B12: показания счетчика | C12: разность | E12: расход эл.энергии за час | F12: показания счетчика | G12: разность | I12: расход эл.энергии за час | J12: показания счетчика | K12: разность | M12: расход эл.энергии за час | N12: показания счетчика | O12: разность | Q12: расход эл.энергии за час
A13: 1 | B13: 2 | C13: 3 | E13: 4 | F13: 5 | G13: 6 | I13: 7 | J13: 8 | K13: 9 | M13: 10 | N13: 11 | O13: 12 | Q13: 13
A14: 0
A15: 1 | E15: 415 | M15: 207
A16: 2 | E16: 408 | M16: 203
A17: 3 | E17: 404 | M17: 203
A18: 4 | E18: 409 | M18: 200
A19: 5 | E19: 399 | M19: 196
A20: 6 | E20: 393 | M20: 194
A21: 7 | E21: 412 | M21: 196
A22: 8 | E22: 518 | M22: 260
A23: 9 | E23: 903 | M23: 614
A24: 10 | E24: 857 | M24: 535
A25: 11 | E25: 822 | M25: 514
A26: 12 | E26: 1038 | M26: 703
... A38: 24 | E38: 498 | M38: 266
A39: Итого | E39: =SUM(E15:E38) -> 16564 | M39: =SUM(M15:M38) -> 10256
A40: 1. При наличии на предприятии отклонений от нормальных режимов электропотребления (временное изменение схем питания, остановка на ремонт, резкое снижение
A41: эл.потребления и т.д.) последние необходимо перечислить.
A42: Главный инженер АО "Вологдаоблэнерго" А.В. Чурляев
A43: составляется самим предприятием с соблюдением всех пунктов настоящей таблицы.

Sheet 44
B1: АО "Вологдаоблэнерго" | J1: код 900151 | N1: ГПП 2 220/10 кВ "ЗАО ВПЗ"
B2: наименование предприятия | N2: наименование источника питания
N3: _________________________________
B4: ул. Горького, 99 | I4: Таблица № 1 | O4: ТП 535; ТП 536
B5: адрес
A6: почасовых записей показаний электрических счетчиков
A7: в режимный день 15 ДЕКАБРЯ 2021 г.
A8: 616 | B8: 617
A9: часы суток | B9: Активная энергия | J9: Реактивная энергия
B10: ЯЧ. 6 - ТП 535 | F10: ЯЧ. 24 - ТП 536 | J10: ЯЧ. 6 - ТП 535 | N10: ЯЧ. 24 - ТП 536
B11: Расчет. Коэф. | E11: 6000 | F11: Расчет. Коэф. | I11: 6000 | J11: Расчет. Коэф. | M11: =E11 -> 6000 | N11: Расчет. Коэф. | Q11: =I11 -> 6000
B12: показания счетчика | C12: разность | E12: расход эл.энергии за час | F12: показания счетчика | G12: разность | I12: расход эл.энергии за час | J12: показания счетчика | K12: разность | M12: расход эл.энергии за час | N12: показания счетчика | O12: разность | Q12: расход эл.энергии за час
A13: 1 | B13: 2 | C13: 3 | E13: 4 | F13: 5 | G13: 6 | I13: 7 | J13: 8 | K13: 9 | M13: 10 | N13: 11 | O13: 12 | Q13: 13
A14: 0
A15: 1 | E15: 1011 | I15: 811 | M15: 190 | Q15: 101
A16: 2 | E16: 963 | I16: 738 | M16: 188 | Q16: 95
A17: 3 | E17: 929 | I17: 707 | M17: 182 | Q17: 89
A18: 4 | E18: 925 | I18: 703 | M18: 179 | Q18: 85
A19: 5 | E19: 1002 | I19: 740 | M19: 176 | Q19: 86
A20: 6 | E20: 1128 | I20: 807 | M20: 184 | Q20: 86
A21: 7 | E21: 1266 | I21: 1005 | M21: 206 | Q21: 104
A22: 8 | E22: 1514 | I22: 1179 | M22: 258 | Q22: 164
A23: 9 | E23: 1739 | I23: 1399 | M23: 315 | Q23: 253
A24: 10 | E24: 1738 | I24: 1517 | M24: 318 | Q24: 303
A25: 11 | E25: 1702 | I25: 1537 | M25: 321 | Q25: 288
A26: 12 | E26: 1660 | I26: 1526 | M26: 319 | Q26: 293
... A38: 24 | E38: 1126 | I38: 933 | M38: 217 | Q38: 114
A39: Итого | E39: =SUM(E15:E38) -> 35079 | I39: =SUM(I15:I38) -> 28527 | M39: =SUM(M15:M38) -> 6411 | Q39: =SUM(Q15:Q38) -> 4305
A40: 1. При наличии на предприятии отклонений от нормальных режимов электропотребления (временное изменение схем питания, остановка на ремонт, резкое снижение
A41: эл.потребления и т.д.) последние необходимо перечислить.
A42: Главный инженер АО "Вологдаоблэнерго" А.В. Чурляев
A43: составляется самим предприятием с соблюдением всех пунктов настоящей таблицы.

Sheet 45
B1: АО "Вологдаоблэнерго" | J1: код 900151 | N1: ГПП 1 110/10 кВ "ЗАО ВПЗ"
B2: наименование предприятия | N2: наименование источника питания
N3: _________________________________
B4: ул. Горького, 99 | I4: Таблица № 1 | O4: РП42
B5: адрес
A6: почасовых записей показаний электрических счетчиков
A7: в режимный день 15 ДЕКАБРЯ 2021 г.
A8: 606 | B8: 607
A9: часы суток | B9: Активная энергия | J9: Реактивная энергия
B10: ЯЧ. 10 - РП42 ф.1 | F10: ЯЧ. 34 - РП42 ф.6 | J10: ЯЧ. 10 - РП42 ф.1 | N10: ЯЧ. 34 - РП42 ф.6
B11: Расчет. Коэф. | E11: 8000 | F11: Расчет. Коэф. | I11: 8000 | J11: Расчет. Коэф. | M11: =E11 -> 8000 | N11: Расчет. Коэф. | Q11: =I11 -> 8000
B12: показания счетчика | C12: разность | E12: расход эл.энергии за час | F12: показания счетчика | G12: разность | I12: расход эл.энергии за час | J12: показания счетчика | K12: разность | M12: расход эл.энергии за час | N12: показания счетчика | O12: разность | Q12: расход эл.энергии за час
A13: 1 | B13: 2 | C13: 3 | E13: 4 | F13: 5 | G13: 6 | I13: 7 | J13: 8 | K13: 9 | M13: 10 | N13: 11 | O13: 12 | Q13: 13
A14: 0
A15: 1 | E15: 1344 | I15: 626 | M15: 116 | Q15: 54
A16: 2 | E16: 1236 | I16: 584 | M16: 109 | Q16: 50
A17: 3 | E17: 1183 | I17: 553 | M17: 110 | Q17: 44
A18: 4 | E18: 1145 | I18: 541 | M18: 102 | Q18: 42
A19: 5 | E19: 1136 | I19: 533 | M19: 97 | Q19: 40
A20: 6 | E20: 1366 | I20: 560 | M20: 118 | Q20: 44
A21: 7 | E21: 1646 | I21: 676 | M21: 130 | Q21: 63
A22: 8 | E22: 1817 | I22: 860 | M22: 139 | Q22: 88
A23: 9 | E23: 1962 | I23: 1048 | M23: 160 | Q23: 96
A24: 10 | E24: 2086 | I24: 1148 | M24: 148 | Q24: 91
A25: 11 | E25: 2175 | I25: 1214 | M25: 152 | Q25: 95
A26: 12 | E26: 2156 | I26: 1201 | M26: 142 | Q26: 99
... A38: 24 | E38: 1444 | I38: 709 | M38: 110 | Q38: 71
A39: Итого | E39: =SUM(E15:E38) -> 44182 | I39: =SUM(I15:I38) -> 22974 | M39: =SUM(M15:M38) -> 3216 | Q39: =SUM(Q15:Q38) -> 1958
A40: 1. При наличии на предприятии отклонений от нормальных режимов электропотребления (временное изменение схем питания, остановка на ремонт, резкое снижение
A41: эл.потребления и т.д.) последние необходимо перечислить.
A42: Главный инженер АО "Вологдаоблэнерго" А.В. Чурляев
A43: составляется самим предприятием с соблюдением всех пунктов настоящей таблицы.

Sheet 45_1
B1: АО "Вологдаоблэнерго" | J1: код 900151 | N1: ПС "Молочное" 35/10 кВ
B2: наименование предприятия | N2: наименование источника питания
O3: ф. Красная Звезда
B4: ул. Горького, 99 | I4: Таблица № 1
B5: адрес
A6: почасовых записей показаний электрических счетчиков
A7: в режимный день 15 ДЕКАБРЯ 2021 г.
A8: 943
A9: часы суток | B9: Активная энергия | J9: Реактивная энергия
B10: ф. Красная Звезда - КТП-297 | J10: ф. Красная Звезда - КТП-297
B11: Расчет. Коэф. | F11: Расчет. Коэф. | J11: Расчет. Коэф. | N11: Расчет. Коэф.
B12: показания счетчика | C12: разность | E12: расход эл.энергии за час | F12: показания счетчика | G12: разность | I12: расход эл.энергии за час | J12: показания счетчика | K12: разность | M12: расход эл.энергии за час | N12: показания счетчика | O12: разность | Q12: расход эл.энергии за час
A13: 1 | B13: 2 | C13: 3 | E13: 4 | F13: 5 | G13: 6 | I13: 7 | J13: 8 | K13: 9 | M13: 10 | N13: 11 | O13: 12 | Q13: 13
A14: 0
A15: 1
A16: 2
A17: 3
A18: 4
A19: 5
A20: 6
A21: 7
A22: 8
A23: 9
A24: 10
A25: 11
... A38: 24
A39: Итого | E39: =SUM(E15:E38) -> 0 | M39: =SUM(M15:M38) -> 0
A40: 1. При наличии на предприятии отклонений от нормальных режимов электропотребления (временное изменение схем питания, остановка на ремонт, резкое снижение
A41: эл.потребления и т.д.) последние необходимо перечислить.
A42: Главный инженер АО "Вологдаоблэнерго" А.В. Чурляев
A43: составляется самим предприятием с соблюдением всех пунктов настоящей таблицы.

Sheet свод.табл.г.Вологда
G1: код 900151
B2: Таблица № 3
A4: сводных данных режимного дня 15 ДЕКАБРЯ 2021 г..
A6: о потреблении электрической энергии по АО "Вологдаоблэнерго"
A8: г. ВОЛОГДА
A10: часы суток | B10: Активная энергия | E10: Реактивная энергия
B11: Суммарный расход эл.энергии по всем вводам | C11: Суммарный расход эл.энергии всеми сторонними потребителями | D11: Расход эл.энергии предприятием (2-3) | E11: Суммарный расход эл.энергии по всем вводам | F11: Суммарный расход эл.энергии всеми сторонними потребителями | G11: Расход эл.энергии предприятием (5-6)
A12: 1 | B12: 2 | C12: 3 | D12: 4 | E12: 5 | F12: 6 | G12: 7
A13: 1 | B13: =SUM('1а:45_1'!E15,'1а:45_1'!I15) -> 70643.344 | D13: =B13 -> 70643.344 | E13: =SUM('1а:45_1'!M15,'1а:45_1'!Q15) -> 13402.84 | G13: =E13 -> 13402.84
A14: 2 | B14: =SUM('1а:45_1'!E16,'1а:45_1'!I16) -> 66463.536 | D14: =B14 -> 66463.536 | E14: =SUM('1а:45_1'!M16,'1а:45_1'!Q16) -> 12843.03 | G14: =E14 -> 12843.03
A15: 3 | B15: =SUM('1а:45_1'!E17,'1а:45_1'!I17) -> 64795.31 | D15: =B15 -> 64795.31 | E15: =SUM('1а:45_1'!M17,'1а:45_1'!Q17) -> 12959.66 | G15: =E15 -> 12959.66
A16: 4 | B16: =SUM('1а:45_1'!E18,'1а:45_1'!I18) -> 63826.696 | D16: =B16 -> 63826.696 | E16: =SUM('1а:45_1'!M18,'1а:45_1'!Q18) -> 12507.02 | G16: =E16 -> 12507.02
A17: 5 | B17: =SUM('1а:45_1'!E19,'1а:45_1'!I19) -> 64721.036 | D17: =B17 -> 64721.036 | E17: =SUM('1а:45_1'!M19,'1а:45_1'!Q19) -> 12188.67 | G17: =E17 -> 12188.67
A18: 6 | B18: =SUM('1а:45_1'!E20,'1а:45_1'!I20) -> 70364.84 | D18: =B18 -> 70364.84 | E18: =SUM('1а:45_1'!M20,'1а:45_1'!Q20) -> 12335.53 | G18: =E18 -> 12335.53
A19: 7 | B19: =SUM('1а:45_1'!E21,'1а:45_1'!I21) -> 82161.212 | D19: =B19 -> 82161.212 | E19: =SUM('1а:45_1'!M21,'1а:45_1'!Q21) -> 12866.28 | G19: =E19 -> 12866.28
A20: 8 | B20: =SUM('1а:45_1'!E22,'1а:45_1'!I22) -> 95012.824 | D20: =B20 -> 95012.824 | E20: =SUM('1а:45_1'!M22,'1а:45_1'!Q22) -> 15254.08 | G20: =E20 -> 15254.08
A21: 9 | B21: =SUM('1а:45_1'!E23,'1а:45_1'!I23) -> 109193.66 | D21: =B21 -> 109193.66 | E21: =SUM('1а:45_1'!M23,'1а:45_1'!Q23) -> 18717.72 | G21: =E21 -> 18717.72
A22: 10 | B22: =SUM('1а:45_1'!E24,'1а:45_1'!I24) -> 114713.33 | D22: =B22 -> 114713.33 | E22: =SUM('1а:45_1'!M24,'1а:45_1'!Q24) -> 19241.56 | G22: =E22 -> 19241.56
A23: 11 | B23: =SUM('1а:45_1'!E25,'1а:45_1'!I25) -> 117618.51 | D23: =B23 -> 117618.51 | E23: =SUM('1а:45_1'!M25,'1а:45_1'!Q25) -> 18991.18 | G23: =E23 -> 18991.18
A24: 12 | B24: =SUM('1а:45_1'!E26,'1а:45_1'!I26) -> 116840.21 | D24: =B24 -> 116840.21 | E24: =SUM('1а:45_1'!M26,'1а:45_1'!Q26) -> 19369.94 | G24: =E24 -> 19369.94
... A36: 24 | B36: =SUM('1а:45_1'!E38,'1а:45_1'!I38) -> 78447.59 | D36: =B36 -> 78447.59 | E36: =SUM('1а:45_1'!M38,'1а:45_1'!Q38) -> 14112.74 | G36: =E36 -> 14112.74
A37: Итого
A41: И.о.главного инженера АО "Вологдаоблэнерго" О.В.Уткин
A42: Главный инженер АО "Вологдаоблэнерго" А.В. Чурляев
D48: =MAX(D13:D37) -> 118804.91 | G48: =MAX(G13:G37) -> 19369.94

Sheet 46
B1: АО "Вологдаоблэнерго" | J1: код 900151 | N1: РТП "Кубенское"
B2: наименование предприятия | N2: наименование источника питания
B3: уч-к "Кубенское" | N3: _________________________________
B4: ул. Горького, 99 | I4: Таблица № 1 | O4: СПТУ, ПКУ
B5: адрес
A6: почасовых записей показаний электрических счетчиков
A7: в режимный день 15 ДЕКАБРЯ 2021 г.
A8: 1640 | B8: 411
A9: часы суток | B9: Активная энергия | J9: Реактивная энергия
B10: ф.8 - СПТУ | F10: ф.9 - ПКУ | J10: ф.8 - СПТУ | N10: ф.9 - ПКУ
B11: Расчет. Коэф. | E11: 3000 | F11: Расчет. Коэф. | I11: 1500 | J11: Расчет. Коэф. | M11: 3000 | N11: Расчет. Коэф. | Q11: 1500
B12: показания счетчика | C12: разность | E12: расход эл.энергии за час | F12: показания счетчика | G12: разность | I12: расход эл.энергии за час | J12: показания счетчика | K12: разность | M12: расход эл.энергии за час | N12: показания счетчика | O12: разность | Q12: расход эл.энергии за час
A13: 1 | B13: 2 | C13: 3 | E13: 4 | F13: 5 | G13: 6 | I13: 7 | J13: 8 | K13: 9 | M13: 10 | N13: 11 | O13: 12 | Q13: 13
A14: 0
A15: 1 | E15: 246 | I15: 302.7 | M15: 127 | Q15: 138.6
A16: 2 | E16: 235 | I16: 295.8 | M16: 125 | Q16: 139.2
A17: 3 | E17: 229 | I17: 292.8 | M17: 123 | Q17: 140.4
A18: 4 | E18: 225 | I18: 274.05 | M18: 119 | Q18: 131.7
A19: 5 | E19: 236 | I19: 261.15 | M19: 120 | Q19: 119.85
A20: 6 | E20: 272 | I20: 274.05 | M20: 123 | Q20: 121.2
A21: 7 | E21: 332 | I21: 308.7 | M21: 116 | Q21: 121.8
A22: 8 | E22: 394 | I22: 318.45 | M22: 116 | Q22: 120.75
A23: 9 | E23: 421 | I23: 381 | M23: 112 | Q23: 151.2
A24: 10 | E24: 438 | I24: 452.85 | M24: 119 | Q24: 186.45
A25: 11 | E25: 421 | I25: 409.5 | M25: 114 | Q25: 180
A26: 12 | E26: 415 | I26: 395.85 | M26: 111 | Q26: 178.2
... A38: 24 | E38: 275 | I38: 289.95 | M38: 118 | Q38: 113.85
A39: Итого | E39: =SUM(E15:E38) -> 8173 | I39: =SUM(I15:I38) -> 8448.3 | M39: =SUM(M15:M38) -> 2863 | Q39: =SUM(Q15:Q38) -> 3621.3
A40: 1. При наличии на предприятии отклонений от нормальных режимов электропотребления (временное изменение схем питания, остановка на ремонт, резкое снижение
A41: эл.потребления и т.д.) последние необходимо перечислить.
A42: Главный инженер АО "Вологдаоблэнерго" А.В. Чурляев
A43: составляется самим предприятием с соблюдением всех пунктов настоящей таблицы.

Sheet 47
B1: АО "Вологдаоблэнерго" | J1: код 900151 | N1: ПС "Молочное" 35/10 кВ
B2: наименование предприятия | N2: наименование источника питания
B3: уч-к п. Молочное | N3: _________________________________
B4: ул. Горького, 99 | I4: Таблица № 1
B5: адрес
A6: почасовых записей показаний электрических счетчиков
A7: в режимный деннь 17 ИЮНЯ 2020 г.
A8: 1450 | B8: 1449
A9: часы суток | B9: Активная энергия | J9: Реактивная энергия
B10: яч.17 - ф.Молочное-1 | F10: яч.12 - ф.Молочное-2 | J10: яч.17 - ф.Молочное-1 | N10: яч.12 - ф.Молочное-2
B11: Расчет. Коэф. | E11: 3000 | F11: Расчет. Коэф. | I11: 3000 | J11: Расчет. Коэф. | M11: 3000 | N11: Расчет. Коэф. | Q11: 3000
B12: показания счетчика | C12: разность | E12: расход эл.энергии за час | F12: показания счетчика | G12: разность | I12: расход эл.энергии за час | J12: показания счетчика | K12: разность | M12: расход эл.энергии за час | N12: показания счетчика | O12: разность | Q12: расход эл.энергии за час
A13: 1 | B13: 2 | C13: 3 | E13: 4 | F13: 5 | G13: 6 | I13: 7 | J13: 8 | K13: 9 | M13: 10 | N13: 11 | O13: 12 | Q13: 13
A14: 0
A15: 1 | E15: 694 | I15: 88 | M15: 192 | Q15: 44
A16: 2 | E16: 631 | I16: 86 | M16: 173 | Q16: 43
A17: 3 | E17: 608 | I17: 107 | M17: 170 | Q17: 31
A18: 4 | E18: 614 | I18: 114 | M18: 163 | Q18: 47
A19: 5 | E19: 654 | I19: 80 | M19: 174 | Q19: 39
A20: 6 | E20: 710 | I20: 84 | M20: 174 | Q20: 41
A21: 7 | E21: 876 | I21: 104 | M21: 184 | Q21: 28
A22: 8 | E22: 1054 | I22: 80 | M22: 207 | Q22: 16
A23: 9 | E23: 1138 | I23: 67 | M23: 229 | Q23: 11
A24: 10 | E24: 1185 | I24: 71 | M24: 235 | Q24: 12
A25: 11 | E25: 1175 | I25: 67 | M25: 244 | Q25: 5
A26: 12 | E26: 1156 | I26: 67 | M26: 237 | Q26: 6
... A38: 24 | E38: 790 | I38: 108 | M38: 192 | Q38: 59
A39: Итого | E39: =SUM(E15:E38) -> 23527 | I39: =SUM(I15:I38) -> 2101 | M39: =SUM(M15:M38) -> 5056 | Q39: =SUM(Q15:Q38) -> 640
A40: 1. При наличии на предприятии отклонений от нормальных режимов электропотребления (временное изменение схем питания, остановка на ремонт, резкое снижение
A41: эл.потребления и т.д.) последние необходимо перечислить.
A42: Главный инженер АО "Вологдаоблэнерго" А.В. Чурляев
A43: составляется самим предприятием с соблюдением всех пунктов настоящей таблицы.

Sheet 48
B1: АО "Вологдаоблэнерго" | J1: код 900151 | N1: ПС "Молочное" 35/10 кВ
B2: наименование предприятия | N2: наименование источника питания
B3: уч-к п. Молочное | N3: _________________________________
B4: ул. Горького, 99 | I4: Таблица № 1
B5: адрес
A6: почасовых записей показаний электрических счетчиков
A7: в режимный день 15 ДЕКАБРЯ 2021 г.
A8: 1451 | B8: 1448
A9: часы суток | B9: Активная энергия | J9: Реактивная энергия
B10: яч 18 - ф.Молочное-3 | F10: яч 10. - ф.Очистные | J10: яч. 18 - ф.Молочное-3 | N10: яч 10 - ф.Очистные
B11: Расчет. Коэф. | E11: 3000 | F11: Расчет. Коэф. | I11: 2000 | J11: Расчет. Коэф. | M11: 3000 | N11: Расчет. Коэф. | Q11: 2000
B12: показания счетчика | C12: разность | E12: расход эл.энергии за час | F12: показания счетчика | G12: разность | I12: расход эл.энергии за час | J12: показания счетчика | K12: разность | M12: расход эл.энергии за час | N12: показания счетчика | O12: разность | Q12: расход эл.энергии за час
A13: 1 | B13: 2 | C13: 3 | E13: 4 | F13: 5 | G13: 6 | I13: 7 | J13: 8 | K13: 9 | M13: 10 | N13: 11 | O13: 12 | Q13: 13
A14: 0
A15: 1 | E15: 392 | I15: 263 | M15: 78 | Q15: 62
A16: 2 | E16: 383 | I16: 262 | M16: 80 | Q16: 62
A17: 3 | E17: 369 | I17: 249 | M17: 79 | Q17: 56
A18: 4 | E18: 370 | I18: 258 | M18: 79 | Q18: 60
A19: 5 | E19: 364 | I19: 261 | M19: 76 | Q19: 54
A20: 6 | E20: 396 | I20: 279 | M20: 77 | Q20: 59
A21: 7 | E21: 427 | I21: 294 | M21: 76 | Q21: 54
A22: 8 | E22: 482 | I22: 309 | M22: 84 | Q22: 62
A23: 9 | E23: 610 | I23: 350 | M23: 123 | Q23: 89
A24: 10 | E24: 606 | I24: 379 | M24: 124 | Q24: 95
A25: 11 | E25: 622 | I25: 328 | M25: 128 | Q25: 76
A26: 12 | E26: 589 | I26: 303 | M26: 128 | Q26: 67
... A38: 24 | E38: 415 | I38: 269 | M38: 79 | Q38: 64
A39: Итого | E39: =SUM(E15:E38) -> 12034 | I39: =SUM(I15:I38) -> 7138 | M39: =SUM(M15:M38) -> 2368 | Q39: =SUM(Q15:Q38) -> 1626
A40: 1. При наличии на предприятии отклонений от нормальных режимов электропотребления (временное изменение схем питания, остановка на ремонт, резкое снижение
A41: эл.потребления и т.д.) последние необходимо перечислить.
A42: Главный инженер АО "Вологдаоблэнерго" А.В. Чурляев
A43: составляется самим предприятием с соблюдением всех пунктов настоящей таблицы.

Sheet 48_1
B1: АО "Вологдаоблэнерго" | J1: код 900151 | N1: ПС "Молочное" 35/10 кВ
B2: наименование предприятия | N2: наименование источника питания
B3: уч-к п. Молочное | N3: _________________ф. Ивлево, ф. Майский ________________
B4: ул. Горького, 99 | I4: Таблица № 1
B5: адрес
A6: почасовых записей показаний электрических счетчиков
A7: в режимный день 15 ДЕКАБРЯ 2021 г.
A8: 624 | B8: 633
A9: часы суток | B9: Активная энергия | J9: Реактивная энергия
B10: ф. Ивлево, ф. Майский - ТП28 Т1 | F10: ф. Ивлево, ф. Майский - ТП28 Т2 | J10: ф. Ивлево, ф. Майский - ТП28 Т1 | N10: ф. Ивлево, ф. Майский - ТП28 Т2
B11: Расчет. Коэф. | E11: 120 | F11: Расчет. Коэф. | I11: 120 | J11: Расчет. Коэф. | M11: 120 | N11: Расчет. Коэф. | Q11: 120
B12: показания счетчика | C12: разность | E12: расход эл.энергии за час | F12: показания счетчика | G12: разность | I12: расход эл.энергии за час | J12: показания счетчика | K12: разность | M12: расход эл.энергии за час | N12: показания счетчика | O12: разность | Q12: расход эл.энергии за час
A13: 1 | B13: 2 | C13: 3 | E13: 4 | F13: 5 | G13: 6 | I13: 7 | J13: 8 | K13: 9 | M13: 10 | N13: 11 | O13: 12 | Q13: 13
A14: 0
A15: 1 | E15: 101.28 | I15: 0 | M15: 0 | Q15: 0
A16: 2 | E16: 93.6 | I16: 0 | M16: 0 | Q16: 0
A17: 3 | E17: 91.14 | I17: 0 | M17: 0 | Q17: 0
A18: 4 | E18: 88.44 | I18: 0 | M18: 0 | Q18: 0
A19: 5 | E19: 87 | I19: 0 | M19: 0 | Q19: 0
A20: 6 | E20: 94.92 | I20: 0 | M20: 0 | Q20: 0
A21: 7 | E21: 104.7 | I21: 0 | M21: 0 | Q21: 0
A22: 8 | E22: 116.76 | I22: 0 | M22: 0 | Q22: 0
A23: 9 | E23: 111.18 | I23: 0 | M23: 0 | Q23: 0
A24: 10 | E24: 111.9 | I24: 0 | M24: 0 | Q24: 0
A25: 11 | E25: 107.7 | I25: 0 | M25: 0 | Q25: 0
A26: 12 | E26: 105.84 | I26: 0 | M26: 0 | Q26: 0
... A38: 24 | E38: 113.04 | I38: 0 | M38: 0 | Q38: 0
A39: Итого | E39: =SUM(E15:E38) -> 2771.04 | I39: =SUM(I15:I38) -> 0 | M39: =SUM(M15:M38) -> 0 | Q39: =SUM(Q15:Q38) -> 0
A40: 1. При наличии на предприятии отклонений от нормальных режимов электропотребления (временное изменение схем питания, остановка на ремонт, резкое снижение
A41: эл.потребления и т.д.) последние необходимо перечислить.
A42: Главный инженер АО "Вологдаоблэнерго" А.В. Чурляев
A43: составляется самим предприятием с соблюдением всех пунктов настоящей таблицы.

Sheet 48_2
B1: АО "Вологдаоблэнерго" | J1: код 900151 | N1: ПС "Молочное" 35/10 кВ
B2: наименование предприятия | N2: наименование источника питания
B3: уч-к п. Молочное | N3: ____________ф. Ивлево, ф. Майский _____________________
B4: ул. Горького, 99 | I4: Таблица № 1
B5: адрес
A6: почасовых записей показаний электрических счетчиков
A7: в режимный день 15 ДЕКАБРЯ 2021 г.
A8: 621
A9: часы суток | B9: Активная энергия | J9: Реактивная энергия
B10: ф. Ивлево, ф. Майский - ТП27 Т1 | J10: ф. Ивлево, ф. Майский - ТП27 Т1
B11: Расчет. Коэф. | F11: Расчет. Коэф. | J11: Расчет. Коэф. | N11: Расчет. Коэф.
B12: показания счетчика | C12: разность | E12: расход эл.энергии за час | F12: показания счетчика | G12: разность | I12: расход эл.энергии за час | J12: показания счетчика | K12: разность | M12: расход эл.энергии за час | N12: показания счетчика | O12: разность | Q12: расход эл.энергии за час
A13: 1 | B13: 2 | C13: 3 | E13: 4 | F13: 5 | G13: 6 | I13: 7 | J13: 8 | K13: 9 | M13: 10 | N13: 11 | O13: 12 | Q13: 13
A14: 0
A15: 1 | E15: 65.7 | M15: 0
A16: 2 | E16: 63.54 | M16: 0
A17: 3 | E17: 58.5 | M17: 0
A18: 4 | E18: 58.92 | M18: 0
A19: 5 | E19: 58.68 | M19: 0
A20: 6 | E20: 61.08 | M20: 0
A21: 7 | E21: 66.9 | M21: 0
A22: 8 | E22: 76.68 | M22: 0
A23: 9 | E23: 81.24 | M23: 0
A24: 10 | E24: 81.06 | M24: 0
A25: 11 | E25: 81 | M25: 0
A26: 12 | E26: 85.62 | M26: 0
... A38: 24 | E38: 79.32 | M38: 0
A39: Итого | E39: =SUM(E15:E38) -> 1910.28 | M39: =SUM(M15:M38) -> 0
A40: 1. При наличии на предприятии отклонений от нормальных режимов электропотребления (временное изменение схем питания, остановка на ремонт, резкое снижение
A41: эл.потребления и т.д.) последние необходимо перечислить.
A42: Главный инженер АО "Вологдаоблэнерго" А.В. Чурляев
A43: составляется самим предприятием с соблюдением всех пунктов настоящей таблицы.

Sheet 49
B1: АО "Вологдаоблэнерго" | J1: код 900151 | N1: РТП "КОРНИЛОВО" 35/10 кВ
B2: наименование предприятия | N2: наименование источника питания
B3: уч-к "Устье-Кубенское" | N3: _________________________________
B4: ул. Горького, 99 | I4: Таблица № 1
B5: адрес
A6: почасовых записей показаний электрических счетчиков
A7: в режимный день 15 ДЕКАБРЯ 2021 г.
A8: 1639
A9: часы суток | B9: Активная энергия | J9: Реактивная энергия
B10: ф. "КОММУНАЛЬНЫЙ" | J10: ф. "КОММУНАЛЬНЫЙ"
B11: Расчет. Коэф. | E11: 2000 | F11: Расчет. Коэф. | I11: 0 | J11: Расчет. Коэф. | M11: 2000 | N11: Расчет. Коэф. | Q11: 0
B12: показания счетчика | C12: разность | E12: расход эл.энергии за час | F12: показания счетчика | G12: разность | I12: расход эл.энергии за час | J12: показания счетчика | K12: разность | M12: расход эл.энергии за час | N12: показания счетчика | O12: разность | Q12: расход эл.энергии за час
A13: 1 | B13: 2 | C13: 3 | E13: 4 | F13: 5 | G13: 6 | I13: 7 | J13: 8 | K13: 9 | M13: 10 | N13: 11 | O13: 12 | Q13: 13
A14: 0
A15: 1 | E15: 355 | M15: 144
A16: 2 | E16: 340 | M16: 143
A17: 3 | E17: 342 | M17: 142
A18: 4 | E18: 339 | M18: 143
A19: 5 | E19: 336 | M19: 139
A20: 6 | E20: 356 | M20: 139
A21: 7 | E21: 389 | M21: 138
A22: 8 | E22: 431 | M22: 140
A23: 9 | E23: 504 | M23: 169
A24: 10 | E24: 534 | M24: 197
A25: 11 | E25: 493 | M25: 167
A26: 12 | E26: 549 | M26: 216
... A38: 24 | E38: 384 | M38: 155
A39: Итого | E39: =SUM(E15:E38) -> 10803 | M39: =SUM(M15:M38) -> 3874
A42: Главный инженер АО "Вологдаоблэнерго" А.В. Чурляев

Sheet 50
B1: АО "Вологдаоблэнерго" | J1: код 900151 | N1: РТП "КОРНИЛОВО" 35/10 кВ
B2: наименование предприятия | N2: наименование источника питания
B3: уч-к "Устье-Кубенское" | N3: _________________________________
B4: ул. Горького, 99 | I4: Таблица № 1
B5: адрес
A6: почасовых записей показаний электрических счетчиков
A7: в режимный день 15 ДЕКАБРЯ 2021 г.
A8: 393 | B8: 392
A9: часы суток | B9: Активная энергия | J9: Реактивная энергия
B10: ф. "УСТЬЕ" | F10: ф. "СХТ" | J10: ф. "УСТЬЕ" | N10: ф. "СХТ"
B11: Расчет. Коэф. | E11: 3000 | F11: Расчет. Коэф. | I11: 2000 | J11: Расчет. Коэф. | M11: =E11 -> 3000 | N11: Расчет. Коэф. | Q11: 2000
B12: показания счетчика | C12: разность | E12: расход эл.энергии за час | F12: показания счетчика | G12: разность | I12: расход эл.энергии за час | J12: показания счетчика | K12: разность | M12: расход эл.энергии за час | N12: показания счетчика | O12: разность | Q12: расход эл.энергии за час
A13: 1 | B13: 2 | C13: 3 | E13: 4 | F13: 5 | G13: 6 | I13: 7 | J13: 8 | K13: 9 | M13: 10 | N13: 11 | O13: 12 | Q13: 13
A14: 0
A15: 1 | E15: 389.4 | I15: 191.8 | M15: 172.2 | Q15: 89
A16: 2 | E16: 384 | I16: 179.8 | M16: 168.9 | Q16: 86.6
A17: 3 | E17: 379.2 | I17: 176.8 | M17: 168.3 | Q17: 86.2
A18: 4 | E18: 381.6 | I18: 178.8 | M18: 166.8 | Q18: 86.4
A19: 5 | E19: 403.2 | I19: 177.4 | M19: 163.5 | Q19: 86
A20: 6 | E20: 464.4 | I20: 183.2 | M20: 166.2 | Q20: 85.2
A21: 7 | E21: 490.2 | I21: 231.6 | M21: 174.9 | Q21: 84.8
A22: 8 | E22: 522.6 | I22: 273.2 | M22: 180.6 | Q22: 85
A23: 9 | E23: 617.1 | I23: 248.8 | M23: 201.3 | Q23: 76.8
A24: 10 | E24: 664.2 | I24: 246.8 | M24: 214.5 | Q24: 71
A25: 11 | E25: 657.3 | I25: 234.4 | M25: 214.8 | Q25: 69.8
A26: 12 | E26: 673.5 | I26: 230 | M26: 238.8 | Q26: 70.4
... A38: 24 | E38: 400.8 | I38: 205.8 | M38: 167.1 | Q38: 88.4
A39: Итого | E39: =SUM(E15:E38) -> 12400.5 | I39: =SUM(I15:I38) -> 5611.2 | M39: =SUM(M15:M38) -> 4468.8 | Q39: =SUM(Q15:Q38) -> 1977.6
A40: 1. При наличии на предприятии отклонений от нормальных режимов электропотребления (временное изменение схем питания, остановка на ремонт, резкое снижение
A41: эл.потребления и т.д.) последние необходимо перечислить.
A42: Главный инженер АО "Вологдаоблэнерго" А.В. Чурляев
A43: составляется самим предприятием с соблюдением всех пунктов настоящей таблицы.

Sheet 50-1
B1: АО "Вологдаоблэнерго" | J1: код 900151 | N1: РТП "КОРНИЛОВО" 35/10 кВ
B2: наименование предприятия | N2: наименование источника питания
B3: уч-к "Устье-Кубенское" | N3: _________________________________
B4: ул. Горького, 99 | I4: Таблица № 1
B5: адрес
A6: почасовых записей показаний электрических счетчиков
A7: в режимный день 15 ДЕКАБРЯ 2021 г.
A8: 389 | B8: 388
A9: часы суток | B9: Активная энергия | J9: Реактивная энергия
B10: ф.7 - КТП-21 | F10: ф.7 - КТП-16 | J10: ф.7 - КТП-21 | N10: ф.7 - КТП-16
B11: Расчет. Коэф. | E11: 30 | F11: Расчет. Коэф. | I11: 40 | J11: Расчет. Коэф. | M11: =E11 -> 30 | N11: Расчет. Коэф. | Q11: 40
B12: показания счетчика | C12: разность | E12: расход эл.энергии за час | F12: показания счетчика | G12: разность | I12: расход эл.энергии за час | J12: показания счетчика | K12: разность | M12: расход эл.энергии за час | N12: показания счетчика | O12: разность | Q12: расход эл.энергии за час
A13: 1 | B13: 2 | C13: 3 | E13: 4 | F13: 5 | G13: 6 | I13: 7 | J13: 8 | K13: 9 | M13: 10 | N13: 11 | O13: 12 | Q13: 13
A14: 0
A15: 1 | E15: 30.525 | I15: 8.26 | M15: 8.205 | Q15: 3.12
A16: 2 | E16: 30.87 | I16: 8.58 | M16: 8.715 | Q16: 2.84
A17: 3 | E17: 29.16 | I17: 9.12 | M17: 8.4 | Q17: 3.04
A18: 4 | E18: 27.93 | I18: 9 | M18: 8.355 | Q18: 2.98
A19: 5 | E19: 30.195 | I19: 7.3 | M19: 8.94 | Q19: 2.68
A20: 6 | E20: 30.345 | I20: 8.44 | M20: 8.16 | Q20: 3.12
A21: 7 | E21: 33.855 | I21: 8.34 | M21: 7.815 | Q21: 3.02
A22: 8 | E22: 42.99 | I22: 8.84 | M22: 9.06 | Q22: 2.96
A23: 9 | E23: 39.615 | I23: 10.3 | M23: 8.235 | Q23: 2.84
A24: 10 | E24: 42.345 | I24: 9.56 | M24: 9.705 | Q24: 3.48
A25: 11 | E25: 36.705 | I25: 8.36 | M25: 9.03 | Q25: 3.7
A26: 12 | E26: 35.745 | I26: 10.02 | M26: 9.405 | Q26: 3.76
... A38: 24 | E38: 35.925 | I38: 7.14 | M38: 9.015 | Q38: 3.28
A39: Итого | E39: =SUM(E15:E38) -> 877.44 | I39: =SUM(I15:I38) -> 213.26 | M39: =SUM(M15:M38) -> 218.4 | Q39: =SUM(Q15:Q38) -> 76.04
A40: 1. При наличии на предприятии отклонений от нормальных режимов электропотребления (временное изменение схем питания, остановка на ремонт, резкое снижение
A41: эл.потребления и т.д.) последние необходимо перечислить.
A42: Главный инженер АО "Вологдаоблэнерго" А.В. Чурляев
A43: составляется самим предприятием с соблюдением всех пунктов настоящей таблицы.

Sheet 50-2
B1: АО "Вологдаоблэнерго" | J1: код 900151 | N1: РТП "КОРНИЛОВО" 35/10 кВ
B2: наименование предприятия | N2: наименование источника питания
B3: уч-к "Устье-Кубенское" | N3: _________________________________
B4: ул. Горького, 99 | I4: Таблица № 1
B5: адрес
A6: почасовых записей показаний электрических счетчиков
A7: в режимный день 15 ДЕКАБРЯ 2021 г.
A8: 390 | B8: 391
A9: часы суток | B9: Активная энергия | J9: Реактивная энергия
B10: ф.7 - КТП-4 | F10: ф.14 - ТП-24 | J10: ф.7 - КТП-4 | N10: ф.14 - ТП-24
B11: Расчет. Коэф. | E11: 60 | F11: Расчет. Коэф. | I11: 40 | J11: Расчет. Коэф. | M11: =E11 -> 60 | N11: Расчет. Коэф. | Q11: 40
B12: показания счетчика | C12: разность | E12: расход эл.энергии за час | F12: показания счетчика | G12: разность | I12: расход эл.энергии за час | J12: показания счетчика | K12: разность | M12: расход эл.энергии за час | N12: показания счетчика | O12: разность | Q12: расход эл.энергии за час
A13: 1 | B13: 2 | C13: 3 | E13: 4 | F13: 5 | G13: 6 | I13: 7 | J13: 8 | K13: 9 | M13: 10 | N13: 11 | O13: 12 | Q13: 13
A14: 0
A15: 1 | E15: 28.884 | I15: 42.352 | M15: 0 | Q15: 0
A16: 2 | E16: 28.584 | I16: 40.792 | M16: 0 | Q16: 0
A17: 3 | E17: 27.216 | I17: 40.928 | M17: 0 | Q17: 0
A18: 4 | E18: 28.02 | I18: 34.024 | M18: 0 | Q18: 0
A19: 5 | E19: 28.5 | I19: 32.568 | M19: 0 | Q19: 0
A20: 6 | E20: 31.26 | I20: 33.152 | M20: 0 | Q20: 0
A21: 7 | E21: 32.736 | I21: 33.608 | M21: 0 | Q21: 0
A22: 8 | E22: 33.852 | I22: 36.6 | M22: 0 | Q22: 0
A23: 9 | E23: 32.364 | I23: 39.2 | M23: 0 | Q23: 0
A24: 10 | E24: 28.308 | I24: 41.144 | M24: 0 | Q24: 0
A25: 11 | E25: 25.56 | I25: 39.6 | M25: 0 | Q25: 0
A26: 12 | E26: 28.956 | I26: 35.912 | M26: 0 | Q26: 0
... A38: 24 | E38: 29.652 | I38: 43.088 | M38: 0 | Q38: 0
A39: Итого | E39: =SUM(E15:E38) -> 766.704 | I39: =SUM(I15:I38) -> 965.984 | M39: =SUM(M15:M38) -> 0 | Q39: =SUM(Q15:Q38) -> 0
A40: 1. При наличии на предприятии отклонений от нормальных режимов электропотребления (временное изменение схем питания, остановка на ремонт, резкое снижение
A41: эл.потребления и т.д.) последние необходимо перечислить.
A42: Главный инженер АО "Вологдаоблэнерго" А.В. Чурляев
A43: составляется самим предприятием с соблюдением всех пунктов настоящей таблицы.

Sheet 50-3
B1: АО "Вологдаоблэнерго" | J1: код 900151 | N1: РТП "КОРНИЛОВО" 35/10 кВ
B2: наименование предприятия | N2: наименование источника питания
B3: уч-к "Устье-Кубенское" | N3: _________________________________
B4: ул. Горького, 99 | I4: Таблица № 1
B5: адрес
A6: почасовых записей показаний электрических счетчиков
A7: в режимный день 15 ДЕКАБРЯ 2021 г.
A8: 816 | B8: 907
A9: часы суток | B9: Активная энергия | J9: Реактивная энергия
B10: ф.1 - КТП-36 | F10: ф.7 - КТП25 | J10: ф.1 - КТП-36 | N10: ф.7 - ТП-25
B11: Расчет. Коэф. | E11: 60 | F11: Расчет. Коэф. | I11: 40 | J11: Расчет. Коэф. | M11: =E11 -> 60 | N11: Расчет. Коэф. | Q11: 40
B12: показания счетчика | C12: разность | E12: расход эл.энергии за час | F12: показания счетчика | G12: разность | I12: расход эл.энергии за час | J12: показания счетчика | K12: разность | M12: расход эл.энергии за час | N12: показания счетчика | O12: разность | Q12: расход эл.энергии за час
A13: 1 | B13: 2 | C13: 3 | E13: 4 | F13: 5 | G13: 6 | I13: 7 | J13: 8 | K13: 9 | M13: 10 | N13: 11 | O13: 12 | Q13: 13
A14: 0
A15: 1 | I15: 14.64 | Q15: 0
A16: 2 | I16: 15.368 | Q16: 0
A17: 3 | I17: 16.752 | Q17: 0
A18: 4 | I18: 16.032 | Q18: 0
A19: 5 | I19: 14.328 | Q19: 0
A20: 6 | I20: 14.816 | Q20: 0
A21: 7 | I21: 16.448 | Q21: 0
A22: 8 | I22: 18.976 | Q22: 0
A23: 9 | I23: 17.632 | Q23: 0
A24: 10 | I24: 15.376 | Q24: 0
A25: 11 | I25: 15.28 | Q25: 0
A26: 12 | I26: 15.176 | Q26: 0
... A38: 24 | I38: 14.232 | Q38: 0
A39: Итого | E39: =SUM(E15:E38) -> 0 | I39: =SUM(I15:I38) -> 385.904 | M39: =SUM(M15:M38) -> 0 | Q39: =SUM(Q15:Q38) -> 0
A40: 1. При наличии на предприятии отклонений от нормальных режимов электропотребления (временное изменение схем питания, остановка на ремонт, резкое снижение
A41: эл.потребления и т.д.) последние необходимо перечислить.
A42: Главный инженер АО "Вологдаоблэнерго" А.В. Чурляев
A43: составляется самим предприятием с соблюдением всех пунктов настоящей таблицы.

Sheet 51
B1: АО "Вологдаоблэнерго" | J1: код 900151 | N1: ПС "ШУЙСКОЕ" 35/ 10 кВ
B2: наименование предприятия | N2: наименование источника питания
B3: уч-к "Шуйское" | N3: _________________________________
B4: ул. Горького, 99 | I4: Таблица № 1
B5: адрес
A6: почасовых записей показаний электрических счетчиков
A7: в режимный день 15 ДЕКАБРЯ 2021 г.
A8: 1643
A9: часы суток | B9: Активная энергия | J9: Реактивная энергия
B10: яч.№ 16 - ф. "Биокомплекс" | J10: яч.№ 16 - ф. "Биокомплекс"
B11: Расчет. Коэф. | E11: 1000 | F11: Расчет. Коэф. | I11: 10 | J11: Расчет. Коэф. | M11: =E11 -> 1000 | N11: Расчет. Коэф. | Q11: 10
B12: показания счетчика | C12: разность | E12: расход эл.энергии за час | F12: показания счетчика | G12: разность | I12: расход эл.энергии за час | J12: показания счетчика | K12: разность | M12: расход эл.энергии за час | N12: показания счетчика | O12: разность | Q12: расход эл.энергии за час
A13: 1 | B13: 2 | C13: 3 | E13: 4 | F13: 5 | G13: 6 | I13: 7 | J13: 8 | K13: 9 | M13: 10 | N13: 11 | O13: 12 | Q13: 13
A14: 0
A15: 1 | E15: 2 | M15: 2
A16: 2 | E16: 3 | M16: 2
A17: 3 | E17: 2 | M17: 3
A18: 4 | E18: 3 | M18: 2
A19: 5 | E19: 2 | M19: 2
A20: 6 | E20: 2 | M20: 3
A21: 7 | E21: 3 | M21: 2
A22: 8 | E22: 2 | M22: 2
A23: 9 | E23: 2 | M23: 2
A24: 10 | E24: 2 | M24: 2
A25: 11 | E25: 2 | M25: 2
A26: 12 | E26: 2 | M26: 2
... A38: 24 | E38: 2 | M38: 3
A39: Итого | E39: =SUM(E15:E38) -> 52 | I39: =SUM(I15:I38) -> 0 | M39: =SUM(M15:M38) -> 51
A40: 1. При наличии на предприятии отклонений от нормальных режимов электропотребления (временное изменение схем питания, остановка на ремонт, резкое снижение
A41: эл.потребления и т.д.) последние необходимо перечислить.
A42: Главный инженер АО "Вологдаоблэнерго" А.В. Чурляев
A43: составляется самим предприятием с соблюдением всех пунктов настоящей таблицы.

Sheet 52
B1: АО "Вологдаоблэнерго" | J1: код 900151 | N1: ПС "ШУЙСКОЕ" 35/ 10 кВ
B2: наименование предприятия | N2: наименование источника питания
B3: уч-к "Шуйское" | N3: _________________________________
B4: ул. Горького, 99 | I4: Таблица № 1
B5: адрес
A6: почасовых записей показаний электрических счетчиков
A7: в режимный день 15 ДЕКАБРЯ 2021 г.
A8: 1641 | B8: 1642
A9: часы суток | B9: Активная энергия | J9: Реактивная энергия
B10: яч. №7 - ф."Райцентр" | F10: яч. 14 - ф. "Школа" | J10: яч. №7 - ф."Райцентр" | N10: =F10 -> яч. 14 - ф. "Школа"
B11: Расчет. Коэф. | E11: 1500 | F11: Расчет. Коэф. | I11: 2000 | J11: Расчет. Коэф. | M11: =E11 -> 1500 | N11: Расчет. Коэф. | Q11: 2000
B12: показания счетчика | C12: разность | E12: расход эл.энергии за час | F12: показания счетчика | G12: разность | I12: расход эл.энергии за час | J12: показания счетчика | K12: разность | M12: расход эл.энергии за час | N12: показания счетчика | O12: разность | Q12: расход эл.энергии за час
A13: 1 | B13: 2 | C13: 3 | E13: 4 | F13: 5 | G13: 6 | I13: 7 | J13: 8 | K13: 9 | M13: 10 | N13: 11 | O13: 12 | Q13: 13
A14: 0
A15: 1 | E15: 198 | I15: 278 | M15: 71 | Q15: 104
A16: 2 | E16: 178 | I16: 262 | M16: 68 | Q16: 102
A17: 3 | E17: 177 | I17: 266 | M17: 65 | Q17: 105
A18: 4 | E18: 178 | I18: 275 | M18: 63 | Q18: 103
A19: 5 | E19: 185 | I19: 275 | M19: 62 | Q19: 101
A20: 6 | E20: 198 | I20: 295 | M20: 63 | Q20: 104
A21: 7 | E21: 232 | I21: 369 | M21: 62 | Q21: 104
A22: 8 | E22: 277 | I22: 437 | M22: 62 | Q22: 108
A23: 9 | E23: 285 | I23: 496 | M23: 65 | Q23: 112
A24: 10 | E24: 265 | I24: 469 | M24: 71 | Q24: 95
A25: 11 | E25: 258 | I25: 461 | M25: 69 | Q25: 95
A26: 12 | E26: 262 | I26: 456 | M26: 73 | Q26: 98
... A38: 24 | E38: 214 | I38: 301 | M38: 71 | Q38: 105
A39: Итого | E39: =SUM(E15:E38) -> 5885 | I39: =SUM(I15:I38) -> 9293 | M39: =SUM(M15:M38) -> 1601 | Q39: =SUM(Q15:Q38) -> 2471
A40: 1. При наличии на предприятии отклонений от нормальных режимов электропотребления (временное изменение схем питания, остановка на ремонт, резкое снижение
A41: эл.потребления и т.д.) последние необходимо перечислить.
A42: Главный инженер АО "Вологдаоблэнерго" А.В. Чурляев
A43: составляется самим предприятием с соблюдением всех пунктов настоящей таблицы.

Sheet 54
B1: АО "Вологдаоблэнерго" | J1: код 900151 | N1: ПС "ГДЗ" 110/6 кВ
B2: наименование предприятия | N2: наименование источника питания
B3: уч -к г. Сокол | N3: _________________________________
B4: ул. Горького, 99 | I4: Таблица № 1 | O4: РТП 6
B5: адрес
A6: почасовых записей показаний электрических счетчиков
A7: в режимный день 15 ДЕКАБРЯ 2021 г.
A8: 358 | B8: 360
A9: часы суток | B9: Активная энергия | J9: Реактивная энергия
B10: яч. 7 - ГДЗ-1 -РТП 6 | F10: яч. 18 - ГДЗ-2 - РТП 6 | J10: яч. 7 - ГДЗ-1 -РТП 6 | N10: яч. 18 - ГДЗ-2 - РТП 6
B11: Расчет. Коэф. | E11: 4800 | F11: Расчет. Коэф. | I11: 4800 | J11: Расчет. Коэф. | M11: 4800 | N11: Расчет. Коэф. | Q11: =I11 -> 4800
B12: показания счетчика | C12: разность | E12: расход эл.энергии за час | F12: показания счетчика | G12: разность | I12: расход эл.энергии за час | J12: показания счетчика | K12: разность | M12: расход эл.энергии за час | N12: показания счетчика | O12: разность | Q12: расход эл.энергии за час
A13: 1 | B13: 2 | C13: 3 | E13: 4 | F13: 5 | G13: 6 | I13: 7 | J13: 8 | K13: 9 | M13: 10 | N13: 11 | O13: 12 | Q13: 13
A14: 0
A15: 1 | E15: 564.96 | I15: 301.44 | M15: 211.68 | Q15: 54.24
A16: 2 | E16: 543.36 | I16: 285.12 | M16: 217.44 | Q16: 54.24
A17: 3 | E17: 526.56 | I17: 269.76 | M17: 209.76 | Q17: 50.88
A18: 4 | E18: 528.96 | I18: 275.04 | M18: 210.72 | Q18: 48.96
A19: 5 | E19: 573.12 | I19: 273.6 | M19: 211.68 | Q19: 48.48
A20: 6 | E20: 654.24 | I20: 279.84 | M20: 218.4 | Q20: 50.88
A21: 7 | E21: 684 | I21: 330.24 | M21: 217.92 | Q21: 54.24
A22: 8 | E22: 734.4 | I22: 381.6 | M22: 228.48 | Q22: 60
A23: 9 | E23: 1008.96 | I23: 407.04 | M23: 396.96 | Q23: 68.64
A24: 10 | E24: 1019.04 | I24: 387.84 | M24: 450.72 | Q24: 63.36
A25: 11 | E25: 1034.4 | I25: 393.6 | M25: 429.12 | Q25: 66.24
A26: 12 | E26: 1045.92 | I26: 387.84 | M26: 442.08 | Q26: 65.28
... A38: 24 | E38: 588.96 | I38: 322.56 | M38: 229.92 | Q38: 53.28
A39: Итого | E39: =SUM(E15:E38) -> 19309.92 | I39: =SUM(I15:I38) -> 8941.92 | M39: =SUM(M15:M38) -> 7250.88 | Q39: =SUM(Q15:Q38) -> 1406.88
A40: 1. При наличии на предприятии отклонений от нормальных режимов электропотребления (временное изменение схем питания, остановка на ремонт, резкое снижение
A41: эл.потребления и т.д.) последние необходимо перечислить.
A42: Главный инженер АО "Вологдаоблэнерго" А.В. Чурляев
A43: составляется самим предприятием с соблюдением всех пунктов настоящей таблицы.

Sheet 55
B1: АО "Вологдаоблэнерго" | J1: код 900151 | N1: ПС "ГДЗ" 110/6 кВ
B2: наименование предприятия | N2: наименование источника питания
B3: уч -к г. Сокол | N3: _________________________________
B4: ул. Горького, 99 | I4: Таблица № 1 | O4: ЛПК-1
B5: адрес
A6: почасовых записей показаний электрических счетчиков
A7: в режимный день 15 ДЕКАБРЯ 2021 г.
A8: 359
A9: часы суток | B9: Активная энергия | J9: Реактивная энергия
B10: яч. 15 - ГДЗ - ЛПК-1 | J10: яч. 15 - ГДЗ - ЛПК-1
B11: Расчет. Коэф. | E11: 7200 | F11: Расчет. Коэф. | J11: Расчет. Коэф. | M11: =E11 -> 7200 | N11: Расчет. Коэф.
B12: показания счетчика | C12: разность | E12: расход эл.энергии за час | F12: показания счетчика | G12: разность | I12: расход эл.энергии за час | J12: показания счетчика | K12: разность | M12: расход эл.энергии за час | N12: показания счетчика | O12: разность | Q12: расход эл.энергии за час
A13: 1 | B13: 2 | C13: 3 | E13: 4 | F13: 5 | G13: 6 | I13: 7 | J13: 8 | K13: 9 | M13: 10 | N13: 11 | O13: 12 | Q13: 13
A14: 0
A15: 1 | E15: 531.36 | M15: 144
A16: 2 | E16: 519.12 | M16: 158.4
A17: 3 | E17: 512.64 | M17: 152.64
A18: 4 | E18: 514.08 | M18: 148.32
A19: 5 | E19: 519.84 | M19: 149.04
A20: 6 | E20: 550.08 | M20: 135.36
A21: 7 | E21: 613.44 | M21: 132.48
A22: 8 | E22: 634.32 | M22: 126.72
A23: 9 | E23: 740.88 | M23: 187.92
A24: 10 | E24: 785.52 | M24: 205.2
A25: 11 | E25: 817.2 | M25: 198.72
A26: 12 | E26: 812.16 | M26: 202.32
... A38: 24 | E38: 542.16 | M38: 144.72
A39: Итого | E39: =SUM(E15:E38) -> 15966 | M39: =SUM(M15:M38) -> 3780
A40: 1. При наличии на предприятии отклонений от нормальных режимов электропотребления (временное изменение схем питания, остановка на ремонт, резкое снижение
A41: эл.потребления и т.д.) последние необходимо перечислить.
A42: Главный инженер АО "Вологдаоблэнерго" А.В. Чурляев
A43: составляется самим предприятием с соблюдением всех пунктов настоящей таблицы.

Sheet 56
B1: АО "Вологдаоблэнерго" | J1: код 900151 | M1: ОАО "Сокольский" ЦБК" ГПП 35/6 кВ
B2: наименование предприятия | M2: наименование источника питания
B3: уч -к г. Сокол | N3: _________________________________
B4: ул. Горького, 99 | I4: Таблица № 1 | O4: РП 5
B5: адрес
A6: почасовых записей показаний электрических счетчиков
A7: в режимный день 15 ДЕКАБРЯ 2021 г.
A8: 400 | B8: 397
A9: часы суток | B9: Активная энергия | J9: Реактивная энергия
B10: яч.4 - РП 5 яч.1 | F10: яч. 6 - ТП-40 | J10: яч.4 - РП 5 яч.1 | N10: яч. 6 - ТП-40
B11: Расчет. Коэф. | E11: 2400 | F11: Расчет. Коэф. | I11: 7200 | J11: Расчет. Коэф. | M11: =E11 -> 2400 | N11: Расчет. Коэф. | Q11: =I11 -> 7200
B12: показания счетчика | C12: разность | E12: расход эл.энергии за час | F12: показания счетчика | G12: разность | I12: расход эл.энергии за час | J12: показания счетчика | K12: разность | M12: расход эл.энергии за час | N12: показания счетчика | O12: разность | Q12: расход эл.энергии за час
A13: 1 | B13: 2 | C13: 3 | E13: 4 | F13: 5 | G13: 6 | I13: 7 | J13: 8 | K13: 9 | M13: 10 | N13: 11 | O13: 12 | Q13: 13
A14: 0
A15: 1 | E15: 159.84 | I15: 499.68 | M15: 32.88 | Q15: 199.44
A16: 2 | E16: 159.6 | I16: 458.64 | M16: 39.84 | Q16: 182.16
A17: 3 | E17: 145.68 | I17: 450.72 | M17: 31.44 | Q17: 198
A18: 4 | E18: 141.6 | I18: 449.28 | M18: 31.2 | Q18: 180
A19: 5 | E19: 140.16 | I19: 468.72 | M19: 28.32 | Q19: 185.04
A20: 6 | E20: 151.44 | I20: 507.6 | M20: 29.52 | Q20: 184.32
A21: 7 | E21: 211.2 | I21: 594 | M21: 38.64 | Q21: 187.2
A22: 8 | E22: 226.8 | I22: 702 | M22: 34.32 | Q22: 207.36
A23: 9 | E23: 257.76 | I23: 976.32 | M23: 55.2 | Q23: 392.4
A24: 10 | E24: 237.36 | I24: 1035.36 | M24: 40.8 | Q24: 388.8
A25: 11 | E25: 256.32 | I25: 1031.04 | M25: 68.64 | Q25: 369.36
A26: 12 | E26: 261.6 | I26: 1023.84 | M26: 69.12 | Q26: 405.36
... A38: 24 | E38: 184.32 | I38: 530.64 | M38: 42.24 | Q38: 187.92
A39: Итого | E39: =SUM(E15:E38) -> 5459.76 | I39: =SUM(I15:I38) -> 18359.28 | M39: =SUM(M15:M38) -> 1060.8 | Q39: =SUM(Q15:Q38) -> 6207.84
A40: 1. При наличии на предприятии отклонений от нормальных режимов электропотребления (временное изменение схем питания, остановка на ремонт, резкое снижение
A41: эл.потребления и т.д.) последние необходимо перечислить.
A42: Главный инженер АО "Вологдаоблэнерго" А.В. Чурляев
A43: составляется самим предприятием с соблюдением всех пунктов настоящей таблицы.

Sheet 57
B1: АО "Вологдаоблэнерго" | J1: код 900151 | M1: ОАО "Сокольский" ЦБК" ГПП 35/6 кВ
B2: наименование предприятия | M2: наименование источника питания
B3: уч -к г. Сокол | N3: _________________________________
B4: ул. Горького, 99 | I4: Таблица № 1
B5: адрес
A6: почасовых записей показаний электрических счетчиков
A7: в режимный день 15 ДЕКАБРЯ 2021 г.
A8: 398 | B8: 399
A9: часы суток | B9: Активная энергия | J9: Реактивная энергия
B10: яч.2 - РТП 2 яч. 15 | F10: яч. 3 - РТП 2 яч. 2 | J10: яч.2 - РТП 2 яч. 15 | N10: яч. 3 - РТП 2 яч. 2
B11: Расчет. Коэф. | E11: 7200 | F11: Расчет. Коэф. | I11: =Q11 -> 7200 | J11: Расчет. Коэф. | M11: =E11 -> 7200 | N11: Расчет. Коэф. | Q11: 7200
B12: показания счетчика | C12: разность | E12: расход эл.энергии за час | F12: показания счетчика | G12: разность | I12: расход эл.энергии за час | J12: показания счетчика | K12: разность | M12: расход эл.энергии за час | N12: показания счетчика | O12: разность | Q12: расход эл.энергии за час
B13: 2 | C13: 3 | E13: 4 | F13: 5 | G13: 6 | I13: 7 | J13: 8 | K13: 9 | M13: 10 | N13: 11 | O13: 12 | Q13: 13
A14: 0
A15: 1 | E15: 1030.32 | I15: 665.28 | M15: 465.12 | Q15: 146.16
A16: 2 | E16: 976.32 | I16: 631.44 | M16: 447.84 | Q16: 141.12
A17: 3 | E17: 966.24 | I17: 611.28 | M17: 443.52 | Q17: 145.44
A18: 4 | E18: 958.32 | I18: 594.72 | M18: 441.36 | Q18: 139.68
A19: 5 | E19: 991.44 | I19: 603.36 | M19: 439.2 | Q19: 136.08
A20: 6 | E20: 1060.56 | I20: 626.4 | M20: 442.08 | Q20: 137.52
A21: 7 | E21: 1146.96 | I21: 707.04 | M21: 435.6 | Q21: 137.52
A22: 8 | E22: 1262.16 | I22: 794.88 | M22: 449.28 | Q22: 134.64
A23: 9 | E23: 1409.04 | I23: 990 | M23: 462.96 | Q23: 154.08
A24: 10 | E24: 1453.68 | I24: 1105.2 | M24: 447.84 | Q24: 172.08
A25: 11 | E25: 1496.88 | I25: 1149.84 | M25: 456.48 | Q25: 179.28
A26: 12 | E26: 1466.64 | I26: 1123.2 | M26: 455.76 | Q26: 174.96
... A38: 24 | E38: 1091.52 | I38: 725.76 | M38: 458.64 | Q38: 147.6
A39: Итого | E39: =SUM(E15:E38) -> 30246.48 | I39: =SUM(I15:I38) -> 21808.08 | M39: =SUM(M15:M38) -> 10745.28 | Q39: =SUM(Q15:Q38) -> 3668.4
A40: 1. При наличии на предприятии отклонений от нормальных режимов электропотребления (временное изменение схем питания, остановка на ремонт, резкое снижение
A41: эл.потребления и т.д.) последние необходимо перечислить.
A42: Главный инженер АО "Вологдаоблэнерго" А.В. Чурляев
A43: составляется самим предприятием с соблюдением всех пунктов настоящей таблицы.

Sheet 58
B1: АО "Вологдаоблэнерго" | J1: код 900151 | M1: ПС "Сокол" 220/110/35/10 кВ
B2: наименование предприятия | M2: наименование источника питания
B3: уч -к г. Сокол | O3: КТП-90, КТП-91
B4: ул. Горького, 99 | I4: Таблица № 1
B5: адрес
A6: почасовых записей показаний электрических счетчиков
A7: в режимный день 15 ДЕКАБРЯ 2021 г.
A8: 396 | B8: 395
A9: часы суток | B9: Активная энергия | J9: Реактивная энергия
B10: ф. 4 (Обросово) - КТП-90 (дачн. общ.) | F10: ф. 4 (Обросово) - КТП-91 (д. Бережок) | J10: =B10 -> ф. 4 (Обросово) - КТП-90 (дачн. общ.) | N10: =F10 -> ф. 4 (Обросово) - КТП-91 (д. Бережок)
B11: Расчет. Коэф. | E11: 1800 | F11: Расчет. Коэф. | I11: =Q11 -> 900 | J11: Расчет. Коэф. | M11: =E11 -> 1800 | N11: Расчет. Коэф. | Q11: 900
B12: показания счетчика | C12: разность | E12: расход эл.энергии за час | F12: показания счетчика | G12: разность | I12: расход эл.энергии за час | J12: показания счетчика | K12: разность | M12: расход эл.энергии за час | N12: показания счетчика | O12: разность | Q12: расход эл.энергии за час
A13: 1 | B13: 2 | C13: 3 | E13: 4 | F13: 5 | G13: 6 | I13: 7 | J13: 8 | K13: 9 | M13: 10 | N13: 11 | O13: 12 | Q13: 13
A14: 0
A15: 1 | E15: 2.76 | I15: 9.5 | M15: 0 | Q15: 0.96
A16: 2 | E16: 2.72 | I16: 9.45 | M16: 0 | Q16: 1.04
A17: 3 | E17: 2.74 | I17: 8.37 | M17: 0 | Q17: 0.29
A18: 4 | E18: 2.7 | I18: 8.21 | M18: 0 | Q18: 0.24
A19: 5 | E19: 3.26 | I19: 8.18 | M19: 0 | Q19: 0.22
A20: 6 | E20: 3.04 | I20: 9.61 | M20: 0 | Q20: 1.07
A21: 7 | E21: 4.1 | I21: 9.74 | M21: 0 | Q21: 1.11
A22: 8 | E22: 3.9 | I22: 9.72 | M22: 0 | Q22: 1.02
A23: 9 | E23: 3.86 | I23: 10.26 | M23: 0 | Q23: 0.69
A24: 10 | E24: 3.9 | I24: 8.48 | M24: 0 | Q24: 0.2
A25: 11 | E25: 3.84 | I25: 6.68 | M25: 0 | Q25: 0.26
A26: 12 | E26: 3.92 | I26: 6.14 | M26: 0 | Q26: 0.19
... A38: 24 | E38: 2.72 | I38: 9.1 | M38: 0 | Q38: 0.98
A39: Итого | E39: =SUM(E15:E38) -> 85.84 | I39: =SUM(I15:I38) -> 196.48 | M39: =SUM(M15:M38) -> 0 | Q39: =SUM(Q15:Q38) -> 15.88
A40: 1. При наличии на предприятии отклонений от нормальных режимов электропотребления (временное изменение схем питания, остановка на ремонт, резкое снижение
A41: эл.потребления и т.д.) последние необходимо перечислить.
A42: Главный инженер АО "Вологдаоблэнерго" А.В. Чурляев
A43: составляется самим предприятием с соблюдением всех пунктов настоящей таблицы.

Sheet 59
B1: АО "Вологдаоблэнерго" | J1: код 900151 | K1: ООО "Сокольский ЦБК" ГПП 110/6 кВ
B2: наименование предприятия | N2: наименование источника питания
B3: уч -к г. Сокол | N3: _________________________________
B4: ул. Горького, 99 | I4: Таблица № 1 | N4: ТП 77
B5: адрес
A6: почасовых записей показаний электрических счетчиков
A7: в режимный день 15 ДЕКАБРЯ 2021 г.
A8: 487
A9: часы суток | B9: Активная энергия | J9: Реактивная энергия
B10: яч. 14 - ТП-77 (Михайлево) | J10: яч. 14 - ТП-77 (Михайлево)
B11: Расчет. Коэф. | E11: 2400 | F11: Расчет. Коэф. | I11: 0 | J11: Расчет. Коэф. | M11: 2400 | N11: Расчет. Коэф. | Q11: 0
B12: показания счетчика | C12: разность | E12: расход эл.энергии за час | F12: показания счетчика | G12: разность | I12: расход эл.энергии за час | J12: показания счетчика | K12: разность | M12: расход эл.энергии за час | N12: показания счетчика | O12: разность | Q12: расход эл.энергии за час
A13: 1 | B13: 2 | C13: 3 | E13: 4 | F13: 5 | G13: 6 | I13: 7 | J13: 8 | K13: 9 | M13: 10 | N13: 11 | O13: 12 | Q13: 13
A14: 0
A15: 1 | E15: 1.2 | M15: 2.82
A16: 2 | E16: 1.2 | M16: 2.82
A17: 3 | E17: 1.08 | M17: 2.7
A18: 4 | E18: 1.02 | M18: 2.58
A19: 5 | E19: 0.96 | M19: 2.46
A20: 6 | E20: 0.9 | M20: 2.52
A21: 7 | E21: 1.02 | M21: 2.34
A22: 8 | E22: 1.02 | M22: 2.22
A23: 9 | E23: 1.56 | M23: 1.98
A24: 10 | E24: 1.2 | M24: 1.98
A25: 11 | E25: 0.96 | M25: 2.1
A26: 12 | E26: 1.2 | M26: 2.16
... A38: 24 | E38: 2.28 | M38: 2.94
A39: Итого | E39: =SUM(E15:E38) -> 40.38 | M39: =SUM(M15:M38) -> 58.68
A40: 1. При наличии на предприятии отклонений от нормальных режимов электропотребления (временное изменение схем питания, остановка на ремонт, резкое снижение
A41: эл.потребления и т.д.) последние необходимо перечислить.
A42: Главный инженер АО "Вологдаоблэнерго" А.В. Чурляев
A43: составляется самим предприятием с соблюдением всех пунктов настоящей таблицы.

Sheet 60
B1: АО "Вологдаоблэнерго" | J1: код 900151 | K1: ООО "Сухонский КБК" ГПП 110/6 кВ
B2: наименование предприятия | N2: наименование источника питания
B3: уч -к г. Сокол | N3: _________________________________
B4: ул. Горького, 99 | I4: Таблица № 1 | O4: РУ-1
B5: адрес
A6: почасовых записей показаний электрических счетчиков
A7: в режимный день 15 ДЕКАБРЯ 2021 г.
A8: 1198 | B8: 1199
A9: часы суток | B9: Активная энергия | J9: Реактивная энергия
B10: РУ-1 яч 1 - ТП 3 | F10: РУ-1 яч 14 - ЛЭП 3 | J10: РУ-1 яч 1 - ТП 3 | N10: РУ-1 яч 14 - ЛЭП 3
B11: Расчет. Коэф. | E11: 4800 | F11: Расчет. Коэф. | I11: 2400 | J11: Расчет. Коэф. | M11: 4800 | N11: Расчет. Коэф. | Q11: 2400
B12: показания счетчика | C12: разность | E12: расход эл.энергии за час | F12: показания счетчика | G12: разность | I12: расход эл.энергии за час | J12: показания счетчика | K12: разность | M12: расход эл.энергии за час | N12: показания счетчика | O12: разность | Q12: расход эл.энергии за час
A13: 1 | B13: 2 | C13: 3 | E13: 4 | F13: 5 | G13: 6 | I13: 7 | J13: 8 | K13: 9 | M13: 10 | N13: 11 | O13: 12 | Q13: 13
A14: 0
A15: 1 | E15: 460.8 | I15: 252 | M15: 174.24 | Q15: 62.88
A16: 2 | E16: 432.96 | I16: 235.44 | M16: 184.32 | Q16: 62.4
A17: 3 | E17: 406.56 | I17: 208.32 | M17: 165.6 | Q17: 61.2
A18: 4 | E18: 407.04 | I18: 200.88 | M18: 167.04 | Q18: 58.32
A19: 5 | E19: 398.88 | I19: 248.4 | M19: 168.48 | Q19: 60.96
A20: 6 | E20: 235.2 | I20: 497.52 | M20: 89.76 | Q20: 228.24
A21: 7 | E21: 192.48 | I21: 679.2 | M21: 63.84 | Q21: 343.44
A22: 8 | E22: 220.8 | I22: 802.08 | M22: 61.44 | Q22: 357.84
A23: 9 | E23: 271.68 | I23: 1546.08 | M23: 65.28 | Q23: 930.24
A24: 10 | E24: 302.88 | I24: 1899.36 | M24: 64.32 | Q24: 1169.04
A25: 11 | E25: 300.48 | I25: 1602.48 | M25: 73.44 | Q25: 973.68
A26: 12 | E26: 303.36 | I26: 1713.12 | M26: 74.88 | Q26: 1090.32
... A38: 24 | E38: 181.44 | I38: 739.68 | M38: 66.24 | Q38: 572.64
A39: Итого | E39: =SUM(E15:E38) -> 7247.52 | I39: =SUM(I15:I38) -> 23544.48 | M39: =SUM(M15:M38) -> 2215.2 | Q39: =SUM(Q15:Q38) -> 14170.32
A40: 1. При наличии на предприятии отклонений от нормальных режимов электропотребления (временное изменение схем питания, остановка на ремонт, резкое снижение
A41: эл.потребления и т.д.) последние необходимо перечислить.
A42: Главный инженер АО "Вологдаоблэнерго" А.В. Чурляев
A43: составляется самим предприятием с соблюдением всех пунктов настоящей таблицы.

Sheet 61
B1: АО "Вологдаоблэнерго" | J1: код 900151 | K1: ООО "Сухонский ЦБК" ГПП 110/6 кВ
B2: наименование предприятия | N2: наименование источника питания
B3: уч -к г. Сокол | N3: _________________________________
B4: ул. Горького, 99 | I4: Таблица № 1
B5: адрес
A6: почасовых записей показаний электрических счетчиков
A7: в режимный день 15 ДЕКАБРЯ 2021 г.
A8: 1200 | B8: 1197
A9: часы суток | B9: Активная энергия | J9: Реактивная энергия
B10: РУ-3 яч 4 - ТП 7 | J10: РУ-3 яч 4 - ТП 7
B11: Расчет. Коэф. | E11: 2400 | F11: Расчет. Коэф. | J11: Расчет. Коэф. | M11: 2400 | N11: Расчет. Коэф.
B12: показания счетчика | C12: разность | E12: расход эл.энергии за час | F12: показания счетчика | G12: разность | I12: расход эл.энергии за час | J12: показания счетчика | K12: разность | M12: расход эл.энергии за час | N12: показания счетчика | O12: разность | Q12: расход эл.энергии за час
A13: 1 | B13: 2 | C13: 3 | E13: 4 | F13: 5 | G13: 6 | I13: 7 | J13: 8 | K13: 9 | M13: 10 | N13: 11 | O13: 12 | Q13: 13
A14: 0
A15: 1 | E15: 387.12 | M15: 175.68
A16: 2 | E16: 359.76 | M16: 152.4
A17: 3 | E17: 311.52 | M17: 97.2
A18: 4 | E18: 316.32 | M18: 117.12
A19: 5 | E19: 319.2 | M19: 97.68
A20: 6 | E20: 540 | M20: 163.68
A21: 7 | E21: 742.8 | M21: 199.68
A22: 8 | E22: 854.4 | M22: 206.64
A23: 9 | E23: 1073.52 | M23: 390.48
A24: 10 | E24: 1113.36 | M24: 435.6
A25: 11 | E25: 1108.56 | M25: 399.84
A26: 12 | E26: 1087.92 | M26: 398.16
... A38: 24 | E38: 745.92 | M38: 302.88
A39: Итого | E39: =SUM(E15:E38) -> 20411.52 | I39: =SUM(I15:I38) -> 0 | M39: =SUM(M15:M38) -> 7176.72 | Q39: =SUM(Q15:Q38) -> 0
A40: 1. При наличии на предприятии отклонений от нормальных режимов электропотребления (временное изменение схем питания, остановка на ремонт, резкое снижение
A41: эл.потребления и т.д.) последние необходимо перечислить.
A42: Главный инженер АО "Вологдаоблэнерго" А.В. Чурляев
A43: составляется самим предприятием с соблюдением всех пунктов настоящей таблицы.

Sheet 62
B1: АО "Вологдаоблэнерго" | J1: код 900151 | K1: ООО "Сухонский ЦБК" ГПП 110/6 кВ
B2: наименование предприятия | N2: наименование источника питания
B3: уч -к г. Сокол | N3: _________________________________
B4: ул. Горького, 99 | I4: Таблица № 1 | O4: РП-10
B5: адрес
A6: почасовых записей показаний электрических счетчиков
A7: в режимный день 15 ДЕКАБРЯ 2021 г.
A8: 1196
A9: часы суток | B9: Активная энергия | J9: Реактивная энергия
B10: ЗРУ яч. 2 - РП-10 яч.2 | F10: ЗРУ яч. 59 - РП-10 яч.15 | J10: ЗРУ яч. 2 - РП-10 яч.2 | N10: ЗРУ яч. 59 - РП-10 яч.15
B11: Расчет. Коэф. | E11: 2400 | F11: Расчет. Коэф. | I11: 3600 | J11: Расчет. Коэф. | M11: 2400 | N11: Расчет. Коэф. | Q11: 3600
B12: показания счетчика | C12: разность | E12: расход эл.энергии за час | F12: показания счетчика | G12: разность | I12: расход эл.энергии за час | J12: показания счетчика | K12: разность | M12: расход эл.энергии за час | N12: показания счетчика | O12: разность | Q12: расход эл.энергии за час
A13: 1 | B13: 2 | C13: 3 | E13: 4 | F13: 5 | G13: 6 | I13: 7 | J13: 8 | K13: 9 | M13: 10 | N13: 11 | O13: 12 | Q13: 13
A14: 0
A15: 1 | E15: 740.88 | I15: 338.4 | M15: 452.52 | Q15: 93.24
A16: 2 | E16: 706.32 | I16: 318.96 | M16: 437.04 | Q16: 93.96
A17: 3 | E17: 733.32 | I17: 318.6 | M17: 461.88 | Q17: 91.44
A18: 4 | E18: 707.4 | I18: 307.8 | M18: 432.72 | Q18: 90
A19: 5 | E19: 702.72 | I19: 316.44 | M19: 423.72 | Q19: 87.84
A20: 6 | E20: 501.48 | I20: 325.08 | M20: 255.96 | Q20: 91.44
A21: 7 | E21: 436.68 | I21: 384.84 | M21: 151.2 | Q21: 88.92
A22: 8 | E22: 458.64 | I22: 380.88 | M22: 150.84 | Q22: 82.44
A23: 9 | E23: 735.48 | I23: 433.08 | M23: 412.92 | Q23: 146.52
A24: 10 | E24: 716.04 | I24: 404.64 | M24: 423.72 | Q24: 137.52
A25: 11 | E25: 639.72 | I25: 376.2 | M25: 343.08 | Q25: 118.44
A26: 12 | E26: 707.04 | I26: 386.28 | M26: 374.4 | Q26: 138.24
... A38: 24 | E38: 475.92 | I38: 366.48 | M38: 219.96 | Q38: 108.72
A39: Итого | E39: =SUM(E15:E38) -> 15580.8 | I39: =SUM(I15:I38) -> 9332.64 | M39: =SUM(M15:M38) -> 8291.52 | Q39: =SUM(Q15:Q38) -> 2649.6
A40: 1. При наличии на предприятии отклонений от нормальных режимов электропотребления (временное изменение схем питания, остановка на ремонт, резкое снижение
A41: эл.потребления и т.д.) последние необходимо перечислить.
A42: Главный инженер АО "Вологдаоблэнерго" А.В. Чурляев
A43: составляется самим предприятием с соблюдением всех пунктов настоящей таблицы.

Sheet 63
B1: АО "Вологдаоблэнерго" | J1: код 900151 | K1: ООО "Сухонский ЦБК" ГПП 110/6 кВ
B2: наименование предприятия | N2: наименование источника питания
B3: уч -к г. Сокол | N3: РУ - 6 кВ "Механического завода"
B4: ул. Горького, 99 | I4: Таблица № 1
B5: адрес
A6: почасовых записей показаний электрических счетчиков
A7: в режимный день 15 ДЕКАБРЯ 2021 г.
A8: 1201 | B8: 1202
A9: часы суток | B9: Активная энергия | J9: Реактивная энергия
B10: яч 7 - ТП 1 | F10: яч. 4 - ТП 2 | J10: яч 7 - ТП 1 | N10: яч. 4 - ТП 2
B11: Расчет. Коэф. | E11: 600 | F11: Расчет. Коэф. | I11: 600 | J11: Расчет. Коэф. | M11: 600 | N11: Расчет. Коэф. | Q11: 600
B12: показания счетчика | C12: разность | E12: расход эл.энергии за час | F12: показания счетчика | G12: разность | I12: расход эл.энергии за час | J12: показания счетчика | K12: разность | M12: расход эл.энергии за час | N12: показания счетчика | O12: разность | Q12: расход эл.энергии за час
A13: 1 | B13: 2 | C13: 3 | E13: 4 | F13: 5 | G13: 6 | I13: 7 | J13: 8 | K13: 9 | M13: 10 | N13: 11 | O13: 12 | Q13: 13
A14: 0
A15: 1 | E15: 26.52 | I15: 27 | M15: 1.56 | Q15: 7.68
A16: 2 | E16: 24.3 | I16: 45.72 | M16: 1.92 | Q16: 6.78
A17: 3 | E17: 23.58 | I17: 41.58 | M17: 2.1 | Q17: 6.06
A18: 4 | E18: 21.66 | I18: 25.08 | M18: 1.38 | Q18: 6.54
A19: 5 | E19: 22.32 | I19: 31.5 | M19: 2.16 | Q19: 6.42
A20: 6 | E20: 24.6 | I20: 25.74 | M20: 1.44 | Q20: 6.06
A21: 7 | E21: 31.86 | I21: 23.76 | M21: 1.92 | Q21: 6.9
A22: 8 | E22: 35.16 | I22: 35.94 | M22: 1.62 | Q22: 7.8
A23: 9 | E23: 37.5 | I23: 44.82 | M23: 2.4 | Q23: 9.6
A24: 10 | E24: 35.04 | I24: 43.14 | M24: 2.94 | Q24: 8.7
A25: 11 | E25: 41.58 | I25: 51.9 | M25: 3.24 | Q25: 7.26
A26: 12 | E26: 42.36 | I26: 57.06 | M26: 4.08 | Q26: 11.58
... A38: 24 | E38: 31.08 | I38: 39.3 | M38: 1.98 | Q38: 7.5
A39: Итого | E39: =SUM(E15:E38) -> 867.42 | I39: =SUM(I15:I38) -> 904.92 | M39: =SUM(M15:M38) -> 57 | Q39: =SUM(Q15:Q38) -> 186.48
A40: 1. При наличии на предприятии отклонений от нормальных режимов электропотребления (временное изменение схем питания, остановка на ремонт, резкое снижение
A41: эл.потребления и т.д.) последние необходимо перечислить.
A42: Главный инженер АО "Вологдаоблэнерго" А.В. Чурляев
A43: составляется самим предприятием с соблюдением всех пунктов настоящей таблицы.

Sheet 64
B1: АО "Вологдаоблэнерго" | J1: код 900151 | K1: ПС "Белозерск" 110/10 кВ
B2: наименование предприятия | N2: наименование источника питания
B3: уч -к г. Белозерск
B4: ул. Горького, 99 | I4: Таблица № 1 | N4: РП 1
B5: адрес
A6: почасовых записей показаний электрических счетчиков
A7: в режимный день 15 ДЕКАБРЯ 2021 г.
A8: 737 | B8: 738
A9: часы суток | B9: Активная энергия | J9: Реактивная энергия
B10: яч. 2 - ВЛ-10кВ.ф Горсеть1 | F10: яч. 3 - ВЛ-10кВ.ф Горсеть2 | J10: =B10 -> яч. 2 - ВЛ-10кВ.ф Горсеть1 | N10: яч. 3 - ВЛ-10кВ.фид. Горсеть2
B11: Расчет. Коэф. | E11: 4000 | F11: Расчет. Коэф. | I11: 2000 | J11: Расчет. Коэф. | M11: =E11 -> 4000 | N11: Расчет. Коэф. | Q11: =I11 -> 2000
B12: показания счетчика | C12: разность | E12: расход эл.энергии за час | F12: показания счетчика | G12: разность | I12: расход эл.энергии за час | J12: показания счетчика | K12: разность | M12: расход эл.энергии за час | N12: показания счетчика | O12: разность | Q12: расход эл.энергии за час
A13: 1 | B13: 2 | C13: 3 | E13: 4 | F13: 5 | G13: 6 | I13: 7 | J13: 8 | K13: 9 | M13: 10 | N13: 11 | O13: 12 | Q13: 13
A14: 0
A15: 1 | E15: 1623 | I15: 999 | M15: 334 | Q15: 228
A16: 2 | E16: 1538 | I16: 974 | M16: 330 | Q16: 227
A17: 3 | E17: 1472 | I17: 941 | M17: 290 | Q17: 221
A18: 4 | E18: 1482 | I18: 944 | M18: 291 | Q18: 219
A19: 5 | E19: 1489 | I19: 957 | M19: 281 | Q19: 218
A20: 6 | E20: 1559 | I20: 995 | M20: 277 | Q20: 216
A21: 7 | E21: 1835 | I21: 1171 | M21: 286 | Q21: 213
A22: 8 | E22: 2044 | I22: 1324 | M22: 286 | Q22: 224
A23: 9 | E23: 2073 | I23: 1518 | M23: 280 | Q23: 335
A24: 10 | E24: 2059 | I24: 1558 | M24: 237 | Q24: 351
A25: 11 | E25: 1973 | I25: 1479 | M25: 235 | Q25: 329
A26: 12 | E26: 1996 | I26: 1447 | M26: 234 | Q26: 308
... A38: 24 | E38: 1709 | I38: 1046 | M38: 330 | Q38: 236
A39: Итого | E39: =SUM(E15:E38) -> 46469 | I39: =SUM(I15:I38) -> 30499 | M39: =SUM(M15:M38) -> 7113 | Q39: =SUM(Q15:Q38) -> 6725
A40: 1. При наличии на предприятии отклонений от нормальных режимов электропотребления (временное изменение схем питания, остановка на ремонт, резкое снижение
A41: эл.потребления и т.д.) последние необходимо перечислить.
A42: Главный инженер АО "Вологдаоблэнерго" А.В. Чурляев
A43: составляется самим предприятием с соблюдением всех пунктов настоящей таблицы.

Sheet 65
B1: АО "Вологдаоблэнерго" | J1: код 900151 | K1: ПС "Белозерск" 110/10 кВ
B2: наименование предприятия | N2: наименование источника питания
B3: уч -к г. Белозерск
B4: ул. Горького, 99 | I4: Таблица № 1
B5: адрес
A6: почасовых записей показаний электрических счетчиков
A7: в режимный день 15 ДЕКАБРЯ 2021 г.
A8: 739 | B8: 736
A9: часы суток | B9: Активная энергия | J9: Реактивная энергия
B10: яч. 4 - ВЛ-10кВ.ф Оптика | F10: яч. 1 - ф. Горсеть-3 | J10: яч. 4 - ВЛ-10кВ.ф Оптика | N10: яч. 1 - ф. Горсеть-3
B11: Расчет. Коэф. | E11: 4000 | F11: Расчет. Коэф. | J11: Расчет. Коэф. | M11: =E11 -> 4000 | N11: Расчет. Коэф.
B12: показания счетчика | C12: разность | E12: расход эл.энергии за час | F12: показания счетчика | G12: разность | I12: расход эл.энергии за час | J12: показания счетчика | K12: разность | M12: расход эл.энергии за час | N12: показания счетчика | O12: разность | Q12: расход эл.энергии за час
A13: 1 | B13: 2 | C13: 3 | E13: 4 | F13: 5 | G13: 6 | I13: 7 | J13: 8 | K13: 9 | M13: 10 | N13: 11 | O13: 12 | Q13: 13
A14: 0
A15: 1 | E15: 289 | I15: 229 | M15: 185 | Q15: 122
A16: 2 | E16: 269 | I16: 219 | M16: 181 | Q16: 122
A17: 3 | E17: 261 | I17: 217 | M17: 168 | Q17: 124
A18: 4 | E18: 262 | I18: 215 | M18: 169 | Q18: 122
A19: 5 | E19: 261 | I19: 216 | M19: 163 | Q19: 119
A20: 6 | E20: 296 | I20: 225 | M20: 161 | Q20: 119
A21: 7 | E21: 279 | I21: 248 | M21: 119 | Q21: 118
A22: 8 | E22: 301 | I22: 269 | M22: 113 | Q22: 114
A23: 9 | E23: 349 | I23: 249 | M23: 117 | Q23: 111
A24: 10 | E24: 364 | I24: 244 | M24: 127 | Q24: 106
A25: 11 | E25: 346 | I25: 227 | M25: 121 | Q25: 106
A26: 12 | E26: 334 | I26: 226 | M26: 118 | Q26: 108
... A38: 24 | E38: 310 | I38: 227 | M38: 177 | Q38: 117
A39: Итого | E39: =SUM(E15:E38) -> 7466 | I39: =SUM(I15:I38) -> 5795 | M39: =SUM(M15:M38) -> 3314 | Q39: =SUM(Q15:Q38) -> 2815
A40: 1. При наличии на предприятии отклонений от нормальных режимов электропотребления (временное изменение схем питания, остановка на ремонт, резкое снижение
A41: эл.потребления и т.д.) последние необходимо перечислить.
A42: Главный инженер АО "Вологдаоблэнерго" А.В. Чурляев
A43: составляется самим предприятием с соблюдением всех пунктов настоящей таблицы.

Sheet 66
B1: АО "Вологдаоблэнерго" | J1: код 900151 | K1: ПС "Белозерск" 110/10 кВ
B2: наименование предприятия | N2: наименование источника питания
B3: уч -к г. Белозерск
B4: ул. Горького, 99 | I4: Таблица № 1
B5: адрес
A6: почасовых записей показаний электрических счетчиков
A7: в режимный день 15 ДЕКАБРЯ 2021 г.
A8: 1192 | B8: 1193
A9: часы суток | B9: Активная энергия | J9: Реактивная энергия
B10: ВЛ-10кВ.фид. Аэропорт КТП-46 | F10: ВЛ-10кВ.фид. Аэропорт КТП-47 | J10: =B10 -> ВЛ-10кВ.фид. Аэропорт КТП-46 | N10: =F10 -> ВЛ-10кВ.фид. Аэропорт КТП-47
B11: Расчет. Коэф. | E11: 60 | F11: Расчет. Коэф. | I11: 60 | J11: Расчет. Коэф. | M11: =E11 -> 60 | N11: Расчет. Коэф. | Q11: =I11 -> 60
B12: показания счетчика | C12: разность | E12: расход эл.энергии за час | F12: показания счетчика | G12: разность | I12: расход эл.энергии за час | J12: показания счетчика | K12: разность | M12: расход эл.энергии за час | N12: показания счетчика | O12: разность | Q12: расход эл.энергии за час
A13: 1 | B13: 2 | C13: 3 | E13: 4 | F13: 5 | G13: 6 | I13: 7 | J13: 8 | K13: 9 | M13: 10 | N13: 11 | O13: 12 | Q13: 13
A14: 0
A15: 1 | I15: 75.87 | Q15: 2.52
A16: 2 | I16: 69.87 | Q16: 2.85
A17: 3 | I17: 69.9 | Q17: 2.73
A18: 4 | I18: 71.1 | Q18: 3.18
A19: 5 | I19: 68.91 | Q19: 2.55
A20: 6 | I20: 72.63 | Q20: 2.76
A21: 7 | I21: 77.91 | Q21: 2.88
A22: 8 | I22: 81.6 | Q22: 2.67
A23: 9 | I23: 73.53 | Q23: 2.01
A24: 10 | I24: 65.01 | Q24: 2.19
A25: 11 | I25: 54.12 | Q25: 3.15
A26: 12 | I26: 51.96 | Q26: 3.39
... A38: 24 | I38: 63.57 | Q38: 2.79
A39: Итого | E39: =SUM(E15:E38) -> 0 | I39: =SUM(I15:I38) -> 1599.06 | M39: =SUM(M15:M38) -> 0 | Q39: =SUM(Q15:Q38) -> 67.92
A40: 1. При наличии на предприятии отклонений от нормальных режимов электропотребления (временное изменение схем питания, остановка на ремонт, резкое снижение
A41: эл.потребления и т.д.) последние необходимо перечислить.
A42: Главный инженер АО "Вологдаоблэнерго" А.В. Чурляев
A43: составляется самим предприятием с соблюдением всех пунктов настоящей таблицы.

Sheet 66_1
B1: АО "Вологдаоблэнерго" | J1: код 900151 | K1: ПС "Вашки" 110/10 кВ
B2: наименование предприятия | N2: наименование источника питания
B3: уч -к г. Белозерск с. Липин Бор
B4: ул. Горького, 99 | I4: Таблица № 1
B5: адрес
A6: почасовых записей показаний электрических счетчиков
A7: в режимный день 15 ДЕКАБРЯ 2021 г.
A8: 1704 | B8: 1705
A9: часы суток | B9: Активная энергия | J9: Реактивная энергия
B10: яч. 1 - ВЛ-10кВ.фид. Липин Бор | F10: яч.2 - ВЛ-10кВ.фид. Коммунальный | J10: =B10 -> яч. 1 - ВЛ-10кВ.фид. Липин Бор | N10: =F10 -> яч.2 - ВЛ-10кВ.фид. Коммунальный
B11: Расчет. Коэф. | E11: 60 | F11: Расчет. Коэф. | I11: 60 | J11: Расчет. Коэф. | M11: =E11 -> 60 | N11: Расчет. Коэф. | Q11: =I11 -> 60
B12: показания счетчика | C12: разность | E12: расход эл.энергии за час | F12: показания счетчика | G12: разность | I12: расход эл.энергии за час | J12: показания счетчика | K12: разность | M12: расход эл.энергии за час | N12: показания счетчика | O12: разность | Q12: расход эл.энергии за час
A13: 1 | B13: 2 | C13: 3 | E13: 4 | F13: 5 | G13: 6 | I13: 7 | J13: 8 | K13: 9 | M13: 10 | N13: 11 | O13: 12 | Q13: 13
A14: 0
A15: 1 | E15: 262 | I15: 803 | M15: 81 | Q15: 220
A16: 2 | E16: 256 | I16: 762 | M16: 81 | Q16: 234
A17: 3 | E17: 255 | I17: 738 | M17: 82 | Q17: 223
A18: 4 | E18: 262 | I18: 725 | M18: 80 | Q18: 217
A19: 5 | E19: 257 | I19: 733 | M19: 77 | Q19: 218
A20: 6 | E20: 270 | I20: 814 | M20: 76 | Q20: 209
A21: 7 | E21: 312 | I21: 928 | M21: 75 | Q21: 214
A22: 8 | E22: 356 | I22: 1188 | M22: 72 | Q22: 222
A23: 9 | E23: 311 | I23: 1208 | M23: 69 | Q23: 244
A24: 10 | E24: 282 | I24: 1199 | M24: 71 | Q24: 232
A25: 11 | E25: 288 | I25: 1165 | M25: 77 | Q25: 227
A26: 12 | E26: 280 | I26: 1114 | M26: 78 | Q26: 221
... A38: 24 | E38: 297 | I38: 866 | M38: 89 | Q38: 236
A39: Итого | E39: =SUM(E15:E38) -> 7407 | I39: =SUM(I15:I38) -> 24156 | M39: =SUM(M15:M38) -> 1953 | Q39: =SUM(Q15:Q38) -> 5567
A40: 1. При наличии на предприятии отклонений от нормальных режимов электропотребления (временное изменение схем питания, остановка на ремонт, резкое снижение
A41: эл.потребления и т.д.) последние необходимо перечислить.
A42: Главный инженер АО "Вологдаоблэнерго" А.В. Чурляев
A43: составляется самим предприятием с соблюдением всех пунктов настоящей таблицы.

Sheet 67
B1: АО "Вологдаоблэнерго" | J1: код 900151 | K1: ПС "Белоусово"
B2: наименование предприятия | N2: наименование источника питания
B3: уч -к г. Вытегра
B4: ул. Горького, 99 | I4: Таблица № 1
B5: адрес
A6: почасовых записей показаний электрических счетчиков
A7: в режимный день 15 ДЕКАБРЯ 2021 г.
A8: 852 | B8: 851
A9: часы суток | B9: Активная энергия | J9: Реактивная энергия
B10: ВЛ-6кВ Ф-9 Погрузка | F10: ВЛ-6 кВ Ф-7 ЛПХ | J10: =B10 -> ВЛ-6кВ Ф-9 Погрузка | N10: =F10 -> ВЛ-6 кВ Ф-7 ЛПХ
B11: Расчет. Коэф. | E11: 1800 | F11: Расчет. Коэф. | I11: 2400 | J11: Расчет. Коэф. | M11: =E11 -> 1800 | N11: Расчет. Коэф. | Q11: =I11 -> 2400
B12: показания счетчика | C12: разность | E12: расход эл.энергии за час | F12: показания счетчика | G12: разность | I12: расход эл.энергии за час | J12: показания счетчика | K12: разность | M12: расход эл.энергии за час | N12: показания счетчика | O12: разность | Q12: расход эл.энергии за час
A13: 1 | B13: 2 | C13: 3 | E13: 4 | F13: 5 | G13: 6 | I13: 7 | J13: 8 | K13: 9 | M13: 10 | N13: 11 | O13: 12 | Q13: 13
A14: 0
A15: 1 | E15: 0 | I15: 9 | M15: 0 | Q15: 35
A16: 2 | E16: 0 | I16: 8 | M16: 0 | Q16: 36
A17: 3 | E17: 0 | I17: 8 | M17: 0 | Q17: 35
A18: 4 | E18: 0 | I18: 9 | M18: 0 | Q18: 36
A19: 5 | E19: 0 | I19: 8 | M19: 0 | Q19: 36
A20: 6 | E20: 0 | I20: 9 | M20: 0 | Q20: 35
A21: 7 | E21: 0 | I21: 9 | M21: 0 | Q21: 35
A22: 8 | E22: 0 | I22: 9 | M22: 0 | Q22: 35
A23: 9 | E23: 0 | I23: 9 | M23: 0 | Q23: 32
A24: 10 | E24: 0 | I24: 8 | M24: 0 | Q24: 33
A25: 11 | E25: 0 | I25: 8 | M25: 0 | Q25: 33
A26: 12 | E26: 0 | I26: 9 | M26: 0 | Q26: 32
... A38: 24 | E38: 0 | I38: 9 | M38: 0 | Q38: 35
A39: Итого | E39: =SUM(E15:E38) -> 0 | I39: =SUM(I15:I38) -> 204 | M39: =SUM(M15:M38) -> 0 | Q39: =SUM(Q15:Q38) -> 812
A40: 1. При наличии на предприятии отклонений от нормальных режимов электропотребления (временное изменение схем питания, остановка на ремонт, резкое снижение
A41: эл.потребления и т.д.) последние необходимо перечислить.
A42: Главный инженер АО "Вологдаоблэнерго" А.В. Чурляев
A43: составляется самим предприятием с соблюдением всех пунктов настоящей таблицы.

Sheet 68
B1: АО "Вологдаоблэнерго" | J1: код 900151 | K1: ПС "Ольховская"
B2: наименование предприятия | N2: наименование источника питания
B3: уч -к г. Вытегра
B4: ул. Горького, 99 | I4: Таблица № 1
B5: адрес
A6: почасовых записей показаний электрических счетчиков
A7: в режимный день 15 ДЕКАБРЯ 2021 г.
A8: 2138 | B8: 2139
A9: часы суток | B9: Активная энергия | J9: Реактивная энергия
B10: яч. 1 - ВЛ-10 кВ Ф-2 ЛПХ | F10: ВЛ-10 кВ Ф-3 Мирный | J10: яч. 1 - ВЛ-10 кВ Ф-2 ЛПХ | N10: =F10 -> ВЛ-10 кВ Ф-3 Мирный
B11: Расчет. Коэф. | E11: 1000 | F11: Расчет. Коэф. | I11: 1000 | J11: Расчет. Коэф. | M11: =E11 -> 1000 | N11: Расчет. Коэф. | Q11: =I11 -> 1000
B12: показания счетчика | C12: разность | E12: расход эл.энергии за час | F12: показания счетчика | G12: разность | I12: расход эл.энергии за час | J12: показания счетчика | K12: разность | M12: расход эл.энергии за час | N12: показания счетчика | O12: разность | Q12: расход эл.энергии за час
A13: 1 | B13: 2 | C13: 3 | E13: 4 | F13: 5 | G13: 6 | I13: 7 | J13: 8 | K13: 9 | M13: 10 | N13: 11 | O13: 12 | Q13: 13
A14: 0
A15: 1 | E15: 68 | I15: 102 | M15: 27 | Q15: 19
A16: 2 | E16: 64 | I16: 100 | M16: 27 | Q16: 20
A17: 3 | E17: 64 | I17: 100 | M17: 26 | Q17: 19
A18: 4 | E18: 64 | I18: 100 | M18: 27 | Q18: 19
A19: 5 | E19: 62 | I19: 101 | M19: 26 | Q19: 19
A20: 6 | E20: 62 | I20: 104 | M20: 27 | Q20: 18
A21: 7 | E21: 65 | I21: 108 | M21: 25 | Q21: 19
A22: 8 | E22: 82 | I22: 114 | M22: 27 | Q22: 19
A23: 9 | E23: 88 | I23: 120 | M23: 27 | Q23: 20
A24: 10 | E24: 82 | I24: 126 | M24: 26 | Q24: 26
A25: 11 | E25: 75 | I25: 124 | M25: 25 | Q25: 25
A26: 12 | E26: 74 | I26: 129 | M26: 26 | Q26: 27
... A38: 24 | E38: 59 | I38: 102 | M38: 27 | Q38: 19
A39: Итого | E39: =SUM(E15:E38) -> 1717 | I39: =SUM(I15:I38) -> 2718 | M39: =SUM(M15:M38) -> 636 | Q39: =SUM(Q15:Q38) -> 502
A40: 1. При наличии на предприятии отклонений от нормальных режимов электропотребления (временное изменение схем питания, остановка на ремонт, резкое снижение
A41: эл.потребления и т.д.) последние необходимо перечислить.
A42: Главный инженер АО "Вологдаоблэнерго" А.В. Чурляев
A43: составляется самим предприятием с соблюдением всех пунктов настоящей таблицы.

Sheet 69
B1: АО "Вологдаоблэнерго" | J1: код 900151 | K1: ПС "Восточная"
B2: наименование предприятия | N2: наименование источника питания
B3: уч -к г. Вытегра
B4: ул. Горького, 99 | I4: Таблица № 1
B5: адрес
A6: почасовых записей показаний электрических счетчиков
A7: в режимный день 15 ДЕКАБРЯ 2021 г.
A8: 855 | B8: 854
A9: часы суток | B9: Активная энергия | J9: Реактивная энергия
B10: ВЛ-10 кВ Центр | F10: ВЛ-10 кВ Воинская часть | J10: =B10 -> ВЛ-10 кВ Центр | N10: =F10 -> ВЛ-10 кВ Воинская часть
B11: Расчет. Коэф. | E11: 6000 | F11: Расчет. Коэф. | I11: 4000 | J11: Расчет. Коэф. | M11: =E11 -> 6000 | N11: Расчет. Коэф. | Q11: =I11 -> 4000
B12: показания счетчика | C12: разность | E12: расход эл.энергии за час | F12: показания счетчика | G12: разность | I12: расход эл.энергии за час | J12: показания счетчика | K12: разность | M12: расход эл.энергии за час | N12: показания счетчика | O12: разность | Q12: расход эл.энергии за час
A13: 1 | B13: 2 | C13: 3 | E13: 4 | F13: 5 | G13: 6 | I13: 7 | J13: 8 | K13: 9 | M13: 10 | N13: 11 | O13: 12 | Q13: 13
A14: 0
A15: 1 | E15: 799 | I15: 1210 | M15: 81 | Q15: 217
A16: 2 | E16: 754 | I16: 1164 | M16: 82 | Q16: 224
A17: 3 | E17: 748 | I17: 1120 | M17: 88 | Q17: 216
A18: 4 | E18: 740 | I18: 1100 | M18: 81 | Q18: 211
A19: 5 | E19: 753 | I19: 1108 | M19: 79 | Q19: 216
A20: 6 | E20: 792 | I20: 1152 | M20: 86 | Q20: 214
A21: 7 | E21: 863 | I21: 1299 | M21: 85 | Q21: 220
A22: 8 | E22: 951 | I22: 1377 | M22: 89 | Q22: 198
A23: 9 | E23: 1041 | I23: 1344 | M23: 105 | Q23: 195
A24: 10 | E24: 1109 | I24: 1338 | M24: 117 | Q24: 207
A25: 11 | E25: 1121 | I25: 1352 | M25: 113 | Q25: 223
A26: 12 | E26: 1107 | I26: 1328 | M26: 107 | Q26: 213
... A38: 24 | E38: 801 | I38: 1193 | M38: 81 | Q38: 212
A39: Итого | E39: =SUM(E15:E38) -> 22886 | I39: =SUM(I15:I38) -> 31593 | M39: =SUM(M15:M38) -> 2261 | Q39: =SUM(Q15:Q38) -> 5166
A40: 1. При наличии на предприятии отклонений от нормальных режимов электропотребления (временное изменение схем питания, остановка на ремонт, резкое снижение
A41: эл.потребления и т.д.) последние необходимо перечислить.
A42: Главный инженер АО "Вологдаоблэнерго" А.В. Чурляев
A43: составляется самим предприятием с соблюдением всех пунктов настоящей таблицы.

Sheet 70
B1: АО "Вологдаоблэнерго" | J1: код 900151 | K1: ПС "Восточная"
B2: наименование предприятия | N2: наименование источника питания
B3: уч -к г. Вытегра
B4: ул. Горького, 99 | I4: Таблица № 1
B5: адрес
A6: почасовых записей показаний электрических счетчиков
A7: в режимный день 15 ДЕКАБРЯ 2021 г.
A8: 856 | B8: 951
A9: часы суток | B9: Активная энергия | J9: Реактивная энергия
B10: ВЛ-10 кВ Шестово | F10: ф.1 Город | J10: =B10 -> ВЛ-10 кВ Шестово | N10: =F10 -> ф.1 Город
B11: Расчет. Коэф. | E11: 4000 | F11: Расчет. Коэф. | J11: Расчет. Коэф. | M11: =E11 -> 4000 | N11: Расчет. Коэф.
B12: показания счетчика | C12: разность | E12: расход эл.энергии за час | F12: показания счетчика | G12: разность | I12: расход эл.энергии за час | J12: показания счетчика | K12: разность | M12: расход эл.энергии за час | N12: показания счетчика | O12: разность | Q12: расход эл.энергии за час
A13: 1 | B13: 2 | C13: 3 | E13: 4 | F13: 5 | G13: 6 | I13: 7 | J13: 8 | K13: 9 | M13: 10 | N13: 11 | O13: 12 | Q13: 13
A14: 0
A15: 1 | E15: 638 | I15: 743 | M15: 141 | Q15: 204
A16: 2 | E16: 615 | I16: 690 | M16: 139 | Q16: 209
A17: 3 | E17: 600 | I17: 689 | M17: 140 | Q17: 205
A18: 4 | E18: 582 | I18: 684 | M18: 138 | Q18: 210
A19: 5 | E19: 575 | I19: 711 | M19: 134 | Q19: 215
A20: 6 | E20: 596 | I20: 719 | M20: 134 | Q20: 199
A21: 7 | E21: 659 | I21: 852 | M21: 133 | Q21: 203
A22: 8 | E22: 771 | I22: 973 | M22: 137 | Q22: 197
A23: 9 | E23: 759 | I23: 1069 | M23: 130 | Q23: 185
A24: 10 | E24: 783 | I24: 1139 | M24: 132 | Q24: 195
A25: 11 | E25: 812 | I25: 1185 | M25: 138 | Q25: 208
A26: 12 | E26: 791 | I26: 1186 | M26: 140 | Q26: 202
... A38: 24 | E38: 677 | I38: 784 | M38: 135 | Q38: 200
A39: Итого | E39: =SUM(E15:E38) -> 17401 | I39: =SUM(I15:I38) -> 23384 | M39: =SUM(M15:M38) -> 3193 | Q39: =SUM(Q15:Q38) -> 4835
A40: 1. При наличии на предприятии отклонений от нормальных режимов электропотребления (временное изменение схем питания, остановка на ремонт, резкое снижение
A41: эл.потребления и т.д.) последние необходимо перечислить.
A42: Главный инженер АО "Вологдаоблэнерго" А.В. Чурляев
A43: составляется самим предприятием с соблюдением всех пунктов настоящей таблицы.

Sheet 70_1
B1: АО "Вологдаоблэнерго" | J1: код 900151 | K1: ПС "Восточная"
B2: наименование предприятия | N2: наименование источника питания
B3: уч -к г. Вытегра | N3: яч.25
B4: ул. Горького, 99 | I4: Таблица № 1
B5: адрес
A6: почасовых записей показаний электрических счетчиков
A7: в режимный день 15 ДЕКАБРЯ 2021 г.
A8: 856 | B8: 951
A9: часы суток | B9: Активная энергия | J9: Реактивная энергия
B10: ВЛ-10 кВ ф Стадион | J10: =B10 -> ВЛ-10 кВ ф Стадион | N10: =F10 -> 0
B11: Расчет. Коэф. | E11: 4000 | F11: Расчет. Коэф. | J11: Расчет. Коэф. | M11: =E11 -> 4000 | N11: Расчет. Коэф.
B12: показания счетчика | C12: разность | E12: расход эл.энергии за час | F12: показания счетчика | G12: разность | I12: расход эл.энергии за час | J12: показания счетчика | K12: разность | M12: расход эл.энергии за час | N12: показания счетчика | O12: разность | Q12: расход эл.энергии за час
A13: 1 | B13: 2 | C13: 3 | E13: 4 | F13: 5 | G13: 6 | I13: 7 | J13: 8 | K13: 9 | M13: 10 | N13: 11 | O13: 12 | Q13: 13
A14: 0
A15: 1
A16: 2
A17: 3
A18: 4
A19: 5
A20: 6
A21: 7
A22: 8
A23: 9
A24: 10
A25: 11
... A38: 24
A39: Итого | E39: =SUM(E15:E38) -> 0 | M39: =SUM(M15:M38) -> 0
A40: 1. При наличии на предприятии отклонений от нормальных режимов электропотребления (временное изменение схем питания, остановка на ремонт, резкое снижение
A41: эл.потребления и т.д.) последние необходимо перечислить.
A42: Главный инженер АО "Вологдаоблэнерго" А.В. Чурляев
A43: составляется самим предприятием с соблюдением всех пунктов настоящей таблицы.

Sheet 71
B1: АО "Вологдаоблэнерго" | J1: код 900151 | K1: ПС "Мегра"
B2: наименование предприятия | N2: наименование источника питания
B3: уч -к г. Вытегра
B4: ул. Горького, 99 | I4: Таблица № 1
B5: адрес
A6: почасовых записей показаний электрических счетчиков
A7: в режимный день 15 ДЕКАБРЯ 2021 г.
A8: 853
A9: часы суток | B9: Активная энергия | J9: Реактивная энергия
B10: ВЛ-10 кВ Н. Склад | J10: =B10 -> ВЛ-10 кВ Н. Склад
B11: Расчет. Коэф. | E11: 3000 | F11: Расчет. Коэф. | J11: Расчет. Коэф. | M11: =E11 -> 3000 | N11: Расчет. Коэф.
B12: показания счетчика | C12: разность | E12: расход эл.энергии за час | F12: показания счетчика | G12: разность | I12: расход эл.энергии за час | J12: показания счетчика | K12: разность | M12: расход эл.энергии за час | N12: показания счетчика | O12: разность | Q12: расход эл.энергии за час
A13: 1 | B13: 2 | C13: 3 | E13: 4 | F13: 5 | G13: 6 | I13: 7 | J13: 8 | K13: 9 | M13: 10 | N13: 11 | O13: 12 | Q13: 13
A14: 0
A15: 1 | E15: 51 | M15: 21
A16: 2 | E16: 51 | M16: 19
A17: 3 | E17: 30 | M17: 18
A18: 4 | E18: 29 | M18: 18
A19: 5 | E19: 31 | M19: 20
A20: 6 | E20: 32 | M20: 19
A21: 7 | E21: 33 | M21: 17
A22: 8 | E22: 39 | M22: 19
A23: 9 | E23: 39 | M23: 16
A24: 10 | E24: 36 | M24: 16
A25: 11 | E25: 37 | M25: 17
A26: 12 | E26: 43 | M26: 17
... A38: 24 | E38: 53 | M38: 24
A39: Итого | E39: =SUM(E15:E38) -> 1142 | M39: =SUM(M15:M38) -> 486
A40: 1. При наличии на предприятии отклонений от нормальных режимов электропотребления (временное изменение схем питания, остановка на ремонт, резкое снижение
A41: эл.потребления и т.д.) последние необходимо перечислить.
A42: Главный инженер АО "Вологдаоблэнерго" А.В. Чурляев
A43: составляется самим предприятием с соблюдением всех пунктов настоящей таблицы.

Sheet 72
B1: АО "Вологдаоблэнерго" | J1: код 900151 | K1: ПС "Вытегра"
B2: наименование предприятия | N2: наименование источника питания
B3: уч -к г. Вытегра
B4: ул. Горького, 99 | I4: Таблица № 1
B5: адрес
A6: почасовых записей показаний электрических счетчиков
A7: в режимный день 15 ДЕКАБРЯ 2021 г.
A8: 849 | B8: 846
A9: часы суток | B9: Активная энергия | J9: Реактивная энергия
B10: ВЛ-6 кВ Ф-8 пр. Победы | F10: ВЛ-6 кВ Ф-1 Военкомат | J10: =B10 -> ВЛ-6 кВ Ф-8 пр. Победы | N10: =F10 -> ВЛ-6 кВ Ф-1 Военкомат
B11: Расчет. Коэф. | E11: 1800 | F11: Расчет. Коэф. | I11: 900 | J11: Расчет. Коэф. | M11: =E11 -> 1800 | N11: Расчет. Коэф. | Q11: 900
B12: показания счетчика | C12: разность | E12: расход эл.энергии за час | F12: показания счетчика | G12: разность | I12: расход эл.энергии за час | J12: показания счетчика | K12: разность | M12: расход эл.энергии за час | N12: показания счетчика | O12: разность | Q12: расход эл.энергии за час
A13: 1 | B13: 2 | C13: 3 | E13: 4 | F13: 5 | G13: 6 | I13: 7 | J13: 8 | K13: 9 | M13: 10 | N13: 11 | O13: 12 | Q13: 13
A14: 0
A15: 1 | E15: 248 | I15: 105 | M15: 32 | Q15: 15
A16: 2 | E16: 227 | I16: 90 | M16: 30 | Q16: 13
A17: 3 | E17: 226 | I17: 90 | M17: 31 | Q17: 13
A18: 4 | E18: 238 | I18: 92 | M18: 32 | Q18: 14
A19: 5 | E19: 241 | I19: 91 | M19: 30 | Q19: 14
A20: 6 | E20: 259 | I20: 106 | M20: 31 | Q20: 14
A21: 7 | E21: 296 | I21: 135 | M21: 31 | Q21: 15
A22: 8 | E22: 326 | I22: 148 | M22: 33 | Q22: 15
A23: 9 | E23: 312 | I23: 155 | M23: 32 | Q23: 18
A24: 10 | E24: 296 | I24: 170 | M24: 32 | Q24: 20
A25: 11 | E25: 312 | I25: 164 | M25: 37 | Q25: 20
A26: 12 | E26: 314 | I26: 168 | M26: 35 | Q26: 19
... A38: 24 | E38: 271 | I38: 115 | M38: 34 | Q38: 14
A39: Итого | E39: =SUM(E15:E38) -> 7134 | I39: =SUM(I15:I38) -> 3544 | M39: =SUM(M15:M38) -> 842 | Q39: =SUM(Q15:Q38) -> 394
A40: 1. При наличии на предприятии отклонений от нормальных режимов электропотребления (временное изменение схем питания, остановка на ремонт, резкое снижение
A41: эл.потребления и т.д.) последние необходимо перечислить.
A42: Главный инженер АО "Вологдаоблэнерго" А.В. Чурляев
A43: составляется самим предприятием с соблюдением всех пунктов настоящей таблицы.

Sheet 73
B1: АО "Вологдаоблэнерго" | J1: код 900151 | K1: ПС "Вытегра"
B2: наименование предприятия | N2: наименование источника питания
B3: уч -к г. Вытегра
B4: ул. Горького, 99 | I4: Таблица № 1
B5: адрес
A6: почасовых записей показаний электрических счетчиков
A7: в режимный день 15 ДЕКАБРЯ 2021 г.
A8: 847 | B8: 848
A9: часы суток | B9: Активная энергия | J9: Реактивная энергия
B10: ВЛ-6 кВ Ф-2 пр. Больница | F10: ВЛ-6 кВ Город | J10: =B10 -> ВЛ-6 кВ Ф-2 пр. Больница | N10: =F10 -> ВЛ-6 кВ Город
B11: Расчет. Коэф. | E11: 1800 | F11: Расчет. Коэф. | I11: 2400 | J11: Расчет. Коэф. | M11: =E11 -> 1800 | N11: Расчет. Коэф. | Q11: 2400
B12: показания счетчика | C12: разность | E12: расход эл.энергии за час | F12: показания счетчика | G12: разность | I12: расход эл.энергии за час | J12: показания счетчика | K12: разность | M12: расход эл.энергии за час | N12: показания счетчика | O12: разность | Q12: расход эл.энергии за час
A13: 1 | B13: 2 | C13: 3 | E13: 4 | F13: 5 | G13: 6 | I13: 7 | J13: 8 | K13: 9 | M13: 10 | N13: 11 | O13: 12 | Q13: 13
A14: 0
A15: 1 | E15: 246 | I15: 0 | M15: 105 | Q15: 0
A16: 2 | E16: 230 | I16: 0 | M16: 104 | Q16: 0
A17: 3 | E17: 228 | I17: 0 | M17: 113 | Q17: 0
A18: 4 | E18: 232 | I18: 0 | M18: 120 | Q18: 0
A19: 5 | E19: 231 | I19: 0 | M19: 107 | Q19: 0
A20: 6 | E20: 266 | I20: 0 | M20: 112 | Q20: 0
A21: 7 | E21: 336 | I21: 0 | M21: 120 | Q21: 0
A22: 8 | E22: 382 | I22: 0 | M22: 141 | Q22: 0
A23: 9 | E23: 422 | I23: 0 | M23: 147 | Q23: 0
A24: 10 | E24: 402 | I24: 0 | M24: 139 | Q24: 0
A25: 11 | E25: 360 | I25: 0 | M25: 128 | Q25: 0
A26: 12 | E26: 346 | I26: 0 | M26: 127 | Q26: 0
... A38: 24 | E38: 265 | I38: 0 | M38: 112 | Q38: 0
A39: Итого | E39: =SUM(E15:E38) -> 7550 | I39: =SUM(I15:I38) -> 0 | M39: =SUM(M15:M38) -> 2931 | Q39: =SUM(Q15:Q38) -> 0
A41: ПС "Вытегра" ф. "ВЛ-6кВ Город" - в ремонте
A42: Главный инженер АО "Вологдаоблэнерго" А.В. Чурляев

Sheet 74
B1: АО "Вологдаоблэнерго" | J1: код 900151 | K1: ПС "Вытегра"
B2: наименование предприятия | N2: наименование источника питания
B3: уч -к г. Вытегра
B4: ул. Горького, 99 | I4: Таблица № 1
B5: адрес
A6: почасовых записей показаний электрических счетчиков
A7: в режимный день 15 ДЕКАБРЯ 2021 г.
A8: 850
A9: часы суток | B9: Активная энергия | J9: Реактивная энергия
B10: ВЛ-6 кВ Ф-13 Заречье | J10: =B10 -> ВЛ-6 кВ Ф-13 Заречье
B11: Расчет. Коэф. | E11: 1200 | F11: Расчет. Коэф. | J11: Расчет. Коэф. | M11: =E11 -> 1200 | N11: Расчет. Коэф.
B12: показания счетчика | C12: разность | E12: расход эл.энергии за час | F12: показания счетчика | G12: разность | I12: расход эл.энергии за час | J12: показания счетчика | K12: разность | M12: расход эл.энергии за час | N12: показания счетчика | O12: разность | Q12: расход эл.энергии за час
A13: 1 | B13: 2 | C13: 3 | E13: 4 | F13: 5 | G13: 6 | I13: 7 | J13: 8 | K13: 9 | M13: 10 | N13: 11 | O13: 12 | Q13: 13
A14: 0
A15: 1 | E15: 0 | M15: 0
A16: 2 | E16: 0 | M16: 0
A17: 3 | E17: 0 | M17: 0
A18: 4 | E18: 0 | M18: 0
A19: 5 | E19: 0 | M19: 0
A20: 6 | E20: 0 | M20: 0
A21: 7 | E21: 0 | M21: 0
A22: 8 | E22: 0 | M22: 0
A23: 9 | E23: 0 | M23: 0
A24: 10 | E24: 0 | M24: 0
A25: 11 | E25: 0 | M25: 0
A26: 12 | E26: 0 | M26: 0
... A38: 24 | E38: 0 | M38: 0
A39: Итого | E39: =SUM(E15:E38) -> 0 | M39: =SUM(M15:M38) -> 0
A41: ПС "Вытегра" ф. "ВЛ-6кВ Заречье" - в резерве
A42: Главный инженер АО "Вологдаоблэнерго" А.В. Чурляев

Sheet 75
B1: АО "Вологдаоблэнерго" | J1: код 900151 | K1: ПС"Анненская"
B2: наименование предприятия | N2: наименование источника питания
B3: уч -к г. Вытегра
B4: ул. Горького, 99 | I4: Таблица № 1
B5: адрес
A6: почасовых записей показаний электрических счетчиков
A7: в режимный день 15 ДЕКАБРЯ 2021 г.
A8: 2137
A9: часы суток | B9: Активная энергия | J9: Реактивная энергия
B10: ВЛ-6 кВ Ф-5 Леспромхоз | J10: =B10 -> ВЛ-6 кВ Ф-5 Леспромхоз
B11: Расчет. Коэф. | E11: 1800 | F11: Расчет. Коэф. | J11: Расчет. Коэф. | M11: =E11 -> 1800 | N11: Расчет. Коэф.
B12: показания счетчика | C12: разность | E12: расход эл.энергии за час | F12: показания счетчика | G12: разность | I12: расход эл.энергии за час | J12: показания счетчика | K12: разность | M12: расход эл.энергии за час | N12: показания счетчика | O12: разность | Q12: расход эл.энергии за час
A13: 1 | B13: 2 | C13: 3 | E13: 4 | F13: 5 | G13: 6 | I13: 7 | J13: 8 | K13: 9 | M13: 10 | N13: 11 | O13: 12 | Q13: 13
A14: 0
A15: 1 | E15: 251 | M15: 103
A16: 2 | E16: 244 | M16: 102
A17: 3 | E17: 241 | M17: 102
A18: 4 | E18: 245 | M18: 102
A19: 5 | E19: 246 | M19: 100
A20: 6 | E20: 252 | M20: 101
A21: 7 | E21: 278 | M21: 99
A22: 8 | E22: 314 | M22: 101
A23: 9 | E23: 358 | M23: 100
A24: 10 | E24: 349 | M24: 108
A25: 11 | E25: 358 | M25: 114
A26: 12 | E26: 351 | M26: 107
... A38: 24 | E38: 247 | M38: 102
A39: Итого | E39: =SUM(E15:E38) -> 7118 | M39: =SUM(M15:M38) -> 2459
A40: 1. При наличии на предприятии отклонений от нормальных режимов электропотребления (временное изменение схем питания, остановка на ремонт, резкое снижение
A41: эл.потребления и т.д.) последние необходимо перечислить.
A42: Главный инженер АО "Вологдаоблэнерго" А.В. Чурляев
A43: составляется самим предприятием с соблюдением всех пунктов настоящей таблицы.

Sheet 76
B1: АО "Вологдаоблэнерго" | J1: код 900151 | K1: ПС "Харовск-Р"
B2: наименование предприятия | N2: наименование источника питания
B3: уч -к г. Харовск
B4: ул. Горького, 99 | I4: Таблица № 1
B5: адрес
A6: почасовых записей показаний электрических счетчиков
A7: в режимный день 15 ДЕКАБРЯ 2021 г.
