Workbook

Sheet д) финансирование
A4: План финансирования капитальных вложений по инвестиционным проектам
A6: Инвестиционная программа Акционерного Общества "Вологодская Областная Энергетическая компания" на 2015-2019 г.
A7: полное наименование субъекта электроэнергетики
A9: Год раскрытия информации: 2017 год
A10: Инвестиционные проекты на 2018 - 2019 годы
A11: Утвержденные плановые значения показателей приведены в соответствии с Инвестиционной программой АО "Вологдаоблэнерго" на 2015-2019 гг, утвержденной Департаментом ТЭК Вологодской области 31.12.2014 г.
A12: реквизиты решения органа исполнительной власти, утвердившего инвестиционную программу
A14: Номер группы инвести-ционных проектов | B14: Наименование инвестиционного проекта (группы инвестиционных проектов) | C14: Идентификатор инвестицион-ного проекта | D14: Текущая стадия реализации инвестиционного проекта | E14: Год начала реализации инвестиционного проекта | F14: Год окончания реализации инвестицион-ного проекта | H14: Полная сметная стоимость инвестиционного проекта в соответствии с утвержденной проектной документацией | N14: Размер платы за технологическое присоединение (подключение), млн рублей | O14: Фактический объем финансирования на 01.01.2017 года, млн рублей (с НДС) | P14: Оценка полной стоимости инвестиционного проекта в соответствии с укрупненными нормативами цены типовых технологических решений капитального строительства объектов электроэнергетики | T14: Оценка полной стоимости инвестиционного проекта в прогнозных ценах соответствующих лет, млн рублей (с НДС) | V14: Остаток финансирования капитальных вложений в прогнозных ценах соответствующих лет, млн рублей (с НДС) | Y14: Финансирование капитальных вложений 2018 года в прогнозных ценах, млн рублей (с НДС) | AI14: Финансирование капитальных вложений в прогнозных ценах соответствующих лет, млн рублей (с НДС) | BM14: Краткое обоснование корректировки утвержденного плана
H15: План | K15: Предложение по корректировке утвержденного плана | P15: План | R15: Предложение по корректировке утвержденного плана | Y15: Утвержденный план | AD15: Предложение по корректировке утвержденного плана | AI15: Утвержденный план 2018 года | AN15: Предложение по корректировке утвержденного плана 2018 года | AS15: Утвержденный план 2019 года | AX15: Предложение по корректировке утвержденного плана 2019 года | BC15: Итого за период реализации инвестиционной программы (план) | BH15: Итого за период реализации инвестиционной программы (с учетом предложений по корректировке утвержденного плана)
F16: План | G16: Предложение по корректировке утвержденного плана | H16: в базисном уровне цен, млн рублей (с НДС) | I16: в ценах, сложившихся ко времени составления сметной документации, млн рублей (с НДС) | J16: месяц и год составления сметной документации | K16: в базисном уровне цен, млн рублей (с НДС) | L16: в ценах, сложившихся ко времени составления сметной документации, млн рублей (с НДС) | M16: месяц и год составления сметной документации | P16: в текущих ценах, млн рублей (с НДС) | Q16: в прогнозных ценах соответствующих лет, млн рублей (с НДС) | R16: в текущих ценах, млн рублей (с НДС) | S16: в прогнозных ценах соответствующих лет, млн рублей (с НДС) | T16: План | U16: Предложение по корректировке утвержденного плана | V16: План на 01.01.2017 | W16: План на 01.01.2018 | X16: Предложение по корректировке утвержденного плана на 01.01.2019 | Y16: Общий объем финансирования, в том числе за счет: | Z16: федерального бюджета | AA16: бюджетов субъектов Российской Федерации и муниципальных образований | AB16: средств, полученных от оказания услуг, реализации товаров по регулируемым государством ценам (тарифам) | AC16: иных источников финансирования | AD16: Общий объем финансирования, в том числе за счет: | AE16: федерального бюджета | AF16: бюджетов субъектов Российской Федерации и муниципальных образований | AG16: средств, полученных от оказания услуг, реализации товаров по регулируемым государством ценам (тарифам) | AH16: иных источников финансирования | AI16: Общий объем финансирования, в том числе за счет: | AJ16: федерального бюджета | AK16: бюджетов субъектов Российской Федерации и муниципальных образований | AL16: средств, полученных от оказания услуг, реализации товаров по регулируемым государством ценам (тарифам) | AM16: иных источников финансирования | AN16: Общий объем финансирования, в том числе за счет: | AO16: федерального бюджета | AP16: бюджетов субъектов Российской Федерации и муниципальных образований | AQ16: средств, полученных от оказания услуг, реализации товаров по регулируемым государством ценам (тарифам) | AR16: иных источников финансирования | AS16: Общий объем финансирования, в том числе за счет: | AT16: федерального бюджета | AU16: бюджетов субъектов Российской Федерации и муниципальных образований | AV16: средств, полученных от оказания услуг, реализации товаров по регулируемым государством ценам (тарифам) | AW16: иных источников финансирования | AX16: Общий объем финансирования, в том числе за счет: | AY16: федерального бюджета | AZ16: бюджетов субъектов Российской Федерации и муниципальных образований | BA16: средств, полученных от оказания услуг, реализации товаров по регулируемым государством ценам (тарифам) | BB16: иных источников финансирования | BC16: Общий объем финансирования, в том числе за счет: | BD16: федерального бюджета | BE16: бюджетов субъектов Российской Федерации и муниципальных образований | BF16: средств, полученных от оказания услуг, реализации товаров по регулируемым государством ценам (тарифам) | BG16: иных источников финансирования | BH16: Общий объем финансирования, в том числе за счет: | BI16: федерального бюджета | BJ16: бюджетов субъектов Российской Федерации и муниципальных образований | BK16: средств, полученных от оказания услуг, реализации товаров по регулируемым государством ценам (тарифам) | BL16: иных источников финансирования
A17: 1 | B17: 2 | C17: 3 | D17: 4 | E17: 5 | F17: 6 | G17: 7 | H17: 8 | I17: 9 | J17: 10 | K17: 11 | L17: 12 | M17: 13 | N17: 14 | O17: 15 | P17: 16.1 | Q17: 16.2 | R17: 16.3 | S17: 16.4 | T17: 17 | U17: 18 | V17: 19 | W17: 20 | X17: 21 | Y17: 22 | Z17: 23 | AA17: 24 | AB17: 25 | AC17: 26 | AD17: 27 | AE17: 28 | AF17: 29 | AG17: 30 | AH17: 31 | AI17: 32.1 | AJ17: 32.2 | AK17: 32.3 | AL17: 32.4 | AM17: 32.5 | AN17: 32.6 | AO17: 32.7 | AP17: 32.8 | AQ17: 32.9 | AR17: 32.10 | AS17: 32.11 | AT17: 32.12 | AU17: 32.13 | AV17: 32.14 | AW17: 32.15 | AX17: 32.16 | AY17: 32.17 | AZ17: 32.18 | BA17: 32.19 | BB17: 32.20 | BC17: 33 | BD17: 34 | BE17: 35 | BF17: 36 | BG17: 37 | BH17: 38 | BI17: 39 | BJ17: 40 | BK17: 41 | BL17: 42 | BM17: 43
A18: 0 | B18: ВСЕГО по инвестиционной программе, в том числе: | C18: нд | D18: нд | E18: нд | F18: нд | G18: нд | H18: нд | I18: =156.241+164.053 -> 320.294 | J18: нд | K18: нд | L18: =SUM(L19:L24,L132) -> 734.9405 | M18: нд | N18: нд | O18: нд | P18: нд | Q18: нд | R18: =SUM(R19:R24,R132) -> 734.9405 | S18: =R18*1.0494 -> 771.24656 | T18: нд | U18: 771.24656 | V18: нд | W18: =W20+W22+W132 -> 350.02107 | X18: =X20+X22+X132 -> 421.24595 | Y18: нд | Z18: нд | AA18: нд | AB18: нд | AC18: нд | AD18: 350.02107 | AE18: нд | AF18: нд | AG18: 350.02107 | AH18: нд | AI18: нд | AJ18: нд | AK18: нд | AL18: нд | AM18: нд | AN18: 350.02107 | AO18: нд | AP18: нд | AQ18: 350.02107 | AR18: нд | AS18: нд | AT18: нд | AU18: нд | AV18: нд | AW18: нд | AX18: 421.24595 | AY18: нд | AZ18: нд | BA18: 421.24595 | BB18: нд | BC18: нд | BD18: нд | BE18: нд | BF18: нд | BG18: нд | BH18: 771.24656 | BI18: нд | BJ18: нд | BK18: 771.24656 | BL18: нд | BM18: нд
A19: 0.1 | B19: Технологическое присоединение, всего | C19: нд | D19: нд | E19: нд | F19: нд | G19: нд | H19: нд | I19: нд | J19: нд | K19: нд | L19: нд | M19: нд | N19: нд | O19: нд | P19: нд | Q19: нд | R19: нд | S19: нд | T19: нд | U19: нд | V19: нд | W19: нд | X19: нд | Y19: нд | Z19: нд | AA19: нд | AB19: нд | AC19: нд | AD19: нд | AE19: нд | AF19: нд | AG19: нд | AH19: нд | AI19: нд | AJ19: нд | AK19: нд | AL19: нд | AM19: нд | AN19: нд | AO19: нд | AP19: нд | AQ19: нд | AR19: нд | AS19: нд | AT19: нд | AU19: нд | AV19: нд | AW19: нд | AX19: нд | AY19: нд | AZ19: нд | BA19: нд | BB19: нд | BC19: нд | BD19: нд | BE19: нд | BF19: нд | BG19: нд | BH19: нд | BI19: нд | BJ19: нд | BK19: нд | BL19: нд | BM19: нд
A20: 0.2 | B20: Реконструкция, модернизация, техническое перевооружение, всего | C20: нд | D20: нд | E20: нд | F20: нд | G20: нд | H20: нд | I20: нд | J20: нд | K20: нд | L20: =L47 -> 342.6745 | M20: нд | N20: нд | O20: нд | P20: нд | Q20: нд | R20: =R47 -> 342.6745 | S20: =R20*1.0494 -> 359.60262 | T20: нд | U20: 359.60262 | V20: нд | W20: =W47 -> 147.22662 | X20: =X47 -> 212.38177 | Y20: нд | Z20: нд | AA20: нд | AB20: нд | AC20: нд | AD20: 147.22662 | AE20: нд | AF20: нд | AG20: 147.22662 | AH20: нд | AI20: нд | AJ20: нд | AK20: нд | AL20: нд | AM20: нд | AN20: 147.22662 | AO20: нд | AP20: нд | AQ20: 147.22662 | AR20: нд | AS20: нд | AT20: нд | AU20: нд | AV20: нд | AW20: нд | AX20: 212.38177 | AY20: нд | AZ20: нд | BA20: 212.38177 | BB20: нд | BC20: нд | BD20: нд | BE20: нд | BF20: нд | BG20: нд | BH20: 359.60262 | BI20: нд | BJ20: нд | BK20: 359.60262 | BL20: нд | BM20: нд
A21: 0.3 | B21: Инвестиционные проекты, реализация которых обуславливается схемами и программами перспективного развития электроэнергетики, всего | C21: нд | D21: нд | E21: нд | F21: нд | G21: нд | H21: нд | I21: нд | J21: нд | K21: нд | L21: нд | M21: нд | N21: нд | O21: нд | P21: нд | Q21: нд | R21: нд | S21: нд | T21: нд | U21: нд | V21: нд | W21: нд | X21: нд | Y21: нд | Z21: нд | AA21: нд | AB21: нд | AC21: нд | AD21: нд | AE21: нд | AF21: нд | AG21: нд | AH21: нд | AI21: нд | AJ21: нд | AK21: нд | AL21: нд | AM21: нд | AN21: нд | AO21: нд | AP21: нд | AQ21: нд | AR21: нд | AS21: нд | AT21: нд | AU21: нд | AV21: нд | AW21: нд | AX21: нд | AY21: нд | AZ21: нд | BA21: нд | BB21: нд | BC21: нд | BD21: нд | BE21: нд | BF21: нд | BG21: нд | BH21: нд | BI21: нд | BJ21: нд | BK21: нд | BL21: нд | BM21: нд
A22: 0.4 | B22: Прочее новое строительство объектов электросетевого хозяйства, всего | C22: нд | D22: нд | E22: нд | F22: нд | G22: нд | H22: нд | I22: нд | J22: нд | K22: нд | L22: =L110 -> 344.679 | M22: нд | N22: нд | O22: нд | P22: нд | Q22: нд | R22: =R110 -> 344.679 | S22: =R22*1.0494 -> 361.70614 | T22: нд | U22: 361.70614 | V22: нд | W22: =W110 -> 180.68359 | X22: =X110 -> 181.04459 | Y22: нд | Z22: нд | AA22: нд | AB22: нд | AC22: нд | AD22: 180.68359 | AE22: нд | AF22: нд | AG22: 180.68359 | AH22: нд | AI22: нд | AJ22: нд | AK22: нд | AL22: нд | AM22: нд | AN22: 180.68359 | AO22: нд | AP22: нд | AQ22: 180.68359 | AR22: нд | AS22: нд | AT22: нд | AU22: нд | AV22: нд | AW22: нд | AX22: 181.04459 | AY22: нд | AZ22: нд | BA22: 181.04459 | BB22: нд | BC22: нд | BD22: нд | BE22: нд | BF22: нд | BG22: нд | BH22: 361.70614 | BI22: нд | BJ22: нд | BK22: 361.70614 | BL22: нд | BM22: нд
A23: 0.5 | B23: Покупка земельных участков для целей реализации инвестиционных проектов, всего | C23: нд | D23: нд | E23: нд | F23: нд | G23: нд | H23: нд | I23: нд | J23: нд | K23: нд | L23: нд | M23: нд | N23: нд | O23: нд | P23: нд | Q23: нд | R23: нд | S23: нд | T23: нд | U23: нд | V23: нд | W23: нд | X23: нд | Y23: нд | Z23: нд | AA23: нд | AB23: нд | AC23: нд | AD23: нд | AE23: нд | AF23: нд | AG23: нд | AH23: нд | AI23: нд | AJ23: нд | AK23: нд | AL23: нд | AM23: нд | AN23: нд | AO23: нд | AP23: нд | AQ23: нд | AR23: нд | AS23: нд | AT23: нд | AU23: нд | AV23: нд | AW23: нд | AX23: нд | AY23: нд | AZ23: нд | BA23: нд | BB23: нд | BC23: нд | BD23: нд | BE23: нд | BF23: нд | BG23: нд | BH23: нд | BI23: нд | BJ23: нд | BK23: нд | BL23: нд | BM23: нд
A24: 0.6 | B24: Прочие инвестиционные проекты, всего | C24: нд | D24: нд | E24: нд | F24: нд | G24: нд | H24: нд | I24: нд | J24: нд | K24: нд | L24: нд | M24: нд | N24: нд | O24: нд | P24: нд | Q24: нд | R24: нд | S24: нд | T24: нд | U24: нд | V24: нд | W24: нд | X24: нд | Y24: нд | Z24: нд | AA24: нд | AB24: нд | AC24: нд | AD24: нд | AE24: нд | AF24: нд | AG24: нд | AH24: нд | AI24: нд | AJ24: нд | AK24: нд | AL24: нд | AM24: нд | AN24: нд | AO24: нд | AP24: нд | AQ24: нд | AR24: нд | AS24: нд | AT24: нд | AU24: нд | AV24: нд | AW24: нд | AX24: нд | AY24: нд | AZ24: нд | BA24: нд | BB24: нд | BC24: нд | BD24: нд | BE24: нд | BF24: нд | BG24: нд | BH24: нд | BI24: нд | BJ24: нд | BK24: нд | BL24: нд | BM24: нд
C25: нд | D25: нд | E25: нд | F25: нд | G25: нд | H25: нд | I25: нд | J25: нд | K25: нд | L25: нд | M25: нд | N25: нд | O25: нд | P25: нд | Q25: нд | R25: нд | S25: нд | T25: нд | U25: нд | V25: нд | W25: нд | X25: нд | Y25: нд | Z25: нд | AA25: нд | AB25: нд | AC25: нд | AD25: нд | AE25: нд | AF25: нд | AG25: нд | AH25: нд | AI25: нд | AJ25: нд | AK25: нд | AL25: нд | AM25: нд | AN25: нд | AO25: нд | AP25: нд | AQ25: нд | AR25: нд | AS25: нд | AT25: нд | AU25: нд | AV25: нд | AW25: нд | AX25: нд | AY25: нд | AZ25: нд | BA25: нд | BB25: нд | BC25: нд | BD25: нд | BE25: нд | BF25: нд | BG25: нд | BH25: нд | BI25: нд | BJ25: нд | BK25: нд | BL25: нд | BM25: нд
A26: 1 | B26: Вологодская область | C26: нд | D26: нд | E26: нд | F26: нд | G26: нд | H26: нд | I26: нд | J26: нд | K26: нд | L26: нд | M26: нд | N26: нд | O26: нд | P26: нд | Q26: нд | R26: нд | S26: нд | T26: нд | U26: нд | V26: нд | W26: нд | X26: нд | Y26: нд | Z26: нд | AA26: нд | AB26: нд | AC26: нд | AD26: нд | AE26: нд | AF26: нд | AG26: нд | AH26: нд | AI26: нд | AJ26: нд | AK26: нд | AL26: нд | AM26: нд | AN26: нд | AO26: нд | AP26: нд | AQ26: нд | AR26: нд | AS26: нд | AT26: нд | AU26: нд | AV26: нд | AW26: нд | AX26: нд | AY26: нд | AZ26: нд | BA26: нд | BB26: нд | BC26: нд | BD26: нд | BE26: нд | BF26: нд | BG26: нд | BH26: нд | BI26: нд | BJ26: нд | BK26: нд | BL26: нд | BM26: нд
A27: 1.1 | B27: Технологическое присоединение, всего, в том числе: | C27: нд | D27: нд | E27: нд | F27: нд | G27: нд | H27: нд | I27: нд | J27: нд | K27: нд | L27: нд | M27: нд | N27: нд | O27: нд | P27: нд | Q27: нд | R27: нд | S27: нд | T27: нд | U27: нд | V27: нд | W27: нд | X27: нд | Y27: нд | Z27: нд | AA27: нд | AB27: нд | AC27: нд | AD27: нд | AE27: нд | AF27: нд | AG27: нд | AH27: нд | AI27: нд | AJ27: нд | AK27: нд | AL27: нд | AM27: нд | AN27: нд | AO27: нд | AP27: нд | AQ27: нд | AR27: нд | AS27: нд | AT27: нд | AU27: нд | AV27: нд | AW27: нд | AX27: нд | AY27: нд | AZ27: нд | BA27: нд | BB27: нд | BC27: нд | BD27: нд | BE27: нд | BF27: нд | BG27: нд | BH27: нд | BI27: нд | BJ27: нд | BK27: нд | BL27: нд | BM27: нд
A28: 1.1.1 | B28: Технологическое присоединение энергопринимающих устройств потребителей, всего, в том числе: | C28: нд | D28: нд | E28: нд | F28: нд | G28: нд | H28: нд | I28: нд | J28: нд | K28: нд | L28: нд | M28: нд | N28: нд | O28: нд | P28: нд | Q28: нд | R28: нд | S28: нд | T28: нд | U28: нд | V28: нд | W28: нд | X28: нд | Y28: нд | Z28: нд | AA28: нд | AB28: нд | AC28: нд | AD28: нд | AE28: нд | AF28: нд | AG28: нд | AH28: нд | AI28: нд | AJ28: нд | AK28: нд | AL28: нд | AM28: нд | AN28: нд | AO28: нд | AP28: нд | AQ28: нд | AR28: нд | AS28: нд | AT28: нд | AU28: нд | AV28: нд | AW28: нд | AX28: нд | AY28: нд | AZ28: нд | BA28: нд | BB28: нд | BC28: нд | BD28: нд | BE28: нд | BF28: нд | BG28: нд | BH28: нд | BI28: нд | BJ28: нд | BK28: нд | BL28: нд | BM28: нд
A29: 1.1.1.1 | B29: Технологическое присоединение энергопринимающих устройств потребителей максимальной мощностью до 15 кВт включительно, всего | C29: нд | D29: С | E29: 2018 | F29: 2019 | G29: 2019 | H29: нд | I29: нд | J29: нд | K29: нд | L29: нд | M29: 2018 | N29: нд | O29: нд | P29: нд | Q29: нд | R29: нд | S29: нд | T29: нд | U29: нд | V29: нд | W29: нд | X29: нд | Y29: нд | Z29: нд | AA29: нд | AB29: нд | AC29: нд | AD29: нд | AE29: нд | AF29: нд | AG29: нд | AH29: нд | AI29: нд | AJ29: нд | AK29: нд | AL29: нд | AM29: нд | AN29: нд | AO29: нд | AP29: нд | AQ29: нд | AR29: нд | AS29: нд | AT29: нд | AU29: нд | AV29: нд | AW29: нд | AX29: нд | AY29: нд | AZ29: нд | BA29: нд | BB29: нд | BC29: нд | BD29: нд | BE29: нд | BF29: нд | BG29: нд | BH29: нд | BI29: нд | BJ29: нд | BK29: нд | BL29: нд | BM29: нд
A30: 1.1.1.2 | B30: Технологическое присоединение энергопринимающих устройств потребителей максимальной мощностью до 150 кВт включительно, всего | C30: нд | D30: нд | E30: нд | F30: нд | G30: нд | H30: нд | I30: нд | J30: нд | K30: нд | L30: нд | M30: нд | N30: нд | O30: нд | P30: нд | Q30: нд | R30: нд | S30: нд | T30: нд | U30: нд | V30: нд | W30: нд | X30: нд | Y30: нд | Z30: нд | AA30: нд | AB30: нд | AC30: нд | AD30: нд | AE30: нд | AF30: нд | AG30: нд | AH30: нд | AI30: нд | AJ30: нд | AK30: нд | AL30: нд | AM30: нд | AN30: нд | AO30: нд | AP30: нд | AQ30: нд | AR30: нд | AS30: нд | AT30: нд | AU30: нд | AV30: нд | AW30: нд | AX30: нд | AY30: нд | AZ30: нд | BA30: нд | BB30: нд | BC30: нд | BD30: нд | BE30: нд | BF30: нд | BG30: нд | BH30: нд | BI30: нд | BJ30: нд | BK30: нд | BL30: нд | BM30: нд
A31: 1.1.1.3 | B31: Технологическое присоединение энергопринимающих устройств потребителей свыше 150 кВт, всего, в том числе: | C31: нд | D31: нд | E31: нд | F31: нд | G31: нд | H31: нд | I31: нд | J31: нд | K31: нд | L31: нд | M31: нд | N31: нд | O31: нд | P31: нд | Q31: нд | R31: нд | S31: нд | T31: нд | U31: нд | V31: нд | W31: нд | X31: нд | Y31: нд | Z31: нд | AA31: нд | AB31: нд | AC31: нд | AD31: нд | AE31: нд | AF31: нд | AG31: нд | AH31: нд | AI31: нд | AJ31: нд | AK31: нд | AL31: нд | AM31: нд | AN31: нд | AO31: нд | AP31: нд | AQ31: нд | AR31: нд | AS31: нд | AT31: нд | AU31: нд | AV31: нд | AW31: нд | AX31: нд | AY31: нд | AZ31: нд | BA31: нд | BB31: нд | BC31: нд | BD31: нд | BE31: нд | BF31: нд | BG31: нд | BH31: нд | BI31: нд | BJ31: нд | BK31: нд | BL31: нд | BM31: нд
A32: 1.1.2 | B32: Технологическое присоединение объектов электросетевого хозяйства, всего, в том числе: | C32: нд | D32: нд | E32: нд | F32: нд | G32: нд | H32: нд | I32: нд | J32: нд | K32: нд | L32: нд | M32: нд | N32: нд | O32: нд | P32: нд | Q32: нд | R32: нд | S32: нд | T32: нд | U32: нд | V32: нд | W32: нд | X32: нд | Y32: нд | Z32: нд | AA32: нд | AB32: нд | AC32: нд | AD32: нд | AE32: нд | AF32: нд | AG32: нд | AH32: нд | AI32: нд | AJ32: нд | AK32: нд | AL32: нд | AM32: нд | AN32: нд | AO32: нд | AP32: нд | AQ32: нд | AR32: нд | AS32: нд | AT32: нд | AU32: нд | AV32: нд | AW32: нд | AX32: нд | AY32: нд | AZ32: нд | BA32: нд | BB32: нд | BC32: нд | BD32: нд | BE32: нд | BF32: нд | BG32: нд | BH32: нд | BI32: нд | BJ32: нд | BK32: нд | BL32: нд | BM32: нд
A33: 1.1.2.1 | B33: Технологическое присоединение объектов электросетевого хозяйства, принадлежащих иным сетевым организациям и иным лицам, всего, в том числе: | C33: нд | D33: нд | E33: нд | F33: нд | G33: нд | H33: нд | I33: нд | J33: нд | K33: нд | L33: нд | M33: нд | N33: нд | O33: нд | P33: нд | Q33: нд | R33: нд | S33: нд | T33: нд | U33: нд | V33: нд | W33: нд | X33: нд | Y33: нд | Z33: нд | AA33: нд | AB33: нд | AC33: нд | AD33: нд | AE33: нд | AF33: нд | AG33: нд | AH33: нд | AI33: нд | AJ33: нд | AK33: нд | AL33: нд | AM33: нд | AN33: нд | AO33: нд | AP33: нд | AQ33: нд | AR33: нд | AS33: нд | AT33: нд | AU33: нд | AV33: нд | AW33: нд | AX33: нд | AY33: нд | AZ33: нд | BA33: нд | BB33: нд | BC33: нд | BD33: нд | BE33: нд | BF33: нд | BG33: нд | BH33: нд | BI33: нд | BJ33: нд | BK33: нд | BL33: нд | BM33: нд
A34: 1.1.2.2 | B34: Технологическое присоединение к электрическим сетям иных сетевых организаций, всего, в том числе: | C34: нд | D34: нд | E34: нд | F34: нд | G34: нд | H34: нд | I34: нд | J34: нд | K34: нд | L34: нд | M34: нд | N34: нд | O34: нд | P34: нд | Q34: нд | R34: нд | S34: нд | T34: нд | U34: нд | V34: нд | W34: нд | X34: нд | Y34: нд | Z34: нд | AA34: нд | AB34: нд | AC34: нд | AD34: нд | AE34: нд | AF34: нд | AG34: нд | AH34: нд | AI34: нд | AJ34: нд | AK34: нд | AL34: нд | AM34: нд | AN34: нд | AO34: нд | AP34: нд | AQ34: нд | AR34: нд | AS34: нд | AT34: нд | AU34: нд | AV34: нд | AW34: нд | AX34: нд | AY34: нд | AZ34: нд | BA34: нд | BB34: нд | BC34: нд | BD34: нд | BE34: нд | BF34: нд | BG34: нд | BH34: нд | BI34: нд | BJ34: нд | BK34: нд | BL34: нд | BM34: нд
A35: 1.1.3 | B35: Технологическое присоединение объектов по производству электрической энергии всего, в том числе: | C35: нд | D35: нд | E35: нд | F35: нд | G35: нд | H35: нд | I35: нд | J35: нд | K35: нд | L35: нд | M35: нд | N35: нд | O35: нд | P35: нд | Q35: нд | R35: нд | S35: нд | T35: нд | U35: нд | V35: нд | W35: нд | X35: нд | Y35: нд | Z35: нд | AA35: нд | AB35: нд | AC35: нд | AD35: нд | AE35: нд | AF35: нд | AG35: нд | AH35: нд | AI35: нд | AJ35: нд | AK35: нд | AL35: нд | AM35: нд | AN35: нд | AO35: нд | AP35: нд | AQ35: нд | AR35: нд | AS35: нд | AT35: нд | AU35: нд | AV35: нд | AW35: нд | AX35: нд | AY35: нд | AZ35: нд | BA35: нд | BB35: нд | BC35: нд | BD35: нд | BE35: нд | BF35: нд | BG35: нд | BH35: нд | BI35: нд | BJ35: нд | BK35: нд | BL35: нд | BM35: нд
A36: 1.1.3.1 | B36: Наименование объекта по производству электрической энергии, всего, в том числе: | C36: нд | D36: нд | E36: нд | F36: нд | G36: нд | H36: нд | I36: нд | J36: нд | K36: нд | L36: нд | M36: нд | N36: нд | O36: нд | P36: нд | Q36: нд | R36: нд | S36: нд | T36: нд | U36: нд | V36: нд | W36: нд | X36: нд | Y36: нд | Z36: нд | AA36: нд | AB36: нд | AC36: нд | AD36: нд | AE36: нд | AF36: нд | AG36: нд | AH36: нд | AI36: нд | AJ36: нд | AK36: нд | AL36: нд | AM36: нд | AN36: нд | AO36: нд | AP36: нд | AQ36: нд | AR36: нд | AS36: нд | AT36: нд | AU36: нд | AV36: нд | AW36: нд | AX36: нд | AY36: нд | AZ36: нд | BA36: нд | BB36: нд | BC36: нд | BD36: нд | BE36: нд | BF36: нд | BG36: нд | BH36: нд | BI36: нд | BJ36: нд | BK36: нд | BL36: нд | BM36: нд
A37: 1.1.3.1 | B37: Строительство новых объектов электросетевого хозяйства (за исключением усиления существующей электрической сети) в целях осуществления технологического присоединения объекта по производству электрической энергии, всего, в том числе: | C37: нд | D37: нд | E37: нд | F37: нд | G37: нд | H37: нд | I37: нд | J37: нд | K37: нд | L37: нд | M37: нд | N37: нд | O37: нд | P37: нд | Q37: нд | R37: нд | S37: нд | T37: нд | U37: нд | V37: нд | W37: нд | X37: нд | Y37: нд | Z37: нд | AA37: нд | AB37: нд | AC37: нд | AD37: нд | AE37: нд | AF37: нд | AG37: нд | AH37: нд | AI37: нд | AJ37: нд | AK37: нд | AL37: нд | AM37: нд | AN37: нд | AO37: нд | AP37: нд | AQ37: нд | AR37: нд | AS37: нд | AT37: нд | AU37: нд | AV37: нд | AW37: нд | AX37: нд | AY37: нд | AZ37: нд | BA37: нд | BB37: нд | BC37: нд | BD37: нд | BE37: нд | BF37: нд | BG37: нд | BH37: нд | BI37: нд | BJ37: нд | BK37: нд | BL37: нд | BM37: нд
A38: 1.1.3.1 | B38: Строительство новых объектов электросетевого хозяйства для усиления электрической сети в целях осуществления технологического присоединения объекта по производству электрической энергии, всего, в том числе: | C38: нд | D38: нд | E38: нд | F38: нд | G38: нд | H38: нд | I38: нд | J38: нд | K38: нд | L38: нд | M38: нд | N38: нд | O38: нд | P38: нд | Q38: нд | R38: нд | S38: нд | T38: нд | U38: нд | V38: нд | W38: нд | X38: нд | Y38: нд | Z38: нд | AA38: нд | AB38: нд | AC38: нд | AD38: нд | AE38: нд | AF38: нд | AG38: нд | AH38: нд | AI38: нд | AJ38: нд | AK38: нд | AL38: нд | AM38: нд | AN38: нд | AO38: нд | AP38: нд | AQ38: нд | AR38: нд | AS38: нд | AT38: нд | AU38: нд | AV38: нд | AW38: нд | AX38: нд | AY38: нд | AZ38: нд | BA38: нд | BB38: нд | BC38: нд | BD38: нд | BE38: нд | BF38: нд | BG38: нд | BH38: нд | BI38: нд | BJ38: нд | BK38: нд | BL38: нд | BM38: нд
A39: 1.1.3.1 | B39: Реконструкция существующих объектов электросетевого хозяйства для усиления электрической сети в целях осуществления технологического присоединения объекта по производству электрической энергии всего, в том числе: | C39: нд | D39: нд | E39: нд | F39: нд | G39: нд | H39: нд | I39: нд | J39: нд | K39: нд | L39: нд | M39: нд | N39: нд | O39: нд | P39: нд | Q39: нд | R39: нд | S39: нд | T39: нд | U39: нд | V39: нд | W39: нд | X39: нд | Y39: нд | Z39: нд | AA39: нд | AB39: нд | AC39: нд | AD39: нд | AE39: нд | AF39: нд | AG39: нд | AH39: нд | AI39: нд | AJ39: нд | AK39: нд | AL39: нд | AM39: нд | AN39: нд | AO39: нд | AP39: нд | AQ39: нд | AR39: нд | AS39: нд | AT39: нд | AU39: нд | AV39: нд | AW39: нд | AX39: нд | AY39: нд | AZ39: нд | BA39: нд | BB39: нд | BC39: нд | BD39: нд | BE39: нд | BF39: нд | BG39: нд | BH39: нд | BI39: нд | BJ39: нд | BK39: нд | BL39: нд | BM39: нд
A40: 1.1.3.2 | B40: Наименование объекта по производству электрической энергии, всего, в том числе: | C40: нд | D40: нд | E40: нд | F40: нд | G40: нд | H40: нд | I40: нд | J40: нд | K40: нд | L40: нд | M40: нд | N40: нд | O40: нд | P40: нд | Q40: нд | R40: нд | S40: нд | T40: нд | U40: нд | V40: нд | W40: нд | X40: нд | Y40: нд | Z40: нд | AA40: нд | AB40: нд | AC40: нд | AD40: нд | AE40: нд | AF40: нд | AG40: нд | AH40: нд | AI40: нд | AJ40: нд | AK40: нд | AL40: нд | AM40: нд | AN40: нд | AO40: нд | AP40: нд | AQ40: нд | AR40: нд | AS40: нд | AT40: нд | AU40: нд | AV40: нд | AW40: нд | AX40: нд | AY40: нд | AZ40: нд | BA40: нд | BB40: нд | BC40: нд | BD40: нд | BE40: нд | BF40: нд | BG40: нд | BH40: нд | BI40: нд | BJ40: нд | BK40: нд | BL40: нд | BM40: нд
A41: 1.1.3.2 | B41: Строительство новых объектов электросетевого хозяйства (за исключением усиления существующей электрической сети) в целях осуществления технологического присоединения объекта по производству электрической энергии, всего, в том числе: | C41: нд | D41: нд | E41: нд | F41: нд | G41: нд | H41: нд | I41: нд | J41: нд | K41: нд | L41: нд | M41: нд | N41: нд | O41: нд | P41: нд | Q41: нд | R41: нд | S41: нд | T41: нд | U41: нд | V41: нд | W41: нд | X41: нд | Y41: нд | Z41: нд | AA41: нд | AB41: нд | AC41: нд | AD41: нд | AE41: нд | AF41: нд | AG41: нд | AH41: нд | AI41: нд | AJ41: нд | AK41: нд | AL41: нд | AM41: нд | AN41: нд | AO41: нд | AP41: нд | AQ41: нд | AR41: нд | AS41: нд | AT41: нд | AU41: нд | AV41: нд | AW41: нд | AX41: нд | AY41: нд | AZ41: нд | BA41: нд | BB41: нд | BC41: нд | BD41: нд | BE41: нд | BF41: нд | BG41: нд | BH41: нд | BI41: нд | BJ41: нд | BK41: нд | BL41: нд | BM41: нд
... A46: 1.1.4.2 | B46: Реконструкция существующих объектов электросетевого хозяйства для усиления электрической сети в целях осуществления технологического присоединения, всего, в том числе: | C46: нд | D46: нд | E46: нд | F46: нд | G46: нд | H46: нд | I46: нд | J46: нд | K46: нд | L46: нд | M46: нд | N46: нд | O46: нд | P46: нд | Q46: нд | R46: нд | S46: нд | T46: нд | U46: нд | V46: нд | W46: нд | X46: нд | Y46: нд | Z46: нд | AA46: нд | AB46: нд | AC46: нд | AD46: нд | AE46: нд | AF46: нд | AG46: нд | AH46: нд | AI46: нд | AJ46: нд | AK46: нд | AL46: нд | AM46: нд | AN46: нд | AO46: нд | AP46: нд | AQ46: нд | AR46: нд | AS46: нд | AT46: нд | AU46: нд | AV46: нд | AW46: нд | AX46: нд | AY46: нд | AZ46: нд | BA46: нд | BB46: нд | BC46: нд | BD46: нд | BE46: нд | BF46: нд | BG46: нд | BH46: нд | BI46: нд | BJ46: нд | BK46: нд | BL46: нд | BM46: нд
A47: 1.2.2 | B47: Техническое перевооружение и реконструкция | C47: нд | D47: нд | E47: нд | F47: нд | G47: нд | H47: нд | I47: нд | J47: нд | K47: нд | L47: 342.6745 | M47: нд | N47: нд | O47: нд | P47: нд | Q47: нд | R47: 342.6745 | S47: =R47*1.0494 -> 359.60262 | T47: нд | U47: 359.60262 | V47: нд | W47: =W48+W59+W67+W83+W93+W107 -> 147.22662 | X47: =X48+X59+X67+X83+X93+X107 -> 212.38177 | Y47: нд | Z47: нд | AA47: нд | AB47: нд | AC47: нд | AD47: 147.22662 | AE47: нд | AF47: нд | AG47: 147.22662 | AH47: нд | AI47: нд | AJ47: нд | AK47: нд | AL47: нд | AM47: нд | AN47: 147.22662 | AO47: нд | AP47: нд | AQ47: 147.22662 | AR47: нд | AS47: нд | AT47: нд | AU47: нд | AV47: нд | AW47: нд | AX47: 212.38177 | AY47: нд | AZ47: нд | BA47: 212.38177 | BB47: нд | BC47: нд | BD47: нд | BE47: нд | BF47: нд | BG47: нд | BH47: 359.60262 | BI47: нд | BJ47: нд | BK47: 359.60262 | BL47: нд | BM47: нд
B48: Кабельные линии 0,4 кВ. | C48: нд | D48: нд | E48: нд | F48: нд | G48: нд | H48: нд | I48: нд | J48: нд | K48: нд | L48: 3.959 | M48: нд | N48: нд | O48: нд | P48: нд | Q48: нд | R48: 3.959 | S48: =R48*1.0494 -> 4.1545746 | T48: нд | U48: 4.1545746 | V48: нд | W48: =SUM(W49:W52) -> 2.0064528 | X48: =SUM(X53:X58) -> 2.1481218 | Y48: нд | Z48: нд | AA48: нд | AB48: нд | AC48: нд | AD48: 2.0064528 | AE48: нд | AF48: нд | AG48: 2.0064528 | AH48: нд | AI48: нд | AJ48: нд | AK48: нд | AL48: нд | AM48: нд | AN48: 2.0064528 | AO48: нд | AP48: нд | AQ48: 2.0064528 | AR48: нд | AS48: нд | AT48: нд | AU48: нд | AV48: нд | AW48: нд | AX48: 2.1481218 | AY48: нд | AZ48: нд | BA48: 2.1481218 | BB48: нд | BC48: нд | BD48: нд | BE48: нд | BF48: нд | BG48: нд | BH48: 4.1545746 | BI48: нд | BJ48: нд | BK48: 4.1545746 | BL48: нд | BM48: нд
A49: 1.2.2.1 | B49: КЛ 0,4 кВ "ТП103-ВРУ ж/дома, Набережная VIАрмии, д.207а", г.Вологда | C49: ='д) план ввода ОС'!C51 -> I_KL04_1.2.2.1 | D49: С | E49: 2018 | F49: 2018 | G49: 2018 | H49: нд | I49: нд | J49: нд | K49: нд | L49: 0.633 | M49: 2018 | N49: нд | O49: нд | P49: нд | Q49: нд | R49: 0.633 | S49: =R49*1.0494 -> 0.6642702 | T49: нд | U49: 0.6642702 | V49: нд | W49: 0.6642702 | X49: нд | Y49: нд | Z49: нд | AA49: нд | AB49: нд | AC49: нд | AD49: 0.6642702 | AE49: нд | AF49: нд | AG49: 0.6642702 | AH49: нд | AI49: нд | AJ49: нд | AK49: нд | AL49: нд | AM49: нд | AN49: 0.6642702 | AO49: нд | AP49: нд | AQ49: 0.6642702 | AR49: нд | AS49: нд | AT49: нд | AU49: нд | AV49: нд | AW49: нд | AX49: нд | AY49: нд | AZ49: нд | BA49: нд | BB49: нд | BC49: нд | BD49: нд | BE49: нд | BF49: нд | BG49: нд | BH49: 0.6642702 | BI49: нд | BJ49: нд | BK49: 0.6642702 | BL49: нд | BM49: нд
A50: 1.2.2.2 | B50: КЛ 0,4 кВ "ТП103-ВРУ ж/дома, ул.Машиностроительная, д.4", г.Вологда | C50: ='д) план ввода ОС'!C52 -> I_KL04_1.2.2.2 | D50: С | E50: 2018 | F50: 2018 | G50: 2018 | H50: нд | I50: нд | J50: нд | K50: нд | L50: 0.707 | M50: 2018 | N50: нд | O50: нд | P50: нд | Q50: нд | R50: 0.707 | S50: =R50*1.0494 -> 0.7419258 | T50: нд | U50: 0.7419258 | V50: нд | W50: 0.7419258 | X50: нд | Y50: нд | Z50: нд | AA50: нд | AB50: нд | AC50: нд | AD50: 0.7419258 | AE50: нд | AF50: нд | AG50: 0.7419258 | AH50: нд | AI50: нд | AJ50: нд | AK50: нд | AL50: нд | AM50: нд | AN50: 0.7419258 | AO50: нд | AP50: нд | AQ50: 0.7419258 | AR50: нд | AS50: нд | AT50: нд | AU50: нд | AV50: нд | AW50: нд | AX50: нд | AY50: нд | AZ50: нд | BA50: нд | BB50: нд | BC50: нд | BD50: нд | BE50: нд | BF50: нд | BG50: нд | BH50: 0.7419258 | BI50: нд | BJ50: нд | BK50: 0.7419258 | BL50: нд | BM50: нд
...

Sheet б) освоение кап.вл.
A4: План освоения капитальных вложений по инвестиционным проектам
A6: Инвестиционная программа АО "Вологдаоблэнерго"
A7: полное наименование субъекта электроэнергетики
A9: Год раскрытия информации: 2017 год
A11: Утвержденные плановые значения показателей приведены в соответствии с Инвестиционной программой АО "Вологдаоблэнерго" на 2015-2019 гг, утвержденной Департаментом ТЭК Вологодской области 31.12.2014 г.
A12: реквизиты решения органа исполнительной власти, утвердившего инвестиционную программу
A14: Номер группы инвести-ционных проектов | B14: Наименование инвестиционного проекта (группы инвестиционных проектов) | C14: Идентифика-тор инвестицион-ного проекта | D14: Текущая стадия реализации инвестиционного проекта | E14: Год начала реализации инвестиционного проекта | F14: Год окончания реализации инвестиционного проекта | H14: Полная сметная стоимость инвестиционного проекта в соответствии с утвержденной проектной документацией в базисном уровне цен, млн рублей (без НДС) | J14: Фактический объем освоения капитальных вложений на 01.01.2017года, млн рублей (без НДС) | K14: Оценка полной стоимости в прогнозных ценах соответствующих лет, млн рублей (без НДС) | U14: Остаток освоения капитальных вложений, млн рублей (без НДС) | AA14: Освоение капитальных вложений года 2017 в прогнозных ценах соответствующих лет, млн рублей (без НДС) | AC14: Освоение капитальных вложений в прогнозных ценах соответствующих лет, млн рублей (без НДС) | AK14: Краткое обоснование корректировки утвержденного плана
K15: План | P15: Предложение по корректировке утвержденного плана | U15: План на 01.01.2017 | W15: План на 01.01.2018 | Y15: Предложение по корректировке утвержденного плана на 01.01.2019 | AC15: 2017 год | AE15: 2018 год | AG15: 2019 год | AI15: Итого за период реализации инвестиционной программы (план) | AJ15: Итого за период реализации инвестиционной программы (предложение по корректировке утвержденного плана)
F16: План | G16: Предложение по корректировке утвержденного плана | H16: План | I16: Предложение по корректировке утвержденного плана | K16: Всего, в т.ч.: | L16: проектно-изыскательские работы | M16: строительные работы, реконструкция, монтаж оборудования | N16: оборудование | O16: прочие затраты | P16: Всего, в т.ч.: | Q16: проектно-изыскательские работы | R16: строительные работы, реконструкция, монтаж оборудования | S16: оборудование | T16: прочие затраты | U16: в базисном уровне цен | V16: в прогнозных ценах соответствующих лет | W16: в базисном уровне цен | X16: в прогнозных ценах соответствующих лет | Y16: в базисном уровне цен | Z16: в прогнозных ценах соответствующих лет | AA16: План (Утвержденный план) | AB16: Факт (Предложение по корректировке утвержденного плана) | AC16: План (Утвержденный план) | AD16: Факт (Предложение по корректировке утвержденного плана) | AE16: План (Утвержденный план) | AF16: Факт (Предложение по корректировке плана) | AG16: План (Утвержденный план) | AH16: Факт (Предложение по корректировке плана)
A17: 1 | B17: 2 | C17: 3 | D17: 4 | E17: 5 | F17: 6 | G17: 7 | H17: 8 | I17: 9 | J17: 10 | K17: 11 | L17: 12 | M17: 13 | N17: 14 | O17: 15 | P17: 16 | Q17: 17 | R17: 18 | S17: 19 | T17: 20 | U17: 21 | V17: 22 | W17: 23 | X17: 24 | Y17: 25 | Z17: 26 | AA17: 27 | AB17: 28 | AC17: 29.1 | AD17: 29.2 | AE17: 29.3 | AF17: 29.4 | AG17: 29.5 | AH17: 29.6 | AI17: 30 | AJ17: 31 | AK17: 32
A18: 0 | B18: ВСЕГО по инвестиционной программе, в том числе: | C18: нд | D18: нд | E18: нд | F18: нд | G18: нд | H18: =156.241+164.053 -> 320.294 | I18: 622.83093 | J18: нд | K18: нд | L18: нд | M18: нд | N18: нд | O18: нд | P18: 622.83093 | Q18: =Q20 -> 0.58644068 | R18: =R20+R22 -> 442.79873 | S18: =S22+T132 -> 179.44576 | T18: нд | U18: нд | V18: нд | W18: нд | X18: нд | Y18: нд | Z18: 622.83093 | AA18: нд | AB18: нд | AC18: нд | AD18: нд | AE18: нд | AF18: 296.62803 | AG18: нд | AH18: 356.98809 | AI18: нд | AJ18: 653.59878 | AK18: нд
A19: 0.1 | B19: Технологическое присоединение, всего | C19: нд | D19: нд | E19: нд | F19: нд | G19: нд | H19: нд | I19: нд | J19: нд | K19: нд | L19: нд | M19: нд | N19: нд | O19: нд | P19: нд | Q19: нд | R19: нд | S19: нд | T19: нд | U19: нд | V19: нд | W19: нд | X19: нд | Y19: нд | Z19: нд | AA19: нд | AB19: нд | AC19: нд | AD19: нд | AE19: нд | AF19: 0 | AG19: нд | AH19: 0 | AI19: нд | AJ19: 0 | AK19: нд
A20: 0.2 | B20: Реконструкция, модернизация, техническое перевооружение, всего | C20: нд | D20: нд | E20: нд | F20: нд | G20: нд | H20: нд | I20: 290.40212 | J20: нд | K20: нд | L20: нд | M20: нд | N20: нд | O20: нд | P20: 290.40212 | Q20: =Q97 -> 0.58644068 | R20: =R47-Q20 -> 289.81568 | S20: =S47 -> нд | T20: =T47 -> нд | U20: нд | V20: нд | W20: нд | X20: нд | Y20: нд | Z20: 290.40212 | AA20: нд | AB20: нд | AC20: нд | AD20: нд | AE20: нд | AF20: 124.76832 | AG20: нд | AH20: 179.98455 | AI20: нд | AJ20: 304.74798 | AK20: нд
A21: 0.3 | B21: Инвестиционные проекты, реализация которых обуславливается схемами и программами перспективного развития электроэнергетики, всего | C21: нд | D21: нд | E21: нд | F21: нд | G21: нд | H21: нд | I21: нд | J21: нд | K21: нд | L21: нд | M21: нд | N21: нд | O21: нд | P21: нд | Q21: нд | R21: нд | S21: нд | T21: нд | U21: нд | V21: нд | W21: нд | X21: нд | Y21: нд | Z21: нд | AA21: нд | AB21: нд | AC21: нд | AD21: нд | AE21: нд | AF21: 0 | AG21: нд | AH21: 0 | AI21: нд | AJ21: 0 | AK21: нд
A22: 0.4 | B22: Прочее новое строительство объектов электросетевого хозяйства, всего | C22: нд | D22: нд | E22: нд | F22: нд | G22: нд | H22: нд | I22: 292.10085 | J22: нд | K22: нд | L22: нд | M22: нд | N22: нд | O22: нд | P22: 292.10085 | Q22: нд | R22: =R110 -> 152.98305 | S22: =S110 -> 139.1178 | T22: =T110 -> нд | U22: нд | V22: нд | W22: нд | X22: нд | Y22: нд | Z22: 292.10085 | AA22: нд | AB22: нд | AC22: нд | AD22: нд | AE22: нд | AF22: 153.12169 | AG22: нд | AH22: 153.42762 | AI22: нд | AJ22: 306.53063 | AK22: нд
A23: 0.5 | B23: Покупка земельных участков для целей реализации инвестиционных проектов, всего | C23: нд | D23: нд | E23: нд | F23: нд | G23: нд | H23: нд | I23: нд | J23: нд | K23: нд | L23: нд | M23: нд | N23: нд | O23: нд | P23: нд | Q23: нд | R23: нд | S23: нд | T23: нд | U23: нд | V23: нд | W23: нд | X23: нд | Y23: нд | Z23: нд | AA23: нд | AB23: нд | AC23: нд | AD23: нд | AE23: нд | AF23: 0 | AG23: нд | AH23: 0 | AI23: нд | AJ23: 0 | AK23: нд
A24: 0.6 | B24: Прочие инвестиционные проекты, всего | C24: нд | D24: нд | E24: нд | F24: нд | G24: нд | H24: нд | I24: нд | J24: нд | K24: нд | L24: нд | M24: нд | N24: нд | O24: нд | P24: нд | Q24: нд | R24: нд | S24: нд | T24: нд | U24: нд | V24: нд | W24: нд | X24: нд | Y24: нд | Z24: нд | AA24: нд | AB24: нд | AC24: нд | AD24: нд | AE24: нд | AF24: 0 | AG24: нд | AH24: 0 | AI24: нд | AJ24: 0 | AK24: нд
C25: нд | D25: нд | E25: нд | F25: нд | G25: нд | H25: нд | I25: нд | J25: нд | K25: нд | L25: нд | M25: нд | N25: нд | O25: нд | P25: нд | Q25: нд | R25: нд | S25: нд | T25: нд | U25: нд | V25: нд | W25: нд | X25: нд | Y25: нд | Z25: нд | AA25: нд | AB25: нд | AC25: нд | AD25: нд | AE25: нд | AF25: 0 | AG25: нд | AH25: 0 | AI25: нд | AJ25: 0 | AK25: нд
A26: 1 | B26: Вологодская область | C26: нд | D26: нд | E26: нд | F26: нд | G26: нд | H26: нд | I26: нд | J26: нд | K26: нд | L26: нд | M26: нд | N26: нд | O26: нд | P26: нд | Q26: нд | R26: нд | S26: нд | T26: нд | U26: нд | V26: нд | W26: нд | X26: нд | Y26: нд | Z26: нд | AA26: нд | AB26: нд | AC26: нд | AD26: нд | AE26: нд | AF26: 0 | AG26: нд | AH26: 0 | AI26: нд | AJ26: 0 | AK26: нд
A27: 1.1 | B27: Технологическое присоединение, всего, в том числе: | C27: нд | D27: нд | E27: нд | F27: нд | G27: нд | H27: нд | I27: нд | J27: нд | K27: нд | L27: нд | M27: нд | N27: нд | O27: нд | P27: нд | Q27: нд | R27: нд | S27: нд | T27: нд | U27: нд | V27: нд | W27: нд | X27: нд | Y27: нд | Z27: нд | AA27: нд | AB27: нд | AC27: нд | AD27: нд | AE27: нд | AF27: 0 | AG27: нд | AH27: 0 | AI27: нд | AJ27: 0 | AK27: нд
A28: 1.1.1 | B28: Технологическое присоединение энергопринимающих устройств потребителей, всего, в том числе: | C28: нд | D28: нд | E28: нд | F28: нд | G28: нд | H28: нд | I28: нд | J28: нд | K28: нд | L28: нд | M28: нд | N28: нд | O28: нд | P28: нд | Q28: нд | R28: нд | S28: нд | T28: нд | U28: нд | V28: нд | W28: нд | X28: нд | Y28: нд | Z28: нд | AA28: нд | AB28: нд | AC28: нд | AD28: нд | AE28: нд | AF28: 0 | AG28: нд | AH28: 0 | AI28: нд | AJ28: 0 | AK28: нд
A29: 1.1.1.1 | B29: Технологическое присоединение энергопринимающих устройств потребителей максимальной мощностью до 15 кВт включительно, всего | C29: нд | D29: С | E29: 2018 | F29: 2019 | G29: 2019 | H29: нд | I29: нд | J29: нд | K29: нд | L29: нд | M29: нд | N29: нд | O29: нд | P29: нд | Q29: нд | R29: нд | S29: нд | T29: нд | U29: нд | V29: нд | W29: нд | X29: нд | Y29: нд | Z29: нд | AA29: нд | AB29: нд | AC29: нд | AD29: нд | AE29: нд | AF29: 0 | AG29: нд | AH29: 0 | AI29: нд | AJ29: 0 | AK29: нд
A30: 1.1.1.2 | B30: Технологическое присоединение энергопринимающих устройств потребителей максимальной мощностью до 150 кВт включительно, всего | C30: нд | D30: нд | E30: нд | F30: нд | G30: нд | H30: нд | I30: нд | J30: нд | K30: нд | L30: нд | M30: нд | N30: нд | O30: нд | P30: нд | Q30: нд | R30: нд | S30: нд | T30: нд | U30: нд | V30: нд | W30: нд | X30: нд | Y30: нд | Z30: нд | AA30: нд | AB30: нд | AC30: нд | AD30: нд | AE30: нд | AF30: 0 | AG30: нд | AH30: 0 | AI30: нд | AJ30: 0 | AK30: нд
A31: 1.1.1.3 | B31: Технологическое присоединение энергопринимающих устройств потребителей свыше 150 кВт, всего, в том числе: | C31: нд | D31: нд | E31: нд | F31: нд | G31: нд | H31: нд | I31: нд | J31: нд | K31: нд | L31: нд | M31: нд | N31: нд | O31: нд | P31: нд | Q31: нд | R31: нд | S31: нд | T31: нд | U31: нд | V31: нд | W31: нд | X31: нд | Y31: нд | Z31: нд | AA31: нд | AB31: нд | AC31: нд | AD31: нд | AE31: нд | AF31: 0 | AG31: нд | AH31: 0 | AI31: нд | AJ31: 0 | AK31: нд
A32: 1.1.2 | B32: Технологическое присоединение объектов электросетевого хозяйства, всего, в том числе: | C32: нд | D32: нд | E32: нд | F32: нд | G32: нд | H32: нд | I32: нд | J32: нд | K32: нд | L32: нд | M32: нд | N32: нд | O32: нд | P32: нд | Q32: нд | R32: нд | S32: нд | T32: нд | U32: нд | V32: нд | W32: нд | X32: нд | Y32: нд | Z32: нд | AA32: нд | AB32: нд | AC32: нд | AD32: нд | AE32: нд | AF32: 0 | AG32: нд | AH32: 0 | AI32: нд | AJ32: 0 | AK32: нд
A33: 1.1.2.1 | B33: Технологическое присоединение объектов электросетевого хозяйства, принадлежащих иным сетевым организациям и иным лицам, всего, в том числе: | C33: нд | D33: нд | E33: нд | F33: нд | G33: нд | H33: нд | I33: нд | J33: нд | K33: нд | L33: нд | M33: нд | N33: нд | O33: нд | P33: нд | Q33: нд | R33: нд | S33: нд | T33: нд | U33: нд | V33: нд | W33: нд | X33: нд | Y33: нд | Z33: нд | AA33: нд | AB33: нд | AC33: нд | AD33: нд | AE33: нд | AF33: 0 | AG33: нд | AH33: 0 | AI33: нд | AJ33: 0 | AK33: нд
A34: 1.1.2.2 | B34: Технологическое присоединение к электрическим сетям иных сетевых организаций, всего, в том числе: | C34: нд | D34: нд | E34: нд | F34: нд | G34: нд | H34: нд | I34: нд | J34: нд | K34: нд | L34: нд | M34: нд | N34: нд | O34: нд | P34: нд | Q34: нд | R34: нд | S34: нд | T34: нд | U34: нд | V34: нд | W34: нд | X34: нд | Y34: нд | Z34: нд | AA34: нд | AB34: нд | AC34: нд | AD34: нд | AE34: нд | AF34: 0 | AG34: нд | AH34: 0 | AI34: нд | AJ34: 0 | AK34: нд
A35: 1.1.3 | B35: Технологическое присоединение объектов по производству электрической энергии всего, в том числе: | C35: нд | D35: нд | E35: нд | F35: нд | G35: нд | H35: нд | I35: нд | J35: нд | K35: нд | L35: нд | M35: нд | N35: нд | O35: нд | P35: нд | Q35: нд | R35: нд | S35: нд | T35: нд | U35: нд | V35: нд | W35: нд | X35: нд | Y35: нд | Z35: нд | AA35: нд | AB35: нд | AC35: нд | AD35: нд | AE35: нд | AF35: 0 | AG35: нд | AH35: 0 | AI35: нд | AJ35: 0 | AK35: нд
A36: 1.1.3.1 | B36: Наименование объекта по производству электрической энергии, всего, в том числе: | C36: нд | D36: нд | E36: нд | F36: нд | G36: нд | H36: нд | I36: нд | J36: нд | K36: нд | L36: нд | M36: нд | N36: нд | O36: нд | P36: нд | Q36: нд | R36: нд | S36: нд | T36: нд | U36: нд | V36: нд | W36: нд | X36: нд | Y36: нд | Z36: нд | AA36: нд | AB36: нд | AC36: нд | AD36: нд | AE36: нд | AF36: 0 | AG36: нд | AH36: 0 | AI36: нд | AJ36: 0 | AK36: нд
A37: 1.1.3.1 | B37: Строительство новых объектов электросетевого хозяйства (за исключением усиления существующей электрической сети) в целях осуществления технологического присоединения объекта по производству электрической энергии, всего, в том числе: | C37: нд | D37: нд | E37: нд | F37: нд | G37: нд | H37: нд | I37: нд | J37: нд | K37: нд | L37: нд | M37: нд | N37: нд | O37: нд | P37: нд | Q37: нд | R37: нд | S37: нд | T37: нд | U37: нд | V37: нд | W37: нд | X37: нд | Y37: нд | Z37: нд | AA37: нд | AB37: нд | AC37: нд | AD37: нд | AE37: нд | AF37: 0 | AG37: нд | AH37: 0 | AI37: нд | AJ37: 0 | AK37: нд
A38: 1.1.3.1 | B38: Строительство новых объектов электросетевого хозяйства для усиления электрической сети в целях осуществления технологического присоединения объекта по производству электрической энергии, всего, в том числе: | C38: нд | D38: нд | E38: нд | F38: нд | G38: нд | H38: нд | I38: нд | J38: нд | K38: нд | L38: нд | M38: нд | N38: нд | O38: нд | P38: нд | Q38: нд | R38: нд | S38: нд | T38: нд | U38: нд | V38: нд | W38: нд | X38: нд | Y38: нд | Z38: нд | AA38: нд | AB38: нд | AC38: нд | AD38: нд | AE38: нд | AF38: 0 | AG38: нд | AH38: 0 | AI38: нд | AJ38: 0 | AK38: нд
A39: 1.1.3.1 | B39: Реконструкция существующих объектов электросетевого хозяйства для усиления электрической сети в целях осуществления технологического присоединения объекта по производству электрической энергии всего, в том числе: | C39: нд | D39: нд | E39: нд | F39: нд | G39: нд | H39: нд | I39: нд | J39: нд | K39: нд | L39: нд | M39: нд | N39: нд | O39: нд | P39: нд | Q39: нд | R39: нд | S39: нд | T39: нд | U39: нд | V39: нд | W39: нд | X39: нд | Y39: нд | Z39: нд | AA39: нд | AB39: нд | AC39: нд | AD39: нд | AE39: нд | AF39: 0 | AG39: нд | AH39: 0 | AI39: нд | AJ39: 0 | AK39: нд
A40: 1.1.3.2 | B40: Наименование объекта по производству электрической энергии, всего, в том числе: | C40: нд | D40: нд | E40: нд | F40: нд | G40: нд | H40: нд | I40: нд | J40: нд | K40: нд | L40: нд | M40: нд | N40: нд | O40: нд | P40: нд | Q40: нд | R40: нд | S40: нд | T40: нд | U40: нд | V40: нд | W40: нд | X40: нд | Y40: нд | Z40: нд | AA40: нд | AB40: нд | AC40: нд | AD40: нд | AE40: нд | AF40: 0 | AG40: нд | AH40: 0 | AI40: нд | AJ40: 0 | AK40: нд
A41: 1.1.3.2 | B41: Строительство новых объектов электросетевого хозяйства (за исключением усиления существующей электрической сети) в целях осуществления технологического присоединения объекта по производству электрической энергии, всего, в том числе: | C41: нд | D41: нд | E41: нд | F41: нд | G41: нд | H41: нд | I41: нд | J41: нд | K41: нд | L41: нд | M41: нд | N41: нд | O41: нд | P41: нд | Q41: нд | R41: нд | S41: нд | T41: нд | U41: нд | V41: нд | W41: нд | X41: нд | Y41: нд | Z41: нд | AA41: нд | AB41: нд | AC41: нд | AD41: нд | AE41: нд | AF41: 0 | AG41: нд | AH41: 0 | AI41: нд | AJ41: 0 | AK41: нд
... A46: 1.1.4.2 | B46: Реконструкция существующих объектов электросетевого хозяйства для усиления электрической сети в целях осуществления технологического присоединения, всего, в том числе: | C46: нд | D46: нд | E46: нд | F46: нд | G46: нд | H46: нд | I46: нд | J46: нд | K46: нд | L46: нд | M46: нд | N46: нд | O46: нд | P46: нд | Q46: нд | R46: нд | S46: нд | T46: нд | U46: нд | V46: нд | W46: нд | X46: нд | Y46: нд | Z46: нд | AA46: нд | AB46: нд | AC46: нд | AD46: нд | AE46: нд | AF46: 0 | AG46: нд | AH46: 0 | AI46: нд | AJ46: 0 | AK46: нд
A47: 1.2.2 | B47: Техническое перевооружение и реконструкция | C47: нд | D47: нд | E47: нд | F47: нд | G47: нд | H47: нд | I47: 290.40212 | J47: нд | K47: нд | L47: нд | M47: нд | N47: нд | O47: нд | P47: 290.40212 | Q47: нд | R47: 290.40212 | S47: нд | T47: нд | U47: нд | V47: нд | W47: нд | X47: нд | Y47: нд | Z47: 290.40212 | AA47: нд | AB47: нд | AC47: нд | AD47: нд | AE47: нд | AF47: 124.76832 | AG47: нд | AH47: 179.98455 | AI47: нд | AJ47: 304.74798 | AK47: нд
B48: Кабельные линии 0,4 кВ. | C48: нд | D48: нд | E48: нд | F48: нд | G48: нд | H48: нд | I48: 3.3550847 | J48: нд | K48: нд | L48: нд | M48: нд | N48: нд | O48: нд | P48: 3.3550847 | Q48: нд | R48: 3.3550847 | S48: нд | T48: нд | U48: нд | V48: нд | W48: нд | X48: нд | Y48: нд | Z48: 3.3550847 | AA48: нд | AB48: нд | AC48: нд | AD48: нд | AE48: нд | AF48: 1.7003837 | AG48: нд | AH48: 1.8204422 | AI48: нд | AJ48: 3.5208259 | AK48: нд
A49: 1.2.2.1 | B49: КЛ 0,4 кВ "ТП103-ВРУ ж/дома, Набережная VIАрмии, д.207а", г.Вологда | C49: ='д) план ввода ОС'!C51 -> I_KL04_1.2.2.1 | D49: С | E49: 2018 | F49: 2018 | G49: 2018 | H49: нд | I49: 0.53644068 | J49: нд | K49: нд | L49: нд | M49: нд | N49: нд | O49: нд | P49: 0.53644068 | Q49: нд | R49: 0.53644068 | S49: нд | T49: нд | U49: нд | V49: нд | W49: нд | X49: нд | Y49: нд | Z49: 0.53644068 | AA49: нд | AB49: нд | AC49: нд | AD49: нд | AE49: нд | AF49: 0.56294085 | AG49: нд | AH49: 0 | AI49: нд | AJ49: 0.56294085 | AK49: нд
A50: 1.2.2.2 | B50: КЛ 0,4 кВ "ТП103-ВРУ ж/дома, ул.Машиностроительная, д.4", г.Вологда | C50: ='д) план ввода ОС'!C52 -> I_KL04_1.2.2.2 | D50: С | E50: 2018 | F50: 2018 | G50: 2018 | H50: нд | I50: 0.59915254 | J50: нд | K50: нд | L50: нд | M50: нд | N50: нд | O50: нд | P50: 0.59915254 | Q50: нд | R50: 0.59915254 | S50: нд | T50: нд | U50: нд | V50: нд | W50: нд | X50: нд | Y50: нд | Z50: 0.59915254 | AA50: нд | AB50: нд | AC50: нд | AD50: нд | AE50: нд | AF50: 0.62875068 | AG50: нд | AH50: 0 | AI50: нд | AJ50: 0.62875068 | AK50: нд
A51: 1.2.2.3 | B51: КЛ 0,4 кВ "ТП 48-ВРУ 60 кв.ж/дома, ул.Советская,55", г.Сокол | C51: ='д) план ввода ОС'!C53 -> I_KL04_1.2.2.3 | D51: С | E51: 2018 | F51: 2018 | G51: 2018 | H51: нд | I51: 0.22372881 | J51: нд | K51: нд | L51: нд | M51: нд | N51: нд | O51: нд | P51: 0.22372881 | Q51: нд | R51: 0.22372881 | S51: нд | T51: нд | U51: нд | V51: нд | W51: нд | X51: нд | Y51: нд | Z51: 0.22372881 | AA51: нд | AB51: нд | AC51: нд | AD51: нд | AE51: нд | AF51: 0.23478102 | AG51: нд | AH51: 0 | AI51: нд | AJ51: 0.23478102 | AK51: нд
...

Sheet д) план ввода ОС
A4: План ввода основных средств
A6: Инвестиционная программа АО "Вологдаоблэнерго"
A7: полное наименование субъекта электроэнергетики
A9: Год раскрытия информации: 2017 год
A11: Утвержденные плановые значения показателей приведены в соответствии с Инвестиционной программой АО "Вологдаоблэнерго" на 2015-2019 гг, утвержденной Департаментом ТЭК Вологодской области 31.12.2014 г.
A12: реквизиты решения органа исполнительной власти, утвердившего инвестиционную программу
A14: Номер группы инвести-ционных проектов | B14: Наименование инвестиционного проекта (группы инвестиционных проектов) | C14: Идентифика-тор инвестицион-ного проекта | D14: Первоначальная стоимость принимаемых к учету основных средств и нематериальных активов, млн рублей (без НДС) | F14: Принятие основных средств и нематериальных активов к бухгалтерскому учету в 2017 год | T14: Принятие основных средств и нематериальных активов к бухгалтерскому учету | AH14: Принятие основных средств и нематериальных активов к бухгалтерскому учету | BX14: Краткое обоснование корректировки утвержденного плана
T15: 2017 год | AH15: 2018 год | AV15: 2019 | BJ15: Итого за период реализации инвестиционной программы
F16: План (Утвержденный план) | M16: Факт (Предложение по корректировке утвержденного плана) | T16: План (Утвержденный план) | AA16: Факт (Предложение по корректировке утвержденного плана) | AH16: План (Утвержденный план) | AO16: Факт (Предложение по корректировке утвержденного плана) | AV16: План (Утвержденный план) | BC16: Факт (Предложение по корректировке утвержденного плана) | BJ16: План | BQ16: Предложение по корректировке утвержденного плана
D17: План | E17: Предложение по корректировке утвержденного плана | F17: нематериальные активы | G17: основные средства | M17: нематериальные активы | N17: основные средства | T17: нематериальные активы | U17: основные средства | AA17: нематериальные активы | AB17: основные средства | AH17: нематериальные активы | AI17: основные средства | AO17: нематериальные активы | AP17: основные средства | AV17: нематериальные активы | AW17: основные средства | BC17: нематериальные активы | BD17: основные средства | BJ17: нематериальные активы | BK17: основные средства | BQ17: нематериальные активы | BR17: основные средства
F18: млн рублей (без НДС) | G18: млн рублей (без НДС) | H18: МВ×А | I18: Мвар | J18: км ЛЭП | K18: МВт | L18: Другое | M18: млн рублей (без НДС) | N18: млн рублей (без НДС) | O18: МВ×А | P18: Мвар | Q18: км ЛЭП | R18: МВт | S18: Другое | T18: млн рублей (без НДС) | U18: млн рублей (без НДС) | V18: МВ×А | W18: Мвар | X18: км ЛЭП | Y18: МВт | Z18: Другое | AA18: млн рублей (без НДС) | AB18: млн рублей (без НДС) | AC18: МВ×А | AD18: Мвар | AE18: км ЛЭП | AF18: МВт | AG18: Другое | AH18: млн рублей (без НДС) | AI18: млн рублей (без НДС) | AJ18: МВ×А | AK18: Мвар | AL18: км ЛЭП | AM18: МВт | AN18: Другое | AO18: млн рублей (без НДС) | AP18: млн рублей (без НДС) | AQ18: МВ×А | AR18: Мвар | AS18: км ЛЭП | AT18: МВт | AU18: Другое | AV18: млн рублей (без НДС) | AW18: млн рублей (без НДС) | AX18: МВ×А | AY18: Мвар | AZ18: км ЛЭП | BA18: МВт | BB18: Другое | BC18: млн рублей (без НДС) | BD18: млн рублей (без НДС) | BE18: МВ×А | BF18: Мвар | BG18: км ЛЭП | BH18: МВт | BI18: Другое | BJ18: млн рублей (без НДС) | BK18: млн рублей (без НДС) | BL18: МВ×А | BM18: Мвар | BN18: км ЛЭП | BO18: МВт | BP18: Другое | BQ18: млн рублей (без НДС) | BR18: млн рублей (без НДС) | BS18: МВ×А | BT18: Мвар | BU18: км ЛЭП | BV18: МВт | BW18: Другое
A19: 1 | B19: 2 | C19: 3 | D19: 4 | E19: 5 | F19: 6.1.1 | G19: 6.1.2 | H19: 6.1.3 | I19: 6.1.4 | J19: 6.1.5 | K19: 6.1.6 | L19: 6.1.7 | M19: 6.2.1 | N19: 6.2.2 | O19: 6.2.3 | P19: 6.2.4 | Q19: 6.2.5 | R19: 6.2.6 | S19: 6.2.7 | T19: 7.1.1 | U19: 7.1.2 | V19: 7.1.3 | W19: 7.1.4 | X19: 7.1.5 | Y19: 7.1.6 | Z19: 7.1.7 | AA19: 7.2.1 | AB19: 7.2.2 | AC19: 7.2.3 | AD19: 7.2.4 | AE19: 7.2.5 | AF19: 7.2.6 | AG19: 7.2.7 | AH19: 7.3.1 | AI19: 7.3.2 | AJ19: 7.3.3 | AK19: 7.3.4 | AL19: 7.3.5 | AM19: 7.3.6 | AN19: 7.3.7 | AO19: 7.4.1 | AP19: 7.4.2 | AQ19: 7.4.3 | AR19: 7.4.4 | AS19: 7.4.5 | AT19: 7.4.6 | AU19: 7.4.7 | AV19: 7.5.1 | AW19: 7.5.2 | AX19: 7.5.3 | AY19: 7.5.4 | AZ19: 7.5.5 | BA19: 7.5.6 | BB19: 7.5.7 | BC19: 7.6.1 | BD19: 7.6.2 | BE19: 7.6.3 | BF19: 7.6.4 | BG19: 7.6.5 | BH19: 7.6.6 | BI19: 7.6.7 | BJ19: 8.1.1 | BK19: 8.1.2 | BL19: 8.1.3 | BM19: 8.1.4 | BN19: 8.1.5 | BO19: 8.1.6 | BP19: 8.1.7 | BQ19: 8.2.1 | BR19: 8.2.2 | BS19: 8.2.3 | BT19: 8.2.4 | BU19: 8.2.5 | BV19: 8.2.6 | BW19: 8.2.7 | BX19: 9
A20: 0 | B20: ВСЕГО по инвестиционной программе, в том числе: | C20: нд | D20: =156.241+164.053 -> 320.294 | E20: 653.59878 | F20: нд | G20: нд | H20: нд | I20: нд | J20: нд | K20: нд | L20: нд | M20: нд | N20: нд | O20: нд | P20: нд | Q20: нд | R20: нд | S20: нд | T20: нд | U20: нд | V20: нд | W20: нд | X20: нд | Y20: нд | Z20: нд | AA20: нд | AB20: нд | AC20: нд | AD20: нд | AE20: нд | AF20: нд | AG20: нд | AH20: нд | AI20: нд | AJ20: нд | AK20: нд | AL20: нд | AM20: нд | AN20: нд | AO20: нд | AP20: 296.62803 | AQ20: 7.8 | AR20: нд | AS20: 53.9 | AT20: нд | AU20: 75 | AV20: нд | AW20: нд | AX20: нд | AY20: нд | AZ20: нд | BA20: нд | BB20: нд | BC20: нд | BD20: 356.98809 | BE20: 29 | BF20: нд | BG20: 82.557 | BH20: нд | BI20: 83 | BJ20: нд | BK20: нд | BL20: нд | BM20: нд | BN20: нд | BO20: нд | BP20: нд | BQ20: нд | BR20: 653.59878 | BS20: 36.35 | BT20: нд | BU20: 82.557 | BV20: нд | BW20: 158 | BX20: нд
A21: 0.1 | B21: Технологическое присоединение, всего | C21: нд | D21: нд | E21: 0 | F21: нд | G21: нд | H21: нд | I21: нд | J21: нд | K21: нд | L21: нд | M21: нд | N21: нд | O21: нд | P21: нд | Q21: нд | R21: нд | S21: нд | T21: нд | U21: нд | V21: нд | W21: нд | X21: нд | Y21: нд | Z21: нд | AA21: нд | AB21: нд | AC21: нд | AD21: нд | AE21: нд | AF21: нд | AG21: нд | AH21: нд | AI21: нд | AJ21: нд | AK21: нд | AL21: нд | AM21: нд | AN21: нд | AO21: нд | AP21: 0 | AQ21: нд | AR21: нд | AS21: нд | AT21: нд | AU21: нд | AV21: нд | AW21: нд | AX21: нд | AY21: нд | AZ21: нд | BA21: нд | BB21: нд | BC21: нд | BD21: 0 | BE21: нд | BF21: нд | BG21: нд | BH21: нд | BI21: нд | BJ21: нд | BK21: нд | BL21: нд | BM21: нд | BN21: нд | BO21: нд | BP21: нд | BQ21: нд | BR21: 0 | BS21: нд | BT21: нд | BU21: нд | BV21: нд | BW21: нд | BX21: нд
A22: 0.2 | B22: Реконструкция, модернизация, техническое перевооружение, всего | C22: нд | D22: нд | E22: 304.74798 | F22: нд | G22: нд | H22: нд | I22: нд | J22: нд | K22: нд | L22: нд | M22: нд | N22: нд | O22: нд | P22: нд | Q22: нд | R22: нд | S22: нд | T22: нд | U22: нд | V22: нд | W22: нд | X22: нд | Y22: нд | Z22: нд | AA22: нд | AB22: нд | AC22: нд | AD22: нд | AE22: нд | AF22: нд | AG22: нд | AH22: нд | AI22: нд | AJ22: нд | AK22: нд | AL22: нд | AM22: нд | AN22: нд | AO22: нд | AP22: 124.76832 | AQ22: нд | AR22: нд | AS22: 42.1 | AT22: нд | AU22: нд | AV22: нд | AW22: нд | AX22: нд | AY22: нд | AZ22: нд | BA22: нд | BB22: нд | BC22: нд | BD22: 179.98455 | BE22: нд | BF22: нд | BG22: 20.23 | BH22: нд | BI22: нд | BJ22: нд | BK22: нд | BL22: нд | BM22: нд | BN22: нд | BO22: нд | BP22: нд | BQ22: нд | BR22: 304.74798 | BS22: нд | BT22: нд | BU22: 62.407 | BV22: нд | BW22: нд | BX22: нд
A23: 0.3 | B23: Инвестиционные проекты, реализация которых обуславливается схемами и программами перспективного развития электроэнергетики, всего | C23: нд | D23: нд | E23: 0 | F23: нд | G23: нд | H23: нд | I23: нд | J23: нд | K23: нд | L23: нд | M23: нд | N23: нд | O23: нд | P23: нд | Q23: нд | R23: нд | S23: нд | T23: нд | U23: нд | V23: нд | W23: нд | X23: нд | Y23: нд | Z23: нд | AA23: нд | AB23: нд | AC23: нд | AD23: нд | AE23: нд | AF23: нд | AG23: нд | AH23: нд | AI23: нд | AJ23: нд | AK23: нд | AL23: нд | AM23: нд | AN23: нд | AO23: нд | AP23: 0 | AQ23: нд | AR23: нд | AS23: нд | AT23: нд | AU23: нд | AV23: нд | AW23: нд | AX23: нд | AY23: нд | AZ23: нд | BA23: нд | BB23: нд | BC23: нд | BD23: 0 | BE23: нд | BF23: нд | BG23: нд | BH23: нд | BI23: нд | BJ23: нд | BK23: нд | BL23: нд | BM23: нд | BN23: нд | BO23: нд | BP23: нд | BQ23: нд | BR23: 0 | BS23: нд | BT23: нд | BU23: нд | BV23: нд | BW23: нд | BX23: нд
A24: 0.4 | B24: Прочее новое строительство объектов электросетевого хозяйства, всего | C24: нд | D24: нд | E24: 306.53063 | F24: нд | G24: нд | H24: нд | I24: нд | J24: нд | K24: нд | L24: нд | M24: нд | N24: нд | O24: нд | P24: нд | Q24: нд | R24: нд | S24: нд | T24: нд | U24: нд | V24: нд | W24: нд | X24: нд | Y24: нд | Z24: нд | AA24: нд | AB24: нд | AC24: нд | AD24: нд | AE24: нд | AF24: нд | AG24: нд | AH24: нд | AI24: нд | AJ24: нд | AK24: нд | AL24: нд | AM24: нд | AN24: нд | AO24: нд | AP24: 153.12169 | AQ24: нд | AR24: нд | AS24: 11.8 | AT24: нд | AU24: нд | AV24: нд | AW24: нд | AX24: нд | AY24: нд | AZ24: нд | BA24: нд | BB24: нд | BC24: нд | BD24: 153.42762 | BE24: нд | BF24: нд | BG24: 8.35 | BH24: нд | BI24: нд | BJ24: нд | BK24: нд | BL24: нд | BM24: нд | BN24: нд | BO24: нд | BP24: нд | BQ24: нд | BR24: 306.53063 | BS24: нд | BT24: нд | BU24: 20.15 | BV24: нд | BW24: нд | BX24: нд
A25: 0.5 | B25: Покупка земельных участков для целей реализации инвестиционных проектов, всего | C25: нд | D25: нд | E25: 0 | F25: нд | G25: нд | H25: нд | I25: нд | J25: нд | K25: нд | L25: нд | M25: нд | N25: нд | O25: нд | P25: нд | Q25: нд | R25: нд | S25: нд | T25: нд | U25: нд | V25: нд | W25: нд | X25: нд | Y25: нд | Z25: нд | AA25: нд | AB25: нд | AC25: нд | AD25: нд | AE25: нд | AF25: нд | AG25: нд | AH25: нд | AI25: нд | AJ25: нд | AK25: нд | AL25: нд | AM25: нд | AN25: нд | AO25: нд | AP25: 0 | AQ25: нд | AR25: нд | AS25: нд | AT25: нд | AU25: нд | AV25: нд | AW25: нд | AX25: нд | AY25: нд | AZ25: нд | BA25: нд | BB25: нд | BC25: нд | BD25: 0 | BE25: нд | BF25: нд | BG25: нд | BH25: нд | BI25: нд | BJ25: нд | BK25: нд | BL25: нд | BM25: нд | BN25: нд | BO25: нд | BP25: нд | BQ25: нд | BR25: 0 | BS25: нд | BT25: нд | BU25: нд | BV25: нд | BW25: нд | BX25: нд
A26: 0.6 | B26: Прочие инвестиционные проекты, всего | C26: нд | D26: нд | E26: 0 | F26: нд | G26: нд | H26: нд | I26: нд | J26: нд | K26: нд | L26: нд | M26: нд | N26: нд | O26: нд | P26: нд | Q26: нд | R26: нд | S26: нд | T26: нд | U26: нд | V26: нд | W26: нд | X26: нд | Y26: нд | Z26: нд | AA26: нд | AB26: нд | AC26: нд | AD26: нд | AE26: нд | AF26: нд | AG26: нд | AH26: нд | AI26: нд | AJ26: нд | AK26: нд | AL26: нд | AM26: нд | AN26: нд | AO26: нд | AP26: 0 | AQ26: нд | AR26: нд | AS26: нд | AT26: нд | AU26: нд | AV26: нд | AW26: нд | AX26: нд | AY26: нд | AZ26: нд | BA26: нд | BB26: нд | BC26: нд | BD26: 0 | BE26: нд | BF26: нд | BG26: нд | BH26: нд | BI26: нд | BJ26: нд | BK26: нд | BL26: нд | BM26: нд | BN26: нд | BO26: нд | BP26: нд | BQ26: нд | BR26: 0 | BS26: нд | BT26: нд | BU26: нд | BV26: нд | BW26: нд | BX26: нд
